{"text_format":"1","workbook":"xlsx","n_sheets":8,"sheets":["SLA Trab","SLA Cobr","Timecamp","Trello","Reporte","App Use","App Cat","Handy"],"not_rendered":{"charts":6,"images":0,"macros":1,"external_links":0,"defined_names":3,"comments":0,"pivot_tables":0},"unopened":[],"bounds":{"document_bytes":16777216,"sheet_cells":100000,"rows_first":2000,"rows_last":500,"rows_between":2000,"halvings":0,"cell_chars":16384,"cell_head_chars":4096},"cells_cut":0,"cells_raw":0,"read":"whole","date_system":"1900"}

{"sheet":"SLA Trab","index":0,"n_rows":500,"n_cols":9,"rows_kept":500,"cut":false,"hidden":false,"merged":[]}
["Name","Start time"," End time"," Time remaining","Nombre","Dias","Hrs","Total","Lead time"]
["Bjorn Sueco - Speedup","2023-09-09T23:07:00","2023-09-12T18:25:00","12d 4h",{"$f":"IF(A2=\"\",\"\",SUBSTITUTE(SUBSTITUTE(A2,\"Ã³\",\"ó\"),\"Ã±\",\"ñ\"))","v":"Bjorn Sueco - Speedup"},{"$f":"IF(A2=\"\",\"\",IF(ISERROR(FIND(\"d\",D2)),0,SUBSTITUTE(SUBSTITUTE(LEFT(D2,3),\"d\",\"\"),\" \",\"\")*1 ))","v":12},{"$f":"IF(A2=\"\",\"\",IF(ISERROR(FIND(\"h\",D2)),0,SUBSTITUTE(SUBSTITUTE(SUBSTITUTE(RIGHT(IF(ISERROR(FIND(\"min\",D2)),D2,LEFT(D2,4)),4),\"h\",\"\"),\"d\",\"\"),\" \",\"\")*1 )*IF(F2<0,-1,1))","v":4},{"$f":"IF(A2=\"\",\"\",(F2*24)+G2)","v":292},{"$f":"IF(A2=\"\",\"\",((24*15)-H2)/24)","v":2.8333333333333335}]
["Gary Hydracheck - safe-2-bleed Quote on contact","2023-09-12T13:28:00",null,"14d 5h","Gary Hydracheck - safe-2-bleed Quote on contact",{"$f":"IF(A3=\"\",\"\",IF(ISERROR(FIND(\"d\",D3)),0,SUBSTITUTE(SUBSTITUTE(LEFT(D3,3),\"d\",\"\"),\" \",\"\")*1 ))","v":14},5,{"$f":"IF(A3=\"\",\"\",(F3*24)+G3)","v":341},{"$f":"IF(A3=\"\",\"\",((24*15)-H3)/24)","v":0.79166666666666663}]
["Faby - Crawler Farmakosto","2023-08-09T10:38:00","2023-09-12T12:54:00","-19d 2h","Faby - Crawler Farmakosto",-19,-2,-458,34.083333333333336]
["Francisco Inlat - Ingeurbe Ingles","2023-09-12T10:02:00",null,"14d 2h",{"$f":"IF(A5=\"\",\"\",SUBSTITUTE(SUBSTITUTE(A5,\"Ã³\",\"ó\"),\"Ã±\",\"ñ\"))","v":"Francisco Inlat - Ingeurbe Ingles"},{"$f":"IF(A5=\"\",\"\",IF(ISERROR(FIND(\"d\",D5)),0,SUBSTITUTE(SUBSTITUTE(LEFT(D5,3),\"d\",\"\"),\" \",\"\")*1 ))","v":14},2,{"$f":"IF(A5=\"\",\"\",(F5*24)+G5)","v":338},{"$f":"IF(A5=\"\",\"\",((24*15)-H5)/24)","v":0.91666666666666663}]
["Juan Balnearis - unidades medicas","2023-08-29T17:07:00","2023-09-08T13:49:00","5d 3h",{"$f":"IF(A6=\"\",\"\",SUBSTITUTE(SUBSTITUTE(A6,\"Ã³\",\"ó\"),\"Ã±\",\"ñ\"))","v":"Juan Balnearis - unidades medicas"},{"$f":"IF(A6=\"\",\"\",IF(ISERROR(FIND(\"d\",D6)),0,SUBSTITUTE(SUBSTITUTE(LEFT(D6,3),\"d\",\"\"),\" \",\"\")*1 ))","v":5},3,{"$f":"IF(A6=\"\",\"\",(F6*24)+G6)","v":123},{"$f":"IF(A6=\"\",\"\",((24*15)-H6)/24)","v":9.875}]
["Ricardo CDMX - Excel a Plataforma Web","2023-08-26T11:36:00","2023-09-01T02:29:00","9d 9h","Ricardo CDMX - Excel a Plataforma Web",9,9,225,5.625]
["Alejandro Disidentes - Sixbell","2023-07-11T17:21:00","2023-08-21T14:05:00","-25d 20h","Alejandro Disidentes - Sixbell",-25,-20,-620,40.833333333333336]
["Gary Hydracheck - add to cart godspeedsocks","2023-08-29T13:34:00","2023-09-01T15:21:00","11d 22h","Gary Hydracheck - add to cart godspeedsocks",11,22,286,3.0833333333333335]
["Ricardo Cuerna - Fixum Carta Porte","2023-09-06T13:12:00",null,"8d 5h","Ricardo Cuerna - Fixum Carta Porte",8,5,197,6.791666666666667]
["Ricardo Cuerna - Fixum facturacion","2023-06-26T17:54:00","2023-09-06T13:12:00","-56d 19h","Ricardo Cuerna - Fixum facturacion",-56,-19,-1363,71.791666666666671]
["Viv Freelancer - 5 column filter","2023-08-12T10:04:00","2023-08-29T02:09:00","-1d 16h","Viv Freelancer - 5 column filter",-1,-16,-40,16.666666666666668]
["Jaidi Col - PDF online marker","2023-09-01T14:36:00",null,"3d 6h","Jaidi Col - PDF online marker",3,6,78,11.75]
["Juan Balnearis - Landing y cambios web","2023-08-14T12:42:00","2023-08-21T14:02:00","7d 22h","Juan Balnearis - Landing y cambios web",7,22,190,7.083333333333333]
["Daren frelancer - cambios maintenance form","2023-08-29T13:34:00","2023-08-30T14:00:00","13d 23h","Daren frelancer - cambios maintenance form",13,23,335,1.0416666666666667]
["Juan Balnearis - promedicamujer","2023-08-24T15:25:00","2023-08-28T10:54:00","11d 4h","Juan Balnearis - promedicamujer",11,4,268,3.8333333333333335]
["Juan Balnearis - Bodyclinicmx cambios","2023-08-29T17:07:00",null,"9h 15min","Juan Balnearis - Bodyclinicmx cambios",0,91,91,11.208333333333334]
["Thomas Ferdinand - Website","2023-07-17T11:23:00","2023-07-29T12:09:00","2d 23h","Thomas Ferdinand - Website",2,23,71,12.041666666666666]
["Paul Freelancer - 2nd round crypto website","2023-08-14T12:42:00","2023-08-14T23:01:00","14d 13h","Paul Freelancer - 2nd round crypto website",14,13,349,0.45833333333333331]
["Bjorn Sueco - Nordic foods 2nd round","2023-07-26T09:51:00","2023-08-01T21:02:00","8d 12h","Bjorn Sueco - Nordic foods 2nd round",8,12,204,6.5]
["Carlos Sanchez - rehacer chrishop.mx","2023-08-20T15:46:00","2023-08-21T14:05:00","14d 1h","Carlos Sanchez - rehacer chrishop.mx",14,1,337,0.95833333333333337]
["Paul Freelancer - Coinbase API site","2023-07-11T17:21:00","2023-07-31T15:18:00","-4d 21h","Paul Freelancer - Coinbase API site",-4,-21,-117,19.875]
["Viv Freelancer - Fourdle game","2023-07-10T20:04:00","2023-08-11T11:36:00","-16d 15h","Viv Freelancer - Fourdle game",-16,-15,-399,31.625]
["Juan Freelancer - Maquetar figma a html","2023-07-25T12:11:00","2023-08-02T22:19:00","6d 13h","Juan Freelancer - Maquetar figma a html",6,13,157,8.4583333333333339]
["Diana Inlat - Ingeurbe Tablet e Ingles","2023-05-22T16:14:00","2023-06-06T13:32:00","2h 42min","Diana Inlat - Ingeurbe Tablet e Ingles",0,24,24,14]
["Faby - LB Logistics","2023-06-08T16:05:00","2023-06-26T22:46:00","-3d 6h","Faby - LB Logistics",-3,-6,-78,18.25]
["Ricardo Freelancer - Accounting","2023-04-04T22:06:00","2023-06-26T22:46:00","-68d","Ricardo Freelancer - Accounting",-68,0,-1632,83]
["Nick Advizee - fijo","2023-03-23T23:36:00","2023-03-28T11:56:00","10d 11h","Nick Advizee - fijo",10,11,251,4.541666666666667]
["Steve 5 10 - PÃ¡gina personal protfolio","2023-07-15T09:54:00","2023-08-01T20:01:00","-2d 10h","Steve 5 10 - PÃ¡gina personal protfolio",-2,-10,-58,17.416666666666668]
["Daren Nuevo Form","2023-06-26T17:54:00","2023-06-26T17:54:00","15d","Daren Nuevo Form",15,0,360,0]
["Gary Hydracheck - Fix quote shipping","2023-07-10T14:34:00","2023-07-18T08:16:00","7d 6h","Gary Hydracheck - Fix quote shipping",7,6,174,7.75]
["Bjorn Sueco - ajustes Woo y POS","2023-05-28T06:27:00","2023-07-05T09:56:00","-23d 3h","Bjorn Sueco - ajustes Woo y POS",-23,-3,-555,38.125]
["Carlos Freelancer - Tarea flowchart y reporte","2023-07-06T14:02:00","2023-07-06T14:03:00","14d 23h","Carlos Freelancer - Tarea flowchart y reporte",14,23,359,4.1666666666666664E-2]
["Rodrigo Techservices - Kanatest Hosting","2023-07-05T10:30:00","2023-07-05T10:30:00","15d","Rodrigo Techservices - Kanatest Hosting",15,0,360,0]
["Rodrigo - Techservices Hosting y run4you","2023-05-26T16:16:00","2023-05-26T16:57:00","14d 23h","Rodrigo - Techservices Hosting y run4you",14,23,359,4.1666666666666664E-2]
["Carlos Freelancer - Tarea API Tickers","2023-06-29T18:59:00","2023-06-30T10:15:00","14d 8h","Carlos Freelancer - Tarea API Tickers",14,8,344,0.66666666666666663]
["Faby - PMI Ame Sitio multilang","2023-04-19T22:04:00","2023-05-22T15:35:00","-17d 17h","Faby - PMI Ame Sitio multilang",-17,-17,-425,32.708333333333336]
["Viv Freelancer - Historic wordle","2023-06-29T18:41:00","2023-06-29T18:59:00","14d 23h","Viv Freelancer - Historic wordle",14,23,359,4.1666666666666664E-2]
["yo - FIRE Business online","2023-03-24T20:30:00",null,"-157d 11h","yo - FIRE Business online",-15,-11,-371,30.458333333333332]
["Eduardo Freelancer - Inmobiliaria Cambios php pura","2023-05-22T16:04:00","2023-06-08T16:00:00","-1d 23h","Eduardo Freelancer - Inmobiliaria Cambios php pura",-1,-23,-47,16.958333333333332]
["Emilio pinturas arreglar su sitio","2023-06-15T18:51:00","2023-06-15T19:40:00","14d 23h","Emilio pinturas arreglar su sitio",14,23,359,4.1666666666666664E-2]
["Gary Freelancer - Quote page makeup","2023-05-22T16:07:00","2023-06-07T11:58:00","-19h 50min","Gary Freelancer - Quote page makeup",0,-19,-19,15.791666666666666]
["Viv Freelancer - Soporte anual $200","2023-06-09T07:15:00","2023-06-09T07:16:00","14d 23h","Viv Freelancer - Soporte anual $200",14,23,359,4.1666666666666664E-2]
["Daren freelancer - nuevo form precisemd","2023-05-24T19:03:00","2023-06-06T14:06:00","2d 4h","Daren freelancer - nuevo form precisemd",2,4,52,12.833333333333334]
["Viv Freelancer - Ecommerce Wordle","2023-03-22T17:48:00","2023-04-13T13:32:00","-6d 19h","Viv Freelancer - Ecommerce Wordle",-6,-19,-163,21.791666666666668]
["Miguel Bullkens - B2B Nuevo Exchange","2023-03-22T17:48:00","2023-03-22T19:49:00","14d 22h","Miguel Bullkens - B2B Nuevo Exchange",14,22,358,8.3333333333333329E-2]
["Yamel - renovaciÃ³n Konditorhusset 2023","2023-05-26T16:49:00","2023-05-26T16:49:00","15d","Yamel - renovación Konditorhusset 2023",15,0,360,0]
["Viv Freelancer - hosting migration","2023-05-22T16:10:00","2023-05-26T06:11:00","11d 9h","Viv Freelancer - hosting migration",11,9,273,3.625]
["Pablo Nanofactura - Soporte errores","2023-05-11T12:27:00","2023-05-12T07:14:00","14d 5h","Pablo Nanofactura - Soporte errores",14,5,341,0.79166666666666663]
["Diana Inlat - Rehacer Ingeurbe","2023-03-31T17:52:00","2023-05-22T16:07:00","-36d 22h","Diana Inlat - Rehacer Ingeurbe",-36,-22,-886,51.916666666666664]
["Pablo Nanofactura - Con IVA o sin IVA premium function global","2023-04-21T12:26:00","2023-04-24T19:42:00","11d 16h","Pablo Nanofactura - Con IVA o sin IVA premium function global",11,16,280,3.3333333333333335]
["Rodrigo Techservices - WP Run4u","2023-03-31T19:08:00","2023-03-31T19:33:00","14d 23h","Rodrigo Techservices - WP Run4u",14,23,359,4.1666666666666664E-2]
["Gary Hydracheck New Checkout quitar maquillaje viejo","2023-04-26T12:50:00",null,"-124d 19h","Gary Hydracheck New Checkout quitar maquillaje viejo",-12,-19,-307,27.791666666666668]
["Pablo Nanofactura - Nuevo DiseÃ±o y nueva API","2023-03-22T17:48:00","2023-03-22T18:06:00","14d 23h","Pablo Nanofactura - Nuevo Diseño y nueva API",14,23,359,4.1666666666666664E-2]
["Carrascosa AC - AsociaciÃ³n Civil","2023-03-22T17:48:00",null,"-159d 14h","Carrascosa AC - Asociación Civil",-15,-14,-374,30.583333333333332]
["Emilio Pinturas - bug lotes","2023-04-04T14:35:00","2023-04-04T14:57:00","14d 23h","Emilio Pinturas - bug lotes",14,23,359,4.1666666666666664E-2]
["Xavier Bobby - Itel y Movitel Landings","2023-03-22T17:51:00","2023-03-22T18:05:00","14d 23h","Xavier Bobby - Itel y Movitel Landings",14,23,359,4.1666666666666664E-2]
["MigraciÃ³n de mi Whatsapp normal a Business","2023-03-24T20:49:00",null,"-157d 11h","Migración de mi Whatsapp normal a Business",-15,-11,-371,30.458333333333332]
["Wordle New Probability","2023-03-22T19:30:00","2023-03-23T23:35:00","13d 19h","Wordle New Probability",13,19,331,1.2083333333333333]
[null,null,null,null,"","","","",""]
[null,null,null,null,"","","","",""]
[null,null,null,null,"","","","",""]
[null,null,null,null,"","","","",""]
[null,null,null,null,"","","","",""]
[null,null,null,null,"","","","",""]
[null,null,null,null,"","",{"$f":"IF(A66=\"\",\"\",IF(ISERROR(FIND(\"h\",D66)),0,SUBSTITUTE(SUBSTITUTE(SUBSTITUTE(RIGHT(IF(ISERROR(FIND(\"min\",D66)),D66,LEFT(D66,4)),4),\"h\",\"\"),\"d\",\"\"),\" \",\"\")*1 )*IF(F66<0,-1,1))","v":""},"",""]
[null,null,null,null,"","","","",""]
[null,null,null,null,"","","","",""]
[null,null,null,null,"","","","",""]
[null,null,null,null,{"$f":"IF(A70=\"\",\"\",SUBSTITUTE(SUBSTITUTE(A70,\"Ã³\",\"ó\"),\"Ã±\",\"ñ\"))","v":""},{"$f":"IF(A70=\"\",\"\",IF(ISERROR(FIND(\"d\",D70)),0,SUBSTITUTE(SUBSTITUTE(LEFT(D70,3),\"d\",\"\"),\" \",\"\")*1 ))","v":""},"",{"$f":"IF(A70=\"\",\"\",(F70*24)+G70)","v":""},{"$f":"IF(A70=\"\",\"\",((24*15)-H70)/24)","v":""}]
[null,null,null,null,"","","","",""]
[null,null,null,null,"","","","",""]
[null,null,null,null,"","","","",""]
[null,null,null,null,"","","","",""]
[null,null,null,null,"","","","",""]
[null,null,null,null,"","","","",""]
[null,null,null,null,"","","","",""]
[null,null,null,null,"","","","",""]
[null,null,null,null,"","","","",""]
[null,null,null,null,"","","","",""]
[null,null,null,null,"","","","",""]
[null,null,null,null,"","","","",""]
[null,null,null,null,"","","","",""]
[null,null,null,null,"","","","",""]
[null,null,null,null,"","","","",""]
[null,null,null,null,"","","","",""]
[null,null,null,null,"","","","",""]
[null,null,null,null,"","","","",""]
[null,null,null,null,"","","","",""]
[null,null,null,null,"","","","",""]
[null,null,null,null,"","","","",""]
[null,null,null,null,"","","","",""]
[null,null,null,null,"","","","",""]
[null,null,null,null,"","","","",""]
[null,null,null,null,"","","","",""]
[null,null,null,null,"","","","",""]
[null,null,null,null,"","","","",""]
[null,null,null,null,"","","","",""]
[null,null,null,null,"","","","",""]
[null,null,null,null,"","","","",""]
[null,null,null,null,"","","","",""]
[null,null,null,null,"","","","",""]
[null,null,null,null,"","","","",""]
[null,null,null,null,"","","","",""]
[null,null,null,null,"","","","",""]
[null,null,null,null,"","","","",""]
[null,null,null,null,"","","","",""]
[null,null,null,null,"","","","",""]
[null,null,null,null,"","","","",""]
[null,null,null,null,"","","","",""]
[null,null,null,null,"","","","",""]
[null,null,null,null,"","","","",""]
[null,null,null,null,"","","","",""]
[null,null,null,null,"","","","",""]
[null,null,null,null,"","","","",""]
[null,null,null,null,"","","","",""]
[null,null,null,null,"","","","",""]
[null,null,null,null,"","","","",""]
[null,null,null,null,"","","","",""]
[null,null,null,null,"","","","",""]
[null,null,null,null,"","","","",""]
[null,null,null,null,"","","","",""]
[null,null,null,null,"","","","",""]
[null,null,null,null,"","","","",""]
[null,null,null,null,"","","","",""]
[null,null,null,null,"","","","",""]
[null,null,null,null,"","","","",""]
[null,null,null,null,"","","","",""]
[null,null,null,null,"","","","",""]
[null,null,null,null,"","",{"$f":"IF(A130=\"\",\"\",IF(ISERROR(FIND(\"h\",D130)),0,SUBSTITUTE(SUBSTITUTE(SUBSTITUTE(RIGHT(IF(ISERROR(FIND(\"min\",D130)),D130,LEFT(D130,4)),4),\"h\",\"\"),\"d\",\"\"),\" \",\"\")*1 )*IF(F130<0,-1,1))","v":""},"",""]
[null,null,null,null,"","","","",""]
[null,null,null,null,"","","","",""]
[null,null,null,null,"","","","",""]
[null,null,null,null,{"$f":"IF(A134=\"\",\"\",SUBSTITUTE(SUBSTITUTE(A134,\"Ã³\",\"ó\"),\"Ã±\",\"ñ\"))","v":""},{"$f":"IF(A134=\"\",\"\",IF(ISERROR(FIND(\"d\",D134)),0,SUBSTITUTE(SUBSTITUTE(LEFT(D134,3),\"d\",\"\"),\" \",\"\")*1 ))","v":""},"",{"$f":"IF(A134=\"\",\"\",(F134*24)+G134)","v":""},{"$f":"IF(A134=\"\",\"\",((24*15)-H134)/24)","v":""}]
[null,null,null,null,"","","","",""]
[null,null,null,null,"","","","",""]
[null,null,null,null,"","","","",""]
[null,null,null,null,"","","","",""]
[null,null,null,null,"","","","",""]
[null,null,null,null,"","","","",""]
[null,null,null,null,"","","","",""]
[null,null,null,null,"","","","",""]
[null,null,null,null,"","","","",""]
[null,null,null,null,"","","","",""]
[null,null,null,null,"","","","",""]
[null,null,null,null,"","","","",""]
[null,null,null,null,"","","","",""]
[null,null,null,null,"","","","",""]
[null,null,null,null,"","","","",""]
[null,null,null,null,"","","","",""]
[null,null,null,null,"","","","",""]
[null,null,null,null,"","","","",""]
[null,null,null,null,"","","","",""]
[null,null,null,null,"","","","",""]
[null,null,null,null,"","","","",""]
[null,null,null,null,"","","","",""]
[null,null,null,null,"","","","",""]
[null,null,null,null,"","","","",""]
[null,null,null,null,"","","","",""]
[null,null,null,null,"","","","",""]
[null,null,null,null,"","","","",""]
[null,null,null,null,"","","","",""]
[null,null,null,null,"","","","",""]
[null,null,null,null,"","","","",""]
[null,null,null,null,"","","","",""]
[null,null,null,null,"","","","",""]
[null,null,null,null,"","","","",""]
[null,null,null,null,"","","","",""]
[null,null,null,null,"","","","",""]
[null,null,null,null,"","","","",""]
[null,null,null,null,"","","","",""]
[null,null,null,null,"","","","",""]
[null,null,null,null,"","","","",""]
[null,null,null,null,"","","","",""]
[null,null,null,null,"","","","",""]
[null,null,null,null,"","","","",""]
[null,null,null,null,"","","","",""]
[null,null,null,null,"","","","",""]
[null,null,null,null,"","","","",""]
[null,null,null,null,"","","","",""]
[null,null,null,null,"","","","",""]
[null,null,null,null,"","","","",""]
[null,null,null,null,"","","","",""]
[null,null,null,null,"","","","",""]
[null,null,null,null,"","","","",""]
[null,null,null,null,"","","","",""]
[null,null,null,null,"","","","",""]
[null,null,null,null,"","","","",""]
[null,null,null,null,"","","","",""]
[null,null,null,null,"","","","",""]
[null,null,null,null,"","","","",""]
[null,null,null,null,"","","","",""]
[null,null,null,null,"","","","",""]
[null,null,null,null,"","",{"$f":"IF(A194=\"\",\"\",IF(ISERROR(FIND(\"h\",D194)),0,SUBSTITUTE(SUBSTITUTE(SUBSTITUTE(RIGHT(IF(ISERROR(FIND(\"min\",D194)),D194,LEFT(D194,4)),4),\"h\",\"\"),\"d\",\"\"),\" \",\"\")*1 )*IF(F194<0,-1,1))","v":""},"",""]
[null,null,null,null,"","","","",""]
[null,null,null,null,"","","","",""]
[null,null,null,null,"","","","",""]
[null,null,null,null,{"$f":"IF(A198=\"\",\"\",SUBSTITUTE(SUBSTITUTE(A198,\"Ã³\",\"ó\"),\"Ã±\",\"ñ\"))","v":""},{"$f":"IF(A198=\"\",\"\",IF(ISERROR(FIND(\"d\",D198)),0,SUBSTITUTE(SUBSTITUTE(LEFT(D198,3),\"d\",\"\"),\" \",\"\")*1 ))","v":""},"",{"$f":"IF(A198=\"\",\"\",(F198*24)+G198)","v":""},{"$f":"IF(A198=\"\",\"\",((24*15)-H198)/24)","v":""}]
[null,null,null,null,"","","","",""]
[null,null,null,null,"","","","",""]
[null,null,null,null,"","","","",""]
[null,null,null,null,"","","","",""]
[null,null,null,null,"","","","",""]
[null,null,null,null,"","","","",""]
[null,null,null,null,"","","","",""]
[null,null,null,null,"","","","",""]
[null,null,null,null,"","","","",""]
[null,null,null,null,"","","","",""]
[null,null,null,null,"","","","",""]
[null,null,null,null,"","","","",""]
[null,null,null,null,"","","","",""]
[null,null,null,null,"","","","",""]
[null,null,null,null,"","","","",""]
[null,null,null,null,"","","","",""]
[null,null,null,null,"","","","",""]
[null,null,null,null,"","","","",""]
[null,null,null,null,"","","","",""]
[null,null,null,null,"","","","",""]
[null,null,null,null,"","","","",""]
[null,null,null,null,"","","","",""]
[null,null,null,null,"","","","",""]
[null,null,null,null,"","","","",""]
[null,null,null,null,"","","","",""]
[null,null,null,null,"","","","",""]
[null,null,null,null,"","","","",""]
[null,null,null,null,"","","","",""]
[null,null,null,null,"","","","",""]
[null,null,null,null,"","","","",""]
[null,null,null,null,"","","","",""]
[null,null,null,null,"","","","",""]
[null,null,null,null,"","","","",""]
[null,null,null,null,"","","","",""]
[null,null,null,null,"","","","",""]
[null,null,null,null,"","","","",""]
[null,null,null,null,"","","","",""]
[null,null,null,null,"","","","",""]
[null,null,null,null,"","","","",""]
[null,null,null,null,"","","","",""]
[null,null,null,null,"","","","",""]
[null,null,null,null,"","","","",""]
[null,null,null,null,"","","","",""]
[null,null,null,null,"","","","",""]
[null,null,null,null,"","","","",""]
[null,null,null,null,"","","","",""]
[null,null,null,null,"","","","",""]
[null,null,null,null,"","","","",""]
[null,null,null,null,"","","","",""]
[null,null,null,null,"","","","",""]
[null,null,null,null,"","","","",""]
[null,null,null,null,"","","","",""]
[null,null,null,null,"","","","",""]
[null,null,null,null,"","","","",""]
[null,null,null,null,"","","","",""]
[null,null,null,null,"","","","",""]
[null,null,null,null,"","","","",""]
[null,null,null,null,"","","","",""]
[null,null,null,null,"","","","",""]
[null,null,null,null,"","",{"$f":"IF(A258=\"\",\"\",IF(ISERROR(FIND(\"h\",D258)),0,SUBSTITUTE(SUBSTITUTE(SUBSTITUTE(RIGHT(IF(ISERROR(FIND(\"min\",D258)),D258,LEFT(D258,4)),4),\"h\",\"\"),\"d\",\"\"),\" \",\"\")*1 )*IF(F258<0,-1,1))","v":""},"",""]
[null,null,null,null,"","","","",""]
[null,null,null,null,"","","","",""]
[null,null,null,null,"","","","",""]
[null,null,null,null,{"$f":"IF(A262=\"\",\"\",SUBSTITUTE(SUBSTITUTE(A262,\"Ã³\",\"ó\"),\"Ã±\",\"ñ\"))","v":""},{"$f":"IF(A262=\"\",\"\",IF(ISERROR(FIND(\"d\",D262)),0,SUBSTITUTE(SUBSTITUTE(LEFT(D262,3),\"d\",\"\"),\" \",\"\")*1 ))","v":""},"",{"$f":"IF(A262=\"\",\"\",(F262*24)+G262)","v":""},{"$f":"IF(A262=\"\",\"\",((24*15)-H262)/24)","v":""}]
[null,null,null,null,"","","","",""]
[null,null,null,null,"","","","",""]
[null,null,null,null,"","","","",""]
[null,null,null,null,"","","","",""]
[null,null,null,null,"","","","",""]
[null,null,null,null,"","","","",""]
[null,null,null,null,"","","","",""]
[null,null,null,null,"","","","",""]
[null,null,null,null,"","","","",""]
[null,null,null,null,"","","","",""]
[null,null,null,null,"","","","",""]
[null,null,null,null,"","","","",""]
[null,null,null,null,"","","","",""]
[null,null,null,null,"","","","",""]
[null,null,null,null,"","","","",""]
[null,null,null,null,"","","","",""]
[null,null,null,null,"","","","",""]
[null,null,null,null,"","","","",""]
[null,null,null,null,"","","","",""]
[null,null,null,null,"","","","",""]
[null,null,null,null,"","","","",""]
[null,null,null,null,"","","","",""]
[null,null,null,null,"","","","",""]
[null,null,null,null,"","","","",""]
[null,null,null,null,"","","","",""]
[null,null,null,null,"","","","",""]
[null,null,null,null,"","","","",""]
[null,null,null,null,"","","","",""]
[null,null,null,null,"","","","",""]
[null,null,null,null,"","","","",""]
[null,null,null,null,"","","","",""]
[null,null,null,null,"","","","",""]
[null,null,null,null,"","","","",""]
[null,null,null,null,"","","","",""]
[null,null,null,null,"","","","",""]
[null,null,null,null,"","","","",""]
[null,null,null,null,"","","","",""]
[null,null,null,null,"","","","",""]
[null,null,null,null,"","","","",""]
[null,null,null,null,"","","","",""]
[null,null,null,null,"","","","",""]
[null,null,null,null,"","","","",""]
[null,null,null,null,"","","","",""]
[null,null,null,null,"","","","",""]
[null,null,null,null,"","","","",""]
[null,null,null,null,"","","","",""]
[null,null,null,null,"","","","",""]
[null,null,null,null,"","","","",""]
[null,null,null,null,"","","","",""]
[null,null,null,null,"","","","",""]
[null,null,null,null,"","","","",""]
[null,null,null,null,"","","","",""]
[null,null,null,null,"","","","",""]
[null,null,null,null,"","","","",""]
[null,null,null,null,"","","","",""]
[null,null,null,null,"","","","",""]
[null,null,null,null,"","","","",""]
[null,null,null,null,"","","","",""]
[null,null,null,null,"","","","",""]
[null,null,null,null,"","",{"$f":"IF(A322=\"\",\"\",IF(ISERROR(FIND(\"h\",D322)),0,SUBSTITUTE(SUBSTITUTE(SUBSTITUTE(RIGHT(IF(ISERROR(FIND(\"min\",D322)),D322,LEFT(D322,4)),4),\"h\",\"\"),\"d\",\"\"),\" \",\"\")*1 )*IF(F322<0,-1,1))","v":""},"",""]
[null,null,null,null,"","","","",""]
[null,null,null,null,"","","","",""]
[null,null,null,null,"","","","",""]
[null,null,null,null,{"$f":"IF(A326=\"\",\"\",SUBSTITUTE(SUBSTITUTE(A326,\"Ã³\",\"ó\"),\"Ã±\",\"ñ\"))","v":""},{"$f":"IF(A326=\"\",\"\",IF(ISERROR(FIND(\"d\",D326)),0,SUBSTITUTE(SUBSTITUTE(LEFT(D326,3),\"d\",\"\"),\" \",\"\")*1 ))","v":""},"",{"$f":"IF(A326=\"\",\"\",(F326*24)+G326)","v":""},{"$f":"IF(A326=\"\",\"\",((24*15)-H326)/24)","v":""}]
[null,null,null,null,"","","","",""]
[null,null,null,null,"","","","",""]
[null,null,null,null,"","","","",""]
[null,null,null,null,"","","","",""]
[null,null,null,null,"","","","",""]
[null,null,null,null,"","","","",""]
[null,null,null,null,"","","","",""]
[null,null,null,null,"","","","",""]
[null,null,null,null,"","","","",""]
[null,null,null,null,"","","","",""]
[null,null,null,null,"","","","",""]
[null,null,null,null,"","","","",""]
[null,null,null,null,"","","","",""]
[null,null,null,null,"","","","",""]
[null,null,null,null,"","","","",""]
[null,null,null,null,"","","","",""]
[null,null,null,null,"","","","",""]
[null,null,null,null,"","","","",""]
[null,null,null,null,"","","","",""]
[null,null,null,null,"","","","",""]
[null,null,null,null,"","","","",""]
[null,null,null,null,"","","","",""]
[null,null,null,null,"","","","",""]
[null,null,null,null,"","","","",""]
[null,null,null,null,"","","","",""]
[null,null,null,null,"","","","",""]
[null,null,null,null,"","","","",""]
[null,null,null,null,"","","","",""]
[null,null,null,null,"","","","",""]
[null,null,null,null,"","","","",""]
[null,null,null,null,"","","","",""]
[null,null,null,null,"","","","",""]
[null,null,null,null,"","","","",""]
[null,null,null,null,"","","","",""]
[null,null,null,null,"","","","",""]
[null,null,null,null,"","","","",""]
[null,null,null,null,"","","","",""]
[null,null,null,null,"","","","",""]
[null,null,null,null,"","","","",""]
[null,null,null,null,"","","","",""]
[null,null,null,null,"","","","",""]
[null,null,null,null,"","","","",""]
[null,null,null,null,"","","","",""]
[null,null,null,null,"","","","",""]
[null,null,null,null,"","","","",""]
[null,null,null,null,"","","","",""]
[null,null,null,null,"","","","",""]
[null,null,null,null,"","","","",""]
[null,null,null,null,"","","","",""]
[null,null,null,null,"","","","",""]
[null,null,null,null,"","","","",""]
[null,null,null,null,"","","","",""]
[null,null,null,null,"","","","",""]
[null,null,null,null,"","","","",""]
[null,null,null,null,"","","","",""]
[null,null,null,null,"","","","",""]
[null,null,null,null,"","","","",""]
[null,null,null,null,"","","","",""]
[null,null,null,null,"","","","",""]
[null,null,null,null,"","",{"$f":"IF(A386=\"\",\"\",IF(ISERROR(FIND(\"h\",D386)),0,SUBSTITUTE(SUBSTITUTE(SUBSTITUTE(RIGHT(IF(ISERROR(FIND(\"min\",D386)),D386,LEFT(D386,4)),4),\"h\",\"\"),\"d\",\"\"),\" \",\"\")*1 )*IF(F386<0,-1,1))","v":""},"",""]
[null,null,null,null,"","","","",""]
[null,null,null,null,"","","","",""]
[null,null,null,null,"","","","",""]
[null,null,null,null,{"$f":"IF(A390=\"\",\"\",SUBSTITUTE(SUBSTITUTE(A390,\"Ã³\",\"ó\"),\"Ã±\",\"ñ\"))","v":""},{"$f":"IF(A390=\"\",\"\",IF(ISERROR(FIND(\"d\",D390)),0,SUBSTITUTE(SUBSTITUTE(LEFT(D390,3),\"d\",\"\"),\" \",\"\")*1 ))","v":""},"",{"$f":"IF(A390=\"\",\"\",(F390*24)+G390)","v":""},{"$f":"IF(A390=\"\",\"\",((24*15)-H390)/24)","v":""}]
[null,null,null,null,"","","","",""]
[null,null,null,null,"","","","",""]
[null,null,null,null,"","","","",""]
[null,null,null,null,"","","","",""]
[null,null,null,null,"","","","",""]
[null,null,null,null,"","","","",""]
[null,null,null,null,"","","","",""]
[null,null,null,null,"","","","",""]
[null,null,null,null,"","","","",""]
[null,null,null,null,"","","","",""]
[null,null,null,null,"","","","",""]
[null,null,null,null,"","","","",""]
[null,null,null,null,"","","","",""]
[null,null,null,null,"","","","",""]
[null,null,null,null,"","","","",""]
[null,null,null,null,"","","","",""]
[null,null,null,null,"","","","",""]
[null,null,null,null,"","","","",""]
[null,null,null,null,"","","","",""]
[null,null,null,null,"","","","",""]
[null,null,null,null,"","","","",""]
[null,null,null,null,"","","","",""]
[null,null,null,null,"","","","",""]
[null,null,null,null,"","","","",""]
[null,null,null,null,"","","","",""]
[null,null,null,null,"","","","",""]
[null,null,null,null,"","","","",""]
[null,null,null,null,"","","","",""]
[null,null,null,null,"","","","",""]
[null,null,null,null,"","","","",""]
[null,null,null,null,"","","","",""]
[null,null,null,null,"","","","",""]
[null,null,null,null,"","","","",""]
[null,null,null,null,"","","","",""]
[null,null,null,null,"","","","",""]
[null,null,null,null,"","","","",""]
[null,null,null,null,"","","","",""]
[null,null,null,null,"","","","",""]
[null,null,null,null,"","","","",""]
[null,null,null,null,"","","","",""]
[null,null,null,null,"","","","",""]
[null,null,null,null,"","","","",""]
[null,null,null,null,"","","","",""]
[null,null,null,null,"","","","",""]
[null,null,null,null,"","","","",""]
[null,null,null,null,"","","","",""]
[null,null,null,null,"","","","",""]
[null,null,null,null,"","","","",""]
[null,null,null,null,"","","","",""]
[null,null,null,null,"","","","",""]
[null,null,null,null,"","","","",""]
[null,null,null,null,"","","","",""]
[null,null,null,null,"","","","",""]
[null,null,null,null,"","","","",""]
[null,null,null,null,"","","","",""]
[null,null,null,null,"","","","",""]
[null,null,null,null,"","","","",""]
[null,null,null,null,"","","","",""]
[null,null,null,null,"","","","",""]
[null,null,null,null,"","",{"$f":"IF(A450=\"\",\"\",IF(ISERROR(FIND(\"h\",D450)),0,SUBSTITUTE(SUBSTITUTE(SUBSTITUTE(RIGHT(IF(ISERROR(FIND(\"min\",D450)),D450,LEFT(D450,4)),4),\"h\",\"\"),\"d\",\"\"),\" \",\"\")*1 )*IF(F450<0,-1,1))","v":""},"",""]
[null,null,null,null,"","","","",""]
[null,null,null,null,"","","","",""]
[null,null,null,null,"","","","",""]
[null,null,null,null,{"$f":"IF(A454=\"\",\"\",SUBSTITUTE(SUBSTITUTE(A454,\"Ã³\",\"ó\"),\"Ã±\",\"ñ\"))","v":""},{"$f":"IF(A454=\"\",\"\",IF(ISERROR(FIND(\"d\",D454)),0,SUBSTITUTE(SUBSTITUTE(LEFT(D454,3),\"d\",\"\"),\" \",\"\")*1 ))","v":""},"",{"$f":"IF(A454=\"\",\"\",(F454*24)+G454)","v":""},{"$f":"IF(A454=\"\",\"\",((24*15)-H454)/24)","v":""}]
[null,null,null,null,"","","","",""]
[null,null,null,null,"","","","",""]
[null,null,null,null,"","","","",""]
[null,null,null,null,"","","","",""]
[null,null,null,null,"","","","",""]
[null,null,null,null,"","","","",""]
[null,null,null,null,"","","","",""]
[null,null,null,null,"","","","",""]
[null,null,null,null,"","","","",""]
[null,null,null,null,"","","","",""]
[null,null,null,null,"","","","",""]
[null,null,null,null,"","","","",""]
[null,null,null,null,"","","","",""]
[null,null,null,null,"","","","",""]
[null,null,null,null,"","","","",""]
[null,null,null,null,"","","","",""]
[null,null,null,null,"","","","",""]
[null,null,null,null,"","","","",""]
[null,null,null,null,"","","","",""]
[null,null,null,null,"","","","",""]
[null,null,null,null,"","","","",""]
[null,null,null,null,"","","","",""]
[null,null,null,null,"","","","",""]
[null,null,null,null,"","","","",""]
[null,null,null,null,"","","","",""]
[null,null,null,null,"","","","",""]
[null,null,null,null,"","","","",""]
[null,null,null,null,"","","","",""]
[null,null,null,null,"","","","",""]
[null,null,null,null,"","","","",""]
[null,null,null,null,"","","","",""]
[null,null,null,null,"","","","",""]
[null,null,null,null,"","","","",""]
[null,null,null,null,"","","","",""]
[null,null,null,null,"","","","",""]
[null,null,null,null,"","","","",""]
[null,null,null,null,"","","","",""]
[null,null,null,null,"","","","",""]
[null,null,null,null,"","","","",""]
[null,null,null,null,"","","","",""]
[null,null,null,null,"","","","",""]
[null,null,null,null,"","","","",""]
[null,null,null,null,"","","","",""]
[null,null,null,null,"","","","",""]
[null,null,null,null,"","","","",""]
[null,null,null,null,"","","","",""]

{"sheet":"SLA Cobr","index":1,"n_rows":500,"n_cols":9,"rows_kept":500,"cut":false,"hidden":false,"merged":[]}
["Name","Start time"," End time"," Time remaining","Nombre","Dias","Hrs","Total","Dias credito"]
["Bjorn Sueco - Speedup","2023-09-12T18:25:00",null,"14d 10h",{"$f":"IF(A2=\"\",\"\",SUBSTITUTE(SUBSTITUTE(A2,\"Ã³\",\"ó\"),\"Ã±\",\"ñ\"))","v":"Bjorn Sueco - Speedup"},{"$f":"IF(A2=\"\",\"\",IF(ISERROR(FIND(\"d\",D2)),0,SUBSTITUTE(SUBSTITUTE(LEFT(D2,3),\"d\",\"\"),\" \",\"\")*1 ))","v":14},{"$f":"IF(A2=\"\",\"\",IF(ISERROR(FIND(\"h\",D2)),0,SUBSTITUTE(SUBSTITUTE(SUBSTITUTE(RIGHT(IF(ISERROR(FIND(\"min\",D2)),D2,LEFT(D2,4)),4),\"h\",\"\"),\"d\",\"\"),\" \",\"\")*1 )*IF(F2<0,-1,1))","v":10},{"$f":"IF(A2=\"\",\"\",(F2*24)+G2)","v":346},{"$f":"IF(A2=\"\",\"\",((24*15)-H2)/24)","v":0.58333333333333337}]
["Faby - Crawler Farmakosto","2023-09-12T12:54:00",null,"14d 5h","Faby - Crawler Farmakosto",14,5,341,0.79166666666666663]
["Juan Balnearis - unidades medicas","2023-09-08T13:49:00",null,"10d 5h","Juan Balnearis - unidades medicas",10,5,245,4.791666666666667]
["Ricardo CDMX - Excel a Plataforma Web","2023-09-01T02:29:00",null,"2d 18h",{"$f":"IF(A5=\"\",\"\",SUBSTITUTE(SUBSTITUTE(A5,\"Ã³\",\"ó\"),\"Ã±\",\"ñ\"))","v":"Ricardo CDMX - Excel a Plataforma Web"},{"$f":"IF(A5=\"\",\"\",IF(ISERROR(FIND(\"d\",D5)),0,SUBSTITUTE(SUBSTITUTE(LEFT(D5,3),\"d\",\"\"),\" \",\"\")*1 ))","v":2},18,{"$f":"IF(A5=\"\",\"\",(F5*24)+G5)","v":66},{"$f":"IF(A5=\"\",\"\",((24*15)-H5)/24)","v":12.25}]
["Ricardo Freelancer - BDD Spotify","2022-12-08T16:34:00","2023-02-16T11:22:00","-54d 18h",{"$f":"IF(A6=\"\",\"\",SUBSTITUTE(SUBSTITUTE(A6,\"Ã³\",\"ó\"),\"Ã±\",\"ñ\"))","v":"Ricardo Freelancer - BDD Spotify"},{"$f":"IF(A6=\"\",\"\",IF(ISERROR(FIND(\"d\",D6)),0,SUBSTITUTE(SUBSTITUTE(LEFT(D6,3),\"d\",\"\"),\" \",\"\")*1 ))","v":-54},-18,{"$f":"IF(A6=\"\",\"\",(F6*24)+G6)","v":-1314},{"$f":"IF(A6=\"\",\"\",((24*15)-H6)/24)","v":69.75}]
["Alejandro Disidentes - Sixbell","2023-08-21T14:05:00","2023-08-21T14:06:00","15d","Alejandro Disidentes - Sixbell",15,0,360,0]
["Gary Hydracheck - add to cart godspeedsocks","2023-09-01T15:21:00","2023-09-06T13:50:00","10d 1h","Gary Hydracheck - add to cart godspeedsocks",10,1,241,4.958333333333333]
["Ricardo Cuerna - Fixum facturacion","2023-09-06T13:12:00","2023-09-06T13:12:00","15d","Ricardo Cuerna - Fixum facturacion",15,0,360,0]
["Viv Freelancer - 5 column filter","2023-08-29T02:09:00","2023-08-30T09:04:00","13d 17h","Viv Freelancer - 5 column filter",13,17,329,1.2916666666666667]
["Juan Balnearis - Landing y cambios web","2023-08-21T14:02:00","2023-09-01T02:11:00","4d 11h","Juan Balnearis - Landing y cambios web",4,11,107,10.541666666666666]
["Yordi - Prestamo Kennedy","2023-08-31T22:22:00",null,"2d 14h","Yordi - Prestamo Kennedy",2,14,62,12.416666666666666]
["Daren frelancer - cambios maintenance form","2023-08-30T14:00:00",null,"1d 6h","Daren frelancer - cambios maintenance form",1,6,30,13.75]
["Juan Balnearis - promedicamujer","2023-08-28T10:54:00","2023-08-30T09:03:00","13d 1h","Juan Balnearis - promedicamujer",13,1,313,1.9583333333333333]
["Andres - Checkout fondo apuestas","2023-08-18T23:23:00","2023-08-30T09:03:00","3d 14h","Andres - Checkout fondo apuestas",3,14,86,11.416666666666666]
["Thomas Ferdinand - Website","2023-07-29T12:09:00","2023-08-29T17:06:00","-16d 4h","Thomas Ferdinand - Website",-16,-4,-388,31.166666666666668]
["Paul Freelancer - 2nd round crypto website","2023-08-14T23:01:00","2023-08-23T09:58:00","6d 13h","Paul Freelancer - 2nd round crypto website",6,13,157,8.4583333333333339]
["Bjorn Sueco - Nordic foods 2nd round","2023-08-01T21:02:00","2023-08-01T21:02:00","15d","Bjorn Sueco - Nordic foods 2nd round",15,0,360,0]
["Carlos Sanchez - rehacer chrishop.mx","2023-08-21T14:05:00","2023-08-21T14:06:00","15d","Carlos Sanchez - rehacer chrishop.mx",15,0,360,0]
["Paul Freelancer - Coinbase API site","2023-07-31T15:18:00","2023-08-14T12:41:00","1d 2h","Paul Freelancer - Coinbase API site",1,2,26,13.916666666666666]
["Viv Freelancer - Fourdle game","2023-08-11T11:36:00","2023-08-11T12:20:00","14d 23h","Viv Freelancer - Fourdle game",14,23,359,4.1666666666666664E-2]
["Mama Madhu prÃ©stamo","2023-06-26T14:32:00","2023-08-09T17:25:00","-29d 2h","Mama Madhu prÃ©stamo",-29,-2,-698,44.083333333333336]
["Juan Freelancer - Maquetar figma a html","2023-08-02T22:19:00","2023-08-09T12:22:00","8d 9h","Juan Freelancer - Maquetar figma a html",8,9,201,6.625]
["Sam - Peters Window Hosting","2023-08-01T20:18:00","2023-08-09T11:31:00","7d 8h","Sam - Peters Window Hosting",7,8,176,7.666666666666667]
["Diana Inlat - Ingeurbe Tablet e Ingles","2023-06-06T13:32:00","2023-08-04T16:38:00","-44d 3h","Diana Inlat - Ingeurbe Tablet e Ingles",-44,-3,-1059,59.125]
["Faby - LB Logistics","2023-06-26T22:46:00","2023-06-29T18:59:00","12d 3h","Faby - LB Logistics",12,3,291,2.875]
["Ricardo Freelancer - Accounting","2023-06-26T22:46:00","2023-08-02T22:19:00","-21d 23h","Ricardo Freelancer - Accounting",-21,-23,-527,36.958333333333336]
["Nana maletas Feb 23","2023-06-26T21:40:00","2023-08-02T21:10:00","-21d 23h","Nana maletas Feb 23",-21,-23,-527,36.958333333333336]
["Nick Advizee - fijo","2023-01-17T06:35:00","2023-03-22T19:47:00","-49d 13h","Nick Advizee - fijo",-49,-13,-1189,64.541666666666671]
["Steve 5 10 - PÃ¡gina personal protfolio","2023-08-01T20:01:00","2023-08-01T20:01:00","15d","Steve 5 10 - PÃ¡gina personal protfolio",15,0,360,0]
["Daren Nuevo Form","2023-06-26T17:54:00","2023-07-21T13:48:00","-9d 19h","Daren Nuevo Form",-9,-19,-235,24.791666666666668]
["Samantha - vuelo mty","2023-03-11T20:12:00","2023-07-18T11:51:00","-113d 15h","Samantha - vuelo mty",-11,-15,-279,26.625]
["Gary Hydracheck - Fix quote shipping","2023-07-18T08:16:00","2023-07-18T08:44:00","14d 23h","Gary Hydracheck - Fix quote shipping",14,23,359,4.1666666666666664E-2]
["Yordi - prÃ©stamo fisher's","2023-07-10T09:15:00","2023-07-18T08:16:00","7d","Yordi - prÃ©stamo fisher's",7,0,168,8]
["Bjorn Sueco - ajustes Woo y POS","2023-07-05T09:56:00","2023-07-07T15:07:00","12d 18h","Bjorn Sueco - ajustes Woo y POS",12,18,306,2.25]
["Carlos Freelancer - Tarea flowchart y reporte","2023-07-06T14:03:00","2023-07-06T21:25:00","14d 16h","Carlos Freelancer - Tarea flowchart y reporte",14,16,352,0.33333333333333331]
["Rodrigo Techservices - Kanatest Hosting","2023-07-05T10:30:00",null,"-54d 21h","Rodrigo Techservices - Kanatest Hosting",-54,-21,-1317,69.875]
["Rodrigo - Techservices Hosting y run4you","2023-05-26T16:57:00","2023-07-03T16:15:00","-22d 23h","Rodrigo - Techservices Hosting y run4you",-22,-23,-551,37.958333333333336]
["Carlos Freelancer - Tarea API Tickers","2023-06-30T10:15:00","2023-07-02T16:04:00","12d 18h","Carlos Freelancer - Tarea API Tickers",12,18,306,2.25]
["Faby - PMI Ame Sitio multilang","2023-05-22T15:35:00","2023-07-01T16:12:00","-25d","Faby - PMI Ame Sitio multilang",-25,0,-600,40]
["Viv Freelancer - Historic wordle","2023-06-29T18:59:00","2023-06-30T17:47:00","14d 1h","Viv Freelancer - Historic wordle",14,1,337,0.95833333333333337]
["Faby - Candywax Depilaciones","2023-03-15T12:59:00","2023-06-22T18:34:00","-84d 5h","Faby - Candywax Depilaciones",-84,-5,-2021,99.208333333333329]
["Mama Madhu - prestamo","2023-04-15T13:42:00","2023-06-21T16:35:00","-52d 2h","Mama Madhu - prestamo",-52,-2,-1250,67.083333333333329]
["Eduardo Freelancer - Inmobiliaria Cambios php pura","2023-06-08T16:00:00","2023-06-19T21:31:00","3d 18h","Eduardo Freelancer - Inmobiliaria Cambios php pura",3,18,90,11.25]
["Emilio pinturas arreglar su sitio","2023-06-15T19:40:00","2023-06-15T19:41:00","14d 23h","Emilio pinturas arreglar su sitio",14,23,359,4.1666666666666664E-2]
["Gary Freelancer - Quote page makeup","2023-06-07T11:58:00","2023-06-13T23:59:00","8d 11h","Gary Freelancer - Quote page makeup",8,11,203,6.541666666666667]
["Viv Freelancer - Soporte anual $200","2023-06-09T07:16:00","2023-06-09T07:42:00","14d 23h","Viv Freelancer - Soporte anual $200",14,23,359,4.1666666666666664E-2]
["Daren freelancer - nuevo form precisemd","2023-06-06T14:06:00","2023-06-08T13:21:00","13d","Daren freelancer - nuevo form precisemd",13,0,312,2]
["Viv Freelancer - Ecommerce Wordle","2023-04-13T13:32:00","2023-05-31T01:44:00","-32d 12h","Viv Freelancer - Ecommerce Wordle",-32,-12,-780,47.5]
["Miguel Bullkens - B2B Nuevo Exchange","2023-03-22T19:49:00","2023-05-30T06:08:00","-53d 10h","Miguel Bullkens - B2B Nuevo Exchange",-53,-10,-1282,68.416666666666671]
["Yamel - renovaciÃ³n Konditorhusset 2023","2023-05-26T16:49:00","2023-05-27T03:35:00","14d 13h","Yamel - renovación Konditorhusset 2023",14,13,349,0.45833333333333331]
["Viv Freelancer - hosting migration","2023-05-26T06:11:00","2023-05-26T09:54:00","14d 20h","Viv Freelancer - hosting migration",14,20,356,0.16666666666666666]
["Xavier Bobby - Itel plugins desactivar","2023-04-14T15:34:00","2023-05-25T09:52:00","-25d 18h","Xavier Bobby - Itel plugins desactivar",-25,-18,-618,40.75]
["Pablo Nanofactura - Soporte errores","2023-05-12T07:14:00","2023-05-25T09:52:00","1d 21h","Pablo Nanofactura - Soporte errores",1,21,45,13.125]
["Diana Inlat - Rehacer Ingeurbe","2023-05-22T16:07:00","2023-05-22T16:07:00","15d","Diana Inlat - Rehacer Ingeurbe",15,0,360,0]
["Pablo Nanofactura - Con IVA o sin IVA premium function global","2023-04-24T19:42:00","2023-04-25T14:06:00","14d 5h","Pablo Nanofactura - Con IVA o sin IVA premium function global",14,5,341,0.79166666666666663]
["Rodrigo Techservices - WP Run4u","2023-03-31T19:33:00","2023-05-03T15:18:00","-17d 19h","Rodrigo Techservices - WP Run4u",-17,-19,-427,32.791666666666664]
["Gustavo Freelancer - Cambios pag ITESM","2023-01-26T01:36:00","2023-04-11T20:32:00","-60d 18h","Gustavo Freelancer - Cambios pag ITESM",-60,-18,-1458,75.75]
["Pablo Nanofactura - Nuevo DiseÃ±o y nueva API","2023-03-04T00:55:14.304","2023-03-22T18:10:00","-4d 17h","Pablo Nanofactura - Nuevo Diseño y nueva API",-4,-17,-113,19.708333333333332]
["Emilio Pinturas - bug lotes","2023-04-04T14:57:00","2023-04-06T09:26:00","13d 5h","Emilio Pinturas - bug lotes",13,5,317,1.7916666666666667]
["Xavier Bobby - Itel y Movitel Landings","2023-03-22T18:05:00","2023-03-22T18:10:00","14d 23h","Xavier Bobby - Itel y Movitel Landings",14,23,359,4.1666666666666664E-2]
["Wordle New Probability","2023-03-23T23:35:00","2023-03-24T20:28:00","14d 3h","Wordle New Probability",14,{"$f":"IF(A62=\"\",\"\",IF(ISERROR(FIND(\"h\",D62)),0,SUBSTITUTE(SUBSTITUTE(SUBSTITUTE(RIGHT(IF(ISERROR(FIND(\"min\",D62)),D62,LEFT(D62,4)),4),\"h\",\"\"),\"d\",\"\"),\" \",\"\")*1 )*IF(F62<0,-1,1))","v":3},339,0.875]
["Santiago EncuentraTuBote","2023-02-07T13:29:00","2023-03-21T12:00:00","-26d 22h","Santiago EncuentraTuBote",-26,{"$f":"IF(A63=\"\",\"\",IF(ISERROR(FIND(\"h\",D63)),0,SUBSTITUTE(SUBSTITUTE(SUBSTITUTE(RIGHT(IF(ISERROR(FIND(\"min\",D63)),D63,LEFT(D63,4)),4),\"h\",\"\"),\"d\",\"\"),\" \",\"\")*1 )*IF(F63<0,-1,1))","v":-22},-646,41.916666666666664]
["John TraducciÃ³n Form Ingles","2023-03-14T21:13:00","2023-03-21T09:50:00","8d 11h","John Traducción Form Ingles",8,11,203,6.541666666666667]
["Emilio Pinturas fix error","2023-03-10T08:34:00","2023-03-10T08:34:00","15d","Emilio Pinturas fix error",15,0,360,0]
["Gary Hydracheck Checkout zipcode issue","2023-03-09T14:50:00","2023-03-09T17:34:00","14d 21h","Gary Hydracheck Checkout zipcode issue",14,21,357,0.125]
["Nana maletas","2023-01-30T09:04:00","2023-03-09T17:33:00","-23d 8h","Nana maletas",-23,-8,-560,38.333333333333336]
["Viv Freelancer Doble letra","2023-03-07T10:51:00","2023-03-09T10:44:00","13d","Viv Freelancer Doble letra",13,0,312,2]
["Jordi Bullkens Bots Demo desde historico o desde 0","2023-02-12T18:09:00","2023-03-03T09:54:00","-3d 15h","Jordi Bullkens Bots Demo desde historico o desde 0",-3,-15,-87,18.625]
["Samantha Concierto Banda","2023-02-20T19:52:00","2023-02-27T21:55:00","7d 21h",{"$f":"IF(A70=\"\",\"\",SUBSTITUTE(SUBSTITUTE(A70,\"Ã³\",\"ó\"),\"Ã±\",\"ñ\"))","v":"Samantha Concierto Banda"},{"$f":"IF(A70=\"\",\"\",IF(ISERROR(FIND(\"d\",D70)),0,SUBSTITUTE(SUBSTITUTE(LEFT(D70,3),\"d\",\"\"),\" \",\"\")*1 ))","v":7},21,{"$f":"IF(A70=\"\",\"\",(F70*24)+G70)","v":189},{"$f":"IF(A70=\"\",\"\",((24*15)-H70)/24)","v":7.125}]
["Viv Freelancer Strict mode & score","2023-02-15T12:59:00","2023-02-27T11:57:00","3d 1h","Viv Freelancer Strict mode & score",3,1,73,11.958333333333334]
["Samantha La Paz Dinn","2023-02-21T11:26:00","2023-02-26T17:45:00","9d 17h","Samantha La Paz Dinn",9,17,233,5.291666666666667]
["Nana Vuelo Tijuana","2023-02-14T18:08:00","2023-02-21T18:07:00","8d","Nana Vuelo Tijuana",8,0,192,7]
["Viv Freelancer Sort out words","2023-02-02T22:07:00","2023-02-21T15:35:00","-3d 17h","Viv Freelancer Sort out words",-3,-17,-89,18.708333333333332]
["Nana bus Oaxaca","2023-02-15T17:20:00","2023-02-20T20:21:00","9d 21h","Nana bus Oaxaca",9,21,237,5.125]
["Pablo Nanofactura Factura API","2022-12-08T02:16:00","2023-02-15T17:19:00","-54d 15h","Pablo Nanofactura Factura API",-54,-15,-1311,69.625]
["Diana Inlat Ingeurbe Proyectos Acordeon fix","2023-02-07T22:47:00","2023-02-08T19:36:00","14d 3h","Diana Inlat Ingeurbe Proyectos Acordeon fix",14,3,339,0.875]
["Gustavo dilo con fresas gmaps checkout","2023-01-31T17:14:00","2023-02-02T18:33:00","12d 22h","Gustavo dilo con fresas gmaps checkout",12,22,310,2.0833333333333335]
["Caba prestamo","2023-01-17T06:35:00","2023-02-07T12:09:00","-6d 5h","Caba prestamo",-6,-5,-149,21.208333333333332]
["Viv Freelancer word filter","2023-01-26T12:07:00","2023-02-01T15:36:00","8d 20h","Viv Freelancer word filter",8,20,212,6.166666666666667]
["Konditorhusset 1hr cambios","2023-01-30T13:47:00","2023-01-31T13:46:00","14d","Konditorhusset 1hr cambios",14,0,336,1]
["Rigoberto YourQuickMoney","2022-11-02T16:47:00","2023-01-27T13:40:00","-70d 20h","Rigoberto YourQuickMoney",-70,-20,-1700,85.833333333333329]
["Nick new edits - filtros - nueva plataforma y advizee free ssl","2022-12-12T14:08:00","2023-01-06T09:45:00","-9d 19h","Nick new edits - filtros - nueva plataforma y advizee free ssl",-9,-19,-235,24.791666666666668]
["Francisco Ingeurbe cfield y badge","2022-12-29T15:51:00","2022-12-31T00:30:52.416","14d 15h","Francisco Ingeurbe cfield y badge",14,15,351,0.375]
["Papa EdiEco CRM","2022-12-14T01:20:00","2022-12-23T14:35:00","5d 10h","Papa EdiEco CRM",5,10,130,9.5833333333333339]
["Daren Precise DM cambios","2022-11-30T16:18:00","2022-12-14T13:51:00","1d 2h","Daren Precise DM cambios",1,2,26,13.916666666666666]
["Miguel Bullkens Reunion 2da parte","2022-10-26T19:57:00","2022-12-07T10:19:00","-26d 15h","Miguel Bullkens Reunion 2da parte",-26,-15,-639,41.625]
["Lisandro IAPTI QR y nuevo campo link social tree"," mybb mail envios...","2022-10-21T20:38:00","2022-11-30T10:33:00","Lisandro IAPTI QR y nuevo campo link social tree",0,0,0,15]
["JO - Instalar template \"Panda\" - Lisandro","2022-10-10T12:19:00","2022-11-30T10:33:00","-35d 23h","JO - Instalar template \"Panda\" - Lisandro",-35,-23,-863,50.958333333333336]
["Copia form a mail - Iapti - Lisandro","2022-09-16T10:34:00","2022-11-30T10:32:00","-60d","Copia form a mail - Iapti - Lisandro",-60,0,-1440,75]
["Jason arreglar Facet Ingeurbe","2022-11-09T14:23:00","2022-11-21T13:43:00","3d","Jason arreglar Facet Ingeurbe",3,0,72,12]
["Samantha Dinn","2022-09-11T13:01:00","2022-11-20T15:19:00","-55d 3h","Samantha Dinn",-55,-3,-1323,70.125]
["Gustav Sitio Recuperado","2022-11-10T20:57:00","2022-11-14T16:09:00","11d 4h","Gustav Sitio Recuperado",11,4,268,3.8333333333333335]
["Rashid Dogwalkers Hosting","2022-10-10T16:23:00","2022-11-12T18:31:00","-18d 3h","Rashid Dogwalkers Hosting",-18,-3,-435,33.125]
["Cambiar contraseÃ±as del plesk y demÃ¡s sitios para correr a Ivonne","2022-11-08T11:25:00","2022-11-08T11:25:00","15d","Cambiar contraseñas del plesk y demÃ¡s sitios para correr a Ivonne",15,0,360,0]
["Madhu Kebab","2022-10-25T16:51:00","2022-11-07T09:29:00","2d 6h","Madhu Kebab",2,6,54,12.75]
["Emilio pinturas","2022-09-09T18:57:00","2022-10-10T20:35:00","-16d 1h","Emilio pinturas",-16,-1,-385,31.041666666666668]
["Gus Diloconfresas Checkout Horario","2022-09-29T17:54:00","2022-11-01T18:37:00","-18d 1h","Gus Diloconfresas Checkout Horario",-18,-1,-433,33.041666666666664]
["JoshNBA Scrapp BBallRef","2022-10-25T20:44:00","2022-10-26T16:16:00","14d 4h","JoshNBA Scrapp BBallRef",14,4,340,0.83333333333333337]
["Jason Brindabella clonar sitio","2022-10-25T18:38:00","2022-10-26T16:11:00","14d 2h","Jason Brindabella clonar sitio",14,2,338,0.91666666666666663]
["Josh NBA Setup nueva temporada","2022-10-19T22:51:00","2022-10-20T18:09:00","14d 4h","Josh NBA Setup nueva temporada",14,4,340,0.83333333333333337]
["Nick desactivo pago por hora auto","2022-10-16T23:56:00","2022-10-17T12:18:00","14d 11h","Nick desactivo pago por hora auto",14,11,347,0.54166666666666663]
["Yamel Konditor cambios","2022-09-29T00:20:58.848","2022-09-29T00:21:03.168","15d","Yamel Konditor cambios",15,0,360,0]
["Jason Brindabella Mini Ajustes","2022-10-14T02:09:00","2022-10-14T02:09:00","15d","Jason Brindabella Mini Ajustes",15,0,360,0]
["G Anita DepÃ³sito","2022-09-29T20:23:00","2022-10-12T16:25:00","2d 3h","G Anita Depósito",2,3,51,12.875]
["Nick Migracion","2022-10-11T16:05:00","2022-10-11T16:05:00","15d","Nick Migracion",15,0,360,0]
["Daren precisemd form2","2022-10-07T01:42:00","2022-10-10T15:46:00","11d 9h","Daren precisemd form2",11,9,273,3.625]
["Norma Nateras Hosting","2022-09-30T09:45:00","2022-10-04T22:30:00","10d 11h","Norma Nateras Hosting",10,11,251,4.541666666666667]
["Mama Madhu PrÃ©stamo","2022-09-22T16:00:00","2022-10-01T14:01:00","6d 2h","Mama Madhu PrÃ©stamo",6,2,146,8.9166666666666661]
["Carrascosa Freelancer","2022-09-11T13:01:00","2022-09-29T10:21:00","-2d 21h","Carrascosa Freelancer",-2,-21,-69,17.875]
["Nana Vuelos","2022-09-11T13:01:00","2022-09-27T12:14:00","-23h 13min","Nana Vuelos",0,-23,-23,15.958333333333334]
["Kavak Reembolso","2022-09-11T13:01:00","2022-09-27T07:48:00","-18h 46min","Kavak Reembolso",0,-18,-18,15.75]
["Josh NBA","2022-09-09T19:42:00","2022-09-19T20:36:00","4d 23h","Josh NBA",4,23,119,10.041666666666666]
["Speedup - Hydracheck - Gary","2022-09-14T12:22:00","2022-09-19T13:06:00","9d 23h","Speedup - Hydracheck - Gary",9,23,239,5.041666666666667]
["Sam PetersWindow Hosting","2022-09-09T19:43:00","2022-09-19T11:47:00","5d 7h","Sam PetersWindow Hosting",5,7,127,9.7083333333333339]
["Speedup - Brindabella - Jason","2022-09-14T12:22:00","2022-09-14T19:16:00","14d 17h","Speedup - Brindabella - Jason",14,17,353,0.29166666666666669]
[null,null,null,null,"","","","",""]
[null,null,null,null,"","","","",""]
[null,null,null,null,"","","","",""]
[null,null,null,null,"","","","",""]
[null,null,null,null,"","","","",""]
[null,null,null,null,"","","","",""]
[null,null,null,null,"","","","",""]
[null,null,null,null,"","","","",""]
[null,null,null,null,"","","","",""]
[null,null,null,null,"","","","",""]
[null,null,null,null,"","",{"$f":"IF(A127=\"\",\"\",IF(ISERROR(FIND(\"h\",D127)),0,SUBSTITUTE(SUBSTITUTE(SUBSTITUTE(RIGHT(IF(ISERROR(FIND(\"min\",D127)),D127,LEFT(D127,4)),4),\"h\",\"\"),\"d\",\"\"),\" \",\"\")*1 )*IF(F127<0,-1,1))","v":""},"",""]
[null,null,null,null,"","","","",""]
[null,null,null,null,"","","","",""]
[null,null,null,null,"","","","",""]
[null,null,null,null,"","","","",""]
[null,null,null,null,"","","","",""]
[null,null,null,null,"","","","",""]
[null,null,null,null,{"$f":"IF(A134=\"\",\"\",SUBSTITUTE(SUBSTITUTE(A134,\"Ã³\",\"ó\"),\"Ã±\",\"ñ\"))","v":""},{"$f":"IF(A134=\"\",\"\",IF(ISERROR(FIND(\"d\",D134)),0,SUBSTITUTE(SUBSTITUTE(LEFT(D134,3),\"d\",\"\"),\" \",\"\")*1 ))","v":""},"",{"$f":"IF(A134=\"\",\"\",(F134*24)+G134)","v":""},{"$f":"IF(A134=\"\",\"\",((24*15)-H134)/24)","v":""}]
[null,null,null,null,"","","","",""]
[null,null,null,null,"","","","",""]
[null,null,null,null,"","","","",""]
[null,null,null,null,"","","","",""]
[null,null,null,null,"","","","",""]
[null,null,null,null,"","","","",""]
[null,null,null,null,"","","","",""]
[null,null,null,null,"","","","",""]
[null,null,null,null,"","","","",""]
[null,null,null,null,"","","","",""]
[null,null,null,null,"","","","",""]
[null,null,null,null,"","","","",""]
[null,null,null,null,"","","","",""]
[null,null,null,null,"","","","",""]
[null,null,null,null,"","","","",""]
[null,null,null,null,"","","","",""]
[null,null,null,null,"","","","",""]
[null,null,null,null,"","","","",""]
[null,null,null,null,"","","","",""]
[null,null,null,null,"","","","",""]
[null,null,null,null,"","","","",""]
[null,null,null,null,"","","","",""]
[null,null,null,null,"","","","",""]
[null,null,null,null,"","","","",""]
[null,null,null,null,"","","","",""]
[null,null,null,null,"","","","",""]
[null,null,null,null,"","","","",""]
[null,null,null,null,"","","","",""]
[null,null,null,null,"","","","",""]
[null,null,null,null,"","","","",""]
[null,null,null,null,"","","","",""]
[null,null,null,null,"","","","",""]
[null,null,null,null,"","","","",""]
[null,null,null,null,"","","","",""]
[null,null,null,null,"","","","",""]
[null,null,null,null,"","","","",""]
[null,null,null,null,"","","","",""]
[null,null,null,null,"","","","",""]
[null,null,null,null,"","","","",""]
[null,null,null,null,"","","","",""]
[null,null,null,null,"","","","",""]
[null,null,null,null,"","","","",""]
[null,null,null,null,"","","","",""]
[null,null,null,null,"","","","",""]
[null,null,null,null,"","","","",""]
[null,null,null,null,"","","","",""]
[null,null,null,null,"","","","",""]
[null,null,null,null,"","","","",""]
[null,null,null,null,"","","","",""]
[null,null,null,null,"","","","",""]
[null,null,null,null,"","","","",""]
[null,null,null,null,"","","","",""]
[null,null,null,null,"","","","",""]
[null,null,null,null,"","","","",""]
[null,null,null,null,"","","","",""]
[null,null,null,null,"","","","",""]
[null,null,null,null,"","",{"$f":"IF(A191=\"\",\"\",IF(ISERROR(FIND(\"h\",D191)),0,SUBSTITUTE(SUBSTITUTE(SUBSTITUTE(RIGHT(IF(ISERROR(FIND(\"min\",D191)),D191,LEFT(D191,4)),4),\"h\",\"\"),\"d\",\"\"),\" \",\"\")*1 )*IF(F191<0,-1,1))","v":""},"",""]
[null,null,null,null,"","","","",""]
[null,null,null,null,"","","","",""]
[null,null,null,null,"","","","",""]
[null,null,null,null,"","","","",""]
[null,null,null,null,"","","","",""]
[null,null,null,null,"","","","",""]
[null,null,null,null,{"$f":"IF(A198=\"\",\"\",SUBSTITUTE(SUBSTITUTE(A198,\"Ã³\",\"ó\"),\"Ã±\",\"ñ\"))","v":""},{"$f":"IF(A198=\"\",\"\",IF(ISERROR(FIND(\"d\",D198)),0,SUBSTITUTE(SUBSTITUTE(LEFT(D198,3),\"d\",\"\"),\" \",\"\")*1 ))","v":""},"",{"$f":"IF(A198=\"\",\"\",(F198*24)+G198)","v":""},{"$f":"IF(A198=\"\",\"\",((24*15)-H198)/24)","v":""}]
[null,null,null,null,"","","","",""]
[null,null,null,null,"","","","",""]
[null,null,null,null,"","","","",""]
[null,null,null,null,"","","","",""]
[null,null,null,null,"","","","",""]
[null,null,null,null,"","","","",""]
[null,null,null,null,"","","","",""]
[null,null,null,null,"","","","",""]
[null,null,null,null,"","","","",""]
[null,null,null,null,"","","","",""]
[null,null,null,null,"","","","",""]
[null,null,null,null,"","","","",""]
[null,null,null,null,"","","","",""]
[null,null,null,null,"","","","",""]
[null,null,null,null,"","","","",""]
[null,null,null,null,"","","","",""]
[null,null,null,null,"","","","",""]
[null,null,null,null,"","","","",""]
[null,null,null,null,"","","","",""]
[null,null,null,null,"","","","",""]
[null,null,null,null,"","","","",""]
[null,null,null,null,"","","","",""]
[null,null,null,null,"","","","",""]
[null,null,null,null,"","","","",""]
[null,null,null,null,"","","","",""]
[null,null,null,null,"","","","",""]
[null,null,null,null,"","","","",""]
[null,null,null,null,"","","","",""]
[null,null,null,null,"","","","",""]
[null,null,null,null,"","","","",""]
[null,null,null,null,"","","","",""]
[null,null,null,null,"","","","",""]
[null,null,null,null,"","","","",""]
[null,null,null,null,"","","","",""]
[null,null,null,null,"","","","",""]
[null,null,null,null,"","","","",""]
[null,null,null,null,"","","","",""]
[null,null,null,null,"","","","",""]
[null,null,null,null,"","","","",""]
[null,null,null,null,"","","","",""]
[null,null,null,null,"","","","",""]
[null,null,null,null,"","","","",""]
[null,null,null,null,"","","","",""]
[null,null,null,null,"","","","",""]
[null,null,null,null,"","","","",""]
[null,null,null,null,"","","","",""]
[null,null,null,null,"","","","",""]
[null,null,null,null,"","","","",""]
[null,null,null,null,"","","","",""]
[null,null,null,null,"","","","",""]
[null,null,null,null,"","","","",""]
[null,null,null,null,"","","","",""]
[null,null,null,null,"","","","",""]
[null,null,null,null,"","","","",""]
[null,null,null,null,"","","","",""]
[null,null,null,null,"","","","",""]
[null,null,null,null,"","",{"$f":"IF(A255=\"\",\"\",IF(ISERROR(FIND(\"h\",D255)),0,SUBSTITUTE(SUBSTITUTE(SUBSTITUTE(RIGHT(IF(ISERROR(FIND(\"min\",D255)),D255,LEFT(D255,4)),4),\"h\",\"\"),\"d\",\"\"),\" \",\"\")*1 )*IF(F255<0,-1,1))","v":""},"",""]
[null,null,null,null,"","","","",""]
[null,null,null,null,"","","","",""]
[null,null,null,null,"","","","",""]
[null,null,null,null,"","","","",""]
[null,null,null,null,"","","","",""]
[null,null,null,null,"","","","",""]
[null,null,null,null,{"$f":"IF(A262=\"\",\"\",SUBSTITUTE(SUBSTITUTE(A262,\"Ã³\",\"ó\"),\"Ã±\",\"ñ\"))","v":""},{"$f":"IF(A262=\"\",\"\",IF(ISERROR(FIND(\"d\",D262)),0,SUBSTITUTE(SUBSTITUTE(LEFT(D262,3),\"d\",\"\"),\" \",\"\")*1 ))","v":""},"",{"$f":"IF(A262=\"\",\"\",(F262*24)+G262)","v":""},{"$f":"IF(A262=\"\",\"\",((24*15)-H262)/24)","v":""}]
[null,null,null,null,"","","","",""]
[null,null,null,null,"","","","",""]
[null,null,null,null,"","","","",""]
[null,null,null,null,"","","","",""]
[null,null,null,null,"","","","",""]
[null,null,null,null,"","","","",""]
[null,null,null,null,"","","","",""]
[null,null,null,null,"","","","",""]
[null,null,null,null,"","","","",""]
[null,null,null,null,"","","","",""]
[null,null,null,null,"","","","",""]
[null,null,null,null,"","","","",""]
[null,null,null,null,"","","","",""]
[null,null,null,null,"","","","",""]
[null,null,null,null,"","","","",""]
[null,null,null,null,"","","","",""]
[null,null,null,null,"","","","",""]
[null,null,null,null,"","","","",""]
[null,null,null,null,"","","","",""]
[null,null,null,null,"","","","",""]
[null,null,null,null,"","","","",""]
[null,null,null,null,"","","","",""]
[null,null,null,null,"","","","",""]
[null,null,null,null,"","","","",""]
[null,null,null,null,"","","","",""]
[null,null,null,null,"","","","",""]
[null,null,null,null,"","","","",""]
[null,null,null,null,"","","","",""]
[null,null,null,null,"","","","",""]
[null,null,null,null,"","","","",""]
[null,null,null,null,"","","","",""]
[null,null,null,null,"","","","",""]
[null,null,null,null,"","","","",""]
[null,null,null,null,"","","","",""]
[null,null,null,null,"","","","",""]
[null,null,null,null,"","","","",""]
[null,null,null,null,"","","","",""]
[null,null,null,null,"","","","",""]
[null,null,null,null,"","","","",""]
[null,null,null,null,"","","","",""]
[null,null,null,null,"","","","",""]
[null,null,null,null,"","","","",""]
[null,null,null,null,"","","","",""]
[null,null,null,null,"","","","",""]
[null,null,null,null,"","","","",""]
[null,null,null,null,"","","","",""]
[null,null,null,null,"","","","",""]
[null,null,null,null,"","","","",""]
[null,null,null,null,"","","","",""]
[null,null,null,null,"","","","",""]
[null,null,null,null,"","","","",""]
[null,null,null,null,"","","","",""]
[null,null,null,null,"","","","",""]
[null,null,null,null,"","","","",""]
[null,null,null,null,"","","","",""]
[null,null,null,null,"","","","",""]
[null,null,null,null,"","",{"$f":"IF(A319=\"\",\"\",IF(ISERROR(FIND(\"h\",D319)),0,SUBSTITUTE(SUBSTITUTE(SUBSTITUTE(RIGHT(IF(ISERROR(FIND(\"min\",D319)),D319,LEFT(D319,4)),4),\"h\",\"\"),\"d\",\"\"),\" \",\"\")*1 )*IF(F319<0,-1,1))","v":""},"",""]
[null,null,null,null,"","","","",""]
[null,null,null,null,"","","","",""]
[null,null,null,null,"","","","",""]
[null,null,null,null,"","","","",""]
[null,null,null,null,"","","","",""]
[null,null,null,null,"","","","",""]
[null,null,null,null,{"$f":"IF(A326=\"\",\"\",SUBSTITUTE(SUBSTITUTE(A326,\"Ã³\",\"ó\"),\"Ã±\",\"ñ\"))","v":""},{"$f":"IF(A326=\"\",\"\",IF(ISERROR(FIND(\"d\",D326)),0,SUBSTITUTE(SUBSTITUTE(LEFT(D326,3),\"d\",\"\"),\" \",\"\")*1 ))","v":""},"",{"$f":"IF(A326=\"\",\"\",(F326*24)+G326)","v":""},{"$f":"IF(A326=\"\",\"\",((24*15)-H326)/24)","v":""}]
[null,null,null,null,"","","","",""]
[null,null,null,null,"","","","",""]
[null,null,null,null,"","","","",""]
[null,null,null,null,"","","","",""]
[null,null,null,null,"","","","",""]
[null,null,null,null,"","","","",""]
[null,null,null,null,"","","","",""]
[null,null,null,null,"","","","",""]
[null,null,null,null,"","","","",""]
[null,null,null,null,"","","","",""]
[null,null,null,null,"","","","",""]
[null,null,null,null,"","","","",""]
[null,null,null,null,"","","","",""]
[null,null,null,null,"","","","",""]
[null,null,null,null,"","","","",""]
[null,null,null,null,"","","","",""]
[null,null,null,null,"","","","",""]
[null,null,null,null,"","","","",""]
[null,null,null,null,"","","","",""]
[null,null,null,null,"","","","",""]
[null,null,null,null,"","","","",""]
[null,null,null,null,"","","","",""]
[null,null,null,null,"","","","",""]
[null,null,null,null,"","","","",""]
[null,null,null,null,"","","","",""]
[null,null,null,null,"","","","",""]
[null,null,null,null,"","","","",""]
[null,null,null,null,"","","","",""]
[null,null,null,null,"","","","",""]
[null,null,null,null,"","","","",""]
[null,null,null,null,"","","","",""]
[null,null,null,null,"","","","",""]
[null,null,null,null,"","","","",""]
[null,null,null,null,"","","","",""]
[null,null,null,null,"","","","",""]
[null,null,null,null,"","","","",""]
[null,null,null,null,"","","","",""]
[null,null,null,null,"","","","",""]
[null,null,null,null,"","","","",""]
[null,null,null,null,"","","","",""]
[null,null,null,null,"","","","",""]
[null,null,null,null,"","","","",""]
[null,null,null,null,"","","","",""]
[null,null,null,null,"","","","",""]
[null,null,null,null,"","","","",""]
[null,null,null,null,"","","","",""]
[null,null,null,null,"","","","",""]
[null,null,null,null,"","","","",""]
[null,null,null,null,"","","","",""]
[null,null,null,null,"","","","",""]
[null,null,null,null,"","","","",""]
[null,null,null,null,"","","","",""]
[null,null,null,null,"","","","",""]
[null,null,null,null,"","","","",""]
[null,null,null,null,"","","","",""]
[null,null,null,null,"","","","",""]
[null,null,null,null,"","",{"$f":"IF(A383=\"\",\"\",IF(ISERROR(FIND(\"h\",D383)),0,SUBSTITUTE(SUBSTITUTE(SUBSTITUTE(RIGHT(IF(ISERROR(FIND(\"min\",D383)),D383,LEFT(D383,4)),4),\"h\",\"\"),\"d\",\"\"),\" \",\"\")*1 )*IF(F383<0,-1,1))","v":""},"",""]
[null,null,null,null,"","","","",""]
[null,null,null,null,"","","","",""]
[null,null,null,null,"","","","",""]
[null,null,null,null,"","","","",""]
[null,null,null,null,"","","","",""]
[null,null,null,null,"","","","",""]
[null,null,null,null,{"$f":"IF(A390=\"\",\"\",SUBSTITUTE(SUBSTITUTE(A390,\"Ã³\",\"ó\"),\"Ã±\",\"ñ\"))","v":""},{"$f":"IF(A390=\"\",\"\",IF(ISERROR(FIND(\"d\",D390)),0,SUBSTITUTE(SUBSTITUTE(LEFT(D390,3),\"d\",\"\"),\" \",\"\")*1 ))","v":""},"",{"$f":"IF(A390=\"\",\"\",(F390*24)+G390)","v":""},{"$f":"IF(A390=\"\",\"\",((24*15)-H390)/24)","v":""}]
[null,null,null,null,"","","","",""]
[null,null,null,null,"","","","",""]
[null,null,null,null,"","","","",""]
[null,null,null,null,"","","","",""]
[null,null,null,null,"","","","",""]
[null,null,null,null,"","","","",""]
[null,null,null,null,"","","","",""]
[null,null,null,null,"","","","",""]
[null,null,null,null,"","","","",""]
[null,null,null,null,"","","","",""]
[null,null,null,null,"","","","",""]
[null,null,null,null,"","","","",""]
[null,null,null,null,"","","","",""]
[null,null,null,null,"","","","",""]
[null,null,null,null,"","","","",""]
[null,null,null,null,"","","","",""]
[null,null,null,null,"","","","",""]
[null,null,null,null,"","","","",""]
[null,null,null,null,"","","","",""]
[null,null,null,null,"","","","",""]
[null,null,null,null,"","","","",""]
[null,null,null,null,"","","","",""]
[null,null,null,null,"","","","",""]
[null,null,null,null,"","","","",""]
[null,null,null,null,"","","","",""]
[null,null,null,null,"","","","",""]
[null,null,null,null,"","","","",""]
[null,null,null,null,"","","","",""]
[null,null,null,null,"","","","",""]
[null,null,null,null,"","","","",""]
[null,null,null,null,"","","","",""]
[null,null,null,null,"","","","",""]
[null,null,null,null,"","","","",""]
[null,null,null,null,"","","","",""]
[null,null,null,null,"","","","",""]
[null,null,null,null,"","","","",""]
[null,null,null,null,"","","","",""]
[null,null,null,null,"","","","",""]
[null,null,null,null,"","","","",""]
[null,null,null,null,"","","","",""]
[null,null,null,null,"","","","",""]
[null,null,null,null,"","","","",""]
[null,null,null,null,"","","","",""]
[null,null,null,null,"","","","",""]
[null,null,null,null,"","","","",""]
[null,null,null,null,"","","","",""]
[null,null,null,null,"","","","",""]
[null,null,null,null,"","","","",""]
[null,null,null,null,"","","","",""]
[null,null,null,null,"","","","",""]
[null,null,null,null,"","","","",""]
[null,null,null,null,"","","","",""]
[null,null,null,null,"","","","",""]
[null,null,null,null,"","","","",""]
[null,null,null,null,"","","","",""]
[null,null,null,null,"","","","",""]
[null,null,null,null,"","",{"$f":"IF(A447=\"\",\"\",IF(ISERROR(FIND(\"h\",D447)),0,SUBSTITUTE(SUBSTITUTE(SUBSTITUTE(RIGHT(IF(ISERROR(FIND(\"min\",D447)),D447,LEFT(D447,4)),4),\"h\",\"\"),\"d\",\"\"),\" \",\"\")*1 )*IF(F447<0,-1,1))","v":""},"",""]
[null,null,null,null,"","","","",""]
[null,null,null,null,"","","","",""]
[null,null,null,null,"","","","",""]
[null,null,null,null,"","","","",""]
[null,null,null,null,"","","","",""]
[null,null,null,null,"","","","",""]
[null,null,null,null,{"$f":"IF(A454=\"\",\"\",SUBSTITUTE(SUBSTITUTE(A454,\"Ã³\",\"ó\"),\"Ã±\",\"ñ\"))","v":""},{"$f":"IF(A454=\"\",\"\",IF(ISERROR(FIND(\"d\",D454)),0,SUBSTITUTE(SUBSTITUTE(LEFT(D454,3),\"d\",\"\"),\" \",\"\")*1 ))","v":""},"",{"$f":"IF(A454=\"\",\"\",(F454*24)+G454)","v":""},{"$f":"IF(A454=\"\",\"\",((24*15)-H454)/24)","v":""}]
[null,null,null,null,"","","","",""]
[null,null,null,null,"","","","",""]
[null,null,null,null,"","","","",""]
[null,null,null,null,"","","","",""]
[null,null,null,null,"","","","",""]
[null,null,null,null,"","","","",""]
[null,null,null,null,"","","","",""]
[null,null,null,null,"","","","",""]
[null,null,null,null,"","","","",""]
[null,null,null,null,"","","","",""]
[null,null,null,null,"","","","",""]
[null,null,null,null,"","","","",""]
[null,null,null,null,"","","","",""]
[null,null,null,null,"","","","",""]
[null,null,null,null,"","","","",""]
[null,null,null,null,"","","","",""]
[null,null,null,null,"","","","",""]
[null,null,null,null,"","","","",""]
[null,null,null,null,"","","","",""]
[null,null,null,null,"","","","",""]
[null,null,null,null,"","","","",""]
[null,null,null,null,"","","","",""]
[null,null,null,null,"","","","",""]
[null,null,null,null,"","","","",""]
[null,null,null,null,"","","","",""]
[null,null,null,null,"","","","",""]
[null,null,null,null,"","","","",""]
[null,null,null,null,"","","","",""]
[null,null,null,null,"","","","",""]
[null,null,null,null,"","","","",""]
[null,null,null,null,"","","","",""]
[null,null,null,null,"","","","",""]
[null,null,null,null,"","","","",""]
[null,null,null,null,"","","","",""]
[null,null,null,null,"","","","",""]
[null,null,null,null,"","","","",""]
[null,null,null,null,"","","","",""]
[null,null,null,null,"","","","",""]
[null,null,null,null,"","","","",""]
[null,null,null,null,"","","","",""]
[null,null,null,null,"","","","",""]
[null,null,null,null,"","","","",""]
[null,null,null,null,"","","","",""]
[null,null,null,null,"","","","",""]
[null,null,null,null,"","","","",""]
[null,null,null,null,"","","","",""]

{"sheet":"Timecamp","index":2,"n_rows":4000,"n_cols":31,"rows_kept":4000,"cut":false,"hidden":false,"merged":[]}
["Datum","Benutzer","Aufgabe","Stunden","Notiz","Von","Bis","Einkommen","Kosten","Tiempo","Suma periodo","Unico","https://app.timecamp.com/time_tracking/task_report/130052148#/entries","Fecha","PC","Movil","Debloqueos",null,null,{"$f":"INDEX($C:$C,MATCH(T2,$L:$L,0),1)","v":"Administrativo - ACD"},{"$f":"INDEX($C:$C,MATCH(U2,$L:$L,0),1)","v":"Ricardo CDMX - Excel a Plataforma Web"},{"$f":"INDEX($C:$C,MATCH(V2,$L:$L,0),1)","v":"Ricardo Freelancer - BDD Spotify"},{"$f":"INDEX($C:$C,MATCH(W2,$L:$L,0),1)","v":"Faby - Crawler Farmakosto"},{"$f":"INDEX($C:$C,MATCH(X2,$L:$L,0),1)","v":"Ricardo Cuerna - Fixum facturacion"}]
["Export",null,null,null,null,null,null,null,null,{"$f":"IF(D2=\"\",\"\",IF(ISERROR(FIND(\"s\",D2)),IF(ISERROR(FIND(\"h \",D2)),LEFT(D2,2)/60,   LEFT(D2,FIND(\"h \",D2)-1 )+LEFT(RIGHT(D2,3),2)/60   ),0))","v":""},{"$f":"SUMIFS(J:J,C:C,C2,A:A,\">\"&$S$4)","v":0},{"$f":"IF(COUNTIF(K$1:K2,K2)=1,K2,\"\")","v":0},null,"2023-04-16",{"$f":"SUMIF(A:A,N2,J:J)","v":12},{"$f":"SUMIF(Handy!A:A,N2,Handy!J:J)","v":0},{"$f":"SUMIF(Handy!A:A,N2,Handy!K:K)","v":0},null,"Total",{"$f":"LARGE($L:$L,COLUMN(T3)-COLUMN($S1))","v":33.966666666666676},{"$f":"LARGE($L:$L,COLUMN(U3)-COLUMN($S1))","v":14.983333333333334},{"$f":"LARGE($L:$L,COLUMN(V3)-COLUMN($S1))","v":9.0666666666666682},{"$f":"LARGE($L:$L,COLUMN(W3)-COLUMN($S1))","v":5.5333333333333323},{"$f":"LARGE($L:$L,COLUMN(X3)-COLUMN($S1))","v":5.4666666666666668},{"$f":"SUM(Y4:Y18)","v":24.033333333333349}]
["2023-04-16","Alejandro Castanon Diaz","Xavier Bobby - Itel y Movitel Landings","12h 00m","Real tomado todavia en wakatime","00:00:00","23:59:00",0,0,{"$f":"IF(D3=\"\",\"\",IF(ISERROR(FIND(\"s\",D3)),IF(ISERROR(FIND(\"h \",D3)),LEFT(D3,2)/60,   LEFT(D3,FIND(\"h \",D3)-1 )+LEFT(RIGHT(D3,3),2)/60   ),0))","v":12},0,{"$f":"IF(COUNTIF(K$1:K3,K3)=1,K3,\"\")","v":""},null,{"$f":"IF(N2+1>TODAY(),NA(),N2+1)","v":"2023-04-17"},{"$f":"SUMIF(A:A,N3,J:J)","v":12},{"$f":"SUMIF(Handy!A:A,N3,Handy!J:J)","v":0},{"$f":"SUMIF(Handy!A:A,N3,Handy!K:K)","v":0},null,"Ult. 15 dias",{"$f":"IFERROR(LEFT(INDEX($C:$C,MATCH(T2,$L:$L,0),1),FIND(\"-\",INDEX($C:$C,MATCH(T2,$L:$L,0),1))-2),INDEX($C:$C,MATCH(T2,$L:$L,0),1))","v":"Administrativo"},{"$f":"IFERROR(LEFT(INDEX($C:$C,MATCH(U2,$L:$L,0),1),FIND(\"-\",INDEX($C:$C,MATCH(U2,$L:$L,0),1))-2),INDEX($C:$C,MATCH(U2,$L:$L,0),1))","v":"Ricardo CDMX"},{"$f":"IFERROR(LEFT(INDEX($C:$C,MATCH(V2,$L:$L,0),1),FIND(\"-\",INDEX($C:$C,MATCH(V2,$L:$L,0),1))-2),INDEX($C:$C,MATCH(V2,$L:$L,0),1))","v":"Ricardo Freelancer"},{"$f":"IFERROR(LEFT(INDEX($C:$C,MATCH(W2,$L:$L,0),1),FIND(\"-\",INDEX($C:$C,MATCH(W2,$L:$L,0),1))-2),INDEX($C:$C,MATCH(W2,$L:$L,0),1))","v":"Faby"},{"$f":"IFERROR(LEFT(INDEX($C:$C,MATCH(X2,$L:$L,0),1),FIND(\"-\",INDEX($C:$C,MATCH(X2,$L:$L,0),1))-2),INDEX($C:$C,MATCH(X2,$L:$L,0),1))","v":"Ricardo Cuerna"},"Resto",null,"Ult. 4 semanas","Media","Max","Min","Total"]
["2023-04-17","Alejandro Castanon Diaz","Xavier Bobby - Itel y Movitel Landings","12h 00m","Real tomado todavia en wakatime","00:00:00","15:32:00",0,0,12,0,{"$f":"IF(COUNTIF(K$1:K4,K4)=1,K4,\"\")","v":""},null,{"$f":"IF(N3+1>TODAY(),NA(),N3+1)","v":"2023-04-18"},15.533333333333333,{"$f":"SUMIF(Handy!A:A,N4,Handy!J:J)","v":0},{"$f":"SUMIF(Handy!A:A,N4,Handy!K:K)","v":0},null,{"$f":"TODAY()-14","v":"2023-08-30"},{"$f":"SUMIFS($J:$J,$A:$A,$S4,$C:$C,T$1)","v":2.85},{"$f":"SUMIFS($J:$J,$A:$A,$S4,$C:$C,U$1)","v":0},0,0,0.39999999999999997,{"$f":"SUMIF(A:A,S4,J:J)-SUM(T4:X4)","v":2.8499999999999996},null,{"$f":"TODAY()","v":"2023-09-13"},{"$f":"AVERAGEIFS($O:$O,$N:$N,\"<=\"&$AA4,$N:$N,\">\"&$AA5)","v":5.8952380952380965},{"$f":"_xlfn.MAXIFS($O:$O,$N:$N,\"<=\"&$AA4,$N:$N,\">\"&$AA5)","v":17.000000000000007},{"$f":"_xlfn.MINIFS($O:$O,$O:$O,\">0\",$N:$N,\"<=\"&$AA4,$N:$N,\">\"&$AA5)","v":0.21666666666666667},{"$f":"SUMIFS($O:$O,$N:$N,\"<=\"&$AA4,$N:$N,\">\"&$AA5)","v":41.266666666666673}]
["2023-04-18","Alejandro Castanon Diaz","Xavier Bobby - Itel y Movitel Landings","15h 32m","Real tomado todavia en wakatime","00:00:00","15:32:00",0,0,15.533333333333333,0,{"$f":"IF(COUNTIF(K$1:K5,K5)=1,K5,\"\")","v":""},null,"2023-04-19",0,{"$f":"SUMIF(Handy!A:A,N5,Handy!J:J)","v":0},{"$f":"SUMIF(Handy!A:A,N5,Handy!K:K)","v":0},null,{"$f":"S4+1","v":"2023-08-31"},3.6666666666666665,1.0166666666666666,0,0.45,0,2.3499999999999979,null,{"$f":"AA4-7","v":"2023-09-06"},{"$f":"AVERAGEIFS($O:$O,$N:$N,\"<=\"&$AA5,$N:$N,\">\"&$AA6)","v":6.9904761904761914},{"$f":"_xlfn.MAXIFS($O:$O,$N:$N,\"<=\"&$AA5,$N:$N,\">\"&$AA6)","v":13.933333333333332},{"$f":"_xlfn.MINIFS($O:$O,$O:$O,\">0\",$N:$N,\"<=\"&$AA5,$N:$N,\">\"&$AA6)","v":1.4833333333333332},48.933333333333337]
["2023-04-20","Alejandro Castanon Diaz","Faby - PMI Ame Sitio multilang","02m",null,"18:38:00","18:40:00",0,0,3.3333333333333333E-2,0,{"$f":"IF(COUNTIF(K$1:K6,K6)=1,K6,\"\")","v":""},null,"2023-04-20",0.68333333333333335,{"$f":"SUMIF(Handy!A:A,N6,Handy!J:J)","v":0},{"$f":"SUMIF(Handy!A:A,N6,Handy!K:K)","v":0},null,{"$f":"S5+1","v":"2023-09-01"},4.0333333333333332,2.4333333333333331,0,0.93333333333333346,0.16666666666666666,6.3666666666666645,null,"2023-08-30",4.7714285714285714,10.900000000000002,1.0666666666666667,33.4]
["2023-04-20","Alejandro Castanon Diaz","Diana Inlat - Rehacer Ingeurbe","24m",null,"22:38:00","23:06:00",0,0,0.4,1.6666666666666666E-2,{"$f":"IF(COUNTIF(K$1:K7,K7)=1,K7,\"\")","v":1.6666666666666666E-2},null,"2023-04-21",12.150000000000002,{"$f":"SUMIF(Handy!A:A,N7,Handy!J:J)","v":19.183333333333334},{"$f":"SUMIF(Handy!A:A,N7,Handy!K:K)","v":1533},null,"2023-09-02",0.51666666666666672,0,0,0.45,0,0.51666666666666639,null,"2023-08-23",{"$f":"AVERAGEIFS($O:$O,$N:$N,\"<=\"&$AA7,$N:$N,\">\"&$AA8)","v":7.3071428571428569},12.91666666666667,2.1166666666666667,51.15]
["2023-04-20","Alejandro Castanon Diaz","Diana Inlat - Rehacer Ingeurbe","03m",null,"23:06:00","23:10:00",0,0,0.05,1.6666666666666666E-2,{"$f":"IF(COUNTIF(K$1:K8,K8)=1,K8,\"\")","v":""},null,"2023-04-22",1.5,{"$f":"SUMIF(Handy!A:A,N8,Handy!J:J)","v":0},{"$f":"SUMIF(Handy!A:A,N8,Handy!K:K)","v":0},null,"2023-09-03",0,0,0,0,0,0,null,"2023-08-16",2.3380952380952378,7.1666666666666643,1.3499999999999999,16.366666666666664]
["2023-04-20","Alejandro Castanon Diaz","Faby - PMI Ame Sitio multilang","3s",null,"23:07:00","23:07:00",0,0,0,0,{"$f":"IF(COUNTIF(K$1:K9,K9)=1,K9,\"\")","v":""},null,"2023-04-23",0,{"$f":"SUMIF(Handy!A:A,N9,Handy!J:J)","v":0},{"$f":"SUMIF(Handy!A:A,N9,Handy!K:K)","v":0},null,"2023-09-04",2.8499999999999996,2.7333333333333334,0,0,0,3.3999999999999995,null,"2023-08-09",6.5214285714285722,11.56666666666667,5.0999999999999996,45.650000000000006]
["2023-04-20","Alejandro Castanon Diaz","Ricardo Freelancer - Accounting","24s",null,"23:09:00","23:09:00",0,0,0,0,{"$f":"IF(COUNTIF(K$1:K10,K10)=1,K10,\"\")","v":""},null,"2023-04-24",7.2333333333333343,{"$f":"SUMIF(Handy!A:A,N10,Handy!J:J)","v":0},{"$f":"SUMIF(Handy!A:A,N10,Handy!K:K)","v":0},null,"2023-09-05",2.35,0.46666666666666667,0,2.1833333333333331,0.39999999999999997,1.9500000000000011,null,"2023-08-02",5.4023809523809518,10.183333333333335,0.33333333333333331,37.816666666666663]
["2023-04-20","Alejandro Castanon Diaz","Diana Inlat - Rehacer Ingeurbe","03m",null,"23:46:00","23:56:00",0,0,0.05,1.6666666666666666E-2,{"$f":"IF(COUNTIF(K$1:K11,K11)=1,K11,\"\")","v":""},null,"2023-04-25",8.7000000000000011,{"$f":"SUMIF(Handy!A:A,N11,Handy!J:J)","v":0},{"$f":"SUMIF(Handy!A:A,N11,Handy!K:K)","v":0},null,"2023-09-06",4.8666666666666663,0.4,0.71666666666666667,0.75,2.0166666666666666,0.94999999999999929,null,"2023-07-26",4.0523809523809522,10.25,0.13333333333333333,28.366666666666667]
["2023-04-20","Alejandro Castanon Diaz","Faby - PMI Ame Sitio multilang","09m",null,"23:46:00","23:59:00",0,0,0.15,0,{"$f":"IF(COUNTIF(K$1:K12,K12)=1,K12,\"\")","v":""},null,"2023-04-26",5.9333333333333318,{"$f":"SUMIF(Handy!A:A,N12,Handy!J:J)","v":0},{"$f":"SUMIF(Handy!A:A,N12,Handy!K:K)","v":0},null,"2023-09-07",5.5333333333333332,1.2999999999999998,6.5166666666666657,0.1,2.8833333333333329,0.66666666666667851,null,"2023-07-19"]
["2023-04-21","Alejandro Castanon Diaz","Ricardo Freelancer - Accounting","2h 46m","Migración a Trello card","00:00:00","02:46:00",0,0,2.7666666666666666,0,{"$f":"IF(COUNTIF(K$1:K13,K13)=1,K13,\"\")","v":""},null,"2023-04-27",3.3833333333333333,{"$f":"SUMIF(Handy!A:A,N13,Handy!J:J)","v":0},{"$f":"SUMIF(Handy!A:A,N13,Handy!K:K)","v":0},null,"2023-09-08",4.7999999999999989,5.8166666666666664,1.8333333333333335,1.6666666666666666E-2,0,0.5333333333333421]
["2023-04-21","Alejandro Castanon Diaz","Faby - PMI Ame Sitio multilang","27m",null,"00:00:00","00:50:00",0,0,0.45,0,{"$f":"IF(COUNTIF(K$1:K14,K14)=1,K14,\"\")","v":""},null,"2023-04-28",6.0833333333333339,{"$f":"SUMIF(Handy!A:A,N14,Handy!J:J)","v":21.283333333333335},{"$f":"SUMIF(Handy!A:A,N14,Handy!K:K)","v":2170},null,"2023-09-09",0,0.21666666666666667,0,0,0,0]
["2023-04-21","Alejandro Castanon Diaz","Diana Inlat - Rehacer Ingeurbe","01m",null,"00:05:00","00:08:00",0,0,1.6666666666666666E-2,1.6666666666666666E-2,{"$f":"IF(COUNTIF(K$1:K15,K15)=1,K15,\"\")","v":""},null,"2023-04-29",1.1833333333333333,{"$f":"SUMIF(Handy!A:A,N15,Handy!J:J)","v":0},{"$f":"SUMIF(Handy!A:A,N15,Handy!K:K)","v":0},null,"2023-09-10",0,0,0,0,0,0]
["2023-04-21","Alejandro Castanon Diaz","Diana Inlat - Rehacer Ingeurbe","09m",null,"00:28:00","00:38:00",0,0,0.15,1.6666666666666666E-2,{"$f":"IF(COUNTIF(K$1:K16,K16)=1,K16,\"\")","v":""},null,"2023-04-30",1.3333333333333333,{"$f":"SUMIF(Handy!A:A,N16,Handy!J:J)","v":0},{"$f":"SUMIF(Handy!A:A,N16,Handy!K:K)","v":0},null,"2023-09-11",1.9000000000000001,3.3333333333333333E-2,0,0.15,0,0.3833333333333333]
["2023-04-21","Alejandro Castanon Diaz","Faby - PMI Ame Sitio multilang","55m",null,"01:25:00","02:40:00",0,0,0.91666666666666663,0,{"$f":"IF(COUNTIF(K$1:K17,K17)=1,K17,\"\")","v":""},null,"2023-05-01",4.9166666666666661,{"$f":"SUMIF(Handy!A:A,N17,Handy!J:J)","v":0},{"$f":"SUMIF(Handy!A:A,N17,Handy!K:K)","v":0},null,"2023-09-12",2.75,0.18333333333333335,0,0.5,0,3.7166666666666659]
["2023-04-21","Alejandro Castanon Diaz","Diana Inlat - Rehacer Ingeurbe","38s",null,"01:28:00","01:28:00",0,0,0,1.6666666666666666E-2,{"$f":"IF(COUNTIF(K$1:K18,K18)=1,K18,\"\")","v":""},null,"2023-05-02",8.7166666666666668,{"$f":"SUMIF(Handy!A:A,N18,Handy!J:J)","v":0},{"$f":"SUMIF(Handy!A:A,N18,Handy!K:K)","v":0},null,"2023-09-13",0.70000000000000007,0.3833333333333333,0,0,0,0.34999999999999987]
["2023-04-21","Alejandro Castanon Diaz","Ricardo Freelancer - Accounting","05m",null,"02:14:00","02:19:00",0,0,8.3333333333333329E-2,0,{"$f":"IF(COUNTIF(K$1:K19,K19)=1,K19,\"\")","v":""},null,"2023-05-03",9.25,{"$f":"SUMIF(Handy!A:A,N19,Handy!J:J)","v":0},{"$f":"SUMIF(Handy!A:A,N19,Handy!K:K)","v":0}]
["2023-04-21","Alejandro Castanon Diaz","Diana Inlat - Rehacer Ingeurbe","1h 55m",null,"02:24:00","04:33:00",0,0,1.9166666666666665,1.6666666666666666E-2,{"$f":"IF(COUNTIF(K$1:K20,K20)=1,K20,\"\")","v":""},null,"2023-05-04",9.966666666666665,{"$f":"SUMIF(Handy!A:A,N20,Handy!J:J)","v":0},{"$f":"SUMIF(Handy!A:A,N20,Handy!K:K)","v":0}]
["2023-04-21","Alejandro Castanon Diaz","Viv Freelancer - Ecommerce Wordle","3s",null,"02:25:00","02:25:00",0,0,0,0,{"$f":"IF(COUNTIF(K$1:K21,K21)=1,K21,\"\")","v":""},null,"2023-05-05",21.666666666666671,{"$f":"SUMIF(Handy!A:A,N21,Handy!J:J)","v":19.416666666666668},{"$f":"SUMIF(Handy!A:A,N21,Handy!K:K)","v":1476},null,null,{"$f":"SUM(T23:T26)","v":6.1333333333333337},{"$f":"SUM(U23:U26)","v":2.7666666666666666},25.416666666666664,28.016666666666666,20.43333333333333]
["2023-04-21","Alejandro Castanon Diaz","Faby - PMI Ame Sitio multilang","04m",null,"03:01:00","03:20:00",0,0,6.6666666666666666E-2,0,{"$f":"IF(COUNTIF(K$1:K22,K22)=1,K22,\"\")","v":""},null,"2023-05-06",2.4833333333333334,{"$f":"SUMIF(Handy!A:A,N22,Handy!J:J)","v":0},{"$f":"SUMIF(Handy!A:A,N22,Handy!K:K)","v":0},null,"Ult. 4 semanas","Spiele","Soziale Netzwerke","Kommunikation","Arbeit","Rest"]
["2023-04-21","Alejandro Castanon Diaz","Faby - PMI Ame Sitio multilang","06m",null,"03:30:00","03:45:00",0,0,0.1,0,{"$f":"IF(COUNTIF(K$1:K23,K23)=1,K23,\"\")","v":""},null,"2023-05-07",11.7,{"$f":"SUMIF(Handy!A:A,N23,Handy!J:J)","v":0},{"$f":"SUMIF(Handy!A:A,N23,Handy!K:K)","v":0},null,{"$f":"MAX(Handy!A:A)","v":"2023-09-10"},{"$f":"SUMIFS(Handy!$J:$J,Handy!$A:$A,Timecamp!$S23,Handy!$C:$C,Timecamp!T$22)","v":2.2000000000000002},{"$f":"SUMIFS(Handy!$J:$J,Handy!$A:$A,Timecamp!$S23,Handy!$C:$C,Timecamp!U$22)","v":0.45},{"$f":"SUMIFS(Handy!$J:$J,Handy!$A:$A,Timecamp!$S23,Handy!$C:$C,Timecamp!V$22)","v":6.1},{"$f":"SUMIFS(Handy!$J:$J,Handy!$A:$A,Timecamp!$S23,Handy!$C:$C,Timecamp!W$22)","v":5.4333333333333336},{"$f":"SUMIF(Handy!A:A,Timecamp!S23,Handy!J:J)-SUM(T23:W23)","v":3.9166666666666679}]
["2023-04-21","Alejandro Castanon Diaz","Gustavo Freelancer - Cambios pag ITESM","2h 22m","Tiempo real prueba mover cards de board","04:00:00","06:24:00",0,0,2.3666666666666667,0,{"$f":"IF(COUNTIF(K$1:K24,K24)=1,K24,\"\")","v":""},null,"2023-05-08",9.8166666666666647,{"$f":"SUMIF(Handy!A:A,N24,Handy!J:J)","v":0},{"$f":"SUMIF(Handy!A:A,N24,Handy!K:K)","v":0},null,{"$f":"S23-7","v":"2023-09-03"},{"$f":"SUMIFS(Handy!$J:$J,Handy!$A:$A,Timecamp!$S24,Handy!$C:$C,Timecamp!T$22)","v":3.2666666666666666},{"$f":"SUMIFS(Handy!$J:$J,Handy!$A:$A,Timecamp!$S24,Handy!$C:$C,Timecamp!U$22)","v":0.8666666666666667},{"$f":"SUMIFS(Handy!$J:$J,Handy!$A:$A,Timecamp!$S24,Handy!$C:$C,Timecamp!V$22)","v":8.2333333333333325},{"$f":"SUMIFS(Handy!$J:$J,Handy!$A:$A,Timecamp!$S24,Handy!$C:$C,Timecamp!W$22)","v":7.333333333333333},{"$f":"SUMIF(Handy!A:A,Timecamp!S24,Handy!J:J)-SUM(T24:W24)","v":4.716666666666665}]
["2023-04-21","Alejandro Castanon Diaz","Miguel Bullkens - B2B Nuevo Exchange","1h 00m","Prueba a ver si tiempo se mueve entre boards","04:03:00","05:03:00",0,0,1,0,{"$f":"IF(COUNTIF(K$1:K25,K25)=1,K25,\"\")","v":""},null,"2023-05-09",6.4333333333333336,{"$f":"SUMIF(Handy!A:A,N25,Handy!J:J)","v":0},{"$f":"SUMIF(Handy!A:A,N25,Handy!K:K)","v":0},null,{"$f":"S24-7","v":"2023-08-27"},{"$f":"SUMIFS(Handy!$J:$J,Handy!$A:$A,Timecamp!$S25,Handy!$C:$C,Timecamp!T$22)","v":0.43333333333333335},{"$f":"SUMIFS(Handy!$J:$J,Handy!$A:$A,Timecamp!$S25,Handy!$C:$C,Timecamp!U$22)","v":0.85},{"$f":"SUMIFS(Handy!$J:$J,Handy!$A:$A,Timecamp!$S25,Handy!$C:$C,Timecamp!V$22)","v":6.5},{"$f":"SUMIFS(Handy!$J:$J,Handy!$A:$A,Timecamp!$S25,Handy!$C:$C,Timecamp!W$22)","v":8.9333333333333336},{"$f":"SUMIF(Handy!A:A,Timecamp!S25,Handy!J:J)-SUM(T25:W25)","v":6.8333333333333321}]
["2023-04-21","Alejandro Castanon Diaz","Ricardo Freelancer - Accounting","11m",null,"04:35:00","05:26:00",0,0,0.18333333333333332,0,{"$f":"IF(COUNTIF(K$1:K26,K26)=1,K26,\"\")","v":""},null,"2023-05-10",11.133333333333333,{"$f":"SUMIF(Handy!A:A,N26,Handy!J:J)","v":0},{"$f":"SUMIF(Handy!A:A,N26,Handy!K:K)","v":0},null,"2023-08-20",{"$f":"SUMIFS(Handy!$J:$J,Handy!$A:$A,Timecamp!$S26,Handy!$C:$C,Timecamp!T$22)","v":0.23333333333333334},{"$f":"SUMIFS(Handy!$J:$J,Handy!$A:$A,Timecamp!$S26,Handy!$C:$C,Timecamp!U$22)","v":0.6},{"$f":"SUMIFS(Handy!$J:$J,Handy!$A:$A,Timecamp!$S26,Handy!$C:$C,Timecamp!V$22)","v":4.583333333333333},{"$f":"SUMIFS(Handy!$J:$J,Handy!$A:$A,Timecamp!$S26,Handy!$C:$C,Timecamp!W$22)","v":6.3166666666666664},{"$f":"SUMIF(Handy!A:A,Timecamp!S26,Handy!J:J)-SUM(T26:W26)","v":4.9666666666666668}]
["2023-04-21","Alejandro Castanon Diaz","Ricardo Freelancer - Accounting","13m",null,"05:37:00","06:09:00",0,0,0.21666666666666667,0,{"$f":"IF(COUNTIF(K$1:K27,K27)=1,K27,\"\")","v":""},null,"2023-05-11",9.4333333333333336,{"$f":"SUMIF(Handy!A:A,N27,Handy!J:J)","v":0},{"$f":"SUMIF(Handy!A:A,N27,Handy!K:K)","v":0},null,"2023-08-13",{"$f":"SUMIFS(Handy!$J:$J,Handy!$A:$A,Timecamp!$S27,Handy!$C:$C,Timecamp!T$22)","v":5.7333333333333334},{"$f":"SUMIFS(Handy!$J:$J,Handy!$A:$A,Timecamp!$S27,Handy!$C:$C,Timecamp!U$22)","v":1.1666666666666667},{"$f":"SUMIFS(Handy!$J:$J,Handy!$A:$A,Timecamp!$S27,Handy!$C:$C,Timecamp!V$22)","v":3.9666666666666668},{"$f":"SUMIFS(Handy!$J:$J,Handy!$A:$A,Timecamp!$S27,Handy!$C:$C,Timecamp!W$22)","v":6.2333333333333334},{"$f":"SUMIF(Handy!A:A,Timecamp!S27,Handy!J:J)-SUM(T27:W27)","v":4.7333333333333343}]
["2023-04-21","Alejandro Castanon Diaz","Miguel Bullkens - B2B Nuevo Exchange","07m","prueba mover tiempos","06:00:00","06:07:00",0,0,0.11666666666666667,0,{"$f":"IF(COUNTIF(K$1:K28,K28)=1,K28,\"\")","v":""},null,"2023-05-12",13.983333333333334,{"$f":"SUMIF(Handy!A:A,N28,Handy!J:J)","v":0},{"$f":"SUMIF(Handy!A:A,N28,Handy!K:K)","v":0},null,"2023-08-06",{"$f":"SUMIFS(Handy!$J:$J,Handy!$A:$A,Timecamp!$S28,Handy!$C:$C,Timecamp!T$22)","v":0.58333333333333337},{"$f":"SUMIFS(Handy!$J:$J,Handy!$A:$A,Timecamp!$S28,Handy!$C:$C,Timecamp!U$22)","v":0.68333333333333335},{"$f":"SUMIFS(Handy!$J:$J,Handy!$A:$A,Timecamp!$S28,Handy!$C:$C,Timecamp!V$22)","v":3.1333333333333333},{"$f":"SUMIFS(Handy!$J:$J,Handy!$A:$A,Timecamp!$S28,Handy!$C:$C,Timecamp!W$22)","v":5.083333333333333},{"$f":"SUMIF(Handy!A:A,Timecamp!S28,Handy!J:J)-SUM(T28:W28)","v":4.2666666666666639}]
["2023-04-21","Alejandro Castanon Diaz","Miguel Bullkens - B2B Nuevo Exchange","06m",null,"06:02:00","06:08:00",0,0,0.1,0,{"$f":"IF(COUNTIF(K$1:K29,K29)=1,K29,\"\")","v":""},null,"2023-05-13",6.55,{"$f":"SUMIF(Handy!A:A,N29,Handy!J:J)","v":0},{"$f":"SUMIF(Handy!A:A,N29,Handy!K:K)","v":0},null,"2023-07-30",{"$f":"SUMIFS(Handy!$J:$J,Handy!$A:$A,Timecamp!$S29,Handy!$C:$C,Timecamp!T$22)","v":0.31666666666666665},{"$f":"SUMIFS(Handy!$J:$J,Handy!$A:$A,Timecamp!$S29,Handy!$C:$C,Timecamp!U$22)","v":0.7},{"$f":"SUMIFS(Handy!$J:$J,Handy!$A:$A,Timecamp!$S29,Handy!$C:$C,Timecamp!V$22)","v":3.1833333333333331},{"$f":"SUMIFS(Handy!$J:$J,Handy!$A:$A,Timecamp!$S29,Handy!$C:$C,Timecamp!W$22)","v":6.6333333333333329},{"$f":"SUMIF(Handy!A:A,Timecamp!S29,Handy!J:J)-SUM(T29:W29)","v":3.25}]
["2023-04-21","Alejandro Castanon Diaz","Miguel Bullkens - B2B Nuevo Exchange","04m","clonado","06:05:00","06:10:00",0,0,6.6666666666666666E-2,0,{"$f":"IF(COUNTIF(K$1:K30,K30)=1,K30,\"\")","v":""},null,"2023-05-14",0.23333333333333334,{"$f":"SUMIF(Handy!A:A,N30,Handy!J:J)","v":42.31666666666667},{"$f":"SUMIF(Handy!A:A,N30,Handy!K:K)","v":1844},null,"2023-07-23",{"$f":"SUMIFS(Handy!$J:$J,Handy!$A:$A,Timecamp!$S30,Handy!$C:$C,Timecamp!T$22)","v":5.75},{"$f":"SUMIFS(Handy!$J:$J,Handy!$A:$A,Timecamp!$S30,Handy!$C:$C,Timecamp!U$22)","v":1.55},{"$f":"SUMIFS(Handy!$J:$J,Handy!$A:$A,Timecamp!$S30,Handy!$C:$C,Timecamp!V$22)","v":4.583333333333333},{"$f":"SUMIFS(Handy!$J:$J,Handy!$A:$A,Timecamp!$S30,Handy!$C:$C,Timecamp!W$22)","v":4.5333333333333332},{"$f":"SUMIF(Handy!A:A,Timecamp!S30,Handy!J:J)-SUM(T30:W30)","v":5.1166666666666671}]
["2023-04-21","Alejandro Castanon Diaz","Miguel Bullkens - B2B Nuevo Exchange","10m",null,"06:24:00","06:35:00",0,0,0.16666666666666666,0,{"$f":"IF(COUNTIF(K$1:K31,K31)=1,K31,\"\")","v":""},null,"2023-05-15",16.716666666666669,{"$f":"SUMIF(Handy!A:A,N31,Handy!J:J)","v":0},{"$f":"SUMIF(Handy!A:A,N31,Handy!K:K)","v":0},null,"2023-07-16",{"$f":"SUMIFS(Handy!$J:$J,Handy!$A:$A,Timecamp!$S31,Handy!$C:$C,Timecamp!T$22)","v":0.15},{"$f":"SUMIFS(Handy!$J:$J,Handy!$A:$A,Timecamp!$S31,Handy!$C:$C,Timecamp!U$22)","v":0.85},{"$f":"SUMIFS(Handy!$J:$J,Handy!$A:$A,Timecamp!$S31,Handy!$C:$C,Timecamp!V$22)","v":5.6333333333333329},{"$f":"SUMIFS(Handy!$J:$J,Handy!$A:$A,Timecamp!$S31,Handy!$C:$C,Timecamp!W$22)","v":4.8499999999999996},{"$f":"SUMIF(Handy!A:A,Timecamp!S31,Handy!J:J)-SUM(T31:W31)","v":7.5500000000000025}]
["2023-04-21","Alejandro Castanon Diaz","Ricardo Freelancer - Accounting","17m",null,"11:09:00","11:32:00",0,0,0.28333333333333333,0,{"$f":"IF(COUNTIF(K$1:K32,K32)=1,K32,\"\")","v":""},null,"2023-05-16",10.25,{"$f":"SUMIF(Handy!A:A,N32,Handy!J:J)","v":0},{"$f":"SUMIF(Handy!A:A,N32,Handy!K:K)","v":0},null,"2023-07-09",{"$f":"SUMIFS(Handy!$J:$J,Handy!$A:$A,Timecamp!$S32,Handy!$C:$C,Timecamp!T$22)","v":0.38333333333333336},{"$f":"SUMIFS(Handy!$J:$J,Handy!$A:$A,Timecamp!$S32,Handy!$C:$C,Timecamp!U$22)","v":0.83333333333333337},{"$f":"SUMIFS(Handy!$J:$J,Handy!$A:$A,Timecamp!$S32,Handy!$C:$C,Timecamp!V$22)","v":4.2833333333333332},{"$f":"SUMIFS(Handy!$J:$J,Handy!$A:$A,Timecamp!$S32,Handy!$C:$C,Timecamp!W$22)","v":6.4},{"$f":"SUMIF(Handy!A:A,Timecamp!S32,Handy!J:J)-SUM(T32:W32)","v":3.6999999999999993}]
["2023-04-21","Alejandro Castanon Diaz","Viv Freelancer - Ecommerce Wordle","25s",null,"11:09:00","11:10:00",0,0,0,0,{"$f":"IF(COUNTIF(K$1:K33,K33)=1,K33,\"\")","v":""},null,"2023-05-17",0.95,{"$f":"SUMIF(Handy!A:A,N33,Handy!J:J)","v":0},{"$f":"SUMIF(Handy!A:A,N33,Handy!K:K)","v":0}]
["2023-04-21","Alejandro Castanon Diaz","Xavier Bobby - Itel y Movitel Landings","49s",null,"11:10:00","11:11:00",0,0,0,0,{"$f":"IF(COUNTIF(K$1:K34,K34)=1,K34,\"\")","v":""},null,"2023-05-18",5.7833333333333332,{"$f":"SUMIF(Handy!A:A,N34,Handy!J:J)","v":0},{"$f":"SUMIF(Handy!A:A,N34,Handy!K:K)","v":0}]
["2023-04-21","Alejandro Castanon Diaz","Diana Inlat - Rehacer Ingeurbe","30s",null,"11:11:00","11:11:00",0,0,0,1.6666666666666666E-2,{"$f":"IF(COUNTIF(K$1:K35,K35)=1,K35,\"\")","v":""},null,"2023-05-19",4.4666666666666668,{"$f":"SUMIF(Handy!A:A,N35,Handy!J:J)","v":0},{"$f":"SUMIF(Handy!A:A,N35,Handy!K:K)","v":0}]
["2023-04-21","Alejandro Castanon Diaz","Nick Advizee - ult pago a 22 abr (sigue 23)","05m",null,"11:24:00","11:33:00",0,0,8.3333333333333329E-2,0,{"$f":"IF(COUNTIF(K$1:K36,K36)=1,K36,\"\")","v":""},null,"2023-05-20",3.7333333333333329,{"$f":"SUMIF(Handy!A:A,N36,Handy!J:J)","v":0},{"$f":"SUMIF(Handy!A:A,N36,Handy!K:K)","v":0}]
["2023-04-21","Alejandro Castanon Diaz","Pablo Nanofactura - Nuevo Diseño y nueva API","01m",null,"12:01:00","12:02:00",0,0,1.6666666666666666E-2,0,{"$f":"IF(COUNTIF(K$1:K37,K37)=1,K37,\"\")","v":""},null,"2023-05-21",0.83333333333333337,{"$f":"SUMIF(Handy!A:A,N37,Handy!J:J)","v":35.63333333333334},{"$f":"SUMIF(Handy!A:A,N37,Handy!K:K)","v":1413}]
["2023-04-21","Alejandro Castanon Diaz","Ricardo Freelancer - Accounting","01m",null,"12:08:00","12:09:00",0,0,1.6666666666666666E-2,0,{"$f":"IF(COUNTIF(K$1:K38,K38)=1,K38,\"\")","v":""},null,"2023-05-22",3.9333333333333336,{"$f":"SUMIF(Handy!A:A,N38,Handy!J:J)","v":0},{"$f":"SUMIF(Handy!A:A,N38,Handy!K:K)","v":0}]
["2023-04-21","Alejandro Castanon Diaz","Ricardo Freelancer - Accounting","01m",null,"12:20:00","12:21:00",0,0,1.6666666666666666E-2,0,{"$f":"IF(COUNTIF(K$1:K39,K39)=1,K39,\"\")","v":""},null,"2023-05-23",9.31666666666667,{"$f":"SUMIF(Handy!A:A,N39,Handy!J:J)","v":0},{"$f":"SUMIF(Handy!A:A,N39,Handy!K:K)","v":0}]
["2023-04-21","Alejandro Castanon Diaz","Diana Inlat - Rehacer Ingeurbe","01m",null,"12:21:00","12:23:00",0,0,1.6666666666666666E-2,1.6666666666666666E-2,{"$f":"IF(COUNTIF(K$1:K40,K40)=1,K40,\"\")","v":""},null,"2023-05-24",7.7833333333333332,{"$f":"SUMIF(Handy!A:A,N40,Handy!J:J)","v":0},{"$f":"SUMIF(Handy!A:A,N40,Handy!K:K)","v":0}]
["2023-04-21","Alejandro Castanon Diaz","Ricardo Freelancer - Accounting","33m",null,"12:38:00","13:28:00",0,0,0.55000000000000004,0,{"$f":"IF(COUNTIF(K$1:K41,K41)=1,K41,\"\")","v":""},null,"2023-05-25",17.166666666666661,{"$f":"SUMIF(Handy!A:A,N41,Handy!J:J)","v":0},{"$f":"SUMIF(Handy!A:A,N41,Handy!K:K)","v":0}]
["2023-04-21","Alejandro Castanon Diaz","Mama Madhu - prestamo","19m",null,"13:28:00","13:47:00",0,0,0.31666666666666665,0,{"$f":"IF(COUNTIF(K$1:K42,K42)=1,K42,\"\")","v":""},null,"2023-05-26",7.0666666666666664,{"$f":"SUMIF(Handy!A:A,N42,Handy!J:J)","v":0},{"$f":"SUMIF(Handy!A:A,N42,Handy!K:K)","v":0}]
["2023-04-21","Alejandro Castanon Diaz","Faby - PMI Ame Sitio multilang","10m",null,"13:48:00","13:58:00",0,0,0.16666666666666666,0,{"$f":"IF(COUNTIF(K$1:K43,K43)=1,K43,\"\")","v":""},null,"2023-05-27",0.15,{"$f":"SUMIF(Handy!A:A,N43,Handy!J:J)","v":0},{"$f":"SUMIF(Handy!A:A,N43,Handy!K:K)","v":0}]
["2023-04-22","Alejandro Castanon Diaz","Ricardo Freelancer - Accounting","8s",null,"10:00:00","10:01:00",0,0,0,0,{"$f":"IF(COUNTIF(K$1:K44,K44)=1,K44,\"\")","v":""},null,"2023-05-28",0,{"$f":"SUMIF(Handy!A:A,N44,Handy!J:J)","v":34.416666666666671},{"$f":"SUMIF(Handy!A:A,N44,Handy!K:K)","v":2227}]
["2023-04-22","Alejandro Castanon Diaz","Faby - Candywax Depilaciones","21m",null,"10:01:00","10:25:00",0,0,0.35,0,{"$f":"IF(COUNTIF(K$1:K45,K45)=1,K45,\"\")","v":""},null,"2023-05-29",0.75,{"$f":"SUMIF(Handy!A:A,N45,Handy!J:J)","v":0},{"$f":"SUMIF(Handy!A:A,N45,Handy!K:K)","v":0}]
["2023-04-22","Alejandro Castanon Diaz","---Templates Checklists","11m",null,"10:18:00","10:31:00",0,0,0.18333333333333332,0,{"$f":"IF(COUNTIF(K$1:K46,K46)=1,K46,\"\")","v":""},null,"2023-05-30",4.55,{"$f":"SUMIF(Handy!A:A,N46,Handy!J:J)","v":0},{"$f":"SUMIF(Handy!A:A,N46,Handy!K:K)","v":0}]
["2023-04-22","Alejandro Castanon Diaz","Ricardo Freelancer - Accounting","19m",null,"10:28:00","10:49:00",0,0,0.31666666666666665,0,{"$f":"IF(COUNTIF(K$1:K47,K47)=1,K47,\"\")","v":""},null,"2023-05-31",2.7833333333333332,{"$f":"SUMIF(Handy!A:A,N47,Handy!J:J)","v":0},{"$f":"SUMIF(Handy!A:A,N47,Handy!K:K)","v":0}]
["2023-04-22","Alejandro Castanon Diaz","Nick Advizee - ult pago a 22 abr (sigue 23)","10m",null,"11:08:00","11:18:00",0,0,0.16666666666666666,0,{"$f":"IF(COUNTIF(K$1:K48,K48)=1,K48,\"\")","v":""},null,"2023-06-01",3.35,{"$f":"SUMIF(Handy!A:A,N48,Handy!J:J)","v":0},{"$f":"SUMIF(Handy!A:A,N48,Handy!K:K)","v":0}]
["2023-04-22","Alejandro Castanon Diaz","Faby - Candywax Depilaciones","11m",null,"11:46:00","12:00:00",0,0,0.18333333333333332,0,{"$f":"IF(COUNTIF(K$1:K49,K49)=1,K49,\"\")","v":""},null,"2023-06-02",2.666666666666667,{"$f":"SUMIF(Handy!A:A,N49,Handy!J:J)","v":0},{"$f":"SUMIF(Handy!A:A,N49,Handy!K:K)","v":0}]
["2023-04-22","Alejandro Castanon Diaz","Viv Freelancer - Ecommerce Wordle","18m",null,"13:15:00","13:34:00",0,0,0.3,0,{"$f":"IF(COUNTIF(K$1:K50,K50)=1,K50,\"\")","v":""},null,"2023-06-03",0.44999999999999996,{"$f":"SUMIF(Handy!A:A,N50,Handy!J:J)","v":0},{"$f":"SUMIF(Handy!A:A,N50,Handy!K:K)","v":0}]
["2023-04-24","Alejandro Castanon Diaz","Viv Freelancer - Ecommerce Wordle","21s",null,"12:24:00","12:24:00",0,0,0,0,{"$f":"IF(COUNTIF(K$1:K51,K51)=1,K51,\"\")","v":""},null,"2023-06-04",0.1,{"$f":"SUMIF(Handy!A:A,N51,Handy!J:J)","v":26.966666666666665},{"$f":"SUMIF(Handy!A:A,N51,Handy!K:K)","v":2620}]
["2023-04-24","Alejandro Castanon Diaz","Faby - Candywax Depilaciones","33s",null,"12:24:00","12:24:00",0,0,0,0,{"$f":"IF(COUNTIF(K$1:K52,K52)=1,K52,\"\")","v":""},null,"2023-06-05",1.8166666666666667,{"$f":"SUMIF(Handy!A:A,N52,Handy!J:J)","v":0},{"$f":"SUMIF(Handy!A:A,N52,Handy!K:K)","v":0}]
["2023-04-24","Alejandro Castanon Diaz","Xavier Bobby - Itel plugins desactivar","08m",null,"12:24:00","12:33:00",0,0,0.13333333333333333,0,{"$f":"IF(COUNTIF(K$1:K53,K53)=1,K53,\"\")","v":""},null,"2023-06-06",6.9833333333333325,{"$f":"SUMIF(Handy!A:A,N53,Handy!J:J)","v":0},{"$f":"SUMIF(Handy!A:A,N53,Handy!K:K)","v":0}]
["2023-04-24","Alejandro Castanon Diaz","Nick Advizee - ult pago a 22 abr (sigue 23)","26s",null,"12:33:00","12:34:00",0,0,0,0,{"$f":"IF(COUNTIF(K$1:K54,K54)=1,K54,\"\")","v":""},null,"2023-06-07",11.333333333333336,{"$f":"SUMIF(Handy!A:A,N54,Handy!J:J)","v":0},{"$f":"SUMIF(Handy!A:A,N54,Handy!K:K)","v":0}]
["2023-04-24","Alejandro Castanon Diaz","Pablo Nanofactura - Con IVA o sin IVA premium function global","10m",null,"12:34:00","12:44:00",0,0,0.16666666666666666,0,{"$f":"IF(COUNTIF(K$1:K55,K55)=1,K55,\"\")","v":""},null,"2023-06-08",1.3666666666666667,{"$f":"SUMIF(Handy!A:A,N55,Handy!J:J)","v":0},{"$f":"SUMIF(Handy!A:A,N55,Handy!K:K)","v":0}]
["2023-04-24","Alejandro Castanon Diaz","Pablo Nanofactura - Con IVA o sin IVA premium function global","35m",null,"13:00:00","13:33:00",0,0,0.58333333333333337,0,{"$f":"IF(COUNTIF(K$1:K56,K56)=1,K56,\"\")","v":""},null,"2023-06-09",8.9,{"$f":"SUMIF(Handy!A:A,N56,Handy!J:J)","v":0},{"$f":"SUMIF(Handy!A:A,N56,Handy!K:K)","v":0}]
["2023-04-24","Alejandro Castanon Diaz","Diana Inlat - Rehacer Ingeurbe","48s",null,"15:17:00","15:18:00",0,0,0,1.6666666666666666E-2,{"$f":"IF(COUNTIF(K$1:K57,K57)=1,K57,\"\")","v":""},null,"2023-06-10",0,{"$f":"SUMIF(Handy!A:A,N57,Handy!J:J)","v":0},{"$f":"SUMIF(Handy!A:A,N57,Handy!K:K)","v":0}]
["2023-04-24","Alejandro Castanon Diaz","Pablo Nanofactura - Con IVA o sin IVA premium function global","1h 06m",null,"17:02:00","18:18:00",0,0,1.1000000000000001,0,{"$f":"IF(COUNTIF(K$1:K58,K58)=1,K58,\"\")","v":""},null,"2023-06-11",0.41666666666666669,{"$f":"SUMIF(Handy!A:A,N58,Handy!J:J)","v":27.266666666666669},{"$f":"SUMIF(Handy!A:A,N58,Handy!K:K)","v":2605}]
["2023-04-24","Alejandro Castanon Diaz","Faby - Candywax Depilaciones","04m",null,"18:04:00","18:08:00",0,0,6.6666666666666666E-2,0,{"$f":"IF(COUNTIF(K$1:K59,K59)=1,K59,\"\")","v":""},null,"2023-06-12",4.3666666666666663,{"$f":"SUMIF(Handy!A:A,N59,Handy!J:J)","v":0},{"$f":"SUMIF(Handy!A:A,N59,Handy!K:K)","v":0}]
["2023-04-24","Alejandro Castanon Diaz","Diana Inlat - Rehacer Ingeurbe","1h 29m",null,"18:18:00","19:41:00",0,0,1.4833333333333334,1.6666666666666666E-2,{"$f":"IF(COUNTIF(K$1:K60,K60)=1,K60,\"\")","v":""},null,"2023-06-13",4.0166666666666666,{"$f":"SUMIF(Handy!A:A,N60,Handy!J:J)","v":0},{"$f":"SUMIF(Handy!A:A,N60,Handy!K:K)","v":0}]
["2023-04-24","Alejandro Castanon Diaz","Nick Advizee - ult pago a 22 abr (sigue 23)","19s",null,"18:43:00","18:43:00",0,0,0,0,{"$f":"IF(COUNTIF(K$1:K61,K61)=1,K61,\"\")","v":""},null,"2023-06-14",1.3666666666666667,{"$f":"SUMIF(Handy!A:A,N61,Handy!J:J)","v":0},{"$f":"SUMIF(Handy!A:A,N61,Handy!K:K)","v":0}]
["2023-04-24","Alejandro Castanon Diaz","Pablo Nanofactura - Con IVA o sin IVA premium function global","48m",null,"19:01:00","19:53:00",0,0,0.8,0,{"$f":"IF(COUNTIF(K$1:K62,K62)=1,K62,\"\")","v":""},null,"2023-06-15",7.6666666666666661,{"$f":"SUMIF(Handy!A:A,N62,Handy!J:J)","v":0},{"$f":"SUMIF(Handy!A:A,N62,Handy!K:K)","v":0}]
["2023-04-24","Alejandro Castanon Diaz","Diana Inlat - Rehacer Ingeurbe","37m",null,"20:01:00","21:07:00",0,0,0.6166666666666667,1.6666666666666666E-2,{"$f":"IF(COUNTIF(K$1:K63,K63)=1,K63,\"\")","v":""},null,"2023-06-16",3.7666666666666666,{"$f":"SUMIF(Handy!A:A,N63,Handy!J:J)","v":0},{"$f":"SUMIF(Handy!A:A,N63,Handy!K:K)","v":0}]
["2023-04-24","Alejandro Castanon Diaz","Pablo Nanofactura - Con IVA o sin IVA premium function global","18m",null,"20:58:00","21:17:00",0,0,0.3,0,{"$f":"IF(COUNTIF(K$1:K64,K64)=1,K64,\"\")","v":""},null,"2023-06-17",0.26666666666666666,{"$f":"SUMIF(Handy!A:A,N64,Handy!J:J)","v":0},{"$f":"SUMIF(Handy!A:A,N64,Handy!K:K)","v":0}]
["2023-04-24","Alejandro Castanon Diaz","Faby - Candywax Depilaciones","21s",null,"21:16:00","21:16:00",0,0,0,0,{"$f":"IF(COUNTIF(K$1:K65,K65)=1,K65,\"\")","v":""},null,"2023-06-18",0,{"$f":"SUMIF(Handy!A:A,N65,Handy!J:J)","v":25.400000000000002},{"$f":"SUMIF(Handy!A:A,N65,Handy!K:K)","v":1429}]
["2023-04-24","Alejandro Castanon Diaz","Diana Inlat - Rehacer Ingeurbe","1h 42m",null,"21:16:00","23:12:00",0,0,1.7,{"$f":"SUMIFS(J:J,C:C,C66,A:A,\">\"&$S$4)","v":1.6666666666666666E-2},{"$f":"IF(COUNTIF(K$1:K66,K66)=1,K66,\"\")","v":""},null,"2023-06-19",4.9666666666666668,{"$f":"SUMIF(Handy!A:A,N66,Handy!J:J)","v":0},{"$f":"SUMIF(Handy!A:A,N66,Handy!K:K)","v":0}]
["2023-04-24","Alejandro Castanon Diaz","Pablo Nanofactura - Con IVA o sin IVA premium function global","11s",null,"21:38:00","21:38:00",0,0,{"$f":"IF(D67=\"\",\"\",IF(ISERROR(FIND(\"s\",D67)),IF(ISERROR(FIND(\"h \",D67)),LEFT(D67,2)/60,   LEFT(D67,FIND(\"h \",D67)-1 )+LEFT(RIGHT(D67,3),2)/60   ),0))","v":0},0,{"$f":"IF(COUNTIF(K$1:K67,K67)=1,K67,\"\")","v":""},null,"2023-06-20",{"$f":"SUMIF(A:A,N67,J:J)","v":2.6166666666666667},{"$f":"SUMIF(Handy!A:A,N67,Handy!J:J)","v":0},{"$f":"SUMIF(Handy!A:A,N67,Handy!K:K)","v":0}]
["2023-04-24","Alejandro Castanon Diaz","Pablo Nanofactura - Con IVA o sin IVA premium function global","25s",null,"22:06:00","22:07:00",0,0,0,0,{"$f":"IF(COUNTIF(K$1:K68,K68)=1,K68,\"\")","v":""},null,{"$f":"IF(N67+1>TODAY(),NA(),N67+1)","v":"2023-06-21"},5.833333333333333,{"$f":"SUMIF(Handy!A:A,N68,Handy!J:J)","v":0},{"$f":"SUMIF(Handy!A:A,N68,Handy!K:K)","v":0}]
["2023-04-24","Alejandro Castanon Diaz","Pablo Nanofactura - Con IVA o sin IVA premium function global","0s",null,"23:08:00","23:08:00",0,0,0,0,{"$f":"IF(COUNTIF(K$1:K69,K69)=1,K69,\"\")","v":""},null,"2023-06-22",2.2333333333333329,{"$f":"SUMIF(Handy!A:A,N69,Handy!J:J)","v":0},{"$f":"SUMIF(Handy!A:A,N69,Handy!K:K)","v":0}]
["2023-04-24","Alejandro Castanon Diaz","Pablo Nanofactura - Con IVA o sin IVA premium function global","10m",null,"23:20:00","23:30:00",0,0,0.16666666666666666,0,{"$f":"IF(COUNTIF(K$1:K70,K70)=1,K70,\"\")","v":""},null,"2023-06-23",1.9166666666666665,{"$f":"SUMIF(Handy!A:A,N70,Handy!J:J)","v":0},{"$f":"SUMIF(Handy!A:A,N70,Handy!K:K)","v":0}]
["2023-04-24","Alejandro Castanon Diaz","Ricardo Freelancer - Accounting","07m",null,"23:52:00","23:59:00",0,0,0.11666666666666667,0,{"$f":"IF(COUNTIF(K$1:K71,K71)=1,K71,\"\")","v":""},null,"2023-06-24",1.9333333333333336,{"$f":"SUMIF(Handy!A:A,N71,Handy!J:J)","v":0},{"$f":"SUMIF(Handy!A:A,N71,Handy!K:K)","v":0}]
["2023-04-25","Alejandro Castanon Diaz","Ricardo Freelancer - Accounting","55m",null,"00:00:00","00:58:00",0,0,0.91666666666666663,0,{"$f":"IF(COUNTIF(K$1:K72,K72)=1,K72,\"\")","v":""},null,"2023-06-25",2.5333333333333332,{"$f":"SUMIF(Handy!A:A,N72,Handy!J:J)","v":23.2},{"$f":"SUMIF(Handy!A:A,N72,Handy!K:K)","v":1659}]
["2023-04-25","Alejandro Castanon Diaz","Ricardo Freelancer - Accounting","1h 01m",null,"00:58:00","01:59:00",0,0,1.0166666666666666,0,{"$f":"IF(COUNTIF(K$1:K73,K73)=1,K73,\"\")","v":""},null,"2023-06-26",4.3166666666666664,{"$f":"SUMIF(Handy!A:A,N73,Handy!J:J)","v":0},{"$f":"SUMIF(Handy!A:A,N73,Handy!K:K)","v":0}]
["2023-04-25","Alejandro Castanon Diaz","Ricardo Freelancer - Accounting","3h 19m",null,"02:02:00","05:22:00",0,0,3.3166666666666664,0,{"$f":"IF(COUNTIF(K$1:K74,K74)=1,K74,\"\")","v":""},null,"2023-06-27",7.1666666666666661,{"$f":"SUMIF(Handy!A:A,N74,Handy!J:J)","v":0},{"$f":"SUMIF(Handy!A:A,N74,Handy!K:K)","v":0}]
["2023-04-25","Alejandro Castanon Diaz","Ricardo Freelancer - Accounting","2h 20m",null,"12:04:00","14:27:00",0,0,2.3333333333333335,0,{"$f":"IF(COUNTIF(K$1:K75,K75)=1,K75,\"\")","v":""},null,"2023-06-28",0.6166666666666667,{"$f":"SUMIF(Handy!A:A,N75,Handy!J:J)","v":0},{"$f":"SUMIF(Handy!A:A,N75,Handy!K:K)","v":0}]
["2023-04-25","Alejandro Castanon Diaz","Pablo Nanofactura - Con IVA o sin IVA premium function global","2s",null,"14:03:00","14:03:00",0,0,0,0,{"$f":"IF(COUNTIF(K$1:K76,K76)=1,K76,\"\")","v":""},null,"2023-06-29",10,{"$f":"SUMIF(Handy!A:A,N76,Handy!J:J)","v":0},{"$f":"SUMIF(Handy!A:A,N76,Handy!K:K)","v":0}]
["2023-04-25","Alejandro Castanon Diaz","Pablo Nanofactura - Nuevo Diseño y nueva API","02m",null,"14:06:00","14:09:00",0,0,3.3333333333333333E-2,0,{"$f":"IF(COUNTIF(K$1:K77,K77)=1,K77,\"\")","v":""},null,"2023-06-30",7.8666666666666654,{"$f":"SUMIF(Handy!A:A,N77,Handy!J:J)","v":0},{"$f":"SUMIF(Handy!A:A,N77,Handy!K:K)","v":0}]
["2023-04-25","Alejandro Castanon Diaz","Diana Inlat - ecomm + blog estilo figurella","24s",null,"14:26:00","14:26:00",0,0,0,0,{"$f":"IF(COUNTIF(K$1:K78,K78)=1,K78,\"\")","v":""},null,"2023-07-01",2.75,{"$f":"SUMIF(Handy!A:A,N78,Handy!J:J)","v":0},{"$f":"SUMIF(Handy!A:A,N78,Handy!K:K)","v":0}]
["2023-04-25","Alejandro Castanon Diaz","Viv Freelancer - Ecommerce Wordle","05m",null,"14:27:00","14:32:00",0,0,8.3333333333333329E-2,0,{"$f":"IF(COUNTIF(K$1:K79,K79)=1,K79,\"\")","v":""},null,"2023-07-02",1.7666666666666666,{"$f":"SUMIF(Handy!A:A,N79,Handy!J:J)","v":27.18333333333333},{"$f":"SUMIF(Handy!A:A,N79,Handy!K:K)","v":2047}]
["2023-04-25","Alejandro Castanon Diaz","Diana Inlat - Rehacer Ingeurbe","05m",null,"14:57:00","15:03:00",0,0,8.3333333333333329E-2,1.6666666666666666E-2,{"$f":"IF(COUNTIF(K$1:K80,K80)=1,K80,\"\")","v":""},null,"2023-07-03",0,{"$f":"SUMIF(Handy!A:A,N80,Handy!J:J)","v":0},{"$f":"SUMIF(Handy!A:A,N80,Handy!K:K)","v":0}]
["2023-04-25","Alejandro Castanon Diaz","Ricardo Freelancer - Accounting","48m",null,"17:09:00","17:58:00",0,0,0.8,0,{"$f":"IF(COUNTIF(K$1:K81,K81)=1,K81,\"\")","v":""},null,"2023-07-04",1.9333333333333333,{"$f":"SUMIF(Handy!A:A,N81,Handy!J:J)","v":0},{"$f":"SUMIF(Handy!A:A,N81,Handy!K:K)","v":0}]
["2023-04-25","Alejandro Castanon Diaz","Diana Inlat - Rehacer Ingeurbe","07m",null,"20:45:00","20:53:00",0,0,0.11666666666666667,1.6666666666666666E-2,{"$f":"IF(COUNTIF(K$1:K82,K82)=1,K82,\"\")","v":""},null,"2023-07-05",3.4833333333333334,{"$f":"SUMIF(Handy!A:A,N82,Handy!J:J)","v":0},{"$f":"SUMIF(Handy!A:A,N82,Handy!K:K)","v":0}]
["2023-04-26","Alejandro Castanon Diaz","Nick Advizee - ult pago a 22 abr (sigue 23)","04m",null,"06:34:00","06:38:00",0,0,6.6666666666666666E-2,0,{"$f":"IF(COUNTIF(K$1:K83,K83)=1,K83,\"\")","v":""},null,"2023-07-06",2.333333333333333,{"$f":"SUMIF(Handy!A:A,N83,Handy!J:J)","v":0},{"$f":"SUMIF(Handy!A:A,N83,Handy!K:K)","v":0}]
["2023-04-26","Alejandro Castanon Diaz","Diana Inlat - Rehacer Ingeurbe","1h 32m",null,"06:38:00","08:28:00",0,0,1.5333333333333332,1.6666666666666666E-2,{"$f":"IF(COUNTIF(K$1:K84,K84)=1,K84,\"\")","v":""},null,"2023-07-07",4.6333333333333337,{"$f":"SUMIF(Handy!A:A,N84,Handy!J:J)","v":0},{"$f":"SUMIF(Handy!A:A,N84,Handy!K:K)","v":0}]
["2023-04-26","Alejandro Castanon Diaz","Faby - PMI Ame Sitio multilang","09m",null,"07:31:00","07:42:00",0,0,0.15,0,{"$f":"IF(COUNTIF(K$1:K85,K85)=1,K85,\"\")","v":""},null,"2023-07-08",0.91666666666666674,{"$f":"SUMIF(Handy!A:A,N85,Handy!J:J)","v":0},{"$f":"SUMIF(Handy!A:A,N85,Handy!K:K)","v":0}]
["2023-04-26","Alejandro Castanon Diaz","Ricardo Freelancer - Accounting","07m",null,"08:42:00","08:49:00",0,0,0.11666666666666667,0,{"$f":"IF(COUNTIF(K$1:K86,K86)=1,K86,\"\")","v":""},null,"2023-07-09",0,{"$f":"SUMIF(Handy!A:A,N86,Handy!J:J)","v":15.6},{"$f":"SUMIF(Handy!A:A,N86,Handy!K:K)","v":1358}]
["2023-04-26","Alejandro Castanon Diaz","Faby - PMI Ame Sitio multilang","7s",null,"08:55:00","08:55:00",0,0,0,0,{"$f":"IF(COUNTIF(K$1:K87,K87)=1,K87,\"\")","v":""},null,"2023-07-10",8.0166666666666657,{"$f":"SUMIF(Handy!A:A,N87,Handy!J:J)","v":0},{"$f":"SUMIF(Handy!A:A,N87,Handy!K:K)","v":0}]
["2023-04-26","Alejandro Castanon Diaz","Ricardo Freelancer - Accounting","1h 15m",null,"10:05:00","11:21:00",0,0,1.25,0,{"$f":"IF(COUNTIF(K$1:K88,K88)=1,K88,\"\")","v":""},null,"2023-07-11",4.5333333333333341,{"$f":"SUMIF(Handy!A:A,N88,Handy!J:J)","v":0},{"$f":"SUMIF(Handy!A:A,N88,Handy!K:K)","v":0}]
["2023-04-26","Alejandro Castanon Diaz","Diana Inlat - Rehacer Ingeurbe","02m",null,"12:48:00","12:51:00",0,0,3.3333333333333333E-2,1.6666666666666666E-2,{"$f":"IF(COUNTIF(K$1:K89,K89)=1,K89,\"\")","v":""},null,"2023-07-12",4.5833333333333339,{"$f":"SUMIF(Handy!A:A,N89,Handy!J:J)","v":0},{"$f":"SUMIF(Handy!A:A,N89,Handy!K:K)","v":0}]
["2023-04-26","Alejandro Castanon Diaz","Ricardo Freelancer - Accounting","37m",null,"12:51:00","13:30:00",0,0,0.6166666666666667,0,{"$f":"IF(COUNTIF(K$1:K90,K90)=1,K90,\"\")","v":""},null,"2023-07-13",4.5166666666666666,{"$f":"SUMIF(Handy!A:A,N90,Handy!J:J)","v":0},{"$f":"SUMIF(Handy!A:A,N90,Handy!K:K)","v":0}]
["2023-04-26","Alejandro Castanon Diaz","Faby - PMI Ame Sitio multilang","10m",null,"13:58:00","14:08:00",0,0,0.16666666666666666,0,{"$f":"IF(COUNTIF(K$1:K91,K91)=1,K91,\"\")","v":""},null,"2023-07-14",5.2833333333333332,{"$f":"SUMIF(Handy!A:A,N91,Handy!J:J)","v":0},{"$f":"SUMIF(Handy!A:A,N91,Handy!K:K)","v":0}]
["2023-04-26","Alejandro Castanon Diaz","Ricardo Freelancer - Accounting","26m",null,"14:37:00","15:04:00",0,0,0.43333333333333335,0,{"$f":"IF(COUNTIF(K$1:K92,K92)=1,K92,\"\")","v":""},null,"2023-07-15",0,{"$f":"SUMIF(Handy!A:A,N92,Handy!J:J)","v":0},{"$f":"SUMIF(Handy!A:A,N92,Handy!K:K)","v":0}]
["2023-04-26","Alejandro Castanon Diaz","Pablo Nanofactura - Con IVA o sin IVA premium function global","22m",null,"15:06:00","15:28:00",0,0,0.36666666666666664,0,{"$f":"IF(COUNTIF(K$1:K93,K93)=1,K93,\"\")","v":""},null,"2023-07-16",0,{"$f":"SUMIF(Handy!A:A,N93,Handy!J:J)","v":19.033333333333335},{"$f":"SUMIF(Handy!A:A,N93,Handy!K:K)","v":1235}]
["2023-04-26","Alejandro Castanon Diaz","Ricardo Freelancer - Accounting","53m",null,"15:28:00","16:17:00",0,0,0.8833333333333333,0,{"$f":"IF(COUNTIF(K$1:K94,K94)=1,K94,\"\")","v":""},null,"2023-07-17",0.63333333333333341,{"$f":"SUMIF(Handy!A:A,N94,Handy!J:J)","v":0},{"$f":"SUMIF(Handy!A:A,N94,Handy!K:K)","v":0}]
["2023-04-26","Alejandro Castanon Diaz","Nick Advizee - ult pago a 22 abr (sigue 23)","6s",null,"15:36:00","15:36:00",0,0,0,0,{"$f":"IF(COUNTIF(K$1:K95,K95)=1,K95,\"\")","v":""},null,"2023-07-18",7.7,{"$f":"SUMIF(Handy!A:A,N95,Handy!J:J)","v":0},{"$f":"SUMIF(Handy!A:A,N95,Handy!K:K)","v":0}]
["2023-04-26","Alejandro Castanon Diaz","Diana Inlat - Rehacer Ingeurbe","01m",null,"16:01:00","16:02:00",0,0,1.6666666666666666E-2,1.6666666666666666E-2,{"$f":"IF(COUNTIF(K$1:K96,K96)=1,K96,\"\")","v":""},null,"2023-07-19",1.6166666666666667,{"$f":"SUMIF(Handy!A:A,N96,Handy!J:J)","v":0},{"$f":"SUMIF(Handy!A:A,N96,Handy!K:K)","v":0}]
["2023-04-26","Alejandro Castanon Diaz","Faby - PMI Ame Sitio multilang","02m",null,"16:17:00","16:19:00",0,0,3.3333333333333333E-2,0,{"$f":"IF(COUNTIF(K$1:K97,K97)=1,K97,\"\")","v":""},null,"2023-07-20",1.1499999999999999,{"$f":"SUMIF(Handy!A:A,N97,Handy!J:J)","v":0},{"$f":"SUMIF(Handy!A:A,N97,Handy!K:K)","v":0}]
["2023-04-26","Alejandro Castanon Diaz","Ricardo Freelancer - Accounting","01m",null,"18:00:00","18:01:00",0,0,1.6666666666666666E-2,0,{"$f":"IF(COUNTIF(K$1:K98,K98)=1,K98,\"\")","v":""},null,"2023-07-21",5.0666666666666664,{"$f":"SUMIF(Handy!A:A,N98,Handy!J:J)","v":0},{"$f":"SUMIF(Handy!A:A,N98,Handy!K:K)","v":0}]
["2023-04-26","Alejandro Castanon Diaz","Diana Inlat - Rehacer Ingeurbe","29s",null,"18:00:00","18:01:00",0,0,0,1.6666666666666666E-2,{"$f":"IF(COUNTIF(K$1:K99,K99)=1,K99,\"\")","v":""},null,"2023-07-22",0,{"$f":"SUMIF(Handy!A:A,N99,Handy!J:J)","v":0},{"$f":"SUMIF(Handy!A:A,N99,Handy!K:K)","v":0}]
["2023-04-26","Alejandro Castanon Diaz","Miguel Bullkens - B2B Nuevo Exchange","05m",null,"18:01:00","18:07:00",0,0,8.3333333333333329E-2,0,{"$f":"IF(COUNTIF(K$1:K100,K100)=1,K100,\"\")","v":""},null,"2023-07-23",0.13333333333333333,{"$f":"SUMIF(Handy!A:A,N100,Handy!J:J)","v":21.533333333333331},{"$f":"SUMIF(Handy!A:A,N100,Handy!K:K)","v":1372}]
["2023-04-26","Alejandro Castanon Diaz","Ricardo Freelancer - Accounting","10m",null,"18:57:00","19:08:00",0,0,0.16666666666666666,0,{"$f":"IF(COUNTIF(K$1:K101,K101)=1,K101,\"\")","v":""},null,"2023-07-24",4.0833333333333339,{"$f":"SUMIF(Handy!A:A,N101,Handy!J:J)","v":0},{"$f":"SUMIF(Handy!A:A,N101,Handy!K:K)","v":0}]
["2023-04-27","Alejandro Castanon Diaz","Ricardo Freelancer - Accounting","27m",null,"05:23:00","05:51:00",0,0,0.45,0,{"$f":"IF(COUNTIF(K$1:K102,K102)=1,K102,\"\")","v":""},null,"2023-07-25",7.6833333333333318,{"$f":"SUMIF(Handy!A:A,N102,Handy!J:J)","v":0},{"$f":"SUMIF(Handy!A:A,N102,Handy!K:K)","v":0}]
["2023-04-27","Alejandro Castanon Diaz","Ricardo Freelancer - Accounting","17m",null,"06:15:00","06:33:00",0,0,0.28333333333333333,0,{"$f":"IF(COUNTIF(K$1:K103,K103)=1,K103,\"\")","v":""},null,"2023-07-26",10.25,{"$f":"SUMIF(Handy!A:A,N103,Handy!J:J)","v":0},{"$f":"SUMIF(Handy!A:A,N103,Handy!K:K)","v":0}]
["2023-04-27","Alejandro Castanon Diaz","Miguel Bullkens - B2B Nuevo Exchange","04m",null,"06:23:00","06:28:00",0,0,6.6666666666666666E-2,0,{"$f":"IF(COUNTIF(K$1:K104,K104)=1,K104,\"\")","v":""},null,"2023-07-27",10.183333333333335,{"$f":"SUMIF(Handy!A:A,N104,Handy!J:J)","v":0},{"$f":"SUMIF(Handy!A:A,N104,Handy!K:K)","v":0}]
["2023-04-27","Alejandro Castanon Diaz","Miguel Bullkens - B2B Nuevo Exchange","58s",null,"07:50:00","07:51:00",0,0,0,0,{"$f":"IF(COUNTIF(K$1:K105,K105)=1,K105,\"\")","v":""},null,"2023-07-28",7.1999999999999993,{"$f":"SUMIF(Handy!A:A,N105,Handy!J:J)","v":0},{"$f":"SUMIF(Handy!A:A,N105,Handy!K:K)","v":0}]
["2023-04-27","Alejandro Castanon Diaz","Nick Advizee - ult pago a 22 abr (sigue 23)","01m",null,"07:51:00","07:53:00",0,0,1.6666666666666666E-2,0,{"$f":"IF(COUNTIF(K$1:K106,K106)=1,K106,\"\")","v":""},null,"2023-07-29",0.33333333333333331,{"$f":"SUMIF(Handy!A:A,N106,Handy!J:J)","v":0},{"$f":"SUMIF(Handy!A:A,N106,Handy!K:K)","v":0}]
["2023-04-27","Alejandro Castanon Diaz","Nick Advizee - ult pago a 22 abr (sigue 23)","05m",null,"08:26:00","08:31:00",0,0,8.3333333333333329E-2,0,{"$f":"IF(COUNTIF(K$1:K107,K107)=1,K107,\"\")","v":""},null,"2023-07-30",0.68333333333333335,{"$f":"SUMIF(Handy!A:A,N107,Handy!J:J)","v":14.083333333333332},{"$f":"SUMIF(Handy!A:A,N107,Handy!K:K)","v":1143}]
["2023-04-27","Alejandro Castanon Diaz","Nick Advizee - ult pago a 22 abr (sigue 23)","09m",null,"08:50:00","08:59:00",0,0,0.15,0,{"$f":"IF(COUNTIF(K$1:K108,K108)=1,K108,\"\")","v":""},null,"2023-07-31",7.4166666666666661,{"$f":"SUMIF(Handy!A:A,N108,Handy!J:J)","v":0},{"$f":"SUMIF(Handy!A:A,N108,Handy!K:K)","v":0}]
["2023-04-27","Alejandro Castanon Diaz","Ricardo Freelancer - Accounting","08m",null,"12:50:00","13:09:00",0,0,0.13333333333333333,0,{"$f":"IF(COUNTIF(K$1:K109,K109)=1,K109,\"\")","v":""},null,"2023-08-01",6.0500000000000007,{"$f":"SUMIF(Handy!A:A,N109,Handy!J:J)","v":0},{"$f":"SUMIF(Handy!A:A,N109,Handy!K:K)","v":0}]
["2023-04-27","Alejandro Castanon Diaz","Nick Advizee - ult pago a 22 abr (sigue 23)","35m",null,"12:50:00","13:47:00",0,0,0.58333333333333337,0,{"$f":"IF(COUNTIF(K$1:K110,K110)=1,K110,\"\")","v":""},null,"2023-08-02",5.9499999999999993,{"$f":"SUMIF(Handy!A:A,N110,Handy!J:J)","v":0},{"$f":"SUMIF(Handy!A:A,N110,Handy!K:K)","v":0}]
["2023-04-27","Alejandro Castanon Diaz","Ricardo Freelancer - Accounting","07m",null,"13:22:00","13:32:00",0,0,0.11666666666666667,0,{"$f":"IF(COUNTIF(K$1:K111,K111)=1,K111,\"\")","v":""},null,"2023-08-03",11.56666666666667,{"$f":"SUMIF(Handy!A:A,N111,Handy!J:J)","v":0},{"$f":"SUMIF(Handy!A:A,N111,Handy!K:K)","v":0}]
["2023-04-27","Alejandro Castanon Diaz","Nick Advizee - ult pago a 22 abr (sigue 23)","11s",null,"15:11:00","15:12:00",0,0,0,0,{"$f":"IF(COUNTIF(K$1:K112,K112)=1,K112,\"\")","v":""},null,"2023-08-04",7.5499999999999989,{"$f":"SUMIF(Handy!A:A,N112,Handy!J:J)","v":0},{"$f":"SUMIF(Handy!A:A,N112,Handy!K:K)","v":0}]
["2023-04-27","Alejandro Castanon Diaz","Ricardo Freelancer - Accounting","1h 30m",null,"15:11:00","16:42:00",0,0,1.5,0,{"$f":"IF(COUNTIF(K$1:K113,K113)=1,K113,\"\")","v":""},null,"2023-08-05",5.0999999999999996,{"$f":"SUMIF(Handy!A:A,N113,Handy!J:J)","v":0},{"$f":"SUMIF(Handy!A:A,N113,Handy!K:K)","v":0}]
["2023-04-28","Alejandro Castanon Diaz","Nick Advizee - ult pago a 22 abr (sigue 23)","22m",null,"05:57:00","06:20:00",0,0,0.36666666666666664,0,{"$f":"IF(COUNTIF(K$1:K114,K114)=1,K114,\"\")","v":""},null,"2023-08-06",0,{"$f":"SUMIF(Handy!A:A,N114,Handy!J:J)","v":13.749999999999998},{"$f":"SUMIF(Handy!A:A,N114,Handy!K:K)","v":826}]
["2023-04-28","Alejandro Castanon Diaz","Ricardo Freelancer - Accounting","23m",null,"06:20:00","06:44:00",0,0,0.38333333333333336,0,{"$f":"IF(COUNTIF(K$1:K115,K115)=1,K115,\"\")","v":""},null,"2023-08-07",7.7,{"$f":"SUMIF(Handy!A:A,N115,Handy!J:J)","v":0},{"$f":"SUMIF(Handy!A:A,N115,Handy!K:K)","v":0}]
["2023-04-28","Alejandro Castanon Diaz","Diana Inlat - Rehacer Ingeurbe","1h 02m",null,"06:38:00","07:46:00",0,0,1.0333333333333334,1.6666666666666666E-2,{"$f":"IF(COUNTIF(K$1:K116,K116)=1,K116,\"\")","v":""},null,"2023-08-08",5.1833333333333327,{"$f":"SUMIF(Handy!A:A,N116,Handy!J:J)","v":0},{"$f":"SUMIF(Handy!A:A,N116,Handy!K:K)","v":0}]
["2023-04-28","Alejandro Castanon Diaz","Ricardo Freelancer - Accounting","15m",null,"10:09:00","10:31:00",0,0,0.25,0,{"$f":"IF(COUNTIF(K$1:K117,K117)=1,K117,\"\")","v":""},null,"2023-08-09",8.5500000000000007,{"$f":"SUMIF(Handy!A:A,N117,Handy!J:J)","v":0},{"$f":"SUMIF(Handy!A:A,N117,Handy!K:K)","v":0}]
["2023-04-28","Alejandro Castanon Diaz","Nick Advizee - ult pago a 22 abr (sigue 23)","1h 42m",null,"10:21:00","12:08:00",0,0,1.7,0,{"$f":"IF(COUNTIF(K$1:K118,K118)=1,K118,\"\")","v":""},null,"2023-08-10",2.1499999999999995,{"$f":"SUMIF(Handy!A:A,N118,Handy!J:J)","v":0},{"$f":"SUMIF(Handy!A:A,N118,Handy!K:K)","v":0}]
["2023-04-28","Alejandro Castanon Diaz","Ricardo Freelancer - Accounting","8s",null,"10:43:00","10:43:00",0,0,0,0,{"$f":"IF(COUNTIF(K$1:K119,K119)=1,K119,\"\")","v":""},null,"2023-08-11",1.55,{"$f":"SUMIF(Handy!A:A,N119,Handy!J:J)","v":0},{"$f":"SUMIF(Handy!A:A,N119,Handy!K:K)","v":0}]
["2023-04-28","Alejandro Castanon Diaz","Ricardo Freelancer - Accounting","42m",null,"12:08:00","12:53:00",0,0,0.7,0,{"$f":"IF(COUNTIF(K$1:K120,K120)=1,K120,\"\")","v":""},null,"2023-08-12",0,{"$f":"SUMIF(Handy!A:A,N120,Handy!J:J)","v":0},{"$f":"SUMIF(Handy!A:A,N120,Handy!K:K)","v":0}]
["2023-04-28","Alejandro Castanon Diaz","Pablo Nanofactura - Con IVA o sin IVA premium function global","03m",null,"12:14:00","12:17:00",0,0,0.05,0,{"$f":"IF(COUNTIF(K$1:K121,K121)=1,K121,\"\")","v":""},null,"2023-08-13",0,{"$f":"SUMIF(Handy!A:A,N121,Handy!J:J)","v":21.833333333333336},{"$f":"SUMIF(Handy!A:A,N121,Handy!K:K)","v":1267}]
["2023-04-28","Alejandro Castanon Diaz","Diana Inlat - Rehacer Ingeurbe","53m",null,"12:53:00","13:47:00",0,0,0.8833333333333333,1.6666666666666666E-2,{"$f":"IF(COUNTIF(K$1:K122,K122)=1,K122,\"\")","v":""},null,"2023-08-14",7.1666666666666643,{"$f":"SUMIF(Handy!A:A,N122,Handy!J:J)","v":0},{"$f":"SUMIF(Handy!A:A,N122,Handy!K:K)","v":0}]
["2023-04-28","Alejandro Castanon Diaz","Diana Inlat - Rehacer Ingeurbe","01m",null,"18:00:00","18:02:00",0,0,1.6666666666666666E-2,1.6666666666666666E-2,{"$f":"IF(COUNTIF(K$1:K123,K123)=1,K123,\"\")","v":""},null,"2023-08-15",4.1500000000000004,{"$f":"SUMIF(Handy!A:A,N123,Handy!J:J)","v":0},{"$f":"SUMIF(Handy!A:A,N123,Handy!K:K)","v":0}]
["2023-04-28","Alejandro Castanon Diaz","Nick Advizee - ult pago a 22 abr (sigue 23)","42m",null,"18:01:00","18:54:00",0,0,0.7,0,{"$f":"IF(COUNTIF(K$1:K124,K124)=1,K124,\"\")","v":""},null,"2023-08-16",1.3499999999999999,{"$f":"SUMIF(Handy!A:A,N124,Handy!J:J)","v":0},{"$f":"SUMIF(Handy!A:A,N124,Handy!K:K)","v":0}]
["2023-04-29","Alejandro Castanon Diaz","Nick Advizee - ult pago a 22 abr (sigue 23)","24m",null,"03:27:00","03:52:00",0,0,0.4,0,{"$f":"IF(COUNTIF(K$1:K125,K125)=1,K125,\"\")","v":""},null,"2023-08-17",4.5333333333333323,{"$f":"SUMIF(Handy!A:A,N125,Handy!J:J)","v":0},{"$f":"SUMIF(Handy!A:A,N125,Handy!K:K)","v":0}]
["2023-04-29","Alejandro Castanon Diaz","Nick Advizee - ult pago a 22 abr (sigue 23)","47m",null,"10:05:00","10:52:00",0,0,0.78333333333333333,0,{"$f":"IF(COUNTIF(K$1:K126,K126)=1,K126,\"\")","v":""},null,"2023-08-18",7.9999999999999991,{"$f":"SUMIF(Handy!A:A,N126,Handy!J:J)","v":0},{"$f":"SUMIF(Handy!A:A,N126,Handy!K:K)","v":0}]
["2023-04-30","Alejandro Castanon Diaz","Nick Advizee - ult pago a 22 abr (sigue 23)","06m",null,"04:56:00","05:02:00",0,0,0.1,0,{"$f":"IF(COUNTIF(K$1:K127,K127)=1,K127,\"\")","v":""},null,"2023-08-19",12.91666666666667,{"$f":"SUMIF(Handy!A:A,N127,Handy!J:J)","v":0},{"$f":"SUMIF(Handy!A:A,N127,Handy!K:K)","v":0}]
["2023-04-30","Alejandro Castanon Diaz","Nick Advizee - ult pago a 22 abr (sigue 23)","12m",null,"05:35:00","05:48:00",0,0,0.2,0,{"$f":"IF(COUNTIF(K$1:K128,K128)=1,K128,\"\")","v":""},null,"2023-08-20",2.1166666666666667,{"$f":"SUMIF(Handy!A:A,N128,Handy!J:J)","v":16.7},{"$f":"SUMIF(Handy!A:A,N128,Handy!K:K)","v":1206}]
["2023-04-30","Alejandro Castanon Diaz","Nick Advizee - ult pago a 22 abr (sigue 23)","10m",null,"11:12:00","11:23:00",0,0,0.16666666666666666,0,{"$f":"IF(COUNTIF(K$1:K129,K129)=1,K129,\"\")","v":""},null,"2023-08-21",9.1333333333333311,{"$f":"SUMIF(Handy!A:A,N129,Handy!J:J)","v":0},{"$f":"SUMIF(Handy!A:A,N129,Handy!K:K)","v":0}]
["2023-04-30","Alejandro Castanon Diaz","Nick Advizee - ult pago a 22 abr (sigue 23)","01m",null,"17:30:00","17:32:00",0,0,1.6666666666666666E-2,{"$f":"SUMIFS(J:J,C:C,C130,A:A,\">\"&$S$4)","v":0},{"$f":"IF(COUNTIF(K$1:K130,K130)=1,K130,\"\")","v":""},null,"2023-08-22",4.2833333333333332,{"$f":"SUMIF(Handy!A:A,N130,Handy!J:J)","v":0},{"$f":"SUMIF(Handy!A:A,N130,Handy!K:K)","v":0}]
["2023-04-30","Alejandro Castanon Diaz","Viv Freelancer - Ecommerce Wordle","51m",null,"17:32:00","18:23:00",0,0,{"$f":"IF(D131=\"\",\"\",IF(ISERROR(FIND(\"s\",D131)),IF(ISERROR(FIND(\"h \",D131)),LEFT(D131,2)/60,   LEFT(D131,FIND(\"h \",D131)-1 )+LEFT(RIGHT(D131,3),2)/60   ),0))","v":0.85},0,{"$f":"IF(COUNTIF(K$1:K131,K131)=1,K131,\"\")","v":""},null,"2023-08-23",{"$f":"SUMIF(A:A,N131,J:J)","v":10.166666666666666},{"$f":"SUMIF(Handy!A:A,N131,Handy!J:J)","v":0},{"$f":"SUMIF(Handy!A:A,N131,Handy!K:K)","v":0}]
["2023-05-01","Alejandro Castanon Diaz","Ricardo Freelancer - Accounting","19m",null,"02:41:00","03:01:00",0,0,0.31666666666666665,0,{"$f":"IF(COUNTIF(K$1:K132,K132)=1,K132,\"\")","v":""},null,{"$f":"IF(N131+1>TODAY(),NA(),N131+1)","v":"2023-08-24"},6.8166666666666664,{"$f":"SUMIF(Handy!A:A,N132,Handy!J:J)","v":0},{"$f":"SUMIF(Handy!A:A,N132,Handy!K:K)","v":0}]
["2023-05-01","Alejandro Castanon Diaz","Nick Advizee - ult pago a 22 abr (sigue 23)","50s",null,"15:22:00","15:22:00",0,0,0,0,{"$f":"IF(COUNTIF(K$1:K133,K133)=1,K133,\"\")","v":""},null,"2023-08-25",1.95,{"$f":"SUMIF(Handy!A:A,N133,Handy!J:J)","v":0},{"$f":"SUMIF(Handy!A:A,N133,Handy!K:K)","v":0}]
["2023-05-01","Alejandro Castanon Diaz","Ricardo Freelancer - Accounting","07m",null,"15:22:00","15:30:00",0,0,0.11666666666666667,0,{"$f":"IF(COUNTIF(K$1:K134,K134)=1,K134,\"\")","v":""},null,"2023-08-26",1.0666666666666667,{"$f":"SUMIF(Handy!A:A,N134,Handy!J:J)","v":0},{"$f":"SUMIF(Handy!A:A,N134,Handy!K:K)","v":0}]
["2023-05-01","Alejandro Castanon Diaz","Ricardo Freelancer - Accounting","42m",null,"17:36:00","18:19:00",0,0,0.7,0,{"$f":"IF(COUNTIF(K$1:K135,K135)=1,K135,\"\")","v":""},null,"2023-08-27",0,{"$f":"SUMIF(Handy!A:A,N135,Handy!J:J)","v":23.55},{"$f":"SUMIF(Handy!A:A,N135,Handy!K:K)","v":1841}]
["2023-05-01","Alejandro Castanon Diaz","Ricardo Freelancer - Accounting","39m",null,"19:20:00","19:59:00",0,0,0.65,0,{"$f":"IF(COUNTIF(K$1:K136,K136)=1,K136,\"\")","v":""},null,"2023-08-28",6.5666666666666655,{"$f":"SUMIF(Handy!A:A,N136,Handy!J:J)","v":0},{"$f":"SUMIF(Handy!A:A,N136,Handy!K:K)","v":0}]
["2023-05-01","Alejandro Castanon Diaz","Ricardo Freelancer - Accounting","2h 07m",null,"19:59:00","21:33:00",0,0,2.1166666666666667,0,{"$f":"IF(COUNTIF(K$1:K137,K137)=1,K137,\"\")","v":""},null,"2023-08-29",10.900000000000002,{"$f":"SUMIF(Handy!A:A,N137,Handy!J:J)","v":0},{"$f":"SUMIF(Handy!A:A,N137,Handy!K:K)","v":0}]
["2023-05-01","Alejandro Castanon Diaz","Diana Inlat - Rehacer Ingeurbe","01m",null,"20:12:00","20:14:00",0,0,1.6666666666666666E-2,1.6666666666666666E-2,{"$f":"IF(COUNTIF(K$1:K138,K138)=1,K138,\"\")","v":""},null,"2023-08-30",6.1,{"$f":"SUMIF(Handy!A:A,N138,Handy!J:J)","v":0},{"$f":"SUMIF(Handy!A:A,N138,Handy!K:K)","v":0}]
["2023-05-01","Alejandro Castanon Diaz","Ricardo Freelancer - Accounting","12m",null,"21:51:00","22:05:00",0,0,0.2,0,{"$f":"IF(COUNTIF(K$1:K139,K139)=1,K139,\"\")","v":""},null,"2023-08-31",7.4833333333333316,{"$f":"SUMIF(Handy!A:A,N139,Handy!J:J)","v":0},{"$f":"SUMIF(Handy!A:A,N139,Handy!K:K)","v":0}]
["2023-05-01","Alejandro Castanon Diaz","Ricardo Freelancer - Accounting","48m",null,"22:52:00","23:40:00",0,0,0.8,0,{"$f":"IF(COUNTIF(K$1:K140,K140)=1,K140,\"\")","v":""},null,"2023-09-01",13.933333333333332,{"$f":"SUMIF(Handy!A:A,N140,Handy!J:J)","v":0},{"$f":"SUMIF(Handy!A:A,N140,Handy!K:K)","v":0}]
["2023-05-02","Alejandro Castanon Diaz","Ricardo Freelancer - Accounting","2h 46m",null,"02:17:00","05:09:00",0,0,2.7666666666666666,0,{"$f":"IF(COUNTIF(K$1:K141,K141)=1,K141,\"\")","v":""},null,"2023-09-02",1.4833333333333332,{"$f":"SUMIF(Handy!A:A,N141,Handy!J:J)","v":0},{"$f":"SUMIF(Handy!A:A,N141,Handy!K:K)","v":0}]
["2023-05-02","Alejandro Castanon Diaz","Diana Inlat - Rehacer Ingeurbe","56s",null,"03:10:00","03:12:00",0,0,0,1.6666666666666666E-2,{"$f":"IF(COUNTIF(K$1:K142,K142)=1,K142,\"\")","v":""},null,"2023-09-03",0,{"$f":"SUMIF(Handy!A:A,N142,Handy!J:J)","v":24.416666666666664},{"$f":"SUMIF(Handy!A:A,N142,Handy!K:K)","v":1600}]
["2023-05-02","Alejandro Castanon Diaz","Ricardo Freelancer - Accounting","5h 57m",null,"11:42:00","17:39:00",0,0,5.95,0,{"$f":"IF(COUNTIF(K$1:K143,K143)=1,K143,\"\")","v":""},null,"2023-09-04",8.9833333333333325,{"$f":"SUMIF(Handy!A:A,N143,Handy!J:J)","v":0},{"$f":"SUMIF(Handy!A:A,N143,Handy!K:K)","v":0}]
["2023-05-03","Alejandro Castanon Diaz","Viv Freelancer - Ecommerce Wordle","12m",null,"14:52:00","15:05:00",0,0,0.2,0,{"$f":"IF(COUNTIF(K$1:K144,K144)=1,K144,\"\")","v":""},null,"2023-09-05",7.3500000000000014,{"$f":"SUMIF(Handy!A:A,N144,Handy!J:J)","v":0},{"$f":"SUMIF(Handy!A:A,N144,Handy!K:K)","v":0}]
["2023-05-03","Alejandro Castanon Diaz","Viv Freelancer - Ecommerce Wordle","11m",null,"16:13:00","16:46:00",0,0,0.18333333333333332,0,{"$f":"IF(COUNTIF(K$1:K145,K145)=1,K145,\"\")","v":""},null,"2023-09-06",9.6999999999999993,{"$f":"SUMIF(Handy!A:A,N145,Handy!J:J)","v":0},{"$f":"SUMIF(Handy!A:A,N145,Handy!K:K)","v":0}]
["2023-05-03","Alejandro Castanon Diaz","Faby - PMI Ame Sitio multilang","08m",null,"16:15:00","16:24:00",0,0,0.13333333333333333,0,{"$f":"IF(COUNTIF(K$1:K146,K146)=1,K146,\"\")","v":""},null,"2023-09-07",17.000000000000007,{"$f":"SUMIF(Handy!A:A,N146,Handy!J:J)","v":0},{"$f":"SUMIF(Handy!A:A,N146,Handy!K:K)","v":0}]
["2023-05-03","Alejandro Castanon Diaz","Gary Hydracheck New Checkout quitar maquillaje viejo","27s",null,"16:25:00","16:26:00",0,0,0,0,{"$f":"IF(COUNTIF(K$1:K147,K147)=1,K147,\"\")","v":""},null,"2023-09-08",13.000000000000009,{"$f":"SUMIF(Handy!A:A,N147,Handy!J:J)","v":0},{"$f":"SUMIF(Handy!A:A,N147,Handy!K:K)","v":0}]
["2023-05-03","Alejandro Castanon Diaz","Pablo Nanofactura - Con IVA o sin IVA premium function global","04m",null,"16:26:00","16:31:00",0,0,6.6666666666666666E-2,0,{"$f":"IF(COUNTIF(K$1:K148,K148)=1,K148,\"\")","v":""},null,"2023-09-09",0.21666666666666667,{"$f":"SUMIF(Handy!A:A,N148,Handy!J:J)","v":0},{"$f":"SUMIF(Handy!A:A,N148,Handy!K:K)","v":0}]
["2023-05-03","Alejandro Castanon Diaz","Faby - PMI Ame Sitio multilang","07m",null,"16:34:00","16:42:00",0,0,0.11666666666666667,0,{"$f":"IF(COUNTIF(K$1:K149,K149)=1,K149,\"\")","v":""},null,"2023-09-10",0,{"$f":"SUMIF(Handy!A:A,N149,Handy!J:J)","v":18.100000000000001},{"$f":"SUMIF(Handy!A:A,N149,Handy!K:K)","v":1431}]
["2023-05-03","Alejandro Castanon Diaz","Ricardo Freelancer - Accounting","11s",null,"16:58:00","16:59:00",0,0,0,0,{"$f":"IF(COUNTIF(K$1:K150,K150)=1,K150,\"\")","v":""},null,"2023-09-11",2.4666666666666668,{"$f":"SUMIF(Handy!A:A,N150,Handy!J:J)","v":0},{"$f":"SUMIF(Handy!A:A,N150,Handy!K:K)","v":0}]
["2023-05-03","Alejandro Castanon Diaz","Viv Freelancer - Ecommerce Wordle","2h 38m",null,"18:16:00","20:54:00",0,0,2.6333333333333333,0,{"$f":"IF(COUNTIF(K$1:K151,K151)=1,K151,\"\")","v":""},null,"2023-09-12",7.1499999999999995,{"$f":"SUMIF(Handy!A:A,N151,Handy!J:J)","v":0},{"$f":"SUMIF(Handy!A:A,N151,Handy!K:K)","v":0}]
["2023-05-03","Alejandro Castanon Diaz","Ricardo Freelancer - Accounting","1h 39m",null,"19:18:00","20:58:00",0,0,1.65,0,{"$f":"IF(COUNTIF(K$1:K152,K152)=1,K152,\"\")","v":""},null,"2023-09-13",1.4333333333333333,{"$f":"SUMIF(Handy!A:A,N152,Handy!J:J)","v":0},{"$f":"SUMIF(Handy!A:A,N152,Handy!K:K)","v":0}]
["2023-05-03","Alejandro Castanon Diaz","Gary Hydracheck New Checkout quitar maquillaje viejo","32m",null,"20:54:00","21:33:00",0,0,0.53333333333333333,0,{"$f":"IF(COUNTIF(K$1:K153,K153)=1,K153,\"\")","v":""},null,{"$error":"#N/A"},0,{"$f":"SUMIF(Handy!A:A,N153,Handy!J:J)","v":0},{"$f":"SUMIF(Handy!A:A,N153,Handy!K:K)","v":0}]
["2023-05-03","Alejandro Castanon Diaz","Diana Inlat - Rehacer Ingeurbe","01m",null,"20:58:00","20:59:00",0,0,1.6666666666666666E-2,1.6666666666666666E-2,{"$f":"IF(COUNTIF(K$1:K154,K154)=1,K154,\"\")","v":""},null,{"$error":"#N/A"},0,{"$f":"SUMIF(Handy!A:A,N154,Handy!J:J)","v":0},{"$f":"SUMIF(Handy!A:A,N154,Handy!K:K)","v":0}]
["2023-05-03","Alejandro Castanon Diaz","Viv Freelancer - Ecommerce Wordle","05m",null,"21:16:00","21:33:00",0,0,8.3333333333333329E-2,0,{"$f":"IF(COUNTIF(K$1:K155,K155)=1,K155,\"\")","v":""},null,{"$error":"#N/A"},0,{"$f":"SUMIF(Handy!A:A,N155,Handy!J:J)","v":0},{"$f":"SUMIF(Handy!A:A,N155,Handy!K:K)","v":0}]
["2023-05-03","Alejandro Castanon Diaz","Diana Inlat - Rehacer Ingeurbe","20s",null,"21:33:00","21:34:00",0,0,0,1.6666666666666666E-2,{"$f":"IF(COUNTIF(K$1:K156,K156)=1,K156,\"\")","v":""},null,{"$error":"#N/A"},0,{"$f":"SUMIF(Handy!A:A,N156,Handy!J:J)","v":0},{"$f":"SUMIF(Handy!A:A,N156,Handy!K:K)","v":0}]
["2023-05-03","Alejandro Castanon Diaz","Ricardo Freelancer - Accounting","1h 29m",null,"21:34:00","22:59:00",0,0,1.4833333333333334,0,{"$f":"IF(COUNTIF(K$1:K157,K157)=1,K157,\"\")","v":""},null,{"$error":"#N/A"},0,{"$f":"SUMIF(Handy!A:A,N157,Handy!J:J)","v":0},{"$f":"SUMIF(Handy!A:A,N157,Handy!K:K)","v":0}]
["2023-05-03","Alejandro Castanon Diaz","Diana Inlat - Rehacer Ingeurbe","44s",null,"21:49:00","21:49:00",0,0,0,1.6666666666666666E-2,{"$f":"IF(COUNTIF(K$1:K158,K158)=1,K158,\"\")","v":""},null,{"$error":"#N/A"},0,{"$f":"SUMIF(Handy!A:A,N158,Handy!J:J)","v":0},{"$f":"SUMIF(Handy!A:A,N158,Handy!K:K)","v":0}]
["2023-05-03","Alejandro Castanon Diaz","Gary Hydracheck New Checkout quitar maquillaje viejo","1h 16m",null,"21:52:00","23:13:00",0,0,1.2666666666666666,0,{"$f":"IF(COUNTIF(K$1:K159,K159)=1,K159,\"\")","v":""},null,{"$error":"#N/A"},0,{"$f":"SUMIF(Handy!A:A,N159,Handy!J:J)","v":0},{"$f":"SUMIF(Handy!A:A,N159,Handy!K:K)","v":0}]
["2023-05-03","Alejandro Castanon Diaz","Viv Freelancer - Ecommerce Wordle","13s",null,"21:59:00","21:59:00",0,0,0,0,{"$f":"IF(COUNTIF(K$1:K160,K160)=1,K160,\"\")","v":""},null,{"$error":"#N/A"},0,{"$f":"SUMIF(Handy!A:A,N160,Handy!J:J)","v":0},{"$f":"SUMIF(Handy!A:A,N160,Handy!K:K)","v":0}]
["2023-05-03","Alejandro Castanon Diaz","Ricardo Freelancer - Accounting","09m",null,"22:59:00","23:09:00",0,0,0.15,0,{"$f":"IF(COUNTIF(K$1:K161,K161)=1,K161,\"\")","v":""},null,{"$error":"#N/A"},0,{"$f":"SUMIF(Handy!A:A,N161,Handy!J:J)","v":0},{"$f":"SUMIF(Handy!A:A,N161,Handy!K:K)","v":0}]
["2023-05-03","Alejandro Castanon Diaz","Diana Inlat - Rehacer Ingeurbe","15s",null,"23:09:00","23:10:00",0,0,0,1.6666666666666666E-2,{"$f":"IF(COUNTIF(K$1:K162,K162)=1,K162,\"\")","v":""},null,{"$error":"#N/A"},0,{"$f":"SUMIF(Handy!A:A,N162,Handy!J:J)","v":0},{"$f":"SUMIF(Handy!A:A,N162,Handy!K:K)","v":0}]
["2023-05-03","Alejandro Castanon Diaz","Gustavo Freelancer - Cambios pag ITESM","23s",null,"23:10:00","23:11:00",0,0,0,0,{"$f":"IF(COUNTIF(K$1:K163,K163)=1,K163,\"\")","v":""},null,{"$error":"#N/A"},0,{"$f":"SUMIF(Handy!A:A,N163,Handy!J:J)","v":0},{"$f":"SUMIF(Handy!A:A,N163,Handy!K:K)","v":0}]
["2023-05-03","Alejandro Castanon Diaz","Faby - Candywax Depilaciones","03m",null,"23:13:00","23:17:00",0,0,0.05,0,{"$f":"IF(COUNTIF(K$1:K164,K164)=1,K164,\"\")","v":""},null,{"$error":"#N/A"},0,{"$f":"SUMIF(Handy!A:A,N164,Handy!J:J)","v":0},{"$f":"SUMIF(Handy!A:A,N164,Handy!K:K)","v":0}]
["2023-05-03","Alejandro Castanon Diaz","Ricardo Freelancer - Accounting","32m",null,"23:17:00","23:57:00",0,0,0.53333333333333333,0,{"$f":"IF(COUNTIF(K$1:K165,K165)=1,K165,\"\")","v":""},null,{"$error":"#N/A"},0,{"$f":"SUMIF(Handy!A:A,N165,Handy!J:J)","v":0},{"$f":"SUMIF(Handy!A:A,N165,Handy!K:K)","v":0}]
["2023-05-03","Alejandro Castanon Diaz","Nick Advizee - ult pago a 22 abr (sigue 23)","32s",null,"23:18:00","23:18:00",0,0,0,0,{"$f":"IF(COUNTIF(K$1:K166,K166)=1,K166,\"\")","v":""},null,{"$error":"#N/A"},0,{"$f":"SUMIF(Handy!A:A,N166,Handy!J:J)","v":0},{"$f":"SUMIF(Handy!A:A,N166,Handy!K:K)","v":0}]
["2023-05-03","Alejandro Castanon Diaz","Gary Hydracheck New Checkout quitar maquillaje viejo","07m",null,"23:44:00","23:51:00",0,0,0.11666666666666667,0,{"$f":"IF(COUNTIF(K$1:K167,K167)=1,K167,\"\")","v":""},null,{"$error":"#N/A"},0,{"$f":"SUMIF(Handy!A:A,N167,Handy!J:J)","v":0},{"$f":"SUMIF(Handy!A:A,N167,Handy!K:K)","v":0}]
["2023-05-03","Alejandro Castanon Diaz","Viv Freelancer - Ecommerce Wordle","02m",null,"23:57:00","23:59:00",0,0,3.3333333333333333E-2,0,{"$f":"IF(COUNTIF(K$1:K168,K168)=1,K168,\"\")","v":""},null,{"$error":"#N/A"},0,{"$f":"SUMIF(Handy!A:A,N168,Handy!J:J)","v":0},{"$f":"SUMIF(Handy!A:A,N168,Handy!K:K)","v":0}]
["2023-05-04","Alejandro Castanon Diaz","Viv Freelancer - Ecommerce Wordle","14s",null,"00:00:00","00:00:00",0,0,0,0,{"$f":"IF(COUNTIF(K$1:K169,K169)=1,K169,\"\")","v":""},null,{"$error":"#N/A"},0,{"$f":"SUMIF(Handy!A:A,N169,Handy!J:J)","v":0},{"$f":"SUMIF(Handy!A:A,N169,Handy!K:K)","v":0}]
["2023-05-04","Alejandro Castanon Diaz","Ricardo Freelancer - Accounting","8h 36m",null,"00:00:00","09:11:00",0,0,8.6,0,{"$f":"IF(COUNTIF(K$1:K170,K170)=1,K170,\"\")","v":""},null,{"$error":"#N/A"},0,{"$f":"SUMIF(Handy!A:A,N170,Handy!J:J)","v":0},{"$f":"SUMIF(Handy!A:A,N170,Handy!K:K)","v":0}]
["2023-05-04","Alejandro Castanon Diaz","Gary Hydracheck New Checkout quitar maquillaje viejo","04m",null,"01:03:00","01:07:00",0,0,6.6666666666666666E-2,0,{"$f":"IF(COUNTIF(K$1:K171,K171)=1,K171,\"\")","v":""},null,{"$error":"#N/A"},0,{"$f":"SUMIF(Handy!A:A,N171,Handy!J:J)","v":0},{"$f":"SUMIF(Handy!A:A,N171,Handy!K:K)","v":0}]
["2023-05-04","Alejandro Castanon Diaz","Diana Inlat - Rehacer Ingeurbe","9s",null,"05:25:00","05:25:00",0,0,0,1.6666666666666666E-2,{"$f":"IF(COUNTIF(K$1:K172,K172)=1,K172,\"\")","v":""},null,{"$error":"#N/A"},0,{"$f":"SUMIF(Handy!A:A,N172,Handy!J:J)","v":0},{"$f":"SUMIF(Handy!A:A,N172,Handy!K:K)","v":0}]
["2023-05-04","Alejandro Castanon Diaz","Ricardo Freelancer - Accounting","09m",null,"10:49:00","10:59:00",0,0,0.15,0,{"$f":"IF(COUNTIF(K$1:K173,K173)=1,K173,\"\")","v":""},null,{"$error":"#N/A"},0,{"$f":"SUMIF(Handy!A:A,N173,Handy!J:J)","v":0},{"$f":"SUMIF(Handy!A:A,N173,Handy!K:K)","v":0}]
["2023-05-04","Alejandro Castanon Diaz","Viv Freelancer - Ecommerce Wordle","10m",null,"11:59:00","12:09:00",0,0,0.16666666666666666,0,{"$f":"IF(COUNTIF(K$1:K174,K174)=1,K174,\"\")","v":""},null,{"$error":"#N/A"},0,{"$f":"SUMIF(Handy!A:A,N174,Handy!J:J)","v":0},{"$f":"SUMIF(Handy!A:A,N174,Handy!K:K)","v":0}]
["2023-05-04","Alejandro Castanon Diaz","Ricardo Freelancer - Accounting","26m",null,"12:09:00","12:27:00",0,0,0.43333333333333335,0,{"$f":"IF(COUNTIF(K$1:K175,K175)=1,K175,\"\")","v":""},null,{"$error":"#N/A"},0,{"$f":"SUMIF(Handy!A:A,N175,Handy!J:J)","v":0},{"$f":"SUMIF(Handy!A:A,N175,Handy!K:K)","v":0}]
["2023-05-04","Alejandro Castanon Diaz","Ricardo Freelancer - Accounting","10m",null,"15:24:00","15:34:00",0,0,0.16666666666666666,0,{"$f":"IF(COUNTIF(K$1:K176,K176)=1,K176,\"\")","v":""},null,{"$error":"#N/A"},0,{"$f":"SUMIF(Handy!A:A,N176,Handy!J:J)","v":0},{"$f":"SUMIF(Handy!A:A,N176,Handy!K:K)","v":0}]
["2023-05-04","Alejandro Castanon Diaz","Ricardo Freelancer - Accounting","10m",null,"18:58:00","19:08:00",0,0,0.16666666666666666,0,{"$f":"IF(COUNTIF(K$1:K177,K177)=1,K177,\"\")","v":""},null,{"$error":"#N/A"},0,{"$f":"SUMIF(Handy!A:A,N177,Handy!J:J)","v":0},{"$f":"SUMIF(Handy!A:A,N177,Handy!K:K)","v":0}]
["2023-05-04","Alejandro Castanon Diaz","Ricardo Freelancer - Accounting","13m",null,"20:24:00","20:46:00",0,0,0.21666666666666667,0,{"$f":"IF(COUNTIF(K$1:K178,K178)=1,K178,\"\")","v":""},null,{"$error":"#N/A"},0,{"$f":"SUMIF(Handy!A:A,N178,Handy!J:J)","v":0},{"$f":"SUMIF(Handy!A:A,N178,Handy!K:K)","v":0}]
["2023-05-05","Alejandro Castanon Diaz","Faby - Candywax Depilaciones","2s",null,"02:18:00","02:18:00",0,0,0,0,{"$f":"IF(COUNTIF(K$1:K179,K179)=1,K179,\"\")","v":""},null,{"$error":"#N/A"},0,{"$f":"SUMIF(Handy!A:A,N179,Handy!J:J)","v":0},{"$f":"SUMIF(Handy!A:A,N179,Handy!K:K)","v":0}]
["2023-05-05","Alejandro Castanon Diaz","Faby - PMI Ame Sitio multilang","11m",null,"02:18:00","02:30:00",0,0,0.18333333333333332,0,{"$f":"IF(COUNTIF(K$1:K180,K180)=1,K180,\"\")","v":""},null,{"$error":"#N/A"},0,{"$f":"SUMIF(Handy!A:A,N180,Handy!J:J)","v":0},{"$f":"SUMIF(Handy!A:A,N180,Handy!K:K)","v":0}]
["2023-05-05","Alejandro Castanon Diaz","Gary Hydracheck New Checkout quitar maquillaje viejo","05m",null,"02:30:00","02:36:00",0,0,8.3333333333333329E-2,0,{"$f":"IF(COUNTIF(K$1:K181,K181)=1,K181,\"\")","v":""}]
["2023-05-05","Alejandro Castanon Diaz","Viv Freelancer - Ecommerce Wordle","28m",null,"02:36:00","03:10:00",0,0,0.46666666666666667,0,{"$f":"IF(COUNTIF(K$1:K182,K182)=1,K182,\"\")","v":""}]
["2023-05-05","Alejandro Castanon Diaz","Ricardo Freelancer - Accounting","2h 11m",null,"02:42:00","04:41:00",0,0,2.1833333333333331,0,{"$f":"IF(COUNTIF(K$1:K183,K183)=1,K183,\"\")","v":""}]
["2023-05-05","Alejandro Castanon Diaz","Gary Hydracheck New Checkout quitar maquillaje viejo","27m",null,"03:10:00","03:42:00",0,0,0.45,0,{"$f":"IF(COUNTIF(K$1:K184,K184)=1,K184,\"\")","v":""}]
["2023-05-05","Alejandro Castanon Diaz","Faby - Candywax Depilaciones","14s",null,"03:15:00","03:15:00",0,0,0,0,{"$f":"IF(COUNTIF(K$1:K185,K185)=1,K185,\"\")","v":""}]
["2023-05-05","Alejandro Castanon Diaz","Mama Madhu - prestamo","0s",null,"03:23:00","03:27:00",0,0,0,0,{"$f":"IF(COUNTIF(K$1:K186,K186)=1,K186,\"\")","v":""}]
["2023-05-05","Alejandro Castanon Diaz","Diana Inlat - Rehacer Ingeurbe","6h 32m",null,"03:44:00","10:18:00",0,0,6.5333333333333332,1.6666666666666666E-2,{"$f":"IF(COUNTIF(K$1:K187,K187)=1,K187,\"\")","v":""}]
["2023-05-05","Alejandro Castanon Diaz","Ricardo Freelancer - Accounting","02m",null,"05:00:00","05:02:00",0,0,3.3333333333333333E-2,0,{"$f":"IF(COUNTIF(K$1:K188,K188)=1,K188,\"\")","v":""}]
["2023-05-05","Alejandro Castanon Diaz","Diana Inlat - Rehacer Ingeurbe","46m",null,"10:18:00","10:46:00",0,0,0.76666666666666672,1.6666666666666666E-2,{"$f":"IF(COUNTIF(K$1:K189,K189)=1,K189,\"\")","v":""}]
["2023-05-05","Alejandro Castanon Diaz","Ricardo Freelancer - Accounting","07m",null,"10:23:00","10:30:00",0,0,0.11666666666666667,0,{"$f":"IF(COUNTIF(K$1:K190,K190)=1,K190,\"\")","v":""}]
["2023-05-05","Alejandro Castanon Diaz","Ricardo Freelancer - Accounting","1h 15m",null,"10:46:00","12:02:00",0,0,1.25,0,{"$f":"IF(COUNTIF(K$1:K191,K191)=1,K191,\"\")","v":""}]
["2023-05-05","Alejandro Castanon Diaz","Diana Inlat - Rehacer Ingeurbe","44m",null,"11:17:00","12:02:00",0,0,0.73333333333333328,1.6666666666666666E-2,{"$f":"IF(COUNTIF(K$1:K192,K192)=1,K192,\"\")","v":""}]
["2023-05-05","Alejandro Castanon Diaz","Diana Inlat - Rehacer Ingeurbe","1h 32m",null,"12:02:00","13:20:00",0,0,1.5333333333333332,1.6666666666666666E-2,{"$f":"IF(COUNTIF(K$1:K193,K193)=1,K193,\"\")","v":""}]
["2023-05-05","Alejandro Castanon Diaz","Ricardo Freelancer - Accounting","19m",null,"12:41:00","13:08:00",0,0,0.31666666666666665,{"$f":"SUMIFS(J:J,C:C,C194,A:A,\">\"&$S$4)","v":0},{"$f":"IF(COUNTIF(K$1:K194,K194)=1,K194,\"\")","v":""}]
["2023-05-05","Alejandro Castanon Diaz","Ricardo Freelancer - Accounting","1h 13m",null,"13:13:00","14:28:00",0,0,{"$f":"IF(D195=\"\",\"\",IF(ISERROR(FIND(\"s\",D195)),IF(ISERROR(FIND(\"h \",D195)),LEFT(D195,2)/60,   LEFT(D195,FIND(\"h \",D195)-1 )+LEFT(RIGHT(D195,3),2)/60   ),0))","v":1.2166666666666668},0,{"$f":"IF(COUNTIF(K$1:K195,K195)=1,K195,\"\")","v":""}]
["2023-05-05","Alejandro Castanon Diaz","Ricardo Freelancer - Accounting","06m",null,"15:10:00","15:16:00",0,0,0.1,0,{"$f":"IF(COUNTIF(K$1:K196,K196)=1,K196,\"\")","v":""}]
["2023-05-05","Alejandro Castanon Diaz","Diana Inlat - Rehacer Ingeurbe","57m",null,"15:16:00","16:24:00",0,0,0.95,1.6666666666666666E-2,{"$f":"IF(COUNTIF(K$1:K197,K197)=1,K197,\"\")","v":""}]
["2023-05-05","Alejandro Castanon Diaz","Ricardo Freelancer - Accounting","03m",null,"15:48:00","15:56:00",0,0,0.05,0,{"$f":"IF(COUNTIF(K$1:K198,K198)=1,K198,\"\")","v":""}]
["2023-05-05","Alejandro Castanon Diaz","Ricardo Freelancer - Accounting","36m",null,"16:24:00","17:00:00",0,0,0.6,0,{"$f":"IF(COUNTIF(K$1:K199,K199)=1,K199,\"\")","v":""}]
["2023-05-05","Alejandro Castanon Diaz","Diana Inlat - Rehacer Ingeurbe","41m",null,"17:00:00","17:52:00",0,0,0.68333333333333335,1.6666666666666666E-2,{"$f":"IF(COUNTIF(K$1:K200,K200)=1,K200,\"\")","v":""}]
["2023-05-05","Alejandro Castanon Diaz","Ricardo Freelancer - Accounting","1h 08m",null,"17:51:00","19:03:00",0,0,1.1333333333333333,0,{"$f":"IF(COUNTIF(K$1:K201,K201)=1,K201,\"\")","v":""}]
["2023-05-05","Alejandro Castanon Diaz","Faby - PMI Ame Sitio multilang","12m",null,"19:03:00","19:15:00",0,0,0.2,0,{"$f":"IF(COUNTIF(K$1:K202,K202)=1,K202,\"\")","v":""}]
["2023-05-05","Alejandro Castanon Diaz","Faby - PMI Ame Sitio multilang","22m",null,"19:36:00","19:59:00",0,0,0.36666666666666664,0,{"$f":"IF(COUNTIF(K$1:K203,K203)=1,K203,\"\")","v":""}]
["2023-05-05","Alejandro Castanon Diaz","Faby - PMI Ame Sitio multilang","52m",null,"20:16:00","21:18:00",0,0,0.8666666666666667,0,{"$f":"IF(COUNTIF(K$1:K204,K204)=1,K204,\"\")","v":""}]
["2023-05-05","Alejandro Castanon Diaz","Faby - PMI Ame Sitio multilang","33m",null,"21:49:00","22:22:00",0,0,0.55000000000000004,0,{"$f":"IF(COUNTIF(K$1:K205,K205)=1,K205,\"\")","v":""}]
["2023-05-05","Alejandro Castanon Diaz","Pablo Nanofactura - Con IVA o sin IVA premium function global","18m",null,"22:22:00","22:41:00",0,0,0.3,0,{"$f":"IF(COUNTIF(K$1:K206,K206)=1,K206,\"\")","v":""}]
["2023-05-06","Alejandro Castanon Diaz","Rodrigo Techservices - WP Run4u","02m",null,"11:23:00","11:25:00",0,0,3.3333333333333333E-2,0,{"$f":"IF(COUNTIF(K$1:K207,K207)=1,K207,\"\")","v":""}]
["2023-05-06","Alejandro Castanon Diaz","Viv Freelancer - Ecommerce Wordle","12m",null,"11:25:00","11:38:00",0,0,0.2,0,{"$f":"IF(COUNTIF(K$1:K208,K208)=1,K208,\"\")","v":""}]
["2023-05-06","Alejandro Castanon Diaz","Gary Hydracheck New Checkout quitar maquillaje viejo","30m",null,"11:38:00","12:18:00",0,0,0.5,0,{"$f":"IF(COUNTIF(K$1:K209,K209)=1,K209,\"\")","v":""}]
["2023-05-06","Alejandro Castanon Diaz","Ricardo Freelancer - Accounting","08m",null,"11:53:00","12:02:00",0,0,0.13333333333333333,0,{"$f":"IF(COUNTIF(K$1:K210,K210)=1,K210,\"\")","v":""}]
["2023-05-06","Alejandro Castanon Diaz","Diana Inlat - Rehacer Ingeurbe","20s",null,"11:55:00","11:55:00",0,0,0,1.6666666666666666E-2,{"$f":"IF(COUNTIF(K$1:K211,K211)=1,K211,\"\")","v":""}]
["2023-05-06","Alejandro Castanon Diaz","Faby - PMI Ame Sitio multilang","11s",null,"11:55:00","11:56:00",0,0,0,0,{"$f":"IF(COUNTIF(K$1:K212,K212)=1,K212,\"\")","v":""}]
["2023-05-06","Alejandro Castanon Diaz","Ricardo Freelancer - Accounting","02m",null,"12:18:00","12:20:00",0,0,3.3333333333333333E-2,0,{"$f":"IF(COUNTIF(K$1:K213,K213)=1,K213,\"\")","v":""}]
["2023-05-06","Alejandro Castanon Diaz","Diana Inlat - Rehacer Ingeurbe","08m",null,"20:53:00","21:01:00",0,0,0.13333333333333333,1.6666666666666666E-2,{"$f":"IF(COUNTIF(K$1:K214,K214)=1,K214,\"\")","v":""}]
["2023-05-06","Alejandro Castanon Diaz","Ricardo Freelancer - Accounting","1h 07m",null,"21:01:00","22:23:00",0,0,1.1166666666666667,0,{"$f":"IF(COUNTIF(K$1:K215,K215)=1,K215,\"\")","v":""}]
["2023-05-06","Alejandro Castanon Diaz","Gustavo Freelancer - Cambios pag ITESM","03m",null,"21:17:00","21:23:00",0,0,0.05,0,{"$f":"IF(COUNTIF(K$1:K216,K216)=1,K216,\"\")","v":""}]
["2023-05-06","Alejandro Castanon Diaz","Gary Hydracheck New Checkout quitar maquillaje viejo","17s",null,"21:22:00","21:22:00",0,0,0,0,{"$f":"IF(COUNTIF(K$1:K217,K217)=1,K217,\"\")","v":""}]
["2023-05-06","Alejandro Castanon Diaz","Pablo Nanofactura - Con IVA o sin IVA premium function global","15s",null,"21:23:00","21:23:00",0,0,0,0,{"$f":"IF(COUNTIF(K$1:K218,K218)=1,K218,\"\")","v":""}]
["2023-05-06","Alejandro Castanon Diaz","yo - FIRE Business online","10m",null,"21:30:00","21:41:00",0,0,0.16666666666666666,0,{"$f":"IF(COUNTIF(K$1:K219,K219)=1,K219,\"\")","v":""}]
["2023-05-06","Alejandro Castanon Diaz","Samantha - cuenta compartida","16s",null,"21:33:00","21:34:00",0,0,0,0,{"$f":"IF(COUNTIF(K$1:K220,K220)=1,K220,\"\")","v":""}]
["2023-05-06","Alejandro Castanon Diaz","Nick Advizee - ult pago a 22 abr (sigue 23)","22s",null,"21:34:00","21:34:00",0,0,0,0,{"$f":"IF(COUNTIF(K$1:K221,K221)=1,K221,\"\")","v":""}]
["2023-05-06","Alejandro Castanon Diaz","Faby - PMI Ame Sitio multilang","12s",null,"21:34:00","21:34:00",0,0,0,0,{"$f":"IF(COUNTIF(K$1:K222,K222)=1,K222,\"\")","v":""}]
["2023-05-06","Alejandro Castanon Diaz","Miguel Bullkens - B2B Nuevo Exchange","9s",null,"21:34:00","21:34:00",0,0,0,0,{"$f":"IF(COUNTIF(K$1:K223,K223)=1,K223,\"\")","v":""}]
["2023-05-06","Alejandro Castanon Diaz","Diana Inlat - Rehacer Ingeurbe","05m",null,"21:34:00","21:40:00",0,0,8.3333333333333329E-2,1.6666666666666666E-2,{"$f":"IF(COUNTIF(K$1:K224,K224)=1,K224,\"\")","v":""}]
["2023-05-06","Alejandro Castanon Diaz","yo - FIRE Business online","01m",null,"21:41:00","21:42:00",0,0,1.6666666666666666E-2,0,{"$f":"IF(COUNTIF(K$1:K225,K225)=1,K225,\"\")","v":""}]
["2023-05-06","Alejandro Castanon Diaz","Gary Hydracheck New Checkout quitar maquillaje viejo","01m",null,"21:42:00","21:43:00",0,0,1.6666666666666666E-2,0,{"$f":"IF(COUNTIF(K$1:K226,K226)=1,K226,\"\")","v":""}]
["2023-05-07","Alejandro Castanon Diaz","Ricardo Freelancer - Accounting","04m",null,"01:59:00","02:03:00",2.68,0,6.6666666666666666E-2,0,{"$f":"IF(COUNTIF(K$1:K227,K227)=1,K227,\"\")","v":""}]
["2023-05-07","Alejandro Castanon Diaz","Ricardo Freelancer - Accounting","25m",null,"02:27:00","02:53:00",16.22,0,0.41666666666666669,0,{"$f":"IF(COUNTIF(K$1:K228,K228)=1,K228,\"\")","v":""}]
["2023-05-07","Alejandro Castanon Diaz","Ricardo Freelancer - Accounting","12s",null,"04:56:00","04:57:00",0.13,0,0,0,{"$f":"IF(COUNTIF(K$1:K229,K229)=1,K229,\"\")","v":""}]
["2023-05-07","Alejandro Castanon Diaz","Diana Inlat - Rehacer Ingeurbe","28s",null,"04:57:00","04:57:00",0.3,0,0,1.6666666666666666E-2,{"$f":"IF(COUNTIF(K$1:K230,K230)=1,K230,\"\")","v":""}]
["2023-05-07","Alejandro Castanon Diaz","Diana Inlat - Rehacer Ingeurbe","37m",null,"05:16:00","05:55:00",23.57,0,0.6166666666666667,1.6666666666666666E-2,{"$f":"IF(COUNTIF(K$1:K231,K231)=1,K231,\"\")","v":""}]
["2023-05-07","Alejandro Castanon Diaz","Diana Inlat - Rehacer Ingeurbe","59m",null,"06:29:00","07:29:00",37.94,0,0.98333333333333328,1.6666666666666666E-2,{"$f":"IF(COUNTIF(K$1:K232,K232)=1,K232,\"\")","v":""}]
["2023-05-07","Alejandro Castanon Diaz","Diana Inlat - Rehacer Ingeurbe","8h 45m",null,"08:17:00","16:36:00",332.84,0,8.75,1.6666666666666666E-2,{"$f":"IF(COUNTIF(K$1:K233,K233)=1,K233,\"\")","v":""}]
["2023-05-07","Alejandro Castanon Diaz","Ricardo Freelancer - Accounting","42m",null,"08:43:00","09:25:00",27.02,0,0.7,0,{"$f":"IF(COUNTIF(K$1:K234,K234)=1,K234,\"\")","v":""}]
["2023-05-07","Alejandro Castanon Diaz","Diana Inlat - Rehacer Ingeurbe","10m",null,"17:36:00","17:47:00",6.8,0,0.16666666666666666,1.6666666666666666E-2,{"$f":"IF(COUNTIF(K$1:K235,K235)=1,K235,\"\")","v":""}]
["2023-05-08","Alejandro Castanon Diaz","Ricardo Freelancer - Accounting","3h 09m",null,"08:37:00","11:47:00",119.7,0,3.15,0,{"$f":"IF(COUNTIF(K$1:K236,K236)=1,K236,\"\")","v":""}]
["2023-05-08","Alejandro Castanon Diaz","Diana Inlat - Rehacer Ingeurbe","10m",null,"08:58:00","09:08:00",6.54,0,0.16666666666666666,1.6666666666666666E-2,{"$f":"IF(COUNTIF(K$1:K237,K237)=1,K237,\"\")","v":""}]
["2023-05-08","Alejandro Castanon Diaz","Diana Inlat - Rehacer Ingeurbe","03m",null,"09:20:00","09:23:00",2.35,0,0.05,1.6666666666666666E-2,{"$f":"IF(COUNTIF(K$1:K238,K238)=1,K238,\"\")","v":""}]
["2023-05-08","Alejandro Castanon Diaz","Diana Inlat - Rehacer Ingeurbe","15m",null,"11:36:00","12:02:00",10.07,0,0.25,1.6666666666666666E-2,{"$f":"IF(COUNTIF(K$1:K239,K239)=1,K239,\"\")","v":""}]
["2023-05-08","Alejandro Castanon Diaz","Nick Advizee - sigue 7 may","1h 05m",null,"12:02:00","12:58:00",41.52,0,1.0833333333333333,0,{"$f":"IF(COUNTIF(K$1:K240,K240)=1,K240,\"\")","v":""}]
["2023-05-08","Alejandro Castanon Diaz","Nick Advizee - sigue 7 may","21m",null,"13:17:00","13:39:00",13.57,0,0.35,0,{"$f":"IF(COUNTIF(K$1:K241,K241)=1,K241,\"\")","v":""}]
["2023-05-08","Alejandro Castanon Diaz","Nick Advizee - sigue 7 may","18m",null,"14:41:00","14:59:00",11.42,0,0.3,0,{"$f":"IF(COUNTIF(K$1:K242,K242)=1,K242,\"\")","v":""}]
["2023-05-08","Alejandro Castanon Diaz","Nick Advizee - sigue 7 may","01m",null,"15:16:00","15:18:00",0.94,0,1.6666666666666666E-2,0,{"$f":"IF(COUNTIF(K$1:K243,K243)=1,K243,\"\")","v":""}]
["2023-05-08","Alejandro Castanon Diaz","Nick Advizee - sigue 7 may","07m",null,"15:41:00","15:49:00",4.8600000000000003,0,0.11666666666666667,0,{"$f":"IF(COUNTIF(K$1:K244,K244)=1,K244,\"\")","v":""}]
["2023-05-08","Alejandro Castanon Diaz","Diana Inlat - Rehacer Ingeurbe","48m",null,"15:49:00","16:43:00",30.83,0,0.8,1.6666666666666666E-2,{"$f":"IF(COUNTIF(K$1:K245,K245)=1,K245,\"\")","v":""}]
["2023-05-08","Alejandro Castanon Diaz","Nick Advizee - sigue 7 may","3h 32m",null,"18:36:00","22:12:00",134.56,0,3.5333333333333332,0,{"$f":"IF(COUNTIF(K$1:K246,K246)=1,K246,\"\")","v":""}]
["2023-05-09","Alejandro Castanon Diaz","Ricardo Freelancer - Accounting","1h 51m",null,"00:00:00","02:01:00",70.5,0,1.85,0,{"$f":"IF(COUNTIF(K$1:K247,K247)=1,K247,\"\")","v":""}]
["2023-05-09","Alejandro Castanon Diaz","Diana Inlat - Rehacer Ingeurbe","18m",null,"07:45:00","08:04:00",11.67,0,0.3,1.6666666666666666E-2,{"$f":"IF(COUNTIF(K$1:K248,K248)=1,K248,\"\")","v":""}]
["2023-05-09","Alejandro Castanon Diaz","Diana Inlat - Rehacer Ingeurbe","20m",null,"09:14:00","09:35:00",13.25,0,0.33333333333333331,1.6666666666666666E-2,{"$f":"IF(COUNTIF(K$1:K249,K249)=1,K249,\"\")","v":""}]
["2023-05-09","Alejandro Castanon Diaz","Diana Inlat - Rehacer Ingeurbe","56s",null,"14:01:00","14:02:00",0.59,0,0,1.6666666666666666E-2,{"$f":"IF(COUNTIF(K$1:K250,K250)=1,K250,\"\")","v":""}]
["2023-05-09","Alejandro Castanon Diaz","Gary Hydracheck New Checkout quitar maquillaje viejo","12m",null,"14:02:00","14:15:00",7.99,0,0.2,0,{"$f":"IF(COUNTIF(K$1:K251,K251)=1,K251,\"\")","v":""}]
["2023-05-09","Alejandro Castanon Diaz","Diana Inlat - Rehacer Ingeurbe","10s",null,"14:15:00","14:15:00",0.11,0,0,1.6666666666666666E-2,{"$f":"IF(COUNTIF(K$1:K252,K252)=1,K252,\"\")","v":""}]
["2023-05-09","Alejandro Castanon Diaz","Ricardo Freelancer - Accounting","3h 45m",null,"14:59:00","20:45:00",142.5,0,3.75,0,{"$f":"IF(COUNTIF(K$1:K253,K253)=1,K253,\"\")","v":""}]
["2023-05-10","Alejandro Castanon Diaz","Diana Inlat - Rehacer Ingeurbe","10m",null,"04:01:00","04:11:00",6.46,0,0.16666666666666666,1.6666666666666666E-2,{"$f":"IF(COUNTIF(K$1:K254,K254)=1,K254,\"\")","v":""}]
["2023-05-10","Alejandro Castanon Diaz","Diana Inlat - Rehacer Ingeurbe","38m",null,"04:29:00","05:07:00",24.1,0,0.6333333333333333,1.6666666666666666E-2,{"$f":"IF(COUNTIF(K$1:K255,K255)=1,K255,\"\")","v":""}]
["2023-05-10","Alejandro Castanon Diaz","Diana Inlat - Rehacer Ingeurbe","52m",null,"05:23:00","06:22:00",33.35,0,0.8666666666666667,1.6666666666666666E-2,{"$f":"IF(COUNTIF(K$1:K256,K256)=1,K256,\"\")","v":""}]
["2023-05-10","Alejandro Castanon Diaz","Diana Inlat - Rehacer Ingeurbe","1h 16m",null,"06:53:00","08:09:00",48.14,0,1.2666666666666666,1.6666666666666666E-2,{"$f":"IF(COUNTIF(K$1:K257,K257)=1,K257,\"\")","v":""}]
["2023-05-10","Alejandro Castanon Diaz","Diana Inlat - Rehacer Ingeurbe","05m",null,"15:58:00","16:04:00",3.59,0,8.3333333333333329E-2,{"$f":"SUMIFS(J:J,C:C,C258,A:A,\">\"&$S$4)","v":1.6666666666666666E-2},{"$f":"IF(COUNTIF(K$1:K258,K258)=1,K258,\"\")","v":""}]
["2023-05-10","Alejandro Castanon Diaz","Diana Inlat - Rehacer Ingeurbe","54m",null,"16:08:00","16:53:00",34.270000000000003,0,{"$f":"IF(D259=\"\",\"\",IF(ISERROR(FIND(\"s\",D259)),IF(ISERROR(FIND(\"h \",D259)),LEFT(D259,2)/60,   LEFT(D259,FIND(\"h \",D259)-1 )+LEFT(RIGHT(D259,3),2)/60   ),0))","v":0.9},1.6666666666666666E-2,{"$f":"IF(COUNTIF(K$1:K259,K259)=1,K259,\"\")","v":""}]
["2023-05-10","Alejandro Castanon Diaz","Diana Inlat - Rehacer Ingeurbe","1h 45m",null,"17:19:00","18:31:00",66.989999999999995,0,1.75,1.6666666666666666E-2,{"$f":"IF(COUNTIF(K$1:K260,K260)=1,K260,\"\")","v":""}]
["2023-05-10","Alejandro Castanon Diaz","Ricardo Freelancer - Accounting","5h 24m",null,"18:20:00","23:45:00",205.2,0,5.4,0,{"$f":"IF(COUNTIF(K$1:K261,K261)=1,K261,\"\")","v":""}]
["2023-05-10","Alejandro Castanon Diaz","Ricardo Freelancer - Accounting","04m",null,"23:55:00","23:59:00",2.91,0,6.6666666666666666E-2,0,{"$f":"IF(COUNTIF(K$1:K262,K262)=1,K262,\"\")","v":""}]
["2023-05-11","Alejandro Castanon Diaz","Ricardo Freelancer - Accounting","39m",null,"00:00:00","00:39:00",25.09,0,0.65,0,{"$f":"IF(COUNTIF(K$1:K263,K263)=1,K263,\"\")","v":""}]
["2023-05-11","Alejandro Castanon Diaz","Ricardo Freelancer - Accounting","2h 30m",null,"02:10:00","04:38:00",95.46,0,2.5,0,{"$f":"IF(COUNTIF(K$1:K264,K264)=1,K264,\"\")","v":""}]
["2023-05-11","Alejandro Castanon Diaz","Diana Inlat - Rehacer Ingeurbe","55m",null,"03:09:00","04:17:00",35.130000000000003,0,0.91666666666666663,1.6666666666666666E-2,{"$f":"IF(COUNTIF(K$1:K265,K265)=1,K265,\"\")","v":""}]
["2023-05-11","Alejandro Castanon Diaz","Diana Inlat - Rehacer Ingeurbe","27m",null,"05:49:00","06:23:00",17.399999999999999,0,0.45,1.6666666666666666E-2,{"$f":"IF(COUNTIF(K$1:K266,K266)=1,K266,\"\")","v":""}]
["2023-05-11","Alejandro Castanon Diaz","Ricardo Freelancer - Accounting","05m",null,"05:55:00","06:01:00",3.64,0,8.3333333333333329E-2,0,{"$f":"IF(COUNTIF(K$1:K267,K267)=1,K267,\"\")","v":""}]
["2023-05-11","Alejandro Castanon Diaz","Diana Inlat - Rehacer Ingeurbe","44m",null,"08:57:00","09:42:00",28.39,0,0.73333333333333328,1.6666666666666666E-2,{"$f":"IF(COUNTIF(K$1:K268,K268)=1,K268,\"\")","v":""}]
["2023-05-11","Alejandro Castanon Diaz","Diana Inlat - Rehacer Ingeurbe","34m",null,"11:29:00","12:09:00",21.64,0,0.56666666666666665,1.6666666666666666E-2,{"$f":"IF(COUNTIF(K$1:K269,K269)=1,K269,\"\")","v":""}]
["2023-05-11","Alejandro Castanon Diaz","Ricardo Freelancer - Accounting","6s","null","13:40:00","13:40:00",0.06,0,0,0,{"$f":"IF(COUNTIF(K$1:K270,K270)=1,K270,\"\")","v":""}]
["2023-05-11","Alejandro Castanon Diaz","Diana Inlat - Rehacer Ingeurbe","10m",null,"13:45:00","13:55:00",6.38,0,0.16666666666666666,1.6666666666666666E-2,{"$f":"IF(COUNTIF(K$1:K271,K271)=1,K271,\"\")","v":""}]
["2023-05-11","Alejandro Castanon Diaz","Ricardo Freelancer - Accounting","14m",null,"16:24:00","16:38:00",8.9600000000000009,0,0.23333333333333334,0,{"$f":"IF(COUNTIF(K$1:K272,K272)=1,K272,\"\")","v":""}]
["2023-05-11","Alejandro Castanon Diaz","Ricardo Freelancer - Accounting","58m",null,"16:59:00","17:57:00",36.770000000000003,0,0.96666666666666667,0,{"$f":"IF(COUNTIF(K$1:K273,K273)=1,K273,\"\")","v":""}]
["2023-05-11","Alejandro Castanon Diaz","Ricardo Freelancer - Accounting","31s",null,"20:09:00","20:10:00",0.33,0,0,0,{"$f":"IF(COUNTIF(K$1:K274,K274)=1,K274,\"\")","v":""}]
["2023-05-11","Alejandro Castanon Diaz","Pablo Nanofactura - Con IVA o sin IVA premium function global","25m",null,"20:10:00","20:35:00",15.92,0,0.41666666666666669,0,{"$f":"IF(COUNTIF(K$1:K275,K275)=1,K275,\"\")","v":""}]
["2023-05-11","Alejandro Castanon Diaz","Diana Inlat - Rehacer Ingeurbe","2s",null,"20:16:00","20:16:00",0.02,0,0,1.6666666666666666E-2,{"$f":"IF(COUNTIF(K$1:K276,K276)=1,K276,\"\")","v":""}]
["2023-05-11","Alejandro Castanon Diaz","Pablo Nanofactura - Soporte errores","38m",null,"20:35:00","21:13:00",24.34,0,0.6333333333333333,0,{"$f":"IF(COUNTIF(K$1:K277,K277)=1,K277,\"\")","v":""}]
["2023-05-11","Alejandro Castanon Diaz","Pablo Nanofactura - Soporte errores","13m",null,"21:42:00","21:56:00",8.44,0,0.21666666666666667,0,{"$f":"IF(COUNTIF(K$1:K278,K278)=1,K278,\"\")","v":""}]
["2023-05-11","Alejandro Castanon Diaz","Viv Freelancer - Ecommerce Wordle","54m",null,"21:56:00","22:50:00",34.31,0,0.9,0,{"$f":"IF(COUNTIF(K$1:K279,K279)=1,K279,\"\")","v":""}]
["2023-05-12","Alejandro Castanon Diaz","Diana Inlat - Rehacer Ingeurbe","16m",null,"00:43:00","00:59:00",10.15,0,0.26666666666666666,1.6666666666666666E-2,{"$f":"IF(COUNTIF(K$1:K280,K280)=1,K280,\"\")","v":""}]
["2023-05-12","Alejandro Castanon Diaz","Diana Inlat - Rehacer Ingeurbe","34m",null,"02:43:00","03:19:00",21.55,0,0.56666666666666665,1.6666666666666666E-2,{"$f":"IF(COUNTIF(K$1:K281,K281)=1,K281,\"\")","v":""}]
["2023-05-12","Alejandro Castanon Diaz","Viv Freelancer - Ecommerce Wordle","1h 10m",null,"10:43:00","11:53:00",44.54,0,1.1666666666666667,0,{"$f":"IF(COUNTIF(K$1:K282,K282)=1,K282,\"\")","v":""}]
["2023-05-12","Alejandro Castanon Diaz","Pablo Nanofactura - Soporte errores","4s",null,"11:33:00","11:33:00",0.04,0,0,0,{"$f":"IF(COUNTIF(K$1:K283,K283)=1,K283,\"\")","v":""}]
["2023-05-12","Alejandro Castanon Diaz","Pablo Nanofactura - Soporte errores","3h 22m",null,"11:53:00","15:24:00",127.99,0,3.3666666666666667,0,{"$f":"IF(COUNTIF(K$1:K284,K284)=1,K284,\"\")","v":""}]
["2023-05-12","Alejandro Castanon Diaz","Diana Inlat - Rehacer Ingeurbe","06m",null,"12:05:00","12:12:00",4.41,0,0.1,1.6666666666666666E-2,{"$f":"IF(COUNTIF(K$1:K285,K285)=1,K285,\"\")","v":""}]
["2023-05-12","Alejandro Castanon Diaz","Diana Inlat - Rehacer Ingeurbe","37s",null,"13:03:00","13:03:00",0.39,0,0,1.6666666666666666E-2,{"$f":"IF(COUNTIF(K$1:K286,K286)=1,K286,\"\")","v":""}]
["2023-05-12","Alejandro Castanon Diaz","Ricardo Freelancer - Accounting","1h 43m",null,"13:03:00","14:47:00",65.400000000000006,0,1.7166666666666668,0,{"$f":"IF(COUNTIF(K$1:K287,K287)=1,K287,\"\")","v":""}]
["2023-05-12","Alejandro Castanon Diaz","Diana Inlat - Rehacer Ingeurbe","01m",null,"15:12:00","15:13:00",0.98,0,1.6666666666666666E-2,1.6666666666666666E-2,{"$f":"IF(COUNTIF(K$1:K288,K288)=1,K288,\"\")","v":""}]
["2023-05-12","Alejandro Castanon Diaz","Ricardo Freelancer - Accounting","14s",null,"15:13:00","15:14:00",0.15,0,0,0,{"$f":"IF(COUNTIF(K$1:K289,K289)=1,K289,\"\")","v":""}]
["2023-05-12","Alejandro Castanon Diaz","Ricardo Freelancer - Accounting","3h 08m",null,"15:24:00","18:25:00",119.38,0,3.1333333333333333,0,{"$f":"IF(COUNTIF(K$1:K290,K290)=1,K290,\"\")","v":""}]
["2023-05-12","Alejandro Castanon Diaz","Faby - Candywax Depilaciones","05m",null,"16:54:00","16:59:00",3.42,0,8.3333333333333329E-2,0,{"$f":"IF(COUNTIF(K$1:K291,K291)=1,K291,\"\")","v":""}]
["2023-05-12","Alejandro Castanon Diaz","Ricardo Freelancer - Accounting","3h 30m",null,"19:12:00","22:47:00",133.18,0,3.5,0,{"$f":"IF(COUNTIF(K$1:K292,K292)=1,K292,\"\")","v":""}]
["2023-05-12","Alejandro Castanon Diaz","Emilio pinturas - crear plataforma","04m",null,"22:07:00","22:21:00",3.01,0,6.6666666666666666E-2,0,{"$f":"IF(COUNTIF(K$1:K293,K293)=1,K293,\"\")","v":""}]
["2023-05-12","Alejandro Castanon Diaz","Emilio Pinturas - Stock dentista","28s",null,"22:17:00","22:17:00",0.3,0,0,0,{"$f":"IF(COUNTIF(K$1:K294,K294)=1,K294,\"\")","v":""}]
["2023-05-13","Alejandro Castanon Diaz","Ricardo Freelancer - Accounting","15m",null,"02:02:00","02:18:00",9.9499999999999993,0,0.25,0,{"$f":"IF(COUNTIF(K$1:K295,K295)=1,K295,\"\")","v":""}]
["2023-05-13","Alejandro Castanon Diaz","Ricardo Freelancer - Accounting","09m",null,"10:08:00","10:18:00",6.15,0,0.15,0,{"$f":"IF(COUNTIF(K$1:K296,K296)=1,K296,\"\")","v":""}]
["2023-05-13","Alejandro Castanon Diaz","Ricardo Freelancer - Accounting","25m",null,"19:22:00","19:53:00",16.14,0,0.41666666666666669,0,{"$f":"IF(COUNTIF(K$1:K297,K297)=1,K297,\"\")","v":""}]
["2023-05-13","Alejandro Castanon Diaz","Ricardo Freelancer - Accounting","18m",null,"20:06:00","20:24:00",11.55,0,0.3,0,{"$f":"IF(COUNTIF(K$1:K298,K298)=1,K298,\"\")","v":""}]
["2023-05-13","Alejandro Castanon Diaz","Ricardo Freelancer - Accounting","1h 07m",null,"20:24:00","21:15:00",42.43,0,1.1166666666666667,0,{"$f":"IF(COUNTIF(K$1:K299,K299)=1,K299,\"\")","v":""}]
["2023-05-13","Alejandro Castanon Diaz","Ricardo Freelancer - Accounting","1h 09m",null,"21:15:00","22:06:00",44.03,0,1.1499999999999999,0,{"$f":"IF(COUNTIF(K$1:K300,K300)=1,K300,\"\")","v":""}]
["2023-05-13","Alejandro Castanon Diaz","Ricardo Freelancer - Accounting","3h 10m",null,"22:06:00","23:59:00",120.52,0,3.1666666666666665,0,{"$f":"IF(COUNTIF(K$1:K301,K301)=1,K301,\"\")","v":""}]
["2023-05-14","Alejandro Castanon Diaz","Ricardo Freelancer - Accounting","14m",null,"00:00:00","00:14:00",9.2899999999999991,0,0.23333333333333334,0,{"$f":"IF(COUNTIF(K$1:K302,K302)=1,K302,\"\")","v":""}]
["2023-05-15","Alejandro Castanon Diaz","Ricardo Freelancer - Accounting","01m",null,"12:31:00","12:33:00",1.01,0,1.6666666666666666E-2,0,{"$f":"IF(COUNTIF(K$1:K303,K303)=1,K303,\"\")","v":""}]
["2023-05-15","Alejandro Castanon Diaz","Faby - PMI Ame Sitio multilang","16m",null,"12:33:00","12:50:00",10.24,0,0.26666666666666666,0,{"$f":"IF(COUNTIF(K$1:K304,K304)=1,K304,\"\")","v":""}]
["2023-05-15","Alejandro Castanon Diaz","Diana Inlat - Rehacer Ingeurbe","34s",null,"12:34:00","12:34:00",0.36,0,0,1.6666666666666666E-2,{"$f":"IF(COUNTIF(K$1:K305,K305)=1,K305,\"\")","v":""}]
["2023-05-15","Alejandro Castanon Diaz","Ricardo Freelancer - Accounting","06m",null,"12:50:00","13:10:00",4.1500000000000004,0,0.1,0,{"$f":"IF(COUNTIF(K$1:K306,K306)=1,K306,\"\")","v":""}]
["2023-05-15","Alejandro Castanon Diaz","Diana Inlat - Rehacer Ingeurbe","03m",null,"12:54:00","13:10:00",2.52,0,0.05,1.6666666666666666E-2,{"$f":"IF(COUNTIF(K$1:K307,K307)=1,K307,\"\")","v":""}]
["2023-05-15","Alejandro Castanon Diaz","Rodrigo Techservices - WP Run4u","12s",null,"12:56:00","12:56:00",0.13,0,0,0,{"$f":"IF(COUNTIF(K$1:K308,K308)=1,K308,\"\")","v":""}]
["2023-05-15","Alejandro Castanon Diaz","Viv Freelancer - Ecommerce Wordle","07m",null,"12:56:00","13:03:00",4.67,0,0.11666666666666667,0,{"$f":"IF(COUNTIF(K$1:K309,K309)=1,K309,\"\")","v":""}]
["2023-05-15","Alejandro Castanon Diaz","Nick Advizee - fijo","55m",null,"13:01:00","13:59:00",35.17,0,0.91666666666666663,4.5333333333333332,{"$f":"IF(COUNTIF(K$1:K310,K310)=1,K310,\"\")","v":4.5333333333333332}]
["2023-05-15","Alejandro Castanon Diaz","Faby - PMI Ame Sitio multilang","02m",null,"13:06:00","13:10:00",1.67,0,3.3333333333333333E-2,0,{"$f":"IF(COUNTIF(K$1:K311,K311)=1,K311,\"\")","v":""}]
["2023-05-15","Alejandro Castanon Diaz","Miguel Bullkens - B2B Nuevo Exchange","39s",null,"13:10:00","13:11:00",0.41,0,0,0,{"$f":"IF(COUNTIF(K$1:K312,K312)=1,K312,\"\")","v":""}]
["2023-05-15","Alejandro Castanon Diaz","Pablo Nanofactura - Soporte errores","34m",null,"13:11:00","13:45:00",21.83,0,0.56666666666666665,0,{"$f":"IF(COUNTIF(K$1:K313,K313)=1,K313,\"\")","v":""}]
["2023-05-15","Alejandro Castanon Diaz","Ricardo Freelancer - Accounting","02m",null,"13:17:00","13:19:00",1.65,0,3.3333333333333333E-2,0,{"$f":"IF(COUNTIF(K$1:K314,K314)=1,K314,\"\")","v":""}]
["2023-05-15","Alejandro Castanon Diaz","Nick Advizee - fijo","1h 47m",null,"14:11:00","15:29:00",67.77,0,1.7833333333333332,4.5333333333333332,{"$f":"IF(COUNTIF(K$1:K315,K315)=1,K315,\"\")","v":""}]
["2023-05-15","Alejandro Castanon Diaz","Nick Advizee - fijo","1h 02m",null,"15:29:00","16:03:00",39.71,0,1.0333333333333334,4.5333333333333332,{"$f":"IF(COUNTIF(K$1:K316,K316)=1,K316,\"\")","v":""}]
["2023-05-15","Alejandro Castanon Diaz","Ricardo Freelancer - Accounting","03m",null,"15:37:00","15:40:00",2.19,0,0.05,0,{"$f":"IF(COUNTIF(K$1:K317,K317)=1,K317,\"\")","v":""}]
["2023-05-15","Alejandro Castanon Diaz","Nick Advizee - fijo","10m",null,"16:11:00","16:23:00",6.48,0,0.16666666666666666,4.5333333333333332,{"$f":"IF(COUNTIF(K$1:K318,K318)=1,K318,\"\")","v":""}]
["2023-05-15","Alejandro Castanon Diaz","Nick Advizee - fijo","1h 28m",null,"16:35:00","17:37:00",56.07,0,1.4666666666666668,4.5333333333333332,{"$f":"IF(COUNTIF(K$1:K319,K319)=1,K319,\"\")","v":""}]
["2023-05-15","Alejandro Castanon Diaz","Ricardo Freelancer - Accounting","15m",null,"17:37:00","17:53:00",9.99,0,0.25,0,{"$f":"IF(COUNTIF(K$1:K320,K320)=1,K320,\"\")","v":""}]
["2023-05-15","Alejandro Castanon Diaz","Viv Freelancer - Ecommerce Wordle","2h 53m",null,"17:53:00","20:52:00",109.89,0,2.8833333333333333,0,{"$f":"IF(COUNTIF(K$1:K321,K321)=1,K321,\"\")","v":""}]
["2023-05-15","Alejandro Castanon Diaz","Nick Advizee - fijo","20m",null,"18:42:00","19:02:00",12.73,0,0.33333333333333331,{"$f":"SUMIFS(J:J,C:C,C322,A:A,\">\"&$S$4)","v":4.5333333333333332},{"$f":"IF(COUNTIF(K$1:K322,K322)=1,K322,\"\")","v":""}]
["2023-05-15","Alejandro Castanon Diaz","Nick Advizee - fijo","10m",null,"19:27:00","19:37:00",6.33,0,{"$f":"IF(D323=\"\",\"\",IF(ISERROR(FIND(\"s\",D323)),IF(ISERROR(FIND(\"h \",D323)),LEFT(D323,2)/60,   LEFT(D323,FIND(\"h \",D323)-1 )+LEFT(RIGHT(D323,3),2)/60   ),0))","v":0.16666666666666666},4.5333333333333332,{"$f":"IF(COUNTIF(K$1:K323,K323)=1,K323,\"\")","v":""}]
["2023-05-15","Alejandro Castanon Diaz","Nick Advizee - fijo","18m",null,"20:07:00","20:35:00",12.01,0,0.3,4.5333333333333332,{"$f":"IF(COUNTIF(K$1:K324,K324)=1,K324,\"\")","v":""}]
["2023-05-15","Alejandro Castanon Diaz","Ricardo Freelancer - Accounting","5h 50m",null,"20:26:00","23:59:00",222.14,0,5.833333333333333,0,{"$f":"IF(COUNTIF(K$1:K325,K325)=1,K325,\"\")","v":""}]
["2023-05-15","Alejandro Castanon Diaz","Ricardo Freelancer - BDD Spotify","46s",null,"20:31:00","20:32:00",0.49,0,0,9.0666666666666682,{"$f":"IF(COUNTIF(K$1:K326,K326)=1,K326,\"\")","v":9.0666666666666682}]
["2023-05-15","Alejandro Castanon Diaz","Nick Advizee - fijo","02m",null,"20:46:00","20:49:00",1.77,0,3.3333333333333333E-2,4.5333333333333332,{"$f":"IF(COUNTIF(K$1:K327,K327)=1,K327,\"\")","v":""}]
["2023-05-15","Alejandro Castanon Diaz","Nick Advizee - fijo","01m",null,"21:02:00","21:04:00",1.1499999999999999,0,1.6666666666666666E-2,4.5333333333333332,{"$f":"IF(COUNTIF(K$1:K328,K328)=1,K328,\"\")","v":""}]
["2023-05-15","Alejandro Castanon Diaz","Nick Advizee - fijo","04m",null,"21:22:00","21:55:00",2.87,0,6.6666666666666666E-2,4.5333333333333332,{"$f":"IF(COUNTIF(K$1:K329,K329)=1,K329,\"\")","v":""}]
["2023-05-15","Alejandro Castanon Diaz","Nick Advizee - fijo","14m",null,"22:05:00","23:59:00",9.19,0,0.23333333333333334,4.5333333333333332,{"$f":"IF(COUNTIF(K$1:K330,K330)=1,K330,\"\")","v":""}]
["2023-05-16","Alejandro Castanon Diaz","Ricardo Freelancer - Accounting","4h 16m",null,"00:00:00","03:30:00",162.59,0,4.2666666666666666,0,{"$f":"IF(COUNTIF(K$1:K331,K331)=1,K331,\"\")","v":""}]
["2023-05-16","Alejandro Castanon Diaz","Nick Advizee - fijo","32s",null,"00:00:00","00:08:00",0.34,0,0,4.5333333333333332,{"$f":"IF(COUNTIF(K$1:K332,K332)=1,K332,\"\")","v":""}]
["2023-05-16","Alejandro Castanon Diaz","Ricardo Freelancer - Accounting","14m",null,"00:03:00","00:14:00",9.42,0,0.23333333333333334,0,{"$f":"IF(COUNTIF(K$1:K333,K333)=1,K333,\"\")","v":""}]
["2023-05-16","Alejandro Castanon Diaz","Nick Advizee - fijo","33s",null,"00:21:00","00:22:00",0.35,0,0,4.5333333333333332,{"$f":"IF(COUNTIF(K$1:K334,K334)=1,K334,\"\")","v":""}]
["2023-05-16","Alejandro Castanon Diaz","Nick Advizee - fijo","38s",null,"01:18:00","01:19:00",0.4,0,0,4.5333333333333332,{"$f":"IF(COUNTIF(K$1:K335,K335)=1,K335,\"\")","v":""}]
["2023-05-16","Alejandro Castanon Diaz","Nick Advizee - fijo","6s",null,"01:34:00","01:34:00",0.06,0,0,4.5333333333333332,{"$f":"IF(COUNTIF(K$1:K336,K336)=1,K336,\"\")","v":""}]
["2023-05-16","Alejandro Castanon Diaz","Nick Advizee - fijo","10m",null,"08:57:00","09:08:00",6.34,0,0.16666666666666666,4.5333333333333332,{"$f":"IF(COUNTIF(K$1:K337,K337)=1,K337,\"\")","v":""}]
["2023-05-16","Alejandro Castanon Diaz","Nick Advizee - fijo","06m",null,"12:32:00","12:40:00",3.9,0,0.1,4.5333333333333332,{"$f":"IF(COUNTIF(K$1:K338,K338)=1,K338,\"\")","v":""}]
["2023-05-16","Alejandro Castanon Diaz","Viv Freelancer - Ecommerce Wordle","32m",null,"12:35:00","13:15:00",20.350000000000001,0,0.53333333333333333,0,{"$f":"IF(COUNTIF(K$1:K339,K339)=1,K339,\"\")","v":""}]
["2023-05-16","Alejandro Castanon Diaz","Nick Advizee - fijo","43m",null,"13:15:00","14:00:00",27.35,0,0.71666666666666667,4.5333333333333332,{"$f":"IF(COUNTIF(K$1:K340,K340)=1,K340,\"\")","v":""}]
["2023-05-16","Alejandro Castanon Diaz","Viv Freelancer - Ecommerce Wordle","23m",null,"13:56:00","14:24:00",14.76,0,0.38333333333333336,0,{"$f":"IF(COUNTIF(K$1:K341,K341)=1,K341,\"\")","v":""}]
["2023-05-16","Alejandro Castanon Diaz","Viv Freelancer - Ecommerce Wordle","04m",null,"14:37:00","14:41:00",2.73,0,6.6666666666666666E-2,0,{"$f":"IF(COUNTIF(K$1:K342,K342)=1,K342,\"\")","v":""}]
["2023-05-16","Alejandro Castanon Diaz","Diana Inlat - Rehacer Ingeurbe","12m",null,"14:41:00","14:53:00",7.76,0,0.2,1.6666666666666666E-2,{"$f":"IF(COUNTIF(K$1:K343,K343)=1,K343,\"\")","v":""}]
["2023-05-16","Alejandro Castanon Diaz","Diana Inlat - Rehacer Ingeurbe","10m",null,"15:05:00","15:28:00",6.45,0,0.16666666666666666,1.6666666666666666E-2,{"$f":"IF(COUNTIF(K$1:K344,K344)=1,K344,\"\")","v":""}]
["2023-05-16","Alejandro Castanon Diaz","Viv Freelancer - Ecommerce Wordle","13m",null,"15:15:00","15:28:00",8.25,0,0.21666666666666667,0,{"$f":"IF(COUNTIF(K$1:K345,K345)=1,K345,\"\")","v":""}]
["2023-05-16","Alejandro Castanon Diaz","Viv Freelancer - Ecommerce Wordle","20m",null,"16:33:00","17:01:00",13.16,0,0.33333333333333331,0,{"$f":"IF(COUNTIF(K$1:K346,K346)=1,K346,\"\")","v":""}]
["2023-05-16","Alejandro Castanon Diaz","Diana Inlat - Rehacer Ingeurbe","07m",null,"16:40:00","16:47:00",4.6100000000000003,0,0.11666666666666667,1.6666666666666666E-2,{"$f":"IF(COUNTIF(K$1:K347,K347)=1,K347,\"\")","v":""}]
["2023-05-16","Alejandro Castanon Diaz","Diana Inlat - Rehacer Ingeurbe","27m",null,"17:01:00","17:26:00",17.39,0,0.45,1.6666666666666666E-2,{"$f":"IF(COUNTIF(K$1:K348,K348)=1,K348,\"\")","v":""}]
["2023-05-16","Alejandro Castanon Diaz","Viv Freelancer - Ecommerce Wordle","33m",null,"17:16:00","17:58:00",20.92,0,0.55000000000000004,0,{"$f":"IF(COUNTIF(K$1:K349,K349)=1,K349,\"\")","v":""}]
["2023-05-16","Alejandro Castanon Diaz","Diana Inlat - Rehacer Ingeurbe","10m",null,"17:45:00","17:58:00",6.75,0,0.16666666666666666,1.6666666666666666E-2,{"$f":"IF(COUNTIF(K$1:K350,K350)=1,K350,\"\")","v":""}]
["2023-05-16","Alejandro Castanon Diaz","Diana Inlat - Rehacer Ingeurbe","08m",null,"19:13:00","19:21:00",5.15,0,0.13333333333333333,1.6666666666666666E-2,{"$f":"IF(COUNTIF(K$1:K351,K351)=1,K351,\"\")","v":""}]
["2023-05-16","Alejandro Castanon Diaz","Viv Freelancer - Ecommerce Wordle","36m",null,"19:21:00","19:58:00",23.33,0,0.6,0,{"$f":"IF(COUNTIF(K$1:K352,K352)=1,K352,\"\")","v":""}]
["2023-05-16","Alejandro Castanon Diaz","Viv Freelancer - Ecommerce Wordle","13s",null,"21:33:00","21:33:00",0.14000000000000001,0,0,0,{"$f":"IF(COUNTIF(K$1:K353,K353)=1,K353,\"\")","v":""}]
["2023-05-16","Alejandro Castanon Diaz","Diana Inlat - Rehacer Ingeurbe","10m",null,"21:33:00","21:43:00",6.57,0,0.16666666666666666,1.6666666666666666E-2,{"$f":"IF(COUNTIF(K$1:K354,K354)=1,K354,\"\")","v":""}]
["2023-05-16","Alejandro Castanon Diaz","Diana Inlat - Rehacer Ingeurbe","22m",null,"22:22:00","22:51:00",14.49,0,0.36666666666666664,1.6666666666666666E-2,{"$f":"IF(COUNTIF(K$1:K355,K355)=1,K355,\"\")","v":""}]
["2023-05-16","Alejandro Castanon Diaz","Viv Freelancer - Ecommerce Wordle","18m",null,"22:38:00","23:06:00",11.84,0,0.3,0,{"$f":"IF(COUNTIF(K$1:K356,K356)=1,K356,\"\")","v":""}]
["2023-05-16","Alejandro Castanon Diaz","Diana Inlat - Rehacer Ingeurbe","01m",null,"23:02:00","23:05:00",1.1000000000000001,0,1.6666666666666666E-2,1.6666666666666666E-2,{"$f":"IF(COUNTIF(K$1:K357,K357)=1,K357,\"\")","v":""}]
["2023-05-17","Alejandro Castanon Diaz","Viv Freelancer - Ecommerce Wordle","02m",null,"05:57:00","05:59:00",1.47,0,3.3333333333333333E-2,0,{"$f":"IF(COUNTIF(K$1:K358,K358)=1,K358,\"\")","v":""}]
["2023-05-17","Alejandro Castanon Diaz","Viv Freelancer - Ecommerce Wordle","51m",null,"07:51:00","08:59:00",32.619999999999997,0,0.85,0,{"$f":"IF(COUNTIF(K$1:K359,K359)=1,K359,\"\")","v":""}]
["2023-05-17","Alejandro Castanon Diaz","Ricardo Freelancer - Accounting","04m",null,"12:52:00","12:57:00",3.02,0,6.6666666666666666E-2,0,{"$f":"IF(COUNTIF(K$1:K360,K360)=1,K360,\"\")","v":""}]
["2023-05-18","Alejandro Castanon Diaz","Ricardo Freelancer - Accounting","01m",null,"00:31:00","00:32:00",0.84,0,1.6666666666666666E-2,0,{"$f":"IF(COUNTIF(K$1:K361,K361)=1,K361,\"\")","v":""}]
["2023-05-18","Alejandro Castanon Diaz","Faby - Candywax Depilaciones","2s",null,"00:32:00","00:32:00",0.02,0,0,0,{"$f":"IF(COUNTIF(K$1:K362,K362)=1,K362,\"\")","v":""}]
["2023-05-18","Alejandro Castanon Diaz","Faby - PMI Ame Sitio multilang","08m",null,"00:32:00","00:41:00",5.34,0,0.13333333333333333,0,{"$f":"IF(COUNTIF(K$1:K363,K363)=1,K363,\"\")","v":""}]
["2023-05-18","Alejandro Castanon Diaz","Faby - PMI Ame Sitio multilang","45m",null,"01:07:00","01:56:00",29.03,0,0.75,0,{"$f":"IF(COUNTIF(K$1:K364,K364)=1,K364,\"\")","v":""}]
["2023-05-18","Alejandro Castanon Diaz","Ricardo Freelancer - Accounting","37m",null,"03:26:00","04:13:00",23.74,0,0.6166666666666667,0,{"$f":"IF(COUNTIF(K$1:K365,K365)=1,K365,\"\")","v":""}]
["2023-05-18","Alejandro Castanon Diaz","Ricardo Freelancer - Accounting","07m",null,"09:04:00","09:12:00",4.57,0,0.11666666666666667,0,{"$f":"IF(COUNTIF(K$1:K366,K366)=1,K366,\"\")","v":""}]
["2023-05-18","Alejandro Castanon Diaz","Ricardo Freelancer - Accounting","4h 09m",null,"19:48:00","23:59:00",157.94,0,4.1500000000000004,0,{"$f":"IF(COUNTIF(K$1:K367,K367)=1,K367,\"\")","v":""}]
["2023-05-18","Alejandro Castanon Diaz","Faby - Candywax Depilaciones","43s",null,"21:28:00","21:29:00",0.45,0,0,0,{"$f":"IF(COUNTIF(K$1:K368,K368)=1,K368,\"\")","v":""}]
["2023-05-19","Alejandro Castanon Diaz","Ricardo Freelancer - Accounting","1h 46m",null,"01:02:00","03:05:00",67.290000000000006,0,1.7666666666666666,0,{"$f":"IF(COUNTIF(K$1:K369,K369)=1,K369,\"\")","v":""}]
["2023-05-19","Alejandro Castanon Diaz","Ricardo Freelancer - Accounting","03m",null,"04:38:00","04:41:00",2.1,0,0.05,0,{"$f":"IF(COUNTIF(K$1:K370,K370)=1,K370,\"\")","v":""}]
["2023-05-19","Alejandro Castanon Diaz","Viv Freelancer - Ecommerce Wordle","13m",null,"04:41:00","04:55:00",8.77,0,0.21666666666666667,0,{"$f":"IF(COUNTIF(K$1:K371,K371)=1,K371,\"\")","v":""}]
["2023-05-19","Alejandro Castanon Diaz","Viv Freelancer - Ecommerce Wordle","1h 15m",null,"05:25:00","06:41:00",47.79,0,1.25,0,{"$f":"IF(COUNTIF(K$1:K372,K372)=1,K372,\"\")","v":""}]
["2023-05-19","Alejandro Castanon Diaz","Ricardo Freelancer - Accounting","11s",null,"06:06:00","06:06:00",0.12,0,0,0,{"$f":"IF(COUNTIF(K$1:K373,K373)=1,K373,\"\")","v":""}]
["2023-05-19","Alejandro Castanon Diaz","Ricardo Freelancer - Accounting","26s",null,"06:41:00","06:41:00",0.27,0,0,0,{"$f":"IF(COUNTIF(K$1:K374,K374)=1,K374,\"\")","v":""}]
["2023-05-19","Alejandro Castanon Diaz","Ricardo Freelancer - Accounting","1h 11m",null,"07:57:00","09:08:00",45.03,0,1.1833333333333333,0,{"$f":"IF(COUNTIF(K$1:K375,K375)=1,K375,\"\")","v":""}]
["2023-05-20","Alejandro Castanon Diaz","Ricardo Freelancer - Accounting","13m",null,"01:23:00","01:37:00",8.76,0,0.21666666666666667,0,{"$f":"IF(COUNTIF(K$1:K376,K376)=1,K376,\"\")","v":""}]
["2023-05-20","Alejandro Castanon Diaz","Ricardo Freelancer - Accounting","10m",null,"03:39:00","03:51:00",6.73,0,0.16666666666666666,0,{"$f":"IF(COUNTIF(K$1:K377,K377)=1,K377,\"\")","v":""}]
["2023-05-20","Alejandro Castanon Diaz","Faby - Candywax Depilaciones","48s",null,"03:39:00","03:40:00",0.51,0,0,0,{"$f":"IF(COUNTIF(K$1:K378,K378)=1,K378,\"\")","v":""}]
["2023-05-20","Alejandro Castanon Diaz","Ricardo Freelancer - Accounting","1h 05m",null,"05:56:00","07:05:00",41.24,0,1.0833333333333333,0,{"$f":"IF(COUNTIF(K$1:K379,K379)=1,K379,\"\")","v":""}]
["2023-05-20","Alejandro Castanon Diaz","Ricardo Freelancer - Accounting","08m",null,"07:23:00","07:32:00",5.37,0,0.13333333333333333,0,{"$f":"IF(COUNTIF(K$1:K380,K380)=1,K380,\"\")","v":""}]
["2023-05-20","Alejandro Castanon Diaz","Ricardo Freelancer - Accounting","59m",null,"09:39:00","10:38:00",37.47,0,0.98333333333333328,0,{"$f":"IF(COUNTIF(K$1:K381,K381)=1,K381,\"\")","v":""}]
["2023-05-20","Alejandro Castanon Diaz","Ricardo Freelancer - Accounting","16m",null,"11:53:00","12:09:00",10.47,0,0.26666666666666666,0,{"$f":"IF(COUNTIF(K$1:K382,K382)=1,K382,\"\")","v":""}]
["2023-05-20","Alejandro Castanon Diaz","Ricardo Freelancer - Accounting","21m",null,"12:38:00","13:07:00",13.92,0,0.35,0,{"$f":"IF(COUNTIF(K$1:K383,K383)=1,K383,\"\")","v":""}]
["2023-05-20","Alejandro Castanon Diaz","Nick Advizee - fijo","32m",null,"13:07:00","13:40:00",20.84,0,0.53333333333333333,4.5333333333333332,{"$f":"IF(COUNTIF(K$1:K384,K384)=1,K384,\"\")","v":""}]
["2023-05-21","Alejandro Castanon Diaz","Faby - Candywax Depilaciones","50s",null,"02:49:00","02:49:00",0.53,0,0,0,{"$f":"IF(COUNTIF(K$1:K385,K385)=1,K385,\"\")","v":""}]
["2023-05-21","Alejandro Castanon Diaz","Gary Hydracheck New Checkout quitar maquillaje viejo","02m",null,"02:49:00","02:52:00",1.72,0,3.3333333333333333E-2,{"$f":"SUMIFS(J:J,C:C,C386,A:A,\">\"&$S$4)","v":0},{"$f":"IF(COUNTIF(K$1:K386,K386)=1,K386,\"\")","v":""}]
["2023-05-21","Alejandro Castanon Diaz","Gary Hydracheck New Checkout quitar maquillaje viejo","03m",null,"03:13:00","03:16:00",1.91,0,{"$f":"IF(D387=\"\",\"\",IF(ISERROR(FIND(\"s\",D387)),IF(ISERROR(FIND(\"h \",D387)),LEFT(D387,2)/60,   LEFT(D387,FIND(\"h \",D387)-1 )+LEFT(RIGHT(D387,3),2)/60   ),0))","v":0.05},0,{"$f":"IF(COUNTIF(K$1:K387,K387)=1,K387,\"\")","v":""}]
["2023-05-21","Alejandro Castanon Diaz","Gary Hydracheck New Checkout quitar maquillaje viejo","31s",null,"05:40:00","05:41:00",0.33,0,0,0,{"$f":"IF(COUNTIF(K$1:K388,K388)=1,K388,\"\")","v":""}]
["2023-05-21","Alejandro Castanon Diaz","Viv Freelancer - Ecommerce Wordle","06m",null,"05:41:00","05:47:00",4.07,0,0.1,0,{"$f":"IF(COUNTIF(K$1:K389,K389)=1,K389,\"\")","v":""}]
["2023-05-21","Alejandro Castanon Diaz","Viv Freelancer - Ecommerce Wordle","29m",null,"06:08:00","06:38:00",18.54,0,0.48333333333333334,0,{"$f":"IF(COUNTIF(K$1:K390,K390)=1,K390,\"\")","v":""}]
["2023-05-21","Alejandro Castanon Diaz","Viv Freelancer - Ecommerce Wordle","10m",null,"06:52:00","07:03:00",6.85,0,0.16666666666666666,0,{"$f":"IF(COUNTIF(K$1:K391,K391)=1,K391,\"\")","v":""}]
["2023-05-22","Alejandro Castanon Diaz","Viv Freelancer - Ecommerce Wordle","07m",null,"09:53:00","10:09:00",4.51,0,0.11666666666666667,0,{"$f":"IF(COUNTIF(K$1:K392,K392)=1,K392,\"\")","v":""}]
["2023-05-22","Alejandro Castanon Diaz","Ricardo Freelancer - Accounting","09m",null,"10:00:00","10:09:00",6.05,0,0.15,0,{"$f":"IF(COUNTIF(K$1:K393,K393)=1,K393,\"\")","v":""}]
["2023-05-22","Alejandro Castanon Diaz","Viv Freelancer - Ecommerce Wordle","1h 08m",null,"14:04:00","15:20:00",43.52,0,1.1333333333333333,0,{"$f":"IF(COUNTIF(K$1:K394,K394)=1,K394,\"\")","v":""}]
["2023-05-22","Alejandro Castanon Diaz","Nick Advizee - fijo","06m",null,"14:34:00","14:41:00",4.32,0,0.1,4.5333333333333332,{"$f":"IF(COUNTIF(K$1:K395,K395)=1,K395,\"\")","v":""}]
["2023-05-22","Alejandro Castanon Diaz","Eduardo Freelancer - Inmobiliaria Cambios php pura","25m",null,"15:20:00","15:45:00",16.010000000000002,0,0.41666666666666669,1.4333333333333333,{"$f":"IF(COUNTIF(K$1:K396,K396)=1,K396,\"\")","v":1.4333333333333333}]
["2023-05-22","Alejandro Castanon Diaz","Eduardo Freelancer - Inmobiliaria Cambios php pura","03m",null,"16:04:00","16:07:00",2.19,0,0.05,1.4333333333333333,{"$f":"IF(COUNTIF(K$1:K397,K397)=1,K397,\"\")","v":""}]
["2023-05-22","Alejandro Castanon Diaz","Gary Hydracheck - Quote page makeup","06m",null,"16:07:00","16:14:00",4.04,0,0.1,0,{"$f":"IF(COUNTIF(K$1:K398,K398)=1,K398,\"\")","v":""}]
["2023-05-22","Alejandro Castanon Diaz","Viv Freelancer - hosting migration","26m",null,"16:14:00","16:47:00",17.079999999999998,0,0.43333333333333335,0,{"$f":"IF(COUNTIF(K$1:K399,K399)=1,K399,\"\")","v":""}]
["2023-05-22","Alejandro Castanon Diaz","Eduardo Freelancer - Inmobiliaria Cambios php pura","05m",null,"16:24:00","16:30:00",3.72,0,8.3333333333333329E-2,1.4333333333333333,{"$f":"IF(COUNTIF(K$1:K400,K400)=1,K400,\"\")","v":""}]
["2023-05-22","Alejandro Castanon Diaz","Diana Inlat - Rehacer Ingeurbe","10m",null,"16:47:00","16:57:00",6.8,0,0.16666666666666666,1.6666666666666666E-2,{"$f":"IF(COUNTIF(K$1:K401,K401)=1,K401,\"\")","v":""}]
["2023-05-22","Alejandro Castanon Diaz","Viv Freelancer - hosting migration","08m",null,"16:57:00","17:06:00",5.42,0,0.13333333333333333,0,{"$f":"IF(COUNTIF(K$1:K402,K402)=1,K402,\"\")","v":""}]
["2023-05-22","Alejandro Castanon Diaz","Viv Freelancer - hosting migration","07m",null,"17:25:00","17:33:00",5,0,0.11666666666666667,0,{"$f":"IF(COUNTIF(K$1:K403,K403)=1,K403,\"\")","v":""}]
["2023-05-22","Alejandro Castanon Diaz","Faby - Candywax Depilaciones","56m",null,"23:03:00","23:59:00",35.950000000000003,0,0.93333333333333335,0,{"$f":"IF(COUNTIF(K$1:K404,K404)=1,K404,\"\")","v":""}]
["2023-05-23","Alejandro Castanon Diaz","Faby - Candywax Depilaciones","46m",null,"00:00:00","00:46:00",29.45,0,0.76666666666666672,0,{"$f":"IF(COUNTIF(K$1:K405,K405)=1,K405,\"\")","v":""}]
["2023-05-23","Alejandro Castanon Diaz","Diana Inlat - Rehacer Ingeurbe","14m",null,"00:46:00","01:01:00",9.41,0,0.23333333333333334,1.6666666666666666E-2,{"$f":"IF(COUNTIF(K$1:K406,K406)=1,K406,\"\")","v":""}]
["2023-05-23","Alejandro Castanon Diaz","Viv Freelancer - Ecommerce Wordle","03m",null,"01:01:00","01:04:00",2.2999999999999998,0,0.05,0,{"$f":"IF(COUNTIF(K$1:K407,K407)=1,K407,\"\")","v":""}]
["2023-05-23","Alejandro Castanon Diaz","Gary Hydracheck New Checkout quitar maquillaje viejo","31m",null,"01:04:00","01:36:00",20.21,0,0.51666666666666672,0,{"$f":"IF(COUNTIF(K$1:K408,K408)=1,K408,\"\")","v":""}]
["2023-05-23","Alejandro Castanon Diaz","Eduardo Freelancer - Inmobiliaria Cambios php pura","10m",null,"01:36:00","02:02:00",6.34,0,0.16666666666666666,1.4333333333333333,{"$f":"IF(COUNTIF(K$1:K409,K409)=1,K409,\"\")","v":""}]
["2023-05-23","Alejandro Castanon Diaz","Ricardo Freelancer - Accounting","1h 26m",null,"01:42:00","03:13:00",54.91,0,1.4333333333333333,0,{"$f":"IF(COUNTIF(K$1:K410,K410)=1,K410,\"\")","v":""}]
["2023-05-23","Alejandro Castanon Diaz","Viv Freelancer - hosting migration","37m",null,"03:42:00","04:22:00",23.75,0,0.6166666666666667,0,{"$f":"IF(COUNTIF(K$1:K411,K411)=1,K411,\"\")","v":""}]
["2023-05-23","Alejandro Castanon Diaz","Nick Advizee - fijo","03m",null,"03:59:00","04:02:00",2.04,0,0.05,4.5333333333333332,{"$f":"IF(COUNTIF(K$1:K412,K412)=1,K412,\"\")","v":""}]
["2023-05-23","Alejandro Castanon Diaz","Nick Advizee - fijo","30m",null,"04:22:00","04:55:00",19.14,0,0.5,4.5333333333333332,{"$f":"IF(COUNTIF(K$1:K413,K413)=1,K413,\"\")","v":""}]
["2023-05-23","Alejandro Castanon Diaz","Viv Freelancer - hosting migration","01m",null,"04:37:00","04:42:00",1.2,0,1.6666666666666666E-2,0,{"$f":"IF(COUNTIF(K$1:K414,K414)=1,K414,\"\")","v":""}]
["2023-05-23","Alejandro Castanon Diaz","Viv Freelancer - hosting migration","12m",null,"04:55:00","05:07:00",7.81,0,0.2,0,{"$f":"IF(COUNTIF(K$1:K415,K415)=1,K415,\"\")","v":""}]
["2023-05-23","Alejandro Castanon Diaz","Viv Freelancer - hosting migration","10m",null,"05:22:00","05:32:00",6.39,0,0.16666666666666666,0,{"$f":"IF(COUNTIF(K$1:K416,K416)=1,K416,\"\")","v":""}]
["2023-05-23","Alejandro Castanon Diaz","Nick Advizee - fijo","10m",null,"05:48:00","06:07:00",6.52,0,0.16666666666666666,4.5333333333333332,{"$f":"IF(COUNTIF(K$1:K417,K417)=1,K417,\"\")","v":""}]
["2023-05-23","Alejandro Castanon Diaz","Viv Freelancer - hosting migration","08m",null,"05:48:00","05:57:00",5.5,0,0.13333333333333333,0,{"$f":"IF(COUNTIF(K$1:K418,K418)=1,K418,\"\")","v":""}]
["2023-05-23","Alejandro Castanon Diaz","Nick Advizee - fijo","41m",null,"07:40:00","08:23:00",26.25,0,0.68333333333333335,4.5333333333333332,{"$f":"IF(COUNTIF(K$1:K419,K419)=1,K419,\"\")","v":""}]
["2023-05-23","Alejandro Castanon Diaz","Nick Advizee - fijo","30m",null,"12:27:00","12:57:00",19.2,0,0.5,4.5333333333333332,{"$f":"IF(COUNTIF(K$1:K420,K420)=1,K420,\"\")","v":""}]
["2023-05-23","Alejandro Castanon Diaz","Xavier Bobby - Itel plugins desactivar","3s",null,"12:57:00","12:57:00",0.03,0,0,0,{"$f":"IF(COUNTIF(K$1:K421,K421)=1,K421,\"\")","v":""}]
["2023-05-23","Alejandro Castanon Diaz","Diana Inlat - Rehacer Ingeurbe","59m",null,"12:57:00","13:56:00",37.4,0,0.98333333333333328,1.6666666666666666E-2,{"$f":"IF(COUNTIF(K$1:K422,K422)=1,K422,\"\")","v":""}]
["2023-05-23","Alejandro Castanon Diaz","Viv Freelancer - Ecommerce Wordle","27m",null,"13:54:00","14:22:00",17.670000000000002,0,0.45,0,{"$f":"IF(COUNTIF(K$1:K423,K423)=1,K423,\"\")","v":""}]
["2023-05-23","Alejandro Castanon Diaz","Diana Inlat - Rehacer Ingeurbe","11m",null,"14:12:00","14:24:00",7.57,0,0.18333333333333332,1.6666666666666666E-2,{"$f":"IF(COUNTIF(K$1:K424,K424)=1,K424,\"\")","v":""}]
["2023-05-23","Alejandro Castanon Diaz","Diana Inlat - Rehacer Ingeurbe","11m",null,"16:11:00","16:23:00",7.51,0,0.18333333333333332,1.6666666666666666E-2,{"$f":"IF(COUNTIF(K$1:K425,K425)=1,K425,\"\")","v":""}]
["2023-05-23","Alejandro Castanon Diaz","Diana Inlat - Rehacer Ingeurbe","53s",null,"18:25:00","18:26:00",0.56000000000000005,0,0,1.6666666666666666E-2,{"$f":"IF(COUNTIF(K$1:K426,K426)=1,K426,\"\")","v":""}]
["2023-05-23","Alejandro Castanon Diaz","Ricardo Freelancer - Accounting","01m",null,"18:26:00","18:28:00",1.26,0,1.6666666666666666E-2,0,{"$f":"IF(COUNTIF(K$1:K427,K427)=1,K427,\"\")","v":""}]
["2023-05-23","Alejandro Castanon Diaz","Ricardo Freelancer - Accounting","16m",null,"21:46:00","22:03:00",10.31,0,0.26666666666666666,0,{"$f":"IF(COUNTIF(K$1:K428,K428)=1,K428,\"\")","v":""}]
["2023-05-23","Alejandro Castanon Diaz","Ricardo Freelancer - Accounting","1h 02m",null,"22:57:00","23:59:00",39.64,0,1.0333333333333334,0,{"$f":"IF(COUNTIF(K$1:K429,K429)=1,K429,\"\")","v":""}]
["2023-05-24","Alejandro Castanon Diaz","Ricardo Freelancer - Accounting","1h 53m",null,"00:00:00","01:53:00",72.11,0,1.8833333333333333,0,{"$f":"IF(COUNTIF(K$1:K430,K430)=1,K430,\"\")","v":""}]
["2023-05-24","Alejandro Castanon Diaz","Ricardo Freelancer - Accounting","33m",null,"05:26:00","05:59:00",21.41,0,0.55000000000000004,0,{"$f":"IF(COUNTIF(K$1:K431,K431)=1,K431,\"\")","v":""}]
["2023-05-24","Alejandro Castanon Diaz","Ricardo Freelancer - Accounting","40m",null,"09:14:00","09:54:00",25.54,0,0.66666666666666663,0,{"$f":"IF(COUNTIF(K$1:K432,K432)=1,K432,\"\")","v":""}]
["2023-05-24","Alejandro Castanon Diaz","Ricardo Freelancer - Accounting","13m",null,"11:48:00","12:02:00",8.68,0,0.21666666666666667,0,{"$f":"IF(COUNTIF(K$1:K433,K433)=1,K433,\"\")","v":""}]
["2023-05-24","Alejandro Castanon Diaz","Diana Inlat - Rehacer Ingeurbe","31m",null,"12:02:00","12:34:00",20.13,0,0.51666666666666672,1.6666666666666666E-2,{"$f":"IF(COUNTIF(K$1:K434,K434)=1,K434,\"\")","v":""}]
["2023-05-24","Alejandro Castanon Diaz","Ricardo Freelancer - Accounting","48m",null,"12:34:00","13:31:00",30.98,0,0.8,0,{"$f":"IF(COUNTIF(K$1:K435,K435)=1,K435,\"\")","v":""}]
["2023-05-24","Alejandro Castanon Diaz","Nick Advizee - fijo","32m",null,"13:31:00","14:04:00",20.65,0,0.53333333333333333,4.5333333333333332,{"$f":"IF(COUNTIF(K$1:K436,K436)=1,K436,\"\")","v":""}]
["2023-05-24","Alejandro Castanon Diaz","Ricardo Freelancer - Accounting","22m",null,"14:33:00","14:55:00",14.32,0,0.36666666666666664,0,{"$f":"IF(COUNTIF(K$1:K437,K437)=1,K437,\"\")","v":""}]
["2023-05-24","Alejandro Castanon Diaz","Ricardo Freelancer - Accounting","25m",null,"16:33:00","16:59:00",16.23,0,0.41666666666666669,0,{"$f":"IF(COUNTIF(K$1:K438,K438)=1,K438,\"\")","v":""}]
["2023-05-24","Alejandro Castanon Diaz","Viv Freelancer - hosting migration","14m",null,"16:59:00","17:14:00",9.4700000000000006,0,0.23333333333333334,0,{"$f":"IF(COUNTIF(K$1:K439,K439)=1,K439,\"\")","v":""}]
["2023-05-24","Alejandro Castanon Diaz","Viv Freelancer - hosting migration","02m",null,"17:49:00","17:51:00",1.37,0,3.3333333333333333E-2,0,{"$f":"IF(COUNTIF(K$1:K440,K440)=1,K440,\"\")","v":""}]
["2023-05-24","Alejandro Castanon Diaz","Nick Advizee - fijo","1h 34m",null,"22:22:00","23:57:00",60.1,0,1.5666666666666667,4.5333333333333332,{"$f":"IF(COUNTIF(K$1:K441,K441)=1,K441,\"\")","v":""}]
["2023-05-25","Alejandro Castanon Diaz","Ricardo Freelancer - Accounting","30m",null,"00:22:00","00:52:00",19.13,0,0.5,0,{"$f":"IF(COUNTIF(K$1:K442,K442)=1,K442,\"\")","v":""}]
["2023-05-25","Alejandro Castanon Diaz","Viv Freelancer - hosting migration","53m",null,"00:52:00","01:46:00",34,0,0.8833333333333333,0,{"$f":"IF(COUNTIF(K$1:K443,K443)=1,K443,\"\")","v":""}]
["2023-05-25","Alejandro Castanon Diaz","Nick Advizee - fijo","05m",null,"01:46:00","01:51:00",3.64,0,8.3333333333333329E-2,4.5333333333333332,{"$f":"IF(COUNTIF(K$1:K444,K444)=1,K444,\"\")","v":""}]
["2023-05-25","Alejandro Castanon Diaz","Eduardo Freelancer - Inmobiliaria Cambios php pura","53m",null,"01:51:00","03:03:00",34.020000000000003,0,0.8833333333333333,1.4333333333333333,{"$f":"IF(COUNTIF(K$1:K445,K445)=1,K445,\"\")","v":""}]
["2023-05-25","Alejandro Castanon Diaz","Gary Hydracheck New Checkout quitar maquillaje viejo","08m",null,"01:54:00","02:02:00",5.61,0,0.13333333333333333,0,{"$f":"IF(COUNTIF(K$1:K446,K446)=1,K446,\"\")","v":""}]
["2023-05-25","Alejandro Castanon Diaz","Gary Hydracheck - Quote page makeup","03m",null,"03:03:00","03:07:00",2.14,0,0.05,0,{"$f":"IF(COUNTIF(K$1:K447,K447)=1,K447,\"\")","v":""}]
["2023-05-25","Alejandro Castanon Diaz","Diana Inlat - Ingeurbe Tablet e Ingles","17m",null,"03:07:00","03:24:00",10.97,0,0.28333333333333333,0,{"$f":"IF(COUNTIF(K$1:K448,K448)=1,K448,\"\")","v":""}]
["2023-05-25","Alejandro Castanon Diaz","Eduardo Freelancer - Inmobiliaria Cambios php pura","01m",null,"03:24:00","03:26:00",1.1399999999999999,0,1.6666666666666666E-2,1.4333333333333333,{"$f":"IF(COUNTIF(K$1:K449,K449)=1,K449,\"\")","v":""}]
["2023-05-25","Alejandro Castanon Diaz","Viv Freelancer - hosting migration","01m",null,"05:33:00","05:35:00",1.21,0,1.6666666666666666E-2,{"$f":"SUMIFS(J:J,C:C,C450,A:A,\">\"&$S$4)","v":0},{"$f":"IF(COUNTIF(K$1:K450,K450)=1,K450,\"\")","v":""}]
["2023-05-25","Alejandro Castanon Diaz","Viv Freelancer - hosting migration","1h 15m",null,"09:13:00","10:29:00",47.99,0,{"$f":"IF(D451=\"\",\"\",IF(ISERROR(FIND(\"s\",D451)),IF(ISERROR(FIND(\"h \",D451)),LEFT(D451,2)/60,   LEFT(D451,FIND(\"h \",D451)-1 )+LEFT(RIGHT(D451,3),2)/60   ),0))","v":1.25},0,{"$f":"IF(COUNTIF(K$1:K451,K451)=1,K451,\"\")","v":""}]
["2023-05-25","Alejandro Castanon Diaz","Viv Freelancer - hosting migration","22m",null,"10:47:00","11:11:00",14.32,0,0.36666666666666664,0,{"$f":"IF(COUNTIF(K$1:K452,K452)=1,K452,\"\")","v":""}]
["2023-05-25","Alejandro Castanon Diaz","Faby - PMI Ame Sitio multilang","54m",null,"11:11:00","12:05:00",34.44,0,0.9,0,{"$f":"IF(COUNTIF(K$1:K453,K453)=1,K453,\"\")","v":""}]
["2023-05-25","Alejandro Castanon Diaz","Bjorn Sueco - ajustes Woo y POS","11m",null,"12:06:00","12:18:00",7.54,0,0.18333333333333332,0,{"$f":"IF(COUNTIF(K$1:K454,K454)=1,K454,\"\")","v":""}]
["2023-05-25","Alejandro Castanon Diaz","Viv Freelancer - hosting migration","15m",null,"12:18:00","12:51:00",9.85,0,0.25,0,{"$f":"IF(COUNTIF(K$1:K455,K455)=1,K455,\"\")","v":""}]
["2023-05-25","Alejandro Castanon Diaz","Nick Advizee - fijo","1h 09m",null,"12:30:00","13:49:00",43.93,0,1.1499999999999999,4.5333333333333332,{"$f":"IF(COUNTIF(K$1:K456,K456)=1,K456,\"\")","v":""}]
["2023-05-25","Alejandro Castanon Diaz","Viv Freelancer - hosting migration","02m",null,"13:06:00","13:11:00",1.35,0,3.3333333333333333E-2,0,{"$f":"IF(COUNTIF(K$1:K457,K457)=1,K457,\"\")","v":""}]
["2023-05-25","Alejandro Castanon Diaz","Viv Freelancer - hosting migration","20m",null,"13:55:00","14:16:00",13.02,0,0.33333333333333331,0,{"$f":"IF(COUNTIF(K$1:K458,K458)=1,K458,\"\")","v":""}]
["2023-05-25","Alejandro Castanon Diaz","Daren freelancer - nuevo form precisemd","25m",null,"14:11:00","14:51:00",16.34,0,0.41666666666666669,0,{"$f":"IF(COUNTIF(K$1:K459,K459)=1,K459,\"\")","v":""}]
["2023-05-25","Alejandro Castanon Diaz","Bjorn Sueco - ajustes Woo y POS","01m",null,"14:16:00","14:18:00",0.82,0,1.6666666666666666E-2,0,{"$f":"IF(COUNTIF(K$1:K460,K460)=1,K460,\"\")","v":""}]
["2023-05-25","Alejandro Castanon Diaz","Faby - Candywax Depilaciones","3s",null,"14:32:00","14:32:00",0.03,0,0,0,{"$f":"IF(COUNTIF(K$1:K461,K461)=1,K461,\"\")","v":""}]
["2023-05-25","Alejandro Castanon Diaz","Faby - PMI Ame Sitio multilang","24m",null,"14:32:00","14:56:00",15.26,0,0.4,0,{"$f":"IF(COUNTIF(K$1:K462,K462)=1,K462,\"\")","v":""}]
["2023-05-25","Alejandro Castanon Diaz","Ricardo Freelancer - Accounting","2h 46m",null,"14:51:00","17:56:00",105.62,0,2.7666666666666666,0,{"$f":"IF(COUNTIF(K$1:K463,K463)=1,K463,\"\")","v":""}]
["2023-05-25","Alejandro Castanon Diaz","Viv Freelancer - hosting migration","02m",null,"14:59:00","15:01:00",1.35,0,3.3333333333333333E-2,0,{"$f":"IF(COUNTIF(K$1:K464,K464)=1,K464,\"\")","v":""}]
["2023-05-25","Alejandro Castanon Diaz","Faby - PMI Ame Sitio multilang","0s",null,"15:03:00","15:06:00",0,0,0,0,{"$f":"IF(COUNTIF(K$1:K465,K465)=1,K465,\"\")","v":""}]
["2023-05-25","Alejandro Castanon Diaz","Faby - PMI Ame Sitio multilang","02m",null,"17:49:00","17:52:00",1.73,0,3.3333333333333333E-2,0,{"$f":"IF(COUNTIF(K$1:K466,K466)=1,K466,\"\")","v":""}]
["2023-05-25","Alejandro Castanon Diaz","Pablo Nanofactura - Soporte errores","36m",null,"17:52:00","18:28:00",23.09,0,0.6,0,{"$f":"IF(COUNTIF(K$1:K467,K467)=1,K467,\"\")","v":""}]
["2023-05-25","Alejandro Castanon Diaz","Ricardo Freelancer - Accounting","4s",null,"18:08:00","18:08:00",0.04,0,0,0,{"$f":"IF(COUNTIF(K$1:K468,K468)=1,K468,\"\")","v":""}]
["2023-05-25","Alejandro Castanon Diaz","Ricardo Freelancer - Accounting","21s",null,"18:28:00","18:28:00",0.22,0,0,0,{"$f":"IF(COUNTIF(K$1:K469,K469)=1,K469,\"\")","v":""}]
["2023-05-25","Alejandro Castanon Diaz","Faby - PMI Ame Sitio multilang","15m",null,"18:28:00","18:44:00",9.6999999999999993,0,0.25,0,{"$f":"IF(COUNTIF(K$1:K470,K470)=1,K470,\"\")","v":""}]
["2023-05-25","Alejandro Castanon Diaz","Viv Freelancer - Ecommerce Wordle","2h 15m",null,"18:59:00","21:14:00",85.53,0,2.25,0,{"$f":"IF(COUNTIF(K$1:K471,K471)=1,K471,\"\")","v":""}]
["2023-05-25","Alejandro Castanon Diaz","Ricardo Freelancer - Accounting","42m",null,"19:04:00","19:47:00",27.06,0,0.7,0,{"$f":"IF(COUNTIF(K$1:K472,K472)=1,K472,\"\")","v":""}]
["2023-05-25","Alejandro Castanon Diaz","Ricardo Freelancer - Accounting","10m",null,"20:06:00","20:16:00",6.48,0,0.16666666666666666,0,{"$f":"IF(COUNTIF(K$1:K473,K473)=1,K473,\"\")","v":""}]
["2023-05-25","Alejandro Castanon Diaz","Nick Advizee - fijo","21m",null,"21:14:00","21:35:00",13.45,0,0.35,4.5333333333333332,{"$f":"IF(COUNTIF(K$1:K474,K474)=1,K474,\"\")","v":""}]
["2023-05-25","Alejandro Castanon Diaz","Miguel Bullkens - B2B Nuevo Exchange","1h 12m",null,"21:35:00","22:48:00",46,0,1.2,0,{"$f":"IF(COUNTIF(K$1:K475,K475)=1,K475,\"\")","v":""}]
["2023-05-25","Alejandro Castanon Diaz","Ricardo Freelancer - Accounting","35m",null,"23:19:00","23:54:00",22.39,0,0.58333333333333337,0,{"$f":"IF(COUNTIF(K$1:K476,K476)=1,K476,\"\")","v":""}]
["2023-05-25","Alejandro Castanon Diaz","Faby - PMI Ame Sitio multilang","05m",null,"23:54:00","23:59:00",3.42,0,8.3333333333333329E-2,0,{"$f":"IF(COUNTIF(K$1:K477,K477)=1,K477,\"\")","v":""}]
["2023-05-26","Alejandro Castanon Diaz","Faby - PMI Ame Sitio multilang","23m",null,"00:00:00","00:25:00",14.99,0,0.38333333333333336,0,{"$f":"IF(COUNTIF(K$1:K478,K478)=1,K478,\"\")","v":""}]
["2023-05-26","Alejandro Castanon Diaz","Ricardo Freelancer - Accounting","02m",null,"00:08:00","00:10:00",1.35,0,3.3333333333333333E-2,0,{"$f":"IF(COUNTIF(K$1:K479,K479)=1,K479,\"\")","v":""}]
["2023-05-26","Alejandro Castanon Diaz","Ricardo Freelancer - Accounting","13m",null,"00:25:00","00:39:00",8.4700000000000006,0,0.21666666666666667,0,{"$f":"IF(COUNTIF(K$1:K480,K480)=1,K480,\"\")","v":""}]
["2023-05-26","Alejandro Castanon Diaz","Faby - PMI Ame Sitio multilang","33m",null,"00:39:00","01:12:00",21.34,0,0.55000000000000004,0,{"$f":"IF(COUNTIF(K$1:K481,K481)=1,K481,\"\")","v":""}]
["2023-05-26","Alejandro Castanon Diaz","Ricardo Freelancer - Accounting","47s",null,"03:50:00","03:51:00",0.5,0,0,0,{"$f":"IF(COUNTIF(K$1:K482,K482)=1,K482,\"\")","v":""}]
["2023-05-26","Alejandro Castanon Diaz","Nick Advizee - fijo","22m",null,"03:51:00","04:20:00",14.3,0,0.36666666666666664,4.5333333333333332,{"$f":"IF(COUNTIF(K$1:K483,K483)=1,K483,\"\")","v":""}]
["2023-05-26","Alejandro Castanon Diaz","Daren freelancer - nuevo form precisemd","06m",null,"04:00:00","04:06:00",3.88,0,0.1,0,{"$f":"IF(COUNTIF(K$1:K484,K484)=1,K484,\"\")","v":""}]
["2023-05-26","Alejandro Castanon Diaz","Nick Advizee - fijo","49m",null,"04:44:00","05:34:00",31.04,0,0.81666666666666665,4.5333333333333332,{"$f":"IF(COUNTIF(K$1:K485,K485)=1,K485,\"\")","v":""}]
["2023-05-26","Alejandro Castanon Diaz","Bjorn Sueco - ajustes Woo y POS","11m",null,"05:34:00","05:59:00",7.59,0,0.18333333333333332,0,{"$f":"IF(COUNTIF(K$1:K486,K486)=1,K486,\"\")","v":""}]
["2023-05-26","Alejandro Castanon Diaz","Nick Advizee - fijo","15m",null,"05:59:00","06:14:00",9.74,0,0.25,4.5333333333333332,{"$f":"IF(COUNTIF(K$1:K487,K487)=1,K487,\"\")","v":""}]
["2023-05-26","Alejandro Castanon Diaz","Nick Advizee - fijo","18s",null,"09:54:00","09:55:00",0.19,0,0,4.5333333333333332,{"$f":"IF(COUNTIF(K$1:K488,K488)=1,K488,\"\")","v":""}]
["2023-05-26","Alejandro Castanon Diaz","Viv Freelancer - hosting migration","02m",null,"09:55:00","09:57:00",1.66,0,3.3333333333333333E-2,0,{"$f":"IF(COUNTIF(K$1:K489,K489)=1,K489,\"\")","v":""}]
["2023-05-26","Alejandro Castanon Diaz","Diana Inlat - Rehacer Ingeurbe","01m",null,"09:57:00","09:59:00",1.21,0,1.6666666666666666E-2,1.6666666666666666E-2,{"$f":"IF(COUNTIF(K$1:K490,K490)=1,K490,\"\")","v":""}]
["2023-05-26","Alejandro Castanon Diaz","Diana Inlat - Ingeurbe Tablet e Ingles","02m",null,"14:07:00","14:16:00",1.75,0,3.3333333333333333E-2,0,{"$f":"IF(COUNTIF(K$1:K491,K491)=1,K491,\"\")","v":""}]
["2023-05-26","Alejandro Castanon Diaz","Eduardo Freelancer - Inmobiliaria Cambios php pura","02m",null,"14:09:00","14:16:00",1.55,0,3.3333333333333333E-2,1.4333333333333333,{"$f":"IF(COUNTIF(K$1:K492,K492)=1,K492,\"\")","v":""}]
["2023-05-26","Alejandro Castanon Diaz","Viv Freelancer - hosting migration","01m",null,"14:11:00","14:28:00",1.05,0,1.6666666666666666E-2,0,{"$f":"IF(COUNTIF(K$1:K493,K493)=1,K493,\"\")","v":""}]
["2023-05-26","Alejandro Castanon Diaz","Faby - PMI Ame Sitio multilang","08m",null,"14:12:00","14:29:00",5.21,0,0.13333333333333333,0,{"$f":"IF(COUNTIF(K$1:K494,K494)=1,K494,\"\")","v":""}]
["2023-05-26","Alejandro Castanon Diaz","Ricardo Freelancer - Accounting","03m",null,"14:15:00","14:29:00",1.92,0,0.05,0,{"$f":"IF(COUNTIF(K$1:K495,K495)=1,K495,\"\")","v":""}]
["2023-05-26","Alejandro Castanon Diaz","Gary Hydracheck - Quote page makeup","50s",null,"14:16:00","14:17:00",0.53,0,0,0,{"$f":"IF(COUNTIF(K$1:K496,K496)=1,K496,\"\")","v":""}]
["2023-05-26","Alejandro Castanon Diaz","Faby - Candywax Depilaciones","06m",null,"14:17:00","14:34:00",3.84,0,0.1,0,{"$f":"IF(COUNTIF(K$1:K497,K497)=1,K497,\"\")","v":""}]
["2023-05-26","Alejandro Castanon Diaz","Viv Freelancer - Ecommerce Wordle","01m",null,"14:18:00","14:19:00",0.72,0,1.6666666666666666E-2,0,{"$f":"IF(COUNTIF(K$1:K498,K498)=1,K498,\"\")","v":""}]
["2023-05-26","Alejandro Castanon Diaz","Eduardo Freelancer - Inmobiliaria Cambios php pura","04m",null,"14:27:00","14:42:00",2.57,0,6.6666666666666666E-2,1.4333333333333333,{"$f":"IF(COUNTIF(K$1:K499,K499)=1,K499,\"\")","v":""}]
["2023-05-26","Alejandro Castanon Diaz","Diana Inlat - Ingeurbe Tablet e Ingles","28s",null,"14:34:00","14:35:00",0.3,0,0,0,{"$f":"IF(COUNTIF(K$1:K500,K500)=1,K500,\"\")","v":""}]
["2023-05-26","Alejandro Castanon Diaz","yo - FIRE Business online","04m",null,"14:36:00","14:41:00",3.15,0,6.6666666666666666E-2,0,{"$f":"IF(COUNTIF(K$1:K501,K501)=1,K501,\"\")","v":""}]
["2023-05-26","Alejandro Castanon Diaz","Faby - PMI Ame Sitio multilang","30m",null,"14:42:00","15:13:00",19.23,0,0.5,0,{"$f":"IF(COUNTIF(K$1:K502,K502)=1,K502,\"\")","v":""}]
["2023-05-26","Alejandro Castanon Diaz","Eduardo Freelancer - Inmobiliaria Cambios php pura","07m",null,"15:13:00","15:20:00",4.8899999999999997,0,0.11666666666666667,1.4333333333333333,{"$f":"IF(COUNTIF(K$1:K503,K503)=1,K503,\"\")","v":""}]
["2023-05-26","Alejandro Castanon Diaz","Ricardo Freelancer - Accounting","05m",null,"15:20:00","15:26:00",3.41,0,8.3333333333333329E-2,0,{"$f":"IF(COUNTIF(K$1:K504,K504)=1,K504,\"\")","v":""}]
["2023-05-26","Alejandro Castanon Diaz","Gary Hydracheck - Quote page makeup","1h 09m",null,"15:26:00","16:52:00",43.85,0,1.1499999999999999,0,{"$f":"IF(COUNTIF(K$1:K505,K505)=1,K505,\"\")","v":""}]
["2023-05-26","Alejandro Castanon Diaz","Diana Inlat - Rehacer Ingeurbe","24m",null,"15:38:00","16:03:00",15.2,0,0.4,1.6666666666666666E-2,{"$f":"IF(COUNTIF(K$1:K506,K506)=1,K506,\"\")","v":""}]
["2023-05-26","Alejandro Castanon Diaz","Ricardo Freelancer - Accounting","04m",null,"15:39:00","15:50:00",2.69,0,6.6666666666666666E-2,0,{"$f":"IF(COUNTIF(K$1:K507,K507)=1,K507,\"\")","v":""}]
["2023-05-26","Alejandro Castanon Diaz","Eduardo Freelancer - Inmobiliaria Cambios php pura","37s",null,"15:49:00","15:50:00",0.39,0,0,1.4333333333333333,{"$f":"IF(COUNTIF(K$1:K508,K508)=1,K508,\"\")","v":""}]
["2023-05-26","Alejandro Castanon Diaz","Faby - PMI Ame Sitio multilang","04m",null,"16:02:00","16:06:00",2.77,0,6.6666666666666666E-2,0,{"$f":"IF(COUNTIF(K$1:K509,K509)=1,K509,\"\")","v":""}]
["2023-05-26","Alejandro Castanon Diaz","Nick Advizee - fijo","4s",null,"16:03:00","16:03:00",0.04,0,0,4.5333333333333332,{"$f":"IF(COUNTIF(K$1:K510,K510)=1,K510,\"\")","v":""}]
["2023-05-26","Alejandro Castanon Diaz","Nick Advizee - fijo","08m",null,"16:33:00","16:45:00",5.29,0,0.13333333333333333,4.5333333333333332,{"$f":"IF(COUNTIF(K$1:K511,K511)=1,K511,\"\")","v":""}]
["2023-05-26","Alejandro Castanon Diaz","Rodrigo - Techservices Hosting","20m",null,"16:35:00","16:55:00",12.67,0,0.33333333333333331,0,{"$f":"IF(COUNTIF(K$1:K512,K512)=1,K512,\"\")","v":""}]
["2023-05-26","Alejandro Castanon Diaz","Xavier Bobby - Itel plugins desactivar","12m",null,"16:45:00","16:57:00",8.0299999999999994,0,0.2,0,{"$f":"IF(COUNTIF(K$1:K513,K513)=1,K513,\"\")","v":""}]
["2023-05-26","Alejandro Castanon Diaz","Eduardo Freelancer - Inmobiliaria Cambios php pura","03m",null,"16:48:00","16:51:00",2.16,0,0.05,{"$f":"SUMIFS(J:J,C:C,C514,A:A,\">\"&$S$4)","v":1.4333333333333333},{"$f":"IF(COUNTIF(K$1:K514,K514)=1,K514,\"\")","v":""}]
["2023-05-26","Alejandro Castanon Diaz","Diana Inlat - Ingeurbe Tablet e Ingles","05m",null,"16:52:00","16:58:00",3.77,0,{"$f":"IF(D515=\"\",\"\",IF(ISERROR(FIND(\"s\",D515)),IF(ISERROR(FIND(\"h \",D515)),LEFT(D515,2)/60,   LEFT(D515,FIND(\"h \",D515)-1 )+LEFT(RIGHT(D515,3),2)/60   ),0))","v":8.3333333333333329E-2},0,{"$f":"IF(COUNTIF(K$1:K515,K515)=1,K515,\"\")","v":""}]
["2023-05-26","Alejandro Castanon Diaz","Nick Advizee - fijo","12s",null,"16:57:00","16:57:00",0.13,0,0,4.5333333333333332,{"$f":"IF(COUNTIF(K$1:K516,K516)=1,K516,\"\")","v":""}]
["2023-05-26","Alejandro Castanon Diaz","Faby - PMI Ame Sitio multilang","25m",null,"16:58:00","17:23:00",15.89,0,0.41666666666666669,0,{"$f":"IF(COUNTIF(K$1:K517,K517)=1,K517,\"\")","v":""}]
["2023-05-27","Alejandro Castanon Diaz","Nick Advizee - fijo","09m",null,"01:16:00","01:26:00",6.24,0,0.15,4.5333333333333332,{"$f":"IF(COUNTIF(K$1:K518,K518)=1,K518,\"\")","v":""}]
["2023-05-29","Alejandro Castanon Diaz","Nick Advizee - fijo","25m",null,"00:11:00","00:38:00",16.440000000000001,0,0.41666666666666669,4.5333333333333332,{"$f":"IF(COUNTIF(K$1:K519,K519)=1,K519,\"\")","v":""}]
["2023-05-29","Alejandro Castanon Diaz","Nick Advizee - fijo","28s",null,"07:34:00","07:35:00",0.3,0,0,4.5333333333333332,{"$f":"IF(COUNTIF(K$1:K520,K520)=1,K520,\"\")","v":""}]
["2023-05-29","Alejandro Castanon Diaz","Gary Hydracheck New Checkout quitar maquillaje viejo","18m",null,"10:41:00","10:59:00",11.63,0,0.3,0,{"$f":"IF(COUNTIF(K$1:K521,K521)=1,K521,\"\")","v":""}]
["2023-05-29","Alejandro Castanon Diaz","Gary Hydracheck New Checkout quitar maquillaje viejo","02m",null,"11:46:00","11:49:00",1.6,0,3.3333333333333333E-2,0,{"$f":"IF(COUNTIF(K$1:K522,K522)=1,K522,\"\")","v":""}]
["2023-05-30","Alejandro Castanon Diaz","Gary Hydracheck New Checkout quitar maquillaje viejo","03m",null,"04:18:00","04:21:00",1.98,0,0.05,0,{"$f":"IF(COUNTIF(K$1:K523,K523)=1,K523,\"\")","v":""}]
["2023-05-30","Alejandro Castanon Diaz","Gary Hydracheck New Checkout quitar maquillaje viejo","01m",null,"05:58:00","06:00:00",1.07,0,1.6666666666666666E-2,0,{"$f":"IF(COUNTIF(K$1:K524,K524)=1,K524,\"\")","v":""}]
["2023-05-30","Alejandro Castanon Diaz","Bjorn Sueco - ajustes Woo y POS","09m",null,"06:00:00","06:09:00",5.77,0,0.15,0,{"$f":"IF(COUNTIF(K$1:K525,K525)=1,K525,\"\")","v":""}]
["2023-05-30","Alejandro Castanon Diaz","Bjorn Sueco - ajustes Woo y POS","18m",null,"06:30:00","06:54:00",11.6,0,0.3,0,{"$f":"IF(COUNTIF(K$1:K526,K526)=1,K526,\"\")","v":""}]
["2023-05-30","Alejandro Castanon Diaz","Eduardo Freelancer - Inmobiliaria Cambios php pura","03m",null,"06:35:00","06:38:00",2.2799999999999998,0,0.05,1.4333333333333333,{"$f":"IF(COUNTIF(K$1:K527,K527)=1,K527,\"\")","v":""}]
["2023-05-30","Alejandro Castanon Diaz","Bjorn Sueco - ajustes Woo y POS","24m",null,"08:42:00","09:11:00",15.27,0,0.4,0,{"$f":"IF(COUNTIF(K$1:K528,K528)=1,K528,\"\")","v":""}]
["2023-05-30","Alejandro Castanon Diaz","Nick Advizee - fijo","04m",null,"08:48:00","08:53:00",3.02,0,6.6666666666666666E-2,4.5333333333333332,{"$f":"IF(COUNTIF(K$1:K529,K529)=1,K529,\"\")","v":""}]
["2023-05-30","Alejandro Castanon Diaz","Nick Advizee - fijo","07m",null,"09:27:00","09:35:00",5.0599999999999996,0,0.11666666666666667,4.5333333333333332,{"$f":"IF(COUNTIF(K$1:K530,K530)=1,K530,\"\")","v":""}]
["2023-05-30","Alejandro Castanon Diaz","Bjorn Sueco - ajustes Woo y POS","25s",null,"09:27:00","09:27:00",0.26,0,0,0,{"$f":"IF(COUNTIF(K$1:K531,K531)=1,K531,\"\")","v":""}]
["2023-05-30","Alejandro Castanon Diaz","Nick Advizee - fijo","11s",null,"09:53:00","09:53:00",0.12,0,0,4.5333333333333332,{"$f":"IF(COUNTIF(K$1:K532,K532)=1,K532,\"\")","v":""}]
["2023-05-30","Alejandro Castanon Diaz","Viv Freelancer - hosting migration","59m",null,"13:09:00","14:09:00",37.79,0,0.98333333333333328,0,{"$f":"IF(COUNTIF(K$1:K533,K533)=1,K533,\"\")","v":""}]
["2023-05-30","Alejandro Castanon Diaz","Nick Advizee - fijo","2h 25m",null,"15:32:00","17:58:00",92.15,0,2.4166666666666665,4.5333333333333332,{"$f":"IF(COUNTIF(K$1:K534,K534)=1,K534,\"\")","v":""}]
["2023-05-31","Alejandro Castanon Diaz","Viv Freelancer - Ecommerce Wordle","15m",null,"01:44:00","01:59:00",9.9600000000000009,0,0.25,0,{"$f":"IF(COUNTIF(K$1:K535,K535)=1,K535,\"\")","v":""}]
["2023-05-31","Alejandro Castanon Diaz","Viv Freelancer - Ecommerce Wordle","10m",null,"02:10:00","02:20:00",6.33,0,0.16666666666666666,0,{"$f":"IF(COUNTIF(K$1:K536,K536)=1,K536,\"\")","v":""}]
["2023-05-31","Alejandro Castanon Diaz","Viv Freelancer - Ecommerce Wordle","06m",null,"03:21:00","03:27:00",3.97,0,0.1,0,{"$f":"IF(COUNTIF(K$1:K537,K537)=1,K537,\"\")","v":""}]
["2023-05-31","Alejandro Castanon Diaz","Gary Hydracheck New Checkout quitar maquillaje viejo","04m",null,"08:34:00","08:39:00",2.96,0,6.6666666666666666E-2,0,{"$f":"IF(COUNTIF(K$1:K538,K538)=1,K538,\"\")","v":""}]
["2023-05-31","Alejandro Castanon Diaz","Faby - PMI Ame Sitio multilang","01m",null,"16:15:00","16:17:00",0.75,0,1.6666666666666666E-2,0,{"$f":"IF(COUNTIF(K$1:K539,K539)=1,K539,\"\")","v":""}]
["2023-05-31","Alejandro Castanon Diaz","Gary Hydracheck New Checkout quitar maquillaje viejo","16m",null,"16:28:00","16:45:00",10.76,0,0.26666666666666666,0,{"$f":"IF(COUNTIF(K$1:K540,K540)=1,K540,\"\")","v":""}]
["2023-05-31","Alejandro Castanon Diaz","Ricardo Freelancer - Accounting","1h 02m",null,"16:33:00","17:35:00",39.380000000000003,0,1.0333333333333334,0,{"$f":"IF(COUNTIF(K$1:K541,K541)=1,K541,\"\")","v":""}]
["2023-05-31","Alejandro Castanon Diaz","Gary Hydracheck New Checkout quitar maquillaje viejo","22m",null,"17:03:00","17:26:00",14.52,0,0.36666666666666664,0,{"$f":"IF(COUNTIF(K$1:K542,K542)=1,K542,\"\")","v":""}]
["2023-05-31","Alejandro Castanon Diaz","Gary Hydracheck - Quote page makeup","32s",null,"17:49:00","17:49:00",0.34,0,0,0,{"$f":"IF(COUNTIF(K$1:K543,K543)=1,K543,\"\")","v":""}]
["2023-05-31","Alejandro Castanon Diaz","Diana Inlat - Rehacer Ingeurbe","30m",null,"18:21:00","19:09:00",19.34,0,0.5,1.6666666666666666E-2,{"$f":"IF(COUNTIF(K$1:K544,K544)=1,K544,\"\")","v":""}]
["2023-05-31","Alejandro Castanon Diaz","Gary Hydracheck New Checkout quitar maquillaje viejo","01m",null,"18:55:00","18:56:00",0.97,0,1.6666666666666666E-2,0,{"$f":"IF(COUNTIF(K$1:K545,K545)=1,K545,\"\")","v":""}]
["2023-06-01","Alejandro Castanon Diaz","Xavier Bobby - Itel Speedup","15m",null,"01:20:00","01:36:00",9.66,0,0.25,0,{"$f":"IF(COUNTIF(K$1:K546,K546)=1,K546,\"\")","v":""}]
["2023-06-01","Alejandro Castanon Diaz","Faby - LB Logistics","24s",null,"01:36:00","01:36:00",0.25,0,0,0,{"$f":"IF(COUNTIF(K$1:K547,K547)=1,K547,\"\")","v":""}]
["2023-06-01","Alejandro Castanon Diaz","Eduardo Freelancer - Inmobiliaria Cambios php pura","1h 33m",null,"01:36:00","03:10:00",59.31,0,1.55,1.4333333333333333,{"$f":"IF(COUNTIF(K$1:K548,K548)=1,K548,\"\")","v":""}]
["2023-06-01","Alejandro Castanon Diaz","Diana Inlat - Rehacer Ingeurbe","01m",null,"01:56:00","01:58:00",1.1200000000000001,0,1.6666666666666666E-2,1.6666666666666666E-2,{"$f":"IF(COUNTIF(K$1:K549,K549)=1,K549,\"\")","v":""}]
["2023-06-01","Alejandro Castanon Diaz","Daren freelancer - nuevo form precisemd","19s",null,"07:24:00","07:26:00",0.2,0,0,0,{"$f":"IF(COUNTIF(K$1:K550,K550)=1,K550,\"\")","v":""}]
["2023-06-01","Alejandro Castanon Diaz","Daren freelancer - nuevo form precisemd","13s",null,"07:40:00","07:40:00",0.14000000000000001,0,0,0,{"$f":"IF(COUNTIF(K$1:K551,K551)=1,K551,\"\")","v":""}]
["2023-06-01","Alejandro Castanon Diaz","Bjorn Sueco - ajustes Woo y POS","06m",null,"09:20:00","09:26:00",3.95,0,0.1,0,{"$f":"IF(COUNTIF(K$1:K552,K552)=1,K552,\"\")","v":""}]
["2023-06-01","Alejandro Castanon Diaz","Daren freelancer - nuevo form precisemd","1h 26m",null,"13:50:00","15:26:00",54.83,0,1.4333333333333333,0,{"$f":"IF(COUNTIF(K$1:K553,K553)=1,K553,\"\")","v":""}]
["2023-06-02","Alejandro Castanon Diaz","Bjorn Sueco - ajustes Woo y POS","33s",null,"02:05:00","02:05:00",0.35,0,0,0,{"$f":"IF(COUNTIF(K$1:K554,K554)=1,K554,\"\")","v":""}]
["2023-06-02","Alejandro Castanon Diaz","Ricardo Freelancer - Accounting","49m",null,"02:05:00","03:01:00",31.13,0,0.81666666666666665,0,{"$f":"IF(COUNTIF(K$1:K555,K555)=1,K555,\"\")","v":""}]
["2023-06-02","Alejandro Castanon Diaz","Ricardo Freelancer - Accounting","17m",null,"03:52:00","04:11:00",11.01,0,0.28333333333333333,0,{"$f":"IF(COUNTIF(K$1:K556,K556)=1,K556,\"\")","v":""}]
["2023-06-02","Alejandro Castanon Diaz","Ricardo Freelancer - Accounting","10m",null,"04:23:00","04:33:00",6.48,0,0.16666666666666666,0,{"$f":"IF(COUNTIF(K$1:K557,K557)=1,K557,\"\")","v":""}]
["2023-06-02","Alejandro Castanon Diaz","Ricardo Freelancer - Accounting","41m",null,"14:20:00","15:02:00",26.41,0,0.68333333333333335,0,{"$f":"IF(COUNTIF(K$1:K558,K558)=1,K558,\"\")","v":""}]
["2023-06-02","Alejandro Castanon Diaz","Ricardo Freelancer - Accounting","5s",null,"21:06:00","21:06:00",0.05,0,0,0,{"$f":"IF(COUNTIF(K$1:K559,K559)=1,K559,\"\")","v":""}]
["2023-06-02","Alejandro Castanon Diaz","Gary Hydracheck New Checkout quitar maquillaje viejo","27m",null,"21:06:00","21:34:00",17.420000000000002,0,0.45,0,{"$f":"IF(COUNTIF(K$1:K560,K560)=1,K560,\"\")","v":""}]
["2023-06-02","Alejandro Castanon Diaz","Ricardo Freelancer - Accounting","03m",null,"21:34:00","21:37:00",1.93,0,0.05,0,{"$f":"IF(COUNTIF(K$1:K561,K561)=1,K561,\"\")","v":""}]
["2023-06-02","Alejandro Castanon Diaz","Ricardo Freelancer - Accounting","13m",null,"22:22:00","22:42:00",8.73,0,0.21666666666666667,0,{"$f":"IF(COUNTIF(K$1:K562,K562)=1,K562,\"\")","v":""}]
["2023-06-03","Alejandro Castanon Diaz","Daren freelancer - nuevo form precisemd","16m",null,"05:24:00","05:40:00",10.210000000000001,0,0.26666666666666666,0,{"$f":"IF(COUNTIF(K$1:K563,K563)=1,K563,\"\")","v":""}]
["2023-06-03","Alejandro Castanon Diaz","Gary Hydracheck New Checkout quitar maquillaje viejo","05m",null,"05:40:00","05:46:00",3.68,0,8.3333333333333329E-2,0,{"$f":"IF(COUNTIF(K$1:K564,K564)=1,K564,\"\")","v":""}]
["2023-06-03","Alejandro Castanon Diaz","Ricardo Freelancer - Accounting","06m",null,"05:46:00","05:53:00",4.2300000000000004,0,0.1,0,{"$f":"IF(COUNTIF(K$1:K565,K565)=1,K565,\"\")","v":""}]
["2023-06-04","Alejandro Castanon Diaz","Ricardo Freelancer - Accounting","01m",null,"23:26:00","23:28:00",1.1299999999999999,0,1.6666666666666666E-2,0,{"$f":"IF(COUNTIF(K$1:K566,K566)=1,K566,\"\")","v":""}]
["2023-06-04","Alejandro Castanon Diaz","Gary Hydracheck New Checkout quitar maquillaje viejo","02m",null,"23:28:00","23:30:00",1.63,0,3.3333333333333333E-2,0,{"$f":"IF(COUNTIF(K$1:K567,K567)=1,K567,\"\")","v":""}]
["2023-06-04","Alejandro Castanon Diaz","Bjorn Sueco - ajustes Woo y POS","03m",null,"23:30:00","23:34:00",2.0499999999999998,0,0.05,0,{"$f":"IF(COUNTIF(K$1:K568,K568)=1,K568,\"\")","v":""}]
["2023-06-05","Alejandro Castanon Diaz","Bjorn Sueco - ajustes Woo y POS","31m",null,"00:37:00","01:11:00",19.899999999999999,0,0.51666666666666672,0,{"$f":"IF(COUNTIF(K$1:K569,K569)=1,K569,\"\")","v":""}]
["2023-06-05","Alejandro Castanon Diaz","Ricardo Freelancer - Accounting","45m",null,"01:11:00","02:02:00",29.1,0,0.75,0,{"$f":"IF(COUNTIF(K$1:K570,K570)=1,K570,\"\")","v":""}]
["2023-06-05","Alejandro Castanon Diaz","Bjorn Sueco - ajustes Woo y POS","2s",null,"01:33:00","01:33:00",0.02,0,0,0,{"$f":"IF(COUNTIF(K$1:K571,K571)=1,K571,\"\")","v":""}]
["2023-06-05","Alejandro Castanon Diaz","Bjorn Sueco - ajustes Woo y POS","02m",null,"01:48:00","01:52:00",1.72,0,3.3333333333333333E-2,0,{"$f":"IF(COUNTIF(K$1:K572,K572)=1,K572,\"\")","v":""}]
["2023-06-05","Alejandro Castanon Diaz","Bjorn Sueco - ajustes Woo y POS","7s",null,"02:02:00","02:03:00",7.0000000000000007E-2,0,0,0,{"$f":"IF(COUNTIF(K$1:K573,K573)=1,K573,\"\")","v":""}]
["2023-06-05","Alejandro Castanon Diaz","Gary Hydracheck New Checkout quitar maquillaje viejo","12m",null,"10:47:00","10:59:00",7.79,0,0.2,0,{"$f":"IF(COUNTIF(K$1:K574,K574)=1,K574,\"\")","v":""}]
["2023-06-05","Alejandro Castanon Diaz","Gary Hydracheck New Checkout quitar maquillaje viejo","03m",null,"21:46:00","21:49:00",2.2000000000000002,0,0.05,0,{"$f":"IF(COUNTIF(K$1:K575,K575)=1,K575,\"\")","v":""}]
["2023-06-05","Alejandro Castanon Diaz","Ricardo Freelancer - Accounting","11m",null,"21:49:00","22:16:00",7.28,0,0.18333333333333332,0,{"$f":"IF(COUNTIF(K$1:K576,K576)=1,K576,\"\")","v":""}]
["2023-06-05","Alejandro Castanon Diaz","Gary Hydracheck New Checkout quitar maquillaje viejo","43s",null,"22:16:00","22:17:00",0.45,0,0,0,{"$f":"IF(COUNTIF(K$1:K577,K577)=1,K577,\"\")","v":""}]
["2023-06-05","Alejandro Castanon Diaz","Gary Hydracheck New Checkout quitar maquillaje viejo","05m",null,"23:34:00","23:39:00",3.45,0,8.3333333333333329E-2,{"$f":"SUMIFS(J:J,C:C,C578,A:A,\">\"&$S$4)","v":0},{"$f":"IF(COUNTIF(K$1:K578,K578)=1,K578,\"\")","v":""}]
["2023-06-06","Alejandro Castanon Diaz","Ricardo Freelancer - Accounting","2h 42m",null,"06:02:00","08:47:00",103.13,0,{"$f":"IF(D579=\"\",\"\",IF(ISERROR(FIND(\"s\",D579)),IF(ISERROR(FIND(\"h \",D579)),LEFT(D579,2)/60,   LEFT(D579,FIND(\"h \",D579)-1 )+LEFT(RIGHT(D579,3),2)/60   ),0))","v":2.7},0,{"$f":"IF(COUNTIF(K$1:K579,K579)=1,K579,\"\")","v":""}]
["2023-06-06","Alejandro Castanon Diaz","Bjorn Sueco - ajustes Woo y POS","01m",null,"06:03:00","06:04:00",1.18,0,1.6666666666666666E-2,0,{"$f":"IF(COUNTIF(K$1:K580,K580)=1,K580,\"\")","v":""}]
["2023-06-06","Alejandro Castanon Diaz","Gary Hydracheck New Checkout quitar maquillaje viejo","44m",null,"09:03:00","09:48:00",28.3,0,0.73333333333333328,0,{"$f":"IF(COUNTIF(K$1:K581,K581)=1,K581,\"\")","v":""}]
["2023-06-06","Alejandro Castanon Diaz","Gary Hydracheck New Checkout quitar maquillaje viejo","24s",null,"13:02:00","13:02:00",0.25,0,0,0,{"$f":"IF(COUNTIF(K$1:K582,K582)=1,K582,\"\")","v":""}]
["2023-06-06","Alejandro Castanon Diaz","Gary Hydracheck New Checkout quitar maquillaje viejo","33s",null,"16:14:00","16:15:00",0.35,0,0,0,{"$f":"IF(COUNTIF(K$1:K583,K583)=1,K583,\"\")","v":""}]
["2023-06-06","Alejandro Castanon Diaz","Diana Inlat - Rehacer Ingeurbe","1h 15m",null,"16:15:00","17:30:00",47.5,0,1.25,1.6666666666666666E-2,{"$f":"IF(COUNTIF(K$1:K584,K584)=1,K584,\"\")","v":""}]
["2023-06-06","Alejandro Castanon Diaz","Diana Inlat - Rehacer Ingeurbe","01m",null,"17:47:00","17:48:00",0.63,0,1.6666666666666666E-2,1.6666666666666666E-2,{"$f":"IF(COUNTIF(K$1:K585,K585)=1,K585,\"\")","v":""}]
["2023-06-06","Alejandro Castanon Diaz","Mama Madhu - prestamo","12m",null,"21:32:00","21:44:00",7.75,0,0.2,0,{"$f":"IF(COUNTIF(K$1:K586,K586)=1,K586,\"\")","v":""}]
["2023-06-06","Alejandro Castanon Diaz","Gary Hydracheck New Checkout quitar maquillaje viejo","22m",null,"21:44:00","22:06:00",14.1,0,0.36666666666666664,0,{"$f":"IF(COUNTIF(K$1:K587,K587)=1,K587,\"\")","v":""}]
["2023-06-06","Alejandro Castanon Diaz","Daren freelancer - nuevo form precisemd","1h 33m",null,"22:06:00","23:57:00",59.1,0,1.55,0,{"$f":"IF(COUNTIF(K$1:K588,K588)=1,K588,\"\")","v":""}]
["2023-06-06","Alejandro Castanon Diaz","Viv Freelancer - Ecommerce Wordle","06m",null,"22:07:00","22:14:00",4.38,0,0.1,0,{"$f":"IF(COUNTIF(K$1:K589,K589)=1,K589,\"\")","v":""}]
["2023-06-06","Alejandro Castanon Diaz","Bjorn Sueco - ajustes Woo y POS","01m",null,"22:14:00","22:15:00",0.95,0,1.6666666666666666E-2,0,{"$f":"IF(COUNTIF(K$1:K590,K590)=1,K590,\"\")","v":""}]
["2023-06-06","Alejandro Castanon Diaz","Faby - Suscr. super semanal","01m",null,"22:15:00","22:17:00",0.89,0,1.6666666666666666E-2,0,{"$f":"IF(COUNTIF(K$1:K591,K591)=1,K591,\"\")","v":""}]
["2023-06-06","Alejandro Castanon Diaz","Ricardo Freelancer - Accounting","01m",null,"23:56:00","23:59:00",0.92,0,1.6666666666666666E-2,0,{"$f":"IF(COUNTIF(K$1:K592,K592)=1,K592,\"\")","v":""}]
["2023-06-06","Alejandro Castanon Diaz","Bjorn Sueco - ajustes Woo y POS","57s",null,"23:58:00","23:59:00",0.6,0,0,0,{"$f":"IF(COUNTIF(K$1:K593,K593)=1,K593,\"\")","v":""}]
["2023-06-07","Alejandro Castanon Diaz","Bjorn Sueco - ajustes Woo y POS","23m",null,"00:00:00","00:23:00",14.61,0,0.38333333333333336,0,{"$f":"IF(COUNTIF(K$1:K594,K594)=1,K594,\"\")","v":""}]
["2023-06-07","Alejandro Castanon Diaz","Ricardo Freelancer - Accounting","1h 27m",null,"00:23:00","01:50:00",55.67,0,1.45,0,{"$f":"IF(COUNTIF(K$1:K595,K595)=1,K595,\"\")","v":""}]
["2023-06-07","Alejandro Castanon Diaz","Daren freelancer - nuevo form precisemd","29m",null,"01:50:00","02:20:00",18.399999999999999,0,0.48333333333333334,0,{"$f":"IF(COUNTIF(K$1:K596,K596)=1,K596,\"\")","v":""}]
["2023-06-07","Alejandro Castanon Diaz","Diana Inlat - Rehacer Ingeurbe","03m",null,"03:31:00","03:35:00",2.0499999999999998,0,0.05,1.6666666666666666E-2,{"$f":"IF(COUNTIF(K$1:K597,K597)=1,K597,\"\")","v":""}]
["2023-06-07","Alejandro Castanon Diaz","Diana Inlat - Rehacer Ingeurbe","16m",null,"04:42:00","04:59:00",10.63,0,0.26666666666666666,1.6666666666666666E-2,{"$f":"IF(COUNTIF(K$1:K598,K598)=1,K598,\"\")","v":""}]
["2023-06-07","Alejandro Castanon Diaz","Diana Inlat - Rehacer Ingeurbe","16m",null,"05:24:00","05:40:00",10.220000000000001,0,0.26666666666666666,1.6666666666666666E-2,{"$f":"IF(COUNTIF(K$1:K599,K599)=1,K599,\"\")","v":""}]
["2023-06-07","Alejandro Castanon Diaz","Ricardo Freelancer - Accounting","31m",null,"11:39:00","12:10:00",19.63,0,0.51666666666666672,0,{"$f":"IF(COUNTIF(K$1:K600,K600)=1,K600,\"\")","v":""}]
["2023-06-07","Alejandro Castanon Diaz","Diana Inlat - Rehacer Ingeurbe","1h 21m",null,"11:52:00","13:14:00",51.6,0,1.35,1.6666666666666666E-2,{"$f":"IF(COUNTIF(K$1:K601,K601)=1,K601,\"\")","v":""}]
["2023-06-07","Alejandro Castanon Diaz","Eduardo Freelancer - Inmobiliaria Cambios php pura","04m",null,"12:10:00","12:14:00",2.82,0,6.6666666666666666E-2,1.4333333333333333,{"$f":"IF(COUNTIF(K$1:K602,K602)=1,K602,\"\")","v":""}]
["2023-06-07","Alejandro Castanon Diaz","Daren freelancer - nuevo form precisemd","09m",null,"12:14:00","12:24:00",6.09,0,0.15,0,{"$f":"IF(COUNTIF(K$1:K603,K603)=1,K603,\"\")","v":""}]
["2023-06-07","Alejandro Castanon Diaz","Bjorn Sueco - ajustes Woo y POS","15m",null,"12:24:00","12:39:00",9.61,0,0.25,0,{"$f":"IF(COUNTIF(K$1:K604,K604)=1,K604,\"\")","v":""}]
["2023-06-07","Alejandro Castanon Diaz","Faby - PMI Ame Sitio multilang","11s",null,"12:32:00","12:32:00",0.12,0,0,0,{"$f":"IF(COUNTIF(K$1:K605,K605)=1,K605,\"\")","v":""}]
["2023-06-07","Alejandro Castanon Diaz","Diana Inlat - Rehacer Ingeurbe","46s",null,"18:38:00","18:39:00",0.49,0,0,1.6666666666666666E-2,{"$f":"IF(COUNTIF(K$1:K606,K606)=1,K606,\"\")","v":""}]
["2023-06-07","Alejandro Castanon Diaz","Eduardo Freelancer - Inmobiliaria Cambios php pura","52m",null,"18:39:00","19:32:00",33.450000000000003,0,0.8666666666666667,1.4333333333333333,{"$f":"IF(COUNTIF(K$1:K607,K607)=1,K607,\"\")","v":""}]
["2023-06-07","Alejandro Castanon Diaz","Diana Inlat - Rehacer Ingeurbe","1h 35m",null,"19:32:00","21:20:00",60.5,0,1.5833333333333335,1.6666666666666666E-2,{"$f":"IF(COUNTIF(K$1:K608,K608)=1,K608,\"\")","v":""}]
["2023-06-07","Alejandro Castanon Diaz","Eduardo Freelancer - Inmobiliaria Cambios php pura","1h 18m",null,"20:09:00","21:27:00",49.48,0,1.3,1.4333333333333333,{"$f":"IF(COUNTIF(K$1:K609,K609)=1,K609,\"\")","v":""}]
["2023-06-07","Alejandro Castanon Diaz","Nick Advizee - fijo","02m",null,"20:25:00","20:28:00",1.51,0,3.3333333333333333E-2,4.5333333333333332,{"$f":"IF(COUNTIF(K$1:K610,K610)=1,K610,\"\")","v":""}]
["2023-06-07","Alejandro Castanon Diaz","Gary Hydracheck New Checkout quitar maquillaje viejo","1h 33m",null,"21:27:00","23:09:00",59.52,0,1.55,0,{"$f":"IF(COUNTIF(K$1:K611,K611)=1,K611,\"\")","v":""}]
["2023-06-07","Alejandro Castanon Diaz","Eduardo Freelancer - Inmobiliaria Cambios php pura","8s",null,"21:48:00","21:48:00",0.08,0,0,1.4333333333333333,{"$f":"IF(COUNTIF(K$1:K612,K612)=1,K612,\"\")","v":""}]
["2023-06-07","Alejandro Castanon Diaz","Diana Inlat - Rehacer Ingeurbe","46m",null,"22:35:00","23:22:00",29.67,0,0.76666666666666672,1.6666666666666666E-2,{"$f":"IF(COUNTIF(K$1:K613,K613)=1,K613,\"\")","v":""}]
["2023-06-08","Alejandro Castanon Diaz","Nick Advizee - fijo","39m",null,"04:40:00","05:20:00",25.22,0,0.65,4.5333333333333332,{"$f":"IF(COUNTIF(K$1:K614,K614)=1,K614,\"\")","v":""}]
["2023-06-08","Alejandro Castanon Diaz","Daren freelancer - nuevo form precisemd","19m",null,"21:03:00","21:22:00",12.11,0,0.31666666666666665,0,{"$f":"IF(COUNTIF(K$1:K615,K615)=1,K615,\"\")","v":""}]
["2023-06-08","Alejandro Castanon Diaz","Ricardo Freelancer - Accounting","24m",null,"23:35:00","23:59:00",15.54,0,0.4,0,{"$f":"IF(COUNTIF(K$1:K616,K616)=1,K616,\"\")","v":""}]
["2023-06-09","Alejandro Castanon Diaz","Ricardo Freelancer - Accounting","14m",null,"00:00:00","00:14:00",9.4600000000000009,0,0.23333333333333334,0,{"$f":"IF(COUNTIF(K$1:K617,K617)=1,K617,\"\")","v":""}]
["2023-06-09","Alejandro Castanon Diaz","Viv Freelancer - Ecommerce Wordle","02m",null,"00:14:00","00:17:00",1.52,0,3.3333333333333333E-2,0,{"$f":"IF(COUNTIF(K$1:K618,K618)=1,K618,\"\")","v":""}]
["2023-06-09","Alejandro Castanon Diaz","Daren freelancer - nuevo form precisemd","23s",null,"00:15:00","00:16:00",0.24,0,0,0,{"$f":"IF(COUNTIF(K$1:K619,K619)=1,K619,\"\")","v":""}]
["2023-06-09","Alejandro Castanon Diaz","Faby - LB Logistics","22m",null,"00:17:00","00:42:00",14.18,0,0.36666666666666664,0,{"$f":"IF(COUNTIF(K$1:K620,K620)=1,K620,\"\")","v":""}]
["2023-06-09","Alejandro Castanon Diaz","Gary Hydracheck New Checkout quitar maquillaje viejo","46s",null,"00:19:00","00:19:00",0.49,0,0,0,{"$f":"IF(COUNTIF(K$1:K621,K621)=1,K621,\"\")","v":""}]
["2023-06-09","Alejandro Castanon Diaz","Gary Hydracheck - Quote page makeup","01m",null,"00:19:00","00:41:00",0.96,0,1.6666666666666666E-2,0,{"$f":"IF(COUNTIF(K$1:K622,K622)=1,K622,\"\")","v":""}]
["2023-06-09","Alejandro Castanon Diaz","Daren freelancer - nuevo form precisemd","01m",null,"00:42:00","00:43:00",0.73,0,1.6666666666666666E-2,0,{"$f":"IF(COUNTIF(K$1:K623,K623)=1,K623,\"\")","v":""}]
["2023-06-09","Alejandro Castanon Diaz","Nick Advizee - fijo","20m",null,"00:43:00","01:03:00",12.95,0,0.33333333333333331,4.5333333333333332,{"$f":"IF(COUNTIF(K$1:K624,K624)=1,K624,\"\")","v":""}]
["2023-06-09","Alejandro Castanon Diaz","Gary Hydracheck - Quote page makeup","49m",null,"01:03:00","01:59:00",31.38,0,0.81666666666666665,0,{"$f":"IF(COUNTIF(K$1:K625,K625)=1,K625,\"\")","v":""}]
["2023-06-09","Alejandro Castanon Diaz","Bjorn Sueco - ajustes Woo y POS","03m",null,"01:10:00","01:14:00",2.31,0,0.05,0,{"$f":"IF(COUNTIF(K$1:K626,K626)=1,K626,\"\")","v":""}]
["2023-06-09","Alejandro Castanon Diaz","Eduardo Freelancer - Inmobiliaria Cambios php pura","02m",null,"01:14:00","01:16:00",1.41,0,3.3333333333333333E-2,1.4333333333333333,{"$f":"IF(COUNTIF(K$1:K627,K627)=1,K627,\"\")","v":""}]
["2023-06-09","Alejandro Castanon Diaz","Diana Inlat - Rehacer Ingeurbe","51s",null,"01:16:00","01:17:00",0.54,0,0,1.6666666666666666E-2,{"$f":"IF(COUNTIF(K$1:K628,K628)=1,K628,\"\")","v":""}]
["2023-06-09","Alejandro Castanon Diaz","Nick Advizee - fijo","2s",null,"01:17:00","01:17:00",0.02,0,0,4.5333333333333332,{"$f":"IF(COUNTIF(K$1:K629,K629)=1,K629,\"\")","v":""}]
["2023-06-09","Alejandro Castanon Diaz","Nick Advizee - fijo","30m",null,"01:50:00","02:21:00",19.489999999999998,0,0.5,4.5333333333333332,{"$f":"IF(COUNTIF(K$1:K630,K630)=1,K630,\"\")","v":""}]
["2023-06-09","Alejandro Castanon Diaz","Ricardo Freelancer - Accounting","1h 26m",null,"02:18:00","03:45:00",54.86,0,1.4333333333333333,0,{"$f":"IF(COUNTIF(K$1:K631,K631)=1,K631,\"\")","v":""}]
["2023-06-09","Alejandro Castanon Diaz","Nick Advizee - fijo","22s",null,"02:50:00","02:50:00",0.23,0,0,4.5333333333333332,{"$f":"IF(COUNTIF(K$1:K632,K632)=1,K632,\"\")","v":""}]
["2023-06-09","Alejandro Castanon Diaz","Nick Advizee - fijo","21s",null,"07:38:00","07:39:00",0.22,0,0,4.5333333333333332,{"$f":"IF(COUNTIF(K$1:K633,K633)=1,K633,\"\")","v":""}]
["2023-06-09","Alejandro Castanon Diaz","Ricardo Freelancer - Accounting","44m",null,"07:39:00","08:24:00",28.47,0,0.73333333333333328,0,{"$f":"IF(COUNTIF(K$1:K634,K634)=1,K634,\"\")","v":""}]
["2023-06-09","Alejandro Castanon Diaz","Ricardo Freelancer - Accounting","01m",null,"09:07:00","09:16:00",0.64,0,1.6666666666666666E-2,0,{"$f":"IF(COUNTIF(K$1:K635,K635)=1,K635,\"\")","v":""}]
["2023-06-09","Alejandro Castanon Diaz","Nick Advizee - fijo","09m",null,"09:07:00","09:17:00",6.02,0,0.15,4.5333333333333332,{"$f":"IF(COUNTIF(K$1:K636,K636)=1,K636,\"\")","v":""}]
["2023-06-09","Alejandro Castanon Diaz","Ricardo Freelancer - Accounting","02m",null,"11:06:00","11:09:00",1.76,0,3.3333333333333333E-2,0,{"$f":"IF(COUNTIF(K$1:K637,K637)=1,K637,\"\")","v":""}]
["2023-06-09","Alejandro Castanon Diaz","Ricardo Freelancer - Accounting","3h 55m",null,"13:31:00","17:22:00",149.13999999999999,0,3.9166666666666665,0,{"$f":"IF(COUNTIF(K$1:K638,K638)=1,K638,\"\")","v":""}]
["2023-06-09","Alejandro Castanon Diaz","Viv Freelancer - Soporte anual $200","02m",null,"15:19:00","15:22:00",1.63,0,3.3333333333333333E-2,0,{"$f":"IF(COUNTIF(K$1:K639,K639)=1,K639,\"\")","v":""}]
["2023-06-09","Alejandro Castanon Diaz","Bjorn Sueco - ajustes Woo y POS","02m",null,"16:31:00","16:34:00",1.71,0,3.3333333333333333E-2,0,{"$f":"IF(COUNTIF(K$1:K640,K640)=1,K640,\"\")","v":""}]
["2023-06-09","Alejandro Castanon Diaz","Bjorn Sueco - ajustes Woo y POS","11s",null,"16:46:00","16:47:00",0.12,0,0,0,{"$f":"IF(COUNTIF(K$1:K641,K641)=1,K641,\"\")","v":""}]
["2023-06-09","Alejandro Castanon Diaz","Bjorn Sueco - ajustes Woo y POS","09m",null,"17:22:00","17:32:00",5.83,0,0.15,{"$f":"SUMIFS(J:J,C:C,C642,A:A,\">\"&$S$4)","v":0},{"$f":"IF(COUNTIF(K$1:K642,K642)=1,K642,\"\")","v":""}]
["2023-06-11","Alejandro Castanon Diaz","Ricardo Freelancer - Accounting","12m",null,"16:23:00","16:43:00",7.92,0,{"$f":"IF(D643=\"\",\"\",IF(ISERROR(FIND(\"s\",D643)),IF(ISERROR(FIND(\"h \",D643)),LEFT(D643,2)/60,   LEFT(D643,FIND(\"h \",D643)-1 )+LEFT(RIGHT(D643,3),2)/60   ),0))","v":0.2},0,{"$f":"IF(COUNTIF(K$1:K643,K643)=1,K643,\"\")","v":""}]
["2023-06-11","Alejandro Castanon Diaz","Ricardo Freelancer - Accounting","13m",null,"17:11:00","17:26:00",8.65,0,0.21666666666666667,0,{"$f":"IF(COUNTIF(K$1:K644,K644)=1,K644,\"\")","v":""}]
["2023-06-12","Alejandro Castanon Diaz","Ricardo Freelancer - Accounting","02m",null,"07:00:00","07:02:00",1.31,0,3.3333333333333333E-2,0,{"$f":"IF(COUNTIF(K$1:K645,K645)=1,K645,\"\")","v":""}]
["2023-06-12","Alejandro Castanon Diaz","Bjorn Sueco - ajustes Woo y POS","19m",null,"07:02:00","07:21:00",12.2,0,0.31666666666666665,0,{"$f":"IF(COUNTIF(K$1:K646,K646)=1,K646,\"\")","v":""}]
["2023-06-12","Alejandro Castanon Diaz","Bjorn Sueco - ajustes Woo y POS","1h 14m",null,"07:42:00","08:57:00",47.3,0,1.2333333333333334,0,{"$f":"IF(COUNTIF(K$1:K647,K647)=1,K647,\"\")","v":""}]
["2023-06-12","Alejandro Castanon Diaz","Bjorn Sueco - ajustes Woo y POS","11m",null,"09:33:00","09:44:00",7.32,0,0.18333333333333332,0,{"$f":"IF(COUNTIF(K$1:K648,K648)=1,K648,\"\")","v":""}]
["2023-06-12","Alejandro Castanon Diaz","Viv Freelancer - Soporte anual $200","2s",null,"09:38:00","09:38:00",0.02,0,0,0,{"$f":"IF(COUNTIF(K$1:K649,K649)=1,K649,\"\")","v":""}]
["2023-06-12","Alejandro Castanon Diaz","Bjorn Sueco - ajustes Woo y POS","25m",null,"10:47:00","11:12:00",15.84,0,0.41666666666666669,0,{"$f":"IF(COUNTIF(K$1:K650,K650)=1,K650,\"\")","v":""}]
["2023-06-12","Alejandro Castanon Diaz","Bjorn Sueco - ajustes Woo y POS","12m",null,"11:47:00","11:59:00",7.77,0,0.2,0,{"$f":"IF(COUNTIF(K$1:K651,K651)=1,K651,\"\")","v":""}]
["2023-06-12","Alejandro Castanon Diaz","Bjorn Sueco - ajustes Woo y POS","01m",null,"12:14:00","12:16:00",0.87,0,1.6666666666666666E-2,0,{"$f":"IF(COUNTIF(K$1:K652,K652)=1,K652,\"\")","v":""}]
["2023-06-12","Alejandro Castanon Diaz","Bjorn Sueco - ajustes Woo y POS","49m",null,"14:10:00","15:00:00",31.57,0,0.81666666666666665,0,{"$f":"IF(COUNTIF(K$1:K653,K653)=1,K653,\"\")","v":""}]
["2023-06-12","Alejandro Castanon Diaz","Bjorn Sueco - ajustes Woo y POS","16m",null,"15:16:00","15:33:00",10.24,0,0.26666666666666666,0,{"$f":"IF(COUNTIF(K$1:K654,K654)=1,K654,\"\")","v":""}]
["2023-06-12","Alejandro Castanon Diaz","Bjorn Sueco - ajustes Woo y POS","30s",null,"16:50:00","16:50:00",0.32,0,0,0,{"$f":"IF(COUNTIF(K$1:K655,K655)=1,K655,\"\")","v":""}]
["2023-06-12","Alejandro Castanon Diaz","Gary Hydracheck - Quote page makeup","52m",null,"16:50:00","17:43:00",33.5,0,0.8666666666666667,0,{"$f":"IF(COUNTIF(K$1:K656,K656)=1,K656,\"\")","v":""}]
["2023-06-12","Alejandro Castanon Diaz","Ricardo Freelancer - Accounting","01m",null,"23:00:00","23:01:00",0.88,0,1.6666666666666666E-2,0,{"$f":"IF(COUNTIF(K$1:K657,K657)=1,K657,\"\")","v":""}]
["2023-06-13","Alejandro Castanon Diaz","Gary Hydracheck - Quote page makeup","57m",null,"00:53:00","01:50:00",36.340000000000003,0,0.95,0,{"$f":"IF(COUNTIF(K$1:K658,K658)=1,K658,\"\")","v":""}]
["2023-06-13","Alejandro Castanon Diaz","Nick Advizee - fijo","02m",null,"04:07:00","04:09:00",1.51,0,3.3333333333333333E-2,4.5333333333333332,{"$f":"IF(COUNTIF(K$1:K659,K659)=1,K659,\"\")","v":""}]
["2023-06-13","Alejandro Castanon Diaz","Nick Advizee - fijo","2h 24m",null,"09:17:00","11:59:00",91.78,0,2.4,4.5333333333333332,{"$f":"IF(COUNTIF(K$1:K660,K660)=1,K660,\"\")","v":""}]
["2023-06-13","Alejandro Castanon Diaz","Gary Hydracheck - Quote page makeup","03m",null,"09:44:00","09:47:00",2.08,0,0.05,0,{"$f":"IF(COUNTIF(K$1:K661,K661)=1,K661,\"\")","v":""}]
["2023-06-13","Alejandro Castanon Diaz","Nick Advizee - fijo","12m",null,"13:47:00","13:59:00",8.14,0,0.2,4.5333333333333332,{"$f":"IF(COUNTIF(K$1:K662,K662)=1,K662,\"\")","v":""}]
["2023-06-13","Alejandro Castanon Diaz","Nick Advizee - fijo","02m",null,"14:22:00","14:25:00",1.77,0,3.3333333333333333E-2,4.5333333333333332,{"$f":"IF(COUNTIF(K$1:K663,K663)=1,K663,\"\")","v":""}]
["2023-06-13","Alejandro Castanon Diaz","Viv Freelancer - Soporte anual $200","21m",null,"14:25:00","14:46:00",13.41,0,0.35,0,{"$f":"IF(COUNTIF(K$1:K664,K664)=1,K664,\"\")","v":""}]
["2023-06-14","Alejandro Castanon Diaz","Viv Freelancer - Soporte anual $200","16m",null,"00:31:00","00:54:00",10.28,0,0.26666666666666666,0,{"$f":"IF(COUNTIF(K$1:K665,K665)=1,K665,\"\")","v":""}]
["2023-06-14","Alejandro Castanon Diaz","Viv Freelancer - Soporte anual $200","42m",null,"01:48:00","02:33:00",26.74,0,0.7,0,{"$f":"IF(COUNTIF(K$1:K666,K666)=1,K666,\"\")","v":""}]
["2023-06-14","Alejandro Castanon Diaz","Viv Freelancer - Soporte anual $200","17m",null,"03:22:00","03:43:00",11.37,0,0.28333333333333333,0,{"$f":"IF(COUNTIF(K$1:K667,K667)=1,K667,\"\")","v":""}]
["2023-06-14","Alejandro Castanon Diaz","Nick Advizee - fijo","04m",null,"03:43:00","03:47:00",2.61,0,6.6666666666666666E-2,4.5333333333333332,{"$f":"IF(COUNTIF(K$1:K668,K668)=1,K668,\"\")","v":""}]
["2023-06-14","Alejandro Castanon Diaz","Nick Advizee - fijo","03m",null,"04:56:00","04:59:00",2.31,0,0.05,4.5333333333333332,{"$f":"IF(COUNTIF(K$1:K669,K669)=1,K669,\"\")","v":""}]
["2023-06-15","Alejandro Castanon Diaz","Nick Advizee - fijo","26m",null,"02:07:00","02:33:00",16.52,0,0.43333333333333335,4.5333333333333332,{"$f":"IF(COUNTIF(K$1:K670,K670)=1,K670,\"\")","v":""}]
["2023-06-15","Alejandro Castanon Diaz","Nick Advizee - fijo","10m",null,"02:49:00","02:59:00",6.89,0,0.16666666666666666,4.5333333333333332,{"$f":"IF(COUNTIF(K$1:K671,K671)=1,K671,\"\")","v":""}]
["2023-06-15","Alejandro Castanon Diaz","Nick Advizee - fijo","21m",null,"03:14:00","03:36:00",13.42,0,0.35,4.5333333333333332,{"$f":"IF(COUNTIF(K$1:K672,K672)=1,K672,\"\")","v":""}]
["2023-06-15","Alejandro Castanon Diaz","Nick Advizee - fijo","15m",null,"04:44:00","04:59:00",9.6199999999999992,0,0.25,4.5333333333333332,{"$f":"IF(COUNTIF(K$1:K673,K673)=1,K673,\"\")","v":""}]
["2023-06-15","Alejandro Castanon Diaz","Nick Advizee - fijo","25m",null,"07:46:00","08:11:00",15.87,0,0.41666666666666669,4.5333333333333332,{"$f":"IF(COUNTIF(K$1:K674,K674)=1,K674,\"\")","v":""}]
["2023-06-15","Alejandro Castanon Diaz","Nick Advizee - fijo","53m",null,"08:32:00","09:27:00",34,0,0.8833333333333333,4.5333333333333332,{"$f":"IF(COUNTIF(K$1:K675,K675)=1,K675,\"\")","v":""}]
["2023-06-15","Alejandro Castanon Diaz","Nick Advizee - fijo","03m",null,"10:29:00","10:33:00",2.3199999999999998,0,0.05,4.5333333333333332,{"$f":"IF(COUNTIF(K$1:K676,K676)=1,K676,\"\")","v":""}]
["2023-06-15","Alejandro Castanon Diaz","Viv Freelancer - Soporte anual $200","02m",null,"10:31:00","10:36:00",1.69,0,3.3333333333333333E-2,0,{"$f":"IF(COUNTIF(K$1:K677,K677)=1,K677,\"\")","v":""}]
["2023-06-15","Alejandro Castanon Diaz","Viv Freelancer - Soporte anual $200","43m",null,"11:32:00","12:25:00",27.58,0,0.71666666666666667,0,{"$f":"IF(COUNTIF(K$1:K678,K678)=1,K678,\"\")","v":""}]
["2023-06-15","Alejandro Castanon Diaz","Viv Freelancer - Soporte anual $200","1h 18m",null,"15:47:00","16:44:00",49.56,0,1.3,0,{"$f":"IF(COUNTIF(K$1:K679,K679)=1,K679,\"\")","v":""}]
["2023-06-15","Alejandro Castanon Diaz","Faby - PMI Ame Sitio multilang","13m",null,"16:11:00","16:24:00",8.27,0,0.21666666666666667,0,{"$f":"IF(COUNTIF(K$1:K680,K680)=1,K680,\"\")","v":""}]
["2023-06-15","Alejandro Castanon Diaz","Nick Advizee - fijo","12m",null,"16:42:00","16:57:00",8.19,0,0.2,4.5333333333333332,{"$f":"IF(COUNTIF(K$1:K681,K681)=1,K681,\"\")","v":""}]
["2023-06-15","Alejandro Castanon Diaz","Viv Freelancer - Soporte anual $200","34m",null,"16:57:00","17:31:00",21.73,0,0.56666666666666665,0,{"$f":"IF(COUNTIF(K$1:K682,K682)=1,K682,\"\")","v":""}]
["2023-06-15","Alejandro Castanon Diaz","Nick Advizee - fijo","30m",null,"17:31:00","18:02:00",19.54,0,0.5,4.5333333333333332,{"$f":"IF(COUNTIF(K$1:K683,K683)=1,K683,\"\")","v":""}]
["2023-06-15","Alejandro Castanon Diaz","Viv Freelancer - Soporte anual $200","1h 07m",null,"18:02:00","19:13:00",42.59,0,1.1166666666666667,0,{"$f":"IF(COUNTIF(K$1:K684,K684)=1,K684,\"\")","v":""}]
["2023-06-15","Alejandro Castanon Diaz","Xavier Bobby - Itel plugins desactivar","23m",null,"19:13:00","19:36:00",14.82,0,0.38333333333333336,0,{"$f":"IF(COUNTIF(K$1:K685,K685)=1,K685,\"\")","v":""}]
["2023-06-15","Alejandro Castanon Diaz","Ricardo Freelancer - Accounting","05m",null,"23:54:00","23:59:00",3.72,0,8.3333333333333329E-2,0,{"$f":"IF(COUNTIF(K$1:K686,K686)=1,K686,\"\")","v":""}]
["2023-06-16","Alejandro Castanon Diaz","Ricardo Freelancer - Accounting","07m",null,"00:00:00","00:07:00",4.78,0,0.11666666666666667,0,{"$f":"IF(COUNTIF(K$1:K687,K687)=1,K687,\"\")","v":""}]
["2023-06-16","Alejandro Castanon Diaz","Nick Advizee - fijo","2h 00m",null,"00:07:00","02:04:00",76.349999999999994,0,2,4.5333333333333332,{"$f":"IF(COUNTIF(K$1:K688,K688)=1,K688,\"\")","v":""}]
["2023-06-16","Alejandro Castanon Diaz","Faby - Candywax Depilaciones","12s",null,"00:26:00","00:26:00",0.13,0,0,0,{"$f":"IF(COUNTIF(K$1:K689,K689)=1,K689,\"\")","v":""}]
["2023-06-16","Alejandro Castanon Diaz","Faby - LB Logistics","23s",null,"00:26:00","00:26:00",0.24,0,0,0,{"$f":"IF(COUNTIF(K$1:K690,K690)=1,K690,\"\")","v":""}]
["2023-06-16","Alejandro Castanon Diaz","Xavier Bobby - Itel plugins desactivar","03m",null,"01:31:00","01:35:00",2.5,0,0.05,0,{"$f":"IF(COUNTIF(K$1:K691,K691)=1,K691,\"\")","v":""}]
["2023-06-16","Alejandro Castanon Diaz","Rodrigo - Techservices Hosting","3s",null,"01:46:00","01:46:00",0.03,0,0,0,{"$f":"IF(COUNTIF(K$1:K692,K692)=1,K692,\"\")","v":""}]
["2023-06-16","Alejandro Castanon Diaz","Viv Freelancer - Soporte anual $200","50m",null,"02:04:00","02:55:00",31.75,0,0.83333333333333337,0,{"$f":"IF(COUNTIF(K$1:K693,K693)=1,K693,\"\")","v":""}]
["2023-06-16","Alejandro Castanon Diaz","Emilio pinturas arreglar su sitio","38m",null,"02:54:00","03:41:00",24.13,0,0.6333333333333333,0,{"$f":"IF(COUNTIF(K$1:K694,K694)=1,K694,\"\")","v":""}]
["2023-06-16","Alejandro Castanon Diaz","Nick Advizee - fijo","08m",null,"03:07:00","03:16:00",5.64,0,0.13333333333333333,4.5333333333333332,{"$f":"IF(COUNTIF(K$1:K695,K695)=1,K695,\"\")","v":""}]
["2023-06-17","Alejandro Castanon Diaz","Nick Advizee - fijo","08m",null,"09:16:00","09:25:00",5.31,0,0.13333333333333333,4.5333333333333332,{"$f":"IF(COUNTIF(K$1:K696,K696)=1,K696,\"\")","v":""}]
["2023-06-17","Alejandro Castanon Diaz","Viv Freelancer - Soporte anual $200","08m",null,"09:25:00","09:34:00",5.49,0,0.13333333333333333,0,{"$f":"IF(COUNTIF(K$1:K697,K697)=1,K697,\"\")","v":""}]
["2023-06-19","Alejandro Castanon Diaz","Viv Freelancer - Soporte anual $200","56m",null,"00:09:00","01:05:00",35.97,0,0.93333333333333335,0,{"$f":"IF(COUNTIF(K$1:K698,K698)=1,K698,\"\")","v":""}]
["2023-06-19","Alejandro Castanon Diaz","Faby - LB Logistics","22m",null,"01:05:00","01:38:00",14.55,0,0.36666666666666664,0,{"$f":"IF(COUNTIF(K$1:K699,K699)=1,K699,\"\")","v":""}]
["2023-06-19","Alejandro Castanon Diaz","Nick Advizee - fijo","13m",null,"01:38:00","01:52:00",8.84,0,0.21666666666666667,4.5333333333333332,{"$f":"IF(COUNTIF(K$1:K700,K700)=1,K700,\"\")","v":""}]
["2023-06-19","Alejandro Castanon Diaz","Nick Advizee - fijo","05m",null,"02:29:00","02:35:00",3.69,0,8.3333333333333329E-2,4.5333333333333332,{"$f":"IF(COUNTIF(K$1:K701,K701)=1,K701,\"\")","v":""}]
["2023-06-19","Alejandro Castanon Diaz","Nick Advizee - fijo","11s",null,"03:19:00","03:19:00",0.12,0,0,4.5333333333333332,{"$f":"IF(COUNTIF(K$1:K702,K702)=1,K702,\"\")","v":""}]
["2023-06-19","Alejandro Castanon Diaz","Ricardo Freelancer - Accounting","10m",null,"03:19:00","03:32:00",6.73,0,0.16666666666666666,0,{"$f":"IF(COUNTIF(K$1:K703,K703)=1,K703,\"\")","v":""}]
["2023-06-19","Alejandro Castanon Diaz","Nick Advizee - fijo","32m",null,"08:26:00","09:06:00",20.79,0,0.53333333333333333,4.5333333333333332,{"$f":"IF(COUNTIF(K$1:K704,K704)=1,K704,\"\")","v":""}]
["2023-06-19","Alejandro Castanon Diaz","Ricardo Freelancer - Accounting","06m",null,"08:28:00","08:34:00",4.01,0,0.1,0,{"$f":"IF(COUNTIF(K$1:K705,K705)=1,K705,\"\")","v":""}]
["2023-06-19","Alejandro Castanon Diaz","Faby - PMI Ame Sitio multilang","10s",null,"09:06:00","09:06:00",0.11,0,0,{"$f":"SUMIFS(J:J,C:C,C706,A:A,\">\"&$S$4)","v":0},{"$f":"IF(COUNTIF(K$1:K706,K706)=1,K706,\"\")","v":""}]
["2023-06-19","Alejandro Castanon Diaz","Faby - Candywax Depilaciones","36s",null,"09:06:00","09:06:00",0.38,0,{"$f":"IF(D707=\"\",\"\",IF(ISERROR(FIND(\"s\",D707)),IF(ISERROR(FIND(\"h \",D707)),LEFT(D707,2)/60,   LEFT(D707,FIND(\"h \",D707)-1 )+LEFT(RIGHT(D707,3),2)/60   ),0))","v":0},0,{"$f":"IF(COUNTIF(K$1:K707,K707)=1,K707,\"\")","v":""}]
["2023-06-19","Alejandro Castanon Diaz","Faby - LB Logistics","24m",null,"09:06:00","09:31:00",15.46,0,0.4,0,{"$f":"IF(COUNTIF(K$1:K708,K708)=1,K708,\"\")","v":""}]
["2023-06-19","Alejandro Castanon Diaz","Nick Advizee - fijo","39m",null,"09:31:00","10:14:00",24.94,0,0.65,4.5333333333333332,{"$f":"IF(COUNTIF(K$1:K709,K709)=1,K709,\"\")","v":""}]
["2023-06-19","Alejandro Castanon Diaz","Ricardo Freelancer - Accounting","3s",null,"09:31:00","09:31:00",0.03,0,0,0,{"$f":"IF(COUNTIF(K$1:K710,K710)=1,K710,\"\")","v":""}]
["2023-06-19","Alejandro Castanon Diaz","Ricardo Freelancer - Accounting","6s",null,"09:56:00","09:56:00",0.06,0,0,0,{"$f":"IF(COUNTIF(K$1:K711,K711)=1,K711,\"\")","v":""}]
["2023-06-19","Alejandro Castanon Diaz","Viv Freelancer - Soporte anual $200","10m",null,"10:08:00","10:23:00",6.79,0,0.16666666666666666,0,{"$f":"IF(COUNTIF(K$1:K712,K712)=1,K712,\"\")","v":""}]
["2023-06-19","Alejandro Castanon Diaz","Ricardo Freelancer - Accounting","02m",null,"10:14:00","10:18:00",1.31,0,3.3333333333333333E-2,0,{"$f":"IF(COUNTIF(K$1:K713,K713)=1,K713,\"\")","v":""}]
["2023-06-19","Alejandro Castanon Diaz","Ricardo Freelancer - Accounting","13m",null,"11:02:00","11:15:00",8.23,0,0.21666666666666667,0,{"$f":"IF(COUNTIF(K$1:K714,K714)=1,K714,\"\")","v":""}]
["2023-06-19","Alejandro Castanon Diaz","Ricardo Freelancer - Accounting","12m",null,"19:42:00","19:57:00",8.2100000000000009,0,0.2,0,{"$f":"IF(COUNTIF(K$1:K715,K715)=1,K715,\"\")","v":""}]
["2023-06-19","Alejandro Castanon Diaz","Viv Freelancer - Soporte anual $200","16m",null,"19:57:00","20:13:00",10.39,0,0.26666666666666666,0,{"$f":"IF(COUNTIF(K$1:K716,K716)=1,K716,\"\")","v":""}]
["2023-06-19","Alejandro Castanon Diaz","Ricardo Freelancer - Accounting","14m",null,"20:13:00","20:28:00",9.39,0,0.23333333333333334,0,{"$f":"IF(COUNTIF(K$1:K717,K717)=1,K717,\"\")","v":""}]
["2023-06-19","Alejandro Castanon Diaz","Nick Advizee - fijo","08m",null,"20:28:00","20:36:00",5.34,0,0.13333333333333333,4.5333333333333332,{"$f":"IF(COUNTIF(K$1:K718,K718)=1,K718,\"\")","v":""}]
["2023-06-19","Alejandro Castanon Diaz","Nick Advizee - fijo","16m",null,"21:36:00","21:53:00",10.74,0,0.26666666666666666,4.5333333333333332,{"$f":"IF(COUNTIF(K$1:K719,K719)=1,K719,\"\")","v":""}]
["2023-06-20","Alejandro Castanon Diaz","Ricardo Freelancer - Accounting","1h 13m",null,"11:32:00","12:45:00",46.29,0,1.2166666666666668,0,{"$f":"IF(COUNTIF(K$1:K720,K720)=1,K720,\"\")","v":""}]
["2023-06-20","Alejandro Castanon Diaz","Ricardo Freelancer - Accounting","16m",null,"15:50:00","16:16:00",10.32,0,0.26666666666666666,0,{"$f":"IF(COUNTIF(K$1:K721,K721)=1,K721,\"\")","v":""}]
["2023-06-20","Alejandro Castanon Diaz","Bjorn Sueco - ajustes Woo y POS","09m",null,"16:04:00","16:14:00",6,0,0.15,0,{"$f":"IF(COUNTIF(K$1:K722,K722)=1,K722,\"\")","v":""}]
["2023-06-20","Alejandro Castanon Diaz","Nick Advizee - fijo","52m",null,"22:58:00","23:59:00",33.479999999999997,0,0.8666666666666667,4.5333333333333332,{"$f":"IF(COUNTIF(K$1:K723,K723)=1,K723,\"\")","v":""}]
["2023-06-20","Alejandro Castanon Diaz","Carrascosa AC - Asociación Civil","06m",null,"23:07:00","23:14:00",3.93,0,0.1,0,{"$f":"IF(COUNTIF(K$1:K724,K724)=1,K724,\"\")","v":""}]
["2023-06-20","Alejandro Castanon Diaz","Faby - LB Logistics","56s",null,"23:41:00","23:41:00",0.59,0,0,0,{"$f":"IF(COUNTIF(K$1:K725,K725)=1,K725,\"\")","v":""}]
["2023-06-20","Alejandro Castanon Diaz","Faby - LB Logistics","01m",null,"23:56:00","23:57:00",0.69,0,1.6666666666666666E-2,0,{"$f":"IF(COUNTIF(K$1:K726,K726)=1,K726,\"\")","v":""}]
["2023-06-21","Alejandro Castanon Diaz","Nick Advizee - fijo","35m",null,"00:00:00","00:36:00",22.72,0,0.58333333333333337,4.5333333333333332,{"$f":"IF(COUNTIF(K$1:K727,K727)=1,K727,\"\")","v":""}]
["2023-06-21","Alejandro Castanon Diaz","Faby - LB Logistics","32s",null,"00:00:00","00:01:00",0.34,0,0,0,{"$f":"IF(COUNTIF(K$1:K728,K728)=1,K728,\"\")","v":""}]
["2023-06-21","Alejandro Castanon Diaz","Faby - LB Logistics","20m",null,"00:36:00","00:56:00",12.91,0,0.33333333333333331,0,{"$f":"IF(COUNTIF(K$1:K729,K729)=1,K729,\"\")","v":""}]
["2023-06-21","Alejandro Castanon Diaz","Viv Freelancer - Soporte anual $200","29s",null,"00:56:00","00:57:00",0.31,0,0,0,{"$f":"IF(COUNTIF(K$1:K730,K730)=1,K730,\"\")","v":""}]
["2023-06-21","Alejandro Castanon Diaz","Nick Advizee - fijo","23m",null,"00:57:00","01:24:00",14.65,0,0.38333333333333336,4.5333333333333332,{"$f":"IF(COUNTIF(K$1:K731,K731)=1,K731,\"\")","v":""}]
["2023-06-21","Alejandro Castanon Diaz","Bjorn Sueco - ajustes Woo y POS","10m",null,"12:25:00","12:36:00",6.64,0,0.16666666666666666,0,{"$f":"IF(COUNTIF(K$1:K732,K732)=1,K732,\"\")","v":""}]
["2023-06-21","Alejandro Castanon Diaz","Faby - LB Logistics","39m",null,"12:36:00","13:15:00",25.1,0,0.65,0,{"$f":"IF(COUNTIF(K$1:K733,K733)=1,K733,\"\")","v":""}]
["2023-06-21","Alejandro Castanon Diaz","Nick Advizee - fijo","2h 01m",null,"13:15:00","15:25:00",76.989999999999995,0,2.0166666666666666,4.5333333333333332,{"$f":"IF(COUNTIF(K$1:K734,K734)=1,K734,\"\")","v":""}]
["2023-06-21","Alejandro Castanon Diaz","Faby - LB Logistics","35s",null,"15:23:00","15:24:00",0.37,0,0,0,{"$f":"IF(COUNTIF(K$1:K735,K735)=1,K735,\"\")","v":""}]
["2023-06-21","Alejandro Castanon Diaz","Bjorn Sueco - ajustes Woo y POS","41m",null,"15:25:00","16:06:00",26.02,0,0.68333333333333335,0,{"$f":"IF(COUNTIF(K$1:K736,K736)=1,K736,\"\")","v":""}]
["2023-06-21","Alejandro Castanon Diaz","Faby - PMI Ame Sitio multilang","8s",null,"15:25:00","15:26:00",0.08,0,0,0,{"$f":"IF(COUNTIF(K$1:K737,K737)=1,K737,\"\")","v":""}]
["2023-06-21","Alejandro Castanon Diaz","yo - FIRE Business online","19m",null,"16:06:00","16:26:00",12.4,0,0.31666666666666665,0,{"$f":"IF(COUNTIF(K$1:K738,K738)=1,K738,\"\")","v":""}]
["2023-06-21","Alejandro Castanon Diaz","yo - Buscar 2do Freelancer por hora...","08m",null,"16:26:00","16:35:00",5.39,0,0.13333333333333333,0,{"$f":"IF(COUNTIF(K$1:K739,K739)=1,K739,\"\")","v":""}]
["2023-06-21","Alejandro Castanon Diaz","Mama Madhu - prestamo","30m",null,"16:35:00","17:05:00",19.13,0,0.5,0,{"$f":"IF(COUNTIF(K$1:K740,K740)=1,K740,\"\")","v":""}]
["2023-06-21","Alejandro Castanon Diaz","Nick Advizee - fijo","04m",null,"17:05:00","17:09:00",2.71,0,6.6666666666666666E-2,4.5333333333333332,{"$f":"IF(COUNTIF(K$1:K741,K741)=1,K741,\"\")","v":""}]
["2023-06-22","Alejandro Castanon Diaz","Nick Advizee - fijo","03m",null,"09:53:00","09:57:00",2.4700000000000002,0,0.05,4.5333333333333332,{"$f":"IF(COUNTIF(K$1:K742,K742)=1,K742,\"\")","v":""}]
["2023-06-22","Alejandro Castanon Diaz","Bjorn Sueco - ajustes Woo y POS","31m",null,"09:57:00","10:30:00",20.14,0,0.51666666666666672,0,{"$f":"IF(COUNTIF(K$1:K743,K743)=1,K743,\"\")","v":""}]
["2023-06-22","Alejandro Castanon Diaz","Faby - PMI Ame Sitio multilang","17s",null,"09:57:00","10:01:00",0.18,0,0,0,{"$f":"IF(COUNTIF(K$1:K744,K744)=1,K744,\"\")","v":""}]
["2023-06-22","Alejandro Castanon Diaz","Nick Advizee - fijo","16m",null,"10:29:00","10:46:00",10.42,0,0.26666666666666666,4.5333333333333332,{"$f":"IF(COUNTIF(K$1:K745,K745)=1,K745,\"\")","v":""}]
["2023-06-22","Alejandro Castanon Diaz","Bjorn Sueco - ajustes Woo y POS","24m",null,"10:46:00","11:10:00",15.58,0,0.4,0,{"$f":"IF(COUNTIF(K$1:K746,K746)=1,K746,\"\")","v":""}]
["2023-06-22","Alejandro Castanon Diaz","Nick Advizee - fijo","20m",null,"11:10:00","11:31:00",13.12,0,0.33333333333333331,4.5333333333333332,{"$f":"IF(COUNTIF(K$1:K747,K747)=1,K747,\"\")","v":""}]
["2023-06-22","Alejandro Castanon Diaz","Nick Advizee - fijo","28m",null,"14:13:00","14:41:00",18.059999999999999,0,0.46666666666666667,4.5333333333333332,{"$f":"IF(COUNTIF(K$1:K748,K748)=1,K748,\"\")","v":""}]
["2023-06-22","Alejandro Castanon Diaz","Faby - PMI Ame Sitio multilang","02m",null,"14:41:00","14:44:00",1.64,0,3.3333333333333333E-2,0,{"$f":"IF(COUNTIF(K$1:K749,K749)=1,K749,\"\")","v":""}]
["2023-06-22","Alejandro Castanon Diaz","Faby - LB Logistics","10m",null,"14:44:00","14:54:00",6.51,0,0.16666666666666666,0,{"$f":"IF(COUNTIF(K$1:K750,K750)=1,K750,\"\")","v":""}]
["2023-06-23","Alejandro Castanon Diaz","Gary Hydracheck - Quote page makeup","10m",null,"09:52:00","10:04:00",6.53,0,0.16666666666666666,0,{"$f":"IF(COUNTIF(K$1:K751,K751)=1,K751,\"\")","v":""}]
["2023-06-23","Alejandro Castanon Diaz","Eduardo Freelancer - Inmobiliaria Cambios php pura","03m",null,"10:35:00","10:39:00",2.36,0,0.05,1.4333333333333333,{"$f":"IF(COUNTIF(K$1:K752,K752)=1,K752,\"\")","v":""}]
["2023-06-23","Alejandro Castanon Diaz","Gary Hydracheck - Quote page makeup","1h 03m",null,"10:38:00","11:52:00",40.130000000000003,0,1.05,0,{"$f":"IF(COUNTIF(K$1:K753,K753)=1,K753,\"\")","v":""}]
["2023-06-23","Alejandro Castanon Diaz","Eduardo Freelancer - Inmobiliaria Cambios php pura","09m",null,"11:13:00","11:26:00",6.26,0,0.15,1.4333333333333333,{"$f":"IF(COUNTIF(K$1:K754,K754)=1,K754,\"\")","v":""}]
["2023-06-23","Alejandro Castanon Diaz","Faby - PMI Ame Sitio multilang","3s",null,"11:26:00","11:26:00",0.03,0,0,0,{"$f":"IF(COUNTIF(K$1:K755,K755)=1,K755,\"\")","v":""}]
["2023-06-23","Alejandro Castanon Diaz","Daren freelancer - nuevo form precisemd","29s",null,"11:26:00","11:27:00",0.31,0,0,0,{"$f":"IF(COUNTIF(K$1:K756,K756)=1,K756,\"\")","v":""}]
["2023-06-23","Alejandro Castanon Diaz","Daren freelancer - nuevo form precisemd","21s",null,"11:51:00","11:52:00",0.22,0,0,0,{"$f":"IF(COUNTIF(K$1:K757,K757)=1,K757,\"\")","v":""}]
["2023-06-23","Alejandro Castanon Diaz","Eduardo Freelancer - Inmobiliaria Cambios php pura","03m",null,"11:52:00","11:56:00",2.41,0,0.05,1.4333333333333333,{"$f":"IF(COUNTIF(K$1:K758,K758)=1,K758,\"\")","v":""}]
["2023-06-23","Alejandro Castanon Diaz","Gary Hydracheck - Quote page makeup","07m",null,"12:42:00","12:50:00",4.82,0,0.11666666666666667,0,{"$f":"IF(COUNTIF(K$1:K759,K759)=1,K759,\"\")","v":""}]
["2023-06-23","Alejandro Castanon Diaz","Daren freelancer - nuevo form precisemd","19m",null,"16:20:00","16:40:00",12.66,0,0.31666666666666665,0,{"$f":"IF(COUNTIF(K$1:K760,K760)=1,K760,\"\")","v":""}]
["2023-06-23","Alejandro Castanon Diaz","Eduardo Freelancer - Inmobiliaria Cambios php pura","01m",null,"16:40:00","16:42:00",1.1399999999999999,0,1.6666666666666666E-2,1.4333333333333333,{"$f":"IF(COUNTIF(K$1:K761,K761)=1,K761,\"\")","v":""}]
["2023-06-24","Alejandro Castanon Diaz","Gary Hydracheck - Quote page makeup","03m",null,"14:03:00","14:07:00",2.0099999999999998,0,0.05,0,{"$f":"IF(COUNTIF(K$1:K762,K762)=1,K762,\"\")","v":""}]
["2023-06-24","Alejandro Castanon Diaz","Gary Hydracheck - Quote page makeup","26m",null,"17:12:00","17:40:00",17.02,0,0.43333333333333335,0,{"$f":"IF(COUNTIF(K$1:K763,K763)=1,K763,\"\")","v":""}]
["2023-06-24","Alejandro Castanon Diaz","Viv Freelancer - Soporte anual $200","08m",null,"18:24:00","18:33:00",5.45,0,0.13333333333333333,0,{"$f":"IF(COUNTIF(K$1:K764,K764)=1,K764,\"\")","v":""}]
["2023-06-24","Alejandro Castanon Diaz","Viv Freelancer - Soporte anual $200","17m",null,"19:46:00","20:03:00",10.88,0,0.28333333333333333,0,{"$f":"IF(COUNTIF(K$1:K765,K765)=1,K765,\"\")","v":""}]
["2023-06-24","Alejandro Castanon Diaz","Xavier Bobby - Itel plugins desactivar","1h 02m",null,"20:03:00","21:10:00",39.770000000000003,0,1.0333333333333334,0,{"$f":"IF(COUNTIF(K$1:K766,K766)=1,K766,\"\")","v":""}]
["2023-06-25","Alejandro Castanon Diaz","Xavier Bobby - Itel plugins desactivar","07m",null,"10:19:00","10:27:00",4.9800000000000004,0,0.11666666666666667,0,{"$f":"IF(COUNTIF(K$1:K767,K767)=1,K767,\"\")","v":""}]
["2023-06-25","Alejandro Castanon Diaz","Nick Advizee - fijo","34m",null,"10:27:00","11:02:00",21.77,0,0.56666666666666665,4.5333333333333332,{"$f":"IF(COUNTIF(K$1:K768,K768)=1,K768,\"\")","v":""}]
["2023-06-25","Alejandro Castanon Diaz","Eduardo Freelancer - Inmobiliaria Cambios php pura","13m",null,"10:52:00","11:20:00",8.66,0,0.21666666666666667,1.4333333333333333,{"$f":"IF(COUNTIF(K$1:K769,K769)=1,K769,\"\")","v":""}]
["2023-06-25","Alejandro Castanon Diaz","Nick Advizee - fijo","05m",null,"11:14:00","11:20:00",3.42,0,8.3333333333333329E-2,{"$f":"SUMIFS(J:J,C:C,C770,A:A,\">\"&$S$4)","v":4.5333333333333332},{"$f":"IF(COUNTIF(K$1:K770,K770)=1,K770,\"\")","v":""}]
["2023-06-25","Alejandro Castanon Diaz","Eduardo Freelancer - Inmobiliaria Cambios php pura","02m",null,"14:48:00","14:50:00",1.53,0,{"$f":"IF(D771=\"\",\"\",IF(ISERROR(FIND(\"s\",D771)),IF(ISERROR(FIND(\"h \",D771)),LEFT(D771,2)/60,   LEFT(D771,FIND(\"h \",D771)-1 )+LEFT(RIGHT(D771,3),2)/60   ),0))","v":3.3333333333333333E-2},1.4333333333333333,{"$f":"IF(COUNTIF(K$1:K771,K771)=1,K771,\"\")","v":""}]
["2023-06-25","Alejandro Castanon Diaz","Nick Advizee - fijo","1h 31m",null,"14:50:00","16:22:00",58.22,0,1.5166666666666666,4.5333333333333332,{"$f":"IF(COUNTIF(K$1:K772,K772)=1,K772,\"\")","v":""}]
["2023-06-26","Alejandro Castanon Diaz","Rodrigo - Techservices Hosting","1h 40m",null,"11:11:00","13:48:00",63.71,0,1.6666666666666665,0,{"$f":"IF(COUNTIF(K$1:K773,K773)=1,K773,\"\")","v":""}]
["2023-06-26","Alejandro Castanon Diaz","Nick Advizee - fijo","6s",null,"12:31:00","12:31:00",0.06,0,0,4.5333333333333332,{"$f":"IF(COUNTIF(K$1:K774,K774)=1,K774,\"\")","v":""}]
["2023-06-26","Alejandro Castanon Diaz","Nick Advizee - fijo","3s",null,"13:44:00","13:44:00",0.03,0,0,4.5333333333333332,{"$f":"IF(COUNTIF(K$1:K775,K775)=1,K775,\"\")","v":""}]
["2023-06-26","Alejandro Castanon Diaz","Rodrigo Techservices - WP Run4u","02m",null,"16:28:00","16:31:00",1.77,0,3.3333333333333333E-2,0,{"$f":"IF(COUNTIF(K$1:K776,K776)=1,K776,\"\")","v":""}]
["2023-06-26","Alejandro Castanon Diaz","Rodrigo - Techservices Hosting","07m",null,"16:31:00","16:39:00",5,0,0.11666666666666667,0,{"$f":"IF(COUNTIF(K$1:K777,K777)=1,K777,\"\")","v":""}]
["2023-06-26","Alejandro Castanon Diaz","Gary Hydracheck - Fix quote shipping","38m",null,"16:39:00","17:25:00",24.44,0,0.6333333333333333,0,{"$f":"IF(COUNTIF(K$1:K778,K778)=1,K778,\"\")","v":""}]
["2023-06-26","Alejandro Castanon Diaz","Gary Hydracheck - Speedup","29s",null,"17:17:00","17:17:00",0.31,0,0,0,{"$f":"IF(COUNTIF(K$1:K779,K779)=1,K779,\"\")","v":""}]
["2023-06-26","Alejandro Castanon Diaz","Gary Hydracheck - Checkout zipcode issue","07m",null,"17:17:00","17:24:00",4.68,0,0.11666666666666667,0,{"$f":"IF(COUNTIF(K$1:K780,K780)=1,K780,\"\")","v":""}]
["2023-06-26","Alejandro Castanon Diaz","Samantha - cuenta compartida","01m",null,"17:25:00","17:26:00",0.64,0,1.6666666666666666E-2,0,{"$f":"IF(COUNTIF(K$1:K781,K781)=1,K781,\"\")","v":""}]
["2023-06-26","Alejandro Castanon Diaz","Nana - maletas","07m",null,"17:26:00","17:34:00",4.8499999999999996,0,0.11666666666666667,0,{"$f":"IF(COUNTIF(K$1:K782,K782)=1,K782,\"\")","v":""}]
["2023-06-26","Alejandro Castanon Diaz","Rodrigo - Techservices Hosting","02m",null,"17:34:00","17:37:00",1.63,0,3.3333333333333333E-2,0,{"$f":"IF(COUNTIF(K$1:K783,K783)=1,K783,\"\")","v":""}]
["2023-06-26","Alejandro Castanon Diaz","Rodrigo Techservices - WP Run4u","5s",null,"17:35:00","17:35:00",0.05,0,0,0,{"$f":"IF(COUNTIF(K$1:K784,K784)=1,K784,\"\")","v":""}]
["2023-06-26","Alejandro Castanon Diaz","Daren freelancer - nuevo form precisemd","17m",null,"17:37:00","17:54:00",10.93,0,0.28333333333333333,0,{"$f":"IF(COUNTIF(K$1:K785,K785)=1,K785,\"\")","v":""}]
["2023-06-26","Alejandro Castanon Diaz","Gary Hydracheck - Fix quote shipping","4s",null,"17:43:00","17:43:00",0.04,0,0,0,{"$f":"IF(COUNTIF(K$1:K786,K786)=1,K786,\"\")","v":""}]
["2023-06-26","Alejandro Castanon Diaz","Daren Nuevo Form","25s",null,"17:54:00","17:55:00",0.26,0,0,0,{"$f":"IF(COUNTIF(K$1:K787,K787)=1,K787,\"\")","v":""}]
["2023-06-26","Alejandro Castanon Diaz","Ricardo Cuerna - FacturaLo","54m",null,"17:55:00","18:49:00",34.54,0,0.9,0,{"$f":"IF(COUNTIF(K$1:K788,K788)=1,K788,\"\")","v":""}]
["2023-06-26","Alejandro Castanon Diaz","Rodrigo - Techservices Hosting","13m",null,"19:13:00","19:27:00",8.75,0,0.21666666666666667,0,{"$f":"IF(COUNTIF(K$1:K789,K789)=1,K789,\"\")","v":""}]
["2023-06-26","Alejandro Castanon Diaz","Viv Freelancer - Soporte anual $200","09m",null,"19:36:00","19:46:00",6.27,0,0.15,0,{"$f":"IF(COUNTIF(K$1:K790,K790)=1,K790,\"\")","v":""}]
["2023-06-26","Alejandro Castanon Diaz","Nick Advizee - fijo","02m",null,"22:16:00","22:18:00",1.65,0,3.3333333333333333E-2,4.5333333333333332,{"$f":"IF(COUNTIF(K$1:K791,K791)=1,K791,\"\")","v":""}]
["2023-06-27","Alejandro Castanon Diaz","Nick Advizee - fijo","03m",null,"00:00:00","00:04:00",2.42,0,0.05,4.5333333333333332,{"$f":"IF(COUNTIF(K$1:K792,K792)=1,K792,\"\")","v":""}]
["2023-06-27","Alejandro Castanon Diaz","Ricardo Cuerna - Fixum facturacion","2h 16m",null,"00:04:00","17:58:00",86.74,0,2.2666666666666666,5.4666666666666668,{"$f":"IF(COUNTIF(K$1:K793,K793)=1,K793,\"\")","v":5.4666666666666668}]
["2023-06-27","Alejandro Castanon Diaz","Ricardo Freelancer - Accounting","07m",null,"10:58:00","11:06:00",4.9000000000000004,0,0.11666666666666667,0,{"$f":"IF(COUNTIF(K$1:K794,K794)=1,K794,\"\")","v":""}]
["2023-06-27","Alejandro Castanon Diaz","Ricardo Cuerna - Fixum facturacion","13m",null,"11:06:00","11:19:00",8.58,0,0.21666666666666667,5.4666666666666668,{"$f":"IF(COUNTIF(K$1:K795,K795)=1,K795,\"\")","v":""}]
["2023-06-27","Alejandro Castanon Diaz","Faby - PMI Ame Sitio multilang","07m",null,"11:19:00","11:27:00",4.62,0,0.11666666666666667,0,{"$f":"IF(COUNTIF(K$1:K796,K796)=1,K796,\"\")","v":""}]
["2023-06-27","Alejandro Castanon Diaz","Diana Inlat - Rehacer Ingeurbe","42m",null,"11:27:00","12:09:00",26.68,0,0.7,1.6666666666666666E-2,{"$f":"IF(COUNTIF(K$1:K797,K797)=1,K797,\"\")","v":""}]
["2023-06-27","Alejandro Castanon Diaz","Ricardo Cuerna - Fixum facturacion","14m",null,"12:09:00","12:27:00",8.8800000000000008,0,0.23333333333333334,5.4666666666666668,{"$f":"IF(COUNTIF(K$1:K798,K798)=1,K798,\"\")","v":""}]
["2023-06-27","Alejandro Castanon Diaz","Nick Advizee - fijo","1h 20m",null,"12:27:00","13:47:00",51.25,0,1.3333333333333333,4.5333333333333332,{"$f":"IF(COUNTIF(K$1:K799,K799)=1,K799,\"\")","v":""}]
["2023-06-27","Alejandro Castanon Diaz","Ricardo Cuerna - Fixum facturacion","34m",null,"13:47:00","14:22:00",21.79,0,0.56666666666666665,5.4666666666666668,{"$f":"IF(COUNTIF(K$1:K800,K800)=1,K800,\"\")","v":""}]
["2023-06-27","Alejandro Castanon Diaz","Ricardo Cuerna - Fixum facturacion","48m",null,"14:16:00","16:22:00",30.67,0,0.8,5.4666666666666668,{"$f":"IF(COUNTIF(K$1:K801,K801)=1,K801,\"\")","v":""}]
["2023-06-27","Alejandro Castanon Diaz","Nick Advizee - fijo","17s",null,"17:18:00","17:18:00",0.18,0,0,4.5333333333333332,{"$f":"IF(COUNTIF(K$1:K802,K802)=1,K802,\"\")","v":""}]
["2023-06-27","Alejandro Castanon Diaz","Ricardo Cuerna - Fixum facturacion","18m",null,"23:06:00","23:25:00",11.63,0,0.3,5.4666666666666668,{"$f":"IF(COUNTIF(K$1:K803,K803)=1,K803,\"\")","v":""}]
["2023-06-27","Alejandro Castanon Diaz","Nick Advizee - fijo","2s",null,"23:23:00","23:23:00",0.02,0,0,4.5333333333333332,{"$f":"IF(COUNTIF(K$1:K804,K804)=1,K804,\"\")","v":""}]
["2023-06-27","Alejandro Castanon Diaz","Bjorn Sueco - ajustes Woo y POS","11m",null,"23:25:00","23:36:00",7.35,0,0.18333333333333332,0,{"$f":"IF(COUNTIF(K$1:K805,K805)=1,K805,\"\")","v":""}]
["2023-06-27","Alejandro Castanon Diaz","Nick Advizee - fijo","17m",null,"23:36:00","23:54:00",11.07,0,0.28333333333333333,4.5333333333333332,{"$f":"IF(COUNTIF(K$1:K806,K806)=1,K806,\"\")","v":""}]
["2023-06-28","Alejandro Castanon Diaz","Nick Advizee - fijo","01m",null,"02:41:00","02:42:00",0.73,0,1.6666666666666666E-2,4.5333333333333332,{"$f":"IF(COUNTIF(K$1:K807,K807)=1,K807,\"\")","v":""}]
["2023-06-28","Alejandro Castanon Diaz","Nick Advizee - fijo","11m",null,"11:59:00","12:15:00",7.53,0,0.18333333333333332,4.5333333333333332,{"$f":"IF(COUNTIF(K$1:K808,K808)=1,K808,\"\")","v":""}]
["2023-06-28","Alejandro Castanon Diaz","Nick Advizee - fijo","07m",null,"17:27:00","17:41:00",4.97,0,0.11666666666666667,4.5333333333333332,{"$f":"IF(COUNTIF(K$1:K809,K809)=1,K809,\"\")","v":""}]
["2023-06-28","Alejandro Castanon Diaz","Ricardo Freelancer - Accounting","15m",null,"18:54:00","19:09:00",9.6300000000000008,0,0.25,0,{"$f":"IF(COUNTIF(K$1:K810,K810)=1,K810,\"\")","v":""}]
["2023-06-28","Alejandro Castanon Diaz","Nick Advizee - fijo","03m",null,"19:10:00","19:13:00",2.14,0,0.05,4.5333333333333332,{"$f":"IF(COUNTIF(K$1:K811,K811)=1,K811,\"\")","v":""}]
["2023-06-29","Alejandro Castanon Diaz","Ricardo Cuerna - Fixum facturacion","20m",null,"11:39:00","12:00:00",13.19,0,0.33333333333333331,5.4666666666666668,{"$f":"IF(COUNTIF(K$1:K812,K812)=1,K812,\"\")","v":""}]
["2023-06-29","Alejandro Castanon Diaz","Viv Freelancer - Historic wordle","3h 31m",null,"11:59:00","15:41:00",134.06,0,3.5166666666666666,0,{"$f":"IF(COUNTIF(K$1:K813,K813)=1,K813,\"\")","v":""}]
["2023-06-29","Alejandro Castanon Diaz","Viv Freelancer - Historic wordle","1h 12m",null,"17:24:00","18:42:00",46.22,0,1.2,0,{"$f":"IF(COUNTIF(K$1:K814,K814)=1,K814,\"\")","v":""}]
["2023-06-29","Alejandro Castanon Diaz","Viv Freelancer - Soporte anual $200","02m",null,"18:37:00","18:39:00",1.52,0,3.3333333333333333E-2,0,{"$f":"IF(COUNTIF(K$1:K815,K815)=1,K815,\"\")","v":""}]
["2023-06-29","Alejandro Castanon Diaz","Faby - PMI Ame Sitio multilang","21s",null,"18:39:00","18:40:00",0.22,0,0,0,{"$f":"IF(COUNTIF(K$1:K816,K816)=1,K816,\"\")","v":""}]
["2023-06-29","Alejandro Castanon Diaz","Faby - LB Logistics","29s",null,"18:39:00","18:40:00",0.31,0,0,0,{"$f":"IF(COUNTIF(K$1:K817,K817)=1,K817,\"\")","v":""}]
["2023-06-29","Alejandro Castanon Diaz","Faby - Candywax Depilaciones","01m",null,"18:39:00","18:41:00",0.84,0,1.6666666666666666E-2,0,{"$f":"IF(COUNTIF(K$1:K818,K818)=1,K818,\"\")","v":""}]
["2023-06-29","Alejandro Castanon Diaz","Bjorn Sueco - ajustes Woo y POS","5s",null,"18:40:00","18:40:00",0.05,0,0,0,{"$f":"IF(COUNTIF(K$1:K819,K819)=1,K819,\"\")","v":""}]
["2023-06-29","Alejandro Castanon Diaz","Nueva Mini Lap para viajes y año sabatico","17m",null,"18:42:00","18:59:00",10.89,0,0.28333333333333333,0,{"$f":"IF(COUNTIF(K$1:K820,K820)=1,K820,\"\")","v":""}]
["2023-06-29","Alejandro Castanon Diaz","Viv Freelancer - Historic wordle","02m",null,"18:59:00","19:01:00",1.53,0,3.3333333333333333E-2,0,{"$f":"IF(COUNTIF(K$1:K821,K821)=1,K821,\"\")","v":""}]
["2023-06-29","Alejandro Castanon Diaz","Carlos Freelancer - Tarea API Tickers","2h 01m",null,"19:01:00","21:02:00",76.73,0,2.0166666666666666,0,{"$f":"IF(COUNTIF(K$1:K822,K822)=1,K822,\"\")","v":""}]
["2023-06-29","Alejandro Castanon Diaz","Carlos Freelancer - Tarea API Tickers","2h 34m",null,"21:17:00","23:59:00",97.74,0,2.5666666666666664,0,{"$f":"IF(COUNTIF(K$1:K823,K823)=1,K823,\"\")","v":""}]
["2023-06-29","Alejandro Castanon Diaz","Ricardo Cuerna - Fixum facturacion","54s",null,"22:25:00","22:26:00",0.56999999999999995,0,0,5.4666666666666668,{"$f":"IF(COUNTIF(K$1:K824,K824)=1,K824,\"\")","v":""}]
["2023-06-30","Alejandro Castanon Diaz","Carlos Freelancer - Tarea API Tickers","3h 01m",null,"00:01:00","02:45:00",115.15,0,3.0166666666666666,0,{"$f":"IF(COUNTIF(K$1:K825,K825)=1,K825,\"\")","v":""}]
["2023-06-30","Alejandro Castanon Diaz","Nick Advizee - fijo","10s",null,"01:00:00","01:01:00",0.11,0,0,4.5333333333333332,{"$f":"IF(COUNTIF(K$1:K826,K826)=1,K826,\"\")","v":""}]
["2023-06-30","Alejandro Castanon Diaz","Faby - PMI Ame Sitio multilang","2s",null,"01:18:00","01:18:00",0.02,0,0,0,{"$f":"IF(COUNTIF(K$1:K827,K827)=1,K827,\"\")","v":""}]
["2023-06-30","Alejandro Castanon Diaz","Daren freelancer - nuevo form precisemd","42m",null,"12:24:00","13:06:00",26.74,0,0.7,0,{"$f":"IF(COUNTIF(K$1:K828,K828)=1,K828,\"\")","v":""}]
["2023-06-30","Alejandro Castanon Diaz","Rodrigo Techservices - WP Run4u","17m",null,"13:06:00","13:24:00",11.05,0,0.28333333333333333,0,{"$f":"IF(COUNTIF(K$1:K829,K829)=1,K829,\"\")","v":""}]
["2023-06-30","Alejandro Castanon Diaz","Nick Advizee - fijo","1h 07m",null,"13:24:00","14:31:00",42.5,0,1.1166666666666667,4.5333333333333332,{"$f":"IF(COUNTIF(K$1:K830,K830)=1,K830,\"\")","v":""}]
["2023-06-30","Alejandro Castanon Diaz","Ricardo Cuerna - Fixum facturacion","01m",null,"15:09:00","15:11:00",1.1000000000000001,0,1.6666666666666666E-2,5.4666666666666668,{"$f":"IF(COUNTIF(K$1:K831,K831)=1,K831,\"\")","v":""}]
["2023-06-30","Alejandro Castanon Diaz","Nick Advizee - fijo","17m",null,"15:11:00","15:37:00",11.37,0,0.28333333333333333,4.5333333333333332,{"$f":"IF(COUNTIF(K$1:K832,K832)=1,K832,\"\")","v":""}]
["2023-06-30","Alejandro Castanon Diaz","Ricardo Freelancer - Accounting","37m",null,"15:29:00","16:13:00",23.91,0,0.6166666666666667,0,{"$f":"IF(COUNTIF(K$1:K833,K833)=1,K833,\"\")","v":""}]
["2023-06-30","Alejandro Castanon Diaz","Nick Advizee - fijo","06m",null,"16:06:00","16:12:00",3.86,0,0.1,{"$f":"SUMIFS(J:J,C:C,C834,A:A,\">\"&$S$4)","v":4.5333333333333332},{"$f":"IF(COUNTIF(K$1:K834,K834)=1,K834,\"\")","v":""}]
["2023-06-30","Alejandro Castanon Diaz","Rodrigo Techservices - Techservices Hosting y run4you","01m",null,"16:13:00","16:15:00",1.1100000000000001,0,{"$f":"IF(D835=\"\",\"\",IF(ISERROR(FIND(\"s\",D835)),IF(ISERROR(FIND(\"h \",D835)),LEFT(D835,2)/60,   LEFT(D835,FIND(\"h \",D835)-1 )+LEFT(RIGHT(D835,3),2)/60   ),0))","v":1.6666666666666666E-2},0,{"$f":"IF(COUNTIF(K$1:K835,K835)=1,K835,\"\")","v":""}]
["2023-06-30","Alejandro Castanon Diaz","Carlos Freelancer - Tarea API Tickers","28m",null,"16:15:00","16:43:00",18.12,0,0.46666666666666667,0,{"$f":"IF(COUNTIF(K$1:K836,K836)=1,K836,\"\")","v":""}]
["2023-06-30","Alejandro Castanon Diaz","Viv Freelancer - Historic wordle","22m",null,"16:52:00","17:14:00",13.93,0,0.36666666666666664,0,{"$f":"IF(COUNTIF(K$1:K837,K837)=1,K837,\"\")","v":""}]
["2023-06-30","Alejandro Castanon Diaz","Viv Freelancer - Soporte anual $200","04m",null,"17:14:00","17:18:00",2.91,0,6.6666666666666666E-2,0,{"$f":"IF(COUNTIF(K$1:K838,K838)=1,K838,\"\")","v":""}]
["2023-06-30","Alejandro Castanon Diaz","Faby - PMI Ame Sitio multilang","3s",null,"17:32:00","17:32:00",0.03,0,0,0,{"$f":"IF(COUNTIF(K$1:K839,K839)=1,K839,\"\")","v":""}]
["2023-06-30","Alejandro Castanon Diaz","Carlos Freelancer - Tarea API Tickers","49m",null,"17:32:00","18:22:00",31.36,0,0.81666666666666665,0,{"$f":"IF(COUNTIF(K$1:K840,K840)=1,K840,\"\")","v":""}]
["2023-07-01","Alejandro Castanon Diaz","Carlos Freelancer - Tarea API Tickers","53m",null,"13:44:00","14:47:00",33.76,0,0.8833333333333333,0,{"$f":"IF(COUNTIF(K$1:K841,K841)=1,K841,\"\")","v":""}]
["2023-07-01","Alejandro Castanon Diaz","Faby - PMI Ame Sitio multilang","7s",null,"13:44:00","13:44:00",7.0000000000000007E-2,0,0,0,{"$f":"IF(COUNTIF(K$1:K842,K842)=1,K842,\"\")","v":""}]
["2023-07-01","Alejandro Castanon Diaz","Carlos Freelancer - Tarea API Tickers","02m",null,"16:53:00","16:55:00",1.29,0,3.3333333333333333E-2,0,{"$f":"IF(COUNTIF(K$1:K843,K843)=1,K843,\"\")","v":""}]
["2023-07-01","Alejandro Castanon Diaz","Carlos Freelancer - Tarea API Tickers","1h 50m",null,"17:18:00","19:09:00",69.94,0,1.8333333333333335,0,{"$f":"IF(COUNTIF(K$1:K844,K844)=1,K844,\"\")","v":""}]
["2023-07-01","Alejandro Castanon Diaz","Viv Freelancer - Soporte anual $200","6s",null,"18:53:00","18:53:00",0.06,0,0,0,{"$f":"IF(COUNTIF(K$1:K845,K845)=1,K845,\"\")","v":""}]
["2023-07-02","Alejandro Castanon Diaz","Carlos Freelancer - Tarea API Tickers","16m",null,"11:43:00","11:59:00",10.74,0,0.26666666666666666,0,{"$f":"IF(COUNTIF(K$1:K846,K846)=1,K846,\"\")","v":""}]
["2023-07-02","Alejandro Castanon Diaz","Carlos Freelancer - Tarea API Tickers","33m",null,"14:25:00","14:58:00",20.96,0,0.55000000000000004,0,{"$f":"IF(COUNTIF(K$1:K847,K847)=1,K847,\"\")","v":""}]
["2023-07-02","Alejandro Castanon Diaz","Carlos Freelancer - Tarea API Tickers","48m",null,"15:20:00","16:14:00",30.61,0,0.8,0,{"$f":"IF(COUNTIF(K$1:K848,K848)=1,K848,\"\")","v":""}]
["2023-07-02","Alejandro Castanon Diaz","Ricardo Cuerna - Fixum facturacion","09m",null,"16:14:00","16:24:00",5.84,0,0.15,5.4666666666666668,{"$f":"IF(COUNTIF(K$1:K849,K849)=1,K849,\"\")","v":""}]
["2023-07-02","Alejandro Castanon Diaz","Carlos Freelancer - Tarea API Tickers","51s",null,"16:29:00","16:30:00",0.54,0,0,0,{"$f":"IF(COUNTIF(K$1:K850,K850)=1,K850,\"\")","v":""}]
["2023-07-04","Alejandro Castanon Diaz","Carlos Freelancer - Tarea API Tickers","58s",null,"07:16:00","07:16:00",0.61,0,0,0,{"$f":"IF(COUNTIF(K$1:K851,K851)=1,K851,\"\")","v":""}]
["2023-07-04","Alejandro Castanon Diaz","Carlos Freelancer - Tarea API Tickers","07m",null,"08:31:00","08:39:00",4.8499999999999996,0,0.11666666666666667,0,{"$f":"IF(COUNTIF(K$1:K852,K852)=1,K852,\"\")","v":""}]
["2023-07-04","Alejandro Castanon Diaz","Viv Freelancer - Soporte anual $200","13m",null,"08:39:00","08:52:00",8.59,0,0.21666666666666667,0,{"$f":"IF(COUNTIF(K$1:K853,K853)=1,K853,\"\")","v":""}]
["2023-07-04","Alejandro Castanon Diaz","Nick Advizee - fijo","14m",null,"08:52:00","09:07:00",9.39,0,0.23333333333333334,4.5333333333333332,{"$f":"IF(COUNTIF(K$1:K854,K854)=1,K854,\"\")","v":""}]
["2023-07-04","Alejandro Castanon Diaz","Ricardo Cuerna - Fixum facturacion","05m",null,"09:07:00","09:12:00",3.18,0,8.3333333333333329E-2,5.4666666666666668,{"$f":"IF(COUNTIF(K$1:K855,K855)=1,K855,\"\")","v":""}]
["2023-07-04","Alejandro Castanon Diaz","Ricardo Cuerna - Fixum facturacion","36m",null,"09:41:00","10:22:00",23.26,0,0.6,5.4666666666666668,{"$f":"IF(COUNTIF(K$1:K856,K856)=1,K856,\"\")","v":""}]
["2023-07-04","Alejandro Castanon Diaz","Nick Advizee - fijo","51s",null,"11:03:00","11:04:00",0.54,0,0,4.5333333333333332,{"$f":"IF(COUNTIF(K$1:K857,K857)=1,K857,\"\")","v":""}]
["2023-07-04","Alejandro Castanon Diaz","Diana Inlat - Rehacer Ingeurbe","03m",null,"11:04:00","11:07:00",1.94,0,0.05,1.6666666666666666E-2,{"$f":"IF(COUNTIF(K$1:K858,K858)=1,K858,\"\")","v":""}]
["2023-07-04","Alejandro Castanon Diaz","Diana Inlat - Rehacer Ingeurbe","8s",null,"21:21:00","21:21:00",0.08,0,0,1.6666666666666666E-2,{"$f":"IF(COUNTIF(K$1:K859,K859)=1,K859,\"\")","v":""}]
["2023-07-04","Alejandro Castanon Diaz","Nick Advizee - fijo","38m",null,"21:21:00","21:59:00",24.39,0,0.6333333333333333,4.5333333333333332,{"$f":"IF(COUNTIF(K$1:K860,K860)=1,K860,\"\")","v":""}]
["2023-07-04","Alejandro Castanon Diaz","Nick Advizee - fijo","31s",null,"22:40:00","22:41:00",0.33,0,0,4.5333333333333332,{"$f":"IF(COUNTIF(K$1:K861,K861)=1,K861,\"\")","v":""}]
["2023-07-05","Alejandro Castanon Diaz","Nick Advizee - fijo","21m",null,"08:36:00","09:05:00",13.6,0,0.35,4.5333333333333332,{"$f":"IF(COUNTIF(K$1:K862,K862)=1,K862,\"\")","v":""}]
["2023-07-05","Alejandro Castanon Diaz","Nick Advizee - fijo","1h 56m",null,"09:23:00","11:19:00",73.89,0,1.9333333333333333,4.5333333333333332,{"$f":"IF(COUNTIF(K$1:K863,K863)=1,K863,\"\")","v":""}]
["2023-07-05","Alejandro Castanon Diaz","yo - Buscar 2do Freelancer por hora...","46s",null,"09:55:00","09:56:00",0.49,0,0,0,{"$f":"IF(COUNTIF(K$1:K864,K864)=1,K864,\"\")","v":""}]
["2023-07-05","Alejandro Castanon Diaz","Gary Hydracheck - Fix quote shipping","10s",null,"09:56:00","09:56:00",0.11,0,0,0,{"$f":"IF(COUNTIF(K$1:K865,K865)=1,K865,\"\")","v":""}]
["2023-07-05","Alejandro Castanon Diaz","Carlos Freelancer - Tarea API Tickers","41s",null,"09:56:00","10:11:00",0.43,0,0,0,{"$f":"IF(COUNTIF(K$1:K866,K866)=1,K866,\"\")","v":""}]
["2023-07-05","Alejandro Castanon Diaz","Faby - Candywax Depilaciones","26m",null,"09:57:00","10:24:00",16.53,0,0.43333333333333335,0,{"$f":"IF(COUNTIF(K$1:K867,K867)=1,K867,\"\")","v":""}]
["2023-07-05","Alejandro Castanon Diaz","Faby - PMI Ame Sitio multilang","24s",null,"10:11:00","10:11:00",0.25,0,0,0,{"$f":"IF(COUNTIF(K$1:K868,K868)=1,K868,\"\")","v":""}]
["2023-07-05","Alejandro Castanon Diaz","Rodrigo Techservices - Techservices Hosting y run4you","50s",null,"10:29:00","10:30:00",0.53,0,0,0,{"$f":"IF(COUNTIF(K$1:K869,K869)=1,K869,\"\")","v":""}]
["2023-07-05","Alejandro Castanon Diaz","Faby - Candywax Depilaciones","04m",null,"10:38:00","10:44:00",3.01,0,6.6666666666666666E-2,0,{"$f":"IF(COUNTIF(K$1:K870,K870)=1,K870,\"\")","v":""}]
["2023-07-05","Alejandro Castanon Diaz","Faby - PMI Ame Sitio multilang","43s",null,"10:43:00","10:46:00",0.45,0,0,0,{"$f":"IF(COUNTIF(K$1:K871,K871)=1,K871,\"\")","v":""}]
["2023-07-05","Alejandro Castanon Diaz","Faby - LB Logistics","02m",null,"10:43:00","10:46:00",1.28,0,3.3333333333333333E-2,0,{"$f":"IF(COUNTIF(K$1:K872,K872)=1,K872,\"\")","v":""}]
["2023-07-05","Alejandro Castanon Diaz","Nick Advizee - fijo","01m",null,"14:05:00","14:07:00",1,0,1.6666666666666666E-2,4.5333333333333332,{"$f":"IF(COUNTIF(K$1:K873,K873)=1,K873,\"\")","v":""}]
["2023-07-05","Alejandro Castanon Diaz","Nick Advizee - fijo","14m",null,"15:18:00","15:36:00",8.93,0,0.23333333333333334,4.5333333333333332,{"$f":"IF(COUNTIF(K$1:K874,K874)=1,K874,\"\")","v":""}]
["2023-07-05","Alejandro Castanon Diaz","Nick Advizee - fijo","10m",null,"15:48:00","16:01:00",6.79,0,0.16666666666666666,4.5333333333333332,{"$f":"IF(COUNTIF(K$1:K875,K875)=1,K875,\"\")","v":""}]
["2023-07-05","Alejandro Castanon Diaz","Nick Advizee - fijo","04m",null,"16:43:00","16:55:00",2.97,0,6.6666666666666666E-2,4.5333333333333332,{"$f":"IF(COUNTIF(K$1:K876,K876)=1,K876,\"\")","v":""}]
["2023-07-05","Alejandro Castanon Diaz","Nick Advizee - fijo","11m",null,"17:10:00","17:23:00",7.22,0,0.18333333333333332,4.5333333333333332,{"$f":"IF(COUNTIF(K$1:K877,K877)=1,K877,\"\")","v":""}]
["2023-07-06","Alejandro Castanon Diaz","Carlos Freelancer - Tarea flowchart y reporte","09m",null,"10:00:00","10:10:00",6.16,0,0.15,0,{"$f":"IF(COUNTIF(K$1:K878,K878)=1,K878,\"\")","v":""}]
["2023-07-06","Alejandro Castanon Diaz","Carlos Freelancer - Tarea flowchart y reporte","1h 03m",null,"12:54:00","13:59:00",40.36,0,1.05,0,{"$f":"IF(COUNTIF(K$1:K879,K879)=1,K879,\"\")","v":""}]
["2023-07-06","Alejandro Castanon Diaz","Nick Advizee - fijo","04m",null,"13:59:00","14:04:00",3.01,0,6.6666666666666666E-2,4.5333333333333332,{"$f":"IF(COUNTIF(K$1:K880,K880)=1,K880,\"\")","v":""}]
["2023-07-06","Alejandro Castanon Diaz","Carlos Freelancer - Tarea API Tickers","2s",null,"14:04:00","14:04:00",0.02,0,0,0,{"$f":"IF(COUNTIF(K$1:K881,K881)=1,K881,\"\")","v":""}]
["2023-07-06","Alejandro Castanon Diaz","Faby - LB Logistics","48m",null,"14:04:00","14:58:00",30.76,0,0.8,0,{"$f":"IF(COUNTIF(K$1:K882,K882)=1,K882,\"\")","v":""}]
["2023-07-06","Alejandro Castanon Diaz","Ricardo Freelancer - Accounting","04m",null,"14:04:00","14:09:00",2.86,0,6.6666666666666666E-2,0,{"$f":"IF(COUNTIF(K$1:K883,K883)=1,K883,\"\")","v":""}]
["2023-07-06","Alejandro Castanon Diaz","Nick Advizee - fijo","01m",null,"14:47:00","14:48:00",0.72,0,1.6666666666666666E-2,4.5333333333333332,{"$f":"IF(COUNTIF(K$1:K884,K884)=1,K884,\"\")","v":""}]
["2023-07-06","Alejandro Castanon Diaz","Carlos Freelancer - Tarea API Tickers","08m",null,"14:58:00","15:07:00",5.34,0,0.13333333333333333,0,{"$f":"IF(COUNTIF(K$1:K885,K885)=1,K885,\"\")","v":""}]
["2023-07-06","Alejandro Castanon Diaz","Nick Advizee - fijo","03m",null,"15:07:00","15:10:00",2.25,0,0.05,4.5333333333333332,{"$f":"IF(COUNTIF(K$1:K886,K886)=1,K886,\"\")","v":""}]
["2023-07-07","Alejandro Castanon Diaz","Ricardo Cuerna - Fixum facturacion","08m",null,"11:37:00","11:59:00",5.13,0,0.13333333333333333,5.4666666666666668,{"$f":"IF(COUNTIF(K$1:K887,K887)=1,K887,\"\")","v":""}]
["2023-07-07","Alejandro Castanon Diaz","Nick Advizee - fijo","34m",null,"11:38:00","12:24:00",21.62,0,0.56666666666666665,4.5333333333333332,{"$f":"IF(COUNTIF(K$1:K888,K888)=1,K888,\"\")","v":""}]
["2023-07-07","Alejandro Castanon Diaz","Ricardo Cuerna - Fixum facturacion","37m",null,"12:09:00","13:02:00",23.57,0,0.6166666666666667,5.4666666666666668,{"$f":"IF(COUNTIF(K$1:K889,K889)=1,K889,\"\")","v":""}]
["2023-07-07","Alejandro Castanon Diaz","Nick Advizee - fijo","05m",null,"12:51:00","12:56:00",3.34,0,8.3333333333333329E-2,4.5333333333333332,{"$f":"IF(COUNTIF(K$1:K890,K890)=1,K890,\"\")","v":""}]
["2023-07-07","Alejandro Castanon Diaz","Faby - LB Logistics","25m",null,"13:14:00","13:40:00",16.37,0,0.41666666666666669,0,{"$f":"IF(COUNTIF(K$1:K891,K891)=1,K891,\"\")","v":""}]
["2023-07-07","Alejandro Castanon Diaz","Carlos Freelancer - Tarea API Tickers","5s",null,"13:16:00","13:17:00",0.05,0,0,0,{"$f":"IF(COUNTIF(K$1:K892,K892)=1,K892,\"\")","v":""}]
["2023-07-07","Alejandro Castanon Diaz","Nick Advizee - fijo","2s",null,"13:40:00","13:40:00",0.02,0,0,4.5333333333333332,{"$f":"IF(COUNTIF(K$1:K893,K893)=1,K893,\"\")","v":""}]
["2023-07-07","Alejandro Castanon Diaz","Ricardo Cuerna - Fixum facturacion","1h 20m",null,"13:40:00","15:07:00",51.04,0,1.3333333333333333,5.4666666666666668,{"$f":"IF(COUNTIF(K$1:K894,K894)=1,K894,\"\")","v":""}]
["2023-07-07","Alejandro Castanon Diaz","Bjorn Sueco - ajustes Woo y POS","23s",null,"14:29:00","14:29:00",0.24,0,0,0,{"$f":"IF(COUNTIF(K$1:K895,K895)=1,K895,\"\")","v":""}]
["2023-07-07","Alejandro Castanon Diaz","Nick Advizee - fijo","4s",null,"14:29:00","14:29:00",0.04,0,0,4.5333333333333332,{"$f":"IF(COUNTIF(K$1:K896,K896)=1,K896,\"\")","v":""}]
["2023-07-07","Alejandro Castanon Diaz","Diana Inlat - Rehacer Ingeurbe","03m",null,"14:32:00","14:37:00",2.23,0,0.05,1.6666666666666666E-2,{"$f":"IF(COUNTIF(K$1:K897,K897)=1,K897,\"\")","v":""}]
["2023-07-07","Alejandro Castanon Diaz","Diana Inlat - Ingeurbe Tablet e Ingles","01m",null,"14:35:00","14:37:00",1.01,0,1.6666666666666666E-2,{"$f":"SUMIFS(J:J,C:C,C898,A:A,\">\"&$S$4)","v":0},{"$f":"IF(COUNTIF(K$1:K898,K898)=1,K898,\"\")","v":""}]
["2023-07-07","Alejandro Castanon Diaz","Diana Inlat - Ingeurbe Tablet e Ingles","1h 02m",null,"15:07:00","16:09:00",39.57,0,{"$f":"IF(D899=\"\",\"\",IF(ISERROR(FIND(\"s\",D899)),IF(ISERROR(FIND(\"h \",D899)),LEFT(D899,2)/60,   LEFT(D899,FIND(\"h \",D899)-1 )+LEFT(RIGHT(D899,3),2)/60   ),0))","v":1.0333333333333334},0,{"$f":"IF(COUNTIF(K$1:K899,K899)=1,K899,\"\")","v":""}]
["2023-07-07","Alejandro Castanon Diaz","Nick Advizee - fijo","23m",null,"22:33:00","22:57:00",15.19,0,0.38333333333333336,4.5333333333333332,{"$f":"IF(COUNTIF(K$1:K900,K900)=1,K900,\"\")","v":""}]
["2023-07-08","Alejandro Castanon Diaz","Viv Freelancer - Soporte anual $200","50m",null,"11:09:00","12:08:00",32.229999999999997,0,0.83333333333333337,0,{"$f":"IF(COUNTIF(K$1:K901,K901)=1,K901,\"\")","v":""}]
["2023-07-08","Alejandro Castanon Diaz","Viv Freelancer - Soporte anual $200","21s",null,"13:07:00","13:07:00",0.22,0,0,0,{"$f":"IF(COUNTIF(K$1:K902,K902)=1,K902,\"\")","v":""}]
["2023-07-08","Alejandro Castanon Diaz","Viv Freelancer - Soporte anual $200","8s",null,"13:25:00","13:25:00",0.08,0,0,0,{"$f":"IF(COUNTIF(K$1:K903,K903)=1,K903,\"\")","v":""}]
["2023-07-08","Alejandro Castanon Diaz","Nick Advizee - fijo","05m",null,"16:16:00","16:21:00",3.67,0,8.3333333333333329E-2,4.5333333333333332,{"$f":"IF(COUNTIF(K$1:K904,K904)=1,K904,\"\")","v":""}]
["2023-07-10","Alejandro Castanon Diaz","Viv Freelancer - Soporte anual $200","38m",null,"10:11:00","11:00:00",24.39,0,0.6333333333333333,0,{"$f":"IF(COUNTIF(K$1:K905,K905)=1,K905,\"\")","v":""}]
["2023-07-10","Alejandro Castanon Diaz","Ricardo Freelancer - Accounting","09m",null,"10:32:00","10:45:00",6.21,0,0.15,0,{"$f":"IF(COUNTIF(K$1:K906,K906)=1,K906,\"\")","v":""}]
["2023-07-10","Alejandro Castanon Diaz","Ricardo Freelancer - Accounting","43s",null,"11:30:00","11:31:00",0.45,0,0,0,{"$f":"IF(COUNTIF(K$1:K907,K907)=1,K907,\"\")","v":""}]
["2023-07-10","Alejandro Castanon Diaz","Carlos Sanchez - rehacer chrishop.mx","04m",null,"11:31:00","11:35:00",2.67,0,6.6666666666666666E-2,0,{"$f":"IF(COUNTIF(K$1:K908,K908)=1,K908,\"\")","v":""}]
["2023-07-10","Alejandro Castanon Diaz","Ricardo Cuerna - Fixum facturacion","09m",null,"11:35:00","11:45:00",6.29,0,0.15,5.4666666666666668,{"$f":"IF(COUNTIF(K$1:K909,K909)=1,K909,\"\")","v":""}]
["2023-07-10","Alejandro Castanon Diaz","Nick Advizee - fijo","14m",null,"11:45:00","11:59:00",9.2200000000000006,0,0.23333333333333334,4.5333333333333332,{"$f":"IF(COUNTIF(K$1:K910,K910)=1,K910,\"\")","v":""}]
["2023-07-10","Alejandro Castanon Diaz","Nick Advizee - fijo","8s",null,"12:19:00","12:34:00",9.4499999999999993,0,0,{"$f":"SUMIFS(J:J,C:C,C911,A:A,\">\"&$S$4)","v":4.5333333333333332},{"$f":"IF(COUNTIF(K$1:K911,K911)=1,K911,\"\")","v":""}]
["2023-07-10","Alejandro Castanon Diaz","Nick Advizee - fijo","2h 12m",null,"12:19:00","14:32:00",84.22,0,2.2000000000000002,4.5333333333333332,{"$f":"IF(COUNTIF(K$1:K912,K912)=1,K912,\"\")","v":""}]
["2023-07-10","Alejandro Castanon Diaz","Gary Hydracheck - Fix quote shipping","25m",null,"14:32:00","14:58:00",15.98,0,0.41666666666666669,0,{"$f":"IF(COUNTIF(K$1:K913,K913)=1,K913,\"\")","v":""}]
["2023-07-10","Alejandro Castanon Diaz","Gary Hydracheck - Fix quote shipping","39s",null,"15:09:00","15:09:00",0.41,0,0,0,{"$f":"IF(COUNTIF(K$1:K914,K914)=1,K914,\"\")","v":""}]
["2023-07-10","Alejandro Castanon Diaz","Daren freelancer - nuevo form precisemd","30m",null,"15:09:00","15:40:00",19.260000000000002,0,0.5,0,{"$f":"IF(COUNTIF(K$1:K915,K915)=1,K915,\"\")","v":""}]
["2023-07-10","Alejandro Castanon Diaz","Gary Hydracheck - Fix quote shipping","56m",null,"15:40:00","16:36:00",35.49,0,0.93333333333333335,0,{"$f":"IF(COUNTIF(K$1:K916,K916)=1,K916,\"\")","v":""}]
["2023-07-10","Alejandro Castanon Diaz","Faby - LB Logistics","15m",null,"16:36:00","16:51:00",9.81,0,0.25,0,{"$f":"IF(COUNTIF(K$1:K917,K917)=1,K917,\"\")","v":""}]
["2023-07-10","Alejandro Castanon Diaz","Ricardo Cuerna - Fixum facturacion","06m",null,"16:51:00","16:58:00",4.24,0,0.1,5.4666666666666668,{"$f":"IF(COUNTIF(K$1:K918,K918)=1,K918,\"\")","v":""}]
["2023-07-10","Alejandro Castanon Diaz","Viv Freelancer - Soporte anual $200","04m",null,"16:58:00","17:02:00",2.54,0,6.6666666666666666E-2,0,{"$f":"IF(COUNTIF(K$1:K919,K919)=1,K919,\"\")","v":""}]
["2023-07-10","Alejandro Castanon Diaz","Gary Hydracheck - Fix quote shipping","17s",null,"16:59:00","16:59:00",0.18,0,0,0,{"$f":"IF(COUNTIF(K$1:K920,K920)=1,K920,\"\")","v":""}]
["2023-07-10","Alejandro Castanon Diaz","Diana Inlat - Rehacer Ingeurbe","21m",null,"17:02:00","17:24:00",13.84,0,0.35,1.6666666666666666E-2,{"$f":"IF(COUNTIF(K$1:K921,K921)=1,K921,\"\")","v":""}]
["2023-07-10","Alejandro Castanon Diaz","Viv Freelancer - Fourdle game","1h 41m",null,"17:24:00","19:07:00",64.37,0,1.6833333333333333,0,{"$f":"IF(COUNTIF(K$1:K922,K922)=1,K922,\"\")","v":""}]
["2023-07-10","Alejandro Castanon Diaz","Viv Freelancer - Soporte anual $200","14s",null,"18:01:00","18:02:00",0.15,0,0,0,{"$f":"IF(COUNTIF(K$1:K923,K923)=1,K923,\"\")","v":""}]
["2023-07-10","Alejandro Castanon Diaz","Ricardo Cuerna - Fixum facturacion","16m",null,"19:05:00","19:23:00",10.62,0,0.26666666666666666,5.4666666666666668,{"$f":"IF(COUNTIF(K$1:K924,K924)=1,K924,\"\")","v":""}]
["2023-07-10","Alejandro Castanon Diaz","Viv Freelancer - Fourdle game","01m",null,"19:23:00","19:25:00",1.1599999999999999,0,1.6666666666666666E-2,0,{"$f":"IF(COUNTIF(K$1:K925,K925)=1,K925,\"\")","v":""}]
["2023-07-11","Alejandro Castanon Diaz","Ricardo Cuerna - Fixum facturacion","21s",null,"10:23:00","10:23:00",0.22,0,0,5.4666666666666668,{"$f":"IF(COUNTIF(K$1:K926,K926)=1,K926,\"\")","v":""}]
["2023-07-11","Alejandro Castanon Diaz","Nick Advizee - fijo","2h 50m",null,"10:23:00","13:16:00",108.03,0,2.8333333333333335,4.5333333333333332,{"$f":"IF(COUNTIF(K$1:K927,K927)=1,K927,\"\")","v":""}]
["2023-07-11","Alejandro Castanon Diaz","Daren freelancer - nuevo form precisemd","21m",null,"14:55:00","15:30:00",13.55,0,0.35,0,{"$f":"IF(COUNTIF(K$1:K928,K928)=1,K928,\"\")","v":""}]
["2023-07-11","Alejandro Castanon Diaz","Ricardo Cuerna - Fixum facturacion","04m",null,"14:56:00","15:01:00",2.9,0,6.6666666666666666E-2,5.4666666666666668,{"$f":"IF(COUNTIF(K$1:K929,K929)=1,K929,\"\")","v":""}]
["2023-07-11","Alejandro Castanon Diaz","Nick Advizee - fijo","14m",null,"16:36:00","16:50:00",8.91,0,0.23333333333333334,4.5333333333333332,{"$f":"IF(COUNTIF(K$1:K930,K930)=1,K930,\"\")","v":""}]
["2023-07-11","Alejandro Castanon Diaz","Paul Freelancer - Coinbase API site","10m",null,"16:57:00","17:07:00",6.82,0,0.16666666666666666,0,{"$f":"IF(COUNTIF(K$1:K931,K931)=1,K931,\"\")","v":""}]
["2023-07-11","Alejandro Castanon Diaz","Gary Hydracheck - Fix quote shipping","13m",null,"17:07:00","17:21:00",8.6300000000000008,0,0.21666666666666667,0,{"$f":"IF(COUNTIF(K$1:K932,K932)=1,K932,\"\")","v":""}]
["2023-07-11","Alejandro Castanon Diaz","Paul Freelancer - Coinbase API site","17s",null,"17:20:00","17:21:00",0.18,0,0,0,{"$f":"IF(COUNTIF(K$1:K933,K933)=1,K933,\"\")","v":""}]
["2023-07-11","Alejandro Castanon Diaz","Alejandro Disidentes - Sixbell","08m",null,"17:21:00","17:29:00",5.08,0,0.13333333333333333,2.2666666666666666,{"$f":"IF(COUNTIF(K$1:K934,K934)=1,K934,\"\")","v":2.2666666666666666}]
["2023-07-11","Alejandro Castanon Diaz","Ricardo Cuerna - Fixum facturacion","32m",null,"21:56:00","22:29:00",20.69,0,0.53333333333333333,5.4666666666666668,{"$f":"IF(COUNTIF(K$1:K935,K935)=1,K935,\"\")","v":""}]
["2023-07-12","Alejandro Castanon Diaz","Ricardo Cuerna - Fixum facturacion","29s",null,"09:38:00","09:39:00",0.31,0,0,5.4666666666666668,{"$f":"IF(COUNTIF(K$1:K936,K936)=1,K936,\"\")","v":""}]
["2023-07-12","Alejandro Castanon Diaz","Alejandro Disidentes - Sixbell","10m",null,"09:39:00","09:49:00",6.42,0,0.16666666666666666,2.2666666666666666,{"$f":"IF(COUNTIF(K$1:K937,K937)=1,K937,\"\")","v":""}]
["2023-07-12","Alejandro Castanon Diaz","Ricardo Cuerna - Fixum facturacion","43m",null,"09:49:00","10:33:00",27.66,0,0.71666666666666667,5.4666666666666668,{"$f":"IF(COUNTIF(K$1:K938,K938)=1,K938,\"\")","v":""}]
["2023-07-12","Alejandro Castanon Diaz","Ricardo Cuerna - Fixum facturacion","1h 07m",null,"10:33:00","11:40:00",43,0,1.1166666666666667,5.4666666666666668,{"$f":"IF(COUNTIF(K$1:K939,K939)=1,K939,\"\")","v":""}]
["2023-07-12","Alejandro Castanon Diaz","Alejandro Disidentes - Sixbell","47s",null,"12:19:00","12:20:00",0.5,0,0,2.2666666666666666,{"$f":"IF(COUNTIF(K$1:K940,K940)=1,K940,\"\")","v":""}]
["2023-07-12","Alejandro Castanon Diaz","Ricardo Cuerna - Fixum facturacion","48s",null,"12:20:00","12:21:00",0.51,0,0,5.4666666666666668,{"$f":"IF(COUNTIF(K$1:K941,K941)=1,K941,\"\")","v":""}]
["2023-07-12","Alejandro Castanon Diaz","Viv Freelancer - Fourdle game","30m",null,"12:21:00","13:06:00",19.14,0,0.5,0,{"$f":"IF(COUNTIF(K$1:K942,K942)=1,K942,\"\")","v":""}]
["2023-07-12","Alejandro Castanon Diaz","Alejandro Disidentes - Sixbell","12m",null,"12:35:00","12:51:00",8.1300000000000008,0,0.2,2.2666666666666666,{"$f":"IF(COUNTIF(K$1:K943,K943)=1,K943,\"\")","v":""}]
["2023-07-12","Alejandro Castanon Diaz","Ricardo Cuerna - Fixum facturacion","02m",null,"12:39:00","12:42:00",1.59,0,3.3333333333333333E-2,5.4666666666666668,{"$f":"IF(COUNTIF(K$1:K944,K944)=1,K944,\"\")","v":""}]
["2023-07-12","Alejandro Castanon Diaz","Viv Freelancer - Fourdle game","36m",null,"13:56:00","14:32:00",23.04,0,0.6,0,{"$f":"IF(COUNTIF(K$1:K945,K945)=1,K945,\"\")","v":""}]
["2023-07-12","Alejandro Castanon Diaz","Nick Advizee - fijo","1h 15m",null,"14:47:00","16:02:00",47.74,0,1.25,4.5333333333333332,{"$f":"IF(COUNTIF(K$1:K946,K946)=1,K946,\"\")","v":""}]
["2023-07-13","Alejandro Castanon Diaz","Viv Freelancer - Fourdle game","21m",null,"09:48:00","10:09:00",13.54,0,0.35,0,{"$f":"IF(COUNTIF(K$1:K947,K947)=1,K947,\"\")","v":""}]
["2023-07-13","Alejandro Castanon Diaz","Steve 5 10 - Página personal protfolio","36s",null,"10:10:00","10:11:00",0.38,0,0,1.0333333333333332,{"$f":"IF(COUNTIF(K$1:K948,K948)=1,K948,\"\")","v":1.0333333333333332}]
["2023-07-13","Alejandro Castanon Diaz","Steve 5 10 - Página personal protfolio","08m",null,"10:27:00","10:36:00",5.63,0,0.13333333333333333,1.0333333333333332,{"$f":"IF(COUNTIF(K$1:K949,K949)=1,K949,\"\")","v":""}]
["2023-07-13","Alejandro Castanon Diaz","Ricardo Cuerna - Fixum facturacion","02m",null,"10:36:00","10:39:00",1.7,0,3.3333333333333333E-2,5.4666666666666668,{"$f":"IF(COUNTIF(K$1:K950,K950)=1,K950,\"\")","v":""}]
["2023-07-13","Alejandro Castanon Diaz","Viv Freelancer - Fourdle game","46m",null,"10:39:00","11:25:00",29.21,0,0.76666666666666672,0,{"$f":"IF(COUNTIF(K$1:K951,K951)=1,K951,\"\")","v":""}]
["2023-07-13","Alejandro Castanon Diaz","Alejandro Disidentes - Sixbell","35m",null,"11:25:00","12:14:00",22.48,0,0.58333333333333337,2.2666666666666666,{"$f":"IF(COUNTIF(K$1:K952,K952)=1,K952,\"\")","v":""}]
["2023-07-13","Alejandro Castanon Diaz","Viv Freelancer - Fourdle game","07m",null,"11:41:00","11:48:00",4.5199999999999996,0,0.11666666666666667,0,{"$f":"IF(COUNTIF(K$1:K953,K953)=1,K953,\"\")","v":""}]
["2023-07-13","Alejandro Castanon Diaz","Viv Freelancer - Fourdle game","19m",null,"12:01:00","12:28:00",12.35,0,0.31666666666666665,0,{"$f":"IF(COUNTIF(K$1:K954,K954)=1,K954,\"\")","v":""}]
["2023-07-13","Alejandro Castanon Diaz","Alejandro Disidentes - Sixbell","06m",null,"12:27:00","12:33:00",3.87,0,0.1,2.2666666666666666,{"$f":"IF(COUNTIF(K$1:K955,K955)=1,K955,\"\")","v":""}]
["2023-07-13","Alejandro Castanon Diaz","Carlos Freelancer - Tarea API Tickers","06m",null,"12:33:00","12:52:00",3.85,0,0.1,0,{"$f":"IF(COUNTIF(K$1:K956,K956)=1,K956,\"\")","v":""}]
["2023-07-13","Alejandro Castanon Diaz","Bjorn Sueco - ajustes Woo y POS","07m",null,"12:34:00","12:41:00",4.74,0,0.11666666666666667,0,{"$f":"IF(COUNTIF(K$1:K957,K957)=1,K957,\"\")","v":""}]
["2023-07-13","Alejandro Castanon Diaz","Faby - Candywax Depilaciones","16m",null,"12:41:00","13:11:00",10.75,0,0.26666666666666666,0,{"$f":"IF(COUNTIF(K$1:K958,K958)=1,K958,\"\")","v":""}]
["2023-07-13","Alejandro Castanon Diaz","Faby - PMI Ame Sitio multilang","02m",null,"12:46:00","12:55:00",1.72,0,3.3333333333333333E-2,0,{"$f":"IF(COUNTIF(K$1:K959,K959)=1,K959,\"\")","v":""}]
["2023-07-13","Alejandro Castanon Diaz","Faby - LB Logistics","01m",null,"12:47:00","12:52:00",1.1499999999999999,0,1.6666666666666666E-2,0,{"$f":"IF(COUNTIF(K$1:K960,K960)=1,K960,\"\")","v":""}]
["2023-07-13","Alejandro Castanon Diaz","Bjorn Sueco - ajustes Woo y POS","01m",null,"12:52:00","12:57:00",1.01,0,1.6666666666666666E-2,0,{"$f":"IF(COUNTIF(K$1:K961,K961)=1,K961,\"\")","v":""}]
["2023-07-13","Alejandro Castanon Diaz","Alejandro Disidentes - Sixbell","36s",null,"13:00:00","13:01:00",0.38,0,0,{"$f":"SUMIFS(J:J,C:C,C962,A:A,\">\"&$S$4)","v":2.2666666666666666},{"$f":"IF(COUNTIF(K$1:K962,K962)=1,K962,\"\")","v":""}]
["2023-07-13","Alejandro Castanon Diaz","Carlos Freelancer - Tarea API Tickers","39s",null,"13:11:00","13:13:00",0.41,0,{"$f":"IF(D963=\"\",\"\",IF(ISERROR(FIND(\"s\",D963)),IF(ISERROR(FIND(\"h \",D963)),LEFT(D963,2)/60,   LEFT(D963,FIND(\"h \",D963)-1 )+LEFT(RIGHT(D963,3),2)/60   ),0))","v":0},0,{"$f":"IF(COUNTIF(K$1:K963,K963)=1,K963,\"\")","v":""}]
["2023-07-13","Alejandro Castanon Diaz","Alejandro Disidentes - Sixbell","53m",null,"13:11:00","14:09:00",33.979999999999997,0,0.8833333333333333,2.2666666666666666,{"$f":"IF(COUNTIF(K$1:K964,K964)=1,K964,\"\")","v":""}]
["2023-07-13","Alejandro Castanon Diaz","Paul Freelancer - Coinbase API site","4s",null,"13:13:00","13:13:00",0.04,0,0,0,{"$f":"IF(COUNTIF(K$1:K965,K965)=1,K965,\"\")","v":""}]
["2023-07-13","Alejandro Castanon Diaz","Viv Freelancer - Fourdle game","55s",null,"13:13:00","13:14:00",0.57999999999999996,0,0,0,{"$f":"IF(COUNTIF(K$1:K966,K966)=1,K966,\"\")","v":""}]
["2023-07-13","Alejandro Castanon Diaz","Paul Freelancer - Coinbase API site","2s",null,"13:35:00","13:35:00",0.02,0,0,0,{"$f":"IF(COUNTIF(K$1:K967,K967)=1,K967,\"\")","v":""}]
["2023-07-13","Alejandro Castanon Diaz","Faby - PMI Ame Sitio multilang","5s",null,"13:35:00","13:35:00",0.05,0,0,0,{"$f":"IF(COUNTIF(K$1:K968,K968)=1,K968,\"\")","v":""}]
["2023-07-13","Alejandro Castanon Diaz","Faby - LB Logistics","03m",null,"13:35:00","13:45:00",2.0499999999999998,0,0.05,0,{"$f":"IF(COUNTIF(K$1:K969,K969)=1,K969,\"\")","v":""}]
["2023-07-13","Alejandro Castanon Diaz","Alejandro Disidentes - Sixbell","13m",null,"15:37:00","15:50:00",8.2799999999999994,0,0.21666666666666667,2.2666666666666666,{"$f":"IF(COUNTIF(K$1:K970,K970)=1,K970,\"\")","v":""}]
["2023-07-13","Alejandro Castanon Diaz","Alejandro Disidentes - Sixbell","25m",null,"18:09:00","18:34:00",16.34,0,0.41666666666666669,2.2666666666666666,{"$f":"IF(COUNTIF(K$1:K971,K971)=1,K971,\"\")","v":""}]
["2023-07-14","Alejandro Castanon Diaz","Alejandro Disidentes - Sixbell","03m",null,"08:56:00","09:00:00",2.48,0,0.05,2.2666666666666666,{"$f":"IF(COUNTIF(K$1:K972,K972)=1,K972,\"\")","v":""}]
["2023-07-14","Alejandro Castanon Diaz","Nick Advizee - fijo","11m",null,"09:00:00","09:11:00",7.32,0,0.18333333333333332,4.5333333333333332,{"$f":"IF(COUNTIF(K$1:K973,K973)=1,K973,\"\")","v":""}]
["2023-07-14","Alejandro Castanon Diaz","Steve 5 10 - Página personal protfolio","10m",null,"09:11:00","09:22:00",6.9,0,0.16666666666666666,1.0333333333333332,{"$f":"IF(COUNTIF(K$1:K974,K974)=1,K974,\"\")","v":""}]
["2023-07-14","Alejandro Castanon Diaz","Nick Advizee - fijo","05m",null,"09:22:00","09:28:00",3.5,0,8.3333333333333329E-2,4.5333333333333332,{"$f":"IF(COUNTIF(K$1:K975,K975)=1,K975,\"\")","v":""}]
["2023-07-14","Alejandro Castanon Diaz","Gary Hydracheck - Fix quote shipping","18s",null,"09:24:00","09:28:00",0.19,0,0,0,{"$f":"IF(COUNTIF(K$1:K976,K976)=1,K976,\"\")","v":""}]
["2023-07-14","Alejandro Castanon Diaz","Viv Freelancer - Fourdle game","1h 18m",null,"09:28:00","10:47:00",49.92,0,1.3,0,{"$f":"IF(COUNTIF(K$1:K977,K977)=1,K977,\"\")","v":""}]
["2023-07-14","Alejandro Castanon Diaz","Nick Advizee - fijo","10s",null,"09:41:00","09:42:00",0.11,0,0,4.5333333333333332,{"$f":"IF(COUNTIF(K$1:K978,K978)=1,K978,\"\")","v":""}]
["2023-07-14","Alejandro Castanon Diaz","Viv Freelancer - Fourdle game","54m",null,"12:54:00","13:49:00",34.5,0,0.9,0,{"$f":"IF(COUNTIF(K$1:K979,K979)=1,K979,\"\")","v":""}]
["2023-07-14","Alejandro Castanon Diaz","Gary Hydracheck - Fix quote shipping","9s",null,"12:54:00","12:55:00",0.1,0,0,0,{"$f":"IF(COUNTIF(K$1:K980,K980)=1,K980,\"\")","v":""}]
["2023-07-14","Alejandro Castanon Diaz","Nick Advizee - fijo","1h 06m",null,"13:49:00","14:55:00",42.07,0,1.1000000000000001,4.5333333333333332,{"$f":"IF(COUNTIF(K$1:K981,K981)=1,K981,\"\")","v":""}]
["2023-07-14","Alejandro Castanon Diaz","Viv Freelancer - Fourdle game","2s",null,"14:38:00","14:39:00",0.02,0,0,0,{"$f":"IF(COUNTIF(K$1:K982,K982)=1,K982,\"\")","v":""}]
["2023-07-14","Alejandro Castanon Diaz","Gary Hydracheck - Fix quote shipping","1h 21m",null,"14:55:00","16:25:00",51.45,0,1.35,0,{"$f":"IF(COUNTIF(K$1:K983,K983)=1,K983,\"\")","v":""}]
["2023-07-14","Alejandro Castanon Diaz","Nick Advizee - fijo","07m",null,"15:18:00","15:28:00",5.01,0,0.11666666666666667,4.5333333333333332,{"$f":"IF(COUNTIF(K$1:K984,K984)=1,K984,\"\")","v":""}]
["2023-07-14","Alejandro Castanon Diaz","Alejandro Disidentes - Sixbell","02m",null,"16:38:00","16:41:00",1.57,0,3.3333333333333333E-2,2.2666666666666666,{"$f":"IF(COUNTIF(K$1:K985,K985)=1,K985,\"\")","v":""}]
["2023-07-14","Alejandro Castanon Diaz","Ricardo Cuerna - Fixum facturacion","30s",null,"16:38:00","16:39:00",0.32,0,0,5.4666666666666668,{"$f":"IF(COUNTIF(K$1:K986,K986)=1,K986,\"\")","v":""}]
["2023-07-17","Alejandro Castanon Diaz","Nick Advizee - fijo","01m",null,"11:25:00","11:27:00",0.9,0,1.6666666666666666E-2,4.5333333333333332,{"$f":"IF(COUNTIF(K$1:K987,K987)=1,K987,\"\")","v":""}]
["2023-07-17","Alejandro Castanon Diaz","Viv Freelancer - Fourdle game","37m",null,"15:49:00","16:27:00",24.05,0,0.6166666666666667,0,{"$f":"IF(COUNTIF(K$1:K988,K988)=1,K988,\"\")","v":""}]
["2023-07-18","Alejandro Castanon Diaz","Daren Nuevo Form","18m",null,"08:17:00","08:35:00",11.57,0,0.3,0,{"$f":"IF(COUNTIF(K$1:K989,K989)=1,K989,\"\")","v":""}]
["2023-07-18","Alejandro Castanon Diaz","Nick Advizee - fijo","1h 03m",null,"08:35:00","09:44:00",40.35,0,1.05,4.5333333333333332,{"$f":"IF(COUNTIF(K$1:K990,K990)=1,K990,\"\")","v":""}]
["2023-07-18","Alejandro Castanon Diaz","Viv Freelancer - Fourdle game","03m",null,"08:39:00","08:44:00",2.0499999999999998,0,0.05,0,{"$f":"IF(COUNTIF(K$1:K991,K991)=1,K991,\"\")","v":""}]
["2023-07-18","Alejandro Castanon Diaz","Gary Hydracheck - Fix quote shipping","23s",null,"08:44:00","08:45:00",0.24,0,0,0,{"$f":"IF(COUNTIF(K$1:K992,K992)=1,K992,\"\")","v":""}]
["2023-07-18","Alejandro Castanon Diaz","Viv Freelancer - Fourdle game","01m",null,"08:58:00","09:00:00",1.22,0,1.6666666666666666E-2,0,{"$f":"IF(COUNTIF(K$1:K993,K993)=1,K993,\"\")","v":""}]
["2023-07-18","Alejandro Castanon Diaz","Faby - LB Logistics","37m",null,"09:44:00","10:30:00",23.55,0,0.6166666666666667,0,{"$f":"IF(COUNTIF(K$1:K994,K994)=1,K994,\"\")","v":""}]
["2023-07-18","Alejandro Castanon Diaz","Faby - PMI Ame Sitio multilang","9s",null,"09:47:00","09:48:00",0.1,0,0,0,{"$f":"IF(COUNTIF(K$1:K995,K995)=1,K995,\"\")","v":""}]
["2023-07-18","Alejandro Castanon Diaz","Paul Freelancer - Coinbase API site","07m",null,"10:19:00","10:27:00",4.5999999999999996,0,0.11666666666666667,0,{"$f":"IF(COUNTIF(K$1:K996,K996)=1,K996,\"\")","v":""}]
["2023-07-18","Alejandro Castanon Diaz","Faby - PMI Ame Sitio multilang","01m",null,"10:19:00","10:31:00",1.21,0,1.6666666666666666E-2,0,{"$f":"IF(COUNTIF(K$1:K997,K997)=1,K997,\"\")","v":""}]
["2023-07-18","Alejandro Castanon Diaz","Steve 5 10 - Página personal protfolio","11m",null,"10:31:00","10:44:00",7.34,0,0.18333333333333332,1.0333333333333332,{"$f":"IF(COUNTIF(K$1:K998,K998)=1,K998,\"\")","v":""}]
["2023-07-18","Alejandro Castanon Diaz","Thomas Ferdinand - Website","01m",null,"10:31:00","10:33:00",1.21,0,1.6666666666666666E-2,0,{"$f":"IF(COUNTIF(K$1:K999,K999)=1,K999,\"\")","v":""}]
["2023-07-18","Alejandro Castanon Diaz","Paul Freelancer - Coinbase API site","9s",null,"10:39:00","10:40:00",0.1,0,0,0,{"$f":"IF(COUNTIF(K$1:K1000,K1000)=1,K1000,\"\")","v":""}]
["2023-07-18","Alejandro Castanon Diaz","Thomas Ferdinand - Website","23m",null,"10:44:00","11:08:00",14.79,0,0.38333333333333336,0,{"$f":"IF(COUNTIF(K$1:K1001,K1001)=1,K1001,\"\")","v":""}]
["2023-07-18","Alejandro Castanon Diaz","Thomas Ferdinand - Website","40m",null,"11:38:00","12:53:00",25.51,0,0.66666666666666663,0,{"$f":"IF(COUNTIF(K$1:K1002,K1002)=1,K1002,\"\")","v":""}]
["2023-07-18","Alejandro Castanon Diaz","Steve 5 10 - Página personal protfolio","06m",null,"11:41:00","11:47:00",4.07,0,0.1,1.0333333333333332,{"$f":"IF(COUNTIF(K$1:K1003,K1003)=1,K1003,\"\")","v":""}]
["2023-07-18","Alejandro Castanon Diaz","Paul Freelancer - Coinbase API site","29s",null,"11:50:00","11:51:00",0.31,0,0,0,{"$f":"IF(COUNTIF(K$1:K1004,K1004)=1,K1004,\"\")","v":""}]
["2023-07-18","Alejandro Castanon Diaz","Samantha - vuelo mty","42s",null,"11:51:00","11:51:00",0.44,0,0,0,{"$f":"IF(COUNTIF(K$1:K1005,K1005)=1,K1005,\"\")","v":""}]
["2023-07-18","Alejandro Castanon Diaz","Rodrigo Techservices - Kanatest Hosting","59s",null,"11:51:00","11:52:00",0.62,0,0,0,{"$f":"IF(COUNTIF(K$1:K1006,K1006)=1,K1006,\"\")","v":""}]
["2023-07-18","Alejandro Castanon Diaz","Steve 5 10 - Página personal protfolio","08m",null,"12:09:00","12:20:00",5.38,0,0.13333333333333333,1.0333333333333332,{"$f":"IF(COUNTIF(K$1:K1007,K1007)=1,K1007,\"\")","v":""}]
["2023-07-18","Alejandro Castanon Diaz","Viv Freelancer - Fourdle game","1h 08m",null,"12:20:00","13:44:00",43.49,0,1.1333333333333333,0,{"$f":"IF(COUNTIF(K$1:K1008,K1008)=1,K1008,\"\")","v":""}]
["2023-07-18","Alejandro Castanon Diaz","Thomas Ferdinand - Website","17s",null,"13:10:00","13:11:00",0.18,0,0,0,{"$f":"IF(COUNTIF(K$1:K1009,K1009)=1,K1009,\"\")","v":""}]
["2023-07-18","Alejandro Castanon Diaz","Thomas Ferdinand - Website","2s",null,"13:33:00","13:34:00",0.02,0,0,0,{"$f":"IF(COUNTIF(K$1:K1010,K1010)=1,K1010,\"\")","v":""}]
["2023-07-18","Alejandro Castanon Diaz","Thomas Ferdinand - Website","01m",null,"13:44:00","13:45:00",0.71,0,1.6666666666666666E-2,0,{"$f":"IF(COUNTIF(K$1:K1011,K1011)=1,K1011,\"\")","v":""}]
["2023-07-18","Alejandro Castanon Diaz","Daren freelancer - nuevo form precisemd","1h 36m",null,"13:45:00","15:22:00",60.86,0,1.6,0,{"$f":"IF(COUNTIF(K$1:K1012,K1012)=1,K1012,\"\")","v":""}]
["2023-07-18","Alejandro Castanon Diaz","Paul Freelancer - Coinbase API site","1h 18m",null,"15:27:00","17:26:00",49.81,0,1.3,0,{"$f":"IF(COUNTIF(K$1:K1013,K1013)=1,K1013,\"\")","v":""}]
["2023-07-18","Alejandro Castanon Diaz","Thomas Ferdinand - Website","15s",null,"17:25:00","17:25:00",0.16,0,0,0,{"$f":"IF(COUNTIF(K$1:K1014,K1014)=1,K1014,\"\")","v":""}]
["2023-07-18","Alejandro Castanon Diaz","Faby - LB Logistics","15s",null,"17:25:00","17:25:00",0.16,0,0,0,{"$f":"IF(COUNTIF(K$1:K1015,K1015)=1,K1015,\"\")","v":""}]
["2023-07-18","Alejandro Castanon Diaz","Viv Freelancer - Fourdle game","24s",null,"17:26:00","17:26:00",0.25,0,0,0,{"$f":"IF(COUNTIF(K$1:K1016,K1016)=1,K1016,\"\")","v":""}]
["2023-07-19","Alejandro Castanon Diaz","Faby - PMI Ame Sitio multilang","3s",null,"10:46:00","10:47:00",0.03,0,0,0,{"$f":"IF(COUNTIF(K$1:K1017,K1017)=1,K1017,\"\")","v":""}]
["2023-07-19","Alejandro Castanon Diaz","Faby - LB Logistics","53m",null,"10:47:00","11:40:00",33.630000000000003,0,0.8833333333333333,0,{"$f":"IF(COUNTIF(K$1:K1018,K1018)=1,K1018,\"\")","v":""}]
["2023-07-19","Alejandro Castanon Diaz","Faby - LB Logistics","44m",null,"12:02:00","12:54:00",28.34,0,0.73333333333333328,0,{"$f":"IF(COUNTIF(K$1:K1019,K1019)=1,K1019,\"\")","v":""}]
["2023-07-20","Alejandro Castanon Diaz","Xavier Bobby - Itel plugins desactivar","08m",null,"09:49:00","09:59:00",5.59,0,0.13333333333333333,0,{"$f":"IF(COUNTIF(K$1:K1020,K1020)=1,K1020,\"\")","v":""}]
["2023-07-20","Alejandro Castanon Diaz","Thomas Ferdinand - Website","14m",null,"11:10:00","11:24:00",9.07,0,0.23333333333333334,0,{"$f":"IF(COUNTIF(K$1:K1021,K1021)=1,K1021,\"\")","v":""}]
["2023-07-20","Alejandro Castanon Diaz","Faby - PMI Ame Sitio multilang","2s",null,"11:14:00","11:14:00",0.02,0,0,0,{"$f":"IF(COUNTIF(K$1:K1022,K1022)=1,K1022,\"\")","v":""}]
["2023-07-20","Alejandro Castanon Diaz","Faby - LB Logistics","26m",null,"11:14:00","11:54:00",16.61,0,0.43333333333333335,0,{"$f":"IF(COUNTIF(K$1:K1023,K1023)=1,K1023,\"\")","v":""}]
["2023-07-20","Alejandro Castanon Diaz","Faby - LB Logistics","21m",null,"13:08:00","13:29:00",13.42,0,0.35,0,{"$f":"IF(COUNTIF(K$1:K1024,K1024)=1,K1024,\"\")","v":""}]
["2023-07-20","Alejandro Castanon Diaz","Thomas Ferdinand - Website","21s",null,"13:21:00","13:21:00",0.22,0,0,0,{"$f":"IF(COUNTIF(K$1:K1025,K1025)=1,K1025,\"\")","v":""}]
["2023-07-20","Alejandro Castanon Diaz","Paul Freelancer - Coinbase API site","3s",null,"13:22:00","13:22:00",0.03,0,0,{"$f":"SUMIFS(J:J,C:C,C1026,A:A,\">\"&$S$4)","v":0},{"$f":"IF(COUNTIF(K$1:K1026,K1026)=1,K1026,\"\")","v":""}]
["2023-07-21","Alejandro Castanon Diaz","Faby - LB Logistics","25m",null,"04:20:00","04:45:00",15.98,0,{"$f":"IF(D1027=\"\",\"\",IF(ISERROR(FIND(\"s\",D1027)),IF(ISERROR(FIND(\"h \",D1027)),LEFT(D1027,2)/60,   LEFT(D1027,FIND(\"h \",D1027)-1 )+LEFT(RIGHT(D1027,3),2)/60   ),0))","v":0.41666666666666669},0,{"$f":"IF(COUNTIF(K$1:K1027,K1027)=1,K1027,\"\")","v":""}]
["2023-07-21","Alejandro Castanon Diaz","Xavier Bobby - Itel plugins desactivar","05m",null,"04:29:00","04:35:00",3.56,0,8.3333333333333329E-2,0,{"$f":"IF(COUNTIF(K$1:K1028,K1028)=1,K1028,\"\")","v":""}]
["2023-07-21","Alejandro Castanon Diaz","Faby - LB Logistics","11m",null,"08:10:00","08:22:00",7.26,0,0.18333333333333332,0,{"$f":"IF(COUNTIF(K$1:K1029,K1029)=1,K1029,\"\")","v":""}]
["2023-07-21","Alejandro Castanon Diaz","Nick Advizee - fijo","01m",null,"08:16:00","08:25:00",0.78,0,1.6666666666666666E-2,4.5333333333333332,{"$f":"IF(COUNTIF(K$1:K1030,K1030)=1,K1030,\"\")","v":""}]
["2023-07-21","Alejandro Castanon Diaz","Thomas Ferdinand - Website","20m",null,"08:22:00","08:44:00",12.74,0,0.33333333333333331,0,{"$f":"IF(COUNTIF(K$1:K1031,K1031)=1,K1031,\"\")","v":""}]
["2023-07-21","Alejandro Castanon Diaz","Viv Freelancer - Fourdle game","15s",null,"08:25:00","08:25:00",0.16,0,0,0,{"$f":"IF(COUNTIF(K$1:K1032,K1032)=1,K1032,\"\")","v":""}]
["2023-07-21","Alejandro Castanon Diaz","Xavier Bobby - Itel plugins desactivar","07m",null,"08:33:00","08:40:00",4.71,0,0.11666666666666667,0,{"$f":"IF(COUNTIF(K$1:K1033,K1033)=1,K1033,\"\")","v":""}]
["2023-07-21","Alejandro Castanon Diaz","Nick Advizee - fijo","27s",null,"08:44:00","08:47:00",0.28999999999999998,0,0,4.5333333333333332,{"$f":"IF(COUNTIF(K$1:K1034,K1034)=1,K1034,\"\")","v":""}]
["2023-07-21","Alejandro Castanon Diaz","Paul Freelancer - Coinbase API site","2s",null,"08:44:00","08:44:00",0.02,0,0,0,{"$f":"IF(COUNTIF(K$1:K1035,K1035)=1,K1035,\"\")","v":""}]
["2023-07-21","Alejandro Castanon Diaz","Faby - LB Logistics","42m",null,"08:44:00","09:27:00",26.8,0,0.7,0,{"$f":"IF(COUNTIF(K$1:K1036,K1036)=1,K1036,\"\")","v":""}]
["2023-07-21","Alejandro Castanon Diaz","Nick Advizee - fijo","5s",null,"09:17:00","09:17:00",0.05,0,0,4.5333333333333332,{"$f":"IF(COUNTIF(K$1:K1037,K1037)=1,K1037,\"\")","v":""}]
["2023-07-21","Alejandro Castanon Diaz","Nick Advizee - fijo","15m",null,"09:27:00","09:43:00",10.039999999999999,0,0.25,4.5333333333333332,{"$f":"IF(COUNTIF(K$1:K1038,K1038)=1,K1038,\"\")","v":""}]
["2023-07-21","Alejandro Castanon Diaz","Faby - LB Logistics","22m",null,"09:43:00","10:06:00",14.31,0,0.36666666666666664,0,{"$f":"IF(COUNTIF(K$1:K1039,K1039)=1,K1039,\"\")","v":""}]
["2023-07-21","Alejandro Castanon Diaz","Nick Advizee - fijo","21m",null,"10:06:00","10:27:00",13.38,0,0.35,4.5333333333333332,{"$f":"IF(COUNTIF(K$1:K1040,K1040)=1,K1040,\"\")","v":""}]
["2023-07-21","Alejandro Castanon Diaz","Bjorn Sueco - ajustes Woo y POS","17m",null,"10:27:00","10:45:00",11.21,0,0.28333333333333333,0,{"$f":"IF(COUNTIF(K$1:K1041,K1041)=1,K1041,\"\")","v":""}]
["2023-07-21","Alejandro Castanon Diaz","Thomas Ferdinand - Website","13m",null,"10:45:00","10:59:00",8.34,0,0.21666666666666667,0,{"$f":"IF(COUNTIF(K$1:K1042,K1042)=1,K1042,\"\")","v":""}]
["2023-07-21","Alejandro Castanon Diaz","Steve 5 10 - Página personal protfolio","01m",null,"10:48:00","10:50:00",0.98,0,1.6666666666666666E-2,1.0333333333333332,{"$f":"IF(COUNTIF(K$1:K1043,K1043)=1,K1043,\"\")","v":""}]
["2023-07-21","Alejandro Castanon Diaz","Thomas Ferdinand - Website","24m",null,"12:54:00","13:27:00",15.2,0,0.4,0,{"$f":"IF(COUNTIF(K$1:K1044,K1044)=1,K1044,\"\")","v":""}]
["2023-07-21","Alejandro Castanon Diaz","Daren freelancer - nuevo form precisemd","09m",null,"13:08:00","13:18:00",5.71,0,0.15,0,{"$f":"IF(COUNTIF(K$1:K1045,K1045)=1,K1045,\"\")","v":""}]
["2023-07-21","Alejandro Castanon Diaz","Paul Freelancer - Coinbase API site","5s",null,"13:27:00","13:27:00",0.05,0,0,0,{"$f":"IF(COUNTIF(K$1:K1046,K1046)=1,K1046,\"\")","v":""}]
["2023-07-21","Alejandro Castanon Diaz","Steve 5 10 - Página personal protfolio","11m",null,"13:27:00","13:39:00",7.55,0,0.18333333333333332,1.0333333333333332,{"$f":"IF(COUNTIF(K$1:K1047,K1047)=1,K1047,\"\")","v":""}]
["2023-07-21","Alejandro Castanon Diaz","Thomas Ferdinand - Website","1h 00m",null,"13:39:00","14:40:00",38.270000000000003,0,1,0,{"$f":"IF(COUNTIF(K$1:K1048,K1048)=1,K1048,\"\")","v":""}]
["2023-07-21","Alejandro Castanon Diaz","Paul Freelancer - Coinbase API site","10s",null,"13:40:00","13:40:00",0.11,0,0,0,{"$f":"IF(COUNTIF(K$1:K1049,K1049)=1,K1049,\"\")","v":""}]
["2023-07-21","Alejandro Castanon Diaz","Daren Nuevo Form","18s",null,"13:48:00","13:48:00",0.19,0,0,0,{"$f":"IF(COUNTIF(K$1:K1050,K1050)=1,K1050,\"\")","v":""}]
["2023-07-23","Alejandro Castanon Diaz","Xavier Bobby - Itel plugins desactivar","08m",null,"13:58:00","14:07:00",5.68,0,0.13333333333333333,0,{"$f":"IF(COUNTIF(K$1:K1051,K1051)=1,K1051,\"\")","v":""}]
["2023-07-24","Alejandro Castanon Diaz","Steve 5 10 - Página personal protfolio","01m",null,"10:09:00","10:10:00",0.91,0,1.6666666666666666E-2,1.0333333333333332,{"$f":"IF(COUNTIF(K$1:K1052,K1052)=1,K1052,\"\")","v":""}]
["2023-07-24","Alejandro Castanon Diaz","Paul Freelancer - Coinbase API site","07m",null,"10:10:00","10:18:00",4.76,0,0.11666666666666667,0,{"$f":"IF(COUNTIF(K$1:K1053,K1053)=1,K1053,\"\")","v":""}]
["2023-07-24","Alejandro Castanon Diaz","Ricardo Cuerna - Fixum facturacion","13m",null,"10:18:00","10:40:00",8.35,0,0.21666666666666667,5.4666666666666668,{"$f":"IF(COUNTIF(K$1:K1054,K1054)=1,K1054,\"\")","v":""}]
["2023-07-24","Alejandro Castanon Diaz","Steve 5 10 - Página personal protfolio","01m",null,"10:40:00","10:41:00",0.98,0,1.6666666666666666E-2,1.0333333333333332,{"$f":"IF(COUNTIF(K$1:K1055,K1055)=1,K1055,\"\")","v":""}]
["2023-07-24","Alejandro Castanon Diaz","Paul Freelancer - Coinbase API site","3h 21m",null,"10:41:00","14:13:00",127.42,0,3.35,0,{"$f":"IF(COUNTIF(K$1:K1056,K1056)=1,K1056,\"\")","v":""}]
["2023-07-24","Alejandro Castanon Diaz","Faby - LB Logistics","14s",null,"11:32:00","11:32:00",0.15,0,0,0,{"$f":"IF(COUNTIF(K$1:K1057,K1057)=1,K1057,\"\")","v":""}]
["2023-07-24","Alejandro Castanon Diaz","Steve 5 10 - Página personal protfolio","06m",null,"11:42:00","11:49:00",4.2300000000000004,0,0.1,1.0333333333333332,{"$f":"IF(COUNTIF(K$1:K1058,K1058)=1,K1058,\"\")","v":""}]
["2023-07-24","Alejandro Castanon Diaz","Steve 5 10 - Página personal protfolio","23s",null,"12:33:00","12:33:00",0.24,0,0,1.0333333333333332,{"$f":"IF(COUNTIF(K$1:K1059,K1059)=1,K1059,\"\")","v":""}]
["2023-07-24","Alejandro Castanon Diaz","Steve 5 10 - Página personal protfolio","07m",null,"14:10:00","14:17:00",4.57,0,0.11666666666666667,1.0333333333333332,{"$f":"IF(COUNTIF(K$1:K1060,K1060)=1,K1060,\"\")","v":""}]
["2023-07-24","Alejandro Castanon Diaz","Steve 5 10 - Página personal protfolio","09m",null,"14:34:00","14:44:00",6,0,0.15,1.0333333333333332,{"$f":"IF(COUNTIF(K$1:K1061,K1061)=1,K1061,\"\")","v":""}]
["2023-07-25","Alejandro Castanon Diaz","Thomas Ferdinand - Website","1h 23m",null,"01:50:00","03:14:00",52.82,0,1.3833333333333333,0,{"$f":"IF(COUNTIF(K$1:K1062,K1062)=1,K1062,\"\")","v":""}]
["2023-07-25","Alejandro Castanon Diaz","Steve 5 10 - Página personal protfolio","44s",null,"11:26:00","11:27:00",0.46,0,0,1.0333333333333332,{"$f":"IF(COUNTIF(K$1:K1063,K1063)=1,K1063,\"\")","v":""}]
["2023-07-25","Alejandro Castanon Diaz","Faby - LB Logistics","2s",null,"11:27:00","11:27:00",0.02,0,0,0,{"$f":"IF(COUNTIF(K$1:K1064,K1064)=1,K1064,\"\")","v":""}]
["2023-07-25","Alejandro Castanon Diaz","Paul Freelancer - Coinbase API site","1h 26m",null,"11:27:00","13:14:00",55.05,0,1.4333333333333333,0,{"$f":"IF(COUNTIF(K$1:K1065,K1065)=1,K1065,\"\")","v":""}]
["2023-07-25","Alejandro Castanon Diaz","Eduardo Freelancer - Inmobiliaria Cambios php pura","01m",null,"12:15:00","12:19:00",0.97,0,1.6666666666666666E-2,1.4333333333333333,{"$f":"IF(COUNTIF(K$1:K1066,K1066)=1,K1066,\"\")","v":""}]
["2023-07-25","Alejandro Castanon Diaz","Gary Hydracheck - Quote page makeup","01m",null,"12:17:00","12:19:00",0.64,0,1.6666666666666666E-2,0,{"$f":"IF(COUNTIF(K$1:K1067,K1067)=1,K1067,\"\")","v":""}]
["2023-07-25","Alejandro Castanon Diaz","Faby - LB Logistics","14s",null,"12:17:00","12:18:00",0.15,0,0,0,{"$f":"IF(COUNTIF(K$1:K1068,K1068)=1,K1068,\"\")","v":""}]
["2023-07-25","Alejandro Castanon Diaz","Bjorn Sueco - ajustes Woo y POS","28s",null,"12:17:00","12:18:00",0.3,0,0,0,{"$f":"IF(COUNTIF(K$1:K1069,K1069)=1,K1069,\"\")","v":""}]
["2023-07-25","Alejandro Castanon Diaz","Ricardo Cuerna - Fixum facturacion","22s",null,"12:18:00","12:18:00",0.23,0,0,5.4666666666666668,{"$f":"IF(COUNTIF(K$1:K1070,K1070)=1,K1070,\"\")","v":""}]
["2023-07-25","Alejandro Castanon Diaz","Faby - PMI Ame Sitio multilang","11s",null,"12:29:00","12:29:00",0.12,0,0,0,{"$f":"IF(COUNTIF(K$1:K1071,K1071)=1,K1071,\"\")","v":""}]
["2023-07-25","Alejandro Castanon Diaz","Steve 5 10 - Página personal protfolio","07m",null,"12:29:00","12:36:00",4.76,0,0.11666666666666667,1.0333333333333332,{"$f":"IF(COUNTIF(K$1:K1072,K1072)=1,K1072,\"\")","v":""}]
["2023-07-25","Alejandro Castanon Diaz","Thomas Ferdinand - Website","16m",null,"13:05:00","13:22:00",10.58,0,0.26666666666666666,0,{"$f":"IF(COUNTIF(K$1:K1073,K1073)=1,K1073,\"\")","v":""}]
["2023-07-25","Alejandro Castanon Diaz","Bjorn Sueco - Nordic foods 2nd round","02m",null,"13:22:00","13:25:00",1.75,0,3.3333333333333333E-2,2.083333333333333,{"$f":"IF(COUNTIF(K$1:K1074,K1074)=1,K1074,\"\")","v":2.083333333333333}]
["2023-07-25","Alejandro Castanon Diaz","Daren freelancer - nuevo form precisemd","09m",null,"13:25:00","13:34:00",5.8,0,0.15,0,{"$f":"IF(COUNTIF(K$1:K1075,K1075)=1,K1075,\"\")","v":""}]
["2023-07-25","Alejandro Castanon Diaz","Paul Freelancer - Coinbase API site","1h 18m",null,"13:34:00","14:59:00",49.81,0,1.3,0,{"$f":"IF(COUNTIF(K$1:K1076,K1076)=1,K1076,\"\")","v":""}]
["2023-07-25","Alejandro Castanon Diaz","Steve 5 10 - Página personal protfolio","01m",null,"13:34:00","13:40:00",1,0,1.6666666666666666E-2,1.0333333333333332,{"$f":"IF(COUNTIF(K$1:K1077,K1077)=1,K1077,\"\")","v":""}]
["2023-07-25","Alejandro Castanon Diaz","Steve 5 10 - Página personal protfolio","05m",null,"14:26:00","14:43:00",3.35,0,8.3333333333333329E-2,1.0333333333333332,{"$f":"IF(COUNTIF(K$1:K1078,K1078)=1,K1078,\"\")","v":""}]
["2023-07-25","Alejandro Castanon Diaz","Steve 5 10 - Página personal protfolio","1h 35m",null,"15:20:00","16:56:00",60.63,0,1.5833333333333335,1.0333333333333332,{"$f":"IF(COUNTIF(K$1:K1079,K1079)=1,K1079,\"\")","v":""}]
["2023-07-25","Alejandro Castanon Diaz","Paul Freelancer - Coinbase API site","10s",null,"15:31:00","15:38:00",0.11,0,0,0,{"$f":"IF(COUNTIF(K$1:K1080,K1080)=1,K1080,\"\")","v":""}]
["2023-07-25","Alejandro Castanon Diaz","Viv Freelancer - Fourdle game","51m",null,"16:51:00","17:48:00",32.82,0,0.85,0,{"$f":"IF(COUNTIF(K$1:K1081,K1081)=1,K1081,\"\")","v":""}]
["2023-07-25","Alejandro Castanon Diaz","Xavier Bobby - Itel plugins desactivar","01m",null,"16:56:00","16:58:00",1.2,0,1.6666666666666666E-2,0,{"$f":"IF(COUNTIF(K$1:K1082,K1082)=1,K1082,\"\")","v":""}]
["2023-07-25","Alejandro Castanon Diaz","Paul Freelancer - Coinbase API site","21s",null,"16:57:00","16:57:00",0.22,0,0,0,{"$f":"IF(COUNTIF(K$1:K1083,K1083)=1,K1083,\"\")","v":""}]
["2023-07-25","Alejandro Castanon Diaz","Carlos Sanchez - rehacer chrishop.mx","25m",null,"19:10:00","19:38:00",16.12,0,0.41666666666666669,0,{"$f":"IF(COUNTIF(K$1:K1084,K1084)=1,K1084,\"\")","v":""}]
["2023-07-26","Alejandro Castanon Diaz","Tiempo Libre - ACD","30m",null,"08:02:00","20:29:00",19.489999999999998,0,0.5,4.5166666666666657,{"$f":"IF(COUNTIF(K$1:K1085,K1085)=1,K1085,\"\")","v":4.5166666666666657}]
["2023-07-26","Alejandro Castanon Diaz","Viv Freelancer - Fourdle game","09m",null,"08:03:00","08:12:00",6.06,0,0.15,0,{"$f":"IF(COUNTIF(K$1:K1086,K1086)=1,K1086,\"\")","v":""}]
["2023-07-26","Alejandro Castanon Diaz","Viv Freelancer - Fourdle game","20s",null,"08:35:00","08:36:00",0.21,0,0,0,{"$f":"IF(COUNTIF(K$1:K1087,K1087)=1,K1087,\"\")","v":""}]
["2023-07-26","Alejandro Castanon Diaz","Nick Advizee - fijo","13m",null,"08:36:00","08:50:00",8.6999999999999993,0,0.21666666666666667,4.5333333333333332,{"$f":"IF(COUNTIF(K$1:K1088,K1088)=1,K1088,\"\")","v":""}]
["2023-07-26","Alejandro Castanon Diaz","Nick Advizee - fijo","01m",null,"09:29:00","09:30:00",0.91,0,1.6666666666666666E-2,4.5333333333333332,{"$f":"IF(COUNTIF(K$1:K1089,K1089)=1,K1089,\"\")","v":""}]
["2023-07-26","Alejandro Castanon Diaz","Faby - LB Logistics","3s",null,"09:30:00","09:30:00",0.03,0,0,{"$f":"SUMIFS(J:J,C:C,C1090,A:A,\">\"&$S$4)","v":0},{"$f":"IF(COUNTIF(K$1:K1090,K1090)=1,K1090,\"\")","v":""}]
["2023-07-26","Alejandro Castanon Diaz","Steve 5 10 - Página personal protfolio","30m",null,"09:30:00","10:08:00",19.559999999999999,0,{"$f":"IF(D1091=\"\",\"\",IF(ISERROR(FIND(\"s\",D1091)),IF(ISERROR(FIND(\"h \",D1091)),LEFT(D1091,2)/60,   LEFT(D1091,FIND(\"h \",D1091)-1 )+LEFT(RIGHT(D1091,3),2)/60   ),0))","v":0.5},1.0333333333333332,{"$f":"IF(COUNTIF(K$1:K1091,K1091)=1,K1091,\"\")","v":""}]
["2023-07-26","Alejandro Castanon Diaz","Paul Freelancer - Coinbase API site","2s",null,"09:49:00","09:49:00",0.02,0,0,0,{"$f":"IF(COUNTIF(K$1:K1092,K1092)=1,K1092,\"\")","v":""}]
["2023-07-26","Alejandro Castanon Diaz","Viv Freelancer - Fourdle game","01m",null,"09:50:00","09:51:00",0.78,0,1.6666666666666666E-2,0,{"$f":"IF(COUNTIF(K$1:K1093,K1093)=1,K1093,\"\")","v":""}]
["2023-07-26","Alejandro Castanon Diaz","Bjorn Sueco - Nordic foods 2nd round","05m",null,"09:52:00","09:57:00",3.46,0,8.3333333333333329E-2,2.083333333333333,{"$f":"IF(COUNTIF(K$1:K1094,K1094)=1,K1094,\"\")","v":""}]
["2023-07-26","Alejandro Castanon Diaz","Thomas Ferdinand - Website","05m",null,"10:08:00","10:13:00",3.39,0,8.3333333333333329E-2,0,{"$f":"IF(COUNTIF(K$1:K1095,K1095)=1,K1095,\"\")","v":""}]
["2023-07-26","Alejandro Castanon Diaz","Bjorn Sueco - ajustes Woo y POS","01m",null,"10:13:00","10:15:00",1.17,0,1.6666666666666666E-2,0,{"$f":"IF(COUNTIF(K$1:K1096,K1096)=1,K1096,\"\")","v":""}]
["2023-07-26","Alejandro Castanon Diaz","Juan Freelancer - Maquetar figma a html","10m",null,"10:15:00","10:25:00",6.62,0,0.16666666666666666,0,{"$f":"IF(COUNTIF(K$1:K1097,K1097)=1,K1097,\"\")","v":""}]
["2023-07-26","Alejandro Castanon Diaz","Thomas Ferdinand - Website","2h 06m",null,"10:25:00","12:42:00",79.97,0,2.1,0,{"$f":"IF(COUNTIF(K$1:K1098,K1098)=1,K1098,\"\")","v":""}]
["2023-07-26","Alejandro Castanon Diaz","Paul Freelancer - Coinbase API site","3s",null,"10:27:00","10:27:00",0.03,0,0,0,{"$f":"IF(COUNTIF(K$1:K1099,K1099)=1,K1099,\"\")","v":""}]
["2023-07-26","Alejandro Castanon Diaz","Steve 5 10 - Página personal protfolio","06m",null,"10:27:00","10:33:00",3.8,0,0.1,1.0333333333333332,{"$f":"IF(COUNTIF(K$1:K1100,K1100)=1,K1100,\"\")","v":""}]
["2023-07-26","Alejandro Castanon Diaz","Paul Freelancer - Coinbase API site","9s",null,"10:47:00","10:47:00",0.1,0,0,0,{"$f":"IF(COUNTIF(K$1:K1101,K1101)=1,K1101,\"\")","v":""}]
["2023-07-26","Alejandro Castanon Diaz","Paul Freelancer - Coinbase API site","23s",null,"10:59:00","11:00:00",0.24,0,0,0,{"$f":"IF(COUNTIF(K$1:K1102,K1102)=1,K1102,\"\")","v":""}]
["2023-07-26","Alejandro Castanon Diaz","Ricardo Cuerna - Fixum facturacion","01m",null,"11:00:00","11:01:00",0.87,0,1.6666666666666666E-2,5.4666666666666668,{"$f":"IF(COUNTIF(K$1:K1103,K1103)=1,K1103,\"\")","v":""}]
["2023-07-26","Alejandro Castanon Diaz","Nick Advizee - fijo","17m",null,"12:42:00","13:02:00",10.87,0,0.28333333333333333,4.5333333333333332,{"$f":"IF(COUNTIF(K$1:K1104,K1104)=1,K1104,\"\")","v":""}]
["2023-07-26","Alejandro Castanon Diaz","Viv Freelancer - Fourdle game","03m",null,"12:47:00","12:51:00",1.93,0,0.05,0,{"$f":"IF(COUNTIF(K$1:K1105,K1105)=1,K1105,\"\")","v":""}]
["2023-07-26","Alejandro Castanon Diaz","Viv Freelancer - Fourdle game","14m",null,"13:02:00","13:16:00",9.19,0,0.23333333333333334,0,{"$f":"IF(COUNTIF(K$1:K1106,K1106)=1,K1106,\"\")","v":""}]
["2023-07-26","Alejandro Castanon Diaz","Nick Advizee - fijo","15m",null,"13:16:00","13:33:00",9.6999999999999993,0,0.25,4.5333333333333332,{"$f":"IF(COUNTIF(K$1:K1107,K1107)=1,K1107,\"\")","v":""}]
["2023-07-26","Alejandro Castanon Diaz","Thomas Ferdinand - Website","01m",null,"13:24:00","13:25:00",0.7,0,1.6666666666666666E-2,0,{"$f":"IF(COUNTIF(K$1:K1108,K1108)=1,K1108,\"\")","v":""}]
["2023-07-26","Alejandro Castanon Diaz","Viv Freelancer - Fourdle game","5h 27m",null,"13:33:00","20:17:00",207.6,0,5.45,0,{"$f":"IF(COUNTIF(K$1:K1109,K1109)=1,K1109,\"\")","v":""}]
["2023-07-27","Alejandro Castanon Diaz","Bjorn Sueco - Nordic foods 2nd round","1h 20m",null,"08:00:00","09:20:00",51.14,0,1.3333333333333333,2.083333333333333,{"$f":"IF(COUNTIF(K$1:K1110,K1110)=1,K1110,\"\")","v":""}]
["2023-07-27","Alejandro Castanon Diaz","Tiempo Libre - ACD","1h 47m",null,"10:45:00","20:14:00",67.88,0,1.7833333333333332,4.5166666666666657,{"$f":"IF(COUNTIF(K$1:K1111,K1111)=1,K1111,\"\")","v":""}]
["2023-07-27","Alejandro Castanon Diaz","Terminado","22m",null,"11:37:00","12:14:00",14.5,0,0.36666666666666664,0,{"$f":"IF(COUNTIF(K$1:K1112,K1112)=1,K1112,\"\")","v":""}]
["2023-07-27","Alejandro Castanon Diaz","Ricardo Freelancer - Accounting","08m",null,"11:58:00","12:07:00",5.46,0,0.13333333333333333,0,{"$f":"IF(COUNTIF(K$1:K1113,K1113)=1,K1113,\"\")","v":""}]
["2023-07-27","Alejandro Castanon Diaz","Terminado","3s",null,"12:32:00","12:32:00",0.03,0,0,0,{"$f":"IF(COUNTIF(K$1:K1114,K1114)=1,K1114,\"\")","v":""}]
["2023-07-27","Alejandro Castanon Diaz","Viv Freelancer - Fourdle game","22m",null,"13:34:00","13:57:00",14.4,0,0.36666666666666664,0,{"$f":"IF(COUNTIF(K$1:K1115,K1115)=1,K1115,\"\")","v":""}]
["2023-07-27","Alejandro Castanon Diaz","Nick Advizee - fijo","07m",null,"13:57:00","14:11:00",5,0,0.11666666666666667,4.5333333333333332,{"$f":"IF(COUNTIF(K$1:K1116,K1116)=1,K1116,\"\")","v":""}]
["2023-07-27","Alejandro Castanon Diaz","Terminado","04m",null,"13:59:00","14:11:00",2.54,0,6.6666666666666666E-2,0,{"$f":"IF(COUNTIF(K$1:K1117,K1117)=1,K1117,\"\")","v":""}]
["2023-07-27","Alejandro Castanon Diaz","Viv Freelancer - Fourdle game","24m",null,"14:11:00","14:45:00",15.3,0,0.4,0,{"$f":"IF(COUNTIF(K$1:K1118,K1118)=1,K1118,\"\")","v":""}]
["2023-07-27","Alejandro Castanon Diaz","Terminado","09m",null,"14:30:00","14:42:00",6.18,0,0.15,0,{"$f":"IF(COUNTIF(K$1:K1119,K1119)=1,K1119,\"\")","v":""}]
["2023-07-27","Alejandro Castanon Diaz","Nick Advizee - fijo","5s",null,"14:41:00","14:41:00",0.05,0,0,4.5333333333333332,{"$f":"IF(COUNTIF(K$1:K1120,K1120)=1,K1120,\"\")","v":""}]
["2023-07-27","Alejandro Castanon Diaz","Steve 5 10 - Página personal protfolio","12m",null,"14:45:00","14:58:00",8.0299999999999994,0,0.2,1.0333333333333332,{"$f":"IF(COUNTIF(K$1:K1121,K1121)=1,K1121,\"\")","v":""}]
["2023-07-27","Alejandro Castanon Diaz","Steve 5 10 - Página personal protfolio","08m",null,"15:26:00","15:35:00",5.63,0,0.13333333333333333,1.0333333333333332,{"$f":"IF(COUNTIF(K$1:K1122,K1122)=1,K1122,\"\")","v":""}]
["2023-07-27","Alejandro Castanon Diaz","Terminado","3s",null,"15:35:00","15:35:00",0.03,0,0,0,{"$f":"IF(COUNTIF(K$1:K1123,K1123)=1,K1123,\"\")","v":""}]
["2023-07-27","Alejandro Castanon Diaz","Nick Advizee - fijo","2s",null,"15:35:00","15:35:00",0.02,0,0,4.5333333333333332,{"$f":"IF(COUNTIF(K$1:K1124,K1124)=1,K1124,\"\")","v":""}]
["2023-07-27","Alejandro Castanon Diaz","Viv Freelancer - Fourdle game","10m",null,"15:35:00","15:51:00",6.79,0,0.16666666666666666,0,{"$f":"IF(COUNTIF(K$1:K1125,K1125)=1,K1125,\"\")","v":""}]
["2023-07-27","Alejandro Castanon Diaz","Nick Advizee - fijo","32s",null,"15:50:00","15:50:00",0.34,0,0,4.5333333333333332,{"$f":"IF(COUNTIF(K$1:K1126,K1126)=1,K1126,\"\")","v":""}]
["2023-07-27","Alejandro Castanon Diaz","Terminado","1h 27m",null,"15:50:00","17:30:00",55.45,0,1.45,0,{"$f":"IF(COUNTIF(K$1:K1127,K1127)=1,K1127,\"\")","v":""}]
["2023-07-27","Alejandro Castanon Diaz","Steve 5 10 - Página personal protfolio","02m",null,"15:51:00","15:53:00",1.28,0,3.3333333333333333E-2,1.0333333333333332,{"$f":"IF(COUNTIF(K$1:K1128,K1128)=1,K1128,\"\")","v":""}]
["2023-07-27","Alejandro Castanon Diaz","Nick Advizee - fijo","30s",null,"16:03:00","16:04:00",0.32,0,0,4.5333333333333332,{"$f":"IF(COUNTIF(K$1:K1129,K1129)=1,K1129,\"\")","v":""}]
["2023-07-27","Alejandro Castanon Diaz","Terminado","4s",null,"16:04:00","16:06:00",0.04,0,0,0,{"$f":"IF(COUNTIF(K$1:K1130,K1130)=1,K1130,\"\")","v":""}]
["2023-07-27","Alejandro Castanon Diaz","Faby - LB Logistics","09m",null,"16:04:00","16:26:00",5.81,0,0.15,0,{"$f":"IF(COUNTIF(K$1:K1131,K1131)=1,K1131,\"\")","v":""}]
["2023-07-27","Alejandro Castanon Diaz","Nick Advizee - fijo","35m",null,"17:30:00","18:05:00",22.33,0,0.58333333333333337,4.5333333333333332,{"$f":"IF(COUNTIF(K$1:K1132,K1132)=1,K1132,\"\")","v":""}]
["2023-07-27","Alejandro Castanon Diaz","Terminado","09m",null,"18:09:00","18:19:00",6.02,0,0.15,0,{"$f":"IF(COUNTIF(K$1:K1133,K1133)=1,K1133,\"\")","v":""}]
["2023-07-27","Alejandro Castanon Diaz","Viv Freelancer - Fourdle game","47s",null,"18:20:00","18:21:00",0.5,0,0,0,{"$f":"IF(COUNTIF(K$1:K1134,K1134)=1,K1134,\"\")","v":""}]
["2023-07-27","Alejandro Castanon Diaz","Steve 5 10 - Página personal protfolio","01m",null,"18:21:00","18:24:00",0.72,0,1.6666666666666666E-2,1.0333333333333332,{"$f":"IF(COUNTIF(K$1:K1135,K1135)=1,K1135,\"\")","v":""}]
["2023-07-27","Alejandro Castanon Diaz","Terminado","01m",null,"18:21:00","18:25:00",1.1399999999999999,0,1.6666666666666666E-2,0,{"$f":"IF(COUNTIF(K$1:K1136,K1136)=1,K1136,\"\")","v":""}]
["2023-07-27","Alejandro Castanon Diaz","Alejandro Disidentes - Sixbell","10m",null,"18:23:00","18:34:00",6.69,0,0.16666666666666666,2.2666666666666666,{"$f":"IF(COUNTIF(K$1:K1137,K1137)=1,K1137,\"\")","v":""}]
["2023-07-27","Alejandro Castanon Diaz","Administrativo - ACD","11m",null,"18:48:00","19:03:00",7.15,0,0.18333333333333332,33.966666666666676,{"$f":"IF(COUNTIF(K$1:K1138,K1138)=1,K1138,\"\")","v":33.966666666666676}]
["2023-07-27","Alejandro Castanon Diaz","Administrativo - ACD","43m",null,"20:14:00","20:59:00",27.47,0,0.71666666666666667,33.966666666666676,{"$f":"IF(COUNTIF(K$1:K1139,K1139)=1,K1139,\"\")","v":""}]
["2023-07-27","Alejandro Castanon Diaz","Tiempo Libre - ACD","25s",null,"20:27:00","20:27:00",0.26,0,0,4.5166666666666657,{"$f":"IF(COUNTIF(K$1:K1140,K1140)=1,K1140,\"\")","v":""}]
["2023-07-27","Alejandro Castanon Diaz","Tiempo Libre - ACD","22s",null,"20:52:00","20:57:00",0.23,0,0,4.5166666666666657,{"$f":"IF(COUNTIF(K$1:K1141,K1141)=1,K1141,\"\")","v":""}]
["2023-07-27","Alejandro Castanon Diaz","Administrativo - ACD","10m",null,"22:28:00","22:56:00",6.94,0,0.16666666666666666,33.966666666666676,{"$f":"IF(COUNTIF(K$1:K1142,K1142)=1,K1142,\"\")","v":""}]
["2023-07-27","Alejandro Castanon Diaz","Tiempo Libre - ACD","1h 18m",null,"22:29:00","23:59:00",49.58,0,1.3,4.5166666666666657,{"$f":"IF(COUNTIF(K$1:K1143,K1143)=1,K1143,\"\")","v":""}]
["2023-07-27","Alejandro Castanon Diaz","Administrativo - ACD","02m",null,"23:06:00","23:08:00",1.33,0,3.3333333333333333E-2,33.966666666666676,{"$f":"IF(COUNTIF(K$1:K1144,K1144)=1,K1144,\"\")","v":""}]
["2023-07-28","Alejandro Castanon Diaz","Tiempo Libre - ACD","49m",null,"00:00:00","00:56:00",31.14,0,0.81666666666666665,4.5166666666666657,{"$f":"IF(COUNTIF(K$1:K1145,K1145)=1,K1145,\"\")","v":""}]
["2023-07-28","Alejandro Castanon Diaz","Bjorn Sueco - Nordic foods 2nd round","1h 07m",null,"08:00:00","09:07:00",42.49,0,1.1166666666666667,2.083333333333333,{"$f":"IF(COUNTIF(K$1:K1146,K1146)=1,K1146,\"\")","v":""}]
["2023-07-28","Alejandro Castanon Diaz","Administrativo - ACD","11m",null,"09:07:00","09:34:00",7.11,0,0.18333333333333332,33.966666666666676,{"$f":"IF(COUNTIF(K$1:K1147,K1147)=1,K1147,\"\")","v":""}]
["2023-07-28","Alejandro Castanon Diaz","Nick Advizee - fijo","04m",null,"09:07:00","09:17:00",2.95,0,6.6666666666666666E-2,4.5333333333333332,{"$f":"IF(COUNTIF(K$1:K1148,K1148)=1,K1148,\"\")","v":""}]
["2023-07-28","Alejandro Castanon Diaz","Terminado","06m",null,"09:12:00","09:20:00",4.1100000000000003,0,0.1,0,{"$f":"IF(COUNTIF(K$1:K1149,K1149)=1,K1149,\"\")","v":""}]
["2023-07-28","Alejandro Castanon Diaz","Terminado","05m",null,"09:21:00","09:35:00",3.24,0,8.3333333333333329E-2,0,{"$f":"IF(COUNTIF(K$1:K1150,K1150)=1,K1150,\"\")","v":""}]
["2023-07-28","Alejandro Castanon Diaz","Tiempo Libre - ACD","45s",null,"09:22:00","09:23:00",0.48,0,0,4.5166666666666657,{"$f":"IF(COUNTIF(K$1:K1151,K1151)=1,K1151,\"\")","v":""}]
["2023-07-28","Alejandro Castanon Diaz","Diana Inlat - Rehacer Ingeurbe","11s",null,"09:35:00","09:35:00",0.12,0,0,1.6666666666666666E-2,{"$f":"IF(COUNTIF(K$1:K1152,K1152)=1,K1152,\"\")","v":""}]
["2023-07-28","Alejandro Castanon Diaz","Steve 5 10 - Página personal protfolio","16m",null,"09:35:00","09:52:00",10.44,0,0.26666666666666666,1.0333333333333332,{"$f":"IF(COUNTIF(K$1:K1153,K1153)=1,K1153,\"\")","v":""}]
["2023-07-28","Alejandro Castanon Diaz","Administrativo - ACD","09m",null,"09:51:00","10:07:00",6.2,0,0.15,{"$f":"SUMIFS(J:J,C:C,C1154,A:A,\">\"&$S$4)","v":33.966666666666676},{"$f":"IF(COUNTIF(K$1:K1154,K1154)=1,K1154,\"\")","v":""}]
["2023-07-28","Alejandro Castanon Diaz","Viv Freelancer - Fourdle game","05m",null,"09:52:00","10:05:00",3.31,0,{"$f":"IF(D1155=\"\",\"\",IF(ISERROR(FIND(\"s\",D1155)),IF(ISERROR(FIND(\"h \",D1155)),LEFT(D1155,2)/60,   LEFT(D1155,FIND(\"h \",D1155)-1 )+LEFT(RIGHT(D1155,3),2)/60   ),0))","v":8.3333333333333329E-2},0,{"$f":"IF(COUNTIF(K$1:K1155,K1155)=1,K1155,\"\")","v":""}]
["2023-07-28","Alejandro Castanon Diaz","Terminado","16s",null,"09:53:00","09:54:00",0.17,0,0,0,{"$f":"IF(COUNTIF(K$1:K1156,K1156)=1,K1156,\"\")","v":""}]
["2023-07-28","Alejandro Castanon Diaz","Terminado","2s",null,"10:05:00","10:05:00",0.02,0,0,0,{"$f":"IF(COUNTIF(K$1:K1157,K1157)=1,K1157,\"\")","v":""}]
["2023-07-28","Alejandro Castanon Diaz","Steve 5 10 - Página personal protfolio","43s",null,"10:05:00","10:08:00",0.45,0,0,1.0333333333333332,{"$f":"IF(COUNTIF(K$1:K1158,K1158)=1,K1158,\"\")","v":""}]
["2023-07-28","Alejandro Castanon Diaz","Bjorn Sueco - Nordic foods 2nd round","31m",null,"10:08:00","10:39:00",20,0,0.51666666666666672,2.083333333333333,{"$f":"IF(COUNTIF(K$1:K1159,K1159)=1,K1159,\"\")","v":""}]
["2023-07-28","Alejandro Castanon Diaz","Tiempo Libre - ACD","11m",null,"14:13:00","14:26:00",7.07,0,0.18333333333333332,4.5166666666666657,{"$f":"IF(COUNTIF(K$1:K1160,K1160)=1,K1160,\"\")","v":""}]
["2023-07-28","Alejandro Castanon Diaz","Tiempo Libre - ACD","25m",null,"14:55:00","15:21:00",16,0,0.41666666666666669,4.5166666666666657,{"$f":"IF(COUNTIF(K$1:K1161,K1161)=1,K1161,\"\")","v":""}]
["2023-07-28","Alejandro Castanon Diaz","Steve 5 10 - Página personal protfolio","35s",null,"15:17:00","15:18:00",0.37,0,0,1.0333333333333332,{"$f":"IF(COUNTIF(K$1:K1162,K1162)=1,K1162,\"\")","v":""}]
["2023-07-28","Alejandro Castanon Diaz","Administrativo - ACD","10m",null,"15:18:00","15:32:00",6.9,0,0.16666666666666666,33.966666666666676,{"$f":"IF(COUNTIF(K$1:K1163,K1163)=1,K1163,\"\")","v":""}]
["2023-07-28","Alejandro Castanon Diaz","Tiempo Libre - ACD","04m",null,"15:32:00","15:36:00",2.76,0,6.6666666666666666E-2,4.5166666666666657,{"$f":"IF(COUNTIF(K$1:K1164,K1164)=1,K1164,\"\")","v":""}]
["2023-07-28","Alejandro Castanon Diaz","Tiempo Libre - ACD","41m",null,"15:36:00","16:16:00",26.46,0,0.68333333333333335,4.5166666666666657,{"$f":"IF(COUNTIF(K$1:K1165,K1165)=1,K1165,\"\")","v":""}]
["2023-07-28","Alejandro Castanon Diaz","Administrativo - ACD","19m",null,"15:39:00","16:11:00",12.42,0,0.31666666666666665,33.966666666666676,{"$f":"IF(COUNTIF(K$1:K1166,K1166)=1,K1166,\"\")","v":""}]
["2023-07-28","Alejandro Castanon Diaz","Terminado","15s",null,"15:44:00","15:45:00",0.16,0,0,0,{"$f":"IF(COUNTIF(K$1:K1167,K1167)=1,K1167,\"\")","v":""}]
["2023-07-28","Alejandro Castanon Diaz","Administrativo - ACD","05m",null,"16:21:00","17:05:00",3.55,0,8.3333333333333329E-2,33.966666666666676,{"$f":"IF(COUNTIF(K$1:K1168,K1168)=1,K1168,\"\")","v":""}]
["2023-07-28","Alejandro Castanon Diaz","Tiempo Libre - ACD","01m",null,"16:28:00","16:39:00",0.77,0,1.6666666666666666E-2,4.5166666666666657,{"$f":"IF(COUNTIF(K$1:K1169,K1169)=1,K1169,\"\")","v":""}]
["2023-07-28","Alejandro Castanon Diaz","Tiempo Libre - ACD","01m",null,"17:22:00","17:23:00",0.77,0,1.6666666666666666E-2,4.5166666666666657,{"$f":"IF(COUNTIF(K$1:K1170,K1170)=1,K1170,\"\")","v":""}]
["2023-07-28","Alejandro Castanon Diaz","Administrativo - ACD","8s",null,"17:25:00","17:26:00",0.08,0,0,33.966666666666676,{"$f":"IF(COUNTIF(K$1:K1171,K1171)=1,K1171,\"\")","v":""}]
["2023-07-28","Alejandro Castanon Diaz","Administrativo - ACD","1h 19m",null,"17:40:00","19:51:00",50.11,0,1.3166666666666667,33.966666666666676,{"$f":"IF(COUNTIF(K$1:K1172,K1172)=1,K1172,\"\")","v":""}]
["2023-07-28","Alejandro Castanon Diaz","Steve 5 10 - Página personal protfolio","02m",null,"17:54:00","17:57:00",1.75,0,3.3333333333333333E-2,1.0333333333333332,{"$f":"IF(COUNTIF(K$1:K1173,K1173)=1,K1173,\"\")","v":""}]
["2023-07-28","Alejandro Castanon Diaz","Nick Advizee - fijo","09m",null,"18:16:00","18:41:00",5.72,0,0.15,4.5333333333333332,{"$f":"IF(COUNTIF(K$1:K1174,K1174)=1,K1174,\"\")","v":""}]
["2023-07-28","Alejandro Castanon Diaz","Steve 5 10 - Página personal protfolio","01m",null,"18:40:00","18:43:00",0.81,0,1.6666666666666666E-2,1.0333333333333332,{"$f":"IF(COUNTIF(K$1:K1175,K1175)=1,K1175,\"\")","v":""}]
["2023-07-28","Alejandro Castanon Diaz","Viv Freelancer - Fourdle game","01m",null,"18:54:00","18:58:00",0.72,0,1.6666666666666666E-2,0,{"$f":"IF(COUNTIF(K$1:K1176,K1176)=1,K1176,\"\")","v":""}]
["2023-07-28","Alejandro Castanon Diaz","Terminado","20s",null,"18:54:00","18:54:00",0.21,0,0,0,{"$f":"IF(COUNTIF(K$1:K1177,K1177)=1,K1177,\"\")","v":""}]
["2023-07-28","Alejandro Castanon Diaz","Steve 5 10 - Página personal protfolio","2s",null,"18:58:00","18:58:00",0.02,0,0,1.0333333333333332,{"$f":"IF(COUNTIF(K$1:K1178,K1178)=1,K1178,\"\")","v":""}]
["2023-07-28","Alejandro Castanon Diaz","Steve 5 10 - Página personal protfolio","20m",null,"19:10:00","19:49:00",13.15,0,0.33333333333333331,1.0333333333333332,{"$f":"IF(COUNTIF(K$1:K1179,K1179)=1,K1179,\"\")","v":""}]
["2023-07-29","Alejandro Castanon Diaz","Bjorn Sueco - Nordic foods 2nd round","0s",null,"08:00:00","08:00:00",0,0,0,2.083333333333333,{"$f":"IF(COUNTIF(K$1:K1180,K1180)=1,K1180,\"\")","v":""}]
["2023-07-29","Alejandro Castanon Diaz","Administrativo - ACD","11m",null,"11:24:00","11:39:00",7.03,0,0.18333333333333332,33.966666666666676,{"$f":"IF(COUNTIF(K$1:K1181,K1181)=1,K1181,\"\")","v":""}]
["2023-07-29","Alejandro Castanon Diaz","Tiempo Libre - ACD","0s",null,"11:25:00","11:28:00",0,0,0,4.5166666666666657,{"$f":"IF(COUNTIF(K$1:K1182,K1182)=1,K1182,\"\")","v":""}]
["2023-07-29","Alejandro Castanon Diaz","Tiempo Libre - ACD","09m",null,"11:26:00","11:33:00",5.76,0,0.15,4.5166666666666657,{"$f":"IF(COUNTIF(K$1:K1183,K1183)=1,K1183,\"\")","v":""}]
["2023-07-29","Alejandro Castanon Diaz","Terminado","5s",null,"11:26:00","11:26:00",0.05,0,0,0,{"$f":"IF(COUNTIF(K$1:K1184,K1184)=1,K1184,\"\")","v":""}]
["2023-07-30","Alejandro Castanon Diaz","Bjorn Sueco - Nordic foods 2nd round","0s",null,"08:00:00","08:00:00",0,0,0,2.083333333333333,{"$f":"IF(COUNTIF(K$1:K1185,K1185)=1,K1185,\"\")","v":""}]
["2023-07-30","Alejandro Castanon Diaz","Administrativo - ACD","05m",null,"09:33:00","09:48:00",3.69,0,8.3333333333333329E-2,33.966666666666676,{"$f":"IF(COUNTIF(K$1:K1186,K1186)=1,K1186,\"\")","v":""}]
["2023-07-30","Alejandro Castanon Diaz","Viv Freelancer - Fourdle game","26m",null,"09:33:00","10:05:00",16.87,0,0.43333333333333335,0,{"$f":"IF(COUNTIF(K$1:K1187,K1187)=1,K1187,\"\")","v":""}]
["2023-07-30","Alejandro Castanon Diaz","Administrativo - ACD","28s",null,"10:05:00","10:06:00",0.3,0,0,33.966666666666676,{"$f":"IF(COUNTIF(K$1:K1188,K1188)=1,K1188,\"\")","v":""}]
["2023-07-30","Alejandro Castanon Diaz","Tiempo Libre - ACD","06m",null,"17:06:00","17:12:00",3.81,0,0.1,4.5166666666666657,{"$f":"IF(COUNTIF(K$1:K1189,K1189)=1,K1189,\"\")","v":""}]
["2023-07-30","Alejandro Castanon Diaz","Tiempo Libre - ACD","04m",null,"22:28:00","22:32:00",2.97,0,6.6666666666666666E-2,4.5166666666666657,{"$f":"IF(COUNTIF(K$1:K1190,K1190)=1,K1190,\"\")","v":""}]
["2023-07-31","Alejandro Castanon Diaz","Bjorn Sueco - Nordic foods 2nd round","12m",null,"08:00:00","08:12:00",7.77,0,0.2,2.083333333333333,{"$f":"IF(COUNTIF(K$1:K1191,K1191)=1,K1191,\"\")","v":""}]
["2023-07-31","Alejandro Castanon Diaz","Administrativo - ACD","12m",null,"10:25:00","10:38:00",7.71,0,0.2,33.966666666666676,{"$f":"IF(COUNTIF(K$1:K1192,K1192)=1,K1192,\"\")","v":""}]
["2023-07-31","Alejandro Castanon Diaz","Tiempo Libre - ACD","01m",null,"10:26:00","10:27:00",0.81,0,1.6666666666666666E-2,4.5166666666666657,{"$f":"IF(COUNTIF(K$1:K1193,K1193)=1,K1193,\"\")","v":""}]
["2023-07-31","Alejandro Castanon Diaz","Alejandro Disidentes - Sixbell","11s",null,"10:30:00","10:30:00",0.12,0,0,2.2666666666666666,{"$f":"IF(COUNTIF(K$1:K1194,K1194)=1,K1194,\"\")","v":""}]
["2023-07-31","Alejandro Castanon Diaz","Administrativo - ACD","47m",null,"13:12:00","14:15:00",29.91,0,0.78333333333333333,33.966666666666676,{"$f":"IF(COUNTIF(K$1:K1195,K1195)=1,K1195,\"\")","v":""}]
["2023-07-31","Alejandro Castanon Diaz","Tiempo Libre - ACD","15m",null,"13:40:00","13:56:00",9.9,0,0.25,4.5166666666666657,{"$f":"IF(COUNTIF(K$1:K1196,K1196)=1,K1196,\"\")","v":""}]
["2023-07-31","Alejandro Castanon Diaz","Tiempo Libre - ACD","37s",null,"14:08:00","14:10:00",0.39,0,0,4.5166666666666657,{"$f":"IF(COUNTIF(K$1:K1197,K1197)=1,K1197,\"\")","v":""}]
["2023-07-31","Alejandro Castanon Diaz","Faby - LB Logistics","13m",null,"14:15:00","14:28:00",8.4600000000000009,0,0.21666666666666667,0,{"$f":"IF(COUNTIF(K$1:K1198,K1198)=1,K1198,\"\")","v":""}]
["2023-07-31","Alejandro Castanon Diaz","Administrativo - ACD","19m",null,"14:28:00","14:50:00",12.42,0,0.31666666666666665,33.966666666666676,{"$f":"IF(COUNTIF(K$1:K1199,K1199)=1,K1199,\"\")","v":""}]
["2023-07-31","Alejandro Castanon Diaz","Terminado","01m",null,"14:41:00","14:42:00",0.68,0,1.6666666666666666E-2,0,{"$f":"IF(COUNTIF(K$1:K1200,K1200)=1,K1200,\"\")","v":""}]
["2023-07-31","Alejandro Castanon Diaz","Terminado","16s",null,"14:44:00","14:44:00",0.17,0,0,0,{"$f":"IF(COUNTIF(K$1:K1201,K1201)=1,K1201,\"\")","v":""}]
["2023-07-31","Alejandro Castanon Diaz","Faby - LB Logistics","4s",null,"14:48:00","14:48:00",0.04,0,0,0,{"$f":"IF(COUNTIF(K$1:K1202,K1202)=1,K1202,\"\")","v":""}]
["2023-07-31","Alejandro Castanon Diaz","Steve 5 10 - Página personal protfolio","01m",null,"14:48:00","14:50:00",0.65,0,1.6666666666666666E-2,1.0333333333333332,{"$f":"IF(COUNTIF(K$1:K1203,K1203)=1,K1203,\"\")","v":""}]
["2023-07-31","Alejandro Castanon Diaz","Administrativo - ACD","21m",null,"15:03:00","15:29:00",13.38,0,0.35,33.966666666666676,{"$f":"IF(COUNTIF(K$1:K1204,K1204)=1,K1204,\"\")","v":""}]
["2023-07-31","Alejandro Castanon Diaz","Terminado","3s",null,"15:04:00","15:04:00",0.03,0,0,0,{"$f":"IF(COUNTIF(K$1:K1205,K1205)=1,K1205,\"\")","v":""}]
["2023-07-31","Alejandro Castanon Diaz","Terminado","2s",null,"15:18:00","15:18:00",0.02,0,0,0,{"$f":"IF(COUNTIF(K$1:K1206,K1206)=1,K1206,\"\")","v":""}]
["2023-07-31","Alejandro Castanon Diaz","Terminado","7s",null,"15:19:00","15:19:00",7.0000000000000007E-2,0,0,0,{"$f":"IF(COUNTIF(K$1:K1207,K1207)=1,K1207,\"\")","v":""}]
["2023-07-31","Alejandro Castanon Diaz","Tiempo Libre - ACD","01m",null,"15:25:00","15:34:00",0.68,0,1.6666666666666666E-2,4.5166666666666657,{"$f":"IF(COUNTIF(K$1:K1208,K1208)=1,K1208,\"\")","v":""}]
["2023-07-31","Alejandro Castanon Diaz","Terminado","03m",null,"15:34:00","15:40:00",2.08,0,0.05,0,{"$f":"IF(COUNTIF(K$1:K1209,K1209)=1,K1209,\"\")","v":""}]
["2023-07-31","Alejandro Castanon Diaz","Steve 5 10 - Página personal protfolio","04m",null,"15:34:00","15:42:00",3.04,0,6.6666666666666666E-2,1.0333333333333332,{"$f":"IF(COUNTIF(K$1:K1210,K1210)=1,K1210,\"\")","v":""}]
["2023-07-31","Alejandro Castanon Diaz","Faby - PMI Ame Sitio multilang","33s",null,"15:40:00","15:41:00",0.35,0,0,0,{"$f":"IF(COUNTIF(K$1:K1211,K1211)=1,K1211,\"\")","v":""}]
["2023-07-31","Alejandro Castanon Diaz","Administrativo - ACD","01m",null,"15:42:00","15:44:00",1,0,1.6666666666666666E-2,33.966666666666676,{"$f":"IF(COUNTIF(K$1:K1212,K1212)=1,K1212,\"\")","v":""}]
["2023-07-31","Alejandro Castanon Diaz","Administrativo - ACD","2h 10m",null,"19:06:00","22:01:00",82.44,0,2.1666666666666665,33.966666666666676,{"$f":"IF(COUNTIF(K$1:K1213,K1213)=1,K1213,\"\")","v":""}]
["2023-07-31","Alejandro Castanon Diaz","Steve 5 10 - Página personal protfolio","3s",null,"19:41:00","19:41:00",0.03,0,0,1.0333333333333332,{"$f":"IF(COUNTIF(K$1:K1214,K1214)=1,K1214,\"\")","v":""}]
["2023-07-31","Alejandro Castanon Diaz","Steve 5 10 - Página personal protfolio","9s",null,"20:23:00","20:23:00",0.1,0,0,1.0333333333333332,{"$f":"IF(COUNTIF(K$1:K1215,K1215)=1,K1215,\"\")","v":""}]
["2023-07-31","Alejandro Castanon Diaz","Terminado","5s",null,"20:45:00","20:52:00",0.05,0,0,0,{"$f":"IF(COUNTIF(K$1:K1216,K1216)=1,K1216,\"\")","v":""}]
["2023-07-31","Alejandro Castanon Diaz","Faby - LB Logistics","17m",null,"20:46:00","21:58:00",10.84,0,0.28333333333333333,0,{"$f":"IF(COUNTIF(K$1:K1217,K1217)=1,K1217,\"\")","v":""}]
["2023-07-31","Alejandro Castanon Diaz","Steve 5 10 - Página personal protfolio","8s",null,"20:46:00","20:47:00",0.08,0,0,{"$f":"SUMIFS(J:J,C:C,C1218,A:A,\">\"&$S$4)","v":1.0333333333333332},{"$f":"IF(COUNTIF(K$1:K1218,K1218)=1,K1218,\"\")","v":""}]
["2023-07-31","Alejandro Castanon Diaz","Terminado","03m",null,"21:41:00","21:57:00",2.1,0,{"$f":"IF(D1219=\"\",\"\",IF(ISERROR(FIND(\"s\",D1219)),IF(ISERROR(FIND(\"h \",D1219)),LEFT(D1219,2)/60,   LEFT(D1219,FIND(\"h \",D1219)-1 )+LEFT(RIGHT(D1219,3),2)/60   ),0))","v":0.05},0,{"$f":"IF(COUNTIF(K$1:K1219,K1219)=1,K1219,\"\")","v":""}]
["2023-07-31","Alejandro Castanon Diaz","Steve 5 10 - Página personal protfolio","42m",null,"21:41:00","22:29:00",26.83,0,0.7,1.0333333333333332,{"$f":"IF(COUNTIF(K$1:K1220,K1220)=1,K1220,\"\")","v":""}]
["2023-07-31","Alejandro Castanon Diaz","Viv Freelancer - Fourdle game","9s",null,"21:47:00","21:47:00",0.1,0,0,0,{"$f":"IF(COUNTIF(K$1:K1221,K1221)=1,K1221,\"\")","v":""}]
["2023-07-31","Alejandro Castanon Diaz","Terminado","16s",null,"21:47:00","21:57:00",0.17,0,0,0,{"$f":"IF(COUNTIF(K$1:K1222,K1222)=1,K1222,\"\")","v":""}]
["2023-07-31","Alejandro Castanon Diaz","Alejandro Disidentes - Sixbell","9s",null,"21:47:00","21:48:00",0.1,0,0,2.2666666666666666,{"$f":"IF(COUNTIF(K$1:K1223,K1223)=1,K1223,\"\")","v":""}]
["2023-07-31","Alejandro Castanon Diaz","Bjorn Sueco - Nordic foods 2nd round","7s",null,"21:48:00","21:48:00",7.0000000000000007E-2,0,0,2.083333333333333,{"$f":"IF(COUNTIF(K$1:K1224,K1224)=1,K1224,\"\")","v":""}]
["2023-07-31","Alejandro Castanon Diaz","Administrativo - ACD","08m",null,"22:24:00","22:39:00",5.43,0,0.13333333333333333,33.966666666666676,{"$f":"IF(COUNTIF(K$1:K1225,K1225)=1,K1225,\"\")","v":""}]
["2023-07-31","Alejandro Castanon Diaz","Tiempo Libre - ACD","1h 19m",null,"22:39:00","23:53:00",50.38,0,1.3166666666666667,4.5166666666666657,{"$f":"IF(COUNTIF(K$1:K1226,K1226)=1,K1226,\"\")","v":""}]
["2023-07-31","Alejandro Castanon Diaz","Administrativo - ACD","01m",null,"22:49:00","22:51:00",1.08,0,1.6666666666666666E-2,33.966666666666676,{"$f":"IF(COUNTIF(K$1:K1227,K1227)=1,K1227,\"\")","v":""}]
["2023-07-31","Alejandro Castanon Diaz","Faby - LB Logistics","15s",null,"22:51:00","22:51:00",0.16,0,0,0,{"$f":"IF(COUNTIF(K$1:K1228,K1228)=1,K1228,\"\")","v":""}]
["2023-07-31","Alejandro Castanon Diaz","Steve 5 10 - Página personal protfolio","03m",null,"23:06:00","23:10:00",2.16,0,0.05,1.0333333333333332,{"$f":"IF(COUNTIF(K$1:K1229,K1229)=1,K1229,\"\")","v":""}]
["2023-07-31","Alejandro Castanon Diaz","Administrativo - ACD","04m",null,"23:17:00","23:22:00",2.92,0,6.6666666666666666E-2,33.966666666666676,{"$f":"IF(COUNTIF(K$1:K1230,K1230)=1,K1230,\"\")","v":""}]
["2023-07-31","Alejandro Castanon Diaz","Administrativo - ACD","07m",null,"23:33:00","23:44:00",5.0599999999999996,0,0.11666666666666667,33.966666666666676,{"$f":"IF(COUNTIF(K$1:K1231,K1231)=1,K1231,\"\")","v":""}]
["2023-08-01","Alejandro Castanon Diaz","Administrativo - ACD","27m",null,"10:31:00","11:03:00",17.350000000000001,0,0.45,33.966666666666676,{"$f":"IF(COUNTIF(K$1:K1232,K1232)=1,K1232,\"\")","v":""}]
["2023-08-01","Alejandro Castanon Diaz","Terminado","17s",null,"10:33:00","10:33:00",0.18,0,0,0,{"$f":"IF(COUNTIF(K$1:K1233,K1233)=1,K1233,\"\")","v":""}]
["2023-08-01","Alejandro Castanon Diaz","Steve 5 10 - Página personal protfolio","03m",null,"10:52:00","11:04:00",1.95,0,0.05,1.0333333333333332,{"$f":"IF(COUNTIF(K$1:K1234,K1234)=1,K1234,\"\")","v":""}]
["2023-08-01","Alejandro Castanon Diaz","Faby - LB Logistics","02m",null,"10:58:00","11:01:00",1.32,0,3.3333333333333333E-2,0,{"$f":"IF(COUNTIF(K$1:K1235,K1235)=1,K1235,\"\")","v":""}]
["2023-08-01","Alejandro Castanon Diaz","Steve 5 10 - Página personal protfolio","36s",null,"11:53:00","11:53:00",0.38,0,0,1.0333333333333332,{"$f":"IF(COUNTIF(K$1:K1236,K1236)=1,K1236,\"\")","v":""}]
["2023-08-01","Alejandro Castanon Diaz","Administrativo - ACD","34m",null,"16:57:00","17:47:00",21.96,0,0.56666666666666665,33.966666666666676,{"$f":"IF(COUNTIF(K$1:K1237,K1237)=1,K1237,\"\")","v":""}]
["2023-08-01","Alejandro Castanon Diaz","Tiempo Libre - ACD","03m",null,"17:05:00","17:16:00",2.2200000000000002,0,0.05,4.5166666666666657,{"$f":"IF(COUNTIF(K$1:K1238,K1238)=1,K1238,\"\")","v":""}]
["2023-08-01","Alejandro Castanon Diaz","Steve 5 10 - Página personal protfolio","11m",null,"17:19:00","17:36:00",7.05,0,0.18333333333333332,1.0333333333333332,{"$f":"IF(COUNTIF(K$1:K1239,K1239)=1,K1239,\"\")","v":""}]
["2023-08-01","Alejandro Castanon Diaz","Faby - LB Logistics","44s",null,"17:20:00","17:22:00",0.46,0,0,0,{"$f":"IF(COUNTIF(K$1:K1240,K1240)=1,K1240,\"\")","v":""}]
["2023-08-01","Alejandro Castanon Diaz","Viv Freelancer - Fourdle game","9s",null,"17:22:00","17:22:00",0.1,0,0,0,{"$f":"IF(COUNTIF(K$1:K1241,K1241)=1,K1241,\"\")","v":""}]
["2023-08-01","Alejandro Castanon Diaz","Administrativo - ACD","21m",null,"18:19:00","18:41:00",13.5,0,0.35,33.966666666666676,{"$f":"IF(COUNTIF(K$1:K1242,K1242)=1,K1242,\"\")","v":""}]
["2023-08-01","Alejandro Castanon Diaz","Steve 5 10 - Página personal protfolio","1h 25m",null,"18:41:00","20:11:00",54,0,1.4166666666666667,1.0333333333333332,{"$f":"IF(COUNTIF(K$1:K1243,K1243)=1,K1243,\"\")","v":""}]
["2023-08-01","Alejandro Castanon Diaz","Administrativo - ACD","18s",null,"19:03:00","19:04:00",0.19,0,0,33.966666666666676,{"$f":"IF(COUNTIF(K$1:K1244,K1244)=1,K1244,\"\")","v":""}]
["2023-08-01","Alejandro Castanon Diaz","Administrativo - ACD","01m",null,"19:24:00","19:28:00",0.99,0,1.6666666666666666E-2,33.966666666666676,{"$f":"IF(COUNTIF(K$1:K1245,K1245)=1,K1245,\"\")","v":""}]
["2023-08-01","Alejandro Castanon Diaz","Tiempo Libre - ACD","3s",null,"19:24:00","19:24:00",0.03,0,0,4.5166666666666657,{"$f":"IF(COUNTIF(K$1:K1246,K1246)=1,K1246,\"\")","v":""}]
["2023-08-01","Alejandro Castanon Diaz","Administrativo - ACD","41m",null,"19:56:00","21:19:00",26.04,0,0.68333333333333335,33.966666666666676,{"$f":"IF(COUNTIF(K$1:K1247,K1247)=1,K1247,\"\")","v":""}]
["2023-08-01","Alejandro Castanon Diaz","Bjorn Sueco - Nordic foods 2nd round","29m",null,"20:21:00","21:02:00",18.73,0,0.48333333333333334,2.083333333333333,{"$f":"IF(COUNTIF(K$1:K1248,K1248)=1,K1248,\"\")","v":""}]
["2023-08-01","Alejandro Castanon Diaz","Steve 5 10 - Página personal protfolio","4s",null,"20:21:00","20:21:00",0.04,0,0,1.0333333333333332,{"$f":"IF(COUNTIF(K$1:K1249,K1249)=1,K1249,\"\")","v":""}]
["2023-08-01","Alejandro Castanon Diaz","Administrativo - ACD","57m",null,"21:50:00","23:41:00",36.54,0,0.95,33.966666666666676,{"$f":"IF(COUNTIF(K$1:K1250,K1250)=1,K1250,\"\")","v":""}]
["2023-08-01","Alejandro Castanon Diaz","Nick Advizee - fijo","11m",null,"21:51:00","22:07:00",7.42,0,0.18333333333333332,4.5333333333333332,{"$f":"IF(COUNTIF(K$1:K1251,K1251)=1,K1251,\"\")","v":""}]
["2023-08-01","Alejandro Castanon Diaz","Steve 5 10 - Página personal protfolio","9s",null,"21:53:00","21:53:00",0.1,0,0,1.0333333333333332,{"$f":"IF(COUNTIF(K$1:K1252,K1252)=1,K1252,\"\")","v":""}]
["2023-08-01","Alejandro Castanon Diaz","Tiempo Libre - ACD","02m",null,"22:02:00","22:13:00",1.84,0,3.3333333333333333E-2,4.5166666666666657,{"$f":"IF(COUNTIF(K$1:K1253,K1253)=1,K1253,\"\")","v":""}]
["2023-08-01","Alejandro Castanon Diaz","Terminado","16m",null,"22:09:00","22:30:00",10.28,0,0.26666666666666666,0,{"$f":"IF(COUNTIF(K$1:K1254,K1254)=1,K1254,\"\")","v":""}]
["2023-08-01","Alejandro Castanon Diaz","Ricardo Cuerna - Fixum facturacion","17s",null,"22:31:00","22:31:00",0.18,0,0,5.4666666666666668,{"$f":"IF(COUNTIF(K$1:K1255,K1255)=1,K1255,\"\")","v":""}]
["2023-08-01","Alejandro Castanon Diaz","Daren Nuevo Form","8s",null,"22:40:00","22:40:00",0.08,0,0,0,{"$f":"IF(COUNTIF(K$1:K1256,K1256)=1,K1256,\"\")","v":""}]
["2023-08-01","Alejandro Castanon Diaz","Steve 5 10 - Página personal protfolio","2s",null,"22:40:00","22:40:00",0.02,0,0,1.0333333333333332,{"$f":"IF(COUNTIF(K$1:K1257,K1257)=1,K1257,\"\")","v":""}]
["2023-08-01","Alejandro Castanon Diaz","Bjorn Sueco - Nordic foods 2nd round","7s",null,"22:41:00","22:41:00",7.0000000000000007E-2,0,0,2.083333333333333,{"$f":"IF(COUNTIF(K$1:K1258,K1258)=1,K1258,\"\")","v":""}]
["2023-08-01","Alejandro Castanon Diaz","Ricardo Cuerna - Fixum facturacion","12m",null,"22:46:00","23:06:00",7.77,0,0.2,5.4666666666666668,{"$f":"IF(COUNTIF(K$1:K1259,K1259)=1,K1259,\"\")","v":""}]
["2023-08-01","Alejandro Castanon Diaz","Ricardo Chile - Carlson Electricos","7s",null,"23:07:00","23:07:00",7.0000000000000007E-2,0,0,0,{"$f":"IF(COUNTIF(K$1:K1260,K1260)=1,K1260,\"\")","v":""}]
["2023-08-01","Alejandro Castanon Diaz","Terminado","3s",null,"23:08:00","23:08:00",0.03,0,0,0,{"$f":"IF(COUNTIF(K$1:K1261,K1261)=1,K1261,\"\")","v":""}]
["2023-08-01","Alejandro Castanon Diaz","Terminado","13s",null,"23:08:00","23:15:00",0.14000000000000001,0,0,0,{"$f":"IF(COUNTIF(K$1:K1262,K1262)=1,K1262,\"\")","v":""}]
["2023-08-01","Alejandro Castanon Diaz","Bjorn Sueco - ajustes Woo y POS","04m",null,"23:28:00","23:34:00",2.99,0,6.6666666666666666E-2,0,{"$f":"IF(COUNTIF(K$1:K1263,K1263)=1,K1263,\"\")","v":""}]
["2023-08-01","Alejandro Castanon Diaz","Bjorn Sueco - Nordic foods 2nd round","14s",null,"23:31:00","23:32:00",0.15,0,0,2.083333333333333,{"$f":"IF(COUNTIF(K$1:K1264,K1264)=1,K1264,\"\")","v":""}]
["2023-08-01","Alejandro Castanon Diaz","Terminado","12s",null,"23:32:00","23:33:00",0.13,0,0,0,{"$f":"IF(COUNTIF(K$1:K1265,K1265)=1,K1265,\"\")","v":""}]
["2023-08-01","Alejandro Castanon Diaz","Terminado","04m",null,"23:35:00","23:41:00",2.77,0,6.6666666666666666E-2,0,{"$f":"IF(COUNTIF(K$1:K1266,K1266)=1,K1266,\"\")","v":""}]
["2023-08-02","Alejandro Castanon Diaz","Bjorn Sueco - Nordic foods 2nd round","0s",null,"08:00:00","08:00:00",0,0,0,2.083333333333333,{"$f":"IF(COUNTIF(K$1:K1267,K1267)=1,K1267,\"\")","v":""}]
["2023-08-02","Alejandro Castanon Diaz","Administrativo - ACD","1h 04m",null,"09:35:00","11:02:00",40.92,0,1.0666666666666667,33.966666666666676,{"$f":"IF(COUNTIF(K$1:K1268,K1268)=1,K1268,\"\")","v":""}]
["2023-08-02","Alejandro Castanon Diaz","Terminado","11s",null,"09:44:00","09:45:00",0.12,0,0,0,{"$f":"IF(COUNTIF(K$1:K1269,K1269)=1,K1269,\"\")","v":""}]
["2023-08-02","Alejandro Castanon Diaz","Terminado","13s",null,"09:45:00","09:45:00",0.14000000000000001,0,0,0,{"$f":"IF(COUNTIF(K$1:K1270,K1270)=1,K1270,\"\")","v":""}]
["2023-08-02","Alejandro Castanon Diaz","Ricardo Cuerna - Fixum facturacion","02m",null,"09:49:00","10:02:00",1.36,0,3.3333333333333333E-2,5.4666666666666668,{"$f":"IF(COUNTIF(K$1:K1271,K1271)=1,K1271,\"\")","v":""}]
["2023-08-02","Alejandro Castanon Diaz","Steve 5 10 - Página personal protfolio","01m",null,"10:03:00","10:05:00",0.97,0,1.6666666666666666E-2,1.0333333333333332,{"$f":"IF(COUNTIF(K$1:K1272,K1272)=1,K1272,\"\")","v":""}]
["2023-08-02","Alejandro Castanon Diaz","Faby - LB Logistics","18m",null,"10:21:00","11:00:00",11.52,0,0.3,0,{"$f":"IF(COUNTIF(K$1:K1273,K1273)=1,K1273,\"\")","v":""}]
["2023-08-02","Alejandro Castanon Diaz","Tiempo Libre - ACD","15s",null,"10:24:00","10:26:00",0.16,0,0,4.5166666666666657,{"$f":"IF(COUNTIF(K$1:K1274,K1274)=1,K1274,\"\")","v":""}]
["2023-08-02","Alejandro Castanon Diaz","Ricardo Cuerna - Fixum facturacion","4s",null,"10:26:00","10:28:00",0.04,0,0,5.4666666666666668,{"$f":"IF(COUNTIF(K$1:K1275,K1275)=1,K1275,\"\")","v":""}]
["2023-08-02","Alejandro Castanon Diaz","Terminado","3s",null,"10:37:00","10:37:00",0.03,0,0,0,{"$f":"IF(COUNTIF(K$1:K1276,K1276)=1,K1276,\"\")","v":""}]
["2023-08-02","Alejandro Castanon Diaz","Viv Freelancer - Fourdle game","26m",null,"11:00:00","11:32:00",16.899999999999999,0,0.43333333333333335,0,{"$f":"IF(COUNTIF(K$1:K1277,K1277)=1,K1277,\"\")","v":""}]
["2023-08-02","Alejandro Castanon Diaz","Administrativo - ACD","22m",null,"11:13:00","12:11:00",14.54,0,0.36666666666666664,33.966666666666676,{"$f":"IF(COUNTIF(K$1:K1278,K1278)=1,K1278,\"\")","v":""}]
["2023-08-02","Alejandro Castanon Diaz","Faby - LB Logistics","10s",null,"11:25:00","11:25:00",0.11,0,0,0,{"$f":"IF(COUNTIF(K$1:K1279,K1279)=1,K1279,\"\")","v":""}]
["2023-08-02","Alejandro Castanon Diaz","Ricardo Cuerna - Fixum facturacion","18m",null,"11:34:00","12:11:00",12.02,0,0.3,5.4666666666666668,{"$f":"IF(COUNTIF(K$1:K1280,K1280)=1,K1280,\"\")","v":""}]
["2023-08-02","Alejandro Castanon Diaz","Viv Freelancer - Fourdle game","10s",null,"12:01:00","12:10:00",0.11,0,0,0,{"$f":"IF(COUNTIF(K$1:K1281,K1281)=1,K1281,\"\")","v":""}]
["2023-08-02","Alejandro Castanon Diaz","Tiempo Libre - ACD","15s",null,"13:18:00","13:19:00",0.16,0,0,{"$f":"SUMIFS(J:J,C:C,C1282,A:A,\">\"&$S$4)","v":4.5166666666666657},{"$f":"IF(COUNTIF(K$1:K1282,K1282)=1,K1282,\"\")","v":""}]
["2023-08-02","Alejandro Castanon Diaz","Administrativo - ACD","17m",null,"13:19:00","13:39:00",10.78,0,{"$f":"IF(D1283=\"\",\"\",IF(ISERROR(FIND(\"s\",D1283)),IF(ISERROR(FIND(\"h \",D1283)),LEFT(D1283,2)/60,   LEFT(D1283,FIND(\"h \",D1283)-1 )+LEFT(RIGHT(D1283,3),2)/60   ),0))","v":0.28333333333333333},33.966666666666676,{"$f":"IF(COUNTIF(K$1:K1283,K1283)=1,K1283,\"\")","v":""}]
["2023-08-02","Alejandro Castanon Diaz","Terminado","2s",null,"13:28:00","13:28:00",0.02,0,0,0,{"$f":"IF(COUNTIF(K$1:K1284,K1284)=1,K1284,\"\")","v":""}]
["2023-08-02","Alejandro Castanon Diaz","Faby - LB Logistics","01m",null,"13:28:00","13:39:00",0.84,0,1.6666666666666666E-2,0,{"$f":"IF(COUNTIF(K$1:K1285,K1285)=1,K1285,\"\")","v":""}]
["2023-08-02","Alejandro Castanon Diaz","Faby - LB Logistics","42s",null,"15:00:00","15:01:00",0.44,0,0,0,{"$f":"IF(COUNTIF(K$1:K1286,K1286)=1,K1286,\"\")","v":""}]
["2023-08-02","Alejandro Castanon Diaz","Administrativo - ACD","41m",null,"15:01:00","15:59:00",26.25,0,0.68333333333333335,33.966666666666676,{"$f":"IF(COUNTIF(K$1:K1287,K1287)=1,K1287,\"\")","v":""}]
["2023-08-02","Alejandro Castanon Diaz","Steve 5 10 - Página personal protfolio","04m",null,"15:08:00","15:12:00",2.69,0,6.6666666666666666E-2,1.0333333333333332,{"$f":"IF(COUNTIF(K$1:K1288,K1288)=1,K1288,\"\")","v":""}]
["2023-08-02","Alejandro Castanon Diaz","Faby - LB Logistics","10m",null,"15:12:00","15:28:00",6.94,0,0.16666666666666666,0,{"$f":"IF(COUNTIF(K$1:K1289,K1289)=1,K1289,\"\")","v":""}]
["2023-08-02","Alejandro Castanon Diaz","Faby - LB Logistics","26s",null,"15:44:00","15:44:00",0.27,0,0,0,{"$f":"IF(COUNTIF(K$1:K1290,K1290)=1,K1290,\"\")","v":""}]
["2023-08-02","Alejandro Castanon Diaz","Ricardo Cuerna - Fixum facturacion","20s",null,"15:45:00","15:46:00",0.21,0,0,5.4666666666666668,{"$f":"IF(COUNTIF(K$1:K1291,K1291)=1,K1291,\"\")","v":""}]
["2023-08-02","Alejandro Castanon Diaz","Administrativo - ACD","21m",null,"21:39:00","22:06:00",13.86,0,0.35,33.966666666666676,{"$f":"IF(COUNTIF(K$1:K1292,K1292)=1,K1292,\"\")","v":""}]
["2023-08-02","Alejandro Castanon Diaz","Faby - LB Logistics","01m",null,"21:43:00","21:46:00",0.7,0,1.6666666666666666E-2,0,{"$f":"IF(COUNTIF(K$1:K1293,K1293)=1,K1293,\"\")","v":""}]
["2023-08-02","Alejandro Castanon Diaz","Ricardo Cuerna - Fixum facturacion","3s",null,"21:46:00","21:46:00",0.03,0,0,5.4666666666666668,{"$f":"IF(COUNTIF(K$1:K1294,K1294)=1,K1294,\"\")","v":""}]
["2023-08-02","Alejandro Castanon Diaz","Terminado","11m",null,"22:06:00","22:19:00",7,0,0.18333333333333332,0,{"$f":"IF(COUNTIF(K$1:K1295,K1295)=1,K1295,\"\")","v":""}]
["2023-08-02","Alejandro Castanon Diaz","Administrativo - ACD","1h 21m",null,"22:17:00","23:55:00",51.7,0,1.35,33.966666666666676,{"$f":"IF(COUNTIF(K$1:K1296,K1296)=1,K1296,\"\")","v":""}]
["2023-08-02","Alejandro Castanon Diaz","Ricardo Freelancer - Accounting","2s",null,"22:19:00","22:19:00",0.02,0,0,0,{"$f":"IF(COUNTIF(K$1:K1297,K1297)=1,K1297,\"\")","v":""}]
["2023-08-02","Alejandro Castanon Diaz","Faby - LB Logistics","03m",null,"22:54:00","22:57:00",1.92,0,0.05,0,{"$f":"IF(COUNTIF(K$1:K1298,K1298)=1,K1298,\"\")","v":""}]
["2023-08-02","Alejandro Castanon Diaz","Faby - LB Logistics","36s",null,"23:08:00","23:09:00",0.38,0,0,0,{"$f":"IF(COUNTIF(K$1:K1299,K1299)=1,K1299,\"\")","v":""}]
["2023-08-02","Alejandro Castanon Diaz","Bjorn Sueco - Nordic foods 2nd round","02m",null,"23:23:00","23:38:00",1.44,0,3.3333333333333333E-2,2.083333333333333,{"$f":"IF(COUNTIF(K$1:K1300,K1300)=1,K1300,\"\")","v":""}]
["2023-08-02","Alejandro Castanon Diaz","Bjorn Sueco - ajustes Woo y POS","34s",null,"23:24:00","23:24:00",0.36,0,0,0,{"$f":"IF(COUNTIF(K$1:K1301,K1301)=1,K1301,\"\")","v":""}]
["2023-08-02","Alejandro Castanon Diaz","Faby - LB Logistics","14m",null,"23:38:00","23:59:00",9.2200000000000006,0,0.23333333333333334,0,{"$f":"IF(COUNTIF(K$1:K1302,K1302)=1,K1302,\"\")","v":""}]
["2023-08-03","Alejandro Castanon Diaz","Faby - LB Logistics","29m",null,"00:00:00","00:41:00",18.55,0,0.48333333333333334,0,{"$f":"IF(COUNTIF(K$1:K1303,K1303)=1,K1303,\"\")","v":""}]
["2023-08-03","Alejandro Castanon Diaz","Administrativo - ACD","13m",null,"00:09:00","00:52:00",8.2899999999999991,0,0.21666666666666667,33.966666666666676,{"$f":"IF(COUNTIF(K$1:K1304,K1304)=1,K1304,\"\")","v":""}]
["2023-08-03","Alejandro Castanon Diaz","Viv Freelancer - Fourdle game","10s",null,"00:10:00","00:11:00",0.11,0,0,0,{"$f":"IF(COUNTIF(K$1:K1305,K1305)=1,K1305,\"\")","v":""}]
["2023-08-03","Alejandro Castanon Diaz","Viv Freelancer - Fourdle game","1h 35m",null,"00:34:00","02:40:00",60.59,0,1.5833333333333335,0,{"$f":"IF(COUNTIF(K$1:K1306,K1306)=1,K1306,\"\")","v":""}]
["2023-08-03","Alejandro Castanon Diaz","Nick Advizee - fijo","2s",null,"00:34:00","00:34:00",0.02,0,0,4.5333333333333332,{"$f":"IF(COUNTIF(K$1:K1307,K1307)=1,K1307,\"\")","v":""}]
["2023-08-03","Alejandro Castanon Diaz","Administrativo - ACD","06m",null,"01:18:00","01:46:00",4.13,0,0.1,33.966666666666676,{"$f":"IF(COUNTIF(K$1:K1308,K1308)=1,K1308,\"\")","v":""}]
["2023-08-03","Alejandro Castanon Diaz","Nick Advizee - fijo","02m",null,"01:21:00","01:35:00",1.34,0,3.3333333333333333E-2,4.5333333333333332,{"$f":"IF(COUNTIF(K$1:K1309,K1309)=1,K1309,\"\")","v":""}]
["2023-08-03","Alejandro Castanon Diaz","Daren freelancer - nuevo form precisemd","2s",null,"01:25:00","01:25:00",0.02,0,0,0,{"$f":"IF(COUNTIF(K$1:K1310,K1310)=1,K1310,\"\")","v":""}]
["2023-08-03","Alejandro Castanon Diaz","Gary Hydracheck - Quote page makeup","2s",null,"01:25:00","01:25:00",0.02,0,0,0,{"$f":"IF(COUNTIF(K$1:K1311,K1311)=1,K1311,\"\")","v":""}]
["2023-08-03","Alejandro Castanon Diaz","Faby - PMI Ame Sitio multilang","7s",null,"01:25:00","01:25:00",7.0000000000000007E-2,0,0,0,{"$f":"IF(COUNTIF(K$1:K1312,K1312)=1,K1312,\"\")","v":""}]
["2023-08-03","Alejandro Castanon Diaz","Faby - LB Logistics","4s",null,"01:25:00","01:25:00",0.04,0,0,0,{"$f":"IF(COUNTIF(K$1:K1313,K1313)=1,K1313,\"\")","v":""}]
["2023-08-03","Alejandro Castanon Diaz","Bjorn Sueco - Nordic foods 2nd round","2s",null,"01:26:00","01:26:00",0.02,0,0,2.083333333333333,{"$f":"IF(COUNTIF(K$1:K1314,K1314)=1,K1314,\"\")","v":""}]
["2023-08-03","Alejandro Castanon Diaz","Steve 5 10 - Página personal protfolio","4s",null,"01:26:00","01:26:00",0.04,0,0,1.0333333333333332,{"$f":"IF(COUNTIF(K$1:K1315,K1315)=1,K1315,\"\")","v":""}]
["2023-08-03","Alejandro Castanon Diaz","Terminado","9s",null,"01:26:00","01:26:00",0.1,0,0,0,{"$f":"IF(COUNTIF(K$1:K1316,K1316)=1,K1316,\"\")","v":""}]
["2023-08-03","Alejandro Castanon Diaz","Terminado","4s",null,"01:26:00","01:26:00",0.04,0,0,0,{"$f":"IF(COUNTIF(K$1:K1317,K1317)=1,K1317,\"\")","v":""}]
["2023-08-03","Alejandro Castanon Diaz","Terminado","4s",null,"01:26:00","01:26:00",0.04,0,0,0,{"$f":"IF(COUNTIF(K$1:K1318,K1318)=1,K1318,\"\")","v":""}]
["2023-08-03","Alejandro Castanon Diaz","Alejandro Disidentes - Sixbell","2s",null,"01:27:00","01:27:00",0.02,0,0,2.2666666666666666,{"$f":"IF(COUNTIF(K$1:K1319,K1319)=1,K1319,\"\")","v":""}]
["2023-08-03","Alejandro Castanon Diaz","Ricardo Cuerna - Fixum facturacion","5s",null,"01:27:00","01:27:00",0.05,0,0,5.4666666666666668,{"$f":"IF(COUNTIF(K$1:K1320,K1320)=1,K1320,\"\")","v":""}]
["2023-08-03","Alejandro Castanon Diaz","Administrativo - ACD","24m",null,"02:19:00","02:53:00",15.61,0,0.4,33.966666666666676,{"$f":"IF(COUNTIF(K$1:K1321,K1321)=1,K1321,\"\")","v":""}]
["2023-08-03","Alejandro Castanon Diaz","Tiempo Libre - ACD","2s",null,"02:38:00","02:38:00",0.02,0,0,4.5166666666666657,{"$f":"IF(COUNTIF(K$1:K1322,K1322)=1,K1322,\"\")","v":""}]
["2023-08-03","Alejandro Castanon Diaz","Nick Advizee - fijo","5s",null,"02:38:00","02:38:00",0.05,0,0,4.5333333333333332,{"$f":"IF(COUNTIF(K$1:K1323,K1323)=1,K1323,\"\")","v":""}]
["2023-08-03","Alejandro Castanon Diaz","Hostings - ACD","41s",null,"02:39:00","02:40:00",0.43,0,0,2.4499999999999993,{"$f":"IF(COUNTIF(K$1:K1324,K1324)=1,K1324,\"\")","v":2.4499999999999993}]
["2023-08-03","Alejandro Castanon Diaz","Terminado","22s",null,"02:47:00","02:47:00",0.23,0,0,0,{"$f":"IF(COUNTIF(K$1:K1325,K1325)=1,K1325,\"\")","v":""}]
["2023-08-03","Alejandro Castanon Diaz","Bjorn Sueco - Nordic foods 2nd round","13s",null,"02:51:00","02:53:00",0.14000000000000001,0,0,2.083333333333333,{"$f":"IF(COUNTIF(K$1:K1326,K1326)=1,K1326,\"\")","v":""}]
["2023-08-03","Alejandro Castanon Diaz","Viv Freelancer - Fourdle game","01m",null,"02:53:00","02:55:00",1.01,0,1.6666666666666666E-2,0,{"$f":"IF(COUNTIF(K$1:K1327,K1327)=1,K1327,\"\")","v":""}]
["2023-08-03","Alejandro Castanon Diaz","Bjorn Sueco - Nordic foods 2nd round","0s",null,"08:00:00","08:00:00",0,0,0,2.083333333333333,{"$f":"IF(COUNTIF(K$1:K1328,K1328)=1,K1328,\"\")","v":""}]
["2023-08-03","Alejandro Castanon Diaz","Viv Freelancer - Fourdle game","19s",null,"11:03:00","11:04:00",0.2,0,0,0,{"$f":"IF(COUNTIF(K$1:K1329,K1329)=1,K1329,\"\")","v":""}]
["2023-08-03","Alejandro Castanon Diaz","Administrativo - ACD","01m",null,"11:03:00","11:12:00",1.25,0,1.6666666666666666E-2,33.966666666666676,{"$f":"IF(COUNTIF(K$1:K1330,K1330)=1,K1330,\"\")","v":""}]
["2023-08-03","Alejandro Castanon Diaz","Terminado","26m",null,"11:04:00","11:34:00",17.079999999999998,0,0.43333333333333335,0,{"$f":"IF(COUNTIF(K$1:K1331,K1331)=1,K1331,\"\")","v":""}]
["2023-08-03","Alejandro Castanon Diaz","Administrativo - ACD","29m",null,"11:30:00","12:20:00",18.87,0,0.48333333333333334,33.966666666666676,{"$f":"IF(COUNTIF(K$1:K1332,K1332)=1,K1332,\"\")","v":""}]
["2023-08-03","Alejandro Castanon Diaz","Tiempo Libre - ACD","01m",null,"11:52:00","11:55:00",1.19,0,1.6666666666666666E-2,4.5166666666666657,{"$f":"IF(COUNTIF(K$1:K1333,K1333)=1,K1333,\"\")","v":""}]
["2023-08-03","Alejandro Castanon Diaz","Terminado","1h 12m",null,"11:58:00","13:26:00",45.9,0,1.2,0,{"$f":"IF(COUNTIF(K$1:K1334,K1334)=1,K1334,\"\")","v":""}]
["2023-08-03","Alejandro Castanon Diaz","Administrativo - ACD","33m",null,"12:40:00","14:05:00",21.02,0,0.55000000000000004,33.966666666666676,{"$f":"IF(COUNTIF(K$1:K1335,K1335)=1,K1335,\"\")","v":""}]
["2023-08-03","Alejandro Castanon Diaz","Terminado","28m",null,"13:38:00","14:24:00",17.850000000000001,0,0.46666666666666667,0,{"$f":"IF(COUNTIF(K$1:K1336,K1336)=1,K1336,\"\")","v":""}]
["2023-08-03","Alejandro Castanon Diaz","Administrativo - ACD","5s",null,"14:24:00","14:24:00",0.05,0,0,33.966666666666676,{"$f":"IF(COUNTIF(K$1:K1337,K1337)=1,K1337,\"\")","v":""}]
["2023-08-03","Alejandro Castanon Diaz","Administrativo - ACD","1h 21m",null,"14:58:00","17:59:00",51.31,0,1.35,33.966666666666676,{"$f":"IF(COUNTIF(K$1:K1338,K1338)=1,K1338,\"\")","v":""}]
["2023-08-03","Alejandro Castanon Diaz","Terminado","24m",null,"15:10:00","15:53:00",15.24,0,0.4,0,{"$f":"IF(COUNTIF(K$1:K1339,K1339)=1,K1339,\"\")","v":""}]
["2023-08-03","Alejandro Castanon Diaz","Faby - Crawler Farmakosto","10s",null,"15:11:00","15:12:00",0.11,0,0,5.5333333333333323,{"$f":"IF(COUNTIF(K$1:K1340,K1340)=1,K1340,\"\")","v":5.5333333333333323}]
["2023-08-03","Alejandro Castanon Diaz","Faby - Crawler Farmakosto","01m",null,"15:35:00","15:36:00",0.84,0,1.6666666666666666E-2,5.5333333333333323,{"$f":"IF(COUNTIF(K$1:K1341,K1341)=1,K1341,\"\")","v":""}]
["2023-08-03","Alejandro Castanon Diaz","Viv Freelancer - Fourdle game","1h 06m",null,"15:37:00","17:55:00",41.93,0,1.1000000000000001,0,{"$f":"IF(COUNTIF(K$1:K1342,K1342)=1,K1342,\"\")","v":""}]
["2023-08-03","Alejandro Castanon Diaz","Terminado","01m",null,"16:09:00","16:11:00",0.88,0,1.6666666666666666E-2,0,{"$f":"IF(COUNTIF(K$1:K1343,K1343)=1,K1343,\"\")","v":""}]
["2023-08-03","Alejandro Castanon Diaz","Tiempo Libre - ACD","01m",null,"16:13:00","16:14:00",0.78,0,1.6666666666666666E-2,4.5166666666666657,{"$f":"IF(COUNTIF(K$1:K1344,K1344)=1,K1344,\"\")","v":""}]
["2023-08-03","Alejandro Castanon Diaz","Alejandro Disidentes - Sixbell","06m",null,"16:17:00","16:38:00",4,0,0.1,2.2666666666666666,{"$f":"IF(COUNTIF(K$1:K1345,K1345)=1,K1345,\"\")","v":""}]
["2023-08-03","Alejandro Castanon Diaz","Tiempo Libre - ACD","7s",null,"17:50:00","17:51:00",7.0000000000000007E-2,0,0,{"$f":"SUMIFS(J:J,C:C,C1346,A:A,\">\"&$S$4)","v":4.5166666666666657},{"$f":"IF(COUNTIF(K$1:K1346,K1346)=1,K1346,\"\")","v":""}]
["2023-08-03","Alejandro Castanon Diaz","Administrativo - ACD","13m",null,"20:20:00","20:41:00",8.39,0,{"$f":"IF(D1347=\"\",\"\",IF(ISERROR(FIND(\"s\",D1347)),IF(ISERROR(FIND(\"h \",D1347)),LEFT(D1347,2)/60,   LEFT(D1347,FIND(\"h \",D1347)-1 )+LEFT(RIGHT(D1347,3),2)/60   ),0))","v":0.21666666666666667},33.966666666666676,{"$f":"IF(COUNTIF(K$1:K1347,K1347)=1,K1347,\"\")","v":""}]
["2023-08-03","Alejandro Castanon Diaz","Viv Freelancer - Fourdle game","12m",null,"20:32:00","20:46:00",8.19,0,0.2,0,{"$f":"IF(COUNTIF(K$1:K1348,K1348)=1,K1348,\"\")","v":""}]
["2023-08-03","Alejandro Castanon Diaz","Viv Freelancer - Fourdle game","1h 52m",null,"21:00:00","22:54:00",71.040000000000006,0,1.8666666666666667,0,{"$f":"IF(COUNTIF(K$1:K1349,K1349)=1,K1349,\"\")","v":""}]
["2023-08-03","Alejandro Castanon Diaz","Administrativo - ACD","8s",null,"21:09:00","21:12:00",0.08,0,0,33.966666666666676,{"$f":"IF(COUNTIF(K$1:K1350,K1350)=1,K1350,\"\")","v":""}]
["2023-08-03","Alejandro Castanon Diaz","Administrativo - ACD","01m",null,"21:33:00","21:44:00",0.88,0,1.6666666666666666E-2,33.966666666666676,{"$f":"IF(COUNTIF(K$1:K1351,K1351)=1,K1351,\"\")","v":""}]
["2023-08-03","Alejandro Castanon Diaz","Administrativo - ACD","2s",null,"22:40:00","22:40:00",0.02,0,0,33.966666666666676,{"$f":"IF(COUNTIF(K$1:K1352,K1352)=1,K1352,\"\")","v":""}]
["2023-08-03","Alejandro Castanon Diaz","Administrativo - ACD","16m",null,"22:51:00","23:10:00",10.49,0,0.26666666666666666,33.966666666666676,{"$f":"IF(COUNTIF(K$1:K1353,K1353)=1,K1353,\"\")","v":""}]
["2023-08-03","Alejandro Castanon Diaz","Ricardo Freelancer - Accounting","27s",null,"22:53:00","22:53:00",0.28999999999999998,0,0,0,{"$f":"IF(COUNTIF(K$1:K1354,K1354)=1,K1354,\"\")","v":""}]
["2023-08-03","Alejandro Castanon Diaz","Administrativo - ACD","4s",null,"23:24:00","23:24:00",0.04,0,0,33.966666666666676,{"$f":"IF(COUNTIF(K$1:K1355,K1355)=1,K1355,\"\")","v":""}]
["2023-08-04","Alejandro Castanon Diaz","Bjorn Sueco - Nordic foods 2nd round","0s",null,"08:00:00","08:00:00",0,0,0,2.083333333333333,{"$f":"IF(COUNTIF(K$1:K1356,K1356)=1,K1356,\"\")","v":""}]
["2023-08-04","Alejandro Castanon Diaz","Administrativo - ACD","17m",null,"10:01:00","10:24:00",11.12,0,0.28333333333333333,33.966666666666676,{"$f":"IF(COUNTIF(K$1:K1357,K1357)=1,K1357,\"\")","v":""}]
["2023-08-04","Alejandro Castanon Diaz","Terminado","03m",null,"10:03:00","10:07:00",1.94,0,0.05,0,{"$f":"IF(COUNTIF(K$1:K1358,K1358)=1,K1358,\"\")","v":""}]
["2023-08-04","Alejandro Castanon Diaz","Terminado","11s",null,"10:22:00","10:22:00",0.12,0,0,0,{"$f":"IF(COUNTIF(K$1:K1359,K1359)=1,K1359,\"\")","v":""}]
["2023-08-04","Alejandro Castanon Diaz","Emilio pinturas arreglar su sitio","9s",null,"10:24:00","10:24:00",0.1,0,0,0,{"$f":"IF(COUNTIF(K$1:K1360,K1360)=1,K1360,\"\")","v":""}]
["2023-08-04","Alejandro Castanon Diaz","Viv Freelancer - Fourdle game","12m",null,"10:24:00","10:36:00",7.74,0,0.2,0,{"$f":"IF(COUNTIF(K$1:K1361,K1361)=1,K1361,\"\")","v":""}]
["2023-08-04","Alejandro Castanon Diaz","Viv Freelancer - Fourdle game","16m",null,"10:54:00","11:24:00",10.63,0,0.26666666666666666,0,{"$f":"IF(COUNTIF(K$1:K1362,K1362)=1,K1362,\"\")","v":""}]
["2023-08-04","Alejandro Castanon Diaz","Administrativo - ACD","27m",null,"10:55:00","11:45:00",17.579999999999998,0,0.45,33.966666666666676,{"$f":"IF(COUNTIF(K$1:K1363,K1363)=1,K1363,\"\")","v":""}]
["2023-08-04","Alejandro Castanon Diaz","Faby - LB Logistics","01m",null,"11:13:00","11:21:00",1.1200000000000001,0,1.6666666666666666E-2,0,{"$f":"IF(COUNTIF(K$1:K1364,K1364)=1,K1364,\"\")","v":""}]
["2023-08-04","Alejandro Castanon Diaz","Terminado","14s",null,"11:31:00","11:31:00",0.15,0,0,0,{"$f":"IF(COUNTIF(K$1:K1365,K1365)=1,K1365,\"\")","v":""}]
["2023-08-04","Alejandro Castanon Diaz","Faby - LB Logistics","13m",null,"11:33:00","11:55:00",8.69,0,0.21666666666666667,0,{"$f":"IF(COUNTIF(K$1:K1366,K1366)=1,K1366,\"\")","v":""}]
["2023-08-04","Alejandro Castanon Diaz","Faby - LB Logistics","41m",null,"12:48:00","13:52:00",26.13,0,0.68333333333333335,0,{"$f":"IF(COUNTIF(K$1:K1367,K1367)=1,K1367,\"\")","v":""}]
["2023-08-04","Alejandro Castanon Diaz","Administrativo - ACD","01m",null,"12:48:00","12:55:00",1.25,0,1.6666666666666666E-2,33.966666666666676,{"$f":"IF(COUNTIF(K$1:K1368,K1368)=1,K1368,\"\")","v":""}]
["2023-08-04","Alejandro Castanon Diaz","Tiempo Libre - ACD","33s",null,"12:54:00","12:55:00",0.35,0,0,4.5166666666666657,{"$f":"IF(COUNTIF(K$1:K1369,K1369)=1,K1369,\"\")","v":""}]
["2023-08-04","Alejandro Castanon Diaz","Viv Freelancer - Fourdle game","2s",null,"13:05:00","13:05:00",0.02,0,0,0,{"$f":"IF(COUNTIF(K$1:K1370,K1370)=1,K1370,\"\")","v":""}]
["2023-08-04","Alejandro Castanon Diaz","Administrativo - ACD","11m",null,"13:06:00","13:31:00",7.43,0,0.18333333333333332,33.966666666666676,{"$f":"IF(COUNTIF(K$1:K1371,K1371)=1,K1371,\"\")","v":""}]
["2023-08-04","Alejandro Castanon Diaz","Viv Freelancer - Fourdle game","5s",null,"13:23:00","13:24:00",0.05,0,0,0,{"$f":"IF(COUNTIF(K$1:K1372,K1372)=1,K1372,\"\")","v":""}]
["2023-08-04","Alejandro Castanon Diaz","Terminado","7s",null,"13:24:00","13:24:00",7.0000000000000007E-2,0,0,0,{"$f":"IF(COUNTIF(K$1:K1373,K1373)=1,K1373,\"\")","v":""}]
["2023-08-04","Alejandro Castanon Diaz","Nick Advizee - fijo","08m",null,"13:52:00","14:05:00",5.55,0,0.13333333333333333,4.5333333333333332,{"$f":"IF(COUNTIF(K$1:K1374,K1374)=1,K1374,\"\")","v":""}]
["2023-08-04","Alejandro Castanon Diaz","Viv Freelancer - Fourdle game","04m",null,"13:55:00","13:59:00",2.63,0,6.6666666666666666E-2,0,{"$f":"IF(COUNTIF(K$1:K1375,K1375)=1,K1375,\"\")","v":""}]
["2023-08-04","Alejandro Castanon Diaz","Administrativo - ACD","09m",null,"14:05:00","14:15:00",5.86,0,0.15,33.966666666666676,{"$f":"IF(COUNTIF(K$1:K1376,K1376)=1,K1376,\"\")","v":""}]
["2023-08-04","Alejandro Castanon Diaz","Faby - LB Logistics","01m",null,"14:14:00","14:15:00",0.93,0,1.6666666666666666E-2,0,{"$f":"IF(COUNTIF(K$1:K1377,K1377)=1,K1377,\"\")","v":""}]
["2023-08-04","Alejandro Castanon Diaz","Terminado","3s",null,"14:15:00","14:15:00",0.03,0,0,0,{"$f":"IF(COUNTIF(K$1:K1378,K1378)=1,K1378,\"\")","v":""}]
["2023-08-04","Alejandro Castanon Diaz","Terminado","10m",null,"14:15:00","14:26:00",6.58,0,0.16666666666666666,0,{"$f":"IF(COUNTIF(K$1:K1379,K1379)=1,K1379,\"\")","v":""}]
["2023-08-04","Alejandro Castanon Diaz","Terminado","32s",null,"16:29:00","16:39:00",0.34,0,0,0,{"$f":"IF(COUNTIF(K$1:K1380,K1380)=1,K1380,\"\")","v":""}]
["2023-08-04","Alejandro Castanon Diaz","Administrativo - ACD","07m",null,"16:29:00","16:41:00",4.91,0,0.11666666666666667,33.966666666666676,{"$f":"IF(COUNTIF(K$1:K1381,K1381)=1,K1381,\"\")","v":""}]
["2023-08-04","Alejandro Castanon Diaz","Faby - LB Logistics","1h 22m",null,"16:33:00","18:13:00",52.14,0,1.3666666666666667,0,{"$f":"IF(COUNTIF(K$1:K1382,K1382)=1,K1382,\"\")","v":""}]
["2023-08-04","Alejandro Castanon Diaz","Terminado","3s",null,"16:38:00","16:38:00",0.03,0,0,0,{"$f":"IF(COUNTIF(K$1:K1383,K1383)=1,K1383,\"\")","v":""}]
["2023-08-04","Alejandro Castanon Diaz","Administrativo - ACD","04m",null,"16:54:00","17:05:00",2.77,0,6.6666666666666666E-2,33.966666666666676,{"$f":"IF(COUNTIF(K$1:K1384,K1384)=1,K1384,\"\")","v":""}]
["2023-08-04","Alejandro Castanon Diaz","Terminado","2s",null,"16:58:00","16:58:00",0.02,0,0,0,{"$f":"IF(COUNTIF(K$1:K1385,K1385)=1,K1385,\"\")","v":""}]
["2023-08-04","Alejandro Castanon Diaz","Viv Freelancer - Fourdle game","2s",null,"17:22:00","17:22:00",0.02,0,0,0,{"$f":"IF(COUNTIF(K$1:K1386,K1386)=1,K1386,\"\")","v":""}]
["2023-08-04","Alejandro Castanon Diaz","Administrativo - ACD","04m",null,"17:50:00","18:13:00",2.88,0,6.6666666666666666E-2,33.966666666666676,{"$f":"IF(COUNTIF(K$1:K1387,K1387)=1,K1387,\"\")","v":""}]
["2023-08-04","Alejandro Castanon Diaz","Terminado","34s",null,"17:59:00","18:13:00",0.36,0,0,0,{"$f":"IF(COUNTIF(K$1:K1388,K1388)=1,K1388,\"\")","v":""}]
["2023-08-04","Alejandro Castanon Diaz","Viv Freelancer - Fourdle game","2h 43m",null,"18:13:00","21:04:00",103.32,0,2.7166666666666668,0,{"$f":"IF(COUNTIF(K$1:K1389,K1389)=1,K1389,\"\")","v":""}]
["2023-08-04","Alejandro Castanon Diaz","Administrativo - ACD","01m",null,"18:25:00","18:35:00",1.26,0,1.6666666666666666E-2,33.966666666666676,{"$f":"IF(COUNTIF(K$1:K1390,K1390)=1,K1390,\"\")","v":""}]
["2023-08-04","Alejandro Castanon Diaz","Faby - LB Logistics","02m",null,"18:25:00","18:27:00",1.64,0,3.3333333333333333E-2,0,{"$f":"IF(COUNTIF(K$1:K1391,K1391)=1,K1391,\"\")","v":""}]
["2023-08-04","Alejandro Castanon Diaz","Terminado","11s",null,"18:34:00","18:34:00",0.12,0,0,0,{"$f":"IF(COUNTIF(K$1:K1392,K1392)=1,K1392,\"\")","v":""}]
["2023-08-04","Alejandro Castanon Diaz","Administrativo - ACD","01m",null,"18:50:00","18:52:00",0.98,0,1.6666666666666666E-2,33.966666666666676,{"$f":"IF(COUNTIF(K$1:K1393,K1393)=1,K1393,\"\")","v":""}]
["2023-08-04","Alejandro Castanon Diaz","Administrativo - ACD","2s",null,"19:08:00","19:08:00",0.02,0,0,33.966666666666676,{"$f":"IF(COUNTIF(K$1:K1394,K1394)=1,K1394,\"\")","v":""}]
["2023-08-04","Alejandro Castanon Diaz","Administrativo - ACD","01m",null,"20:58:00","21:05:00",1.06,0,1.6666666666666666E-2,33.966666666666676,{"$f":"IF(COUNTIF(K$1:K1395,K1395)=1,K1395,\"\")","v":""}]
["2023-08-04","Alejandro Castanon Diaz","Terminado","2s",null,"21:03:00","21:03:00",0.02,0,0,0,{"$f":"IF(COUNTIF(K$1:K1396,K1396)=1,K1396,\"\")","v":""}]
["2023-08-04","Alejandro Castanon Diaz","Alejandro Disidentes - Sixbell","50s",null,"21:07:00","21:08:00",0.53,0,0,2.2666666666666666,{"$f":"IF(COUNTIF(K$1:K1397,K1397)=1,K1397,\"\")","v":""}]
["2023-08-04","Alejandro Castanon Diaz","Tiempo Libre - ACD","14m",null,"21:08:00","21:25:00",9.14,0,0.23333333333333334,4.5166666666666657,{"$f":"IF(COUNTIF(K$1:K1398,K1398)=1,K1398,\"\")","v":""}]
["2023-08-05","Alejandro Castanon Diaz","Bjorn Sueco - Nordic foods 2nd round","0s",null,"08:00:00","08:00:00",0,0,0,2.083333333333333,{"$f":"IF(COUNTIF(K$1:K1399,K1399)=1,K1399,\"\")","v":""}]
["2023-08-05","Alejandro Castanon Diaz","Administrativo - ACD","55m",null,"11:17:00","12:57:00",35.36,0,0.91666666666666663,33.966666666666676,{"$f":"IF(COUNTIF(K$1:K1400,K1400)=1,K1400,\"\")","v":""}]
["2023-08-05","Alejandro Castanon Diaz","Viv Freelancer - Fourdle game","18m",null,"11:19:00","11:39:00",11.73,0,0.3,0,{"$f":"IF(COUNTIF(K$1:K1401,K1401)=1,K1401,\"\")","v":""}]
["2023-08-05","Alejandro Castanon Diaz","Terminado","11s",null,"11:37:00","11:39:00",0.12,0,0,0,{"$f":"IF(COUNTIF(K$1:K1402,K1402)=1,K1402,\"\")","v":""}]
["2023-08-05","Alejandro Castanon Diaz","Viv Freelancer - Fourdle game","05m",null,"12:10:00","12:16:00",3.24,0,8.3333333333333329E-2,0,{"$f":"IF(COUNTIF(K$1:K1403,K1403)=1,K1403,\"\")","v":""}]
["2023-08-05","Alejandro Castanon Diaz","Viv Freelancer - Fourdle game","01m",null,"12:32:00","12:37:00",1.1299999999999999,0,1.6666666666666666E-2,0,{"$f":"IF(COUNTIF(K$1:K1404,K1404)=1,K1404,\"\")","v":""}]
["2023-08-05","Alejandro Castanon Diaz","Terminado","14m",null,"12:38:00","13:00:00",8.99,0,0.23333333333333334,0,{"$f":"IF(COUNTIF(K$1:K1405,K1405)=1,K1405,\"\")","v":""}]
["2023-08-05","Alejandro Castanon Diaz","Viv Freelancer - Fourdle game","18m",null,"12:55:00","13:24:00",11.62,0,0.3,0,{"$f":"IF(COUNTIF(K$1:K1406,K1406)=1,K1406,\"\")","v":""}]
["2023-08-05","Alejandro Castanon Diaz","Administrativo - ACD","09m",null,"13:09:00","13:39:00",6.32,0,0.15,33.966666666666676,{"$f":"IF(COUNTIF(K$1:K1407,K1407)=1,K1407,\"\")","v":""}]
["2023-08-05","Alejandro Castanon Diaz","Terminado","1h 03m",null,"13:26:00","14:34:00",40.08,0,1.05,0,{"$f":"IF(COUNTIF(K$1:K1408,K1408)=1,K1408,\"\")","v":""}]
["2023-08-05","Alejandro Castanon Diaz","Nick Advizee - fijo","02m",null,"13:26:00","13:28:00",1.58,0,3.3333333333333333E-2,4.5333333333333332,{"$f":"IF(COUNTIF(K$1:K1409,K1409)=1,K1409,\"\")","v":""}]
["2023-08-05","Alejandro Castanon Diaz","Terminado","5s",null,"16:37:00","16:37:00",0.05,0,0,{"$f":"SUMIFS(J:J,C:C,C1410,A:A,\">\"&$S$4)","v":0},{"$f":"IF(COUNTIF(K$1:K1410,K1410)=1,K1410,\"\")","v":""}]
["2023-08-05","Alejandro Castanon Diaz","Administrativo - ACD","32m",null,"16:37:00","17:22:00",20.74,0,{"$f":"IF(D1411=\"\",\"\",IF(ISERROR(FIND(\"s\",D1411)),IF(ISERROR(FIND(\"h \",D1411)),LEFT(D1411,2)/60,   LEFT(D1411,FIND(\"h \",D1411)-1 )+LEFT(RIGHT(D1411,3),2)/60   ),0))","v":0.53333333333333333},33.966666666666676,{"$f":"IF(COUNTIF(K$1:K1411,K1411)=1,K1411,\"\")","v":""}]
["2023-08-05","Alejandro Castanon Diaz","Hostings - ACD","03m",null,"16:49:00","16:55:00",1.93,0,0.05,2.4499999999999993,{"$f":"IF(COUNTIF(K$1:K1412,K1412)=1,K1412,\"\")","v":""}]
["2023-08-05","Alejandro Castanon Diaz","Terminado","57m",null,"17:05:00","18:37:00",36.1,0,0.95,0,{"$f":"IF(COUNTIF(K$1:K1413,K1413)=1,K1413,\"\")","v":""}]
["2023-08-05","Alejandro Castanon Diaz","Viv Freelancer - Fourdle game","01m",null,"17:16:00","17:19:00",0.78,0,1.6666666666666666E-2,0,{"$f":"IF(COUNTIF(K$1:K1414,K1414)=1,K1414,\"\")","v":""}]
["2023-08-05","Alejandro Castanon Diaz","Terminado","02m",null,"17:19:00","17:21:00",1.59,0,3.3333333333333333E-2,0,{"$f":"IF(COUNTIF(K$1:K1415,K1415)=1,K1415,\"\")","v":""}]
["2023-08-05","Alejandro Castanon Diaz","Administrativo - ACD","01m",null,"17:52:00","17:53:00",0.67,0,1.6666666666666666E-2,33.966666666666676,{"$f":"IF(COUNTIF(K$1:K1416,K1416)=1,K1416,\"\")","v":""}]
["2023-08-05","Alejandro Castanon Diaz","Administrativo - ACD","24m",null,"18:08:00","18:41:00",15.73,0,0.4,33.966666666666676,{"$f":"IF(COUNTIF(K$1:K1417,K1417)=1,K1417,\"\")","v":""}]
["2023-08-05","Alejandro Castanon Diaz","Terminado","35s",null,"18:38:00","18:41:00",0.37,0,0,0,{"$f":"IF(COUNTIF(K$1:K1418,K1418)=1,K1418,\"\")","v":""}]
["2023-08-05","Alejandro Castanon Diaz","Hostings - ACD","01m",null,"18:39:00","18:41:00",0.72,0,1.6666666666666666E-2,2.4499999999999993,{"$f":"IF(COUNTIF(K$1:K1419,K1419)=1,K1419,\"\")","v":""}]
["2023-08-06","Alejandro Castanon Diaz","Bjorn Sueco - Nordic foods 2nd round","0s",null,"08:00:00","08:00:00",0,0,0,2.083333333333333,{"$f":"IF(COUNTIF(K$1:K1420,K1420)=1,K1420,\"\")","v":""}]
["2023-08-07","Alejandro Castanon Diaz","Administrativo - ACD","1h 13m",null,"12:23:00","14:31:00",46.49,0,1.2166666666666668,33.966666666666676,{"$f":"IF(COUNTIF(K$1:K1421,K1421)=1,K1421,\"\")","v":""}]
["2023-08-07","Alejandro Castanon Diaz","Tiempo Libre - ACD","42s",null,"12:28:00","12:29:00",0.44,0,0,4.5166666666666657,{"$f":"IF(COUNTIF(K$1:K1422,K1422)=1,K1422,\"\")","v":""}]
["2023-08-07","Alejandro Castanon Diaz","Terminado","13s",null,"12:30:00","12:30:00",0.14000000000000001,0,0,0,{"$f":"IF(COUNTIF(K$1:K1423,K1423)=1,K1423,\"\")","v":""}]
["2023-08-07","Alejandro Castanon Diaz","Terminado","05m",null,"12:43:00","13:20:00",3.43,0,8.3333333333333329E-2,0,{"$f":"IF(COUNTIF(K$1:K1424,K1424)=1,K1424,\"\")","v":""}]
["2023-08-07","Alejandro Castanon Diaz","Viv Freelancer - Fourdle game","01m",null,"12:43:00","12:48:00",0.9,0,1.6666666666666666E-2,0,{"$f":"IF(COUNTIF(K$1:K1425,K1425)=1,K1425,\"\")","v":""}]
["2023-08-07","Alejandro Castanon Diaz","Nick Advizee - fijo","02m",null,"12:53:00","12:55:00",1.41,0,3.3333333333333333E-2,4.5333333333333332,{"$f":"IF(COUNTIF(K$1:K1426,K1426)=1,K1426,\"\")","v":""}]
["2023-08-07","Alejandro Castanon Diaz","Terminado","6s",null,"13:16:00","13:20:00",0.06,0,0,0,{"$f":"IF(COUNTIF(K$1:K1427,K1427)=1,K1427,\"\")","v":""}]
["2023-08-07","Alejandro Castanon Diaz","Faby - LB Logistics","13m",null,"13:20:00","13:49:00",8.4700000000000006,0,0.21666666666666667,0,{"$f":"IF(COUNTIF(K$1:K1428,K1428)=1,K1428,\"\")","v":""}]
["2023-08-07","Alejandro Castanon Diaz","Hostings - ACD","02m",null,"13:21:00","13:30:00",1.29,0,3.3333333333333333E-2,2.4499999999999993,{"$f":"IF(COUNTIF(K$1:K1429,K1429)=1,K1429,\"\")","v":""}]
["2023-08-07","Alejandro Castanon Diaz","Tiempo Libre - ACD","11s",null,"13:28:00","13:28:00",0.12,0,0,4.5166666666666657,{"$f":"IF(COUNTIF(K$1:K1430,K1430)=1,K1430,\"\")","v":""}]
["2023-08-07","Alejandro Castanon Diaz","Terminado","05m",null,"13:50:00","14:03:00",3.78,0,8.3333333333333329E-2,0,{"$f":"IF(COUNTIF(K$1:K1431,K1431)=1,K1431,\"\")","v":""}]
["2023-08-07","Alejandro Castanon Diaz","Tiempo Libre - ACD","8s",null,"13:58:00","14:00:00",0.08,0,0,4.5166666666666657,{"$f":"IF(COUNTIF(K$1:K1432,K1432)=1,K1432,\"\")","v":""}]
["2023-08-07","Alejandro Castanon Diaz","Faby - LB Logistics","01m",null,"14:00:00","14:02:00",1.19,0,1.6666666666666666E-2,0,{"$f":"IF(COUNTIF(K$1:K1433,K1433)=1,K1433,\"\")","v":""}]
["2023-08-07","Alejandro Castanon Diaz","Steve 5 10 - Página personal protfolio","33m",null,"14:03:00","14:45:00",21.23,0,0.55000000000000004,1.0333333333333332,{"$f":"IF(COUNTIF(K$1:K1434,K1434)=1,K1434,\"\")","v":""}]
["2023-08-07","Alejandro Castanon Diaz","Steve 5 10 - Página personal protfolio","2s",null,"16:36:00","16:36:00",0.02,0,0,1.0333333333333332,{"$f":"IF(COUNTIF(K$1:K1435,K1435)=1,K1435,\"\")","v":""}]
["2023-08-07","Alejandro Castanon Diaz","Administrativo - ACD","01m",null,"16:36:00","16:37:00",0.71,0,1.6666666666666666E-2,33.966666666666676,{"$f":"IF(COUNTIF(K$1:K1436,K1436)=1,K1436,\"\")","v":""}]
["2023-08-07","Alejandro Castanon Diaz","Nick Advizee - fijo","53m",null,"16:37:00","18:05:00",33.58,0,0.8833333333333333,4.5333333333333332,{"$f":"IF(COUNTIF(K$1:K1437,K1437)=1,K1437,\"\")","v":""}]
["2023-08-07","Alejandro Castanon Diaz","Administrativo - ACD","55s",null,"16:55:00","16:56:00",0.57999999999999996,0,0,33.966666666666676,{"$f":"IF(COUNTIF(K$1:K1438,K1438)=1,K1438,\"\")","v":""}]
["2023-08-07","Alejandro Castanon Diaz","Steve 5 10 - Página personal protfolio","01m",null,"17:00:00","17:01:00",0.79,0,1.6666666666666666E-2,1.0333333333333332,{"$f":"IF(COUNTIF(K$1:K1439,K1439)=1,K1439,\"\")","v":""}]
["2023-08-07","Alejandro Castanon Diaz","Administrativo - ACD","05m",null,"17:07:00","17:14:00",3.26,0,8.3333333333333329E-2,33.966666666666676,{"$f":"IF(COUNTIF(K$1:K1440,K1440)=1,K1440,\"\")","v":""}]
["2023-08-07","Alejandro Castanon Diaz","Administrativo - ACD","1h 07m",null,"17:24:00","19:54:00",43.01,0,1.1166666666666667,33.966666666666676,{"$f":"IF(COUNTIF(K$1:K1441,K1441)=1,K1441,\"\")","v":""}]
["2023-08-07","Alejandro Castanon Diaz","Faby - Crawler Farmakosto","10s",null,"17:28:00","17:28:00",0.11,0,0,5.5333333333333323,{"$f":"IF(COUNTIF(K$1:K1442,K1442)=1,K1442,\"\")","v":""}]
["2023-08-07","Alejandro Castanon Diaz","Tiempo Libre - ACD","01m",null,"17:37:00","17:39:00",0.96,0,1.6666666666666666E-2,4.5166666666666657,{"$f":"IF(COUNTIF(K$1:K1443,K1443)=1,K1443,\"\")","v":""}]
["2023-08-07","Alejandro Castanon Diaz","Steve 5 10 - Página personal protfolio","52s",null,"17:52:00","17:53:00",0.55000000000000004,0,0,1.0333333333333332,{"$f":"IF(COUNTIF(K$1:K1444,K1444)=1,K1444,\"\")","v":""}]
["2023-08-07","Alejandro Castanon Diaz","Steve 5 10 - Página personal protfolio","2s",null,"18:05:00","18:05:00",0.02,0,0,1.0333333333333332,{"$f":"IF(COUNTIF(K$1:K1445,K1445)=1,K1445,\"\")","v":""}]
["2023-08-07","Alejandro Castanon Diaz","Tiempo Libre - ACD","24s",null,"18:08:00","18:09:00",0.25,0,0,4.5166666666666657,{"$f":"IF(COUNTIF(K$1:K1446,K1446)=1,K1446,\"\")","v":""}]
["2023-08-07","Alejandro Castanon Diaz","Steve 5 10 - Página personal protfolio","34m",null,"18:17:00","19:14:00",21.7,0,0.56666666666666665,1.0333333333333332,{"$f":"IF(COUNTIF(K$1:K1447,K1447)=1,K1447,\"\")","v":""}]
["2023-08-07","Alejandro Castanon Diaz","Tiempo Libre - ACD","14s",null,"18:42:00","18:42:00",0.15,0,0,4.5166666666666657,{"$f":"IF(COUNTIF(K$1:K1448,K1448)=1,K1448,\"\")","v":""}]
["2023-08-07","Alejandro Castanon Diaz","Terminado","45m",null,"19:15:00","20:09:00",29.08,0,0.75,0,{"$f":"IF(COUNTIF(K$1:K1449,K1449)=1,K1449,\"\")","v":""}]
["2023-08-07","Alejandro Castanon Diaz","Nick Advizee - fijo","2s",null,"19:16:00","19:16:00",0.02,0,0,4.5333333333333332,{"$f":"IF(COUNTIF(K$1:K1450,K1450)=1,K1450,\"\")","v":""}]
["2023-08-07","Alejandro Castanon Diaz","Administrativo - ACD","01m",null,"20:06:00","20:11:00",1.1100000000000001,0,1.6666666666666666E-2,33.966666666666676,{"$f":"IF(COUNTIF(K$1:K1451,K1451)=1,K1451,\"\")","v":""}]
["2023-08-07","Alejandro Castanon Diaz","Steve 5 10 - Página personal protfolio","13m",null,"20:11:00","20:25:00",8.49,0,0.21666666666666667,1.0333333333333332,{"$f":"IF(COUNTIF(K$1:K1452,K1452)=1,K1452,\"\")","v":""}]
["2023-08-07","Alejandro Castanon Diaz","Tiempo Libre - ACD","23s",null,"20:12:00","20:12:00",0.24,0,0,4.5166666666666657,{"$f":"IF(COUNTIF(K$1:K1453,K1453)=1,K1453,\"\")","v":""}]
["2023-08-07","Alejandro Castanon Diaz","Administrativo - ACD","05m",null,"20:24:00","20:34:00",3.35,0,8.3333333333333329E-2,33.966666666666676,{"$f":"IF(COUNTIF(K$1:K1454,K1454)=1,K1454,\"\")","v":""}]
["2023-08-07","Alejandro Castanon Diaz","Nick Advizee - fijo","12s",null,"20:24:00","20:28:00",0.13,0,0,4.5333333333333332,{"$f":"IF(COUNTIF(K$1:K1455,K1455)=1,K1455,\"\")","v":""}]
["2023-08-07","Alejandro Castanon Diaz","Terminado","2s",null,"20:26:00","20:26:00",0.02,0,0,0,{"$f":"IF(COUNTIF(K$1:K1456,K1456)=1,K1456,\"\")","v":""}]
["2023-08-07","Alejandro Castanon Diaz","Terminado","27m",null,"20:28:00","20:57:00",17.239999999999998,0,0.45,0,{"$f":"IF(COUNTIF(K$1:K1457,K1457)=1,K1457,\"\")","v":""}]
["2023-08-07","Alejandro Castanon Diaz","Terminado","1h 00m",null,"22:27:00","23:30:00",38.619999999999997,0,1,0,{"$f":"IF(COUNTIF(K$1:K1458,K1458)=1,K1458,\"\")","v":""}]
["2023-08-07","Alejandro Castanon Diaz","Administrativo - ACD","19s",null,"22:50:00","22:50:00",0.2,0,0,33.966666666666676,{"$f":"IF(COUNTIF(K$1:K1459,K1459)=1,K1459,\"\")","v":""}]
["2023-08-07","Alejandro Castanon Diaz","Administrativo - ACD","10m",null,"23:26:00","23:40:00",6.79,0,0.16666666666666666,33.966666666666676,{"$f":"IF(COUNTIF(K$1:K1460,K1460)=1,K1460,\"\")","v":""}]
["2023-08-07","Alejandro Castanon Diaz","Viv Freelancer - Fourdle game","24s",null,"23:32:00","23:34:00",0.25,0,0,0,{"$f":"IF(COUNTIF(K$1:K1461,K1461)=1,K1461,\"\")","v":""}]
["2023-08-07","Alejandro Castanon Diaz","Terminado","38s",null,"23:33:00","23:34:00",0.4,0,0,0,{"$f":"IF(COUNTIF(K$1:K1462,K1462)=1,K1462,\"\")","v":""}]
["2023-08-07","Alejandro Castanon Diaz","Tiempo Libre - ACD","21s",null,"23:54:00","23:54:00",0.22,0,0,4.5166666666666657,{"$f":"IF(COUNTIF(K$1:K1463,K1463)=1,K1463,\"\")","v":""}]
["2023-08-07","Alejandro Castanon Diaz","Administrativo - ACD","01m",null,"23:54:00","23:55:00",0.84,0,1.6666666666666666E-2,33.966666666666676,{"$f":"IF(COUNTIF(K$1:K1464,K1464)=1,K1464,\"\")","v":""}]
["2023-08-07","Alejandro Castanon Diaz","Thomas Ferdinand - Website","03m",null,"23:55:00","23:59:00",2.04,0,0.05,0,{"$f":"IF(COUNTIF(K$1:K1465,K1465)=1,K1465,\"\")","v":""}]
["2023-08-08","Alejandro Castanon Diaz","Administrativo - ACD","16s",null,"10:02:00","10:04:00",0.17,0,0,33.966666666666676,{"$f":"IF(COUNTIF(K$1:K1466,K1466)=1,K1466,\"\")","v":""}]
["2023-08-08","Alejandro Castanon Diaz","Thomas Ferdinand - Website","03m",null,"10:02:00","10:06:00",2.52,0,0.05,0,{"$f":"IF(COUNTIF(K$1:K1467,K1467)=1,K1467,\"\")","v":""}]
["2023-08-08","Alejandro Castanon Diaz","Thomas Ferdinand - Website","51s",null,"11:27:00","11:28:00",0.54,0,0,0,{"$f":"IF(COUNTIF(K$1:K1468,K1468)=1,K1468,\"\")","v":""}]
["2023-08-08","Alejandro Castanon Diaz","Administrativo - ACD","1h 12m",null,"12:22:00","14:39:00",45.85,0,1.2,33.966666666666676,{"$f":"IF(COUNTIF(K$1:K1469,K1469)=1,K1469,\"\")","v":""}]
["2023-08-08","Alejandro Castanon Diaz","Thomas Ferdinand - Website","11m",null,"12:22:00","12:45:00",7.43,0,0.18333333333333332,0,{"$f":"IF(COUNTIF(K$1:K1470,K1470)=1,K1470,\"\")","v":""}]
["2023-08-08","Alejandro Castanon Diaz","Paul Freelancer - Coinbase API site","18m",null,"12:45:00","13:29:00",11.51,0,0.3,0,{"$f":"IF(COUNTIF(K$1:K1471,K1471)=1,K1471,\"\")","v":""}]
["2023-08-08","Alejandro Castanon Diaz","Viv Freelancer - Fourdle game","48s",null,"12:55:00","12:56:00",0.51,0,0,0,{"$f":"IF(COUNTIF(K$1:K1472,K1472)=1,K1472,\"\")","v":""}]
["2023-08-08","Alejandro Castanon Diaz","Thomas Ferdinand - Website","1h 07m",null,"13:00:00","15:08:00",42.44,0,1.1166666666666667,0,{"$f":"IF(COUNTIF(K$1:K1473,K1473)=1,K1473,\"\")","v":""}]
["2023-08-08","Alejandro Castanon Diaz","Viv Freelancer - Fourdle game","01m",null,"13:37:00","13:38:00",0.84,0,1.6666666666666666E-2,{"$f":"SUMIFS(J:J,C:C,C1474,A:A,\">\"&$S$4)","v":0},{"$f":"IF(COUNTIF(K$1:K1474,K1474)=1,K1474,\"\")","v":""}]
["2023-08-08","Alejandro Castanon Diaz","Viv Freelancer - Fourdle game","01m",null,"14:01:00","14:05:00",0.94,0,{"$f":"IF(D1475=\"\",\"\",IF(ISERROR(FIND(\"s\",D1475)),IF(ISERROR(FIND(\"h \",D1475)),LEFT(D1475,2)/60,   LEFT(D1475,FIND(\"h \",D1475)-1 )+LEFT(RIGHT(D1475,3),2)/60   ),0))","v":1.6666666666666666E-2},0,{"$f":"IF(COUNTIF(K$1:K1475,K1475)=1,K1475,\"\")","v":""}]
["2023-08-08","Alejandro Castanon Diaz","Steve 5 10 - Página personal protfolio","14s",null,"14:22:00","14:23:00",0.15,0,0,1.0333333333333332,{"$f":"IF(COUNTIF(K$1:K1476,K1476)=1,K1476,\"\")","v":""}]
["2023-08-08","Alejandro Castanon Diaz","Administrativo - ACD","22m",null,"14:49:00","15:24:00",14.06,0,0.36666666666666664,33.966666666666676,{"$f":"IF(COUNTIF(K$1:K1477,K1477)=1,K1477,\"\")","v":""}]
["2023-08-08","Alejandro Castanon Diaz","Bjorn Sueco - Nordic foods 2nd round","02m",null,"15:08:00","15:11:00",1.46,0,3.3333333333333333E-2,2.083333333333333,{"$f":"IF(COUNTIF(K$1:K1478,K1478)=1,K1478,\"\")","v":""}]
["2023-08-08","Alejandro Castanon Diaz","Administrativo - ACD","50m",null,"15:48:00","17:13:00",31.9,0,0.83333333333333337,33.966666666666676,{"$f":"IF(COUNTIF(K$1:K1479,K1479)=1,K1479,\"\")","v":""}]
["2023-08-08","Alejandro Castanon Diaz","Bjorn Sueco - Nordic foods 2nd round","03m",null,"15:49:00","15:53:00",2.2200000000000002,0,0.05,2.083333333333333,{"$f":"IF(COUNTIF(K$1:K1480,K1480)=1,K1480,\"\")","v":""}]
["2023-08-08","Alejandro Castanon Diaz","Thomas Ferdinand - Website","34m",null,"15:49:00","16:49:00",22.08,0,0.56666666666666665,0,{"$f":"IF(COUNTIF(K$1:K1481,K1481)=1,K1481,\"\")","v":""}]
["2023-08-08","Alejandro Castanon Diaz","Bjorn Sueco - Nordic foods 2nd round","28s",null,"16:03:00","16:17:00",0.3,0,0,2.083333333333333,{"$f":"IF(COUNTIF(K$1:K1482,K1482)=1,K1482,\"\")","v":""}]
["2023-08-08","Alejandro Castanon Diaz","Paul Freelancer - Coinbase API site","01m",null,"17:08:00","17:10:00",1.19,0,1.6666666666666666E-2,0,{"$f":"IF(COUNTIF(K$1:K1483,K1483)=1,K1483,\"\")","v":""}]
["2023-08-08","Alejandro Castanon Diaz","Steve 5 10 - Página personal protfolio","01m",null,"17:10:00","17:12:00",1.08,0,1.6666666666666666E-2,1.0333333333333332,{"$f":"IF(COUNTIF(K$1:K1484,K1484)=1,K1484,\"\")","v":""}]
["2023-08-08","Alejandro Castanon Diaz","Administrativo - ACD","25m",null,"20:28:00","20:54:00",16.16,0,0.41666666666666669,33.966666666666676,{"$f":"IF(COUNTIF(K$1:K1485,K1485)=1,K1485,\"\")","v":""}]
["2023-08-09","Alejandro Castanon Diaz","Administrativo - ACD","10m",null,"09:52:00","10:11:00",6.38,0,0.16666666666666666,33.966666666666676,{"$f":"IF(COUNTIF(K$1:K1486,K1486)=1,K1486,\"\")","v":""}]
["2023-08-09","Alejandro Castanon Diaz","Administrativo - ACD","3h 05m",null,"10:22:00","14:21:00",117.6,0,3.0833333333333335,33.966666666666676,{"$f":"IF(COUNTIF(K$1:K1487,K1487)=1,K1487,\"\")","v":""}]
["2023-08-09","Alejandro Castanon Diaz","Faby - Crawler Farmakosto","20s",null,"10:38:00","10:42:00",0.21,0,0,5.5333333333333323,{"$f":"IF(COUNTIF(K$1:K1488,K1488)=1,K1488,\"\")","v":""}]
["2023-08-09","Alejandro Castanon Diaz","Juan Freelancer - Maquetar figma a html","15s",null,"10:44:00","10:44:00",0.16,0,0,0,{"$f":"IF(COUNTIF(K$1:K1489,K1489)=1,K1489,\"\")","v":""}]
["2023-08-09","Alejandro Castanon Diaz","Pablo Nanofactura - Nanofactura Factura API","25s",null,"10:54:00","10:55:00",0.26,0,0,0,{"$f":"IF(COUNTIF(K$1:K1490,K1490)=1,K1490,\"\")","v":""}]
["2023-08-09","Alejandro Castanon Diaz","Viv Freelancer - Fourdle game","08m",null,"10:55:00","11:17:00",5.23,0,0.13333333333333333,0,{"$f":"IF(COUNTIF(K$1:K1491,K1491)=1,K1491,\"\")","v":""}]
["2023-08-09","Alejandro Castanon Diaz","Viv Freelancer - Fourdle game","3s",null,"11:29:00","11:29:00",0.03,0,0,0,{"$f":"IF(COUNTIF(K$1:K1492,K1492)=1,K1492,\"\")","v":""}]
["2023-08-09","Alejandro Castanon Diaz","Pablo Nanofactura - Nanofactura Factura API","2s",null,"11:31:00","11:31:00",0.02,0,0,0,{"$f":"IF(COUNTIF(K$1:K1493,K1493)=1,K1493,\"\")","v":""}]
["2023-08-09","Alejandro Castanon Diaz","Sam - Peters Window Hosting","6s",null,"11:31:00","11:31:00",0.06,0,0,0,{"$f":"IF(COUNTIF(K$1:K1494,K1494)=1,K1494,\"\")","v":""}]
["2023-08-09","Alejandro Castanon Diaz","Paul Freelancer - Coinbase API site","01m",null,"11:37:00","11:39:00",1.19,0,1.6666666666666666E-2,0,{"$f":"IF(COUNTIF(K$1:K1495,K1495)=1,K1495,\"\")","v":""}]
["2023-08-09","Alejandro Castanon Diaz","Viv Freelancer - Fourdle game","13s",null,"11:57:00","12:08:00",0.14000000000000001,0,0,0,{"$f":"IF(COUNTIF(K$1:K1496,K1496)=1,K1496,\"\")","v":""}]
["2023-08-09","Alejandro Castanon Diaz","Bjorn Sueco - Nordic foods 2nd round","17s",null,"12:10:00","12:20:00",0.18,0,0,2.083333333333333,{"$f":"IF(COUNTIF(K$1:K1497,K1497)=1,K1497,\"\")","v":""}]
["2023-08-09","Alejandro Castanon Diaz","Juan Freelancer - Maquetar figma a html","52s",null,"12:20:00","12:22:00",0.55000000000000004,0,0,0,{"$f":"IF(COUNTIF(K$1:K1498,K1498)=1,K1498,\"\")","v":""}]
["2023-08-09","Alejandro Castanon Diaz","Hostings - ACD","02m",null,"12:23:00","12:27:00",1.86,0,3.3333333333333333E-2,2.4499999999999993,{"$f":"IF(COUNTIF(K$1:K1499,K1499)=1,K1499,\"\")","v":""}]
["2023-08-09","Alejandro Castanon Diaz","Tiempo Libre - ACD","58s",null,"12:27:00","12:29:00",0.61,0,0,4.5166666666666657,{"$f":"IF(COUNTIF(K$1:K1500,K1500)=1,K1500,\"\")","v":""}]
["2023-08-09","Alejandro Castanon Diaz","Paul Freelancer - Coinbase API site","02m",null,"12:28:00","12:32:00",1.33,0,{"$f":"IF(D1501=\"\",\"\",IF(ISERROR(FIND(\"s\",D1501)),IF(ISERROR(FIND(\"h \",D1501)),LEFT(D1501,2)/60,   LEFT(D1501,FIND(\"h \",D1501)-1 )+LEFT(RIGHT(D1501,3),2)/60   ),0))","v":3.3333333333333333E-2},{"$f":"SUMIFS(J:J,C:C,C1501,A:A,\">\"&$S$4)","v":0},{"$f":"IF(COUNTIF(K$1:K1501,K1501)=1,K1501,\"\")","v":""}]
["2023-08-09","Alejandro Castanon Diaz","Juan Freelancer - Maquetar figma a html","02m",null,"12:33:00","12:36:00",1.75,0,3.3333333333333333E-2,0,{"$f":"IF(COUNTIF(K$1:K1502,K1502)=1,K1502,\"\")","v":""}]
["2023-08-09","Alejandro Castanon Diaz","Viv Freelancer - Fourdle game","05m",null,"12:46:00","12:56:00",3.47,0,8.3333333333333329E-2,0,{"$f":"IF(COUNTIF(K$1:K1503,K1503)=1,K1503,\"\")","v":""}]
["2023-08-09","Alejandro Castanon Diaz","Nick Advizee - fijo","08m",null,"12:56:00","13:16:00",5.0999999999999996,0,0.13333333333333333,4.5333333333333332,{"$f":"IF(COUNTIF(K$1:K1504,K1504)=1,K1504,\"\")","v":""}]
["2023-08-09","Alejandro Castanon Diaz","Juan Freelancer - Maquetar figma a html","2s",null,"13:16:00","13:16:00",0.02,0,0,0,{"$f":"IF(COUNTIF(K$1:K1505,K1505)=1,K1505,\"\")","v":""}]
["2023-08-09","Alejandro Castanon Diaz","Carlos Sanchez - rehacer chrishop.mx","01m",null,"13:21:00","13:28:00",0.93,0,1.6666666666666666E-2,0,{"$f":"IF(COUNTIF(K$1:K1506,K1506)=1,K1506,\"\")","v":""}]
["2023-08-09","Alejandro Castanon Diaz","Hostings - ACD","05m",null,"13:21:00","13:29:00",3.31,0,8.3333333333333329E-2,2.4499999999999993,{"$f":"IF(COUNTIF(K$1:K1507,K1507)=1,K1507,\"\")","v":""}]
["2023-08-09","Alejandro Castanon Diaz","Hostings - ACD","01m",null,"13:39:00","13:48:00",0.65,0,1.6666666666666666E-2,2.4499999999999993,{"$f":"IF(COUNTIF(K$1:K1508,K1508)=1,K1508,\"\")","v":""}]
["2023-08-09","Alejandro Castanon Diaz","Carlos Sanchez - rehacer chrishop.mx","17s",null,"13:40:00","13:41:00",0.18,0,0,0,{"$f":"IF(COUNTIF(K$1:K1509,K1509)=1,K1509,\"\")","v":""}]
["2023-08-09","Alejandro Castanon Diaz","Ricardo Cuerna - Fixum facturacion","03m",null,"13:48:00","13:51:00",1.92,0,0.05,5.4666666666666668,{"$f":"IF(COUNTIF(K$1:K1510,K1510)=1,K1510,\"\")","v":""}]
["2023-08-09","Alejandro Castanon Diaz","Ricardo Cuerna - Fixum facturacion","05m",null,"14:02:00","14:13:00",3.23,0,8.3333333333333329E-2,5.4666666666666668,{"$f":"IF(COUNTIF(K$1:K1511,K1511)=1,K1511,\"\")","v":""}]
["2023-08-09","Alejandro Castanon Diaz","Paul Freelancer - Coinbase API site","3s",null,"14:18:00","14:18:00",0.03,0,0,0,{"$f":"IF(COUNTIF(K$1:K1512,K1512)=1,K1512,\"\")","v":""}]
["2023-08-09","Alejandro Castanon Diaz","Faby - Crawler Farmakosto","46m",null,"14:18:00","15:09:00",29.49,0,0.76666666666666672,5.5333333333333323,{"$f":"IF(COUNTIF(K$1:K1513,K1513)=1,K1513,\"\")","v":""}]
["2023-08-09","Alejandro Castanon Diaz","Carlos Sanchez - rehacer chrishop.mx","47s",null,"14:20:00","14:21:00",0.5,0,0,0,{"$f":"IF(COUNTIF(K$1:K1514,K1514)=1,K1514,\"\")","v":""}]
["2023-08-09","Alejandro Castanon Diaz","Administrativo - ACD","02m",null,"14:43:00","14:46:00",1.65,0,3.3333333333333333E-2,33.966666666666676,{"$f":"IF(COUNTIF(K$1:K1515,K1515)=1,K1515,\"\")","v":""}]
["2023-08-09","Alejandro Castanon Diaz","Paul Freelancer - Coinbase API site","7s",null,"14:46:00","14:46:00",7.0000000000000007E-2,0,0,0,{"$f":"IF(COUNTIF(K$1:K1516,K1516)=1,K1516,\"\")","v":""}]
["2023-08-09","Alejandro Castanon Diaz","Administrativo - ACD","20m",null,"15:09:00","15:32:00",13.1,0,0.33333333333333331,33.966666666666676,{"$f":"IF(COUNTIF(K$1:K1517,K1517)=1,K1517,\"\")","v":""}]
["2023-08-09","Alejandro Castanon Diaz","Hostings - ACD","17s",null,"15:13:00","15:14:00",0.18,0,0,2.4499999999999993,{"$f":"IF(COUNTIF(K$1:K1518,K1518)=1,K1518,\"\")","v":""}]
["2023-08-09","Alejandro Castanon Diaz","Paul Freelancer - Coinbase API site","2s",null,"15:29:00","15:29:00",0.02,0,0,0,{"$f":"IF(COUNTIF(K$1:K1519,K1519)=1,K1519,\"\")","v":""}]
["2023-08-09","Alejandro Castanon Diaz","Faby - Crawler Farmakosto","02m",null,"15:29:00","15:32:00",1.28,0,3.3333333333333333E-2,5.5333333333333323,{"$f":"IF(COUNTIF(K$1:K1520,K1520)=1,K1520,\"\")","v":""}]
["2023-08-09","Alejandro Castanon Diaz","Hostings - ACD","10m",null,"15:32:00","15:51:00",6.84,0,0.16666666666666666,2.4499999999999993,{"$f":"IF(COUNTIF(K$1:K1521,K1521)=1,K1521,\"\")","v":""}]
["2023-08-09","Alejandro Castanon Diaz","Administrativo - ACD","25m",null,"15:49:00","16:18:00",16.079999999999998,0,0.41666666666666669,33.966666666666676,{"$f":"IF(COUNTIF(K$1:K1522,K1522)=1,K1522,\"\")","v":""}]
["2023-08-09","Alejandro Castanon Diaz","Hostings - ACD","02m",null,"16:04:00","16:09:00",1.4,0,3.3333333333333333E-2,2.4499999999999993,{"$f":"IF(COUNTIF(K$1:K1523,K1523)=1,K1523,\"\")","v":""}]
["2023-08-09","Alejandro Castanon Diaz","Faby - Crawler Farmakosto","54s",null,"16:11:00","16:16:00",0.56999999999999995,0,0,5.5333333333333323,{"$f":"IF(COUNTIF(K$1:K1524,K1524)=1,K1524,\"\")","v":""}]
["2023-08-09","Alejandro Castanon Diaz","Thomas Ferdinand - Website","55s",null,"19:28:00","19:32:00",0.57999999999999996,0,0,0,{"$f":"IF(COUNTIF(K$1:K1525,K1525)=1,K1525,\"\")","v":""}]
["2023-08-09","Alejandro Castanon Diaz","Faby - Crawler Farmakosto","19s",null,"19:41:00","19:41:00",0.2,0,0,5.5333333333333323,{"$f":"IF(COUNTIF(K$1:K1526,K1526)=1,K1526,\"\")","v":""}]
["2023-08-09","Alejandro Castanon Diaz","Administrativo - ACD","13s",null,"20:54:00","21:03:00",0.14000000000000001,0,0,33.966666666666676,{"$f":"IF(COUNTIF(K$1:K1527,K1527)=1,K1527,\"\")","v":""}]
["2023-08-09","Alejandro Castanon Diaz","Ricardo Cuerna - Fixum facturacion","09m",null,"20:54:00","21:03:00",5.84,0,0.15,5.4666666666666668,{"$f":"IF(COUNTIF(K$1:K1528,K1528)=1,K1528,\"\")","v":""}]
["2023-08-09","Alejandro Castanon Diaz","Tiempo Libre - ACD","4s",null,"21:03:00","21:03:00",0.04,0,0,4.5166666666666657,{"$f":"IF(COUNTIF(K$1:K1529,K1529)=1,K1529,\"\")","v":""}]
["2023-08-09","Alejandro Castanon Diaz","Administrativo - ACD","4s",null,"21:15:00","21:15:00",0.04,0,0,33.966666666666676,{"$f":"IF(COUNTIF(K$1:K1530,K1530)=1,K1530,\"\")","v":""}]
["2023-08-09","Alejandro Castanon Diaz","Ricardo Cuerna - Fixum facturacion","13m",null,"21:15:00","21:30:00",8.59,0,0.21666666666666667,5.4666666666666668,{"$f":"IF(COUNTIF(K$1:K1531,K1531)=1,K1531,\"\")","v":""}]
["2023-08-09","Alejandro Castanon Diaz","Administrativo - ACD","21s",null,"21:29:00","21:29:00",0.22,0,0,33.966666666666676,{"$f":"IF(COUNTIF(K$1:K1532,K1532)=1,K1532,\"\")","v":""}]
["2023-08-09","Alejandro Castanon Diaz","Paul Freelancer - Coinbase API site","52m",null,"21:29:00","22:32:00",32.979999999999997,0,0.8666666666666667,0,{"$f":"IF(COUNTIF(K$1:K1533,K1533)=1,K1533,\"\")","v":""}]
["2023-08-09","Alejandro Castanon Diaz","Ricardo Cuerna - Fixum facturacion","02m",null,"21:52:00","21:55:00",1.31,0,3.3333333333333333E-2,5.4666666666666668,{"$f":"IF(COUNTIF(K$1:K1534,K1534)=1,K1534,\"\")","v":""}]
["2023-08-09","Alejandro Castanon Diaz","Administrativo - ACD","2s",null,"21:56:00","21:56:00",0.02,0,0,33.966666666666676,{"$f":"IF(COUNTIF(K$1:K1535,K1535)=1,K1535,\"\")","v":""}]
["2023-08-09","Alejandro Castanon Diaz","Ricardo Cuerna - Fixum facturacion","04m",null,"22:09:00","22:14:00",2.84,0,6.6666666666666666E-2,5.4666666666666668,{"$f":"IF(COUNTIF(K$1:K1536,K1536)=1,K1536,\"\")","v":""}]
["2023-08-09","Alejandro Castanon Diaz","Administrativo - ACD","03m",null,"22:19:00","22:27:00",2.27,0,0.05,33.966666666666676,{"$f":"IF(COUNTIF(K$1:K1537,K1537)=1,K1537,\"\")","v":""}]
["2023-08-09","Alejandro Castanon Diaz","Ricardo Cuerna - Fixum facturacion","14m",null,"22:32:00","22:47:00",9.4600000000000009,0,0.23333333333333334,5.4666666666666668,{"$f":"IF(COUNTIF(K$1:K1538,K1538)=1,K1538,\"\")","v":""}]
["2023-08-09","Alejandro Castanon Diaz","Administrativo - ACD","48s",null,"22:40:00","22:47:00",0.51,0,0,33.966666666666676,{"$f":"IF(COUNTIF(K$1:K1539,K1539)=1,K1539,\"\")","v":""}]
["2023-08-09","Alejandro Castanon Diaz","Bjorn Sueco - ajustes Woo y POS","2s",null,"22:41:00","22:41:00",0.02,0,0,0,{"$f":"IF(COUNTIF(K$1:K1540,K1540)=1,K1540,\"\")","v":""}]
["2023-08-09","Alejandro Castanon Diaz","Paul Freelancer - Coinbase API site","2s",null,"22:45:00","22:45:00",0.02,0,0,0,{"$f":"IF(COUNTIF(K$1:K1541,K1541)=1,K1541,\"\")","v":""}]
["2023-08-09","Alejandro Castanon Diaz","Faby - Crawler Farmakosto","3s",null,"22:45:00","22:45:00",0.03,0,0,5.5333333333333323,{"$f":"IF(COUNTIF(K$1:K1542,K1542)=1,K1542,\"\")","v":""}]
["2023-08-09","Alejandro Castanon Diaz","Hostings - ACD","25m",null,"22:47:00","23:13:00",16.149999999999999,0,0.41666666666666669,2.4499999999999993,{"$f":"IF(COUNTIF(K$1:K1543,K1543)=1,K1543,\"\")","v":""}]
["2023-08-09","Alejandro Castanon Diaz","Administrativo - ACD","28m",null,"23:13:00","23:41:00",17.77,0,0.46666666666666667,33.966666666666676,{"$f":"IF(COUNTIF(K$1:K1544,K1544)=1,K1544,\"\")","v":""}]
["2023-08-09","Alejandro Castanon Diaz","Ricardo Cuerna - Fixum facturacion","16m",null,"23:41:00","23:59:00",10.33,0,0.26666666666666666,5.4666666666666668,{"$f":"IF(COUNTIF(K$1:K1545,K1545)=1,K1545,\"\")","v":""}]
["2023-08-09","Alejandro Castanon Diaz","Administrativo - ACD","02m",null,"23:53:00","23:59:00",1.41,0,3.3333333333333333E-2,33.966666666666676,{"$f":"IF(COUNTIF(K$1:K1546,K1546)=1,K1546,\"\")","v":""}]
["2023-08-10","Alejandro Castanon Diaz","Ricardo Cuerna - Fixum facturacion","9s",null,"00:00:00","00:05:00",0.1,0,0,5.4666666666666668,{"$f":"IF(COUNTIF(K$1:K1547,K1547)=1,K1547,\"\")","v":""}]
["2023-08-10","Alejandro Castanon Diaz","Administrativo - ACD","02m",null,"00:00:00","00:10:00",1.62,0,3.3333333333333333E-2,33.966666666666676,{"$f":"IF(COUNTIF(K$1:K1548,K1548)=1,K1548,\"\")","v":""}]
["2023-08-10","Alejandro Castanon Diaz","Faby - PMI Ame Sitio multilang","48s",null,"00:00:00","00:01:00",0.51,0,0,0,{"$f":"IF(COUNTIF(K$1:K1549,K1549)=1,K1549,\"\")","v":""}]
["2023-08-10","Alejandro Castanon Diaz","Steve 5 10 - Página personal protfolio","53s",null,"00:01:00","00:02:00",0.56000000000000005,0,0,1.0333333333333332,{"$f":"IF(COUNTIF(K$1:K1550,K1550)=1,K1550,\"\")","v":""}]
["2023-08-10","Alejandro Castanon Diaz","Hostings - ACD","01m",null,"00:02:00","00:05:00",0.74,0,1.6666666666666666E-2,2.4499999999999993,{"$f":"IF(COUNTIF(K$1:K1551,K1551)=1,K1551,\"\")","v":""}]
["2023-08-10","Alejandro Castanon Diaz","Faby - Crawler Farmakosto","04m",null,"00:04:00","00:10:00",3.05,0,6.6666666666666666E-2,5.5333333333333323,{"$f":"IF(COUNTIF(K$1:K1552,K1552)=1,K1552,\"\")","v":""}]
["2023-08-10","Alejandro Castanon Diaz","Thomas Ferdinand - Website","04m",null,"08:36:00","08:41:00",2.98,0,6.6666666666666666E-2,0,{"$f":"IF(COUNTIF(K$1:K1553,K1553)=1,K1553,\"\")","v":""}]
["2023-08-10","Alejandro Castanon Diaz","Administrativo - ACD","12m",null,"10:01:00","10:14:00",8.14,0,0.2,33.966666666666676,{"$f":"IF(COUNTIF(K$1:K1554,K1554)=1,K1554,\"\")","v":""}]
["2023-08-10","Alejandro Castanon Diaz","Nick Advizee - fijo","27s",null,"10:14:00","10:15:00",0.28999999999999998,0,0,4.5333333333333332,{"$f":"IF(COUNTIF(K$1:K1555,K1555)=1,K1555,\"\")","v":""}]
["2023-08-10","Alejandro Castanon Diaz","Administrativo - ACD","06m",null,"10:39:00","10:47:00",4.3099999999999996,0,0.1,33.966666666666676,{"$f":"IF(COUNTIF(K$1:K1556,K1556)=1,K1556,\"\")","v":""}]
["2023-08-10","Alejandro Castanon Diaz","Viv Freelancer - Fourdle game","01m",null,"10:40:00","10:42:00",1.03,0,1.6666666666666666E-2,0,{"$f":"IF(COUNTIF(K$1:K1557,K1557)=1,K1557,\"\")","v":""}]
["2023-08-10","Alejandro Castanon Diaz","Thomas Ferdinand - Website","4s",null,"10:42:00","10:42:00",0.04,0,0,0,{"$f":"IF(COUNTIF(K$1:K1558,K1558)=1,K1558,\"\")","v":""}]
["2023-08-10","Alejandro Castanon Diaz","Thomas Ferdinand - Website","24s",null,"13:39:00","13:39:00",0.25,0,0,0,{"$f":"IF(COUNTIF(K$1:K1559,K1559)=1,K1559,\"\")","v":""}]
["2023-08-10","Alejandro Castanon Diaz","Nick Advizee - fijo","21m",null,"13:39:00","14:04:00",13.89,0,0.35,4.5333333333333332,{"$f":"IF(COUNTIF(K$1:K1560,K1560)=1,K1560,\"\")","v":""}]
["2023-08-10","Alejandro Castanon Diaz","Administrativo - ACD","02m",null,"13:57:00","13:59:00",1.3,0,3.3333333333333333E-2,33.966666666666676,{"$f":"IF(COUNTIF(K$1:K1561,K1561)=1,K1561,\"\")","v":""}]
["2023-08-10","Alejandro Castanon Diaz","Viv Freelancer - Fourdle game","28m",null,"13:59:00","14:45:00",17.84,0,0.46666666666666667,0,{"$f":"IF(COUNTIF(K$1:K1562,K1562)=1,K1562,\"\")","v":""}]
["2023-08-10","Alejandro Castanon Diaz","Bjorn Sueco - Nordic foods 2nd round","2s",null,"14:09:00","14:09:00",0.02,0,0,2.083333333333333,{"$f":"IF(COUNTIF(K$1:K1563,K1563)=1,K1563,\"\")","v":""}]
["2023-08-10","Alejandro Castanon Diaz","Administrativo - ACD","24m",null,"14:10:00","14:51:00",15.44,0,0.4,33.966666666666676,{"$f":"IF(COUNTIF(K$1:K1564,K1564)=1,K1564,\"\")","v":""}]
["2023-08-10","Alejandro Castanon Diaz","Nick Advizee - fijo","05m",null,"14:17:00","14:23:00",3.21,0,{"$f":"IF(D1565=\"\",\"\",IF(ISERROR(FIND(\"s\",D1565)),IF(ISERROR(FIND(\"h \",D1565)),LEFT(D1565,2)/60,   LEFT(D1565,FIND(\"h \",D1565)-1 )+LEFT(RIGHT(D1565,3),2)/60   ),0))","v":8.3333333333333329E-2},{"$f":"SUMIFS(J:J,C:C,C1565,A:A,\">\"&$S$4)","v":4.5333333333333332},{"$f":"IF(COUNTIF(K$1:K1565,K1565)=1,K1565,\"\")","v":""}]
["2023-08-10","Alejandro Castanon Diaz","Nick Advizee - fijo","01m",null,"14:34:00","14:35:00",0.99,0,1.6666666666666666E-2,4.5333333333333332,{"$f":"IF(COUNTIF(K$1:K1566,K1566)=1,K1566,\"\")","v":""}]
["2023-08-10","Alejandro Castanon Diaz","Nick Advizee - fijo","16s",null,"14:57:00","14:57:00",0.17,0,0,4.5333333333333332,{"$f":"IF(COUNTIF(K$1:K1567,K1567)=1,K1567,\"\")","v":""}]
["2023-08-10","Alejandro Castanon Diaz","Nick Advizee - fijo","01m",null,"15:10:00","15:11:00",0.7,0,1.6666666666666666E-2,4.5333333333333332,{"$f":"IF(COUNTIF(K$1:K1568,K1568)=1,K1568,\"\")","v":""}]
["2023-08-10","Alejandro Castanon Diaz","Administrativo - ACD","02m",null,"17:40:00","17:48:00",1.78,0,3.3333333333333333E-2,33.966666666666676,{"$f":"IF(COUNTIF(K$1:K1569,K1569)=1,K1569,\"\")","v":""}]
["2023-08-10","Alejandro Castanon Diaz","Viv Freelancer - Fourdle game","11m",null,"17:42:00","17:59:00",7.49,0,0.18333333333333332,0,{"$f":"IF(COUNTIF(K$1:K1570,K1570)=1,K1570,\"\")","v":""}]
["2023-08-10","Alejandro Castanon Diaz","Nick Advizee - fijo","03m",null,"17:44:00","17:48:00",2.2000000000000002,0,0.05,4.5333333333333332,{"$f":"IF(COUNTIF(K$1:K1571,K1571)=1,K1571,\"\")","v":""}]
["2023-08-10","Alejandro Castanon Diaz","Administrativo - ACD","01m",null,"17:59:00","18:00:00",0.88,0,1.6666666666666666E-2,33.966666666666676,{"$f":"IF(COUNTIF(K$1:K1572,K1572)=1,K1572,\"\")","v":""}]
["2023-08-11","Alejandro Castanon Diaz","Administrativo - ACD","26s",null,"10:52:00","10:53:00",0.27,0,0,33.966666666666676,{"$f":"IF(COUNTIF(K$1:K1573,K1573)=1,K1573,\"\")","v":""}]
["2023-08-11","Alejandro Castanon Diaz","Nick Advizee - fijo","19m",null,"10:53:00","11:12:00",12.05,0,0.31666666666666665,4.5333333333333332,{"$f":"IF(COUNTIF(K$1:K1574,K1574)=1,K1574,\"\")","v":""}]
["2023-08-11","Alejandro Castanon Diaz","Administrativo - ACD","08m",null,"11:12:00","11:38:00",5.4,0,0.13333333333333333,33.966666666666676,{"$f":"IF(COUNTIF(K$1:K1575,K1575)=1,K1575,\"\")","v":""}]
["2023-08-11","Alejandro Castanon Diaz","Viv Freelancer - Fourdle game","18m",null,"11:13:00","11:38:00",11.62,0,0.3,0,{"$f":"IF(COUNTIF(K$1:K1576,K1576)=1,K1576,\"\")","v":""}]
["2023-08-11","Alejandro Castanon Diaz","Tiempo Libre - ACD","21m",null,"11:38:00","12:00:00",13.38,0,0.35,4.5166666666666657,{"$f":"IF(COUNTIF(K$1:K1577,K1577)=1,K1577,\"\")","v":""}]
["2023-08-11","Alejandro Castanon Diaz","Administrativo - ACD","13s",null,"11:50:00","11:50:00",0.14000000000000001,0,0,33.966666666666676,{"$f":"IF(COUNTIF(K$1:K1578,K1578)=1,K1578,\"\")","v":""}]
["2023-08-11","Alejandro Castanon Diaz","Viv Freelancer - Fourdle game","19m",null,"12:00:00","12:28:00",12.4,0,0.31666666666666665,0,{"$f":"IF(COUNTIF(K$1:K1579,K1579)=1,K1579,\"\")","v":""}]
["2023-08-11","Alejandro Castanon Diaz","Administrativo - ACD","08m",null,"12:02:00","12:28:00",5.62,0,0.13333333333333333,33.966666666666676,{"$f":"IF(COUNTIF(K$1:K1580,K1580)=1,K1580,\"\")","v":""}]
["2023-08-11","Alejandro Castanon Diaz","Tiempo Libre - ACD","9s",null,"12:12:00","12:18:00",0.1,0,0,4.5166666666666657,{"$f":"IF(COUNTIF(K$1:K1581,K1581)=1,K1581,\"\")","v":""}]
["2023-08-14","Alejandro Castanon Diaz","Administrativo - ACD","18m",null,"11:24:00","11:48:00",11.81,0,0.3,33.966666666666676,{"$f":"IF(COUNTIF(K$1:K1582,K1582)=1,K1582,\"\")","v":""}]
["2023-08-14","Alejandro Castanon Diaz","Nick Advizee - fijo","7s",null,"11:24:00","11:24:00",7.0000000000000007E-2,0,0,4.5333333333333332,{"$f":"IF(COUNTIF(K$1:K1583,K1583)=1,K1583,\"\")","v":""}]
["2023-08-14","Alejandro Castanon Diaz","Tiempo Libre - ACD","01m",null,"11:24:00","11:28:00",0.9,0,1.6666666666666666E-2,4.5166666666666657,{"$f":"IF(COUNTIF(K$1:K1584,K1584)=1,K1584,\"\")","v":""}]
["2023-08-14","Alejandro Castanon Diaz","Nick Advizee - fijo","41m",null,"11:41:00","12:36:00",26.05,0,0.68333333333333335,4.5333333333333332,{"$f":"IF(COUNTIF(K$1:K1585,K1585)=1,K1585,\"\")","v":""}]
["2023-08-14","Alejandro Castanon Diaz","Administrativo - ACD","52m",null,"12:26:00","14:34:00",33.479999999999997,0,0.8666666666666667,33.966666666666676,{"$f":"IF(COUNTIF(K$1:K1586,K1586)=1,K1586,\"\")","v":""}]
["2023-08-14","Alejandro Castanon Diaz","Ricardo Cuerna - Fixum facturacion","01m",null,"12:37:00","12:38:00",0.8,0,1.6666666666666666E-2,5.4666666666666668,{"$f":"IF(COUNTIF(K$1:K1587,K1587)=1,K1587,\"\")","v":""}]
["2023-08-14","Alejandro Castanon Diaz","Paul Freelancer - Coinbase API site","01m",null,"12:40:00","12:41:00",0.79,0,1.6666666666666666E-2,0,{"$f":"IF(COUNTIF(K$1:K1588,K1588)=1,K1588,\"\")","v":""}]
["2023-08-14","Alejandro Castanon Diaz","Tiempo Libre - ACD","19s",null,"13:06:00","13:06:00",0.2,0,0,4.5166666666666657,{"$f":"IF(COUNTIF(K$1:K1589,K1589)=1,K1589,\"\")","v":""}]
["2023-08-14","Alejandro Castanon Diaz","Paul Freelancer - Coinbase API site","7s",null,"13:06:00","13:06:00",7.0000000000000007E-2,0,0,0,{"$f":"IF(COUNTIF(K$1:K1590,K1590)=1,K1590,\"\")","v":""}]
["2023-08-14","Alejandro Castanon Diaz","Faby - Crawler Farmakosto","30s",null,"13:08:00","13:12:00",0.32,0,0,5.5333333333333323,{"$f":"IF(COUNTIF(K$1:K1591,K1591)=1,K1591,\"\")","v":""}]
["2023-08-14","Alejandro Castanon Diaz","Paul Freelancer - 2nd round crypto website","13s",null,"13:08:00","13:10:00",0.14000000000000001,0,0,0.3,{"$f":"IF(COUNTIF(K$1:K1592,K1592)=1,K1592,\"\")","v":0.3}]
["2023-08-14","Alejandro Castanon Diaz","Steve 5 10 - Página personal protfolio","7s",null,"13:08:00","13:08:00",7.0000000000000007E-2,0,0,1.0333333333333332,{"$f":"IF(COUNTIF(K$1:K1593,K1593)=1,K1593,\"\")","v":""}]
["2023-08-14","Alejandro Castanon Diaz","Faby - PMI Ame Sitio multilang","9s",null,"13:08:00","13:08:00",0.1,0,0,0,{"$f":"IF(COUNTIF(K$1:K1594,K1594)=1,K1594,\"\")","v":""}]
["2023-08-14","Alejandro Castanon Diaz","Juan Freelancer - Landing y cambios web","52s",null,"13:09:00","13:19:00",0.55000000000000004,0,0,0,{"$f":"IF(COUNTIF(K$1:K1595,K1595)=1,K1595,\"\")","v":""}]
["2023-08-14","Alejandro Castanon Diaz","Viv Freelancer - 5 column filter","14s",null,"13:10:00","13:10:00",0.15,0,0,0.1,{"$f":"IF(COUNTIF(K$1:K1596,K1596)=1,K1596,\"\")","v":0.1}]
["2023-08-14","Alejandro Castanon Diaz","Tiempo Libre - ACD","07m",null,"13:18:00","13:43:00",4.75,0,0.11666666666666667,4.5166666666666657,{"$f":"IF(COUNTIF(K$1:K1597,K1597)=1,K1597,\"\")","v":""}]
["2023-08-14","Alejandro Castanon Diaz","Faby - Crawler Farmakosto","7s",null,"13:27:00","13:27:00",7.0000000000000007E-2,0,0,5.5333333333333323,{"$f":"IF(COUNTIF(K$1:K1598,K1598)=1,K1598,\"\")","v":""}]
["2023-08-14","Alejandro Castanon Diaz","Paul Freelancer - 2nd round crypto website","1h 27m",null,"13:30:00","15:07:00",55.32,0,1.45,0.3,{"$f":"IF(COUNTIF(K$1:K1599,K1599)=1,K1599,\"\")","v":""}]
["2023-08-14","Alejandro Castanon Diaz","Ricardo Cuerna - Fixum facturacion","3s",null,"13:31:00","13:31:00",0.03,0,0,5.4666666666666668,{"$f":"IF(COUNTIF(K$1:K1600,K1600)=1,K1600,\"\")","v":""}]
["2023-08-14","Alejandro Castanon Diaz","Juan Freelancer - Landing y cambios web","5s",null,"13:51:00","13:51:00",0.05,0,0,0,{"$f":"IF(COUNTIF(K$1:K1601,K1601)=1,K1601,\"\")","v":""}]
["2023-08-14","Alejandro Castanon Diaz","Administrativo - ACD","02m",null,"14:50:00","15:14:00",1.29,0,3.3333333333333333E-2,33.966666666666676,{"$f":"IF(COUNTIF(K$1:K1602,K1602)=1,K1602,\"\")","v":""}]
["2023-08-14","Alejandro Castanon Diaz","Ricardo Cuerna - Fixum facturacion","11m",null,"15:07:00","15:19:00",6.97,0,0.18333333333333332,5.4666666666666668,{"$f":"IF(COUNTIF(K$1:K1603,K1603)=1,K1603,\"\")","v":""}]
["2023-08-14","Alejandro Castanon Diaz","Ricardo Cuerna - Fixum facturacion","44m",null,"19:02:00","19:52:00",28.13,0,0.73333333333333328,5.4666666666666668,{"$f":"IF(COUNTIF(K$1:K1604,K1604)=1,K1604,\"\")","v":""}]
["2023-08-14","Alejandro Castanon Diaz","Administrativo - ACD","01m",null,"19:16:00","19:19:00",0.72,0,1.6666666666666666E-2,33.966666666666676,{"$f":"IF(COUNTIF(K$1:K1605,K1605)=1,K1605,\"\")","v":""}]
["2023-08-14","Alejandro Castanon Diaz","Administrativo - ACD","14m",null,"19:47:00","20:02:00",9.1199999999999992,0,0.23333333333333334,33.966666666666676,{"$f":"IF(COUNTIF(K$1:K1606,K1606)=1,K1606,\"\")","v":""}]
["2023-08-14","Alejandro Castanon Diaz","Administrativo - ACD","03m",null,"21:23:00","21:28:00",2.15,0,0.05,33.966666666666676,{"$f":"IF(COUNTIF(K$1:K1607,K1607)=1,K1607,\"\")","v":""}]
["2023-08-14","Alejandro Castanon Diaz","Ricardo Cuerna - Fixum facturacion","19m",null,"21:23:00","21:45:00",12.37,0,0.31666666666666665,5.4666666666666668,{"$f":"IF(COUNTIF(K$1:K1608,K1608)=1,K1608,\"\")","v":""}]
["2023-08-14","Alejandro Castanon Diaz","Administrativo - ACD","47m",null,"21:45:00","23:04:00",30.35,0,0.78333333333333333,33.966666666666676,{"$f":"IF(COUNTIF(K$1:K1609,K1609)=1,K1609,\"\")","v":""}]
["2023-08-14","Alejandro Castanon Diaz","Ricardo Cuerna - Fixum facturacion","19s",null,"22:08:00","22:08:00",0.2,0,0,5.4666666666666668,{"$f":"IF(COUNTIF(K$1:K1610,K1610)=1,K1610,\"\")","v":""}]
["2023-08-14","Alejandro Castanon Diaz","Bjorn Sueco - Nordic foods 2nd round","03m",null,"22:08:00","22:20:00",2.44,0,0.05,2.083333333333333,{"$f":"IF(COUNTIF(K$1:K1611,K1611)=1,K1611,\"\")","v":""}]
["2023-08-14","Alejandro Castanon Diaz","Paul Freelancer - 2nd round crypto website","20m",null,"22:21:00","23:00:00",12.96,0,0.33333333333333331,0.3,{"$f":"IF(COUNTIF(K$1:K1612,K1612)=1,K1612,\"\")","v":""}]
["2023-08-14","Alejandro Castanon Diaz","Ricardo Cuerna - Fixum facturacion","03m",null,"22:32:00","22:39:00",2.39,0,0.05,5.4666666666666668,{"$f":"IF(COUNTIF(K$1:K1613,K1613)=1,K1613,\"\")","v":""}]
["2023-08-14","Alejandro Castanon Diaz","Ricardo Cuerna - Fixum facturacion","2s",null,"22:59:00","22:59:00",0.02,0,0,5.4666666666666668,{"$f":"IF(COUNTIF(K$1:K1614,K1614)=1,K1614,\"\")","v":""}]
["2023-08-14","Alejandro Castanon Diaz","Viv Freelancer - 5 column filter","53m",null,"23:01:00","23:59:00",33.96,0,0.8833333333333333,0.1,{"$f":"IF(COUNTIF(K$1:K1615,K1615)=1,K1615,\"\")","v":""}]
["2023-08-14","Alejandro Castanon Diaz","Administrativo - ACD","7s",null,"23:14:00","23:14:00",7.0000000000000007E-2,0,0,33.966666666666676,{"$f":"IF(COUNTIF(K$1:K1616,K1616)=1,K1616,\"\")","v":""}]
["2023-08-14","Alejandro Castanon Diaz","Administrativo - ACD","02m",null,"23:24:00","23:32:00",1.51,0,3.3333333333333333E-2,33.966666666666676,{"$f":"IF(COUNTIF(K$1:K1617,K1617)=1,K1617,\"\")","v":""}]
["2023-08-14","Alejandro Castanon Diaz","Tiempo Libre - ACD","56s",null,"23:31:00","23:33:00",0.59,0,0,4.5166666666666657,{"$f":"IF(COUNTIF(K$1:K1618,K1618)=1,K1618,\"\")","v":""}]
["2023-08-14","Alejandro Castanon Diaz","Tiempo Libre - ACD","18s",null,"23:46:00","23:53:00",0.19,0,0,4.5166666666666657,{"$f":"IF(COUNTIF(K$1:K1619,K1619)=1,K1619,\"\")","v":""}]
["2023-08-14","Alejandro Castanon Diaz","Administrativo - ACD","20s",null,"23:52:00","23:53:00",0.21,0,0,33.966666666666676,{"$f":"IF(COUNTIF(K$1:K1620,K1620)=1,K1620,\"\")","v":""}]
["2023-08-15","Alejandro Castanon Diaz","Viv Freelancer - 5 column filter","09m",null,"00:00:00","00:13:00",5.87,0,0.15,0.1,{"$f":"IF(COUNTIF(K$1:K1621,K1621)=1,K1621,\"\")","v":""}]
["2023-08-15","Alejandro Castanon Diaz","Tiempo Libre - ACD","12s",null,"00:07:00","00:09:00",0.13,0,0,4.5166666666666657,{"$f":"IF(COUNTIF(K$1:K1622,K1622)=1,K1622,\"\")","v":""}]
["2023-08-15","Alejandro Castanon Diaz","Administrativo - ACD","04m",null,"00:08:00","00:14:00",3.03,0,6.6666666666666666E-2,33.966666666666676,{"$f":"IF(COUNTIF(K$1:K1623,K1623)=1,K1623,\"\")","v":""}]
["2023-08-15","Alejandro Castanon Diaz","Administrativo - ACD","45m",null,"09:31:00","10:54:00",28.7,0,0.75,33.966666666666676,{"$f":"IF(COUNTIF(K$1:K1624,K1624)=1,K1624,\"\")","v":""}]
["2023-08-15","Alejandro Castanon Diaz","Ricardo Freelancer - Accounting","08m",null,"09:34:00","09:44:00",5.23,0,0.13333333333333333,0,{"$f":"IF(COUNTIF(K$1:K1625,K1625)=1,K1625,\"\")","v":""}]
["2023-08-15","Alejandro Castanon Diaz","Ricardo Cuerna - Fixum facturacion","07m",null,"09:49:00","10:10:00",4.76,0,0.11666666666666667,5.4666666666666668,{"$f":"IF(COUNTIF(K$1:K1626,K1626)=1,K1626,\"\")","v":""}]
["2023-08-15","Alejandro Castanon Diaz","Ricardo Freelancer - Accounting","06m",null,"10:03:00","10:17:00",4.01,0,0.1,0,{"$f":"IF(COUNTIF(K$1:K1627,K1627)=1,K1627,\"\")","v":""}]
["2023-08-15","Alejandro Castanon Diaz","Ricardo Freelancer - Accounting","01m",null,"10:28:00","10:34:00",1.0900000000000001,0,1.6666666666666666E-2,0,{"$f":"IF(COUNTIF(K$1:K1628,K1628)=1,K1628,\"\")","v":""}]
["2023-08-15","Alejandro Castanon Diaz","Bjorn Sueco - Nordic foods 2nd round","26m",null,"10:34:00","11:08:00",16.690000000000001,0,{"$f":"IF(D1629=\"\",\"\",IF(ISERROR(FIND(\"s\",D1629)),IF(ISERROR(FIND(\"h \",D1629)),LEFT(D1629,2)/60,   LEFT(D1629,FIND(\"h \",D1629)-1 )+LEFT(RIGHT(D1629,3),2)/60   ),0))","v":0.43333333333333335},{"$f":"SUMIFS(J:J,C:C,C1629,A:A,\">\"&$S$4)","v":2.083333333333333},{"$f":"IF(COUNTIF(K$1:K1629,K1629)=1,K1629,\"\")","v":""}]
["2023-08-15","Alejandro Castanon Diaz","Administrativo - ACD","06m",null,"11:06:00","11:12:00",3.9,0,0.1,33.966666666666676,{"$f":"IF(COUNTIF(K$1:K1630,K1630)=1,K1630,\"\")","v":""}]
["2023-08-15","Alejandro Castanon Diaz","Administrativo - ACD","47s",null,"11:42:00","11:43:00",0.5,0,0,33.966666666666676,{"$f":"IF(COUNTIF(K$1:K1631,K1631)=1,K1631,\"\")","v":""}]
["2023-08-15","Alejandro Castanon Diaz","Ricardo Cuerna - Fixum facturacion","32m",null,"11:43:00","12:21:00",20.52,0,0.53333333333333333,5.4666666666666668,{"$f":"IF(COUNTIF(K$1:K1632,K1632)=1,K1632,\"\")","v":""}]
["2023-08-15","Alejandro Castanon Diaz","Administrativo - ACD","05m",null,"12:11:00","12:21:00",3.64,0,8.3333333333333329E-2,33.966666666666676,{"$f":"IF(COUNTIF(K$1:K1633,K1633)=1,K1633,\"\")","v":""}]
["2023-08-15","Alejandro Castanon Diaz","Administrativo - ACD","02m",null,"19:09:00","19:18:00",1.5,0,3.3333333333333333E-2,33.966666666666676,{"$f":"IF(COUNTIF(K$1:K1634,K1634)=1,K1634,\"\")","v":""}]
["2023-08-15","Alejandro Castanon Diaz","Ricardo Cuerna - Fixum facturacion","47m",null,"19:09:00","20:06:00",30.36,0,0.78333333333333333,5.4666666666666668,{"$f":"IF(COUNTIF(K$1:K1635,K1635)=1,K1635,\"\")","v":""}]
["2023-08-15","Alejandro Castanon Diaz","Administrativo - ACD","01m",null,"19:38:00","19:41:00",1.2,0,1.6666666666666666E-2,33.966666666666676,{"$f":"IF(COUNTIF(K$1:K1636,K1636)=1,K1636,\"\")","v":""}]
["2023-08-15","Alejandro Castanon Diaz","Administrativo - ACD","34m",null,"19:56:00","20:54:00",22.01,0,0.56666666666666665,33.966666666666676,{"$f":"IF(COUNTIF(K$1:K1637,K1637)=1,K1637,\"\")","v":""}]
["2023-08-15","Alejandro Castanon Diaz","Viv Freelancer - 5 column filter","01m",null,"20:16:00","20:20:00",1.26,0,1.6666666666666666E-2,0.1,{"$f":"IF(COUNTIF(K$1:K1638,K1638)=1,K1638,\"\")","v":""}]
["2023-08-15","Alejandro Castanon Diaz","Ricardo Cuerna - Fixum facturacion","03m",null,"20:21:00","20:34:00",2.39,0,0.05,5.4666666666666668,{"$f":"IF(COUNTIF(K$1:K1639,K1639)=1,K1639,\"\")","v":""}]
["2023-08-15","Alejandro Castanon Diaz","Viv Freelancer - 5 column filter","12m",null,"20:34:00","20:55:00",8.2200000000000006,0,0.2,0.1,{"$f":"IF(COUNTIF(K$1:K1640,K1640)=1,K1640,\"\")","v":""}]
["2023-08-15","Alejandro Castanon Diaz","Bjorn Sueco - ajustes Woo y POS","9s",null,"20:42:00","20:43:00",0.1,0,0,0,{"$f":"IF(COUNTIF(K$1:K1641,K1641)=1,K1641,\"\")","v":""}]
["2023-08-16","Alejandro Castanon Diaz","Nick Advizee - fijo","43m",null,"11:05:00","11:49:00",27.41,0,0.71666666666666667,4.5333333333333332,{"$f":"IF(COUNTIF(K$1:K1642,K1642)=1,K1642,\"\")","v":""}]
["2023-08-16","Alejandro Castanon Diaz","Viv Freelancer - 5 column filter","34m",null,"12:17:00","12:54:00",21.7,0,0.56666666666666665,0.1,{"$f":"IF(COUNTIF(K$1:K1643,K1643)=1,K1643,\"\")","v":""}]
["2023-08-16","Alejandro Castanon Diaz","Administrativo - ACD","30s",null,"12:24:00","12:25:00",0.32,0,0,33.966666666666676,{"$f":"IF(COUNTIF(K$1:K1644,K1644)=1,K1644,\"\")","v":""}]
["2023-08-16","Alejandro Castanon Diaz","Administrativo - ACD","25s",null,"12:43:00","12:43:00",0.26,0,0,33.966666666666676,{"$f":"IF(COUNTIF(K$1:K1645,K1645)=1,K1645,\"\")","v":""}]
["2023-08-16","Alejandro Castanon Diaz","Administrativo - ACD","04m",null,"12:54:00","12:59:00",2.95,0,6.6666666666666666E-2,33.966666666666676,{"$f":"IF(COUNTIF(K$1:K1646,K1646)=1,K1646,\"\")","v":""}]
["2023-08-17","Alejandro Castanon Diaz","Administrativo - ACD","23s",null,"08:00:00","08:01:00",0.24,0,0,33.966666666666676,{"$f":"IF(COUNTIF(K$1:K1647,K1647)=1,K1647,\"\")","v":""}]
["2023-08-17","Alejandro Castanon Diaz","Diana Inlat - Rehacer Ingeurbe","12s",null,"08:00:00","08:00:00",0.13,0,0,1.6666666666666666E-2,{"$f":"IF(COUNTIF(K$1:K1648,K1648)=1,K1648,\"\")","v":""}]
["2023-08-17","Alejandro Castanon Diaz","Nick Advizee - fijo","01m",null,"08:01:00","08:02:00",1.03,0,1.6666666666666666E-2,4.5333333333333332,{"$f":"IF(COUNTIF(K$1:K1649,K1649)=1,K1649,\"\")","v":""}]
["2023-08-17","Alejandro Castanon Diaz","Tiempo Libre - ACD","14m",null,"08:02:00","08:23:00",9.15,0,0.23333333333333334,4.5166666666666657,{"$f":"IF(COUNTIF(K$1:K1650,K1650)=1,K1650,\"\")","v":""}]
["2023-08-17","Alejandro Castanon Diaz","Administrativo - ACD","13m",null,"08:13:00","08:36:00",8.42,0,0.21666666666666667,33.966666666666676,{"$f":"IF(COUNTIF(K$1:K1651,K1651)=1,K1651,\"\")","v":""}]
["2023-08-17","Alejandro Castanon Diaz","Viv Freelancer - 5 column filter","2s",null,"08:34:00","08:34:00",0.02,0,0,0.1,{"$f":"IF(COUNTIF(K$1:K1652,K1652)=1,K1652,\"\")","v":""}]
["2023-08-17","Alejandro Castanon Diaz","Nick Advizee - fijo","43m",null,"08:34:00","09:29:00",27.4,0,0.71666666666666667,4.5333333333333332,{"$f":"IF(COUNTIF(K$1:K1653,K1653)=1,K1653,\"\")","v":""}]
["2023-08-17","Alejandro Castanon Diaz","Administrativo - ACD","11m",null,"09:00:00","09:19:00",6.99,0,0.18333333333333332,33.966666666666676,{"$f":"IF(COUNTIF(K$1:K1654,K1654)=1,K1654,\"\")","v":""}]
["2023-08-17","Alejandro Castanon Diaz","Administrativo - ACD","29m",null,"09:29:00","10:13:00",18.96,0,0.48333333333333334,33.966666666666676,{"$f":"IF(COUNTIF(K$1:K1655,K1655)=1,K1655,\"\")","v":""}]
["2023-08-17","Alejandro Castanon Diaz","Nick Advizee - fijo","11m",null,"09:50:00","10:05:00",7.28,0,0.18333333333333332,4.5333333333333332,{"$f":"IF(COUNTIF(K$1:K1656,K1656)=1,K1656,\"\")","v":""}]
["2023-08-17","Alejandro Castanon Diaz","Viv Freelancer - 5 column filter","5s",null,"10:06:00","10:06:00",0.05,0,0,0.1,{"$f":"IF(COUNTIF(K$1:K1657,K1657)=1,K1657,\"\")","v":""}]
["2023-08-17","Alejandro Castanon Diaz","Nick Advizee - fijo","11m",null,"11:17:00","11:29:00",7.03,0,0.18333333333333332,4.5333333333333332,{"$f":"IF(COUNTIF(K$1:K1658,K1658)=1,K1658,\"\")","v":""}]
["2023-08-17","Alejandro Castanon Diaz","Ricardo Cuerna - Fixum facturacion","03m",null,"11:28:00","11:32:00",2.27,0,0.05,5.4666666666666668,{"$f":"IF(COUNTIF(K$1:K1659,K1659)=1,K1659,\"\")","v":""}]
["2023-08-17","Alejandro Castanon Diaz","Administrativo - ACD","15s",null,"11:29:00","11:30:00",0.16,0,0,33.966666666666676,{"$f":"IF(COUNTIF(K$1:K1660,K1660)=1,K1660,\"\")","v":""}]
["2023-08-17","Alejandro Castanon Diaz","Ricardo Cuerna - Fixum facturacion","38m",null,"14:10:00","14:51:00",24.59,0,0.6333333333333333,5.4666666666666668,{"$f":"IF(COUNTIF(K$1:K1661,K1661)=1,K1661,\"\")","v":""}]
["2023-08-17","Alejandro Castanon Diaz","Administrativo - ACD","34s",null,"14:10:00","14:11:00",0.36,0,0,33.966666666666676,{"$f":"IF(COUNTIF(K$1:K1662,K1662)=1,K1662,\"\")","v":""}]
["2023-08-17","Alejandro Castanon Diaz","Administrativo - ACD","47s",null,"14:28:00","14:29:00",0.5,0,0,33.966666666666676,{"$f":"IF(COUNTIF(K$1:K1663,K1663)=1,K1663,\"\")","v":""}]
["2023-08-17","Alejandro Castanon Diaz","Hostings - ACD","11m",null,"14:29:00","14:43:00",6.98,0,0.18333333333333332,2.4499999999999993,{"$f":"IF(COUNTIF(K$1:K1664,K1664)=1,K1664,\"\")","v":""}]
["2023-08-17","Alejandro Castanon Diaz","Administrativo - ACD","02m",null,"14:43:00","14:54:00",1.56,0,3.3333333333333333E-2,33.966666666666676,{"$f":"IF(COUNTIF(K$1:K1665,K1665)=1,K1665,\"\")","v":""}]
["2023-08-17","Alejandro Castanon Diaz","Paul Freelancer - 2nd round crypto website","03m",null,"14:43:00","14:59:00",2.08,0,0.05,0.3,{"$f":"IF(COUNTIF(K$1:K1666,K1666)=1,K1666,\"\")","v":""}]
["2023-08-17","Alejandro Castanon Diaz","Diana Inlat - Rehacer Ingeurbe","27m",null,"14:52:00","15:30:00",17.63,0,0.45,1.6666666666666666E-2,{"$f":"IF(COUNTIF(K$1:K1667,K1667)=1,K1667,\"\")","v":""}]
["2023-08-17","Alejandro Castanon Diaz","Paul Freelancer - 2nd round crypto website","02m",null,"15:20:00","15:36:00",1.74,0,3.3333333333333333E-2,0.3,{"$f":"IF(COUNTIF(K$1:K1668,K1668)=1,K1668,\"\")","v":""}]
["2023-08-17","Alejandro Castanon Diaz","Administrativo - ACD","46m",null,"15:25:00","16:19:00",29.4,0,0.76666666666666672,33.966666666666676,{"$f":"IF(COUNTIF(K$1:K1669,K1669)=1,K1669,\"\")","v":""}]
["2023-08-17","Alejandro Castanon Diaz","Thomas Ferdinand - Website","01m",null,"15:37:00","15:42:00",1.18,0,1.6666666666666666E-2,0,{"$f":"IF(COUNTIF(K$1:K1670,K1670)=1,K1670,\"\")","v":""}]
["2023-08-17","Alejandro Castanon Diaz","Thomas Ferdinand - Website","27s",null,"15:55:00","15:56:00",0.28999999999999998,0,0,0,{"$f":"IF(COUNTIF(K$1:K1671,K1671)=1,K1671,\"\")","v":""}]
["2023-08-17","Alejandro Castanon Diaz","Paul Freelancer - 2nd round crypto website","01m",null,"16:05:00","16:08:00",0.7,0,1.6666666666666666E-2,0.3,{"$f":"IF(COUNTIF(K$1:K1672,K1672)=1,K1672,\"\")","v":""}]
["2023-08-17","Alejandro Castanon Diaz","Viv Freelancer - 5 column filter","01m",null,"16:06:00","16:20:00",0.96,0,1.6666666666666666E-2,0.1,{"$f":"IF(COUNTIF(K$1:K1673,K1673)=1,K1673,\"\")","v":""}]
["2023-08-17","Alejandro Castanon Diaz","Ricardo Cuerna - Fixum facturacion","3s",null,"16:09:00","16:09:00",0.03,0,0,5.4666666666666668,{"$f":"IF(COUNTIF(K$1:K1674,K1674)=1,K1674,\"\")","v":""}]
["2023-08-17","Alejandro Castanon Diaz","Alejandro Disidentes - Sixbell","02m",null,"16:10:00","16:17:00",1.5,0,3.3333333333333333E-2,2.2666666666666666,{"$f":"IF(COUNTIF(K$1:K1675,K1675)=1,K1675,\"\")","v":""}]
["2023-08-17","Alejandro Castanon Diaz","Ricardo Cuerna - Fixum facturacion","02m",null,"16:18:00","16:22:00",1.32,0,3.3333333333333333E-2,5.4666666666666668,{"$f":"IF(COUNTIF(K$1:K1676,K1676)=1,K1676,\"\")","v":""}]
["2023-08-18","Alejandro Castanon Diaz","Juan Freelancer - Landing y cambios web","08m",null,"11:24:00","11:38:00",5.45,0,0.13333333333333333,0,{"$f":"IF(COUNTIF(K$1:K1677,K1677)=1,K1677,\"\")","v":""}]
["2023-08-18","Alejandro Castanon Diaz","Tiempo Libre - ACD","04m",null,"11:30:00","11:36:00",3.12,0,6.6666666666666666E-2,4.5166666666666657,{"$f":"IF(COUNTIF(K$1:K1678,K1678)=1,K1678,\"\")","v":""}]
["2023-08-18","Alejandro Castanon Diaz","Ricardo Cuerna - Fixum facturacion","02m",null,"13:18:00","13:29:00",1.29,0,3.3333333333333333E-2,5.4666666666666668,{"$f":"IF(COUNTIF(K$1:K1679,K1679)=1,K1679,\"\")","v":""}]
["2023-08-18","Alejandro Castanon Diaz","Juan Freelancer - Landing y cambios web","5h 00m",null,"13:33:00","19:35:00",190.1,0,5,0,{"$f":"IF(COUNTIF(K$1:K1680,K1680)=1,K1680,\"\")","v":""}]
["2023-08-18","Alejandro Castanon Diaz","Administrativo - ACD","25s",null,"19:35:00","19:35:00",0.26,0,0,33.966666666666676,{"$f":"IF(COUNTIF(K$1:K1681,K1681)=1,K1681,\"\")","v":""}]
["2023-08-18","Alejandro Castanon Diaz","Viv Freelancer - 5 column filter","5s",null,"19:35:00","19:35:00",0.05,0,0,0.1,{"$f":"IF(COUNTIF(K$1:K1682,K1682)=1,K1682,\"\")","v":""}]
["2023-08-18","Alejandro Castanon Diaz","Administrativo - ACD","21m",null,"20:21:00","20:44:00",13.79,0,0.35,33.966666666666676,{"$f":"IF(COUNTIF(K$1:K1683,K1683)=1,K1683,\"\")","v":""}]
["2023-08-18","Alejandro Castanon Diaz","Juan Freelancer - Landing y cambios web","5s",null,"20:34:00","20:34:00",0.05,0,0,0,{"$f":"IF(COUNTIF(K$1:K1684,K1684)=1,K1684,\"\")","v":""}]
["2023-08-18","Alejandro Castanon Diaz","Viv Freelancer - 5 column filter","20s",null,"20:34:00","20:44:00",0.21,0,0,0.1,{"$f":"IF(COUNTIF(K$1:K1685,K1685)=1,K1685,\"\")","v":""}]
["2023-08-18","Alejandro Castanon Diaz","Faby - Crawler Farmakosto","2s",null,"20:34:00","20:34:00",0.02,0,0,5.5333333333333323,{"$f":"IF(COUNTIF(K$1:K1686,K1686)=1,K1686,\"\")","v":""}]
["2023-08-18","Alejandro Castanon Diaz","Ricardo Cuerna - Fixum facturacion","5s",null,"20:34:00","20:34:00",0.05,0,0,5.4666666666666668,{"$f":"IF(COUNTIF(K$1:K1687,K1687)=1,K1687,\"\")","v":""}]
["2023-08-18","Alejandro Castanon Diaz","Alejandro Disidentes - Sixbell","4s",null,"20:34:00","20:34:00",0.04,0,0,2.2666666666666666,{"$f":"IF(COUNTIF(K$1:K1688,K1688)=1,K1688,\"\")","v":""}]
["2023-08-18","Alejandro Castanon Diaz","Rodrigo Techservices - Kanatest Hosting","5s",null,"20:34:00","20:34:00",0.05,0,0,0,{"$f":"IF(COUNTIF(K$1:K1689,K1689)=1,K1689,\"\")","v":""}]
["2023-08-18","Alejandro Castanon Diaz","Paul Freelancer - 2nd round crypto website","2s",null,"20:34:00","20:34:00",0.02,0,0,0.3,{"$f":"IF(COUNTIF(K$1:K1690,K1690)=1,K1690,\"\")","v":""}]
["2023-08-18","Alejandro Castanon Diaz","Thomas Ferdinand - Website","5s",null,"20:34:00","20:35:00",0.05,0,0,0,{"$f":"IF(COUNTIF(K$1:K1691,K1691)=1,K1691,\"\")","v":""}]
["2023-08-18","Alejandro Castanon Diaz","Paul Freelancer - Coinbase API site","3s",null,"20:35:00","20:35:00",0.03,0,0,0,{"$f":"IF(COUNTIF(K$1:K1692,K1692)=1,K1692,\"\")","v":""}]
["2023-08-18","Alejandro Castanon Diaz","Viv Freelancer - Fourdle game","2s",null,"20:35:00","20:35:00",0.02,0,{"$f":"IF(D1693=\"\",\"\",IF(ISERROR(FIND(\"s\",D1693)),IF(ISERROR(FIND(\"h \",D1693)),LEFT(D1693,2)/60,   LEFT(D1693,FIND(\"h \",D1693)-1 )+LEFT(RIGHT(D1693,3),2)/60   ),0))","v":0},{"$f":"SUMIFS(J:J,C:C,C1693,A:A,\">\"&$S$4)","v":0},{"$f":"IF(COUNTIF(K$1:K1693,K1693)=1,K1693,\"\")","v":""}]
["2023-08-18","Alejandro Castanon Diaz","Juan Freelancer - Maquetar figma a html","7s",null,"20:35:00","20:35:00",7.0000000000000007E-2,0,0,0,{"$f":"IF(COUNTIF(K$1:K1694,K1694)=1,K1694,\"\")","v":""}]
["2023-08-18","Alejandro Castanon Diaz","Diana Inlat - Ingeurbe Tablet e Ingles","5s",null,"20:35:00","20:35:00",0.05,0,0,0,{"$f":"IF(COUNTIF(K$1:K1695,K1695)=1,K1695,\"\")","v":""}]
["2023-08-18","Alejandro Castanon Diaz","Viv Freelancer - 5 column filter","31s",null,"20:58:00","20:58:00",0.33,0,0,0.1,{"$f":"IF(COUNTIF(K$1:K1696,K1696)=1,K1696,\"\")","v":""}]
["2023-08-18","Alejandro Castanon Diaz","Nick Advizee - fijo","03m",null,"20:58:00","21:06:00",2.52,0,0.05,4.5333333333333332,{"$f":"IF(COUNTIF(K$1:K1697,K1697)=1,K1697,\"\")","v":""}]
["2023-08-18","Alejandro Castanon Diaz","Ricardo Cuerna - Fixum facturacion","02m",null,"21:01:00","21:05:00",1.34,0,3.3333333333333333E-2,5.4666666666666668,{"$f":"IF(COUNTIF(K$1:K1698,K1698)=1,K1698,\"\")","v":""}]
["2023-08-18","Alejandro Castanon Diaz","Nick Advizee - fijo","40m",null,"21:34:00","22:33:00",25.56,0,0.66666666666666663,4.5333333333333332,{"$f":"IF(COUNTIF(K$1:K1699,K1699)=1,K1699,\"\")","v":""}]
["2023-08-18","Alejandro Castanon Diaz","Administrativo - ACD","11m",null,"21:35:00","22:03:00",7.41,0,0.18333333333333332,33.966666666666676,{"$f":"IF(COUNTIF(K$1:K1700,K1700)=1,K1700,\"\")","v":""}]
["2023-08-18","Alejandro Castanon Diaz","Viv Freelancer - 5 column filter","9s",null,"22:04:00","22:04:00",0.1,0,0,0.1,{"$f":"IF(COUNTIF(K$1:K1701,K1701)=1,K1701,\"\")","v":""}]
["2023-08-18","Alejandro Castanon Diaz","Administrativo - ACD","52m",null,"22:22:00","23:35:00",33.51,0,0.8666666666666667,33.966666666666676,{"$f":"IF(COUNTIF(K$1:K1702,K1702)=1,K1702,\"\")","v":""}]
["2023-08-18","Alejandro Castanon Diaz","Alejandro Disidentes - Sixbell","2s",null,"22:33:00","22:33:00",0.02,0,0,2.2666666666666666,{"$f":"IF(COUNTIF(K$1:K1703,K1703)=1,K1703,\"\")","v":""}]
["2023-08-18","Alejandro Castanon Diaz","yo - Buscar 2do Freelancer por hora...","9s",null,"22:34:00","22:34:00",0.1,0,0,0,{"$f":"IF(COUNTIF(K$1:K1704,K1704)=1,K1704,\"\")","v":""}]
["2023-08-18","Alejandro Castanon Diaz","Thomas Ferdinand - Website","3s",null,"22:34:00","22:34:00",0.03,0,0,0,{"$f":"IF(COUNTIF(K$1:K1705,K1705)=1,K1705,\"\")","v":""}]
["2023-08-18","Alejandro Castanon Diaz","Viv Freelancer - Fourdle game","4s",null,"22:34:00","22:34:00",0.04,0,0,0,{"$f":"IF(COUNTIF(K$1:K1706,K1706)=1,K1706,\"\")","v":""}]
["2023-08-18","Alejandro Castanon Diaz","Viv Freelancer - 5 column filter","01m",null,"22:34:00","22:41:00",1.1399999999999999,0,1.6666666666666666E-2,0.1,{"$f":"IF(COUNTIF(K$1:K1707,K1707)=1,K1707,\"\")","v":""}]
["2023-08-18","Alejandro Castanon Diaz","Paul Freelancer - 2nd round crypto website","5s",null,"22:36:00","22:36:00",0.05,0,0,0.3,{"$f":"IF(COUNTIF(K$1:K1708,K1708)=1,K1708,\"\")","v":""}]
["2023-08-18","Alejandro Castanon Diaz","yo - Kavak Reembolso","5s",null,"22:42:00","22:42:00",0.05,0,0,0,{"$f":"IF(COUNTIF(K$1:K1709,K1709)=1,K1709,\"\")","v":""}]
["2023-08-18","Alejandro Castanon Diaz","yo - Buscar 2do Freelancer por hora...","06m",null,"22:49:00","22:59:00",3.81,0,0.1,0,{"$f":"IF(COUNTIF(K$1:K1710,K1710)=1,K1710,\"\")","v":""}]
["2023-08-18","Alejandro Castanon Diaz","yo - Buscar 2do Freelancer por hora...","23s",null,"23:10:00","23:10:00",0.24,0,0,0,{"$f":"IF(COUNTIF(K$1:K1711,K1711)=1,K1711,\"\")","v":""}]
["2023-08-18","Alejandro Castanon Diaz","Viv Freelancer - 5 column filter","11s",null,"23:14:00","23:14:00",0.12,0,0,0.1,{"$f":"IF(COUNTIF(K$1:K1712,K1712)=1,K1712,\"\")","v":""}]
["2023-08-18","Alejandro Castanon Diaz","Tiempo Libre - ACD","06m",null,"23:15:00","23:22:00",4.3,0,0.1,4.5166666666666657,{"$f":"IF(COUNTIF(K$1:K1713,K1713)=1,K1713,\"\")","v":""}]
["2023-08-18","Alejandro Castanon Diaz","Paul Freelancer - 2nd round crypto website","11s",null,"23:23:00","23:23:00",0.12,0,0,0.3,{"$f":"IF(COUNTIF(K$1:K1714,K1714)=1,K1714,\"\")","v":""}]
["2023-08-18","Alejandro Castanon Diaz","Viv Freelancer - 5 column filter","24m",null,"23:35:00","23:59:00",15.6,0,0.4,0.1,{"$f":"IF(COUNTIF(K$1:K1715,K1715)=1,K1715,\"\")","v":""}]
["2023-08-19","Alejandro Castanon Diaz","Viv Freelancer - 5 column filter","2h 54m",null,"00:00:00","03:19:00",110.56,0,2.9,0.1,{"$f":"IF(COUNTIF(K$1:K1716,K1716)=1,K1716,\"\")","v":""}]
["2023-08-19","Alejandro Castanon Diaz","Administrativo - ACD","10m",null,"00:05:00","00:25:00",6.51,0,0.16666666666666666,33.966666666666676,{"$f":"IF(COUNTIF(K$1:K1717,K1717)=1,K1717,\"\")","v":""}]
["2023-08-19","Alejandro Castanon Diaz","Paul Freelancer - 2nd round crypto website","28s",null,"00:11:00","00:19:00",0.3,0,0,0.3,{"$f":"IF(COUNTIF(K$1:K1718,K1718)=1,K1718,\"\")","v":""}]
["2023-08-19","Alejandro Castanon Diaz","Hostings - ACD","7s",null,"00:19:00","00:20:00",7.0000000000000007E-2,0,0,2.4499999999999993,{"$f":"IF(COUNTIF(K$1:K1719,K1719)=1,K1719,\"\")","v":""}]
["2023-08-19","Alejandro Castanon Diaz","Administrativo - ACD","2s",null,"00:47:00","00:47:00",0.02,0,0,33.966666666666676,{"$f":"IF(COUNTIF(K$1:K1720,K1720)=1,K1720,\"\")","v":""}]
["2023-08-19","Alejandro Castanon Diaz","Administrativo - ACD","07m",null,"01:06:00","01:31:00",4.68,0,0.11666666666666667,33.966666666666676,{"$f":"IF(COUNTIF(K$1:K1721,K1721)=1,K1721,\"\")","v":""}]
["2023-08-19","Alejandro Castanon Diaz","Tiempo Libre - ACD","26s",null,"01:43:00","01:56:00",0.27,0,0,4.5166666666666657,{"$f":"IF(COUNTIF(K$1:K1722,K1722)=1,K1722,\"\")","v":""}]
["2023-08-19","Alejandro Castanon Diaz","Administrativo - ACD","01m",null,"01:52:00","01:54:00",1.17,0,1.6666666666666666E-2,33.966666666666676,{"$f":"IF(COUNTIF(K$1:K1723,K1723)=1,K1723,\"\")","v":""}]
["2023-08-19","Alejandro Castanon Diaz","Administrativo - ACD","01m",null,"03:09:00","03:21:00",0.94,0,1.6666666666666666E-2,33.966666666666676,{"$f":"IF(COUNTIF(K$1:K1724,K1724)=1,K1724,\"\")","v":""}]
["2023-08-19","Alejandro Castanon Diaz","Tiempo Libre - ACD","15m",null,"03:11:00","03:32:00",10.01,0,0.25,4.5166666666666657,{"$f":"IF(COUNTIF(K$1:K1725,K1725)=1,K1725,\"\")","v":""}]
["2023-08-19","Alejandro Castanon Diaz","Administrativo - ACD","1h 14m",null,"03:32:00","04:49:00",47.18,0,1.2333333333333334,33.966666666666676,{"$f":"IF(COUNTIF(K$1:K1726,K1726)=1,K1726,\"\")","v":""}]
["2023-08-19","Alejandro Castanon Diaz","Viv Freelancer - 5 column filter","01m",null,"04:28:00","04:32:00",0.81,0,1.6666666666666666E-2,0.1,{"$f":"IF(COUNTIF(K$1:K1727,K1727)=1,K1727,\"\")","v":""}]
["2023-08-19","Alejandro Castanon Diaz","Tiempo Libre - ACD","2s",null,"04:31:00","04:31:00",0.02,0,0,4.5166666666666657,{"$f":"IF(COUNTIF(K$1:K1728,K1728)=1,K1728,\"\")","v":""}]
["2023-08-19","Alejandro Castanon Diaz","Juan Balnearis - Landing y cambios web","8s",null,"04:35:00","04:36:00",0.08,0,0,1.0166666666666666,{"$f":"IF(COUNTIF(K$1:K1729,K1729)=1,K1729,\"\")","v":1.0166666666666666}]
["2023-08-19","Alejandro Castanon Diaz","Tiempo Libre - ACD","07m",null,"04:36:00","04:43:00",4.63,0,0.11666666666666667,4.5166666666666657,{"$f":"IF(COUNTIF(K$1:K1730,K1730)=1,K1730,\"\")","v":""}]
["2023-08-19","Alejandro Castanon Diaz","Viv Freelancer - 5 column filter","2s",null,"04:37:00","04:37:00",0.02,0,0,0.1,{"$f":"IF(COUNTIF(K$1:K1731,K1731)=1,K1731,\"\")","v":""}]
["2023-08-19","Alejandro Castanon Diaz","Viv Freelancer - 5 column filter","09m",null,"04:59:00","05:15:00",5.99,0,0.15,0.1,{"$f":"IF(COUNTIF(K$1:K1732,K1732)=1,K1732,\"\")","v":""}]
["2023-08-19","Alejandro Castanon Diaz","Tiempo Libre - ACD","05m",null,"05:02:00","05:09:00",3.74,0,8.3333333333333329E-2,4.5166666666666657,{"$f":"IF(COUNTIF(K$1:K1733,K1733)=1,K1733,\"\")","v":""}]
["2023-08-19","Alejandro Castanon Diaz","Administrativo - ACD","42s",null,"05:07:00","05:18:00",0.44,0,0,33.966666666666676,{"$f":"IF(COUNTIF(K$1:K1734,K1734)=1,K1734,\"\")","v":""}]
["2023-08-19","Alejandro Castanon Diaz","Paul Freelancer - 2nd round crypto website","6s",null,"05:07:00","05:07:00",0.06,0,0,0.3,{"$f":"IF(COUNTIF(K$1:K1735,K1735)=1,K1735,\"\")","v":""}]
["2023-08-19","Alejandro Castanon Diaz","Faby - Crawler Farmakosto","21m",null,"05:15:00","05:44:00",13.82,0,0.35,5.5333333333333323,{"$f":"IF(COUNTIF(K$1:K1736,K1736)=1,K1736,\"\")","v":""}]
["2023-08-19","Alejandro Castanon Diaz","Hostings - ACD","23m",null,"05:16:00","06:01:00",15.11,0,0.38333333333333336,2.4499999999999993,{"$f":"IF(COUNTIF(K$1:K1737,K1737)=1,K1737,\"\")","v":""}]
["2023-08-19","Alejandro Castanon Diaz","Paul Freelancer - 2nd round crypto website","3s",null,"05:25:00","05:25:00",0.03,0,0,0.3,{"$f":"IF(COUNTIF(K$1:K1738,K1738)=1,K1738,\"\")","v":""}]
["2023-08-19","Alejandro Castanon Diaz","Faby - Crawler Farmakosto","20m",null,"05:59:00","06:22:00",13.09,0,0.33333333333333331,5.5333333333333323,{"$f":"IF(COUNTIF(K$1:K1739,K1739)=1,K1739,\"\")","v":""}]
["2023-08-19","Alejandro Castanon Diaz","Administrativo - ACD","13m",null,"06:19:00","06:41:00",8.3000000000000007,0,0.21666666666666667,33.966666666666676,{"$f":"IF(COUNTIF(K$1:K1740,K1740)=1,K1740,\"\")","v":""}]
["2023-08-19","Alejandro Castanon Diaz","Hostings - ACD","01m",null,"06:22:00","06:23:00",0.74,0,1.6666666666666666E-2,2.4499999999999993,{"$f":"IF(COUNTIF(K$1:K1741,K1741)=1,K1741,\"\")","v":""}]
["2023-08-19","Alejandro Castanon Diaz","Administrativo - ACD","27m",null,"11:49:00","12:33:00",17.71,0,0.45,33.966666666666676,{"$f":"IF(COUNTIF(K$1:K1742,K1742)=1,K1742,\"\")","v":""}]
["2023-08-19","Alejandro Castanon Diaz","Faby - Crawler Farmakosto","05m",null,"11:59:00","12:04:00",3.19,0,8.3333333333333329E-2,5.5333333333333323,{"$f":"IF(COUNTIF(K$1:K1743,K1743)=1,K1743,\"\")","v":""}]
["2023-08-19","Alejandro Castanon Diaz","Tiempo Libre - ACD","15s",null,"12:16:00","12:16:00",0.16,0,0,4.5166666666666657,{"$f":"IF(COUNTIF(K$1:K1744,K1744)=1,K1744,\"\")","v":""}]
["2023-08-19","Alejandro Castanon Diaz","Faby - Crawler Farmakosto","9s",null,"12:18:00","12:22:00",0.1,0,0,5.5333333333333323,{"$f":"IF(COUNTIF(K$1:K1745,K1745)=1,K1745,\"\")","v":""}]
["2023-08-19","Alejandro Castanon Diaz","Juan Balnearis - Landing y cambios web","10m",null,"12:18:00","12:33:00",6.65,0,0.16666666666666666,1.0166666666666666,{"$f":"IF(COUNTIF(K$1:K1746,K1746)=1,K1746,\"\")","v":""}]
["2023-08-19","Alejandro Castanon Diaz","Faby - Crawler Farmakosto","56m",null,"12:33:00","13:31:00",35.54,0,0.93333333333333335,5.5333333333333323,{"$f":"IF(COUNTIF(K$1:K1747,K1747)=1,K1747,\"\")","v":""}]
["2023-08-19","Alejandro Castanon Diaz","Administrativo - ACD","59s",null,"12:59:00","13:05:00",0.62,0,0,33.966666666666676,{"$f":"IF(COUNTIF(K$1:K1748,K1748)=1,K1748,\"\")","v":""}]
["2023-08-19","Alejandro Castanon Diaz","Administrativo - ACD","34s",null,"13:29:00","13:30:00",0.36,0,0,33.966666666666676,{"$f":"IF(COUNTIF(K$1:K1749,K1749)=1,K1749,\"\")","v":""}]
["2023-08-19","Alejandro Castanon Diaz","Administrativo - ACD","02m",null,"16:25:00","16:43:00",1.28,0,3.3333333333333333E-2,33.966666666666676,{"$f":"IF(COUNTIF(K$1:K1750,K1750)=1,K1750,\"\")","v":""}]
["2023-08-19","Alejandro Castanon Diaz","Faby - Crawler Farmakosto","51m",null,"16:25:00","17:39:00",32.619999999999997,0,0.85,5.5333333333333323,{"$f":"IF(COUNTIF(K$1:K1751,K1751)=1,K1751,\"\")","v":""}]
["2023-08-19","Alejandro Castanon Diaz","Hostings - ACD","17m",null,"16:25:00","17:39:00",11.04,0,0.28333333333333333,2.4499999999999993,{"$f":"IF(COUNTIF(K$1:K1752,K1752)=1,K1752,\"\")","v":""}]
["2023-08-19","Alejandro Castanon Diaz","Bjorn Sueco - Nordic foods 2nd round","01m",null,"16:31:00","16:37:00",1.05,0,1.6666666666666666E-2,2.083333333333333,{"$f":"IF(COUNTIF(K$1:K1753,K1753)=1,K1753,\"\")","v":""}]
["2023-08-19","Alejandro Castanon Diaz","Tiempo Libre - ACD","44s",null,"16:31:00","16:31:00",0.46,0,0,4.5166666666666657,{"$f":"IF(COUNTIF(K$1:K1754,K1754)=1,K1754,\"\")","v":""}]
["2023-08-19","Alejandro Castanon Diaz","Bjorn Sueco - Nordic foods 2nd round","7s",null,"17:11:00","17:11:00",7.0000000000000007E-2,0,0,2.083333333333333,{"$f":"IF(COUNTIF(K$1:K1755,K1755)=1,K1755,\"\")","v":""}]
["2023-08-19","Alejandro Castanon Diaz","Tiempo Libre - ACD","2s",null,"17:12:00","17:12:00",0.02,0,0,4.5166666666666657,{"$f":"IF(COUNTIF(K$1:K1756,K1756)=1,K1756,\"\")","v":""}]
["2023-08-19","Alejandro Castanon Diaz","Bjorn Sueco - Nordic foods 2nd round","43m",null,"17:27:00","18:39:00",27.8,0,{"$f":"IF(D1757=\"\",\"\",IF(ISERROR(FIND(\"s\",D1757)),IF(ISERROR(FIND(\"h \",D1757)),LEFT(D1757,2)/60,   LEFT(D1757,FIND(\"h \",D1757)-1 )+LEFT(RIGHT(D1757,3),2)/60   ),0))","v":0.71666666666666667},{"$f":"SUMIFS(J:J,C:C,C1757,A:A,\">\"&$S$4)","v":2.083333333333333},{"$f":"IF(COUNTIF(K$1:K1757,K1757)=1,K1757,\"\")","v":""}]
["2023-08-19","Alejandro Castanon Diaz","Administrativo - ACD","03m",null,"17:28:00","17:55:00",1.93,0,0.05,33.966666666666676,{"$f":"IF(COUNTIF(K$1:K1758,K1758)=1,K1758,\"\")","v":""}]
["2023-08-19","Alejandro Castanon Diaz","Tiempo Libre - ACD","05m",null,"17:41:00","17:55:00",3.21,0,8.3333333333333329E-2,4.5166666666666657,{"$f":"IF(COUNTIF(K$1:K1759,K1759)=1,K1759,\"\")","v":""}]
["2023-08-19","Alejandro Castanon Diaz","Administrativo - ACD","02m",null,"18:11:00","18:28:00",1.71,0,3.3333333333333333E-2,33.966666666666676,{"$f":"IF(COUNTIF(K$1:K1760,K1760)=1,K1760,\"\")","v":""}]
["2023-08-19","Alejandro Castanon Diaz","Tiempo Libre - ACD","06m",null,"18:22:00","18:28:00",3.99,0,0.1,4.5166666666666657,{"$f":"IF(COUNTIF(K$1:K1761,K1761)=1,K1761,\"\")","v":""}]
["2023-08-19","Alejandro Castanon Diaz","Administrativo - ACD","32s",null,"18:39:00","18:40:00",0.34,0,0,33.966666666666676,{"$f":"IF(COUNTIF(K$1:K1762,K1762)=1,K1762,\"\")","v":""}]
["2023-08-19","Alejandro Castanon Diaz","Ricardo Cuerna - Fixum facturacion","29s",null,"19:31:00","19:32:00",0.31,0,0,5.4666666666666668,{"$f":"IF(COUNTIF(K$1:K1763,K1763)=1,K1763,\"\")","v":""}]
["2023-08-19","Alejandro Castanon Diaz","Tiempo Libre - ACD","42s",null,"19:32:00","19:32:00",0.44,0,0,4.5166666666666657,{"$f":"IF(COUNTIF(K$1:K1764,K1764)=1,K1764,\"\")","v":""}]
["2023-08-19","Alejandro Castanon Diaz","Administrativo - ACD","17m",null,"21:04:00","21:39:00",10.9,0,0.28333333333333333,33.966666666666676,{"$f":"IF(COUNTIF(K$1:K1765,K1765)=1,K1765,\"\")","v":""}]
["2023-08-19","Alejandro Castanon Diaz","Hostings - ACD","19m",null,"21:04:00","21:51:00",12.3,0,0.31666666666666665,2.4499999999999993,{"$f":"IF(COUNTIF(K$1:K1766,K1766)=1,K1766,\"\")","v":""}]
["2023-08-19","Alejandro Castanon Diaz","Steve 5 10 - Página personal protfolio","01m",null,"21:08:00","21:14:00",0.64,0,1.6666666666666666E-2,1.0333333333333332,{"$f":"IF(COUNTIF(K$1:K1767,K1767)=1,K1767,\"\")","v":""}]
["2023-08-19","Alejandro Castanon Diaz","Tiempo Libre - ACD","23s",null,"21:12:00","21:13:00",0.24,0,0,4.5166666666666657,{"$f":"IF(COUNTIF(K$1:K1768,K1768)=1,K1768,\"\")","v":""}]
["2023-08-19","Alejandro Castanon Diaz","Steve 5 10 - Página personal protfolio","19s",null,"21:24:00","21:28:00",0.2,0,0,1.0333333333333332,{"$f":"IF(COUNTIF(K$1:K1769,K1769)=1,K1769,\"\")","v":""}]
["2023-08-19","Alejandro Castanon Diaz","Paul Freelancer - 2nd round crypto website","09m",null,"21:34:00","21:51:00",5.84,0,0.15,0.3,{"$f":"IF(COUNTIF(K$1:K1770,K1770)=1,K1770,\"\")","v":""}]
["2023-08-19","Alejandro Castanon Diaz","Administrativo - ACD","10m",null,"21:51:00","22:02:00",6.65,0,0.16666666666666666,33.966666666666676,{"$f":"IF(COUNTIF(K$1:K1771,K1771)=1,K1771,\"\")","v":""}]
["2023-08-19","Alejandro Castanon Diaz","Nick Advizee - fijo","14s",null,"21:58:00","21:58:00",0.15,0,0,4.5333333333333332,{"$f":"IF(COUNTIF(K$1:K1772,K1772)=1,K1772,\"\")","v":""}]
["2023-08-19","Alejandro Castanon Diaz","Paul Freelancer - 2nd round crypto website","01m",null,"22:02:00","22:19:00",1.02,0,1.6666666666666666E-2,0.3,{"$f":"IF(COUNTIF(K$1:K1773,K1773)=1,K1773,\"\")","v":""}]
["2023-08-19","Alejandro Castanon Diaz","Hostings - ACD","27m",null,"22:02:00","22:34:00",17.13,0,0.45,2.4499999999999993,{"$f":"IF(COUNTIF(K$1:K1774,K1774)=1,K1774,\"\")","v":""}]
["2023-08-19","Alejandro Castanon Diaz","Administrativo - ACD","02m",null,"22:16:00","22:19:00",1.89,0,3.3333333333333333E-2,33.966666666666676,{"$f":"IF(COUNTIF(K$1:K1775,K1775)=1,K1775,\"\")","v":""}]
["2023-08-19","Alejandro Castanon Diaz","Administrativo - ACD","10m",null,"22:34:00","22:52:00",6.6,0,0.16666666666666666,33.966666666666676,{"$f":"IF(COUNTIF(K$1:K1776,K1776)=1,K1776,\"\")","v":""}]
["2023-08-19","Alejandro Castanon Diaz","Paul Freelancer - 2nd round crypto website","02m",null,"22:43:00","23:11:00",1.36,0,3.3333333333333333E-2,0.3,{"$f":"IF(COUNTIF(K$1:K1777,K1777)=1,K1777,\"\")","v":""}]
["2023-08-19","Alejandro Castanon Diaz","Faby - Crawler Farmakosto","05m",null,"22:43:00","23:10:00",3.47,0,8.3333333333333329E-2,5.5333333333333323,{"$f":"IF(COUNTIF(K$1:K1778,K1778)=1,K1778,\"\")","v":""}]
["2023-08-19","Alejandro Castanon Diaz","Viv Freelancer - 5 column filter","40m",null,"22:49:00","23:59:00",25.62,0,0.66666666666666663,0.1,{"$f":"IF(COUNTIF(K$1:K1779,K1779)=1,K1779,\"\")","v":""}]
["2023-08-19","Alejandro Castanon Diaz","Juan Balnearis - Landing y cambios web","45s",null,"22:50:00","22:51:00",0.48,0,0,1.0166666666666666,{"$f":"IF(COUNTIF(K$1:K1780,K1780)=1,K1780,\"\")","v":""}]
["2023-08-19","Alejandro Castanon Diaz","Faby - PMI Ame Sitio multilang","03m",null,"22:51:00","23:37:00",2.08,0,0.05,0,{"$f":"IF(COUNTIF(K$1:K1781,K1781)=1,K1781,\"\")","v":""}]
["2023-08-19","Alejandro Castanon Diaz","Steve 5 10 - Página personal protfolio","01m",null,"22:51:00","23:11:00",0.87,0,1.6666666666666666E-2,1.0333333333333332,{"$f":"IF(COUNTIF(K$1:K1782,K1782)=1,K1782,\"\")","v":""}]
["2023-08-19","Alejandro Castanon Diaz","Bjorn Sueco - Nordic foods 2nd round","06m",null,"22:55:00","23:08:00",3.86,0,0.1,2.083333333333333,{"$f":"IF(COUNTIF(K$1:K1783,K1783)=1,K1783,\"\")","v":""}]
["2023-08-19","Alejandro Castanon Diaz","Faby - LB Logistics","04m",null,"22:55:00","23:37:00",3,0,6.6666666666666666E-2,0,{"$f":"IF(COUNTIF(K$1:K1784,K1784)=1,K1784,\"\")","v":""}]
["2023-08-19","Alejandro Castanon Diaz","Hostings - ACD","01m",null,"23:04:00","23:08:00",0.73,0,1.6666666666666666E-2,2.4499999999999993,{"$f":"IF(COUNTIF(K$1:K1785,K1785)=1,K1785,\"\")","v":""}]
["2023-08-19","Alejandro Castanon Diaz","Administrativo - ACD","01m",null,"23:04:00","23:10:00",1.1299999999999999,0,1.6666666666666666E-2,33.966666666666676,{"$f":"IF(COUNTIF(K$1:K1786,K1786)=1,K1786,\"\")","v":""}]
["2023-08-19","Alejandro Castanon Diaz","Administrativo - ACD","5s",null,"23:20:00","23:20:00",0.05,0,0,33.966666666666676,{"$f":"IF(COUNTIF(K$1:K1787,K1787)=1,K1787,\"\")","v":""}]
["2023-08-19","Alejandro Castanon Diaz","Faby - Crawler Farmakosto","9s",null,"23:20:00","23:22:00",0.1,0,0,5.5333333333333323,{"$f":"IF(COUNTIF(K$1:K1788,K1788)=1,K1788,\"\")","v":""}]
["2023-08-19","Alejandro Castanon Diaz","Steve 5 10 - Página personal protfolio","13s",null,"23:22:00","23:22:00",0.14000000000000001,0,0,1.0333333333333332,{"$f":"IF(COUNTIF(K$1:K1789,K1789)=1,K1789,\"\")","v":""}]
["2023-08-19","Alejandro Castanon Diaz","Paul Freelancer - 2nd round crypto website","2s",null,"23:22:00","23:22:00",0.02,0,0,0.3,{"$f":"IF(COUNTIF(K$1:K1790,K1790)=1,K1790,\"\")","v":""}]
["2023-08-19","Alejandro Castanon Diaz","Bjorn Sueco - Nordic foods 2nd round","06m",null,"23:22:00","23:37:00",4.26,0,0.1,2.083333333333333,{"$f":"IF(COUNTIF(K$1:K1791,K1791)=1,K1791,\"\")","v":""}]
["2023-08-19","Alejandro Castanon Diaz","Administrativo - ACD","32s",null,"23:33:00","23:33:00",0.34,0,0,33.966666666666676,{"$f":"IF(COUNTIF(K$1:K1792,K1792)=1,K1792,\"\")","v":""}]
["2023-08-19","Alejandro Castanon Diaz","Faby - Crawler Farmakosto","2s",null,"23:37:00","23:37:00",0.02,0,0,5.5333333333333323,{"$f":"IF(COUNTIF(K$1:K1793,K1793)=1,K1793,\"\")","v":""}]
["2023-08-19","Alejandro Castanon Diaz","Paul Freelancer - 2nd round crypto website","3s",null,"23:37:00","23:37:00",0.03,0,0,0.3,{"$f":"IF(COUNTIF(K$1:K1794,K1794)=1,K1794,\"\")","v":""}]
["2023-08-19","Alejandro Castanon Diaz","Steve 5 10 - Página personal protfolio","5s",null,"23:37:00","23:37:00",0.05,0,0,1.0333333333333332,{"$f":"IF(COUNTIF(K$1:K1795,K1795)=1,K1795,\"\")","v":""}]
["2023-08-19","Alejandro Castanon Diaz","Administrativo - ACD","23s",null,"23:51:00","23:51:00",0.24,0,0,33.966666666666676,{"$f":"IF(COUNTIF(K$1:K1796,K1796)=1,K1796,\"\")","v":""}]
["2023-08-20","Alejandro Castanon Diaz","Viv Freelancer - 5 column filter","01m",null,"00:00:00","00:01:00",0.99,0,1.6666666666666666E-2,0.1,{"$f":"IF(COUNTIF(K$1:K1797,K1797)=1,K1797,\"\")","v":""}]
["2023-08-20","Alejandro Castanon Diaz","Faby - LB Logistics","7s",null,"00:01:00","00:01:00",7.0000000000000007E-2,0,0,0,{"$f":"IF(COUNTIF(K$1:K1798,K1798)=1,K1798,\"\")","v":""}]
["2023-08-20","Alejandro Castanon Diaz","Faby - Crawler Farmakosto","3s",null,"00:01:00","00:01:00",0.03,0,0,5.5333333333333323,{"$f":"IF(COUNTIF(K$1:K1799,K1799)=1,K1799,\"\")","v":""}]
["2023-08-20","Alejandro Castanon Diaz","Paul Freelancer - 2nd round crypto website","4s",null,"00:01:00","00:01:00",0.04,0,0,0.3,{"$f":"IF(COUNTIF(K$1:K1800,K1800)=1,K1800,\"\")","v":""}]
["2023-08-20","Alejandro Castanon Diaz","Faby - PMI Ame Sitio multilang","5s",null,"00:01:00","00:01:00",0.05,0,0,0,{"$f":"IF(COUNTIF(K$1:K1801,K1801)=1,K1801,\"\")","v":""}]
["2023-08-20","Alejandro Castanon Diaz","Steve 5 10 - Página personal protfolio","02m",null,"00:01:00","00:06:00",1.74,0,3.3333333333333333E-2,1.0333333333333332,{"$f":"IF(COUNTIF(K$1:K1802,K1802)=1,K1802,\"\")","v":""}]
["2023-08-20","Alejandro Castanon Diaz","Bjorn Sueco - Nordic foods 2nd round","32m",null,"00:02:00","00:40:00",20.74,0,0.53333333333333333,2.083333333333333,{"$f":"IF(COUNTIF(K$1:K1803,K1803)=1,K1803,\"\")","v":""}]
["2023-08-20","Alejandro Castanon Diaz","Administrativo - ACD","02m",null,"00:02:00","00:04:00",1.35,0,3.3333333333333333E-2,33.966666666666676,{"$f":"IF(COUNTIF(K$1:K1804,K1804)=1,K1804,\"\")","v":""}]
["2023-08-20","Alejandro Castanon Diaz","Faby - LB Logistics","2s",null,"00:27:00","00:27:00",0.02,0,0,0,{"$f":"IF(COUNTIF(K$1:K1805,K1805)=1,K1805,\"\")","v":""}]
["2023-08-20","Alejandro Castanon Diaz","Paul Freelancer - 2nd round crypto website","6s",null,"00:27:00","00:27:00",0.06,0,0,0.3,{"$f":"IF(COUNTIF(K$1:K1806,K1806)=1,K1806,\"\")","v":""}]
["2023-08-20","Alejandro Castanon Diaz","Steve 5 10 - Página personal protfolio","9s",null,"00:27:00","00:27:00",0.1,0,0,1.0333333333333332,{"$f":"IF(COUNTIF(K$1:K1807,K1807)=1,K1807,\"\")","v":""}]
["2023-08-20","Alejandro Castanon Diaz","Faby - Crawler Farmakosto","5s",null,"00:27:00","00:27:00",0.05,0,0,5.5333333333333323,{"$f":"IF(COUNTIF(K$1:K1808,K1808)=1,K1808,\"\")","v":""}]
["2023-08-20","Alejandro Castanon Diaz","Steve 5 10 - Página personal protfolio","5s",null,"10:39:00","10:39:00",0.05,0,0,1.0333333333333332,{"$f":"IF(COUNTIF(K$1:K1809,K1809)=1,K1809,\"\")","v":""}]
["2023-08-20","Alejandro Castanon Diaz","Faby - PMI Ame Sitio multilang","44s",null,"10:39:00","10:50:00",0.46,0,0,0,{"$f":"IF(COUNTIF(K$1:K1810,K1810)=1,K1810,\"\")","v":""}]
["2023-08-20","Alejandro Castanon Diaz","Paul Freelancer - 2nd round crypto website","52m",null,"10:39:00","12:12:00",33.56,0,0.8666666666666667,0.3,{"$f":"IF(COUNTIF(K$1:K1811,K1811)=1,K1811,\"\")","v":""}]
["2023-08-20","Alejandro Castanon Diaz","Administrativo - ACD","15m",null,"10:40:00","10:59:00",10.119999999999999,0,0.25,33.966666666666676,{"$f":"IF(COUNTIF(K$1:K1812,K1812)=1,K1812,\"\")","v":""}]
["2023-08-20","Alejandro Castanon Diaz","Steve 5 10 - Página personal protfolio","8s",null,"10:49:00","10:49:00",0.08,0,0,1.0333333333333332,{"$f":"IF(COUNTIF(K$1:K1813,K1813)=1,K1813,\"\")","v":""}]
["2023-08-20","Alejandro Castanon Diaz","Faby - Crawler Farmakosto","15s",null,"10:49:00","11:00:00",0.16,0,0,5.5333333333333323,{"$f":"IF(COUNTIF(K$1:K1814,K1814)=1,K1814,\"\")","v":""}]
["2023-08-20","Alejandro Castanon Diaz","Faby - LB Logistics","22s",null,"10:50:00","11:00:00",0.23,0,0,0,{"$f":"IF(COUNTIF(K$1:K1815,K1815)=1,K1815,\"\")","v":""}]
["2023-08-20","Alejandro Castanon Diaz","Hostings - ACD","17m",null,"10:50:00","12:11:00",10.8,0,0.28333333333333333,2.4499999999999993,{"$f":"IF(COUNTIF(K$1:K1816,K1816)=1,K1816,\"\")","v":""}]
["2023-08-20","Alejandro Castanon Diaz","Faby - PMI Ame Sitio multilang","6s",null,"11:00:00","11:00:00",0.06,0,0,0,{"$f":"IF(COUNTIF(K$1:K1817,K1817)=1,K1817,\"\")","v":""}]
["2023-08-20","Alejandro Castanon Diaz","Administrativo - ACD","27s",null,"11:45:00","11:47:00",0.28999999999999998,0,0,33.966666666666676,{"$f":"IF(COUNTIF(K$1:K1818,K1818)=1,K1818,\"\")","v":""}]
["2023-08-20","Alejandro Castanon Diaz","Faby - Crawler Farmakosto","04m",null,"11:53:00","12:02:00",2.95,0,6.6666666666666666E-2,5.5333333333333323,{"$f":"IF(COUNTIF(K$1:K1819,K1819)=1,K1819,\"\")","v":""}]
["2023-08-20","Alejandro Castanon Diaz","Administrativo - ACD","02m",null,"12:11:00","12:14:00",1.37,0,3.3333333333333333E-2,33.966666666666676,{"$f":"IF(COUNTIF(K$1:K1820,K1820)=1,K1820,\"\")","v":""}]
["2023-08-21","Alejandro Castanon Diaz","Administrativo - ACD","2h 43m",null,"10:48:00","14:57:00",103.82,0,{"$f":"IF(D1821=\"\",\"\",IF(ISERROR(FIND(\"s\",D1821)),IF(ISERROR(FIND(\"h \",D1821)),LEFT(D1821,2)/60,   LEFT(D1821,FIND(\"h \",D1821)-1 )+LEFT(RIGHT(D1821,3),2)/60   ),0))","v":2.7166666666666668},{"$f":"SUMIFS(J:J,C:C,C1821,A:A,\">\"&$S$4)","v":33.966666666666676},{"$f":"IF(COUNTIF(K$1:K1821,K1821)=1,K1821,\"\")","v":""}]
["2023-08-21","Alejandro Castanon Diaz","Hostings - ACD","04m",null,"10:52:00","11:21:00",3.07,0,6.6666666666666666E-2,2.4499999999999993,{"$f":"IF(COUNTIF(K$1:K1822,K1822)=1,K1822,\"\")","v":""}]
["2023-08-21","Alejandro Castanon Diaz","Steve 5 10 - Página personal protfolio","30s",null,"10:57:00","10:58:00",0.32,0,0,1.0333333333333332,{"$f":"IF(COUNTIF(K$1:K1823,K1823)=1,K1823,\"\")","v":""}]
["2023-08-21","Alejandro Castanon Diaz","Tiempo Libre - ACD","01m",null,"11:00:00","11:09:00",0.67,0,1.6666666666666666E-2,4.5166666666666657,{"$f":"IF(COUNTIF(K$1:K1824,K1824)=1,K1824,\"\")","v":""}]
["2023-08-21","Alejandro Castanon Diaz","Hostings - ACD","02m",null,"12:00:00","12:02:00",1.4,0,3.3333333333333333E-2,2.4499999999999993,{"$f":"IF(COUNTIF(K$1:K1825,K1825)=1,K1825,\"\")","v":""}]
["2023-08-21","Alejandro Castanon Diaz","Tiempo Libre - ACD","04m",null,"12:02:00","12:07:00",3.06,0,6.6666666666666666E-2,4.5166666666666657,{"$f":"IF(COUNTIF(K$1:K1826,K1826)=1,K1826,\"\")","v":""}]
["2023-08-21","Alejandro Castanon Diaz","Hostings - ACD","25m",null,"12:19:00","13:00:00",15.9,0,0.41666666666666669,2.4499999999999993,{"$f":"IF(COUNTIF(K$1:K1827,K1827)=1,K1827,\"\")","v":""}]
["2023-08-21","Alejandro Castanon Diaz","Juan Balnearis - Landing y cambios web","42s",null,"12:33:00","12:34:00",0.44,0,0,1.0166666666666666,{"$f":"IF(COUNTIF(K$1:K1828,K1828)=1,K1828,\"\")","v":""}]
["2023-08-21","Alejandro Castanon Diaz","Nick Advizee - fijo","47s",null,"12:54:00","12:55:00",0.5,0,0,4.5333333333333332,{"$f":"IF(COUNTIF(K$1:K1829,K1829)=1,K1829,\"\")","v":""}]
["2023-08-21","Alejandro Castanon Diaz","Hostings - ACD","12s",null,"13:11:00","13:11:00",0.13,0,0,2.4499999999999993,{"$f":"IF(COUNTIF(K$1:K1830,K1830)=1,K1830,\"\")","v":""}]
["2023-08-21","Alejandro Castanon Diaz","Bjorn Sueco - Nordic foods 2nd round","02m",null,"13:11:00","13:24:00",1.77,0,3.3333333333333333E-2,2.083333333333333,{"$f":"IF(COUNTIF(K$1:K1831,K1831)=1,K1831,\"\")","v":""}]
["2023-08-21","Alejandro Castanon Diaz","Faby - Crawler Farmakosto","38s",null,"13:17:00","13:28:00",0.4,0,0,5.5333333333333323,{"$f":"IF(COUNTIF(K$1:K1832,K1832)=1,K1832,\"\")","v":""}]
["2023-08-21","Alejandro Castanon Diaz","Hostings - ACD","01m",null,"13:21:00","13:32:00",1.1599999999999999,0,1.6666666666666666E-2,2.4499999999999993,{"$f":"IF(COUNTIF(K$1:K1833,K1833)=1,K1833,\"\")","v":""}]
["2023-08-21","Alejandro Castanon Diaz","Carlos Sanchez - rehacer chrishop.mx","11m",null,"13:28:00","13:43:00",6.97,0,0.18333333333333332,0,{"$f":"IF(COUNTIF(K$1:K1834,K1834)=1,K1834,\"\")","v":""}]
["2023-08-21","Alejandro Castanon Diaz","Juan Balnearis - Landing y cambios web","02m",null,"13:36:00","13:43:00",1.73,0,3.3333333333333333E-2,1.0166666666666666,{"$f":"IF(COUNTIF(K$1:K1835,K1835)=1,K1835,\"\")","v":""}]
["2023-08-21","Alejandro Castanon Diaz","Bjorn Sueco - Nordic foods 2nd round","5s",null,"13:43:00","13:50:00",0.05,0,0,2.083333333333333,{"$f":"IF(COUNTIF(K$1:K1836,K1836)=1,K1836,\"\")","v":""}]
["2023-08-21","Alejandro Castanon Diaz","Hostings - ACD","2s",null,"13:50:00","13:50:00",0.02,0,0,2.4499999999999993,{"$f":"IF(COUNTIF(K$1:K1837,K1837)=1,K1837,\"\")","v":""}]
["2023-08-21","Alejandro Castanon Diaz","Viv Freelancer - 5 column filter","03m",null,"13:51:00","13:55:00",2.48,0,0.05,0.1,{"$f":"IF(COUNTIF(K$1:K1838,K1838)=1,K1838,\"\")","v":""}]
["2023-08-21","Alejandro Castanon Diaz","Juan Balnearis - Landing y cambios web","44s",null,"13:55:00","14:00:00",0.46,0,0,1.0166666666666666,{"$f":"IF(COUNTIF(K$1:K1839,K1839)=1,K1839,\"\")","v":""}]
["2023-08-21","Alejandro Castanon Diaz","Alejandro Disidentes - Sixbell","16s",null,"14:05:00","14:06:00",0.17,0,0,2.2666666666666666,{"$f":"IF(COUNTIF(K$1:K1840,K1840)=1,K1840,\"\")","v":""}]
["2023-08-21","Alejandro Castanon Diaz","Hostings - ACD","06m",null,"14:09:00","14:31:00",3.9,0,0.1,2.4499999999999993,{"$f":"IF(COUNTIF(K$1:K1841,K1841)=1,K1841,\"\")","v":""}]
["2023-08-21","Alejandro Castanon Diaz","Bjorn Sueco - Nordic foods 2nd round","14s",null,"14:31:00","14:32:00",0.15,0,0,2.083333333333333,{"$f":"IF(COUNTIF(K$1:K1842,K1842)=1,K1842,\"\")","v":""}]
["2023-08-21","Alejandro Castanon Diaz","Tiempo Libre - ACD","02m",null,"14:37:00","14:40:00",1.31,0,3.3333333333333333E-2,4.5166666666666657,{"$f":"IF(COUNTIF(K$1:K1843,K1843)=1,K1843,\"\")","v":""}]
["2023-08-21","Alejandro Castanon Diaz","Juan Balnearis - Landing y cambios web","5s",null,"14:41:00","14:41:00",0.05,0,0,1.0166666666666666,{"$f":"IF(COUNTIF(K$1:K1844,K1844)=1,K1844,\"\")","v":""}]
["2023-08-21","Alejandro Castanon Diaz","Juan Balnearis - Maquetar figma a html","5s",null,"14:41:00","14:41:00",0.05,0,0,0,{"$f":"IF(COUNTIF(K$1:K1845,K1845)=1,K1845,\"\")","v":""}]
["2023-08-21","Alejandro Castanon Diaz","Tiempo Libre - ACD","37m",null,"17:26:00","18:04:00",23.59,0,0.6166666666666667,4.5166666666666657,{"$f":"IF(COUNTIF(K$1:K1846,K1846)=1,K1846,\"\")","v":""}]
["2023-08-21","Alejandro Castanon Diaz","Administrativo - ACD","01m",null,"18:17:00","18:18:00",0.86,0,1.6666666666666666E-2,33.966666666666676,{"$f":"IF(COUNTIF(K$1:K1847,K1847)=1,K1847,\"\")","v":""}]
["2023-08-21","Alejandro Castanon Diaz","Diana Inlat - Rehacer Ingeurbe","8s",null,"18:17:00","18:17:00",0.08,0,0,1.6666666666666666E-2,{"$f":"IF(COUNTIF(K$1:K1848,K1848)=1,K1848,\"\")","v":""}]
["2023-08-21","Alejandro Castanon Diaz","Ricardo Cuerna - Fixum facturacion","1h 04m",null,"18:17:00","19:35:00",40.86,0,1.0666666666666667,5.4666666666666668,{"$f":"IF(COUNTIF(K$1:K1849,K1849)=1,K1849,\"\")","v":""}]
["2023-08-21","Alejandro Castanon Diaz","Administrativo - ACD","53s",null,"18:31:00","18:31:00",0.56000000000000005,0,0,33.966666666666676,{"$f":"IF(COUNTIF(K$1:K1850,K1850)=1,K1850,\"\")","v":""}]
["2023-08-21","Alejandro Castanon Diaz","Administrativo - ACD","10s",null,"19:01:00","19:01:00",0.11,0,0,33.966666666666676,{"$f":"IF(COUNTIF(K$1:K1851,K1851)=1,K1851,\"\")","v":""}]
["2023-08-21","Alejandro Castanon Diaz","Administrativo - ACD","01m",null,"19:12:00","19:14:00",0.73,0,1.6666666666666666E-2,33.966666666666676,{"$f":"IF(COUNTIF(K$1:K1852,K1852)=1,K1852,\"\")","v":""}]
["2023-08-21","Alejandro Castanon Diaz","Administrativo - ACD","2h 59m",null,"19:25:00","23:09:00",113.44,0,2.9833333333333334,33.966666666666676,{"$f":"IF(COUNTIF(K$1:K1853,K1853)=1,K1853,\"\")","v":""}]
["2023-08-21","Alejandro Castanon Diaz","Juan Balnearis - Bodyclinicmx cambios","9s",null,"19:41:00","19:41:00",0.1,0,0,0.38333333333333336,{"$f":"IF(COUNTIF(K$1:K1854,K1854)=1,K1854,\"\")","v":0.38333333333333336}]
["2023-08-21","Alejandro Castanon Diaz","Faby - LB Logistics","12s",null,"19:51:00","19:51:00",0.13,0,0,0,{"$f":"IF(COUNTIF(K$1:K1855,K1855)=1,K1855,\"\")","v":""}]
["2023-08-21","Alejandro Castanon Diaz","Faby - Crawler Farmakosto","7s",null,"19:51:00","19:51:00",7.0000000000000007E-2,0,0,5.5333333333333323,{"$f":"IF(COUNTIF(K$1:K1856,K1856)=1,K1856,\"\")","v":""}]
["2023-08-21","Alejandro Castanon Diaz","Faby - PMI Ame Sitio multilang","10s",null,"19:51:00","19:51:00",0.11,0,0,0,{"$f":"IF(COUNTIF(K$1:K1857,K1857)=1,K1857,\"\")","v":""}]
["2023-08-21","Alejandro Castanon Diaz","Faby - LB Logistics","02m",null,"20:20:00","20:32:00",1.32,0,3.3333333333333333E-2,0,{"$f":"IF(COUNTIF(K$1:K1858,K1858)=1,K1858,\"\")","v":""}]
["2023-08-21","Alejandro Castanon Diaz","Faby - Crawler Farmakosto","11s",null,"20:20:00","20:21:00",0.12,0,0,5.5333333333333323,{"$f":"IF(COUNTIF(K$1:K1859,K1859)=1,K1859,\"\")","v":""}]
["2023-08-21","Alejandro Castanon Diaz","Faby - PMI Ame Sitio multilang","10s",null,"20:20:00","20:21:00",0.11,0,0,0,{"$f":"IF(COUNTIF(K$1:K1860,K1860)=1,K1860,\"\")","v":""}]
["2023-08-21","Alejandro Castanon Diaz","Steve 5 10 - Página personal protfolio","20s",null,"20:21:00","20:21:00",0.21,0,0,1.0333333333333332,{"$f":"IF(COUNTIF(K$1:K1861,K1861)=1,K1861,\"\")","v":""}]
["2023-08-21","Alejandro Castanon Diaz","Paul Freelancer - 2nd round crypto website","05m",null,"20:21:00","20:33:00",3.78,0,8.3333333333333329E-2,0.3,{"$f":"IF(COUNTIF(K$1:K1862,K1862)=1,K1862,\"\")","v":""}]
["2023-08-21","Alejandro Castanon Diaz","Faby - Crawler Farmakosto","5s",null,"20:32:00","20:32:00",0.05,0,0,5.5333333333333323,{"$f":"IF(COUNTIF(K$1:K1863,K1863)=1,K1863,\"\")","v":""}]
["2023-08-21","Alejandro Castanon Diaz","Faby - PMI Ame Sitio multilang","2s",null,"20:32:00","20:32:00",0.02,0,0,0,{"$f":"IF(COUNTIF(K$1:K1864,K1864)=1,K1864,\"\")","v":""}]
["2023-08-21","Alejandro Castanon Diaz","Steve 5 10 - Página personal protfolio","5s",null,"20:32:00","20:32:00",0.05,0,0,1.0333333333333332,{"$f":"IF(COUNTIF(K$1:K1865,K1865)=1,K1865,\"\")","v":""}]
["2023-08-21","Alejandro Castanon Diaz","Juan Balnearis - Bodyclinicmx cambios","04m",null,"20:35:00","21:02:00",2.7,0,6.6666666666666666E-2,0.38333333333333336,{"$f":"IF(COUNTIF(K$1:K1866,K1866)=1,K1866,\"\")","v":""}]
["2023-08-21","Alejandro Castanon Diaz","Juan Balnearis - clinicadelamujer","14m",null,"20:46:00","21:20:00",9.48,0,0.23333333333333334,0.16666666666666669,{"$f":"IF(COUNTIF(K$1:K1867,K1867)=1,K1867,\"\")","v":0.16666666666666669}]
["2023-08-21","Alejandro Castanon Diaz","Bjorn Sueco - Nordic foods 2nd round","7s",null,"20:55:00","20:56:00",7.0000000000000007E-2,0,0,2.083333333333333,{"$f":"IF(COUNTIF(K$1:K1868,K1868)=1,K1868,\"\")","v":""}]
["2023-08-21","Alejandro Castanon Diaz","Viv Freelancer - 5 column filter","9s",null,"20:56:00","20:56:00",0.1,0,0,0.1,{"$f":"IF(COUNTIF(K$1:K1869,K1869)=1,K1869,\"\")","v":""}]
["2023-08-21","Alejandro Castanon Diaz","Ricardo Cuerna - Fixum facturacion","42s",null,"20:56:00","20:57:00",0.44,0,0,5.4666666666666668,{"$f":"IF(COUNTIF(K$1:K1870,K1870)=1,K1870,\"\")","v":""}]
["2023-08-21","Alejandro Castanon Diaz","Paul Freelancer - 2nd round crypto website","15s",null,"21:16:00","21:16:00",0.16,0,0,0.3,{"$f":"IF(COUNTIF(K$1:K1871,K1871)=1,K1871,\"\")","v":""}]
["2023-08-21","Alejandro Castanon Diaz","Juan Balnearis - Bodyclinicmx cambios","01m",null,"21:17:00","21:20:00",0.84,0,1.6666666666666666E-2,0.38333333333333336,{"$f":"IF(COUNTIF(K$1:K1872,K1872)=1,K1872,\"\")","v":""}]
["2023-08-21","Alejandro Castanon Diaz","Bjorn Sueco - Nordic foods 2nd round","20s",null,"21:31:00","21:31:00",0.21,0,0,2.083333333333333,{"$f":"IF(COUNTIF(K$1:K1873,K1873)=1,K1873,\"\")","v":""}]
["2023-08-21","Alejandro Castanon Diaz","Juan Balnearis - Bodyclinicmx cambios","22s",null,"21:36:00","21:36:00",0.23,0,0,0.38333333333333336,{"$f":"IF(COUNTIF(K$1:K1874,K1874)=1,K1874,\"\")","v":""}]
["2023-08-21","Alejandro Castanon Diaz","Juan Balnearis - clinicadelamujer","18s",null,"21:38:00","21:39:00",0.19,0,0,0.16666666666666669,{"$f":"IF(COUNTIF(K$1:K1875,K1875)=1,K1875,\"\")","v":""}]
["2023-08-21","Alejandro Castanon Diaz","Ricardo Cuerna - Fixum Carta Porte","26s",null,"21:50:00","21:51:00",0.27,0,0,0,{"$f":"IF(COUNTIF(K$1:K1876,K1876)=1,K1876,\"\")","v":""}]
["2023-08-21","Alejandro Castanon Diaz","Ricardo Cuerna - Fixum facturacion","28s",null,"21:50:00","21:51:00",0.3,0,0,5.4666666666666668,{"$f":"IF(COUNTIF(K$1:K1877,K1877)=1,K1877,\"\")","v":""}]
["2023-08-21","Alejandro Castanon Diaz","Ricardo Cuerna - Fixum facturacion","31s",null,"22:05:00","22:14:00",0.33,0,0,5.4666666666666668,{"$f":"IF(COUNTIF(K$1:K1878,K1878)=1,K1878,\"\")","v":""}]
["2023-08-21","Alejandro Castanon Diaz","Juan Balnearis - Bodyclinicmx cambios","20s",null,"22:08:00","22:08:00",0.21,0,0,0.38333333333333336,{"$f":"IF(COUNTIF(K$1:K1879,K1879)=1,K1879,\"\")","v":""}]
["2023-08-21","Alejandro Castanon Diaz","Tiempo Libre - ACD","14m",null,"22:17:00","22:31:00",8.98,0,0.23333333333333334,4.5166666666666657,{"$f":"IF(COUNTIF(K$1:K1880,K1880)=1,K1880,\"\")","v":""}]
["2023-08-21","Alejandro Castanon Diaz","Ricardo Cuerna - Fixum facturacion","52s",null,"22:24:00","22:29:00",0.55000000000000004,0,0,5.4666666666666668,{"$f":"IF(COUNTIF(K$1:K1881,K1881)=1,K1881,\"\")","v":""}]
["2023-08-21","Alejandro Castanon Diaz","Ricardo Cuerna - Fixum facturacion","50s",null,"22:51:00","22:52:00",0.53,0,0,5.4666666666666668,{"$f":"IF(COUNTIF(K$1:K1882,K1882)=1,K1882,\"\")","v":""}]
["2023-08-22","Alejandro Castanon Diaz","Administrativo - ACD","09m",null,"11:00:00","11:09:00",6.18,0,0.15,33.966666666666676,{"$f":"IF(COUNTIF(K$1:K1883,K1883)=1,K1883,\"\")","v":""}]
["2023-08-22","Alejandro Castanon Diaz","Tiempo Libre - ACD","20m",null,"11:16:00","11:37:00",13.23,0,0.33333333333333331,4.5166666666666657,{"$f":"IF(COUNTIF(K$1:K1884,K1884)=1,K1884,\"\")","v":""}]
["2023-08-22","Alejandro Castanon Diaz","Administrativo - ACD","08m",null,"11:41:00","11:49:00",5.5,0,{"$f":"IF(D1885=\"\",\"\",IF(ISERROR(FIND(\"s\",D1885)),IF(ISERROR(FIND(\"h \",D1885)),LEFT(D1885,2)/60,   LEFT(D1885,FIND(\"h \",D1885)-1 )+LEFT(RIGHT(D1885,3),2)/60   ),0))","v":0.13333333333333333},{"$f":"SUMIFS(J:J,C:C,C1885,A:A,\">\"&$S$4)","v":33.966666666666676},{"$f":"IF(COUNTIF(K$1:K1885,K1885)=1,K1885,\"\")","v":""}]
["2023-08-22","Alejandro Castanon Diaz","Administrativo - ACD","07m",null,"12:56:00","13:08:00",4.75,0,0.11666666666666667,33.966666666666676,{"$f":"IF(COUNTIF(K$1:K1886,K1886)=1,K1886,\"\")","v":""}]
["2023-08-22","Alejandro Castanon Diaz","Nick Advizee - fijo","12s",null,"13:08:00","13:08:00",0.13,0,0,4.5333333333333332,{"$f":"IF(COUNTIF(K$1:K1887,K1887)=1,K1887,\"\")","v":""}]
["2023-08-22","Alejandro Castanon Diaz","Tiempo Libre - ACD","09m",null,"13:08:00","13:17:00",5.86,0,0.15,4.5166666666666657,{"$f":"IF(COUNTIF(K$1:K1888,K1888)=1,K1888,\"\")","v":""}]
["2023-08-22","Alejandro Castanon Diaz","Administrativo - ACD","53m",null,"13:42:00","15:03:00",33.74,0,0.8833333333333333,33.966666666666676,{"$f":"IF(COUNTIF(K$1:K1889,K1889)=1,K1889,\"\")","v":""}]
["2023-08-22","Alejandro Castanon Diaz","Carlos Sanchez - rehacer chrishop.mx","19m",null,"14:09:00","14:48:00",12.57,0,0.31666666666666665,0,{"$f":"IF(COUNTIF(K$1:K1890,K1890)=1,K1890,\"\")","v":""}]
["2023-08-22","Alejandro Castanon Diaz","Faby - Crawler Farmakosto","33s",null,"14:16:00","14:17:00",0.35,0,0,5.5333333333333323,{"$f":"IF(COUNTIF(K$1:K1891,K1891)=1,K1891,\"\")","v":""}]
["2023-08-22","Alejandro Castanon Diaz","Bjorn Sueco - Nordic foods 2nd round","9s",null,"14:19:00","14:19:00",0.1,0,0,2.083333333333333,{"$f":"IF(COUNTIF(K$1:K1892,K1892)=1,K1892,\"\")","v":""}]
["2023-08-22","Alejandro Castanon Diaz","Faby - Crawler Farmakosto","35s",null,"14:30:00","14:30:00",0.37,0,0,5.5333333333333323,{"$f":"IF(COUNTIF(K$1:K1893,K1893)=1,K1893,\"\")","v":""}]
["2023-08-22","Alejandro Castanon Diaz","Administrativo - ACD","1h 22m",null,"15:15:00","17:26:00",52.38,0,1.3666666666666667,33.966666666666676,{"$f":"IF(COUNTIF(K$1:K1894,K1894)=1,K1894,\"\")","v":""}]
["2023-08-22","Alejandro Castanon Diaz","Juan Balnearis - promedicamujer","05m",null,"15:39:00","15:48:00",3.58,0,8.3333333333333329E-2,0,{"$f":"IF(COUNTIF(K$1:K1895,K1895)=1,K1895,\"\")","v":""}]
["2023-08-22","Alejandro Castanon Diaz","Juan Balnearis - Landing y cambios web","38s",null,"16:01:00","16:02:00",0.4,0,0,1.0166666666666666,{"$f":"IF(COUNTIF(K$1:K1896,K1896)=1,K1896,\"\")","v":""}]
["2023-08-22","Alejandro Castanon Diaz","Juan Balnearis - promedicamujer","01m",null,"16:02:00","16:10:00",1.07,0,1.6666666666666666E-2,0,{"$f":"IF(COUNTIF(K$1:K1897,K1897)=1,K1897,\"\")","v":""}]
["2023-08-22","Alejandro Castanon Diaz","Juan Balnearis - Bodyclinicmx cambios","29s",null,"16:10:00","16:10:00",0.31,0,0,0.38333333333333336,{"$f":"IF(COUNTIF(K$1:K1898,K1898)=1,K1898,\"\")","v":""}]
["2023-08-22","Alejandro Castanon Diaz","Bjorn Sueco - Nordic foods 2nd round","24m",null,"16:12:00","16:40:00",15.62,0,0.4,2.083333333333333,{"$f":"IF(COUNTIF(K$1:K1899,K1899)=1,K1899,\"\")","v":""}]
["2023-08-22","Alejandro Castanon Diaz","Juan Balnearis - Bodyclinicmx cambios","17s",null,"16:42:00","16:44:00",0.18,0,0,0.38333333333333336,{"$f":"IF(COUNTIF(K$1:K1900,K1900)=1,K1900,\"\")","v":""}]
["2023-08-22","Alejandro Castanon Diaz","Tiempo Libre - ACD","08m",null,"16:54:00","17:17:00",5.69,0,0.13333333333333333,4.5166666666666657,{"$f":"IF(COUNTIF(K$1:K1901,K1901)=1,K1901,\"\")","v":""}]
["2023-08-22","Alejandro Castanon Diaz","Viv Freelancer - 5 column filter","7s",null,"17:06:00","17:06:00",7.0000000000000007E-2,0,0,0.1,{"$f":"IF(COUNTIF(K$1:K1902,K1902)=1,K1902,\"\")","v":""}]
["2023-08-22","Alejandro Castanon Diaz","Ricardo Cuerna - Fixum facturacion","2s",null,"17:15:00","17:15:00",0.02,0,0,5.4666666666666668,{"$f":"IF(COUNTIF(K$1:K1903,K1903)=1,K1903,\"\")","v":""}]
["2023-08-22","Alejandro Castanon Diaz","Administrativo - ACD","12m",null,"17:39:00","17:52:00",7.66,0,0.2,33.966666666666676,{"$f":"IF(COUNTIF(K$1:K1904,K1904)=1,K1904,\"\")","v":""}]
["2023-08-23","Alejandro Castanon Diaz","Tiempo Libre - ACD","08m",null,"09:53:00","10:01:00",5.4,0,0.13333333333333333,4.5166666666666657,{"$f":"IF(COUNTIF(K$1:K1905,K1905)=1,K1905,\"\")","v":""}]
["2023-08-23","Alejandro Castanon Diaz","Nick Advizee - fijo","2h 03m",null,"10:01:00","12:04:00",77.98,0,2.0499999999999998,4.5333333333333332,{"$f":"IF(COUNTIF(K$1:K1906,K1906)=1,K1906,\"\")","v":""}]
["2023-08-23","Alejandro Castanon Diaz","Administrativo - ACD","49m",null,"10:29:00","11:18:00",31.46,0,0.81666666666666665,33.966666666666676,{"$f":"IF(COUNTIF(K$1:K1907,K1907)=1,K1907,\"\")","v":""}]
["2023-08-23","Alejandro Castanon Diaz","Juan Balnearis - promedicamujer","31m",null,"11:18:00","11:50:00",19.93,0,0.51666666666666672,0,{"$f":"IF(COUNTIF(K$1:K1908,K1908)=1,K1908,\"\")","v":""}]
["2023-08-23","Alejandro Castanon Diaz","Administrativo - ACD","22m",null,"11:50:00","12:22:00",14.33,0,0.36666666666666664,33.966666666666676,{"$f":"IF(COUNTIF(K$1:K1909,K1909)=1,K1909,\"\")","v":""}]
["2023-08-23","Alejandro Castanon Diaz","Ricardo Cuerna - Fixum facturacion","19m",null,"12:15:00","12:40:00",12.12,0,0.31666666666666665,5.4666666666666668,{"$f":"IF(COUNTIF(K$1:K1910,K1910)=1,K1910,\"\")","v":""}]
["2023-08-23","Alejandro Castanon Diaz","Administrativo - ACD","1h 23m",null,"12:34:00","14:22:00",53.16,0,1.3833333333333333,33.966666666666676,{"$f":"IF(COUNTIF(K$1:K1911,K1911)=1,K1911,\"\")","v":""}]
["2023-08-23","Alejandro Castanon Diaz","Juan Balnearis - Landing y cambios web","11m",null,"12:41:00","12:53:00",7.13,0,0.18333333333333332,1.0166666666666666,{"$f":"IF(COUNTIF(K$1:K1912,K1912)=1,K1912,\"\")","v":""}]
["2023-08-23","Alejandro Castanon Diaz","Ricardo Cuerna - Fixum facturacion","02m",null,"12:59:00","13:11:00",1.6,0,3.3333333333333333E-2,5.4666666666666668,{"$f":"IF(COUNTIF(K$1:K1913,K1913)=1,K1913,\"\")","v":""}]
["2023-08-23","Alejandro Castanon Diaz","Nick Advizee - fijo","04m",null,"12:59:00","13:20:00",2.5499999999999998,0,6.6666666666666666E-2,4.5333333333333332,{"$f":"IF(COUNTIF(K$1:K1914,K1914)=1,K1914,\"\")","v":""}]
["2023-08-23","Alejandro Castanon Diaz","Juan Balnearis - Landing y cambios web","04m",null,"13:12:00","13:26:00",2.96,0,6.6666666666666666E-2,1.0166666666666666,{"$f":"IF(COUNTIF(K$1:K1915,K1915)=1,K1915,\"\")","v":""}]
["2023-08-23","Alejandro Castanon Diaz","Juan Balnearis - promedicamujer","5s",null,"13:25:00","13:27:00",0.05,0,0,0,{"$f":"IF(COUNTIF(K$1:K1916,K1916)=1,K1916,\"\")","v":""}]
["2023-08-23","Alejandro Castanon Diaz","Ricardo Cuerna - Fixum facturacion","01m",null,"13:27:00","13:52:00",1.05,0,1.6666666666666666E-2,5.4666666666666668,{"$f":"IF(COUNTIF(K$1:K1917,K1917)=1,K1917,\"\")","v":""}]
["2023-08-23","Alejandro Castanon Diaz","Administrativo - ACD","05m",null,"14:32:00","14:38:00",3.67,0,8.3333333333333329E-2,33.966666666666676,{"$f":"IF(COUNTIF(K$1:K1918,K1918)=1,K1918,\"\")","v":""}]
["2023-08-23","Alejandro Castanon Diaz","Administrativo - ACD","52m",null,"14:58:00","16:13:00",33.409999999999997,0,0.8666666666666667,33.966666666666676,{"$f":"IF(COUNTIF(K$1:K1919,K1919)=1,K1919,\"\")","v":""}]
["2023-08-23","Alejandro Castanon Diaz","Juan Balnearis - Landing y cambios web","07m",null,"15:11:00","15:19:00",5.01,0,0.11666666666666667,1.0166666666666666,{"$f":"IF(COUNTIF(K$1:K1920,K1920)=1,K1920,\"\")","v":""}]
["2023-08-23","Alejandro Castanon Diaz","Tiempo Libre - ACD","02m",null,"15:49:00","15:56:00",1.86,0,3.3333333333333333E-2,4.5166666666666657,{"$f":"IF(COUNTIF(K$1:K1921,K1921)=1,K1921,\"\")","v":""}]
["2023-08-23","Alejandro Castanon Diaz","Ricardo Cuerna - Fixum facturacion","26m",null,"15:49:00","16:28:00",16.89,0,0.43333333333333335,5.4666666666666668,{"$f":"IF(COUNTIF(K$1:K1922,K1922)=1,K1922,\"\")","v":""}]
["2023-08-23","Alejandro Castanon Diaz","Administrativo - ACD","05m",null,"16:26:00","16:53:00",3.24,0,8.3333333333333329E-2,33.966666666666676,{"$f":"IF(COUNTIF(K$1:K1923,K1923)=1,K1923,\"\")","v":""}]
["2023-08-23","Alejandro Castanon Diaz","Tiempo Libre - ACD","45s",null,"16:28:00","16:33:00",0.48,0,0,4.5166666666666657,{"$f":"IF(COUNTIF(K$1:K1924,K1924)=1,K1924,\"\")","v":""}]
["2023-08-23","Alejandro Castanon Diaz","Bjorn Sueco - Nordic foods 2nd round","18m",null,"16:30:00","16:54:00",11.85,0,0.3,2.083333333333333,{"$f":"IF(COUNTIF(K$1:K1925,K1925)=1,K1925,\"\")","v":""}]
["2023-08-23","Alejandro Castanon Diaz","Hostings - ACD","2s",null,"16:34:00","16:34:00",0.02,0,0,2.4499999999999993,{"$f":"IF(COUNTIF(K$1:K1926,K1926)=1,K1926,\"\")","v":""}]
["2023-08-23","Alejandro Castanon Diaz","Hostings - ACD","34m",null,"16:52:00","17:32:00",22.1,0,0.56666666666666665,2.4499999999999993,{"$f":"IF(COUNTIF(K$1:K1927,K1927)=1,K1927,\"\")","v":""}]
["2023-08-23","Alejandro Castanon Diaz","Bjorn Sueco - Nordic foods 2nd round","20m",null,"17:16:00","18:00:00",12.96,0,0.33333333333333331,2.083333333333333,{"$f":"IF(COUNTIF(K$1:K1928,K1928)=1,K1928,\"\")","v":""}]
["2023-08-23","Alejandro Castanon Diaz","Administrativo - ACD","02m",null,"17:17:00","17:30:00",1.78,0,3.3333333333333333E-2,33.966666666666676,{"$f":"IF(COUNTIF(K$1:K1929,K1929)=1,K1929,\"\")","v":""}]
["2023-08-23","Alejandro Castanon Diaz","Bjorn Sueco - ajustes Woo y POS","18s",null,"17:18:00","17:18:00",0.19,0,0,0,{"$f":"IF(COUNTIF(K$1:K1930,K1930)=1,K1930,\"\")","v":""}]
["2023-08-23","Alejandro Castanon Diaz","Administrativo - ACD","09m",null,"17:48:00","18:01:00",6.24,0,0.15,33.966666666666676,{"$f":"IF(COUNTIF(K$1:K1931,K1931)=1,K1931,\"\")","v":""}]
["2023-08-23","Alejandro Castanon Diaz","Hostings - ACD","2s",null,"18:01:00","18:01:00",0.02,0,0,2.4499999999999993,{"$f":"IF(COUNTIF(K$1:K1932,K1932)=1,K1932,\"\")","v":""}]
["2023-08-23","Alejandro Castanon Diaz","Administrativo - ACD","12m",null,"20:49:00","21:03:00",8.1300000000000008,0,0.2,33.966666666666676,{"$f":"IF(COUNTIF(K$1:K1933,K1933)=1,K1933,\"\")","v":""}]
["2023-08-23","Alejandro Castanon Diaz","Ricardo Cuerna - Fixum facturacion","15m",null,"20:49:00","21:29:00",10.1,0,0.25,5.4666666666666668,{"$f":"IF(COUNTIF(K$1:K1934,K1934)=1,K1934,\"\")","v":""}]
["2023-08-23","Alejandro Castanon Diaz","Administrativo - ACD","15m",null,"21:17:00","21:40:00",10.09,0,0.25,33.966666666666676,{"$f":"IF(COUNTIF(K$1:K1935,K1935)=1,K1935,\"\")","v":""}]
["2023-08-23","Alejandro Castanon Diaz","Tiempo Libre - ACD","43s",null,"21:30:00","21:31:00",0.45,0,0,4.5166666666666657,{"$f":"IF(COUNTIF(K$1:K1936,K1936)=1,K1936,\"\")","v":""}]
["2023-08-23","Alejandro Castanon Diaz","Bjorn Sueco - Nordic foods 2nd round","27m",null,"21:32:00","22:06:00",17.55,0,0.45,2.083333333333333,{"$f":"IF(COUNTIF(K$1:K1937,K1937)=1,K1937,\"\")","v":""}]
["2023-08-23","Alejandro Castanon Diaz","Administrativo - ACD","04m",null,"21:56:00","22:01:00",2.74,0,6.6666666666666666E-2,33.966666666666676,{"$f":"IF(COUNTIF(K$1:K1938,K1938)=1,K1938,\"\")","v":""}]
["2023-08-24","Alejandro Castanon Diaz","Administrativo - ACD","03m",null,"10:35:00","10:38:00",1.98,0,0.05,33.966666666666676,{"$f":"IF(COUNTIF(K$1:K1939,K1939)=1,K1939,\"\")","v":""}]
["2023-08-24","Alejandro Castanon Diaz","Tiempo Libre - ACD","17m",null,"10:38:00","10:59:00",11.37,0,0.28333333333333333,4.5166666666666657,{"$f":"IF(COUNTIF(K$1:K1940,K1940)=1,K1940,\"\")","v":""}]
["2023-08-24","Alejandro Castanon Diaz","Administrativo - ACD","2h 49m",null,"11:12:00","14:30:00",107.18,0,2.8166666666666664,33.966666666666676,{"$f":"IF(COUNTIF(K$1:K1941,K1941)=1,K1941,\"\")","v":""}]
["2023-08-24","Alejandro Castanon Diaz","Tiempo Libre - ACD","5s",null,"12:33:00","12:33:00",0.05,0,0,4.5166666666666657,{"$f":"IF(COUNTIF(K$1:K1942,K1942)=1,K1942,\"\")","v":""}]
["2023-08-24","Alejandro Castanon Diaz","Hostings - ACD","06m",null,"12:49:00","13:01:00",3.92,0,0.1,2.4499999999999993,{"$f":"IF(COUNTIF(K$1:K1943,K1943)=1,K1943,\"\")","v":""}]
["2023-08-24","Alejandro Castanon Diaz","Juan Balnearis - Landing y cambios web","01m",null,"12:50:00","13:01:00",1.06,0,1.6666666666666666E-2,1.0166666666666666,{"$f":"IF(COUNTIF(K$1:K1944,K1944)=1,K1944,\"\")","v":""}]
["2023-08-24","Alejandro Castanon Diaz","Tiempo Libre - ACD","9s",null,"12:53:00","12:53:00",0.1,0,0,4.5166666666666657,{"$f":"IF(COUNTIF(K$1:K1945,K1945)=1,K1945,\"\")","v":""}]
["2023-08-24","Alejandro Castanon Diaz","Hostings - ACD","34s",null,"13:43:00","13:48:00",0.36,0,0,2.4499999999999993,{"$f":"IF(COUNTIF(K$1:K1946,K1946)=1,K1946,\"\")","v":""}]
["2023-08-24","Alejandro Castanon Diaz","Juan Balnearis - Landing y cambios web","7s",null,"13:48:00","13:48:00",7.0000000000000007E-2,0,0,1.0166666666666666,{"$f":"IF(COUNTIF(K$1:K1947,K1947)=1,K1947,\"\")","v":""}]
["2023-08-24","Alejandro Castanon Diaz","Ricardo Cuerna - Fixum facturacion","01m",null,"13:59:00","14:00:00",0.76,0,1.6666666666666666E-2,5.4666666666666668,{"$f":"IF(COUNTIF(K$1:K1948,K1948)=1,K1948,\"\")","v":""}]
["2023-08-24","Alejandro Castanon Diaz","Viv Freelancer - 5 column filter","01m",null,"14:00:00","14:02:00",1.08,0,{"$f":"IF(D1949=\"\",\"\",IF(ISERROR(FIND(\"s\",D1949)),IF(ISERROR(FIND(\"h \",D1949)),LEFT(D1949,2)/60,   LEFT(D1949,FIND(\"h \",D1949)-1 )+LEFT(RIGHT(D1949,3),2)/60   ),0))","v":1.6666666666666666E-2},{"$f":"SUMIFS(J:J,C:C,C1949,A:A,\">\"&$S$4)","v":0.1},{"$f":"IF(COUNTIF(K$1:K1949,K1949)=1,K1949,\"\")","v":""}]
["2023-08-24","Alejandro Castanon Diaz","Hostings - ACD","07m",null,"14:02:00","14:19:00",4.87,0,0.11666666666666667,2.4499999999999993,{"$f":"IF(COUNTIF(K$1:K1950,K1950)=1,K1950,\"\")","v":""}]
["2023-08-24","Alejandro Castanon Diaz","Bjorn Sueco - Nordic foods 2nd round","53s",null,"14:07:00","14:08:00",0.56000000000000005,0,0,2.083333333333333,{"$f":"IF(COUNTIF(K$1:K1951,K1951)=1,K1951,\"\")","v":""}]
["2023-08-24","Alejandro Castanon Diaz","Juan Balnearis - Landing y cambios web","2s",null,"14:19:00","14:19:00",0.02,0,0,1.0166666666666666,{"$f":"IF(COUNTIF(K$1:K1952,K1952)=1,K1952,\"\")","v":""}]
["2023-08-24","Alejandro Castanon Diaz","Administrativo - ACD","1h 09m",null,"15:15:00","16:51:00",44.31,0,1.1499999999999999,33.966666666666676,{"$f":"IF(COUNTIF(K$1:K1953,K1953)=1,K1953,\"\")","v":""}]
["2023-08-24","Alejandro Castanon Diaz","Juan Balnearis - Landing y cambios web","7s",null,"15:22:00","15:22:00",7.0000000000000007E-2,0,0,1.0166666666666666,{"$f":"IF(COUNTIF(K$1:K1954,K1954)=1,K1954,\"\")","v":""}]
["2023-08-24","Alejandro Castanon Diaz","Juan Balnearis - promedicamujer","17s",null,"15:22:00","15:23:00",0.18,0,0,0,{"$f":"IF(COUNTIF(K$1:K1955,K1955)=1,K1955,\"\")","v":""}]
["2023-08-24","Alejandro Castanon Diaz","Faby - Crawler Farmakosto","4s",null,"15:25:00","15:27:00",0.04,0,0,5.5333333333333323,{"$f":"IF(COUNTIF(K$1:K1956,K1956)=1,K1956,\"\")","v":""}]
["2023-08-24","Alejandro Castanon Diaz","Ricardo Cuerna - Fixum facturacion","10m",null,"15:30:00","15:55:00",6.4,0,0.16666666666666666,5.4666666666666668,{"$f":"IF(COUNTIF(K$1:K1957,K1957)=1,K1957,\"\")","v":""}]
["2023-08-24","Alejandro Castanon Diaz","Juan Balnearis - clinicadelamujer","28s",null,"15:49:00","15:55:00",0.3,0,0,0.16666666666666669,{"$f":"IF(COUNTIF(K$1:K1958,K1958)=1,K1958,\"\")","v":""}]
["2023-08-24","Alejandro Castanon Diaz","Faby - Crawler Farmakosto","16s",null,"15:49:00","15:50:00",0.17,0,0,5.5333333333333323,{"$f":"IF(COUNTIF(K$1:K1959,K1959)=1,K1959,\"\")","v":""}]
["2023-08-24","Alejandro Castanon Diaz","Tiempo Libre - ACD","01m",null,"15:53:00","15:54:00",0.73,0,1.6666666666666666E-2,4.5166666666666657,{"$f":"IF(COUNTIF(K$1:K1960,K1960)=1,K1960,\"\")","v":""}]
["2023-08-24","Alejandro Castanon Diaz","Juan Balnearis - Landing y cambios web","9s",null,"15:54:00","15:55:00",0.1,0,0,1.0166666666666666,{"$f":"IF(COUNTIF(K$1:K1961,K1961)=1,K1961,\"\")","v":""}]
["2023-08-24","Alejandro Castanon Diaz","Viv Freelancer - 5 column filter","01m",null,"16:02:00","16:03:00",0.74,0,1.6666666666666666E-2,0.1,{"$f":"IF(COUNTIF(K$1:K1962,K1962)=1,K1962,\"\")","v":""}]
["2023-08-24","Alejandro Castanon Diaz","Tiempo Libre - ACD","18s",null,"16:16:00","16:17:00",0.19,0,0,4.5166666666666657,{"$f":"IF(COUNTIF(K$1:K1963,K1963)=1,K1963,\"\")","v":""}]
["2023-08-24","Alejandro Castanon Diaz","Viv Freelancer - 5 column filter","11m",null,"16:23:00","16:50:00",7.32,0,0.18333333333333332,0.1,{"$f":"IF(COUNTIF(K$1:K1964,K1964)=1,K1964,\"\")","v":""}]
["2023-08-24","Alejandro Castanon Diaz","Tiempo Libre - ACD","11s",null,"16:51:00","16:51:00",0.12,0,0,4.5166666666666657,{"$f":"IF(COUNTIF(K$1:K1965,K1965)=1,K1965,\"\")","v":""}]
["2023-08-24","Alejandro Castanon Diaz","Nick Advizee - fijo","38s",null,"20:45:00","20:46:00",0.4,0,0,4.5333333333333332,{"$f":"IF(COUNTIF(K$1:K1966,K1966)=1,K1966,\"\")","v":""}]
["2023-08-24","Alejandro Castanon Diaz","Alejandro Disidentes - Sixbell","1h 44m",null,"20:46:00","22:48:00",66.16,0,1.7333333333333334,2.2666666666666666,{"$f":"IF(COUNTIF(K$1:K1967,K1967)=1,K1967,\"\")","v":""}]
["2023-08-24","Alejandro Castanon Diaz","Administrativo - ACD","03m",null,"22:05:00","22:12:00",2.02,0,0.05,33.966666666666676,{"$f":"IF(COUNTIF(K$1:K1968,K1968)=1,K1968,\"\")","v":""}]
["2023-08-24","Alejandro Castanon Diaz","Administrativo - ACD","05m",null,"22:28:00","22:48:00",3.71,0,8.3333333333333329E-2,33.966666666666676,{"$f":"IF(COUNTIF(K$1:K1969,K1969)=1,K1969,\"\")","v":""}]
["2023-08-25","Alejandro Castanon Diaz","Administrativo - ACD","1h 02m",null,"11:26:00","12:29:00",39.44,0,1.0333333333333334,33.966666666666676,{"$f":"IF(COUNTIF(K$1:K1970,K1970)=1,K1970,\"\")","v":""}]
["2023-08-25","Alejandro Castanon Diaz","Tiempo Libre - ACD","4s",null,"11:28:00","11:28:00",0.04,0,0,4.5166666666666657,{"$f":"IF(COUNTIF(K$1:K1971,K1971)=1,K1971,\"\")","v":""}]
["2023-08-25","Alejandro Castanon Diaz","Administrativo - ACD","02m",null,"13:31:00","13:33:00",1.35,0,3.3333333333333333E-2,33.966666666666676,{"$f":"IF(COUNTIF(K$1:K1972,K1972)=1,K1972,\"\")","v":""}]
["2023-08-25","Alejandro Castanon Diaz","Administrativo - ACD","12m",null,"15:13:00","15:38:00",7.66,0,0.2,33.966666666666676,{"$f":"IF(COUNTIF(K$1:K1973,K1973)=1,K1973,\"\")","v":""}]
["2023-08-25","Alejandro Castanon Diaz","Hostings - ACD","09m",null,"15:14:00","15:39:00",5.82,0,0.15,2.4499999999999993,{"$f":"IF(COUNTIF(K$1:K1974,K1974)=1,K1974,\"\")","v":""}]
["2023-08-25","Alejandro Castanon Diaz","Bjorn Sueco - Nordic foods 2nd round","18s",null,"15:16:00","15:17:00",0.19,0,0,2.083333333333333,{"$f":"IF(COUNTIF(K$1:K1975,K1975)=1,K1975,\"\")","v":""}]
["2023-08-25","Alejandro Castanon Diaz","Faby - Crawler Farmakosto","10s",null,"15:18:00","15:18:00",0.11,0,0,5.5333333333333323,{"$f":"IF(COUNTIF(K$1:K1976,K1976)=1,K1976,\"\")","v":""}]
["2023-08-25","Alejandro Castanon Diaz","Juan Balnearis - Landing y cambios web","01m",null,"15:18:00","15:20:00",1.1399999999999999,0,1.6666666666666666E-2,1.0166666666666666,{"$f":"IF(COUNTIF(K$1:K1977,K1977)=1,K1977,\"\")","v":""}]
["2023-08-25","Alejandro Castanon Diaz","Juan Balnearis - Landing y cambios web","49s",null,"15:34:00","15:34:00",0.52,0,0,1.0166666666666666,{"$f":"IF(COUNTIF(K$1:K1978,K1978)=1,K1978,\"\")","v":""}]
["2023-08-25","Alejandro Castanon Diaz","Alejandro Disidentes - Sixbell","15m",null,"15:38:00","16:02:00",10.1,0,0.25,2.2666666666666666,{"$f":"IF(COUNTIF(K$1:K1979,K1979)=1,K1979,\"\")","v":""}]
["2023-08-25","Alejandro Castanon Diaz","Hostings - ACD","03m",null,"15:54:00","16:02:00",2.17,0,0.05,2.4499999999999993,{"$f":"IF(COUNTIF(K$1:K1980,K1980)=1,K1980,\"\")","v":""}]
["2023-08-25","Alejandro Castanon Diaz","Juan Balnearis - Landing y cambios web","12m",null,"15:54:00","16:11:00",7.72,0,0.2,1.0166666666666666,{"$f":"IF(COUNTIF(K$1:K1981,K1981)=1,K1981,\"\")","v":""}]
["2023-08-25","Alejandro Castanon Diaz","Administrativo - ACD","01m",null,"15:55:00","16:02:00",1.01,0,1.6666666666666666E-2,33.966666666666676,{"$f":"IF(COUNTIF(K$1:K1982,K1982)=1,K1982,\"\")","v":""}]
["2023-08-26","Alejandro Castanon Diaz","Administrativo - ACD","36m",null,"11:13:00","11:59:00",23.13,0,0.6,33.966666666666676,{"$f":"IF(COUNTIF(K$1:K1983,K1983)=1,K1983,\"\")","v":""}]
["2023-08-26","Alejandro Castanon Diaz","Viv Freelancer - 5 column filter","09m",null,"11:27:00","11:59:00",6.16,0,0.15,0.1,{"$f":"IF(COUNTIF(K$1:K1984,K1984)=1,K1984,\"\")","v":""}]
["2023-08-26","Alejandro Castanon Diaz","Francesco - LearnDash","20s",null,"11:27:00","11:28:00",0.21,0,0,0,{"$f":"IF(COUNTIF(K$1:K1985,K1985)=1,K1985,\"\")","v":""}]
["2023-08-26","Alejandro Castanon Diaz","Administrativo - ACD","18m",null,"18:22:00","18:41:00",11.79,0,0.3,33.966666666666676,{"$f":"IF(COUNTIF(K$1:K1986,K1986)=1,K1986,\"\")","v":""}]
["2023-08-26","Alejandro Castanon Diaz","Administrativo - ACD","01m",null,"20:25:00","20:27:00",0.83,0,1.6666666666666666E-2,33.966666666666676,{"$f":"IF(COUNTIF(K$1:K1987,K1987)=1,K1987,\"\")","v":""}]
["2023-08-28","Alejandro Castanon Diaz","Administrativo - ACD","17m",null,"10:36:00","11:05:00",11.17,0,0.28333333333333333,33.966666666666676,{"$f":"IF(COUNTIF(K$1:K1988,K1988)=1,K1988,\"\")","v":""}]
["2023-08-28","Alejandro Castanon Diaz","Tiempo Libre - ACD","01m",null,"10:37:00","10:39:00",0.88,0,1.6666666666666666E-2,4.5166666666666657,{"$f":"IF(COUNTIF(K$1:K1989,K1989)=1,K1989,\"\")","v":""}]
["2023-08-28","Alejandro Castanon Diaz","Nick Advizee - fijo","30s",null,"10:39:00","10:40:00",0.32,0,0,4.5333333333333332,{"$f":"IF(COUNTIF(K$1:K1990,K1990)=1,K1990,\"\")","v":""}]
["2023-08-28","Alejandro Castanon Diaz","Hostings - ACD","05m",null,"10:47:00","11:00:00",3.22,0,8.3333333333333329E-2,2.4499999999999993,{"$f":"IF(COUNTIF(K$1:K1991,K1991)=1,K1991,\"\")","v":""}]
["2023-08-28","Alejandro Castanon Diaz","Juan Balnearis - Landing y cambios web","30m",null,"10:49:00","11:31:00",19.100000000000001,0,0.5,1.0166666666666666,{"$f":"IF(COUNTIF(K$1:K1992,K1992)=1,K1992,\"\")","v":""}]
["2023-08-28","Alejandro Castanon Diaz","Viv Freelancer - 5 column filter","3s",null,"10:53:00","10:54:00",0.03,0,0,0.1,{"$f":"IF(COUNTIF(K$1:K1993,K1993)=1,K1993,\"\")","v":""}]
["2023-08-28","Alejandro Castanon Diaz","Administrativo - ACD","14m",null,"11:31:00","11:52:00",9.01,0,0.23333333333333334,33.966666666666676,{"$f":"IF(COUNTIF(K$1:K1994,K1994)=1,K1994,\"\")","v":""}]
["2023-08-28","Alejandro Castanon Diaz","Hostings - ACD","3s",null,"11:42:00","11:42:00",0.03,0,0,2.4499999999999993,{"$f":"IF(COUNTIF(K$1:K1995,K1995)=1,K1995,\"\")","v":""}]
["2023-08-28","Alejandro Castanon Diaz","Juan Balnearis - Landing y cambios web","55m",null,"11:42:00","12:48:00",34.880000000000003,0,0.91666666666666663,1.0166666666666666,{"$f":"IF(COUNTIF(K$1:K1996,K1996)=1,K1996,\"\")","v":""}]
["2023-08-28","Alejandro Castanon Diaz","Administrativo - ACD","03m",null,"12:14:00","12:22:00",2.5,0,0.05,33.966666666666676,{"$f":"IF(COUNTIF(K$1:K1997,K1997)=1,K1997,\"\")","v":""}]
["2023-08-28","Alejandro Castanon Diaz","Hostings - ACD","02m",null,"12:15:00","12:23:00",1.78,0,3.3333333333333333E-2,2.4499999999999993,{"$f":"IF(COUNTIF(K$1:K1998,K1998)=1,K1998,\"\")","v":""}]
["2023-08-28","Alejandro Castanon Diaz","Administrativo - ACD","1h 28m",null,"12:48:00","15:01:00",55.91,0,1.4666666666666668,33.966666666666676,{"$f":"IF(COUNTIF(K$1:K1999,K1999)=1,K1999,\"\")","v":""}]
["2023-08-28","Alejandro Castanon Diaz","Hostings - ACD","3s",null,"12:51:00","12:51:00",0.03,0,0,2.4499999999999993,{"$f":"IF(COUNTIF(K$1:K2000,K2000)=1,K2000,\"\")","v":""}]
["2023-08-28","Alejandro Castanon Diaz","Steve 5 10 - Página personal protfolio","09m",null,"12:56:00","13:16:00",5.85,0,0.15,1.0333333333333332,{"$f":"IF(COUNTIF(K$1:K2001,K2001)=1,K2001,\"\")","v":""}]
["2023-08-28","Alejandro Castanon Diaz","Bjorn Sueco - Nordic foods 2nd round","05m",null,"13:10:00","13:17:00",3.23,0,8.3333333333333329E-2,2.083333333333333,{"$f":"IF(COUNTIF(K$1:K2002,K2002)=1,K2002,\"\")","v":""}]
["2023-08-28","Alejandro Castanon Diaz","Viv Freelancer - 5 column filter","5s",null,"13:18:00","13:18:00",0.05,0,0,0.1,{"$f":"IF(COUNTIF(K$1:K2003,K2003)=1,K2003,\"\")","v":""}]
["2023-08-28","Alejandro Castanon Diaz","Alejandro Disidentes - Sixbell","22s",null,"13:18:00","13:23:00",0.23,0,0,2.2666666666666666,{"$f":"IF(COUNTIF(K$1:K2004,K2004)=1,K2004,\"\")","v":""}]
["2023-08-28","Alejandro Castanon Diaz","Ricardo CDMX - Página web","03m",null,"13:25:00","13:29:00",2.31,0,0.05,0,{"$f":"IF(COUNTIF(K$1:K2005,K2005)=1,K2005,\"\")","v":""}]
["2023-08-28","Alejandro Castanon Diaz","Tiempo Libre - ACD","08m",null,"13:29:00","13:53:00",5.51,0,0.13333333333333333,4.5166666666666657,{"$f":"IF(COUNTIF(K$1:K2006,K2006)=1,K2006,\"\")","v":""}]
["2023-08-28","Alejandro Castanon Diaz","Ricardo CDMX - Excel a Plataforma Web","23s",null,"14:17:00","14:19:00",0.24,0,0,14.983333333333334,{"$f":"IF(COUNTIF(K$1:K2007,K2007)=1,K2007,\"\")","v":14.983333333333334}]
["2023-08-28","Alejandro Castanon Diaz","Alejandro Disidentes - Sixbell","05m",null,"14:18:00","14:32:00",3.26,0,8.3333333333333329E-2,2.2666666666666666,{"$f":"IF(COUNTIF(K$1:K2008,K2008)=1,K2008,\"\")","v":""}]
["2023-08-28","Alejandro Castanon Diaz","Hostings - ACD","01m",null,"14:22:00","14:32:00",1.17,0,1.6666666666666666E-2,2.4499999999999993,{"$f":"IF(COUNTIF(K$1:K2009,K2009)=1,K2009,\"\")","v":""}]
["2023-08-28","Alejandro Castanon Diaz","Viv Freelancer - 5 column filter","02m",null,"14:33:00","14:41:00",1.39,0,3.3333333333333333E-2,0.1,{"$f":"IF(COUNTIF(K$1:K2010,K2010)=1,K2010,\"\")","v":""}]
["2023-08-28","Alejandro Castanon Diaz","Administrativo - ACD","11m",null,"15:42:00","15:54:00",7.34,0,0.18333333333333332,33.966666666666676,{"$f":"IF(COUNTIF(K$1:K2011,K2011)=1,K2011,\"\")","v":""}]
["2023-08-28","Alejandro Castanon Diaz","Viv Freelancer - 5 column filter","11s",null,"15:42:00","15:42:00",0.12,0,0,0.1,{"$f":"IF(COUNTIF(K$1:K2012,K2012)=1,K2012,\"\")","v":""}]
["2023-08-28","Alejandro Castanon Diaz","Administrativo - ACD","03m",null,"17:29:00","17:35:00",2.39,0,{"$f":"IF(D2013=\"\",\"\",IF(ISERROR(FIND(\"s\",D2013)),IF(ISERROR(FIND(\"h \",D2013)),LEFT(D2013,2)/60,   LEFT(D2013,FIND(\"h \",D2013)-1 )+LEFT(RIGHT(D2013,3),2)/60   ),0))","v":0.05},{"$f":"SUMIFS(J:J,C:C,C2013,A:A,\">\"&$S$4)","v":33.966666666666676},{"$f":"IF(COUNTIF(K$1:K2013,K2013)=1,K2013,\"\")","v":""}]
["2023-08-28","Alejandro Castanon Diaz","Tiempo Libre - ACD","01m",null,"17:32:00","17:34:00",0.87,0,1.6666666666666666E-2,4.5166666666666657,{"$f":"IF(COUNTIF(K$1:K2014,K2014)=1,K2014,\"\")","v":""}]
["2023-08-28","Alejandro Castanon Diaz","Administrativo - ACD","42m",null,"21:17:00","22:26:00",26.96,0,0.7,33.966666666666676,{"$f":"IF(COUNTIF(K$1:K2015,K2015)=1,K2015,\"\")","v":""}]
["2023-08-28","Alejandro Castanon Diaz","Alejandro Disidentes - Sixbell","06m",null,"21:19:00","21:55:00",4.13,0,0.1,2.2666666666666666,{"$f":"IF(COUNTIF(K$1:K2016,K2016)=1,K2016,\"\")","v":""}]
["2023-08-28","Alejandro Castanon Diaz","Ricardo Cuerna - Fixum facturacion","6s",null,"21:31:00","21:31:00",0.06,0,0,5.4666666666666668,{"$f":"IF(COUNTIF(K$1:K2017,K2017)=1,K2017,\"\")","v":""}]
["2023-08-28","Alejandro Castanon Diaz","Nick Advizee - fijo","09m",null,"21:43:00","22:07:00",6.01,0,0.15,4.5333333333333332,{"$f":"IF(COUNTIF(K$1:K2018,K2018)=1,K2018,\"\")","v":""}]
["2023-08-28","Alejandro Castanon Diaz","Viv Freelancer - 5 column filter","3s",null,"21:53:00","21:53:00",0.03,0,0,0.1,{"$f":"IF(COUNTIF(K$1:K2019,K2019)=1,K2019,\"\")","v":""}]
["2023-08-28","Alejandro Castanon Diaz","Andres - Checkout fondo apuestas","19s",null,"21:55:00","21:56:00",0.2,0,0,0,{"$f":"IF(COUNTIF(K$1:K2020,K2020)=1,K2020,\"\")","v":""}]
["2023-08-28","Alejandro Castanon Diaz","Hostings - ACD","04m",null,"21:56:00","22:13:00",2.8,0,6.6666666666666666E-2,2.4499999999999993,{"$f":"IF(COUNTIF(K$1:K2021,K2021)=1,K2021,\"\")","v":""}]
["2023-08-28","Alejandro Castanon Diaz","Juan Balnearis - Landing y cambios web","03m",null,"22:00:00","22:15:00",2.48,0,0.05,1.0166666666666666,{"$f":"IF(COUNTIF(K$1:K2022,K2022)=1,K2022,\"\")","v":""}]
["2023-08-28","Alejandro Castanon Diaz","Alejandro Disidentes - Sixbell","59s",null,"22:10:00","22:11:00",0.62,0,0,2.2666666666666666,{"$f":"IF(COUNTIF(K$1:K2023,K2023)=1,K2023,\"\")","v":""}]
["2023-08-28","Alejandro Castanon Diaz","Administrativo - ACD","40m",null,"22:48:00","23:53:00",25.61,0,0.66666666666666663,33.966666666666676,{"$f":"IF(COUNTIF(K$1:K2024,K2024)=1,K2024,\"\")","v":""}]
["2023-08-28","Alejandro Castanon Diaz","Hostings - ACD","02m",null,"22:48:00","23:05:00",1.45,0,3.3333333333333333E-2,2.4499999999999993,{"$f":"IF(COUNTIF(K$1:K2025,K2025)=1,K2025,\"\")","v":""}]
["2023-08-28","Alejandro Castanon Diaz","Alejandro Disidentes - Sixbell","05m",null,"22:50:00","22:57:00",3.3,0,8.3333333333333329E-2,2.2666666666666666,{"$f":"IF(COUNTIF(K$1:K2026,K2026)=1,K2026,\"\")","v":""}]
["2023-08-28","Alejandro Castanon Diaz","Juan Balnearis - Landing y cambios web","02m",null,"22:57:00","23:03:00",1.4,0,3.3333333333333333E-2,1.0166666666666666,{"$f":"IF(COUNTIF(K$1:K2027,K2027)=1,K2027,\"\")","v":""}]
["2023-08-28","Alejandro Castanon Diaz","Hostings - ACD","3s",null,"23:18:00","23:18:00",0.03,0,0,2.4499999999999993,{"$f":"IF(COUNTIF(K$1:K2028,K2028)=1,K2028,\"\")","v":""}]
["2023-08-28","Alejandro Castanon Diaz","Juan Balnearis - clinicadelamujer","03m",null,"23:18:00","23:30:00",2.09,0,0.05,0.16666666666666669,{"$f":"IF(COUNTIF(K$1:K2029,K2029)=1,K2029,\"\")","v":""}]
["2023-08-28","Alejandro Castanon Diaz","Juan Balnearis - Bodyclinicmx cambios","01m",null,"23:23:00","23:29:00",0.97,0,1.6666666666666666E-2,0.38333333333333336,{"$f":"IF(COUNTIF(K$1:K2030,K2030)=1,K2030,\"\")","v":""}]
["2023-08-28","Alejandro Castanon Diaz","Francisco Inlat - Ingeurbe Ingles","8s",null,"23:30:00","23:30:00",0.08,0,0,0,{"$f":"IF(COUNTIF(K$1:K2031,K2031)=1,K2031,\"\")","v":""}]
["2023-08-28","Alejandro Castanon Diaz","Francesco - LearnDash","33s",null,"23:30:00","23:30:00",0.35,0,0,0,{"$f":"IF(COUNTIF(K$1:K2032,K2032)=1,K2032,\"\")","v":""}]
["2023-08-28","Alejandro Castanon Diaz","Paul Freelancer - 2nd round crypto website","27s",null,"23:35:00","23:35:00",0.28999999999999998,0,0,0.3,{"$f":"IF(COUNTIF(K$1:K2033,K2033)=1,K2033,\"\")","v":""}]
["2023-08-28","Alejandro Castanon Diaz","Daren freelancer - Nuevo Form","5s",null,"23:38:00","23:38:00",0.05,0,0,0,{"$f":"IF(COUNTIF(K$1:K2034,K2034)=1,K2034,\"\")","v":""}]
["2023-08-28","Alejandro Castanon Diaz","Viv Freelancer - 5 column filter","14m",null,"23:42:00","23:59:00",9.25,0,0.23333333333333334,0.1,{"$f":"IF(COUNTIF(K$1:K2035,K2035)=1,K2035,\"\")","v":""}]
["2023-08-28","Alejandro Castanon Diaz","Tiempo Libre - ACD","47s",null,"23:51:00","23:52:00",0.5,0,0,4.5166666666666657,{"$f":"IF(COUNTIF(K$1:K2036,K2036)=1,K2036,\"\")","v":""}]
["2023-08-29","Alejandro Castanon Diaz","Viv Freelancer - 5 column filter","2h 01m",null,"00:00:00","02:13:00",77.25,0,2.0166666666666666,0.1,{"$f":"IF(COUNTIF(K$1:K2037,K2037)=1,K2037,\"\")","v":""}]
["2023-08-29","Alejandro Castanon Diaz","Administrativo - ACD","24s",null,"00:00:00","00:00:00",0.25,0,0,33.966666666666676,{"$f":"IF(COUNTIF(K$1:K2038,K2038)=1,K2038,\"\")","v":""}]
["2023-08-29","Alejandro Castanon Diaz","Administrativo - ACD","01m",null,"00:27:00","00:34:00",0.97,0,1.6666666666666666E-2,33.966666666666676,{"$f":"IF(COUNTIF(K$1:K2039,K2039)=1,K2039,\"\")","v":""}]
["2023-08-29","Alejandro Castanon Diaz","Administrativo - ACD","49s",null,"00:45:00","00:53:00",0.52,0,0,33.966666666666676,{"$f":"IF(COUNTIF(K$1:K2040,K2040)=1,K2040,\"\")","v":""}]
["2023-08-29","Alejandro Castanon Diaz","Administrativo - ACD","02m",null,"01:03:00","01:15:00",1.48,0,3.3333333333333333E-2,33.966666666666676,{"$f":"IF(COUNTIF(K$1:K2041,K2041)=1,K2041,\"\")","v":""}]
["2023-08-29","Alejandro Castanon Diaz","Administrativo - ACD","01m",null,"01:32:00","01:55:00",0.65,0,1.6666666666666666E-2,33.966666666666676,{"$f":"IF(COUNTIF(K$1:K2042,K2042)=1,K2042,\"\")","v":""}]
["2023-08-29","Alejandro Castanon Diaz","Administrativo - ACD","08m",null,"02:06:00","02:28:00",5.12,0,0.13333333333333333,33.966666666666676,{"$f":"IF(COUNTIF(K$1:K2043,K2043)=1,K2043,\"\")","v":""}]
["2023-08-29","Alejandro Castanon Diaz","Faby - Crawler Farmakosto","28m",null,"02:09:00","03:00:00",17.89,0,0.46666666666666667,5.5333333333333323,{"$f":"IF(COUNTIF(K$1:K2044,K2044)=1,K2044,\"\")","v":""}]
["2023-08-29","Alejandro Castanon Diaz","Juan Balnearis - promedicamujer","12s",null,"02:13:00","02:13:00",0.13,0,0,0,{"$f":"IF(COUNTIF(K$1:K2045,K2045)=1,K2045,\"\")","v":""}]
["2023-08-29","Alejandro Castanon Diaz","Rodrigo Techservices - Kanatest Hosting","2s",null,"02:13:00","02:13:00",0.02,0,0,0,{"$f":"IF(COUNTIF(K$1:K2046,K2046)=1,K2046,\"\")","v":""}]
["2023-08-29","Alejandro Castanon Diaz","Andres - Checkout fondo apuestas","7s",null,"02:13:00","02:13:00",7.0000000000000007E-2,0,0,0,{"$f":"IF(COUNTIF(K$1:K2047,K2047)=1,K2047,\"\")","v":""}]
["2023-08-29","Alejandro Castanon Diaz","Tiempo Libre - ACD","02m",null,"02:13:00","02:16:00",1.49,0,3.3333333333333333E-2,4.5166666666666657,{"$f":"IF(COUNTIF(K$1:K2048,K2048)=1,K2048,\"\")","v":""}]
["2023-08-29","Alejandro Castanon Diaz","Hostings - ACD","19m",null,"02:16:00","03:10:00",12.32,0,0.31666666666666665,2.4499999999999993,{"$f":"IF(COUNTIF(K$1:K2049,K2049)=1,K2049,\"\")","v":""}]
["2023-08-29","Alejandro Castanon Diaz","Juan Balnearis - Bodyclinicmx cambios","26s",null,"02:24:00","02:25:00",0.27,0,0,0.38333333333333336,{"$f":"IF(COUNTIF(K$1:K2050,K2050)=1,K2050,\"\")","v":""}]
["2023-08-29","Alejandro Castanon Diaz","Juan Balnearis - clinicadelamujer","34s",null,"02:24:00","02:25:00",0.36,0,0,0.16666666666666669,{"$f":"IF(COUNTIF(K$1:K2051,K2051)=1,K2051,\"\")","v":""}]
["2023-08-29","Alejandro Castanon Diaz","Juan Balnearis - promedicamujer","11s",null,"02:26:00","02:26:00",0.12,0,0,0,{"$f":"IF(COUNTIF(K$1:K2052,K2052)=1,K2052,\"\")","v":""}]
["2023-08-29","Alejandro Castanon Diaz","Viv Freelancer - 5 column filter","12s",null,"02:26:00","02:26:00",0.13,0,0,0.1,{"$f":"IF(COUNTIF(K$1:K2053,K2053)=1,K2053,\"\")","v":""}]
["2023-08-29","Alejandro Castanon Diaz","Juan Balnearis - Landing y cambios web","10s",null,"02:26:00","02:26:00",0.11,0,0,1.0166666666666666,{"$f":"IF(COUNTIF(K$1:K2054,K2054)=1,K2054,\"\")","v":""}]
["2023-08-29","Alejandro Castanon Diaz","Thomas Ferdinand - Website","12s",null,"02:26:00","02:27:00",0.13,0,0,0,{"$f":"IF(COUNTIF(K$1:K2055,K2055)=1,K2055,\"\")","v":""}]
["2023-08-29","Alejandro Castanon Diaz","Ricardo Cuerna - Fixum facturacion","12s",null,"02:27:00","02:27:00",0.13,0,0,5.4666666666666668,{"$f":"IF(COUNTIF(K$1:K2056,K2056)=1,K2056,\"\")","v":""}]
["2023-08-29","Alejandro Castanon Diaz","Ricardo CDMX - Excel a Plataforma Web","7s",null,"02:27:00","02:27:00",7.0000000000000007E-2,0,0,14.983333333333334,{"$f":"IF(COUNTIF(K$1:K2057,K2057)=1,K2057,\"\")","v":""}]
["2023-08-29","Alejandro Castanon Diaz","Faby - PMI Ame Sitio multilang","12s",null,"02:31:00","02:31:00",0.13,0,0,0,{"$f":"IF(COUNTIF(K$1:K2058,K2058)=1,K2058,\"\")","v":""}]
["2023-08-29","Alejandro Castanon Diaz","Steve 5 10 - Página personal protfolio","7s",null,"02:33:00","02:33:00",7.0000000000000007E-2,0,0,1.0333333333333332,{"$f":"IF(COUNTIF(K$1:K2059,K2059)=1,K2059,\"\")","v":""}]
["2023-08-29","Alejandro Castanon Diaz","Steve 5 10 - Página personal protfolio","4s",null,"02:50:00","02:50:00",0.04,0,0,1.0333333333333332,{"$f":"IF(COUNTIF(K$1:K2060,K2060)=1,K2060,\"\")","v":""}]
["2023-08-29","Alejandro Castanon Diaz","Administrativo - ACD","17m",null,"03:08:00","03:38:00",11.1,0,0.28333333333333333,33.966666666666676,{"$f":"IF(COUNTIF(K$1:K2061,K2061)=1,K2061,\"\")","v":""}]
["2023-08-29","Alejandro Castanon Diaz","Juan Balnearis - Landing y cambios web","58s",null,"03:09:00","03:10:00",0.61,0,0,1.0166666666666666,{"$f":"IF(COUNTIF(K$1:K2062,K2062)=1,K2062,\"\")","v":""}]
["2023-08-29","Alejandro Castanon Diaz","Hostings - ACD","41m",null,"03:27:00","04:16:00",26.36,0,0.68333333333333335,2.4499999999999993,{"$f":"IF(COUNTIF(K$1:K2063,K2063)=1,K2063,\"\")","v":""}]
["2023-08-29","Alejandro Castanon Diaz","Ricardo CDMX - Página web","01m",null,"03:38:00","03:39:00",0.74,0,1.6666666666666666E-2,0,{"$f":"IF(COUNTIF(K$1:K2064,K2064)=1,K2064,\"\")","v":""}]
["2023-08-29","Alejandro Castanon Diaz","Tiempo Libre - ACD","06m",null,"04:10:00","04:16:00",4.03,0,0.1,4.5166666666666657,{"$f":"IF(COUNTIF(K$1:K2065,K2065)=1,K2065,\"\")","v":""}]
["2023-08-29","Alejandro Castanon Diaz","Ricardo CDMX - Página web","05m",null,"04:16:00","04:22:00",3.61,0,8.3333333333333329E-2,0,{"$f":"IF(COUNTIF(K$1:K2066,K2066)=1,K2066,\"\")","v":""}]
["2023-08-29","Alejandro Castanon Diaz","Administrativo - ACD","10m",null,"04:18:00","04:32:00",6.64,0,0.16666666666666666,33.966666666666676,{"$f":"IF(COUNTIF(K$1:K2067,K2067)=1,K2067,\"\")","v":""}]
["2023-08-29","Alejandro Castanon Diaz","Administrativo - ACD","04m",null,"11:08:00","11:12:00",2.7,0,6.6666666666666666E-2,33.966666666666676,{"$f":"IF(COUNTIF(K$1:K2068,K2068)=1,K2068,\"\")","v":""}]
["2023-08-29","Alejandro Castanon Diaz","Juan Balnearis - Maquetar figma a html","05m",null,"11:12:00","11:18:00",3.65,0,8.3333333333333329E-2,0,{"$f":"IF(COUNTIF(K$1:K2069,K2069)=1,K2069,\"\")","v":""}]
["2023-08-29","Alejandro Castanon Diaz","Juan Balnearis - Maquetar figma a html","53s",null,"11:34:00","11:35:00",0.56000000000000005,0,0,0,{"$f":"IF(COUNTIF(K$1:K2070,K2070)=1,K2070,\"\")","v":""}]
["2023-08-29","Alejandro Castanon Diaz","Administrativo - ACD","2h 05m",null,"11:35:00","14:13:00",79.39,0,2.0833333333333335,33.966666666666676,{"$f":"IF(COUNTIF(K$1:K2071,K2071)=1,K2071,\"\")","v":""}]
["2023-08-29","Alejandro Castanon Diaz","Nick Advizee - fijo","1h 25m",null,"11:37:00","13:12:00",53.94,0,1.4166666666666667,4.5333333333333332,{"$f":"IF(COUNTIF(K$1:K2072,K2072)=1,K2072,\"\")","v":""}]
["2023-08-29","Alejandro Castanon Diaz","Juan Balnearis - promedicamujer","01m",null,"11:41:00","11:45:00",0.72,0,1.6666666666666666E-2,0,{"$f":"IF(COUNTIF(K$1:K2073,K2073)=1,K2073,\"\")","v":""}]
["2023-08-29","Alejandro Castanon Diaz","Juan Balnearis - Landing y cambios web","26s",null,"11:44:00","11:45:00",0.27,0,0,1.0166666666666666,{"$f":"IF(COUNTIF(K$1:K2074,K2074)=1,K2074,\"\")","v":""}]
["2023-08-29","Alejandro Castanon Diaz","Juan Balnearis - Bodyclinicmx cambios","41s",null,"13:29:00","13:33:00",0.43,0,0,0.38333333333333336,{"$f":"IF(COUNTIF(K$1:K2075,K2075)=1,K2075,\"\")","v":""}]
["2023-08-29","Alejandro Castanon Diaz","Juan Balnearis - clinicadelamujer","9s",null,"13:30:00","13:30:00",0.1,0,0,0.16666666666666669,{"$f":"IF(COUNTIF(K$1:K2076,K2076)=1,K2076,\"\")","v":""}]
["2023-08-29","Alejandro Castanon Diaz","Ricardo Cuerna - Fixum facturacion","16s",null,"13:35:00","13:35:00",0.17,0,{"$f":"IF(D2077=\"\",\"\",IF(ISERROR(FIND(\"s\",D2077)),IF(ISERROR(FIND(\"h \",D2077)),LEFT(D2077,2)/60,   LEFT(D2077,FIND(\"h \",D2077)-1 )+LEFT(RIGHT(D2077,3),2)/60   ),0))","v":0},{"$f":"SUMIFS(J:J,C:C,C2077,A:A,\">\"&$S$4)","v":5.4666666666666668},{"$f":"IF(COUNTIF(K$1:K2077,K2077)=1,K2077,\"\")","v":""}]
["2023-08-29","Alejandro Castanon Diaz","Faby - Crawler Farmakosto","01m",null,"13:35:00","13:40:00",1.01,0,1.6666666666666666E-2,5.5333333333333323,{"$f":"IF(COUNTIF(K$1:K2078,K2078)=1,K2078,\"\")","v":""}]
["2023-08-29","Alejandro Castanon Diaz","Daren freelancer - nuevo form precisemd","19s",null,"13:41:00","13:41:00",0.2,0,0,0,{"$f":"IF(COUNTIF(K$1:K2079,K2079)=1,K2079,\"\")","v":""}]
["2023-08-29","Alejandro Castanon Diaz","Daren frelancer - cambios maintenance form","48m",null,"13:42:00","14:49:00",30.82,0,0.8,0.16666666666666666,{"$f":"IF(COUNTIF(K$1:K2080,K2080)=1,K2080,\"\")","v":""}]
["2023-08-29","Alejandro Castanon Diaz","Faby - Crawler Farmakosto","01m",null,"14:05:00","14:07:00",0.93,0,1.6666666666666666E-2,5.5333333333333323,{"$f":"IF(COUNTIF(K$1:K2081,K2081)=1,K2081,\"\")","v":""}]
["2023-08-29","Alejandro Castanon Diaz","Administrativo - ACD","1h 00m",null,"14:39:00","16:08:00",38.130000000000003,0,1,33.966666666666676,{"$f":"IF(COUNTIF(K$1:K2082,K2082)=1,K2082,\"\")","v":""}]
["2023-08-29","Alejandro Castanon Diaz","Faby - Crawler Farmakosto","37s",null,"14:49:00","14:50:00",0.39,0,0,5.5333333333333323,{"$f":"IF(COUNTIF(K$1:K2083,K2083)=1,K2083,\"\")","v":""}]
["2023-08-29","Alejandro Castanon Diaz","Tiempo Libre - ACD","06m",null,"15:07:00","15:13:00",4.1500000000000004,0,0.1,4.5166666666666657,{"$f":"IF(COUNTIF(K$1:K2084,K2084)=1,K2084,\"\")","v":""}]
["2023-08-29","Alejandro Castanon Diaz","Nick Advizee - fijo","59s",null,"15:13:00","15:14:00",0.62,0,0,4.5333333333333332,{"$f":"IF(COUNTIF(K$1:K2085,K2085)=1,K2085,\"\")","v":""}]
["2023-08-29","Alejandro Castanon Diaz","Nick Advizee - fijo","13m",null,"15:27:00","15:59:00",8.27,0,0.21666666666666667,4.5333333333333332,{"$f":"IF(COUNTIF(K$1:K2086,K2086)=1,K2086,\"\")","v":""}]
["2023-08-29","Alejandro Castanon Diaz","Faby - Crawler Farmakosto","16s",null,"15:58:00","15:58:00",0.17,0,0,5.5333333333333323,{"$f":"IF(COUNTIF(K$1:K2087,K2087)=1,K2087,\"\")","v":""}]
["2023-08-29","Alejandro Castanon Diaz","Tiempo Libre - ACD","4s",null,"16:00:00","16:00:00",0.04,0,0,4.5166666666666657,{"$f":"IF(COUNTIF(K$1:K2088,K2088)=1,K2088,\"\")","v":""}]
["2023-08-29","Alejandro Castanon Diaz","Hostings - ACD","29m",null,"16:06:00","16:47:00",18.649999999999999,0,0.48333333333333334,2.4499999999999993,{"$f":"IF(COUNTIF(K$1:K2089,K2089)=1,K2089,\"\")","v":""}]
["2023-08-29","Alejandro Castanon Diaz","Administrativo - ACD","13m",null,"16:23:00","16:52:00",8.74,0,0.21666666666666667,33.966666666666676,{"$f":"IF(COUNTIF(K$1:K2090,K2090)=1,K2090,\"\")","v":""}]
["2023-08-29","Alejandro Castanon Diaz","Nick Advizee - fijo","01m",null,"18:15:00","18:16:00",1.24,0,1.6666666666666666E-2,4.5333333333333332,{"$f":"IF(COUNTIF(K$1:K2091,K2091)=1,K2091,\"\")","v":""}]
["2023-08-30","Alejandro Castanon Diaz","Administrativo - ACD","18m",null,"09:22:00","09:56:00",11.94,0,0.3,33.966666666666676,{"$f":"IF(COUNTIF(K$1:K2092,K2092)=1,K2092,\"\")","v":""}]
["2023-08-30","Alejandro Castanon Diaz","Alejandro Disidentes - Sixbell","40s",null,"09:23:00","09:25:00",0.42,0,0,2.2666666666666666,{"$f":"IF(COUNTIF(K$1:K2093,K2093)=1,K2093,\"\")","v":""}]
["2023-08-30","Alejandro Castanon Diaz","Juan Balnearis - Landing y cambios web","02m",null,"09:28:00","09:47:00",1.72,0,3.3333333333333333E-2,1.0166666666666666,{"$f":"IF(COUNTIF(K$1:K2094,K2094)=1,K2094,\"\")","v":""}]
["2023-08-30","Alejandro Castanon Diaz","Tiempo Libre - ACD","02m",null,"09:30:00","09:33:00",1.87,0,3.3333333333333333E-2,4.5166666666666657,{"$f":"IF(COUNTIF(K$1:K2095,K2095)=1,K2095,\"\")","v":""}]
["2023-08-30","Alejandro Castanon Diaz","Nick Advizee - fijo","04m",null,"09:33:00","09:37:00",2.63,0,6.6666666666666666E-2,4.5333333333333332,{"$f":"IF(COUNTIF(K$1:K2096,K2096)=1,K2096,\"\")","v":""}]
["2023-08-30","Alejandro Castanon Diaz","Ricardo Cuerna - Fixum facturacion","2s",null,"09:34:00","09:34:00",0.02,0,0,5.4666666666666668,{"$f":"IF(COUNTIF(K$1:K2097,K2097)=1,K2097,\"\")","v":""}]
["2023-08-30","Alejandro Castanon Diaz","Daren freelancer - nuevo form precisemd","02m",null,"09:37:00","09:40:00",1.84,0,3.3333333333333333E-2,0,{"$f":"IF(COUNTIF(K$1:K2098,K2098)=1,K2098,\"\")","v":""}]
["2023-08-30","Alejandro Castanon Diaz","Tiempo Libre - ACD","01m",null,"09:45:00","09:48:00",1.1100000000000001,0,1.6666666666666666E-2,4.5166666666666657,{"$f":"IF(COUNTIF(K$1:K2099,K2099)=1,K2099,\"\")","v":""}]
["2023-08-30","Alejandro Castanon Diaz","Juan Balnearis - Bodyclinicmx cambios","40s",null,"09:48:00","09:49:00",0.42,0,0,0.38333333333333336,{"$f":"IF(COUNTIF(K$1:K2100,K2100)=1,K2100,\"\")","v":""}]
["2023-08-30","Alejandro Castanon Diaz","Administrativo - ACD","01m",null,"10:33:00","10:42:00",0.92,0,1.6666666666666666E-2,33.966666666666676,{"$f":"IF(COUNTIF(K$1:K2101,K2101)=1,K2101,\"\")","v":""}]
["2023-08-30","Alejandro Castanon Diaz","Tiempo Libre - ACD","11s",null,"10:33:00","10:33:00",0.12,0,0,4.5166666666666657,{"$f":"IF(COUNTIF(K$1:K2102,K2102)=1,K2102,\"\")","v":""}]
["2023-08-30","Alejandro Castanon Diaz","Juan Balnearis - Landing y cambios web","47s",null,"10:33:00","10:34:00",0.5,0,0,1.0166666666666666,{"$f":"IF(COUNTIF(K$1:K2103,K2103)=1,K2103,\"\")","v":""}]
["2023-08-30","Alejandro Castanon Diaz","Bjorn Sueco - Nordic foods 2nd round","06m",null,"10:34:00","10:49:00",4.33,0,0.1,2.083333333333333,{"$f":"IF(COUNTIF(K$1:K2104,K2104)=1,K2104,\"\")","v":""}]
["2023-08-30","Alejandro Castanon Diaz","Steve 5 10 - Página personal protfolio","06m",null,"10:34:00","10:42:00",4.07,0,0.1,1.0333333333333332,{"$f":"IF(COUNTIF(K$1:K2105,K2105)=1,K2105,\"\")","v":""}]
["2023-08-30","Alejandro Castanon Diaz","Tiempo Libre - ACD","41m",null,"10:49:00","12:09:00",26.34,0,0.68333333333333335,4.5166666666666657,{"$f":"IF(COUNTIF(K$1:K2106,K2106)=1,K2106,\"\")","v":""}]
["2023-08-30","Alejandro Castanon Diaz","Administrativo - ACD","01m",null,"11:01:00","11:11:00",0.8,0,1.6666666666666666E-2,33.966666666666676,{"$f":"IF(COUNTIF(K$1:K2107,K2107)=1,K2107,\"\")","v":""}]
["2023-08-30","Alejandro Castanon Diaz","Ricardo Cuerna - Fixum facturacion","08m",null,"11:01:00","11:19:00",5.39,0,0.13333333333333333,5.4666666666666668,{"$f":"IF(COUNTIF(K$1:K2108,K2108)=1,K2108,\"\")","v":""}]
["2023-08-30","Alejandro Castanon Diaz","Bjorn Sueco - Nordic foods 2nd round","19m",null,"11:02:00","11:32:00",12.04,0,0.31666666666666665,2.083333333333333,{"$f":"IF(COUNTIF(K$1:K2109,K2109)=1,K2109,\"\")","v":""}]
["2023-08-30","Alejandro Castanon Diaz","Administrativo - ACD","18s",null,"11:22:00","11:22:00",0.19,0,0,33.966666666666676,{"$f":"IF(COUNTIF(K$1:K2110,K2110)=1,K2110,\"\")","v":""}]
["2023-08-30","Alejandro Castanon Diaz","Administrativo - ACD","07m",null,"11:37:00","11:47:00",4.8600000000000003,0,0.11666666666666667,33.966666666666676,{"$f":"IF(COUNTIF(K$1:K2111,K2111)=1,K2111,\"\")","v":""}]
["2023-08-30","Alejandro Castanon Diaz","Ricardo Cuerna - Fixum facturacion","01m",null,"11:57:00","12:10:00",0.99,0,1.6666666666666666E-2,5.4666666666666668,{"$f":"IF(COUNTIF(K$1:K2112,K2112)=1,K2112,\"\")","v":""}]
["2023-08-30","Alejandro Castanon Diaz","Administrativo - ACD","01m",null,"11:57:00","12:10:00",0.7,0,1.6666666666666666E-2,33.966666666666676,{"$f":"IF(COUNTIF(K$1:K2113,K2113)=1,K2113,\"\")","v":""}]
["2023-08-30","Alejandro Castanon Diaz","Viv Freelancer - 5 column filter","15s",null,"11:58:00","11:58:00",0.16,0,0,0.1,{"$f":"IF(COUNTIF(K$1:K2114,K2114)=1,K2114,\"\")","v":""}]
["2023-08-30","Alejandro Castanon Diaz","Juan Balnearis - Bodyclinicmx cambios","21s",null,"12:09:00","12:10:00",0.22,0,0,0.38333333333333336,{"$f":"IF(COUNTIF(K$1:K2115,K2115)=1,K2115,\"\")","v":""}]
["2023-08-30","Alejandro Castanon Diaz","Juan Balnearis - Landing y cambios web","14m",null,"12:10:00","12:25:00",9.43,0,0.23333333333333334,1.0166666666666666,{"$f":"IF(COUNTIF(K$1:K2116,K2116)=1,K2116,\"\")","v":""}]
["2023-08-30","Alejandro Castanon Diaz","Administrativo - ACD","06m",null,"12:17:00","12:24:00",4.37,0,0.1,33.966666666666676,{"$f":"IF(COUNTIF(K$1:K2117,K2117)=1,K2117,\"\")","v":""}]
["2023-08-30","Alejandro Castanon Diaz","Juan Balnearis - Landing y cambios web","28m",null,"13:42:00","14:28:00",17.829999999999998,0,0.46666666666666667,1.0166666666666666,{"$f":"IF(COUNTIF(K$1:K2118,K2118)=1,K2118,\"\")","v":""}]
["2023-08-30","Alejandro Castanon Diaz","Ricardo Cuerna - Fixum facturacion","11m",null,"14:00:00","14:39:00",7.48,0,0.18333333333333332,5.4666666666666668,{"$f":"IF(COUNTIF(K$1:K2119,K2119)=1,K2119,\"\")","v":""}]
["2023-08-30","Alejandro Castanon Diaz","Administrativo - ACD","38m",null,"14:00:00","15:08:00",24.51,0,0.6333333333333333,33.966666666666676,{"$f":"IF(COUNTIF(K$1:K2120,K2120)=1,K2120,\"\")","v":""}]
["2023-08-30","Alejandro Castanon Diaz","Juan Balnearis - Bodyclinicmx cambios","5s",null,"14:36:00","14:36:00",0.05,0,0,0.38333333333333336,{"$f":"IF(COUNTIF(K$1:K2121,K2121)=1,K2121,\"\")","v":""}]
["2023-08-30","Alejandro Castanon Diaz","Juan Balnearis - Landing y cambios web","05m",null,"14:39:00","14:53:00",3.18,0,8.3333333333333329E-2,1.0166666666666666,{"$f":"IF(COUNTIF(K$1:K2122,K2122)=1,K2122,\"\")","v":""}]
["2023-08-30","Alejandro Castanon Diaz","Ricardo Cuerna - Fixum facturacion","01m",null,"14:52:00","14:58:00",1.07,0,1.6666666666666666E-2,5.4666666666666668,{"$f":"IF(COUNTIF(K$1:K2123,K2123)=1,K2123,\"\")","v":""}]
["2023-08-30","Alejandro Castanon Diaz","Administrativo - ACD","01m",null,"15:25:00","15:27:00",0.93,0,1.6666666666666666E-2,33.966666666666676,{"$f":"IF(COUNTIF(K$1:K2124,K2124)=1,K2124,\"\")","v":""}]
["2023-08-30","Alejandro Castanon Diaz","Juan Balnearis - Landing y cambios web","01m",null,"15:26:00","15:36:00",0.64,0,1.6666666666666666E-2,1.0166666666666666,{"$f":"IF(COUNTIF(K$1:K2125,K2125)=1,K2125,\"\")","v":""}]
["2023-08-30","Alejandro Castanon Diaz","Ricardo Cuerna - Fixum facturacion","2s",null,"15:27:00","15:27:00",0.02,0,0,5.4666666666666668,{"$f":"IF(COUNTIF(K$1:K2126,K2126)=1,K2126,\"\")","v":""}]
["2023-08-30","Alejandro Castanon Diaz","Hostings - ACD","39m",null,"15:27:00","16:08:00",25.27,0,0.65,2.4499999999999993,{"$f":"IF(COUNTIF(K$1:K2127,K2127)=1,K2127,\"\")","v":""}]
["2023-08-30","Alejandro Castanon Diaz","Administrativo - ACD","25m",null,"16:08:00","16:39:00",16.309999999999999,0,0.41666666666666669,33.966666666666676,{"$f":"IF(COUNTIF(K$1:K2128,K2128)=1,K2128,\"\")","v":""}]
["2023-08-30","Alejandro Castanon Diaz","Juan Balnearis - Bodyclinicmx cambios","2s",null,"16:09:00","16:09:00",0.02,0,0,0.38333333333333336,{"$f":"IF(COUNTIF(K$1:K2129,K2129)=1,K2129,\"\")","v":""}]
["2023-08-30","Alejandro Castanon Diaz","Tiempo Libre - ACD","12s",null,"16:09:00","16:10:00",0.13,0,0,4.5166666666666657,{"$f":"IF(COUNTIF(K$1:K2130,K2130)=1,K2130,\"\")","v":""}]
["2023-08-30","Alejandro Castanon Diaz","Ricardo Cuerna - Fixum facturacion","03m",null,"16:11:00","16:28:00",2.31,0,0.05,5.4666666666666668,{"$f":"IF(COUNTIF(K$1:K2131,K2131)=1,K2131,\"\")","v":""}]
["2023-08-30","Alejandro Castanon Diaz","Steve 5 10 - Página personal protfolio","5s",null,"16:11:00","16:12:00",0.05,0,0,1.0333333333333332,{"$f":"IF(COUNTIF(K$1:K2132,K2132)=1,K2132,\"\")","v":""}]
["2023-08-30","Alejandro Castanon Diaz","Juan Balnearis - Bodyclinicmx cambios","11s",null,"16:25:00","16:26:00",0.12,0,0,0.38333333333333336,{"$f":"IF(COUNTIF(K$1:K2133,K2133)=1,K2133,\"\")","v":""}]
["2023-08-30","Alejandro Castanon Diaz","Juan Balnearis - clinicadelamujer","12s",null,"16:25:00","16:26:00",0.13,0,0,0.16666666666666669,{"$f":"IF(COUNTIF(K$1:K2134,K2134)=1,K2134,\"\")","v":""}]
["2023-08-30","Alejandro Castanon Diaz","Hostings - ACD","42s",null,"16:26:00","16:28:00",0.44,0,0,2.4499999999999993,{"$f":"IF(COUNTIF(K$1:K2135,K2135)=1,K2135,\"\")","v":""}]
["2023-08-30","Alejandro Castanon Diaz","Juan Balnearis - Landing y cambios web","01m",null,"16:26:00","16:27:00",0.64,0,1.6666666666666666E-2,1.0166666666666666,{"$f":"IF(COUNTIF(K$1:K2136,K2136)=1,K2136,\"\")","v":""}]
["2023-08-30","Alejandro Castanon Diaz","Administrativo - ACD","1h 13m",null,"18:32:00","19:50:00",46.85,0,1.2166666666666668,33.966666666666676,{"$f":"IF(COUNTIF(K$1:K2137,K2137)=1,K2137,\"\")","v":""}]
["2023-08-30","Alejandro Castanon Diaz","Manuel Austria - agentur.xxx","43s",null,"19:21:00","19:22:00",0.45,0,0,0.1,{"$f":"IF(COUNTIF(K$1:K2138,K2138)=1,K2138,\"\")","v":""}]
["2023-08-30","Alejandro Castanon Diaz","Alejandro Disidentes - Sixbell","7s",null,"19:29:00","19:29:00",7.0000000000000007E-2,0,0,2.2666666666666666,{"$f":"IF(COUNTIF(K$1:K2139,K2139)=1,K2139,\"\")","v":""}]
["2023-08-30","Alejandro Castanon Diaz","Faby - Crawler Farmakosto","10s",null,"19:29:00","19:31:00",0.11,0,0,5.5333333333333323,{"$f":"IF(COUNTIF(K$1:K2140,K2140)=1,K2140,\"\")","v":""}]
["2023-08-31","Alejandro Castanon Diaz","Administrativo - ACD","27m",null,"14:36:00","15:03:00",17.149999999999999,0,{"$f":"IF(D2141=\"\",\"\",IF(ISERROR(FIND(\"s\",D2141)),IF(ISERROR(FIND(\"h \",D2141)),LEFT(D2141,2)/60,   LEFT(D2141,FIND(\"h \",D2141)-1 )+LEFT(RIGHT(D2141,3),2)/60   ),0))","v":0.45},{"$f":"SUMIFS(J:J,C:C,C2141,A:A,\">\"&$S$4)","v":33.966666666666676},{"$f":"IF(COUNTIF(K$1:K2141,K2141)=1,K2141,\"\")","v":""}]
["2023-08-31","Alejandro Castanon Diaz","Administrativo - ACD","05m",null,"15:33:00","15:38:00",3.64,0,8.3333333333333329E-2,33.966666666666676,{"$f":"IF(COUNTIF(K$1:K2142,K2142)=1,K2142,\"\")","v":""}]
["2023-08-31","Alejandro Castanon Diaz","Administrativo - ACD","1h 28m",null,"15:40:00","17:28:00",56.21,0,1.4666666666666668,33.966666666666676,{"$f":"IF(COUNTIF(K$1:K2143,K2143)=1,K2143,\"\")","v":""}]
["2023-08-31","Alejandro Castanon Diaz","Nick Advizee - fijo","07m",null,"15:40:00","16:05:00",4.7,0,0.11666666666666667,4.5333333333333332,{"$f":"IF(COUNTIF(K$1:K2144,K2144)=1,K2144,\"\")","v":""}]
["2023-08-31","Alejandro Castanon Diaz","Nick Advizee - fijo","1h 26m",null,"16:22:00","17:44:00",54.83,0,1.4333333333333333,4.5333333333333332,{"$f":"IF(COUNTIF(K$1:K2145,K2145)=1,K2145,\"\")","v":""}]
["2023-08-31","Alejandro Castanon Diaz","Hostings - ACD","42s",null,"16:32:00","16:35:00",0.44,0,0,2.4499999999999993,{"$f":"IF(COUNTIF(K$1:K2146,K2146)=1,K2146,\"\")","v":""}]
["2023-08-31","Alejandro Castanon Diaz","Juan Balnearis - Landing y cambios web","4s",null,"16:39:00","16:39:00",0.04,0,0,1.0166666666666666,{"$f":"IF(COUNTIF(K$1:K2147,K2147)=1,K2147,\"\")","v":""}]
["2023-08-31","Alejandro Castanon Diaz","Juan Balnearis - promedicamujer","8s",null,"17:04:00","17:04:00",0.08,0,0,0,{"$f":"IF(COUNTIF(K$1:K2148,K2148)=1,K2148,\"\")","v":""}]
["2023-08-31","Alejandro Castanon Diaz","Juan Balnearis - Landing bodyclinic","12s",null,"17:05:00","17:10:00",0.13,0,0,0,{"$f":"IF(COUNTIF(K$1:K2149,K2149)=1,K2149,\"\")","v":""}]
["2023-08-31","Alejandro Castanon Diaz","Tiempo Libre - ACD","02m",null,"17:24:00","17:27:00",1.77,0,3.3333333333333333E-2,4.5166666666666657,{"$f":"IF(COUNTIF(K$1:K2150,K2150)=1,K2150,\"\")","v":""}]
["2023-08-31","Alejandro Castanon Diaz","Administrativo - ACD","24m",null,"17:42:00","18:06:00",15.54,0,0.4,33.966666666666676,{"$f":"IF(COUNTIF(K$1:K2151,K2151)=1,K2151,\"\")","v":""}]
["2023-08-31","Alejandro Castanon Diaz","Tiempo Libre - ACD","01m",null,"18:06:00","18:08:00",0.86,0,1.6666666666666666E-2,4.5166666666666657,{"$f":"IF(COUNTIF(K$1:K2152,K2152)=1,K2152,\"\")","v":""}]
["2023-08-31","Alejandro Castanon Diaz","Tiempo Libre - ACD","12m",null,"20:25:00","20:37:00",7.61,0,0.2,4.5166666666666657,{"$f":"IF(COUNTIF(K$1:K2153,K2153)=1,K2153,\"\")","v":""}]
["2023-08-31","Alejandro Castanon Diaz","Paul Freelancer - 2nd round crypto website","14m",null,"20:37:00","20:54:00",9.27,0,0.23333333333333334,0.3,{"$f":"IF(COUNTIF(K$1:K2154,K2154)=1,K2154,\"\")","v":""}]
["2023-08-31","Alejandro Castanon Diaz","Administrativo - ACD","1h 13m",null,"20:47:00","22:56:00",46.39,0,1.2166666666666668,33.966666666666676,{"$f":"IF(COUNTIF(K$1:K2155,K2155)=1,K2155,\"\")","v":""}]
["2023-08-31","Alejandro Castanon Diaz","Faby - Crawler Farmakosto","27m",null,"20:55:00","21:52:00",17.18,0,0.45,5.5333333333333323,{"$f":"IF(COUNTIF(K$1:K2156,K2156)=1,K2156,\"\")","v":""}]
["2023-08-31","Alejandro Castanon Diaz","Paul Freelancer - 2nd round crypto website","17s",null,"21:29:00","21:29:00",0.18,0,0,0.3,{"$f":"IF(COUNTIF(K$1:K2157,K2157)=1,K2157,\"\")","v":""}]
["2023-08-31","Alejandro Castanon Diaz","Tiempo Libre - ACD","05m",null,"21:38:00","21:54:00",3.55,0,8.3333333333333329E-2,4.5166666666666657,{"$f":"IF(COUNTIF(K$1:K2158,K2158)=1,K2158,\"\")","v":""}]
["2023-08-31","Alejandro Castanon Diaz","Manuel Austria - agentur.xxx","06m",null,"21:55:00","22:08:00",4.18,0,0.1,0.1,{"$f":"IF(COUNTIF(K$1:K2159,K2159)=1,K2159,\"\")","v":""}]
["2023-08-31","Alejandro Castanon Diaz","Alejandro Disidentes - Sixbell","07m",null,"22:11:00","22:19:00",5,0,0.11666666666666667,2.2666666666666666,{"$f":"IF(COUNTIF(K$1:K2160,K2160)=1,K2160,\"\")","v":""}]
["2023-08-31","Alejandro Castanon Diaz","Ricardo CDMX - Excel a Plataforma Web","02m",null,"22:22:00","22:30:00",1.78,0,3.3333333333333333E-2,14.983333333333334,{"$f":"IF(COUNTIF(K$1:K2161,K2161)=1,K2161,\"\")","v":""}]
["2023-08-31","Alejandro Castanon Diaz","Ricardo CDMX - Excel a Plataforma Web","59m",null,"22:53:00","23:59:00",37.880000000000003,0,0.98333333333333328,14.983333333333334,{"$f":"IF(COUNTIF(K$1:K2162,K2162)=1,K2162,\"\")","v":""}]
["2023-08-31","Alejandro Castanon Diaz","Administrativo - ACD","02m",null,"23:27:00","23:34:00",1.43,0,3.3333333333333333E-2,33.966666666666676,{"$f":"IF(COUNTIF(K$1:K2163,K2163)=1,K2163,\"\")","v":""}]
["2023-08-31","Alejandro Castanon Diaz","Tiempo Libre - ACD","01m",null,"23:28:00","23:29:00",0.76,0,1.6666666666666666E-2,4.5166666666666657,{"$f":"IF(COUNTIF(K$1:K2164,K2164)=1,K2164,\"\")","v":""}]
["2023-08-31","Alejandro Castanon Diaz","Administrativo - ACD","01m",null,"23:46:00","23:48:00",0.78,0,1.6666666666666666E-2,33.966666666666676,{"$f":"IF(COUNTIF(K$1:K2165,K2165)=1,K2165,\"\")","v":""}]
["2023-09-01","Alejandro Castanon Diaz","Ricardo CDMX - Excel a Plataforma Web","2h 25m",null,"00:00:00","02:34:00",92,0,2.4166666666666665,14.983333333333334,{"$f":"IF(COUNTIF(K$1:K2166,K2166)=1,K2166,\"\")","v":""}]
["2023-09-01","Alejandro Castanon Diaz","Administrativo - ACD","18s",null,"01:58:00","01:59:00",0.19,0,0,33.966666666666676,{"$f":"IF(COUNTIF(K$1:K2167,K2167)=1,K2167,\"\")","v":""}]
["2023-09-01","Alejandro Castanon Diaz","Administrativo - ACD","36s",null,"02:11:00","02:12:00",0.38,0,0,33.966666666666676,{"$f":"IF(COUNTIF(K$1:K2168,K2168)=1,K2168,\"\")","v":""}]
["2023-09-01","Alejandro Castanon Diaz","Juan Balnearis - Landing y cambios web","11s",null,"02:11:00","02:11:00",0.12,0,0,1.0166666666666666,{"$f":"IF(COUNTIF(K$1:K2169,K2169)=1,K2169,\"\")","v":""}]
["2023-09-01","Alejandro Castanon Diaz","Hostings - ACD","06m",null,"02:12:00","02:20:00",4.4000000000000004,0,0.1,2.4499999999999993,{"$f":"IF(COUNTIF(K$1:K2170,K2170)=1,K2170,\"\")","v":""}]
["2023-09-01","Alejandro Castanon Diaz","Administrativo - ACD","55s",null,"02:29:00","02:34:00",0.57999999999999996,0,0,33.966666666666676,{"$f":"IF(COUNTIF(K$1:K2171,K2171)=1,K2171,\"\")","v":""}]
["2023-09-01","Alejandro Castanon Diaz","Hostings - ACD","13m",null,"02:34:00","02:47:00",8.35,0,0.21666666666666667,2.4499999999999993,{"$f":"IF(COUNTIF(K$1:K2172,K2172)=1,K2172,\"\")","v":""}]
["2023-09-01","Alejandro Castanon Diaz","Ricardo CDMX - Excel a Plataforma Web","01m",null,"02:47:00","02:48:00",0.79,0,1.6666666666666666E-2,14.983333333333334,{"$f":"IF(COUNTIF(K$1:K2173,K2173)=1,K2173,\"\")","v":""}]
["2023-09-01","Alejandro Castanon Diaz","Administrativo - ACD","20m",null,"02:48:00","03:09:00",12.94,0,0.33333333333333331,33.966666666666676,{"$f":"IF(COUNTIF(K$1:K2174,K2174)=1,K2174,\"\")","v":""}]
["2023-09-01","Alejandro Castanon Diaz","Tiempo Libre - ACD","29m",null,"03:09:00","03:38:00",18.39,0,0.48333333333333334,4.5166666666666657,{"$f":"IF(COUNTIF(K$1:K2175,K2175)=1,K2175,\"\")","v":""}]
["2023-09-01","Alejandro Castanon Diaz","Ricardo CDMX - Excel a Plataforma Web","7s",null,"03:38:00","03:38:00",7.0000000000000007E-2,0,0,14.983333333333334,{"$f":"IF(COUNTIF(K$1:K2176,K2176)=1,K2176,\"\")","v":""}]
["2023-09-01","Alejandro Castanon Diaz","Administrativo - ACD","15m",null,"03:38:00","03:53:00",9.76,0,0.25,33.966666666666676,{"$f":"IF(COUNTIF(K$1:K2177,K2177)=1,K2177,\"\")","v":""}]
["2023-09-01","Alejandro Castanon Diaz","Tiempo Libre - ACD","1h 30m",null,"03:53:00","05:52:00",57.41,0,1.5,4.5166666666666657,{"$f":"IF(COUNTIF(K$1:K2178,K2178)=1,K2178,\"\")","v":""}]
["2023-09-01","Alejandro Castanon Diaz","Administrativo - ACD","02m",null,"04:36:00","04:38:00",1.45,0,3.3333333333333333E-2,33.966666666666676,{"$f":"IF(COUNTIF(K$1:K2179,K2179)=1,K2179,\"\")","v":""}]
["2023-09-01","Alejandro Castanon Diaz","Manuel Austria - agentur.xxx","5s",null,"04:36:00","04:36:00",0.05,0,0,0.1,{"$f":"IF(COUNTIF(K$1:K2180,K2180)=1,K2180,\"\")","v":""}]
["2023-09-01","Alejandro Castanon Diaz","Steve 5 10 - Página personal protfolio","09m",null,"04:38:00","04:48:00",6.06,0,0.15,1.0333333333333332,{"$f":"IF(COUNTIF(K$1:K2181,K2181)=1,K2181,\"\")","v":""}]
["2023-09-01","Alejandro Castanon Diaz","Ricardo CDMX - Excel a Plataforma Web","3s",null,"04:43:00","04:43:00",0.03,0,0,14.983333333333334,{"$f":"IF(COUNTIF(K$1:K2182,K2182)=1,K2182,\"\")","v":""}]
["2023-09-01","Alejandro Castanon Diaz","Steve 5 10 - Página personal protfolio","16m",null,"05:07:00","05:29:00",10.48,0,0.26666666666666666,1.0333333333333332,{"$f":"IF(COUNTIF(K$1:K2183,K2183)=1,K2183,\"\")","v":""}]
["2023-09-01","Alejandro Castanon Diaz","Steve 5 10 - Página personal protfolio","15m",null,"05:52:00","06:08:00",9.9,0,0.25,1.0333333333333332,{"$f":"IF(COUNTIF(K$1:K2184,K2184)=1,K2184,\"\")","v":""}]
["2023-09-01","Alejandro Castanon Diaz","Nick Advizee - fijo","37m",null,"06:11:00","06:51:00",23.69,0,0.6166666666666667,4.5333333333333332,{"$f":"IF(COUNTIF(K$1:K2185,K2185)=1,K2185,\"\")","v":""}]
["2023-09-01","Alejandro Castanon Diaz","Steve 5 10 - Página personal protfolio","04m",null,"06:24:00","06:37:00",2.74,0,6.6666666666666666E-2,1.0333333333333332,{"$f":"IF(COUNTIF(K$1:K2186,K2186)=1,K2186,\"\")","v":""}]
["2023-09-01","Alejandro Castanon Diaz","Administrativo - ACD","13m",null,"06:26:00","06:51:00",8.7200000000000006,0,0.21666666666666667,33.966666666666676,{"$f":"IF(COUNTIF(K$1:K2187,K2187)=1,K2187,\"\")","v":""}]
["2023-09-01","Alejandro Castanon Diaz","Daren frelancer - cambios maintenance form","02m",null,"06:27:00","06:30:00",1.29,0,3.3333333333333333E-2,0.16666666666666666,{"$f":"IF(COUNTIF(K$1:K2188,K2188)=1,K2188,\"\")","v":""}]
["2023-09-01","Alejandro Castanon Diaz","Tiempo Libre - ACD","07m",null,"06:32:00","06:43:00",4.74,0,0.11666666666666667,4.5166666666666657,{"$f":"IF(COUNTIF(K$1:K2189,K2189)=1,K2189,\"\")","v":""}]
["2023-09-01","Alejandro Castanon Diaz","Hostings - ACD","49s",null,"06:43:00","06:45:00",0.52,0,0,2.4499999999999993,{"$f":"IF(COUNTIF(K$1:K2190,K2190)=1,K2190,\"\")","v":""}]
["2023-09-01","Alejandro Castanon Diaz","Ricardo CDMX - Excel a Plataforma Web","28s",null,"06:47:00","06:48:00",0.3,0,0,14.983333333333334,{"$f":"IF(COUNTIF(K$1:K2191,K2191)=1,K2191,\"\")","v":""}]
["2023-09-01","Alejandro Castanon Diaz","Nick Advizee - fijo","05m",null,"10:15:00","10:21:00",3.49,0,8.3333333333333329E-2,4.5333333333333332,{"$f":"IF(COUNTIF(K$1:K2192,K2192)=1,K2192,\"\")","v":""}]
["2023-09-01","Alejandro Castanon Diaz","Administrativo - ACD","1h 23m",null,"10:42:00","12:56:00",52.85,0,1.3833333333333333,33.966666666666676,{"$f":"IF(COUNTIF(K$1:K2193,K2193)=1,K2193,\"\")","v":""}]
["2023-09-01","Alejandro Castanon Diaz","Tiempo Libre - ACD","3s",null,"10:44:00","10:44:00",0.03,0,0,4.5166666666666657,{"$f":"IF(COUNTIF(K$1:K2194,K2194)=1,K2194,\"\")","v":""}]
["2023-09-01","Alejandro Castanon Diaz","Steve 5 10 - Página personal protfolio","02m",null,"10:49:00","10:51:00",1.36,0,3.3333333333333333E-2,1.0333333333333332,{"$f":"IF(COUNTIF(K$1:K2195,K2195)=1,K2195,\"\")","v":""}]
["2023-09-01","Alejandro Castanon Diaz","Manuel Austria - agentur.xxx","18s",null,"10:56:00","10:56:00",0.19,0,0,0.1,{"$f":"IF(COUNTIF(K$1:K2196,K2196)=1,K2196,\"\")","v":""}]
["2023-09-01","Alejandro Castanon Diaz","Tiempo Libre - ACD","02m",null,"11:02:00","11:20:00",1.87,0,3.3333333333333333E-2,4.5166666666666657,{"$f":"IF(COUNTIF(K$1:K2197,K2197)=1,K2197,\"\")","v":""}]
["2023-09-01","Alejandro Castanon Diaz","Faby - Crawler Farmakosto","16m",null,"11:11:00","11:41:00",10.29,0,0.26666666666666666,5.5333333333333323,{"$f":"IF(COUNTIF(K$1:K2198,K2198)=1,K2198,\"\")","v":""}]
["2023-09-01","Alejandro Castanon Diaz","Ricardo CDMX - Excel a Plataforma Web","9s",null,"11:16:00","11:16:00",0.1,0,0,14.983333333333334,{"$f":"IF(COUNTIF(K$1:K2199,K2199)=1,K2199,\"\")","v":""}]
["2023-09-01","Alejandro Castanon Diaz","Steve 5 10 - Página personal protfolio","2s",null,"11:20:00","11:20:00",0.02,0,0,1.0333333333333332,{"$f":"IF(COUNTIF(K$1:K2200,K2200)=1,K2200,\"\")","v":""}]
["2023-09-01","Alejandro Castanon Diaz","Manuel Austria - agentur.xxx","2s",null,"11:33:00","11:33:00",0.02,0,0,0.1,{"$f":"IF(COUNTIF(K$1:K2201,K2201)=1,K2201,\"\")","v":""}]
["2023-09-01","Alejandro Castanon Diaz","Ricardo Cuerna - Fixum facturacion","10m",null,"11:41:00","11:59:00",6.51,0,0.16666666666666666,5.4666666666666668,{"$f":"IF(COUNTIF(K$1:K2202,K2202)=1,K2202,\"\")","v":""}]
["2023-09-01","Alejandro Castanon Diaz","Tiempo Libre - ACD","2s",null,"11:41:00","11:41:00",0.02,0,0,4.5166666666666657,{"$f":"IF(COUNTIF(K$1:K2203,K2203)=1,K2203,\"\")","v":""}]
["2023-09-01","Alejandro Castanon Diaz","Faby - Crawler Farmakosto","08m",null,"11:59:00","12:33:00",5.29,0,0.13333333333333333,5.5333333333333323,{"$f":"IF(COUNTIF(K$1:K2204,K2204)=1,K2204,\"\")","v":""}]
["2023-09-01","Alejandro Castanon Diaz","Paul Freelancer - 2nd round crypto website","01m",null,"12:10:00","12:12:00",0.77,0,{"$f":"IF(D2205=\"\",\"\",IF(ISERROR(FIND(\"s\",D2205)),IF(ISERROR(FIND(\"h \",D2205)),LEFT(D2205,2)/60,   LEFT(D2205,FIND(\"h \",D2205)-1 )+LEFT(RIGHT(D2205,3),2)/60   ),0))","v":1.6666666666666666E-2},{"$f":"SUMIFS(J:J,C:C,C2205,A:A,\">\"&$S$4)","v":0.3},{"$f":"IF(COUNTIF(K$1:K2205,K2205)=1,K2205,\"\")","v":""}]
["2023-09-01","Alejandro Castanon Diaz","Nick Advizee - fijo","2h 03m",null,"12:28:00","14:33:00",78.239999999999995,0,2.0499999999999998,4.5333333333333332,{"$f":"IF(COUNTIF(K$1:K2206,K2206)=1,K2206,\"\")","v":""}]
["2023-09-01","Alejandro Castanon Diaz","Tiempo Libre - ACD","01m",null,"12:28:00","12:33:00",0.7,0,1.6666666666666666E-2,4.5166666666666657,{"$f":"IF(COUNTIF(K$1:K2207,K2207)=1,K2207,\"\")","v":""}]
["2023-09-01","Alejandro Castanon Diaz","Steve 5 10 - Página personal protfolio","04m",null,"12:33:00","12:37:00",2.54,0,6.6666666666666666E-2,1.0333333333333332,{"$f":"IF(COUNTIF(K$1:K2208,K2208)=1,K2208,\"\")","v":""}]
["2023-09-01","Alejandro Castanon Diaz","Faby - Crawler Farmakosto","27m",null,"12:44:00","13:23:00",17.649999999999999,0,0.45,5.5333333333333323,{"$f":"IF(COUNTIF(K$1:K2209,K2209)=1,K2209,\"\")","v":""}]
["2023-09-01","Alejandro Castanon Diaz","Ricardo CDMX - Excel a Plataforma Web","3s",null,"12:54:00","12:55:00",0.03,0,0,14.983333333333334,{"$f":"IF(COUNTIF(K$1:K2210,K2210)=1,K2210,\"\")","v":""}]
["2023-09-01","Alejandro Castanon Diaz","Administrativo - ACD","1h 28m",null,"13:20:00","14:57:00",55.75,0,1.4666666666666668,33.966666666666676,{"$f":"IF(COUNTIF(K$1:K2211,K2211)=1,K2211,\"\")","v":""}]
["2023-09-01","Alejandro Castanon Diaz","Steve 5 10 - Página personal protfolio","07m",null,"13:23:00","13:52:00",4.6900000000000004,0,0.11666666666666667,1.0333333333333332,{"$f":"IF(COUNTIF(K$1:K2212,K2212)=1,K2212,\"\")","v":""}]
["2023-09-01","Alejandro Castanon Diaz","Steve 5 10 - Página personal protfolio","42s",null,"14:34:00","14:35:00",0.44,0,0,1.0333333333333332,{"$f":"IF(COUNTIF(K$1:K2213,K2213)=1,K2213,\"\")","v":""}]
["2023-09-01","Alejandro Castanon Diaz","Administrativo - ACD","09m",null,"15:36:00","15:45:00",5.86,0,0.15,33.966666666666676,{"$f":"IF(COUNTIF(K$1:K2214,K2214)=1,K2214,\"\")","v":""}]
["2023-09-01","Alejandro Castanon Diaz","Steve 5 10 - Página personal protfolio","04m",null,"15:45:00","15:50:00",2.95,0,6.6666666666666666E-2,1.0333333333333332,{"$f":"IF(COUNTIF(K$1:K2215,K2215)=1,K2215,\"\")","v":""}]
["2023-09-01","Alejandro Castanon Diaz","Nick Advizee - fijo","05m",null,"17:15:00","17:20:00",3.38,0,8.3333333333333329E-2,4.5333333333333332,{"$f":"IF(COUNTIF(K$1:K2216,K2216)=1,K2216,\"\")","v":""}]
["2023-09-01","Alejandro Castanon Diaz","Administrativo - ACD","12m",null,"17:20:00","17:41:00",7.68,0,0.2,33.966666666666676,{"$f":"IF(COUNTIF(K$1:K2217,K2217)=1,K2217,\"\")","v":""}]
["2023-09-01","Alejandro Castanon Diaz","Faby - Crawler Farmakosto","05m",null,"17:41:00","17:46:00",3.17,0,8.3333333333333329E-2,5.5333333333333323,{"$f":"IF(COUNTIF(K$1:K2218,K2218)=1,K2218,\"\")","v":""}]
["2023-09-01","Alejandro Castanon Diaz","Faby - Crawler Farmakosto","6s",null,"19:33:00","19:33:00",0.06,0,0,5.5333333333333323,{"$f":"IF(COUNTIF(K$1:K2219,K2219)=1,K2219,\"\")","v":""}]
["2023-09-02","Alejandro Castanon Diaz","Administrativo - ACD","07m",null,"01:32:00","01:39:00",4.49,0,0.11666666666666667,33.966666666666676,{"$f":"IF(COUNTIF(K$1:K2220,K2220)=1,K2220,\"\")","v":""}]
["2023-09-02","Alejandro Castanon Diaz","Faby - Crawler Farmakosto","44s",null,"16:21:00","16:22:00",0.46,0,0,5.5333333333333323,{"$f":"IF(COUNTIF(K$1:K2221,K2221)=1,K2221,\"\")","v":""}]
["2023-09-02","Alejandro Castanon Diaz","Hostings - ACD","01m",null,"16:22:00","16:23:00",0.89,0,1.6666666666666666E-2,2.4499999999999993,{"$f":"IF(COUNTIF(K$1:K2222,K2222)=1,K2222,\"\")","v":""}]
["2023-09-02","Alejandro Castanon Diaz","Administrativo - ACD","21m",null,"16:22:00","16:47:00",13.67,0,0.35,33.966666666666676,{"$f":"IF(COUNTIF(K$1:K2223,K2223)=1,K2223,\"\")","v":""}]
["2023-09-02","Alejandro Castanon Diaz","Hostings - ACD","30m",null,"16:47:00","17:28:00",19.16,0,0.5,2.4499999999999993,{"$f":"IF(COUNTIF(K$1:K2224,K2224)=1,K2224,\"\")","v":""}]
["2023-09-02","Alejandro Castanon Diaz","Administrativo - ACD","03m",null,"17:04:00","17:10:00",2.16,0,0.05,33.966666666666676,{"$f":"IF(COUNTIF(K$1:K2225,K2225)=1,K2225,\"\")","v":""}]
["2023-09-02","Alejandro Castanon Diaz","Viv Freelancer - 5 column filter","13s",null,"17:10:00","17:10:00",0.14000000000000001,0,0,0.1,{"$f":"IF(COUNTIF(K$1:K2226,K2226)=1,K2226,\"\")","v":""}]
["2023-09-02","Alejandro Castanon Diaz","Steve 5 10 - Página personal protfolio","20s",null,"17:23:00","17:23:00",0.21,0,0,1.0333333333333332,{"$f":"IF(COUNTIF(K$1:K2227,K2227)=1,K2227,\"\")","v":""}]
["2023-09-02","Alejandro Castanon Diaz","Carlos Sanchez - rehacer chrishop.mx","17s",null,"17:23:00","17:24:00",0.18,0,0,0,{"$f":"IF(COUNTIF(K$1:K2228,K2228)=1,K2228,\"\")","v":""}]
["2023-09-02","Alejandro Castanon Diaz","Administrativo - ACD","11s",null,"17:28:00","17:28:00",0.12,0,0,33.966666666666676,{"$f":"IF(COUNTIF(K$1:K2229,K2229)=1,K2229,\"\")","v":""}]
["2023-09-02","Alejandro Castanon Diaz","Viv Freelancer - 5 column filter","28s",null,"17:28:00","17:29:00",0.3,0,0,0.1,{"$f":"IF(COUNTIF(K$1:K2230,K2230)=1,K2230,\"\")","v":""}]
["2023-09-02","Alejandro Castanon Diaz","Faby - Crawler Farmakosto","27m",null,"17:29:00","18:02:00",17.52,0,0.45,5.5333333333333323,{"$f":"IF(COUNTIF(K$1:K2231,K2231)=1,K2231,\"\")","v":""}]
["2023-09-04","Alejandro Castanon Diaz","Administrativo - ACD","33m",null,"11:03:00","11:37:00",21.16,0,0.55000000000000004,33.966666666666676,{"$f":"IF(COUNTIF(K$1:K2232,K2232)=1,K2232,\"\")","v":""}]
["2023-09-04","Alejandro Castanon Diaz","Administrativo - ACD","11s",null,"11:55:00","11:55:00",0.12,0,0,33.966666666666676,{"$f":"IF(COUNTIF(K$1:K2233,K2233)=1,K2233,\"\")","v":""}]
["2023-09-04","Alejandro Castanon Diaz","Administrativo - ACD","06m",null,"12:10:00","12:17:00",4.3899999999999997,0,0.1,33.966666666666676,{"$f":"IF(COUNTIF(K$1:K2234,K2234)=1,K2234,\"\")","v":""}]
["2023-09-04","Alejandro Castanon Diaz","Administrativo - ACD","08m",null,"13:16:00","13:24:00",5.1100000000000003,0,0.13333333333333333,33.966666666666676,{"$f":"IF(COUNTIF(K$1:K2235,K2235)=1,K2235,\"\")","v":""}]
["2023-09-04","Alejandro Castanon Diaz","Administrativo - ACD","16m",null,"14:55:00","15:22:00",10.52,0,0.26666666666666666,33.966666666666676,{"$f":"IF(COUNTIF(K$1:K2236,K2236)=1,K2236,\"\")","v":""}]
["2023-09-04","Alejandro Castanon Diaz","Paul Freelancer - 2nd round crypto website","03m",null,"14:56:00","15:00:00",2.15,0,0.05,0.3,{"$f":"IF(COUNTIF(K$1:K2237,K2237)=1,K2237,\"\")","v":""}]
["2023-09-04","Alejandro Castanon Diaz","Ricardo CDMX - Excel a Plataforma Web","53s",null,"15:00:00","15:16:00",0.56000000000000005,0,0,14.983333333333334,{"$f":"IF(COUNTIF(K$1:K2238,K2238)=1,K2238,\"\")","v":""}]
["2023-09-04","Alejandro Castanon Diaz","Viv Freelancer - 5 column filter","06m",null,"15:03:00","15:12:00",3.8,0,0.1,0.1,{"$f":"IF(COUNTIF(K$1:K2239,K2239)=1,K2239,\"\")","v":""}]
["2023-09-04","Alejandro Castanon Diaz","Administrativo - ACD","06m",null,"15:58:00","16:13:00",4.0599999999999996,0,0.1,33.966666666666676,{"$f":"IF(COUNTIF(K$1:K2240,K2240)=1,K2240,\"\")","v":""}]
["2023-09-04","Alejandro Castanon Diaz","Ricardo CDMX - Excel a Plataforma Web","1h 06m",null,"15:59:00","17:33:00",42.22,0,1.1000000000000001,14.983333333333334,{"$f":"IF(COUNTIF(K$1:K2241,K2241)=1,K2241,\"\")","v":""}]
["2023-09-04","Alejandro Castanon Diaz","Steve 5 10 - Página personal protfolio","6s",null,"16:01:00","16:01:00",0.06,0,0,1.0333333333333332,{"$f":"IF(COUNTIF(K$1:K2242,K2242)=1,K2242,\"\")","v":""}]
["2023-09-04","Alejandro Castanon Diaz","Nick Advizee - fijo","57s",null,"16:14:00","16:15:00",0.6,0,0,4.5333333333333332,{"$f":"IF(COUNTIF(K$1:K2243,K2243)=1,K2243,\"\")","v":""}]
["2023-09-04","Alejandro Castanon Diaz","Hostings - ACD","09m",null,"16:15:00","16:38:00",6.1,0,0.15,2.4499999999999993,{"$f":"IF(COUNTIF(K$1:K2244,K2244)=1,K2244,\"\")","v":""}]
["2023-09-04","Alejandro Castanon Diaz","Steve 5 10 - Página personal protfolio","23s",null,"16:16:00","16:16:00",0.24,0,0,1.0333333333333332,{"$f":"IF(COUNTIF(K$1:K2245,K2245)=1,K2245,\"\")","v":""}]
["2023-09-04","Alejandro Castanon Diaz","Hostings - ACD","01m",null,"16:51:00","17:08:00",1.1100000000000001,0,1.6666666666666666E-2,2.4499999999999993,{"$f":"IF(COUNTIF(K$1:K2246,K2246)=1,K2246,\"\")","v":""}]
["2023-09-04","Alejandro Castanon Diaz","Administrativo - ACD","06m",null,"17:01:00","17:22:00",3.87,0,0.1,33.966666666666676,{"$f":"IF(COUNTIF(K$1:K2247,K2247)=1,K2247,\"\")","v":""}]
["2023-09-04","Alejandro Castanon Diaz","Steve 5 10 - Página personal protfolio","01m",null,"17:08:00","17:10:00",0.82,0,1.6666666666666666E-2,1.0333333333333332,{"$f":"IF(COUNTIF(K$1:K2248,K2248)=1,K2248,\"\")","v":""}]
["2023-09-04","Alejandro Castanon Diaz","Jaidi Col - PDF online marker","35s",null,"17:10:00","17:11:00",0.37,0,0,0.58333333333333337,{"$f":"IF(COUNTIF(K$1:K2249,K2249)=1,K2249,\"\")","v":0.58333333333333337}]
["2023-09-04","Alejandro Castanon Diaz","Hostings - ACD","48s",null,"17:18:00","17:19:00",0.51,0,0,2.4499999999999993,{"$f":"IF(COUNTIF(K$1:K2250,K2250)=1,K2250,\"\")","v":""}]
["2023-09-04","Alejandro Castanon Diaz","Hostings - ACD","22m",null,"17:34:00","18:18:00",14.37,0,0.36666666666666664,2.4499999999999993,{"$f":"IF(COUNTIF(K$1:K2251,K2251)=1,K2251,\"\")","v":""}]
["2023-09-04","Alejandro Castanon Diaz","Ricardo CDMX - Excel a Plataforma Web","01m",null,"17:49:00","17:52:00",0.94,0,1.6666666666666666E-2,14.983333333333334,{"$f":"IF(COUNTIF(K$1:K2252,K2252)=1,K2252,\"\")","v":""}]
["2023-09-04","Alejandro Castanon Diaz","Administrativo - ACD","01m",null,"17:49:00","17:50:00",0.67,0,1.6666666666666666E-2,33.966666666666676,{"$f":"IF(COUNTIF(K$1:K2253,K2253)=1,K2253,\"\")","v":""}]
["2023-09-04","Alejandro Castanon Diaz","Jaidi Col - PDF online marker","32m",null,"17:52:00","18:36:00",20.309999999999999,0,0.53333333333333333,0.58333333333333337,{"$f":"IF(COUNTIF(K$1:K2254,K2254)=1,K2254,\"\")","v":""}]
["2023-09-04","Alejandro Castanon Diaz","Administrativo - ACD","01m",null,"18:12:00","18:22:00",0.99,0,1.6666666666666666E-2,33.966666666666676,{"$f":"IF(COUNTIF(K$1:K2255,K2255)=1,K2255,\"\")","v":""}]
["2023-09-04","Alejandro Castanon Diaz","Ricardo CDMX - Excel a Plataforma Web","23s",null,"18:15:00","18:15:00",0.24,0,0,14.983333333333334,{"$f":"IF(COUNTIF(K$1:K2256,K2256)=1,K2256,\"\")","v":""}]
["2023-09-04","Alejandro Castanon Diaz","Hostings - ACD","12m",null,"18:30:00","19:00:00",8.09,0,0.2,2.4499999999999993,{"$f":"IF(COUNTIF(K$1:K2257,K2257)=1,K2257,\"\")","v":""}]
["2023-09-04","Alejandro Castanon Diaz","Administrativo - ACD","23s",null,"18:33:00","18:38:00",0.24,0,0,33.966666666666676,{"$f":"IF(COUNTIF(K$1:K2258,K2258)=1,K2258,\"\")","v":""}]
["2023-09-04","Alejandro Castanon Diaz","Ricardo CDMX - Excel a Plataforma Web","15m",null,"18:39:00","19:13:00",9.6,0,0.25,14.983333333333334,{"$f":"IF(COUNTIF(K$1:K2259,K2259)=1,K2259,\"\")","v":""}]
["2023-09-04","Alejandro Castanon Diaz","Administrativo - ACD","1h 03m",null,"18:54:00","20:13:00",40.299999999999997,0,1.05,33.966666666666676,{"$f":"IF(COUNTIF(K$1:K2260,K2260)=1,K2260,\"\")","v":""}]
["2023-09-04","Alejandro Castanon Diaz","Jaidi Col - PDF online marker","02m",null,"18:56:00","19:09:00",1.3,0,3.3333333333333333E-2,0.58333333333333337,{"$f":"IF(COUNTIF(K$1:K2261,K2261)=1,K2261,\"\")","v":""}]
["2023-09-04","Alejandro Castanon Diaz","Thomas Ferdinand - Website","25s",null,"19:24:00","19:25:00",0.26,0,0,0,{"$f":"IF(COUNTIF(K$1:K2262,K2262)=1,K2262,\"\")","v":""}]
["2023-09-04","Alejandro Castanon Diaz","Ricardo CDMX - Excel a Plataforma Web","05m",null,"19:42:00","20:00:00",3.72,0,8.3333333333333329E-2,14.983333333333334,{"$f":"IF(COUNTIF(K$1:K2263,K2263)=1,K2263,\"\")","v":""}]
["2023-09-04","Alejandro Castanon Diaz","Hostings - ACD","05m",null,"20:02:00","20:07:00",3.18,0,8.3333333333333329E-2,2.4499999999999993,{"$f":"IF(COUNTIF(K$1:K2264,K2264)=1,K2264,\"\")","v":""}]
["2023-09-04","Alejandro Castanon Diaz","Thomas Ferdinand - Website","2s",null,"20:03:00","20:03:00",0.02,0,0,0,{"$f":"IF(COUNTIF(K$1:K2265,K2265)=1,K2265,\"\")","v":""}]
["2023-09-04","Alejandro Castanon Diaz","Jaidi Col - PDF online marker","01m",null,"20:07:00","20:13:00",1.25,0,1.6666666666666666E-2,0.58333333333333337,{"$f":"IF(COUNTIF(K$1:K2266,K2266)=1,K2266,\"\")","v":""}]
["2023-09-04","Alejandro Castanon Diaz","Alejandro Disidentes - Sixbell","1h 45m",null,"20:13:00","22:39:00",66.89,0,1.75,2.2666666666666666,{"$f":"IF(COUNTIF(K$1:K2267,K2267)=1,K2267,\"\")","v":""}]
["2023-09-04","Alejandro Castanon Diaz","Ricardo CDMX - Excel a Plataforma Web","02m",null,"20:18:00","20:20:00",1.35,0,3.3333333333333333E-2,14.983333333333334,{"$f":"IF(COUNTIF(K$1:K2268,K2268)=1,K2268,\"\")","v":""}]
["2023-09-04","Alejandro Castanon Diaz","Administrativo - ACD","10m",null,"20:33:00","21:03:00",6.86,0,{"$f":"IF(D2269=\"\",\"\",IF(ISERROR(FIND(\"s\",D2269)),IF(ISERROR(FIND(\"h \",D2269)),LEFT(D2269,2)/60,   LEFT(D2269,FIND(\"h \",D2269)-1 )+LEFT(RIGHT(D2269,3),2)/60   ),0))","v":0.16666666666666666},{"$f":"SUMIFS(J:J,C:C,C2269,A:A,\">\"&$S$4)","v":33.966666666666676},{"$f":"IF(COUNTIF(K$1:K2269,K2269)=1,K2269,\"\")","v":""}]
["2023-09-04","Alejandro Castanon Diaz","Ricardo CDMX - Excel a Plataforma Web","01m",null,"20:50:00","21:00:00",1.03,0,1.6666666666666666E-2,14.983333333333334,{"$f":"IF(COUNTIF(K$1:K2270,K2270)=1,K2270,\"\")","v":""}]
["2023-09-04","Alejandro Castanon Diaz","Administrativo - ACD","18m",null,"21:14:00","21:41:00",11.94,0,0.3,33.966666666666676,{"$f":"IF(COUNTIF(K$1:K2271,K2271)=1,K2271,\"\")","v":""}]
["2023-09-04","Alejandro Castanon Diaz","Tiempo Libre - ACD","16s",null,"21:26:00","21:26:00",0.17,0,0,4.5166666666666657,{"$f":"IF(COUNTIF(K$1:K2272,K2272)=1,K2272,\"\")","v":""}]
["2023-09-04","Alejandro Castanon Diaz","Tiempo Libre - ACD","40s",null,"21:37:00","21:38:00",0.42,0,0,4.5166666666666657,{"$f":"IF(COUNTIF(K$1:K2273,K2273)=1,K2273,\"\")","v":""}]
["2023-09-04","Alejandro Castanon Diaz","Ricardo CDMX - Excel a Plataforma Web","03m",null,"21:41:00","21:57:00",2.42,0,0.05,14.983333333333334,{"$f":"IF(COUNTIF(K$1:K2274,K2274)=1,K2274,\"\")","v":""}]
["2023-09-04","Alejandro Castanon Diaz","Administrativo - ACD","13s",null,"21:56:00","22:01:00",0.14000000000000001,0,0,33.966666666666676,{"$f":"IF(COUNTIF(K$1:K2275,K2275)=1,K2275,\"\")","v":""}]
["2023-09-04","Alejandro Castanon Diaz","Ricardo CDMX - Excel a Plataforma Web","5s",null,"22:13:00","22:13:00",0.05,0,0,14.983333333333334,{"$f":"IF(COUNTIF(K$1:K2276,K2276)=1,K2276,\"\")","v":""}]
["2023-09-04","Alejandro Castanon Diaz","Administrativo - ACD","03m",null,"22:19:00","22:41:00",2.12,0,0.05,33.966666666666676,{"$f":"IF(COUNTIF(K$1:K2277,K2277)=1,K2277,\"\")","v":""}]
["2023-09-04","Alejandro Castanon Diaz","Ricardo Cuerna - Fixum facturacion","19s",null,"22:40:00","22:41:00",0.2,0,0,5.4666666666666668,{"$f":"IF(COUNTIF(K$1:K2278,K2278)=1,K2278,\"\")","v":""}]
["2023-09-04","Alejandro Castanon Diaz","Bjorn Sueco - Nordic foods 2nd round","52s",null,"22:41:00","22:42:00",0.55000000000000004,0,0,2.083333333333333,{"$f":"IF(COUNTIF(K$1:K2279,K2279)=1,K2279,\"\")","v":""}]
["2023-09-04","Alejandro Castanon Diaz","Ricardo CDMX - Excel a Plataforma Web","1h 11m",null,"22:42:00","23:59:00",45.16,0,1.1833333333333333,14.983333333333334,{"$f":"IF(COUNTIF(K$1:K2280,K2280)=1,K2280,\"\")","v":""}]
["2023-09-04","Alejandro Castanon Diaz","Hostings - ACD","04m",null,"22:42:00","23:30:00",3.03,0,6.6666666666666666E-2,2.4499999999999993,{"$f":"IF(COUNTIF(K$1:K2281,K2281)=1,K2281,\"\")","v":""}]
["2023-09-04","Alejandro Castanon Diaz","Hostings - ACD","01m",null,"23:43:00","23:56:00",0.73,0,1.6666666666666666E-2,2.4499999999999993,{"$f":"IF(COUNTIF(K$1:K2282,K2282)=1,K2282,\"\")","v":""}]
["2023-09-04","Alejandro Castanon Diaz","Administrativo - ACD","18s",null,"23:54:00","23:54:00",0.19,0,0,33.966666666666676,{"$f":"IF(COUNTIF(K$1:K2283,K2283)=1,K2283,\"\")","v":""}]
["2023-09-05","Alejandro Castanon Diaz","Ricardo CDMX - Excel a Plataforma Web","08m",null,"00:00:00","00:10:00",5.59,0,0.13333333333333333,14.983333333333334,{"$f":"IF(COUNTIF(K$1:K2284,K2284)=1,K2284,\"\")","v":""}]
["2023-09-05","Alejandro Castanon Diaz","Hostings - ACD","48s",null,"00:08:00","00:09:00",0.51,0,0,2.4499999999999993,{"$f":"IF(COUNTIF(K$1:K2285,K2285)=1,K2285,\"\")","v":""}]
["2023-09-05","Alejandro Castanon Diaz","Administrativo - ACD","19m",null,"00:09:00","00:54:00",12.31,0,0.31666666666666665,33.966666666666676,{"$f":"IF(COUNTIF(K$1:K2286,K2286)=1,K2286,\"\")","v":""}]
["2023-09-05","Alejandro Castanon Diaz","Ricardo Cuerna - Fixum facturacion","20m",null,"00:11:00","00:46:00",12.94,0,0.33333333333333331,5.4666666666666668,{"$f":"IF(COUNTIF(K$1:K2287,K2287)=1,K2287,\"\")","v":""}]
["2023-09-05","Alejandro Castanon Diaz","Juan Balnearis - clinicadelamujer","02m",null,"00:44:00","00:53:00",1.29,0,3.3333333333333333E-2,0.16666666666666669,{"$f":"IF(COUNTIF(K$1:K2288,K2288)=1,K2288,\"\")","v":""}]
["2023-09-05","Alejandro Castanon Diaz","Juan Balnearis - Landing bodyclinic","34s",null,"00:46:00","00:49:00",0.36,0,0,0,{"$f":"IF(COUNTIF(K$1:K2289,K2289)=1,K2289,\"\")","v":""}]
["2023-09-05","Alejandro Castanon Diaz","Tiempo Libre - ACD","02m",null,"00:47:00","00:53:00",1.57,0,3.3333333333333333E-2,4.5166666666666657,{"$f":"IF(COUNTIF(K$1:K2290,K2290)=1,K2290,\"\")","v":""}]
["2023-09-05","Alejandro Castanon Diaz","Juan Balnearis - Bodyclinicmx cambios","18s",null,"00:52:00","00:53:00",0.19,0,0,0.38333333333333336,{"$f":"IF(COUNTIF(K$1:K2291,K2291)=1,K2291,\"\")","v":""}]
["2023-09-05","Alejandro Castanon Diaz","Juan Balnearis - Landing y cambios web","10m",null,"00:54:00","01:11:00",6.73,0,0.16666666666666666,1.0166666666666666,{"$f":"IF(COUNTIF(K$1:K2292,K2292)=1,K2292,\"\")","v":""}]
["2023-09-05","Alejandro Castanon Diaz","Ricardo CDMX - Excel a Plataforma Web","03m",null,"01:03:00","01:13:00",2.2400000000000002,0,0.05,14.983333333333334,{"$f":"IF(COUNTIF(K$1:K2293,K2293)=1,K2293,\"\")","v":""}]
["2023-09-05","Alejandro Castanon Diaz","Administrativo - ACD","02m",null,"01:05:00","01:12:00",1.62,0,3.3333333333333333E-2,33.966666666666676,{"$f":"IF(COUNTIF(K$1:K2294,K2294)=1,K2294,\"\")","v":""}]
["2023-09-05","Alejandro Castanon Diaz","Juan Balnearis - clinicadelamujer","01m",null,"01:09:00","01:12:00",0.68,0,1.6666666666666666E-2,0.16666666666666669,{"$f":"IF(COUNTIF(K$1:K2295,K2295)=1,K2295,\"\")","v":""}]
["2023-09-05","Alejandro Castanon Diaz","Faby - Crawler Farmakosto","2h 00m",null,"01:12:00","03:14:00",76.52,0,2,5.5333333333333323,{"$f":"IF(COUNTIF(K$1:K2296,K2296)=1,K2296,\"\")","v":""}]
["2023-09-05","Alejandro Castanon Diaz","Ricardo CDMX - Excel a Plataforma Web","17m",null,"03:13:00","03:50:00",11.23,0,0.28333333333333333,14.983333333333334,{"$f":"IF(COUNTIF(K$1:K2297,K2297)=1,K2297,\"\")","v":""}]
["2023-09-05","Alejandro Castanon Diaz","Administrativo - ACD","04m",null,"03:14:00","03:19:00",2.9,0,6.6666666666666666E-2,33.966666666666676,{"$f":"IF(COUNTIF(K$1:K2298,K2298)=1,K2298,\"\")","v":""}]
["2023-09-05","Alejandro Castanon Diaz","Administrativo - ACD","15m",null,"03:31:00","03:50:00",9.5,0,0.25,33.966666666666676,{"$f":"IF(COUNTIF(K$1:K2299,K2299)=1,K2299,\"\")","v":""}]
["2023-09-05","Alejandro Castanon Diaz","Administrativo - ACD","05m",null,"13:10:00","13:21:00",3.57,0,8.3333333333333329E-2,33.966666666666676,{"$f":"IF(COUNTIF(K$1:K2300,K2300)=1,K2300,\"\")","v":""}]
["2023-09-05","Alejandro Castanon Diaz","Tiempo Libre - ACD","34m",null,"13:12:00","14:11:00",22.04,0,0.56666666666666665,4.5166666666666657,{"$f":"IF(COUNTIF(K$1:K2301,K2301)=1,K2301,\"\")","v":""}]
["2023-09-05","Alejandro Castanon Diaz","Juan Balnearis - Landing y cambios web","12s",null,"13:17:00","13:17:00",0.13,0,0,1.0166666666666666,{"$f":"IF(COUNTIF(K$1:K2302,K2302)=1,K2302,\"\")","v":""}]
["2023-09-05","Alejandro Castanon Diaz","Juan Balnearis - Landing y cambios web","15m",null,"13:36:00","14:23:00",9.8800000000000008,0,0.25,1.0166666666666666,{"$f":"IF(COUNTIF(K$1:K2303,K2303)=1,K2303,\"\")","v":""}]
["2023-09-05","Alejandro Castanon Diaz","Administrativo - ACD","16m",null,"13:42:00","14:22:00",10.28,0,0.26666666666666666,33.966666666666676,{"$f":"IF(COUNTIF(K$1:K2304,K2304)=1,K2304,\"\")","v":""}]
["2023-09-05","Alejandro Castanon Diaz","Tiempo Libre - ACD","15m",null,"14:23:00","14:49:00",9.94,0,0.25,4.5166666666666657,{"$f":"IF(COUNTIF(K$1:K2305,K2305)=1,K2305,\"\")","v":""}]
["2023-09-05","Alejandro Castanon Diaz","Juan Balnearis - Landing y cambios web","08m",null,"14:33:00","14:49:00",5.24,0,0.13333333333333333,1.0166666666666666,{"$f":"IF(COUNTIF(K$1:K2306,K2306)=1,K2306,\"\")","v":""}]
["2023-09-05","Alejandro Castanon Diaz","Administrativo - ACD","13m",null,"14:38:00","15:01:00",8.66,0,0.21666666666666667,33.966666666666676,{"$f":"IF(COUNTIF(K$1:K2307,K2307)=1,K2307,\"\")","v":""}]
["2023-09-05","Alejandro Castanon Diaz","Administrativo - ACD","30m",null,"15:12:00","16:00:00",19.239999999999998,0,0.5,33.966666666666676,{"$f":"IF(COUNTIF(K$1:K2308,K2308)=1,K2308,\"\")","v":""}]
["2023-09-05","Alejandro Castanon Diaz","Juan Balnearis - clinicadelamujer","02m",null,"15:16:00","15:19:00",1.82,0,3.3333333333333333E-2,0.16666666666666669,{"$f":"IF(COUNTIF(K$1:K2309,K2309)=1,K2309,\"\")","v":""}]
["2023-09-05","Alejandro Castanon Diaz","Juan Balnearis - Bodyclinicmx cambios","14s",null,"15:16:00","15:16:00",0.15,0,0,0.38333333333333336,{"$f":"IF(COUNTIF(K$1:K2310,K2310)=1,K2310,\"\")","v":""}]
["2023-09-05","Alejandro Castanon Diaz","Ricardo Cuerna - Fixum facturacion","04m",null,"15:30:00","15:37:00",2.57,0,6.6666666666666666E-2,5.4666666666666668,{"$f":"IF(COUNTIF(K$1:K2311,K2311)=1,K2311,\"\")","v":""}]
["2023-09-05","Alejandro Castanon Diaz","Administrativo - ACD","11m",null,"16:21:00","16:32:00",7.28,0,0.18333333333333332,33.966666666666676,{"$f":"IF(COUNTIF(K$1:K2312,K2312)=1,K2312,\"\")","v":""}]
["2023-09-05","Alejandro Castanon Diaz","Administrativo - ACD","11m",null,"18:48:00","19:14:00",7.27,0,0.18333333333333332,33.966666666666676,{"$f":"IF(COUNTIF(K$1:K2313,K2313)=1,K2313,\"\")","v":""}]
["2023-09-05","Alejandro Castanon Diaz","Faby - Crawler Farmakosto","11m",null,"18:49:00","19:13:00",7.27,0,0.18333333333333332,5.5333333333333323,{"$f":"IF(COUNTIF(K$1:K2314,K2314)=1,K2314,\"\")","v":""}]
["2023-09-05","Alejandro Castanon Diaz","Hostings - ACD","16m",null,"19:01:00","19:31:00",10.33,0,0.26666666666666666,2.4499999999999993,{"$f":"IF(COUNTIF(K$1:K2315,K2315)=1,K2315,\"\")","v":""}]
["2023-09-05","Alejandro Castanon Diaz","Administrativo - ACD","04m",null,"19:28:00","19:32:00",3.04,0,6.6666666666666666E-2,33.966666666666676,{"$f":"IF(COUNTIF(K$1:K2316,K2316)=1,K2316,\"\")","v":""}]
["2023-09-05","Alejandro Castanon Diaz","Administrativo - ACD","01m",null,"20:39:00","20:44:00",1.07,0,1.6666666666666666E-2,33.966666666666676,{"$f":"IF(COUNTIF(K$1:K2317,K2317)=1,K2317,\"\")","v":""}]
["2023-09-05","Alejandro Castanon Diaz","Hostings - ACD","09m",null,"20:40:00","20:58:00",5.97,0,0.15,2.4499999999999993,{"$f":"IF(COUNTIF(K$1:K2318,K2318)=1,K2318,\"\")","v":""}]
["2023-09-05","Alejandro Castanon Diaz","Administrativo - ACD","10m",null,"20:58:00","21:12:00",6.54,0,0.16666666666666666,33.966666666666676,{"$f":"IF(COUNTIF(K$1:K2319,K2319)=1,K2319,\"\")","v":""}]
["2023-09-05","Alejandro Castanon Diaz","Tiempo Libre - ACD","03m",null,"21:02:00","21:10:00",2.2200000000000002,0,0.05,4.5166666666666657,{"$f":"IF(COUNTIF(K$1:K2320,K2320)=1,K2320,\"\")","v":""}]
["2023-09-06","Alejandro Castanon Diaz","Administrativo - ACD","1h 16m",null,"10:06:00","12:32:00",48.42,0,1.2666666666666666,33.966666666666676,{"$f":"IF(COUNTIF(K$1:K2321,K2321)=1,K2321,\"\")","v":""}]
["2023-09-06","Alejandro Castanon Diaz","Ricardo Cuerna - Fixum facturacion","7s",null,"10:06:00","10:07:00",7.0000000000000007E-2,0,0,5.4666666666666668,{"$f":"IF(COUNTIF(K$1:K2322,K2322)=1,K2322,\"\")","v":""}]
["2023-09-06","Alejandro Castanon Diaz","Faby - Crawler Farmakosto","02m",null,"10:07:00","10:16:00",1.73,0,3.3333333333333333E-2,5.5333333333333323,{"$f":"IF(COUNTIF(K$1:K2323,K2323)=1,K2323,\"\")","v":""}]
["2023-09-06","Alejandro Castanon Diaz","Ricardo CDMX - Excel a Plataforma Web","27s",null,"10:11:00","10:12:00",0.28999999999999998,0,0,14.983333333333334,{"$f":"IF(COUNTIF(K$1:K2324,K2324)=1,K2324,\"\")","v":""}]
["2023-09-06","Alejandro Castanon Diaz","Faby - Crawler Farmakosto","25m",null,"10:27:00","11:05:00",16.329999999999998,0,0.41666666666666669,5.5333333333333323,{"$f":"IF(COUNTIF(K$1:K2325,K2325)=1,K2325,\"\")","v":""}]
["2023-09-06","Alejandro Castanon Diaz","Ricardo CDMX - Excel a Plataforma Web","2s",null,"10:39:00","10:39:00",0.02,0,0,14.983333333333334,{"$f":"IF(COUNTIF(K$1:K2326,K2326)=1,K2326,\"\")","v":""}]
["2023-09-06","Alejandro Castanon Diaz","Tiempo Libre - ACD","37s",null,"10:39:00","10:39:00",0.39,0,0,4.5166666666666657,{"$f":"IF(COUNTIF(K$1:K2327,K2327)=1,K2327,\"\")","v":""}]
["2023-09-06","Alejandro Castanon Diaz","Ricardo Cuerna - Fixum facturacion","06m",null,"10:57:00","11:12:00",4.3899999999999997,0,0.1,5.4666666666666668,{"$f":"IF(COUNTIF(K$1:K2328,K2328)=1,K2328,\"\")","v":""}]
["2023-09-06","Alejandro Castanon Diaz","Hostings - ACD","02m",null,"10:58:00","11:00:00",1.28,0,3.3333333333333333E-2,2.4499999999999993,{"$f":"IF(COUNTIF(K$1:K2329,K2329)=1,K2329,\"\")","v":""}]
["2023-09-06","Alejandro Castanon Diaz","Ricardo Cuerna - Fixum facturacion","02m",null,"11:27:00","11:36:00",1.34,0,3.3333333333333333E-2,5.4666666666666668,{"$f":"IF(COUNTIF(K$1:K2330,K2330)=1,K2330,\"\")","v":""}]
["2023-09-06","Alejandro Castanon Diaz","Ricardo Cuerna - Fixum Carta Porte","9s",null,"11:32:00","11:32:00",0.1,0,0,0,{"$f":"IF(COUNTIF(K$1:K2331,K2331)=1,K2331,\"\")","v":""}]
["2023-09-06","Alejandro Castanon Diaz","Faby - Crawler Farmakosto","01m",null,"11:35:00","11:36:00",0.7,0,1.6666666666666666E-2,5.5333333333333323,{"$f":"IF(COUNTIF(K$1:K2332,K2332)=1,K2332,\"\")","v":""}]
["2023-09-06","Alejandro Castanon Diaz","Ricardo Cuerna - Fixum facturacion","7s",null,"11:48:00","11:48:00",7.0000000000000007E-2,0,{"$f":"IF(D2333=\"\",\"\",IF(ISERROR(FIND(\"s\",D2333)),IF(ISERROR(FIND(\"h \",D2333)),LEFT(D2333,2)/60,   LEFT(D2333,FIND(\"h \",D2333)-1 )+LEFT(RIGHT(D2333,3),2)/60   ),0))","v":0},{"$f":"SUMIFS(J:J,C:C,C2333,A:A,\">\"&$S$4)","v":5.4666666666666668},{"$f":"IF(COUNTIF(K$1:K2333,K2333)=1,K2333,\"\")","v":""}]
["2023-09-06","Alejandro Castanon Diaz","Faby - Crawler Farmakosto","17m",null,"11:55:00","12:23:00",11.16,0,0.28333333333333333,5.5333333333333323,{"$f":"IF(COUNTIF(K$1:K2334,K2334)=1,K2334,\"\")","v":""}]
["2023-09-06","Alejandro Castanon Diaz","Ricardo Cuerna - Fixum facturacion","6s",null,"12:08:00","12:09:00",0.06,0,0,5.4666666666666668,{"$f":"IF(COUNTIF(K$1:K2335,K2335)=1,K2335,\"\")","v":""}]
["2023-09-06","Alejandro Castanon Diaz","Tiempo Libre - ACD","11m",null,"12:23:00","12:50:00",7.58,0,0.18333333333333332,4.5166666666666657,{"$f":"IF(COUNTIF(K$1:K2336,K2336)=1,K2336,\"\")","v":""}]
["2023-09-06","Alejandro Castanon Diaz","Juan Balnearis - Landing y cambios web","08m",null,"12:42:00","12:58:00",5.13,0,0.13333333333333333,1.0166666666666666,{"$f":"IF(COUNTIF(K$1:K2337,K2337)=1,K2337,\"\")","v":""}]
["2023-09-06","Alejandro Castanon Diaz","Administrativo - ACD","2h 19m",null,"12:50:00","15:52:00",88.11,0,2.3166666666666664,33.966666666666676,{"$f":"IF(COUNTIF(K$1:K2338,K2338)=1,K2338,\"\")","v":""}]
["2023-09-06","Alejandro Castanon Diaz","Diana Inlat - Rehacer Ingeurbe","01m",null,"12:58:00","13:01:00",1.22,0,1.6666666666666666E-2,1.6666666666666666E-2,{"$f":"IF(COUNTIF(K$1:K2339,K2339)=1,K2339,\"\")","v":""}]
["2023-09-06","Alejandro Castanon Diaz","Ricardo Cuerna - Fixum Carta Porte","19s",null,"13:11:00","13:12:00",0.2,0,0,0,{"$f":"IF(COUNTIF(K$1:K2340,K2340)=1,K2340,\"\")","v":""}]
["2023-09-06","Alejandro Castanon Diaz","Ricardo Cuerna - Fixum facturacion","02m",null,"13:11:00","13:15:00",1.46,0,3.3333333333333333E-2,5.4666666666666668,{"$f":"IF(COUNTIF(K$1:K2341,K2341)=1,K2341,\"\")","v":""}]
["2023-09-06","Alejandro Castanon Diaz","Tiempo Libre - ACD","24s",null,"13:38:00","13:45:00",0.25,0,0,4.5166666666666657,{"$f":"IF(COUNTIF(K$1:K2342,K2342)=1,K2342,\"\")","v":""}]
["2023-09-06","Alejandro Castanon Diaz","Francisco Inlat - Ingeurbe Ingles","22s",null,"13:38:00","13:39:00",0.23,0,0,0,{"$f":"IF(COUNTIF(K$1:K2343,K2343)=1,K2343,\"\")","v":""}]
["2023-09-06","Alejandro Castanon Diaz","Daren frelancer - cambios maintenance form","40s",null,"13:48:00","13:49:00",0.42,0,0,0.16666666666666666,{"$f":"IF(COUNTIF(K$1:K2344,K2344)=1,K2344,\"\")","v":""}]
["2023-09-06","Alejandro Castanon Diaz","Alejandro Disidentes - Sixbell","07m",null,"14:07:00","14:14:00",4.51,0,0.11666666666666667,2.2666666666666666,{"$f":"IF(COUNTIF(K$1:K2345,K2345)=1,K2345,\"\")","v":""}]
["2023-09-06","Alejandro Castanon Diaz","Juan Balnearis - Landing y cambios web","01m",null,"14:22:00","14:23:00",0.69,0,1.6666666666666666E-2,1.0166666666666666,{"$f":"IF(COUNTIF(K$1:K2346,K2346)=1,K2346,\"\")","v":""}]
["2023-09-06","Alejandro Castanon Diaz","Alejandro Disidentes - Sixbell","35s",null,"14:26:00","14:27:00",0.37,0,0,2.2666666666666666,{"$f":"IF(COUNTIF(K$1:K2347,K2347)=1,K2347,\"\")","v":""}]
["2023-09-06","Alejandro Castanon Diaz","Hostings - ACD","2s",null,"14:32:00","14:32:00",0.02,0,0,2.4499999999999993,{"$f":"IF(COUNTIF(K$1:K2348,K2348)=1,K2348,\"\")","v":""}]
["2023-09-06","Alejandro Castanon Diaz","Alejandro Disidentes - Sixbell","01m",null,"14:40:00","14:41:00",0.65,0,1.6666666666666666E-2,2.2666666666666666,{"$f":"IF(COUNTIF(K$1:K2349,K2349)=1,K2349,\"\")","v":""}]
["2023-09-06","Alejandro Castanon Diaz","Alejandro Disidentes - Sixbell","10m",null,"14:56:00","15:15:00",6.64,0,0.16666666666666666,2.2666666666666666,{"$f":"IF(COUNTIF(K$1:K2350,K2350)=1,K2350,\"\")","v":""}]
["2023-09-06","Alejandro Castanon Diaz","Juan Balnearis - Landing y cambios web","6s",null,"15:09:00","15:09:00",0.06,0,0,1.0166666666666666,{"$f":"IF(COUNTIF(K$1:K2351,K2351)=1,K2351,\"\")","v":""}]
["2023-09-06","Alejandro Castanon Diaz","Juan Balnearis - clinicadelamujer","05m",null,"15:17:00","15:23:00",3.27,0,8.3333333333333329E-2,0.16666666666666669,{"$f":"IF(COUNTIF(K$1:K2352,K2352)=1,K2352,\"\")","v":""}]
["2023-09-06","Alejandro Castanon Diaz","Juan Balnearis - Landing y cambios web","03m",null,"15:27:00","15:39:00",2.12,0,0.05,1.0166666666666666,{"$f":"IF(COUNTIF(K$1:K2353,K2353)=1,K2353,\"\")","v":""}]
["2023-09-06","Alejandro Castanon Diaz","Juan Balnearis - clinicadelamujer","3s",null,"15:40:00","15:40:00",0.03,0,0,0.16666666666666669,{"$f":"IF(COUNTIF(K$1:K2354,K2354)=1,K2354,\"\")","v":""}]
["2023-09-06","Alejandro Castanon Diaz","Eduardo Freelancer - Inmobiliaria Cambios php pura","07m",null,"15:42:00","15:52:00",4.88,0,0.11666666666666667,1.4333333333333333,{"$f":"IF(COUNTIF(K$1:K2355,K2355)=1,K2355,\"\")","v":""}]
["2023-09-06","Alejandro Castanon Diaz","Administrativo - ACD","31m",null,"19:36:00","20:35:00",19.79,0,0.51666666666666672,33.966666666666676,{"$f":"IF(COUNTIF(K$1:K2356,K2356)=1,K2356,\"\")","v":""}]
["2023-09-06","Alejandro Castanon Diaz","Ricardo CDMX - Excel a Plataforma Web","07m",null,"19:37:00","19:54:00",4.9400000000000004,0,0.11666666666666667,14.983333333333334,{"$f":"IF(COUNTIF(K$1:K2357,K2357)=1,K2357,\"\")","v":""}]
["2023-09-06","Alejandro Castanon Diaz","Ricardo Freelancer - Accounting","35s",null,"19:51:00","19:52:00",0.37,0,0,0,{"$f":"IF(COUNTIF(K$1:K2358,K2358)=1,K2358,\"\")","v":""}]
["2023-09-06","Alejandro Castanon Diaz","Ricardo CDMX - Excel a Plataforma Web","17m",null,"20:04:00","20:31:00",11.26,0,0.28333333333333333,14.983333333333334,{"$f":"IF(COUNTIF(K$1:K2359,K2359)=1,K2359,\"\")","v":""}]
["2023-09-06","Alejandro Castanon Diaz","Ricardo Freelancer - Accounting","8s",null,"20:09:00","20:10:00",0.08,0,0,0,{"$f":"IF(COUNTIF(K$1:K2360,K2360)=1,K2360,\"\")","v":""}]
["2023-09-06","Alejandro Castanon Diaz","Hostings - ACD","55s",null,"20:26:00","20:29:00",0.57999999999999996,0,0,2.4499999999999993,{"$f":"IF(COUNTIF(K$1:K2361,K2361)=1,K2361,\"\")","v":""}]
["2023-09-06","Alejandro Castanon Diaz","Ricardo Freelancer - BDD Spotify","43m",null,"20:35:00","21:36:00",27.47,0,0.71666666666666667,9.0666666666666682,{"$f":"IF(COUNTIF(K$1:K2362,K2362)=1,K2362,\"\")","v":""}]
["2023-09-06","Alejandro Castanon Diaz","Administrativo - ACD","46m",null,"21:17:00","23:05:00",29.21,0,0.76666666666666672,33.966666666666676,{"$f":"IF(COUNTIF(K$1:K2363,K2363)=1,K2363,\"\")","v":""}]
["2023-09-06","Alejandro Castanon Diaz","Hostings - ACD","3s",null,"21:23:00","21:23:00",0.03,0,0,2.4499999999999993,{"$f":"IF(COUNTIF(K$1:K2364,K2364)=1,K2364,\"\")","v":""}]
["2023-09-06","Alejandro Castanon Diaz","Ricardo Cuerna - Fixum facturacion","1h 51m",null,"21:23:00","23:59:00",70.61,0,1.85,5.4666666666666668,{"$f":"IF(COUNTIF(K$1:K2365,K2365)=1,K2365,\"\")","v":""}]
["2023-09-06","Alejandro Castanon Diaz","Ricardo CDMX - Excel a Plataforma Web","21s",null,"21:23:00","21:27:00",0.22,0,0,14.983333333333334,{"$f":"IF(COUNTIF(K$1:K2366,K2366)=1,K2366,\"\")","v":""}]
["2023-09-06","Alejandro Castanon Diaz","Juan Balnearis - Landing bodyclinic","2s",null,"21:24:00","21:24:00",0.02,0,0,0,{"$f":"IF(COUNTIF(K$1:K2367,K2367)=1,K2367,\"\")","v":""}]
["2023-09-06","Alejandro Castanon Diaz","Hostings - ACD","01m",null,"21:36:00","21:43:00",0.67,0,1.6666666666666666E-2,2.4499999999999993,{"$f":"IF(COUNTIF(K$1:K2368,K2368)=1,K2368,\"\")","v":""}]
["2023-09-06","Alejandro Castanon Diaz","Ricardo CDMX - Excel a Plataforma Web","16s",null,"21:43:00","21:44:00",0.17,0,0,14.983333333333334,{"$f":"IF(COUNTIF(K$1:K2369,K2369)=1,K2369,\"\")","v":""}]
["2023-09-06","Alejandro Castanon Diaz","Ricardo Freelancer - BDD Spotify","10s",null,"22:16:00","22:16:00",0.11,0,0,9.0666666666666682,{"$f":"IF(COUNTIF(K$1:K2370,K2370)=1,K2370,\"\")","v":""}]
["2023-09-06","Alejandro Castanon Diaz","Ricardo Freelancer - BDD Spotify","24s",null,"22:28:00","22:28:00",0.25,0,0,9.0666666666666682,{"$f":"IF(COUNTIF(K$1:K2371,K2371)=1,K2371,\"\")","v":""}]
["2023-09-06","Alejandro Castanon Diaz","Ricardo Freelancer - BDD Spotify","43s",null,"22:52:00","22:52:00",0.45,0,0,9.0666666666666682,{"$f":"IF(COUNTIF(K$1:K2372,K2372)=1,K2372,\"\")","v":""}]
["2023-09-06","Alejandro Castanon Diaz","Hostings - ACD","2s",null,"22:52:00","22:52:00",0.02,0,0,2.4499999999999993,{"$f":"IF(COUNTIF(K$1:K2373,K2373)=1,K2373,\"\")","v":""}]
["2023-09-06","Alejandro Castanon Diaz","Administrativo - ACD","5s",null,"23:23:00","23:23:00",0.05,0,0,33.966666666666676,{"$f":"IF(COUNTIF(K$1:K2374,K2374)=1,K2374,\"\")","v":""}]
["2023-09-06","Alejandro Castanon Diaz","Administrativo - ACD","14s",null,"23:44:00","23:44:00",0.15,0,0,33.966666666666676,{"$f":"IF(COUNTIF(K$1:K2375,K2375)=1,K2375,\"\")","v":""}]
["2023-09-07","Alejandro Castanon Diaz","Ricardo Cuerna - Fixum facturacion","2h 34m",null,"00:00:00","02:54:00",98.1,0,2.5666666666666664,5.4666666666666668,{"$f":"IF(COUNTIF(K$1:K2376,K2376)=1,K2376,\"\")","v":""}]
["2023-09-07","Alejandro Castanon Diaz","Administrativo - ACD","39s",null,"00:05:00","00:05:00",0.41,0,0,33.966666666666676,{"$f":"IF(COUNTIF(K$1:K2377,K2377)=1,K2377,\"\")","v":""}]
["2023-09-07","Alejandro Castanon Diaz","Administrativo - ACD","7s",null,"00:19:00","00:19:00",7.0000000000000007E-2,0,0,33.966666666666676,{"$f":"IF(COUNTIF(K$1:K2378,K2378)=1,K2378,\"\")","v":""}]
["2023-09-07","Alejandro Castanon Diaz","Ricardo Freelancer - BDD Spotify","11m",null,"00:59:00","01:27:00",7.3,0,0.18333333333333332,9.0666666666666682,{"$f":"IF(COUNTIF(K$1:K2379,K2379)=1,K2379,\"\")","v":""}]
["2023-09-07","Alejandro Castanon Diaz","Ricardo Freelancer - BDD Spotify","22m",null,"02:29:00","02:52:00",14.22,0,0.36666666666666664,9.0666666666666682,{"$f":"IF(COUNTIF(K$1:K2380,K2380)=1,K2380,\"\")","v":""}]
["2023-09-07","Alejandro Castanon Diaz","Tiempo Libre - ACD","19s",null,"02:47:00","02:47:00",0.2,0,0,4.5166666666666657,{"$f":"IF(COUNTIF(K$1:K2381,K2381)=1,K2381,\"\")","v":""}]
["2023-09-07","Alejandro Castanon Diaz","Juan Balnearis - Landing y cambios web","2s",null,"02:52:00","02:52:00",0.02,0,0,1.0166666666666666,{"$f":"IF(COUNTIF(K$1:K2382,K2382)=1,K2382,\"\")","v":""}]
["2023-09-07","Alejandro Castanon Diaz","Ricardo Freelancer - BDD Spotify","57m",null,"02:52:00","03:49:00",36.56,0,0.95,9.0666666666666682,{"$f":"IF(COUNTIF(K$1:K2383,K2383)=1,K2383,\"\")","v":""}]
["2023-09-07","Alejandro Castanon Diaz","Ricardo CDMX - Excel a Plataforma Web","05m",null,"02:58:00","03:03:00",3.33,0,8.3333333333333329E-2,14.983333333333334,{"$f":"IF(COUNTIF(K$1:K2384,K2384)=1,K2384,\"\")","v":""}]
["2023-09-07","Alejandro Castanon Diaz","Administrativo - ACD","10m",null,"03:06:00","03:16:00",6.52,0,0.16666666666666666,33.966666666666676,{"$f":"IF(COUNTIF(K$1:K2385,K2385)=1,K2385,\"\")","v":""}]
["2023-09-07","Alejandro Castanon Diaz","Ricardo Cuerna - Fixum facturacion","35s",null,"03:15:00","03:16:00",0.37,0,0,5.4666666666666668,{"$f":"IF(COUNTIF(K$1:K2386,K2386)=1,K2386,\"\")","v":""}]
["2023-09-07","Alejandro Castanon Diaz","Ricardo Freelancer - BDD Spotify","1h 39m",null,"03:27:00","05:29:00",62.72,0,1.65,9.0666666666666682,{"$f":"IF(COUNTIF(K$1:K2387,K2387)=1,K2387,\"\")","v":""}]
["2023-09-07","Alejandro Castanon Diaz","Ricardo Freelancer - BDD Spotify","13m",null,"03:43:00","04:13:00",8.43,0,0.21666666666666667,9.0666666666666682,{"$f":"IF(COUNTIF(K$1:K2388,K2388)=1,K2388,\"\")","v":""}]
["2023-09-07","Alejandro Castanon Diaz","Ricardo Freelancer - BDD Spotify","18m",null,"03:43:00","04:54:00",11.48,0,0.3,9.0666666666666682,{"$f":"IF(COUNTIF(K$1:K2389,K2389)=1,K2389,\"\")","v":""}]
["2023-09-07","Alejandro Castanon Diaz","Ricardo CDMX - Excel a Plataforma Web","3s",null,"03:43:00","03:44:00",0.03,0,0,14.983333333333334,{"$f":"IF(COUNTIF(K$1:K2390,K2390)=1,K2390,\"\")","v":""}]
["2023-09-07","Alejandro Castanon Diaz","Ricardo Cuerna - Fixum facturacion","22s",null,"03:44:00","03:44:00",0.23,0,0,5.4666666666666668,{"$f":"IF(COUNTIF(K$1:K2391,K2391)=1,K2391,\"\")","v":""}]
["2023-09-07","Alejandro Castanon Diaz","Ricardo Freelancer - BDD Spotify","08m",null,"04:01:00","04:09:00",5.2,0,0.13333333333333333,9.0666666666666682,{"$f":"IF(COUNTIF(K$1:K2392,K2392)=1,K2392,\"\")","v":""}]
["2023-09-07","Alejandro Castanon Diaz","Ricardo Cuerna - Fixum facturacion","34s",null,"04:11:00","04:13:00",0.36,0,0,5.4666666666666668,{"$f":"IF(COUNTIF(K$1:K2393,K2393)=1,K2393,\"\")","v":""}]
["2023-09-07","Alejandro Castanon Diaz","Alejandro Disidentes - Sixbell","20s",null,"04:12:00","04:12:00",0.21,0,0,2.2666666666666666,{"$f":"IF(COUNTIF(K$1:K2394,K2394)=1,K2394,\"\")","v":""}]
["2023-09-07","Alejandro Castanon Diaz","Alejandro Disidentes - Sixbell Mtto","11s",null,"04:13:00","04:13:00",0.12,0,0,0,{"$f":"IF(COUNTIF(K$1:K2395,K2395)=1,K2395,\"\")","v":""}]
["2023-09-07","Alejandro Castanon Diaz","Ricardo Freelancer - BDD Spotify","37m",null,"05:06:00","05:44:00",23.76,0,0.6166666666666667,9.0666666666666682,{"$f":"IF(COUNTIF(K$1:K2396,K2396)=1,K2396,\"\")","v":""}]
["2023-09-07","Alejandro Castanon Diaz","Administrativo - ACD","03m",null,"05:32:00","05:43:00",2.06,0,{"$f":"IF(D2397=\"\",\"\",IF(ISERROR(FIND(\"s\",D2397)),IF(ISERROR(FIND(\"h \",D2397)),LEFT(D2397,2)/60,   LEFT(D2397,FIND(\"h \",D2397)-1 )+LEFT(RIGHT(D2397,3),2)/60   ),0))","v":0.05},{"$f":"SUMIFS(J:J,C:C,C2397,A:A,\">\"&$S$4)","v":33.966666666666676},{"$f":"IF(COUNTIF(K$1:K2397,K2397)=1,K2397,\"\")","v":""}]
["2023-09-07","Alejandro Castanon Diaz","Administrativo - ACD","2h 15m",null,"10:36:00","13:35:00",85.61,0,2.25,33.966666666666676,{"$f":"IF(COUNTIF(K$1:K2398,K2398)=1,K2398,\"\")","v":""}]
["2023-09-07","Alejandro Castanon Diaz","Bjorn Sueco - Nordic foods 2nd round","01m",null,"10:58:00","11:05:00",0.67,0,1.6666666666666666E-2,2.083333333333333,{"$f":"IF(COUNTIF(K$1:K2399,K2399)=1,K2399,\"\")","v":""}]
["2023-09-07","Alejandro Castanon Diaz","Tiempo Libre - ACD","04m",null,"11:11:00","11:15:00",2.76,0,6.6666666666666666E-2,4.5166666666666657,{"$f":"IF(COUNTIF(K$1:K2400,K2400)=1,K2400,\"\")","v":""}]
["2023-09-07","Alejandro Castanon Diaz","Bjorn Sueco - Nordic foods 2nd round","02m",null,"11:15:00","11:25:00",1.39,0,3.3333333333333333E-2,2.083333333333333,{"$f":"IF(COUNTIF(K$1:K2401,K2401)=1,K2401,\"\")","v":""}]
["2023-09-07","Alejandro Castanon Diaz","Juan Balnearis - clinicadelamujer","17s",null,"11:20:00","11:20:00",0.18,0,0,0.16666666666666669,{"$f":"IF(COUNTIF(K$1:K2402,K2402)=1,K2402,\"\")","v":""}]
["2023-09-07","Alejandro Castanon Diaz","Ricardo Cuerna - Fixum facturacion","19m",null,"11:21:00","12:12:00",12.15,0,0.31666666666666665,5.4666666666666668,{"$f":"IF(COUNTIF(K$1:K2403,K2403)=1,K2403,\"\")","v":""}]
["2023-09-07","Alejandro Castanon Diaz","Juan Balnearis - clinicadelamujer","25s",null,"11:32:00","11:33:00",0.26,0,0,0.16666666666666669,{"$f":"IF(COUNTIF(K$1:K2404,K2404)=1,K2404,\"\")","v":""}]
["2023-09-07","Alejandro Castanon Diaz","Bjorn Sueco - Nordic foods 2nd round","5s",null,"11:35:00","11:35:00",0.05,0,0,2.083333333333333,{"$f":"IF(COUNTIF(K$1:K2405,K2405)=1,K2405,\"\")","v":""}]
["2023-09-07","Alejandro Castanon Diaz","Juan Balnearis - clinicadelamujer","41s",null,"12:07:00","12:08:00",0.43,0,0,0.16666666666666669,{"$f":"IF(COUNTIF(K$1:K2406,K2406)=1,K2406,\"\")","v":""}]
["2023-09-07","Alejandro Castanon Diaz","Ricardo Cuerna - Fixum facturacion","33s",null,"12:39:00","12:53:00",0.35,0,0,5.4666666666666668,{"$f":"IF(COUNTIF(K$1:K2407,K2407)=1,K2407,\"\")","v":""}]
["2023-09-07","Alejandro Castanon Diaz","Faby - Crawler Farmakosto","03m",null,"12:42:00","12:53:00",2.16,0,0.05,5.5333333333333323,{"$f":"IF(COUNTIF(K$1:K2408,K2408)=1,K2408,\"\")","v":""}]
["2023-09-07","Alejandro Castanon Diaz","Juan Balnearis - clinicadelamujer","5s",null,"12:53:00","12:54:00",0.05,0,0,0.16666666666666669,{"$f":"IF(COUNTIF(K$1:K2409,K2409)=1,K2409,\"\")","v":""}]
["2023-09-07","Alejandro Castanon Diaz","Ricardo Freelancer - BDD Spotify","34m",null,"12:57:00","13:35:00",22.02,0,0.56666666666666665,9.0666666666666682,{"$f":"IF(COUNTIF(K$1:K2410,K2410)=1,K2410,\"\")","v":""}]
["2023-09-07","Alejandro Castanon Diaz","Ricardo Freelancer - Accounting","2s",null,"13:09:00","13:09:00",0.02,0,0,0,{"$f":"IF(COUNTIF(K$1:K2411,K2411)=1,K2411,\"\")","v":""}]
["2023-09-07","Alejandro Castanon Diaz","Ricardo CDMX - Excel a Plataforma Web","3s",null,"13:10:00","13:10:00",0.03,0,0,14.983333333333334,{"$f":"IF(COUNTIF(K$1:K2412,K2412)=1,K2412,\"\")","v":""}]
["2023-09-07","Alejandro Castanon Diaz","Faby - Crawler Farmakosto","03m",null,"13:10:00","13:25:00",2.12,0,0.05,5.5333333333333323,{"$f":"IF(COUNTIF(K$1:K2413,K2413)=1,K2413,\"\")","v":""}]
["2023-09-07","Alejandro Castanon Diaz","Ricardo Freelancer - Accounting","3s",null,"13:26:00","13:26:00",0.03,0,0,0,{"$f":"IF(COUNTIF(K$1:K2414,K2414)=1,K2414,\"\")","v":""}]
["2023-09-07","Alejandro Castanon Diaz","Eduardo Freelancer - Inmobiliaria Cambios php pura","10m",null,"13:39:00","13:50:00",6.42,0,0.16666666666666666,1.4333333333333333,{"$f":"IF(COUNTIF(K$1:K2415,K2415)=1,K2415,\"\")","v":""}]
["2023-09-07","Alejandro Castanon Diaz","Ricardo CDMX - Excel a Plataforma Web","20s",null,"13:41:00","13:41:00",0.21,0,0,14.983333333333334,{"$f":"IF(COUNTIF(K$1:K2416,K2416)=1,K2416,\"\")","v":""}]
["2023-09-07","Alejandro Castanon Diaz","Eduardo Freelancer - Inmobiliaria Cambios php pura","15m",null,"14:05:00","14:36:00",9.84,0,0.25,1.4333333333333333,{"$f":"IF(COUNTIF(K$1:K2417,K2417)=1,K2417,\"\")","v":""}]
["2023-09-07","Alejandro Castanon Diaz","Ricardo CDMX - Excel a Plataforma Web","11m",null,"14:05:00","14:44:00",7.59,0,0.18333333333333332,14.983333333333334,{"$f":"IF(COUNTIF(K$1:K2418,K2418)=1,K2418,\"\")","v":""}]
["2023-09-07","Alejandro Castanon Diaz","Administrativo - ACD","17m",null,"14:32:00","14:54:00",10.86,0,0.28333333333333333,33.966666666666676,{"$f":"IF(COUNTIF(K$1:K2419,K2419)=1,K2419,\"\")","v":""}]
["2023-09-07","Alejandro Castanon Diaz","Ricardo CDMX - Página web","2s",null,"14:32:00","14:32:00",0.02,0,0,0,{"$f":"IF(COUNTIF(K$1:K2420,K2420)=1,K2420,\"\")","v":""}]
["2023-09-07","Alejandro Castanon Diaz","Bjorn Sueco - Nordic foods 2nd round","4s",null,"14:36:00","14:36:00",0.04,0,0,2.083333333333333,{"$f":"IF(COUNTIF(K$1:K2421,K2421)=1,K2421,\"\")","v":""}]
["2023-09-07","Alejandro Castanon Diaz","Daren frelancer - cambios maintenance form","29s",null,"14:40:00","14:40:00",0.31,0,0,0.16666666666666666,{"$f":"IF(COUNTIF(K$1:K2422,K2422)=1,K2422,\"\")","v":""}]
["2023-09-07","Alejandro Castanon Diaz","Jaidi Col - PDF online marker","7s",null,"14:40:00","14:40:00",7.0000000000000007E-2,0,0,0.58333333333333337,{"$f":"IF(COUNTIF(K$1:K2423,K2423)=1,K2423,\"\")","v":""}]
["2023-09-07","Alejandro Castanon Diaz","Juan Balnearis - unidades medicas","7s",null,"14:40:00","14:41:00",7.0000000000000007E-2,0,0,1.6666666666666666E-2,{"$f":"IF(COUNTIF(K$1:K2424,K2424)=1,K2424,\"\")","v":""}]
["2023-09-07","Alejandro Castanon Diaz","Juan Balnearis - Bodyclinicmx cambios","4s",null,"14:41:00","14:41:00",0.04,0,0,0.38333333333333336,{"$f":"IF(COUNTIF(K$1:K2425,K2425)=1,K2425,\"\")","v":""}]
["2023-09-07","Alejandro Castanon Diaz","Ricardo Cuerna - Fixum Carta Porte","21s",null,"14:41:00","14:42:00",0.22,0,0,0,{"$f":"IF(COUNTIF(K$1:K2426,K2426)=1,K2426,\"\")","v":""}]
["2023-09-07","Alejandro Castanon Diaz","Administrativo - ACD","23m",null,"15:15:00","16:02:00",14.78,0,0.38333333333333336,33.966666666666676,{"$f":"IF(COUNTIF(K$1:K2427,K2427)=1,K2427,\"\")","v":""}]
["2023-09-07","Alejandro Castanon Diaz","Ricardo CDMX - Excel a Plataforma Web","03m",null,"15:16:00","15:19:00",2.16,0,0.05,14.983333333333334,{"$f":"IF(COUNTIF(K$1:K2428,K2428)=1,K2428,\"\")","v":""}]
["2023-09-07","Alejandro Castanon Diaz","Ricardo Freelancer - BDD Spotify","18m",null,"15:20:00","16:02:00",11.6,0,0.3,9.0666666666666682,{"$f":"IF(COUNTIF(K$1:K2429,K2429)=1,K2429,\"\")","v":""}]
["2023-09-07","Alejandro Castanon Diaz","Ricardo CDMX - Excel a Plataforma Web","59m",null,"15:37:00","17:13:00",37.840000000000003,0,0.98333333333333328,14.983333333333334,{"$f":"IF(COUNTIF(K$1:K2430,K2430)=1,K2430,\"\")","v":""}]
["2023-09-07","Alejandro Castanon Diaz","Tiempo Libre - ACD","02m",null,"15:38:00","15:40:00",1.31,0,3.3333333333333333E-2,4.5166666666666657,{"$f":"IF(COUNTIF(K$1:K2431,K2431)=1,K2431,\"\")","v":""}]
["2023-09-07","Alejandro Castanon Diaz","Hostings - ACD","01m",null,"16:06:00","16:11:00",0.94,0,1.6666666666666666E-2,2.4499999999999993,{"$f":"IF(COUNTIF(K$1:K2432,K2432)=1,K2432,\"\")","v":""}]
["2023-09-07","Alejandro Castanon Diaz","Administrativo - ACD","3s",null,"16:16:00","16:16:00",0.03,0,0,33.966666666666676,{"$f":"IF(COUNTIF(K$1:K2433,K2433)=1,K2433,\"\")","v":""}]
["2023-09-07","Alejandro Castanon Diaz","Ricardo Freelancer - BDD Spotify","01m",null,"16:16:00","16:26:00",0.91,0,1.6666666666666666E-2,9.0666666666666682,{"$f":"IF(COUNTIF(K$1:K2434,K2434)=1,K2434,\"\")","v":""}]
["2023-09-07","Alejandro Castanon Diaz","Hostings - ACD","01m",null,"16:31:00","16:45:00",1.18,0,1.6666666666666666E-2,2.4499999999999993,{"$f":"IF(COUNTIF(K$1:K2435,K2435)=1,K2435,\"\")","v":""}]
["2023-09-07","Alejandro Castanon Diaz","Administrativo - ACD","18m",null,"16:33:00","17:15:00",11.69,0,0.3,33.966666666666676,{"$f":"IF(COUNTIF(K$1:K2436,K2436)=1,K2436,\"\")","v":""}]
["2023-09-07","Alejandro Castanon Diaz","Ricardo Freelancer - BDD Spotify","01m",null,"16:40:00","16:46:00",0.67,0,1.6666666666666666E-2,9.0666666666666682,{"$f":"IF(COUNTIF(K$1:K2437,K2437)=1,K2437,\"\")","v":""}]
["2023-09-07","Alejandro Castanon Diaz","Ricardo Freelancer - BDD Spotify","04m",null,"16:56:00","17:12:00",2.62,0,6.6666666666666666E-2,9.0666666666666682,{"$f":"IF(COUNTIF(K$1:K2438,K2438)=1,K2438,\"\")","v":""}]
["2023-09-07","Alejandro Castanon Diaz","Administrativo - ACD","49m",null,"17:36:00","18:25:00",31.42,0,0.81666666666666665,33.966666666666676,{"$f":"IF(COUNTIF(K$1:K2439,K2439)=1,K2439,\"\")","v":""}]
["2023-09-07","Alejandro Castanon Diaz","Ricardo Freelancer - BDD Spotify","9s",null,"17:50:00","17:50:00",0.1,0,0,9.0666666666666682,{"$f":"IF(COUNTIF(K$1:K2440,K2440)=1,K2440,\"\")","v":""}]
["2023-09-07","Alejandro Castanon Diaz","Administrativo - ACD","21m",null,"20:39:00","21:07:00",13.42,0,0.35,33.966666666666676,{"$f":"IF(COUNTIF(K$1:K2441,K2441)=1,K2441,\"\")","v":""}]
["2023-09-07","Alejandro Castanon Diaz","Ricardo Freelancer - BDD Spotify","12s",null,"20:40:00","20:40:00",0.13,0,0,9.0666666666666682,{"$f":"IF(COUNTIF(K$1:K2442,K2442)=1,K2442,\"\")","v":""}]
["2023-09-07","Alejandro Castanon Diaz","Ricardo Cuerna - Fixum Carta Porte","15s",null,"20:56:00","20:57:00",0.16,0,0,0,{"$f":"IF(COUNTIF(K$1:K2443,K2443)=1,K2443,\"\")","v":""}]
["2023-09-07","Alejandro Castanon Diaz","Juan Balnearis - Bodyclinicmx cambios","14s",null,"20:56:00","20:57:00",0.15,0,0,0.38333333333333336,{"$f":"IF(COUNTIF(K$1:K2444,K2444)=1,K2444,\"\")","v":""}]
["2023-09-07","Alejandro Castanon Diaz","Ricardo Freelancer - BDD Spotify","1h 08m",null,"21:00:00","21:47:00",43.5,0,1.1333333333333333,9.0666666666666682,{"$f":"IF(COUNTIF(K$1:K2445,K2445)=1,K2445,\"\")","v":""}]
["2023-09-07","Alejandro Castanon Diaz","Administrativo - ACD","56m",null,"21:34:00","22:40:00",35.75,0,0.93333333333333335,33.966666666666676,{"$f":"IF(COUNTIF(K$1:K2446,K2446)=1,K2446,\"\")","v":""}]
["2023-09-07","Alejandro Castanon Diaz","Tiempo Libre - ACD","04m",null,"21:38:00","21:42:00",2.66,0,6.6666666666666666E-2,4.5166666666666657,{"$f":"IF(COUNTIF(K$1:K2447,K2447)=1,K2447,\"\")","v":""}]
["2023-09-07","Alejandro Castanon Diaz","Tiempo Libre - ACD","50s",null,"21:58:00","21:59:00",0.53,0,0,4.5166666666666657,{"$f":"IF(COUNTIF(K$1:K2448,K2448)=1,K2448,\"\")","v":""}]
["2023-09-07","Alejandro Castanon Diaz","Tiempo Libre - ACD","3s",null,"22:13:00","22:13:00",0.03,0,0,4.5166666666666657,{"$f":"IF(COUNTIF(K$1:K2449,K2449)=1,K2449,\"\")","v":""}]
["2023-09-07","Alejandro Castanon Diaz","Ricardo Freelancer - BDD Spotify","5s",null,"22:14:00","22:14:00",0.05,0,0,9.0666666666666682,{"$f":"IF(COUNTIF(K$1:K2450,K2450)=1,K2450,\"\")","v":""}]
["2023-09-08","Alejandro Castanon Diaz","Ricardo Freelancer - BDD Spotify","26m",null,"07:01:00","08:46:00",16.489999999999998,0,0.43333333333333335,9.0666666666666682,{"$f":"IF(COUNTIF(K$1:K2451,K2451)=1,K2451,\"\")","v":""}]
["2023-09-08","Alejandro Castanon Diaz","Ricardo Freelancer - BDD Spotify","30m",null,"07:02:00","07:45:00",19.27,0,0.5,9.0666666666666682,{"$f":"IF(COUNTIF(K$1:K2452,K2452)=1,K2452,\"\")","v":""}]
["2023-09-08","Alejandro Castanon Diaz","Ricardo Freelancer - BDD Spotify","01m",null,"07:25:00","07:27:00",1.07,0,1.6666666666666666E-2,9.0666666666666682,{"$f":"IF(COUNTIF(K$1:K2453,K2453)=1,K2453,\"\")","v":""}]
["2023-09-08","Alejandro Castanon Diaz","Administrativo - ACD","59m",null,"07:27:00","08:46:00",37.43,0,0.98333333333333328,33.966666666666676,{"$f":"IF(COUNTIF(K$1:K2454,K2454)=1,K2454,\"\")","v":""}]
["2023-09-08","Alejandro Castanon Diaz","Nick Advizee - fijo","8s",null,"07:48:00","07:48:00",0.08,0,0,4.5333333333333332,{"$f":"IF(COUNTIF(K$1:K2455,K2455)=1,K2455,\"\")","v":""}]
["2023-09-08","Alejandro Castanon Diaz","Hostings - ACD","04m",null,"07:56:00","08:01:00",2.92,0,6.6666666666666666E-2,2.4499999999999993,{"$f":"IF(COUNTIF(K$1:K2456,K2456)=1,K2456,\"\")","v":""}]
["2023-09-08","Alejandro Castanon Diaz","Ricardo Freelancer - BDD Spotify","03m",null,"08:07:00","08:24:00",2.38,0,0.05,9.0666666666666682,{"$f":"IF(COUNTIF(K$1:K2457,K2457)=1,K2457,\"\")","v":""}]
["2023-09-08","Alejandro Castanon Diaz","Hostings - ACD","03m",null,"08:24:00","08:28:00",2.4500000000000002,0,0.05,2.4499999999999993,{"$f":"IF(COUNTIF(K$1:K2458,K2458)=1,K2458,\"\")","v":""}]
["2023-09-08","Alejandro Castanon Diaz","Juan Balnearis - Landing y cambios web","5s",null,"08:30:00","08:30:00",0.05,0,0,1.0166666666666666,{"$f":"IF(COUNTIF(K$1:K2459,K2459)=1,K2459,\"\")","v":""}]
["2023-09-08","Alejandro Castanon Diaz","Ricardo CDMX - Excel a Plataforma Web","12s",null,"08:46:00","08:46:00",0.13,0,0,14.983333333333334,{"$f":"IF(COUNTIF(K$1:K2460,K2460)=1,K2460,\"\")","v":""}]
["2023-09-08","Alejandro Castanon Diaz","Juan Balnearis - Landing y cambios web","14m",null,"08:46:00","09:06:00",9.3800000000000008,0,{"$f":"IF(D2461=\"\",\"\",IF(ISERROR(FIND(\"s\",D2461)),IF(ISERROR(FIND(\"h \",D2461)),LEFT(D2461,2)/60,   LEFT(D2461,FIND(\"h \",D2461)-1 )+LEFT(RIGHT(D2461,3),2)/60   ),0))","v":0.23333333333333334},{"$f":"SUMIFS(J:J,C:C,C2461,A:A,\">\"&$S$4)","v":1.0166666666666666},{"$f":"IF(COUNTIF(K$1:K2461,K2461)=1,K2461,\"\")","v":""}]
["2023-09-08","Alejandro Castanon Diaz","Administrativo - ACD","35m",null,"09:01:00","09:43:00",22.47,0,0.58333333333333337,33.966666666666676,{"$f":"IF(COUNTIF(K$1:K2462,K2462)=1,K2462,\"\")","v":""}]
["2023-09-08","Alejandro Castanon Diaz","Ricardo CDMX - Excel a Plataforma Web","21s",null,"09:01:00","09:11:00",0.22,0,0,14.983333333333334,{"$f":"IF(COUNTIF(K$1:K2463,K2463)=1,K2463,\"\")","v":""}]
["2023-09-08","Alejandro Castanon Diaz","Faby - Crawler Farmakosto","01m",null,"09:11:00","09:15:00",0.7,0,1.6666666666666666E-2,5.5333333333333323,{"$f":"IF(COUNTIF(K$1:K2464,K2464)=1,K2464,\"\")","v":""}]
["2023-09-08","Alejandro Castanon Diaz","Ricardo Freelancer - BDD Spotify","18s",null,"09:22:00","09:23:00",0.19,0,0,9.0666666666666682,{"$f":"IF(COUNTIF(K$1:K2465,K2465)=1,K2465,\"\")","v":""}]
["2023-09-08","Alejandro Castanon Diaz","Ricardo CDMX - Excel a Plataforma Web","12m",null,"09:23:00","09:54:00",8.15,0,0.2,14.983333333333334,{"$f":"IF(COUNTIF(K$1:K2466,K2466)=1,K2466,\"\")","v":""}]
["2023-09-08","Alejandro Castanon Diaz","Jaidi Col - PDF online marker","10s",null,"09:25:00","09:25:00",0.11,0,0,0.58333333333333337,{"$f":"IF(COUNTIF(K$1:K2467,K2467)=1,K2467,\"\")","v":""}]
["2023-09-08","Alejandro Castanon Diaz","Hostings - ACD","01m",null,"09:32:00","09:34:00",0.84,0,1.6666666666666666E-2,2.4499999999999993,{"$f":"IF(COUNTIF(K$1:K2468,K2468)=1,K2468,\"\")","v":""}]
["2023-09-08","Alejandro Castanon Diaz","Ricardo Freelancer - BDD Spotify","38s",null,"09:34:00","09:34:00",0.4,0,0,9.0666666666666682,{"$f":"IF(COUNTIF(K$1:K2469,K2469)=1,K2469,\"\")","v":""}]
["2023-09-08","Alejandro Castanon Diaz","Juan Balnearis - unidades medicas","54s",null,"09:36:00","09:37:00",0.56999999999999995,0,0,1.6666666666666666E-2,{"$f":"IF(COUNTIF(K$1:K2470,K2470)=1,K2470,\"\")","v":""}]
["2023-09-08","Alejandro Castanon Diaz","Administrativo - ACD","2h 41m",null,"09:54:00","12:57:00",102.28,0,2.6833333333333336,33.966666666666676,{"$f":"IF(COUNTIF(K$1:K2471,K2471)=1,K2471,\"\")","v":""}]
["2023-09-08","Alejandro Castanon Diaz","Ricardo CDMX - Excel a Plataforma Web","2s",null,"10:28:00","10:28:00",0.02,0,0,14.983333333333334,{"$f":"IF(COUNTIF(K$1:K2472,K2472)=1,K2472,\"\")","v":""}]
["2023-09-08","Alejandro Castanon Diaz","Juan Balnearis - Bodyclinicmx cambios","8s",null,"10:54:00","10:54:00",0.08,0,0,0.38333333333333336,{"$f":"IF(COUNTIF(K$1:K2473,K2473)=1,K2473,\"\")","v":""}]
["2023-09-08","Alejandro Castanon Diaz","Juan Balnearis - Bodyclinicmx cambios","12s",null,"11:29:00","11:29:00",0.13,0,0,0.38333333333333336,{"$f":"IF(COUNTIF(K$1:K2474,K2474)=1,K2474,\"\")","v":""}]
["2023-09-08","Alejandro Castanon Diaz","Ricardo Cuerna - Designer space","18s",null,"11:39:00","11:44:00",0.19,0,0,0,{"$f":"IF(COUNTIF(K$1:K2475,K2475)=1,K2475,\"\")","v":""}]
["2023-09-08","Alejandro Castanon Diaz","Manuel Austria - agentur.xxx","7s",null,"11:44:00","11:44:00",7.0000000000000007E-2,0,0,0.1,{"$f":"IF(COUNTIF(K$1:K2476,K2476)=1,K2476,\"\")","v":""}]
["2023-09-08","Alejandro Castanon Diaz","Ricardo CDMX - Excel a Plataforma Web","12s",null,"11:46:00","11:47:00",0.13,0,0,14.983333333333334,{"$f":"IF(COUNTIF(K$1:K2477,K2477)=1,K2477,\"\")","v":""}]
["2023-09-08","Alejandro Castanon Diaz","Hostings - ACD","12s",null,"11:50:00","11:57:00",0.13,0,0,2.4499999999999993,{"$f":"IF(COUNTIF(K$1:K2478,K2478)=1,K2478,\"\")","v":""}]
["2023-09-08","Alejandro Castanon Diaz","Alejandro Disidentes - Sixbell","04m",null,"11:55:00","12:06:00",2.78,0,6.6666666666666666E-2,2.2666666666666666,{"$f":"IF(COUNTIF(K$1:K2479,K2479)=1,K2479,\"\")","v":""}]
["2023-09-08","Alejandro Castanon Diaz","Ricardo Freelancer - BDD Spotify","16s",null,"11:57:00","11:57:00",0.17,0,0,9.0666666666666682,{"$f":"IF(COUNTIF(K$1:K2480,K2480)=1,K2480,\"\")","v":""}]
["2023-09-08","Alejandro Castanon Diaz","Ricardo CDMX - Excel a Plataforma Web","01m",null,"12:00:00","12:02:00",0.8,0,1.6666666666666666E-2,14.983333333333334,{"$f":"IF(COUNTIF(K$1:K2481,K2481)=1,K2481,\"\")","v":""}]
["2023-09-08","Alejandro Castanon Diaz","Tiempo Libre - ACD","02m",null,"12:09:00","12:12:00",1.71,0,3.3333333333333333E-2,4.5166666666666657,{"$f":"IF(COUNTIF(K$1:K2482,K2482)=1,K2482,\"\")","v":""}]
["2023-09-08","Alejandro Castanon Diaz","Juan Balnearis - unidades medicas","41s",null,"12:20:00","12:22:00",0.43,0,0,1.6666666666666666E-2,{"$f":"IF(COUNTIF(K$1:K2483,K2483)=1,K2483,\"\")","v":""}]
["2023-09-08","Alejandro Castanon Diaz","Tiempo Libre - ACD","01m",null,"12:23:00","12:26:00",1.02,0,1.6666666666666666E-2,4.5166666666666657,{"$f":"IF(COUNTIF(K$1:K2484,K2484)=1,K2484,\"\")","v":""}]
["2023-09-08","Alejandro Castanon Diaz","Alejandro Disidentes - Sixbell","02m",null,"12:30:00","12:33:00",1.54,0,3.3333333333333333E-2,2.2666666666666666,{"$f":"IF(COUNTIF(K$1:K2485,K2485)=1,K2485,\"\")","v":""}]
["2023-09-08","Alejandro Castanon Diaz","Ricardo CDMX - Excel a Plataforma Web","05m",null,"12:30:00","12:40:00",3.59,0,8.3333333333333329E-2,14.983333333333334,{"$f":"IF(COUNTIF(K$1:K2486,K2486)=1,K2486,\"\")","v":""}]
["2023-09-08","Alejandro Castanon Diaz","Hostings - ACD","55s",null,"12:33:00","12:35:00",0.57999999999999996,0,0,2.4499999999999993,{"$f":"IF(COUNTIF(K$1:K2487,K2487)=1,K2487,\"\")","v":""}]
["2023-09-08","Alejandro Castanon Diaz","Ricardo CDMX - Excel a Plataforma Web","3h 32m",null,"12:57:00","17:13:00",134.88999999999999,0,3.5333333333333332,14.983333333333334,{"$f":"IF(COUNTIF(K$1:K2488,K2488)=1,K2488,\"\")","v":""}]
["2023-09-08","Alejandro Castanon Diaz","Hostings - ACD","33s",null,"13:05:00","13:15:00",0.35,0,0,2.4499999999999993,{"$f":"IF(COUNTIF(K$1:K2489,K2489)=1,K2489,\"\")","v":""}]
["2023-09-08","Alejandro Castanon Diaz","Administrativo - ACD","05m",null,"13:09:00","13:15:00",3.75,0,8.3333333333333329E-2,33.966666666666676,{"$f":"IF(COUNTIF(K$1:K2490,K2490)=1,K2490,\"\")","v":""}]
["2023-09-08","Alejandro Castanon Diaz","Administrativo - ACD","09m",null,"13:39:00","13:54:00",6.14,0,0.15,33.966666666666676,{"$f":"IF(COUNTIF(K$1:K2491,K2491)=1,K2491,\"\")","v":""}]
["2023-09-08","Alejandro Castanon Diaz","Hostings - ACD","26s",null,"13:44:00","13:54:00",0.27,0,0,2.4499999999999993,{"$f":"IF(COUNTIF(K$1:K2492,K2492)=1,K2492,\"\")","v":""}]
["2023-09-08","Alejandro Castanon Diaz","Juan Balnearis - Landing y cambios web","01m",null,"13:44:00","13:48:00",0.68,0,1.6666666666666666E-2,1.0166666666666666,{"$f":"IF(COUNTIF(K$1:K2493,K2493)=1,K2493,\"\")","v":""}]
["2023-09-08","Alejandro Castanon Diaz","Juan Balnearis - Bodyclinicmx cambios","28s",null,"13:48:00","13:54:00",0.3,0,0,0.38333333333333336,{"$f":"IF(COUNTIF(K$1:K2494,K2494)=1,K2494,\"\")","v":""}]
["2023-09-08","Alejandro Castanon Diaz","Administrativo - ACD","03m",null,"14:06:00","14:10:00",2.0499999999999998,0,0.05,33.966666666666676,{"$f":"IF(COUNTIF(K$1:K2495,K2495)=1,K2495,\"\")","v":""}]
["2023-09-08","Alejandro Castanon Diaz","Juan Balnearis - unidades medicas","40s",null,"14:09:00","14:10:00",0.42,0,0,1.6666666666666666E-2,{"$f":"IF(COUNTIF(K$1:K2496,K2496)=1,K2496,\"\")","v":""}]
["2023-09-08","Alejandro Castanon Diaz","Ricardo Freelancer - BDD Spotify","50m",null,"14:20:00","15:11:00",32.119999999999997,0,0.83333333333333337,9.0666666666666682,{"$f":"IF(COUNTIF(K$1:K2497,K2497)=1,K2497,\"\")","v":""}]
["2023-09-08","Alejandro Castanon Diaz","Administrativo - ACD","01m",null,"14:29:00","14:30:00",0.78,0,1.6666666666666666E-2,33.966666666666676,{"$f":"IF(COUNTIF(K$1:K2498,K2498)=1,K2498,\"\")","v":""}]
["2023-09-08","Alejandro Castanon Diaz","Ricardo CDMX - Excel a Plataforma Web","01m",null,"14:43:00","14:44:00",0.7,0,1.6666666666666666E-2,14.983333333333334,{"$f":"IF(COUNTIF(K$1:K2499,K2499)=1,K2499,\"\")","v":""}]
["2023-09-08","Alejandro Castanon Diaz","Ricardo CDMX - Excel a Plataforma Web","03m",null,"16:17:00","16:53:00",2.4,0,0.05,14.983333333333334,{"$f":"IF(COUNTIF(K$1:K2500,K2500)=1,K2500,\"\")","v":""}]
["2023-09-08","Alejandro Castanon Diaz","Ricardo CDMX - Excel a Plataforma Web","1h 23m",null,"17:07:00","18:46:00",53.05,0,1.3833333333333333,14.983333333333334,{"$f":"IF(COUNTIF(K$1:K2501,K2501)=1,K2501,\"\")","v":""}]
["2023-09-08","Alejandro Castanon Diaz","Ricardo CDMX - Excel a Plataforma Web","01m",null,"17:09:00","17:15:00",1.1299999999999999,0,1.6666666666666666E-2,14.983333333333334,{"$f":"IF(COUNTIF(K$1:K2502,K2502)=1,K2502,\"\")","v":""}]
["2023-09-08","Alejandro Castanon Diaz","Administrativo - ACD","07m",null,"17:15:00","17:22:00",4.45,0,0.11666666666666667,33.966666666666676,{"$f":"IF(COUNTIF(K$1:K2503,K2503)=1,K2503,\"\")","v":""}]
["2023-09-08","Alejandro Castanon Diaz","Administrativo - ACD","03m",null,"17:38:00","18:06:00",2.2999999999999998,0,0.05,33.966666666666676,{"$f":"IF(COUNTIF(K$1:K2504,K2504)=1,K2504,\"\")","v":""}]
["2023-09-08","Alejandro Castanon Diaz","Alejandro Disidentes - Sixbell","40s",null,"17:58:00","18:06:00",0.42,0,0,2.2666666666666666,{"$f":"IF(COUNTIF(K$1:K2505,K2505)=1,K2505,\"\")","v":""}]
["2023-09-08","Alejandro Castanon Diaz","Administrativo - ACD","01m",null,"18:23:00","18:28:00",0.7,0,1.6666666666666666E-2,33.966666666666676,{"$f":"IF(COUNTIF(K$1:K2506,K2506)=1,K2506,\"\")","v":""}]
["2023-09-08","Alejandro Castanon Diaz","Ricardo CDMX - Excel a Plataforma Web","31m",null,"18:58:00","19:34:00",19.93,0,0.51666666666666672,14.983333333333334,{"$f":"IF(COUNTIF(K$1:K2507,K2507)=1,K2507,\"\")","v":""}]
["2023-09-08","Alejandro Castanon Diaz","Administrativo - ACD","04m",null,"19:29:00","19:34:00",3.12,0,6.6666666666666666E-2,33.966666666666676,{"$f":"IF(COUNTIF(K$1:K2508,K2508)=1,K2508,\"\")","v":""}]
["2023-09-09","Alejandro Castanon Diaz","Administrativo - ACD","40s",null,"11:26:00","11:31:00",0.42,0,0,33.966666666666676,{"$f":"IF(COUNTIF(K$1:K2509,K2509)=1,K2509,\"\")","v":""}]
["2023-09-09","Alejandro Castanon Diaz","Ricardo CDMX - Excel a Plataforma Web","13m",null,"11:27:00","11:40:00",8.48,0,0.21666666666666667,14.983333333333334,{"$f":"IF(COUNTIF(K$1:K2510,K2510)=1,K2510,\"\")","v":""}]
["2023-09-11","Alejandro Castanon Diaz","Ricardo CDMX - Excel a Plataforma Web","8s",null,"10:28:00","10:32:00",0.08,0,0,14.983333333333334,{"$f":"IF(COUNTIF(K$1:K2511,K2511)=1,K2511,\"\")","v":""}]
["2023-09-11","Alejandro Castanon Diaz","Administrativo - ACD","32m",null,"10:28:00","11:03:00",20.399999999999999,0,0.53333333333333333,33.966666666666676,{"$f":"IF(COUNTIF(K$1:K2512,K2512)=1,K2512,\"\")","v":""}]
["2023-09-11","Alejandro Castanon Diaz","Ricardo CDMX - Excel a Plataforma Web","2s",null,"10:50:00","10:50:00",0.02,0,0,14.983333333333334,{"$f":"IF(COUNTIF(K$1:K2513,K2513)=1,K2513,\"\")","v":""}]
["2023-09-11","Alejandro Castanon Diaz","Faby - Crawler Farmakosto","02m",null,"10:50:00","10:53:00",1.64,0,3.3333333333333333E-2,5.5333333333333323,{"$f":"IF(COUNTIF(K$1:K2514,K2514)=1,K2514,\"\")","v":""}]
["2023-09-11","Alejandro Castanon Diaz","Faby - Crawler Farmakosto","5s",null,"11:06:00","11:06:00",0.05,0,0,5.5333333333333323,{"$f":"IF(COUNTIF(K$1:K2515,K2515)=1,K2515,\"\")","v":""}]
["2023-09-11","Alejandro Castanon Diaz","Ricardo CDMX - Excel a Plataforma Web","02m",null,"11:06:00","11:08:00",1.58,0,3.3333333333333333E-2,14.983333333333334,{"$f":"IF(COUNTIF(K$1:K2516,K2516)=1,K2516,\"\")","v":""}]
["2023-09-11","Alejandro Castanon Diaz","Administrativo - ACD","57m",null,"13:03:00","14:16:00",36.270000000000003,0,0.95,33.966666666666676,{"$f":"IF(COUNTIF(K$1:K2517,K2517)=1,K2517,\"\")","v":""}]
["2023-09-11","Alejandro Castanon Diaz","Tiempo Libre - ACD","01m",null,"13:16:00","13:20:00",1.26,0,1.6666666666666666E-2,4.5166666666666657,{"$f":"IF(COUNTIF(K$1:K2518,K2518)=1,K2518,\"\")","v":""}]
["2023-09-11","Alejandro Castanon Diaz","Juan Balnearis - Landing y cambios web","01m",null,"13:18:00","13:20:00",0.9,0,1.6666666666666666E-2,1.0166666666666666,{"$f":"IF(COUNTIF(K$1:K2519,K2519)=1,K2519,\"\")","v":""}]
["2023-09-11","Alejandro Castanon Diaz","Bjorn Sueco - Nordic foods 2nd round","9s",null,"13:27:00","13:29:00",0.1,0,0,2.083333333333333,{"$f":"IF(COUNTIF(K$1:K2520,K2520)=1,K2520,\"\")","v":""}]
["2023-09-11","Alejandro Castanon Diaz","Tiempo Libre - ACD","05m",null,"13:41:00","13:46:00",3.39,0,8.3333333333333329E-2,4.5166666666666657,{"$f":"IF(COUNTIF(K$1:K2521,K2521)=1,K2521,\"\")","v":""}]
["2023-09-11","Alejandro Castanon Diaz","Ricardo CDMX - Excel a Plataforma Web","2s",null,"13:48:00","13:48:00",0.02,0,0,14.983333333333334,{"$f":"IF(COUNTIF(K$1:K2522,K2522)=1,K2522,\"\")","v":""}]
["2023-09-11","Alejandro Castanon Diaz","Faby - Crawler Farmakosto","07m",null,"13:48:00","14:03:00",4.9000000000000004,0,0.11666666666666667,5.5333333333333323,{"$f":"IF(COUNTIF(K$1:K2523,K2523)=1,K2523,\"\")","v":""}]
["2023-09-11","Alejandro Castanon Diaz","Hostings - ACD","02m",null,"22:25:00","22:40:00",1.63,0,3.3333333333333333E-2,2.4499999999999993,{"$f":"IF(COUNTIF(K$1:K2524,K2524)=1,K2524,\"\")","v":""}]
["2023-09-11","Alejandro Castanon Diaz","Bjorn Sueco - Nordic foods 2nd round","10m",null,"22:25:00","22:59:00",6.83,0,{"$f":"IF(D2525=\"\",\"\",IF(ISERROR(FIND(\"s\",D2525)),IF(ISERROR(FIND(\"h \",D2525)),LEFT(D2525,2)/60,   LEFT(D2525,FIND(\"h \",D2525)-1 )+LEFT(RIGHT(D2525,3),2)/60   ),0))","v":0.16666666666666666},{"$f":"SUMIFS(J:J,C:C,C2525,A:A,\">\"&$S$4)","v":2.083333333333333},{"$f":"IF(COUNTIF(K$1:K2525,K2525)=1,K2525,\"\")","v":""}]
["2023-09-11","Alejandro Castanon Diaz","Viv Freelancer - 5 column filter","6s",null,"22:26:00","22:26:00",0.06,0,0,0.1,{"$f":"IF(COUNTIF(K$1:K2526,K2526)=1,K2526,\"\")","v":""}]
["2023-09-11","Alejandro Castanon Diaz","Ricardo CDMX - Excel a Plataforma Web","7s",null,"22:27:00","22:28:00",7.0000000000000007E-2,0,0,14.983333333333334,{"$f":"IF(COUNTIF(K$1:K2527,K2527)=1,K2527,\"\")","v":""}]
["2023-09-11","Alejandro Castanon Diaz","Administrativo - ACD","25m",null,"22:28:00","23:09:00",16.11,0,0.41666666666666669,33.966666666666676,{"$f":"IF(COUNTIF(K$1:K2528,K2528)=1,K2528,\"\")","v":""}]
["2023-09-11","Alejandro Castanon Diaz","Ricardo Cuerna - Fixum Carta Porte","3s",null,"22:35:00","22:35:00",0.03,0,0,0,{"$f":"IF(COUNTIF(K$1:K2529,K2529)=1,K2529,\"\")","v":""}]
["2023-09-11","Alejandro Castanon Diaz","Ricardo CDMX - Excel a Plataforma Web","4s",null,"22:45:00","22:45:00",0.04,0,0,14.983333333333334,{"$f":"IF(COUNTIF(K$1:K2530,K2530)=1,K2530,\"\")","v":""}]
["2023-09-11","Alejandro Castanon Diaz","Juan Balnearis - Bodyclinicmx cambios","04m",null,"22:59:00","23:04:00",2.8,0,6.6666666666666666E-2,0.38333333333333336,{"$f":"IF(COUNTIF(K$1:K2531,K2531)=1,K2531,\"\")","v":""}]
["2023-09-11","Alejandro Castanon Diaz","Tiempo Libre - ACD","29s",null,"23:04:00","23:05:00",0.31,0,0,4.5166666666666657,{"$f":"IF(COUNTIF(K$1:K2532,K2532)=1,K2532,\"\")","v":""}]
["2023-09-12","Alejandro Castanon Diaz","Tiempo Libre - ACD","15m",null,"09:30:00","09:46:00",9.7899999999999991,0,0.25,4.5166666666666657,{"$f":"IF(COUNTIF(K$1:K2533,K2533)=1,K2533,\"\")","v":""}]
["2023-09-12","Alejandro Castanon Diaz","Administrativo - ACD","38m",null,"09:58:00","10:50:00",24.63,0,0.6333333333333333,33.966666666666676,{"$f":"IF(COUNTIF(K$1:K2534,K2534)=1,K2534,\"\")","v":""}]
["2023-09-12","Alejandro Castanon Diaz","Hostings - ACD","01m",null,"09:58:00","10:03:00",1.19,0,1.6666666666666666E-2,2.4499999999999993,{"$f":"IF(COUNTIF(K$1:K2535,K2535)=1,K2535,\"\")","v":""}]
["2023-09-12","Alejandro Castanon Diaz","Bjorn Sueco - Nordic foods 2nd round","10m",null,"10:16:00","10:39:00",6.72,0,0.16666666666666666,2.083333333333333,{"$f":"IF(COUNTIF(K$1:K2536,K2536)=1,K2536,\"\")","v":""}]
["2023-09-12","Alejandro Castanon Diaz","Nick Advizee - fijo","21s",null,"10:25:00","10:25:00",0.22,0,0,4.5333333333333332,{"$f":"IF(COUNTIF(K$1:K2537,K2537)=1,K2537,\"\")","v":""}]
["2023-09-12","Alejandro Castanon Diaz","Nick Advizee - fijo","02m",null,"10:50:00","10:58:00",1.81,0,3.3333333333333333E-2,4.5333333333333332,{"$f":"IF(COUNTIF(K$1:K2538,K2538)=1,K2538,\"\")","v":""}]
["2023-09-12","Alejandro Castanon Diaz","Bjorn Sueco - Nordic foods 2nd round","29m",null,"10:51:00","11:45:00",18.59,0,0.48333333333333334,2.083333333333333,{"$f":"IF(COUNTIF(K$1:K2539,K2539)=1,K2539,\"\")","v":""}]
["2023-09-12","Alejandro Castanon Diaz","Administrativo - ACD","06m",null,"11:03:00","11:12:00",4.0999999999999996,0,0.1,33.966666666666676,{"$f":"IF(COUNTIF(K$1:K2540,K2540)=1,K2540,\"\")","v":""}]
["2023-09-12","Alejandro Castanon Diaz","Hostings - ACD","02m",null,"11:05:00","11:09:00",1.57,0,3.3333333333333333E-2,2.4499999999999993,{"$f":"IF(COUNTIF(K$1:K2541,K2541)=1,K2541,\"\")","v":""}]
["2023-09-12","Alejandro Castanon Diaz","Ricardo CDMX - Excel a Plataforma Web","23s",null,"11:07:00","11:07:00",0.24,0,0,14.983333333333334,{"$f":"IF(COUNTIF(K$1:K2542,K2542)=1,K2542,\"\")","v":""}]
["2023-09-12","Alejandro Castanon Diaz","Nick Advizee - fijo","07m",null,"11:23:00","11:32:00",4.66,0,0.11666666666666667,4.5333333333333332,{"$f":"IF(COUNTIF(K$1:K2543,K2543)=1,K2543,\"\")","v":""}]
["2023-09-12","Alejandro Castanon Diaz","Ricardo CDMX - Excel a Plataforma Web","01m",null,"11:29:00","11:31:00",0.84,0,1.6666666666666666E-2,14.983333333333334,{"$f":"IF(COUNTIF(K$1:K2544,K2544)=1,K2544,\"\")","v":""}]
["2023-09-12","Alejandro Castanon Diaz","Administrativo - ACD","23s",null,"11:31:00","11:32:00",0.24,0,0,33.966666666666676,{"$f":"IF(COUNTIF(K$1:K2545,K2545)=1,K2545,\"\")","v":""}]
["2023-09-12","Alejandro Castanon Diaz","Administrativo - ACD","1h 38m",null,"11:45:00","14:28:00",62.63,0,1.6333333333333333,33.966666666666676,{"$f":"IF(COUNTIF(K$1:K2546,K2546)=1,K2546,\"\")","v":""}]
["2023-09-12","Alejandro Castanon Diaz","Tiempo Libre - ACD","22m",null,"12:03:00","13:07:00",14.51,0,0.36666666666666664,4.5166666666666657,{"$f":"IF(COUNTIF(K$1:K2547,K2547)=1,K2547,\"\")","v":""}]
["2023-09-12","Alejandro Castanon Diaz","Juan Balnearis - unidades medicas","01m",null,"12:04:00","12:06:00",0.78,0,1.6666666666666666E-2,1.6666666666666666E-2,{"$f":"IF(COUNTIF(K$1:K2548,K2548)=1,K2548,\"\")","v":""}]
["2023-09-12","Alejandro Castanon Diaz","Juan Balnearis - Bodyclinicmx cambios","03m",null,"12:06:00","12:10:00",1.91,0,0.05,0.38333333333333336,{"$f":"IF(COUNTIF(K$1:K2549,K2549)=1,K2549,\"\")","v":""}]
["2023-09-12","Alejandro Castanon Diaz","Juan Balnearis - Bodyclinicmx cambios","15m",null,"12:33:00","13:04:00",9.98,0,0.25,0.38333333333333336,{"$f":"IF(COUNTIF(K$1:K2550,K2550)=1,K2550,\"\")","v":""}]
["2023-09-12","Alejandro Castanon Diaz","Hostings - ACD","3s",null,"12:37:00","12:37:00",0.03,0,0,2.4499999999999993,{"$f":"IF(COUNTIF(K$1:K2551,K2551)=1,K2551,\"\")","v":""}]
["2023-09-12","Alejandro Castanon Diaz","Juan Balnearis - unidades medicas","25s",null,"12:39:00","12:40:00",0.26,0,0,1.6666666666666666E-2,{"$f":"IF(COUNTIF(K$1:K2552,K2552)=1,K2552,\"\")","v":""}]
["2023-09-12","Alejandro Castanon Diaz","Juan Balnearis - unidades medicas","31s",null,"12:53:00","12:54:00",0.33,0,0,1.6666666666666666E-2,{"$f":"IF(COUNTIF(K$1:K2553,K2553)=1,K2553,\"\")","v":""}]
["2023-09-12","Alejandro Castanon Diaz","Bjorn Sueco - Speedup","7s",null,"13:05:00","13:05:00",7.0000000000000007E-2,0,0,0,{"$f":"IF(COUNTIF(K$1:K2554,K2554)=1,K2554,\"\")","v":""}]
["2023-09-12","Alejandro Castanon Diaz","Juan Balnearis - unidades medicas","34s",null,"13:06:00","13:12:00",0.36,0,0,1.6666666666666666E-2,{"$f":"IF(COUNTIF(K$1:K2555,K2555)=1,K2555,\"\")","v":""}]
["2023-09-12","Alejandro Castanon Diaz","Ricardo CDMX - Excel a Plataforma Web","4s",null,"13:36:00","13:42:00",0.04,0,0,14.983333333333334,{"$f":"IF(COUNTIF(K$1:K2556,K2556)=1,K2556,\"\")","v":""}]
["2023-09-12","Alejandro Castanon Diaz","Faby - Crawler Farmakosto","08m",null,"13:42:00","13:51:00",5.51,0,0.13333333333333333,5.5333333333333323,{"$f":"IF(COUNTIF(K$1:K2557,K2557)=1,K2557,\"\")","v":""}]
["2023-09-12","Alejandro Castanon Diaz","Bjorn Sueco - Nordic foods 2nd round","09m",null,"14:01:00","14:27:00",6.3,0,0.15,2.083333333333333,{"$f":"IF(COUNTIF(K$1:K2558,K2558)=1,K2558,\"\")","v":""}]
["2023-09-12","Alejandro Castanon Diaz","Faby - Crawler Farmakosto","17s",null,"14:19:00","14:21:00",0.18,0,0,5.5333333333333323,{"$f":"IF(COUNTIF(K$1:K2559,K2559)=1,K2559,\"\")","v":""}]
["2023-09-12","Alejandro Castanon Diaz","Eduardo Freelancer - Inmobiliaria Cambios php pura","21m",null,"14:26:00","14:49:00",13.71,0,0.35,1.4333333333333333,{"$f":"IF(COUNTIF(K$1:K2560,K2560)=1,K2560,\"\")","v":""}]
["2023-09-12","Alejandro Castanon Diaz","Administrativo - ACD","8s",null,"16:56:00","16:56:00",0.08,0,0,33.966666666666676,{"$f":"IF(COUNTIF(K$1:K2561,K2561)=1,K2561,\"\")","v":""}]
["2023-09-12","Alejandro Castanon Diaz","Eduardo Freelancer - Inmobiliaria Cambios php pura","33m",null,"16:56:00","17:42:00",21.11,0,0.55000000000000004,1.4333333333333333,{"$f":"IF(COUNTIF(K$1:K2562,K2562)=1,K2562,\"\")","v":""}]
["2023-09-12","Alejandro Castanon Diaz","Ricardo CDMX - Excel a Plataforma Web","04m",null,"17:24:00","17:42:00",3.16,0,6.6666666666666666E-2,14.983333333333334,{"$f":"IF(COUNTIF(K$1:K2563,K2563)=1,K2563,\"\")","v":""}]
["2023-09-12","Alejandro Castanon Diaz","Administrativo - ACD","09m",null,"17:42:00","18:07:00",5.97,0,0.15,33.966666666666676,{"$f":"IF(COUNTIF(K$1:K2564,K2564)=1,K2564,\"\")","v":""}]
["2023-09-12","Alejandro Castanon Diaz","Daren frelancer - cambios maintenance form","08m",null,"17:43:00","18:03:00",5.34,0,0.13333333333333333,0.16666666666666666,{"$f":"IF(COUNTIF(K$1:K2565,K2565)=1,K2565,\"\")","v":""}]
["2023-09-12","Alejandro Castanon Diaz","Bjorn Sueco - Nordic foods 2nd round","04m",null,"17:44:00","17:48:00",2.82,0,6.6666666666666666E-2,2.083333333333333,{"$f":"IF(COUNTIF(K$1:K2566,K2566)=1,K2566,\"\")","v":""}]
["2023-09-12","Alejandro Castanon Diaz","Ricardo CDMX - Excel a Plataforma Web","13s",null,"18:00:00","18:07:00",0.14000000000000001,0,0,14.983333333333334,{"$f":"IF(COUNTIF(K$1:K2567,K2567)=1,K2567,\"\")","v":""}]
["2023-09-12","Alejandro Castanon Diaz","Bjorn Sueco - Nordic foods 2nd round","24m",null,"18:02:00","18:35:00",15.31,0,0.4,2.083333333333333,{"$f":"IF(COUNTIF(K$1:K2568,K2568)=1,K2568,\"\")","v":""}]
["2023-09-12","Alejandro Castanon Diaz","Faby - Crawler Farmakosto","04m",null,"18:03:00","18:10:00",3.09,0,6.6666666666666666E-2,5.5333333333333323,{"$f":"IF(COUNTIF(K$1:K2569,K2569)=1,K2569,\"\")","v":""}]
["2023-09-12","Alejandro Castanon Diaz","Faby - Crawler Farmakosto","3s",null,"18:25:00","18:25:00",0.03,0,0,5.5333333333333323,{"$f":"IF(COUNTIF(K$1:K2570,K2570)=1,K2570,\"\")","v":""}]
["2023-09-12","Alejandro Castanon Diaz","Ricardo CDMX - Excel a Plataforma Web","06m",null,"18:25:00","19:01:00",3.97,0,0.1,14.983333333333334,{"$f":"IF(COUNTIF(K$1:K2571,K2571)=1,K2571,\"\")","v":""}]
["2023-09-12","Alejandro Castanon Diaz","Administrativo - ACD","14m",null,"18:25:00","19:18:00",9.42,0,0.23333333333333334,33.966666666666676,{"$f":"IF(COUNTIF(K$1:K2572,K2572)=1,K2572,\"\")","v":""}]
["2023-09-12","Alejandro Castanon Diaz","Faby - Crawler Farmakosto","18m",null,"18:36:00","19:08:00",11.66,0,0.3,5.5333333333333323,{"$f":"IF(COUNTIF(K$1:K2573,K2573)=1,K2573,\"\")","v":""}]
["2023-09-12","Alejandro Castanon Diaz","Bjorn Sueco - Nordic foods 2nd round","16m",null,"19:00:00","19:30:00",10.61,0,0.26666666666666666,2.083333333333333,{"$f":"IF(COUNTIF(K$1:K2574,K2574)=1,K2574,\"\")","v":""}]
["2023-09-12","Alejandro Castanon Diaz","Bjorn Sueco - Nordic foods 2nd round","01m",null,"20:39:00","20:40:00",0.67,0,1.6666666666666666E-2,2.083333333333333,{"$f":"IF(COUNTIF(K$1:K2575,K2575)=1,K2575,\"\")","v":""}]
["2023-09-12","Alejandro Castanon Diaz","Administrativo - ACD","6s",null,"20:40:00","20:40:00",0.06,0,0,33.966666666666676,{"$f":"IF(COUNTIF(K$1:K2576,K2576)=1,K2576,\"\")","v":""}]
["2023-09-13","Alejandro Castanon Diaz","Administrativo - ACD","24m",null,"06:06:00","06:39:00",15.73,0,0.4,33.966666666666676,{"$f":"IF(COUNTIF(K$1:K2577,K2577)=1,K2577,\"\")","v":""}]
["2023-09-13","Alejandro Castanon Diaz","Juan Balnearis - Bodyclinicmx cambios","01m",null,"06:07:00","06:14:00",0.86,0,1.6666666666666666E-2,0.38333333333333336,{"$f":"IF(COUNTIF(K$1:K2578,K2578)=1,K2578,\"\")","v":""}]
["2023-09-13","Alejandro Castanon Diaz","Ricardo CDMX - Excel a Plataforma Web","10m",null,"06:21:00","07:00:00",6.63,0,0.16666666666666666,14.983333333333334,{"$f":"IF(COUNTIF(K$1:K2579,K2579)=1,K2579,\"\")","v":""}]
["2023-09-13","Alejandro Castanon Diaz","Nick Advizee - fijo","18s",null,"06:32:00","06:32:00",0.19,0,0,4.5333333333333332,{"$f":"IF(COUNTIF(K$1:K2580,K2580)=1,K2580,\"\")","v":""}]
["2023-09-13","Alejandro Castanon Diaz","Bjorn Sueco - Nordic foods 2nd round","18m",null,"06:39:00","07:17:00",11.52,0,0.3,2.083333333333333,{"$f":"IF(COUNTIF(K$1:K2581,K2581)=1,K2581,\"\")","v":""}]
["2023-09-13","Alejandro Castanon Diaz","Administrativo - ACD","13m",null,"06:49:00","07:15:00",8.33,0,0.21666666666666667,33.966666666666676,{"$f":"IF(COUNTIF(K$1:K2582,K2582)=1,K2582,\"\")","v":""}]
["2023-09-13","Alejandro Castanon Diaz","Daren frelancer - cambios maintenance form","41s",null,"07:03:00","07:08:00",0.43,0,0,0.16666666666666666,{"$f":"IF(COUNTIF(K$1:K2583,K2583)=1,K2583,\"\")","v":""}]
["2023-09-13","Alejandro Castanon Diaz","Gary Hydracheck - safe-2-bleed Quote on contact","01m",null,"07:03:00","07:07:00",0.73,0,1.6666666666666666E-2,1.6666666666666666E-2,{"$f":"IF(COUNTIF(K$1:K2584,K2584)=1,K2584,\"\")","v":""}]
["2023-09-13","Alejandro Castanon Diaz","Rodrigo Techservices - Kanatest Hosting","3s",null,"07:08:00","07:08:00",0.03,0,0,0,{"$f":"IF(COUNTIF(K$1:K2585,K2585)=1,K2585,\"\")","v":""}]
["2023-09-13","Alejandro Castanon Diaz","Ricardo CDMX - Excel a Plataforma Web","13m",null,"07:12:00","07:36:00",8.67,0,0.21666666666666667,14.983333333333334,{"$f":"IF(COUNTIF(K$1:K2586,K2586)=1,K2586,\"\")","v":""}]
["2023-09-13","Alejandro Castanon Diaz","Administrativo - ACD","05m",null,"07:26:00","07:38:00",3.72,0,8.3333333333333329E-2,33.966666666666676,{"$f":"IF(COUNTIF(K$1:K2587,K2587)=1,K2587,\"\")","v":""}]
["2023-09-13","Alejandro Castanon Diaz","Bjorn Sueco - Speed Optimization","31s",null,"07:28:00","07:29:00",0.33,0,0,0,{"$f":"IF(COUNTIF(K$1:K2588,K2588)=1,K2588,\"\")","v":""}]
["2023-09-13","Alejandro Castanon Diaz","Bjorn Sueco - Speedup","3s",null,"07:29:00","07:29:00",0.03,0,{"$f":"IF(D2589=\"\",\"\",IF(ISERROR(FIND(\"s\",D2589)),IF(ISERROR(FIND(\"h \",D2589)),LEFT(D2589,2)/60,   LEFT(D2589,FIND(\"h \",D2589)-1 )+LEFT(RIGHT(D2589,3),2)/60   ),0))","v":0},{"$f":"SUMIFS(J:J,C:C,C2589,A:A,\">\"&$S$4)","v":0},{"$f":"IF(COUNTIF(K$1:K2589,K2589)=1,K2589,\"\")","v":""}]
["2023-09-13","Alejandro Castanon Diaz","Bjorn Sueco - Nordic foods 2nd round","01m",null,"07:33:00","07:34:00",1.06,0,1.6666666666666666E-2,2.083333333333333,{"$f":"IF(COUNTIF(K$1:K2590,K2590)=1,K2590,\"\")","v":""}]
[null,null,null,null,null,null,null,null,null,"",0,{"$f":"IF(COUNTIF(K$1:K2591,K2591)=1,K2591,\"\")","v":""}]
[null,null,null,null,null,null,null,null,null,"",0,{"$f":"IF(COUNTIF(K$1:K2592,K2592)=1,K2592,\"\")","v":""}]
[null,null,null,null,null,null,null,null,null,"",0,{"$f":"IF(COUNTIF(K$1:K2593,K2593)=1,K2593,\"\")","v":""}]
[null,null,null,null,null,null,null,null,null,"",0,{"$f":"IF(COUNTIF(K$1:K2594,K2594)=1,K2594,\"\")","v":""}]
[null,null,null,null,null,null,null,null,null,"",0,{"$f":"IF(COUNTIF(K$1:K2595,K2595)=1,K2595,\"\")","v":""}]
[null,null,null,null,null,null,null,null,null,"",0,{"$f":"IF(COUNTIF(K$1:K2596,K2596)=1,K2596,\"\")","v":""}]
[null,null,null,null,null,null,null,null,null,"",0,{"$f":"IF(COUNTIF(K$1:K2597,K2597)=1,K2597,\"\")","v":""}]
[null,null,null,null,null,null,null,null,null,"",0,{"$f":"IF(COUNTIF(K$1:K2598,K2598)=1,K2598,\"\")","v":""}]
[null,null,null,null,null,null,null,null,null,"",0,{"$f":"IF(COUNTIF(K$1:K2599,K2599)=1,K2599,\"\")","v":""}]
[null,null,null,null,null,null,null,null,null,"",0,{"$f":"IF(COUNTIF(K$1:K2600,K2600)=1,K2600,\"\")","v":""}]
[null,null,null,null,null,null,null,null,null,"",0,{"$f":"IF(COUNTIF(K$1:K2601,K2601)=1,K2601,\"\")","v":""}]
[null,null,null,null,null,null,null,null,null,"",0,{"$f":"IF(COUNTIF(K$1:K2602,K2602)=1,K2602,\"\")","v":""}]
[null,null,null,null,null,null,null,null,null,"",0,{"$f":"IF(COUNTIF(K$1:K2603,K2603)=1,K2603,\"\")","v":""}]
[null,null,null,null,null,null,null,null,null,"",0,{"$f":"IF(COUNTIF(K$1:K2604,K2604)=1,K2604,\"\")","v":""}]
[null,null,null,null,null,null,null,null,null,"",0,{"$f":"IF(COUNTIF(K$1:K2605,K2605)=1,K2605,\"\")","v":""}]
[null,null,null,null,null,null,null,null,null,"",0,{"$f":"IF(COUNTIF(K$1:K2606,K2606)=1,K2606,\"\")","v":""}]
[null,null,null,null,null,null,null,null,null,"",0,{"$f":"IF(COUNTIF(K$1:K2607,K2607)=1,K2607,\"\")","v":""}]
[null,null,null,null,null,null,null,null,null,"",0,{"$f":"IF(COUNTIF(K$1:K2608,K2608)=1,K2608,\"\")","v":""}]
[null,null,null,null,null,null,null,null,null,"",0,{"$f":"IF(COUNTIF(K$1:K2609,K2609)=1,K2609,\"\")","v":""}]
[null,null,null,null,null,null,null,null,null,"",0,{"$f":"IF(COUNTIF(K$1:K2610,K2610)=1,K2610,\"\")","v":""}]
[null,null,null,null,null,null,null,null,null,"",0,{"$f":"IF(COUNTIF(K$1:K2611,K2611)=1,K2611,\"\")","v":""}]
[null,null,null,null,null,null,null,null,null,"",0,{"$f":"IF(COUNTIF(K$1:K2612,K2612)=1,K2612,\"\")","v":""}]
[null,null,null,null,null,null,null,null,null,"",0,{"$f":"IF(COUNTIF(K$1:K2613,K2613)=1,K2613,\"\")","v":""}]
[null,null,null,null,null,null,null,null,null,"",0,{"$f":"IF(COUNTIF(K$1:K2614,K2614)=1,K2614,\"\")","v":""}]
[null,null,null,null,null,null,null,null,null,"",0,{"$f":"IF(COUNTIF(K$1:K2615,K2615)=1,K2615,\"\")","v":""}]
[null,null,null,null,null,null,null,null,null,"",0,{"$f":"IF(COUNTIF(K$1:K2616,K2616)=1,K2616,\"\")","v":""}]
[null,null,null,null,null,null,null,null,null,"",0,{"$f":"IF(COUNTIF(K$1:K2617,K2617)=1,K2617,\"\")","v":""}]
[null,null,null,null,null,null,null,null,null,"",0,{"$f":"IF(COUNTIF(K$1:K2618,K2618)=1,K2618,\"\")","v":""}]
[null,null,null,null,null,null,null,null,null,"",0,{"$f":"IF(COUNTIF(K$1:K2619,K2619)=1,K2619,\"\")","v":""}]
[null,null,null,null,null,null,null,null,null,"",0,{"$f":"IF(COUNTIF(K$1:K2620,K2620)=1,K2620,\"\")","v":""}]
[null,null,null,null,null,null,null,null,null,"",0,{"$f":"IF(COUNTIF(K$1:K2621,K2621)=1,K2621,\"\")","v":""}]
[null,null,null,null,null,null,null,null,null,"",0,{"$f":"IF(COUNTIF(K$1:K2622,K2622)=1,K2622,\"\")","v":""}]
[null,null,null,null,null,null,null,null,null,"",0,{"$f":"IF(COUNTIF(K$1:K2623,K2623)=1,K2623,\"\")","v":""}]
[null,null,null,null,null,null,null,null,null,"",0,{"$f":"IF(COUNTIF(K$1:K2624,K2624)=1,K2624,\"\")","v":""}]
[null,null,null,null,null,null,null,null,null,"",0,{"$f":"IF(COUNTIF(K$1:K2625,K2625)=1,K2625,\"\")","v":""}]
[null,null,null,null,null,null,null,null,null,"",0,{"$f":"IF(COUNTIF(K$1:K2626,K2626)=1,K2626,\"\")","v":""}]
[null,null,null,null,null,null,null,null,null,"",0,{"$f":"IF(COUNTIF(K$1:K2627,K2627)=1,K2627,\"\")","v":""}]
[null,null,null,null,null,null,null,null,null,"",0,{"$f":"IF(COUNTIF(K$1:K2628,K2628)=1,K2628,\"\")","v":""}]
[null,null,null,null,null,null,null,null,null,"",0,{"$f":"IF(COUNTIF(K$1:K2629,K2629)=1,K2629,\"\")","v":""}]
[null,null,null,null,null,null,null,null,null,"",0,{"$f":"IF(COUNTIF(K$1:K2630,K2630)=1,K2630,\"\")","v":""}]
[null,null,null,null,null,null,null,null,null,"",0,{"$f":"IF(COUNTIF(K$1:K2631,K2631)=1,K2631,\"\")","v":""}]
[null,null,null,null,null,null,null,null,null,"",0,{"$f":"IF(COUNTIF(K$1:K2632,K2632)=1,K2632,\"\")","v":""}]
[null,null,null,null,null,null,null,null,null,"",0,{"$f":"IF(COUNTIF(K$1:K2633,K2633)=1,K2633,\"\")","v":""}]
[null,null,null,null,null,null,null,null,null,"",0,{"$f":"IF(COUNTIF(K$1:K2634,K2634)=1,K2634,\"\")","v":""}]
[null,null,null,null,null,null,null,null,null,"",0,{"$f":"IF(COUNTIF(K$1:K2635,K2635)=1,K2635,\"\")","v":""}]
[null,null,null,null,null,null,null,null,null,"",0,{"$f":"IF(COUNTIF(K$1:K2636,K2636)=1,K2636,\"\")","v":""}]
[null,null,null,null,null,null,null,null,null,"",0,{"$f":"IF(COUNTIF(K$1:K2637,K2637)=1,K2637,\"\")","v":""}]
[null,null,null,null,null,null,null,null,null,"",0,{"$f":"IF(COUNTIF(K$1:K2638,K2638)=1,K2638,\"\")","v":""}]
[null,null,null,null,null,null,null,null,null,"",0,{"$f":"IF(COUNTIF(K$1:K2639,K2639)=1,K2639,\"\")","v":""}]
[null,null,null,null,null,null,null,null,null,"",0,{"$f":"IF(COUNTIF(K$1:K2640,K2640)=1,K2640,\"\")","v":""}]
[null,null,null,null,null,null,null,null,null,"",0,{"$f":"IF(COUNTIF(K$1:K2641,K2641)=1,K2641,\"\")","v":""}]
[null,null,null,null,null,null,null,null,null,"",0,{"$f":"IF(COUNTIF(K$1:K2642,K2642)=1,K2642,\"\")","v":""}]
[null,null,null,null,null,null,null,null,null,"",0,{"$f":"IF(COUNTIF(K$1:K2643,K2643)=1,K2643,\"\")","v":""}]
[null,null,null,null,null,null,null,null,null,"",0,{"$f":"IF(COUNTIF(K$1:K2644,K2644)=1,K2644,\"\")","v":""}]
[null,null,null,null,null,null,null,null,null,"",0,{"$f":"IF(COUNTIF(K$1:K2645,K2645)=1,K2645,\"\")","v":""}]
[null,null,null,null,null,null,null,null,null,"",0,{"$f":"IF(COUNTIF(K$1:K2646,K2646)=1,K2646,\"\")","v":""}]
[null,null,null,null,null,null,null,null,null,"",0,{"$f":"IF(COUNTIF(K$1:K2647,K2647)=1,K2647,\"\")","v":""}]
[null,null,null,null,null,null,null,null,null,"",0,{"$f":"IF(COUNTIF(K$1:K2648,K2648)=1,K2648,\"\")","v":""}]
[null,null,null,null,null,null,null,null,null,"",0,{"$f":"IF(COUNTIF(K$1:K2649,K2649)=1,K2649,\"\")","v":""}]
[null,null,null,null,null,null,null,null,null,"",0,{"$f":"IF(COUNTIF(K$1:K2650,K2650)=1,K2650,\"\")","v":""}]
[null,null,null,null,null,null,null,null,null,"",0,{"$f":"IF(COUNTIF(K$1:K2651,K2651)=1,K2651,\"\")","v":""}]
[null,null,null,null,null,null,null,null,null,"",0,{"$f":"IF(COUNTIF(K$1:K2652,K2652)=1,K2652,\"\")","v":""}]
[null,null,null,null,null,null,null,null,null,{"$f":"IF(D2653=\"\",\"\",IF(ISERROR(FIND(\"s\",D2653)),IF(ISERROR(FIND(\"h \",D2653)),LEFT(D2653,2)/60,   LEFT(D2653,FIND(\"h \",D2653)-1 )+LEFT(RIGHT(D2653,3),2)/60   ),0))","v":""},{"$f":"SUMIFS(J:J,C:C,C2653,A:A,\">\"&$S$4)","v":0},{"$f":"IF(COUNTIF(K$1:K2653,K2653)=1,K2653,\"\")","v":""}]
[null,null,null,null,null,null,null,null,null,"",0,{"$f":"IF(COUNTIF(K$1:K2654,K2654)=1,K2654,\"\")","v":""}]
[null,null,null,null,null,null,null,null,null,"",0,{"$f":"IF(COUNTIF(K$1:K2655,K2655)=1,K2655,\"\")","v":""}]
[null,null,null,null,null,null,null,null,null,"",0,{"$f":"IF(COUNTIF(K$1:K2656,K2656)=1,K2656,\"\")","v":""}]
[null,null,null,null,null,null,null,null,null,"",0,{"$f":"IF(COUNTIF(K$1:K2657,K2657)=1,K2657,\"\")","v":""}]
[null,null,null,null,null,null,null,null,null,"",0,{"$f":"IF(COUNTIF(K$1:K2658,K2658)=1,K2658,\"\")","v":""}]
[null,null,null,null,null,null,null,null,null,"",0,{"$f":"IF(COUNTIF(K$1:K2659,K2659)=1,K2659,\"\")","v":""}]
[null,null,null,null,null,null,null,null,null,"",0,{"$f":"IF(COUNTIF(K$1:K2660,K2660)=1,K2660,\"\")","v":""}]
[null,null,null,null,null,null,null,null,null,"",0,{"$f":"IF(COUNTIF(K$1:K2661,K2661)=1,K2661,\"\")","v":""}]
[null,null,null,null,null,null,null,null,null,"",0,{"$f":"IF(COUNTIF(K$1:K2662,K2662)=1,K2662,\"\")","v":""}]
[null,null,null,null,null,null,null,null,null,"",0,{"$f":"IF(COUNTIF(K$1:K2663,K2663)=1,K2663,\"\")","v":""}]
[null,null,null,null,null,null,null,null,null,"",0,{"$f":"IF(COUNTIF(K$1:K2664,K2664)=1,K2664,\"\")","v":""}]
[null,null,null,null,null,null,null,null,null,"",0,{"$f":"IF(COUNTIF(K$1:K2665,K2665)=1,K2665,\"\")","v":""}]
[null,null,null,null,null,null,null,null,null,"",0,{"$f":"IF(COUNTIF(K$1:K2666,K2666)=1,K2666,\"\")","v":""}]
[null,null,null,null,null,null,null,null,null,"",0,{"$f":"IF(COUNTIF(K$1:K2667,K2667)=1,K2667,\"\")","v":""}]
[null,null,null,null,null,null,null,null,null,"",0,{"$f":"IF(COUNTIF(K$1:K2668,K2668)=1,K2668,\"\")","v":""}]
[null,null,null,null,null,null,null,null,null,"",0,{"$f":"IF(COUNTIF(K$1:K2669,K2669)=1,K2669,\"\")","v":""}]
[null,null,null,null,null,null,null,null,null,"",0,{"$f":"IF(COUNTIF(K$1:K2670,K2670)=1,K2670,\"\")","v":""}]
[null,null,null,null,null,null,null,null,null,"",0,{"$f":"IF(COUNTIF(K$1:K2671,K2671)=1,K2671,\"\")","v":""}]
[null,null,null,null,null,null,null,null,null,"",0,{"$f":"IF(COUNTIF(K$1:K2672,K2672)=1,K2672,\"\")","v":""}]
[null,null,null,null,null,null,null,null,null,"",0,{"$f":"IF(COUNTIF(K$1:K2673,K2673)=1,K2673,\"\")","v":""}]
[null,null,null,null,null,null,null,null,null,"",0,{"$f":"IF(COUNTIF(K$1:K2674,K2674)=1,K2674,\"\")","v":""}]
[null,null,null,null,null,null,null,null,null,"",0,{"$f":"IF(COUNTIF(K$1:K2675,K2675)=1,K2675,\"\")","v":""}]
[null,null,null,null,null,null,null,null,null,"",0,{"$f":"IF(COUNTIF(K$1:K2676,K2676)=1,K2676,\"\")","v":""}]
[null,null,null,null,null,null,null,null,null,"",0,{"$f":"IF(COUNTIF(K$1:K2677,K2677)=1,K2677,\"\")","v":""}]
[null,null,null,null,null,null,null,null,null,"",0,{"$f":"IF(COUNTIF(K$1:K2678,K2678)=1,K2678,\"\")","v":""}]
[null,null,null,null,null,null,null,null,null,"",0,{"$f":"IF(COUNTIF(K$1:K2679,K2679)=1,K2679,\"\")","v":""}]
[null,null,null,null,null,null,null,null,null,"",0,{"$f":"IF(COUNTIF(K$1:K2680,K2680)=1,K2680,\"\")","v":""}]
[null,null,null,null,null,null,null,null,null,"",0,{"$f":"IF(COUNTIF(K$1:K2681,K2681)=1,K2681,\"\")","v":""}]
[null,null,null,null,null,null,null,null,null,"",0,{"$f":"IF(COUNTIF(K$1:K2682,K2682)=1,K2682,\"\")","v":""}]
[null,null,null,null,null,null,null,null,null,"",0,{"$f":"IF(COUNTIF(K$1:K2683,K2683)=1,K2683,\"\")","v":""}]
[null,null,null,null,null,null,null,null,null,"",0,{"$f":"IF(COUNTIF(K$1:K2684,K2684)=1,K2684,\"\")","v":""}]
[null,null,null,null,null,null,null,null,null,"",0,{"$f":"IF(COUNTIF(K$1:K2685,K2685)=1,K2685,\"\")","v":""}]
[null,null,null,null,null,null,null,null,null,"",0,{"$f":"IF(COUNTIF(K$1:K2686,K2686)=1,K2686,\"\")","v":""}]
[null,null,null,null,null,null,null,null,null,"",0,{"$f":"IF(COUNTIF(K$1:K2687,K2687)=1,K2687,\"\")","v":""}]
[null,null,null,null,null,null,null,null,null,"",0,{"$f":"IF(COUNTIF(K$1:K2688,K2688)=1,K2688,\"\")","v":""}]
[null,null,null,null,null,null,null,null,null,"",0,{"$f":"IF(COUNTIF(K$1:K2689,K2689)=1,K2689,\"\")","v":""}]
[null,null,null,null,null,null,null,null,null,"",0,{"$f":"IF(COUNTIF(K$1:K2690,K2690)=1,K2690,\"\")","v":""}]
[null,null,null,null,null,null,null,null,null,"",0,{"$f":"IF(COUNTIF(K$1:K2691,K2691)=1,K2691,\"\")","v":""}]
[null,null,null,null,null,null,null,null,null,"",0,{"$f":"IF(COUNTIF(K$1:K2692,K2692)=1,K2692,\"\")","v":""}]
[null,null,null,null,null,null,null,null,null,"",0,{"$f":"IF(COUNTIF(K$1:K2693,K2693)=1,K2693,\"\")","v":""}]
[null,null,null,null,null,null,null,null,null,"",0,{"$f":"IF(COUNTIF(K$1:K2694,K2694)=1,K2694,\"\")","v":""}]
[null,null,null,null,null,null,null,null,null,"",0,{"$f":"IF(COUNTIF(K$1:K2695,K2695)=1,K2695,\"\")","v":""}]
[null,null,null,null,null,null,null,null,null,"",0,{"$f":"IF(COUNTIF(K$1:K2696,K2696)=1,K2696,\"\")","v":""}]
[null,null,null,null,null,null,null,null,null,"",0,{"$f":"IF(COUNTIF(K$1:K2697,K2697)=1,K2697,\"\")","v":""}]
[null,null,null,null,null,null,null,null,null,"",0,{"$f":"IF(COUNTIF(K$1:K2698,K2698)=1,K2698,\"\")","v":""}]
[null,null,null,null,null,null,null,null,null,"",0,{"$f":"IF(COUNTIF(K$1:K2699,K2699)=1,K2699,\"\")","v":""}]
[null,null,null,null,null,null,null,null,null,"",0,{"$f":"IF(COUNTIF(K$1:K2700,K2700)=1,K2700,\"\")","v":""}]
[null,null,null,null,null,null,null,null,null,"",0,{"$f":"IF(COUNTIF(K$1:K2701,K2701)=1,K2701,\"\")","v":""}]
[null,null,null,null,null,null,null,null,null,"",0,{"$f":"IF(COUNTIF(K$1:K2702,K2702)=1,K2702,\"\")","v":""}]
[null,null,null,null,null,null,null,null,null,"",0,{"$f":"IF(COUNTIF(K$1:K2703,K2703)=1,K2703,\"\")","v":""}]
[null,null,null,null,null,null,null,null,null,"",0,{"$f":"IF(COUNTIF(K$1:K2704,K2704)=1,K2704,\"\")","v":""}]
[null,null,null,null,null,null,null,null,null,"",0,{"$f":"IF(COUNTIF(K$1:K2705,K2705)=1,K2705,\"\")","v":""}]
[null,null,null,null,null,null,null,null,null,"",0,{"$f":"IF(COUNTIF(K$1:K2706,K2706)=1,K2706,\"\")","v":""}]
[null,null,null,null,null,null,null,null,null,"",0,{"$f":"IF(COUNTIF(K$1:K2707,K2707)=1,K2707,\"\")","v":""}]
[null,null,null,null,null,null,null,null,null,"",0,{"$f":"IF(COUNTIF(K$1:K2708,K2708)=1,K2708,\"\")","v":""}]
[null,null,null,null,null,null,null,null,null,"",0,{"$f":"IF(COUNTIF(K$1:K2709,K2709)=1,K2709,\"\")","v":""}]
[null,null,null,null,null,null,null,null,null,"",0,{"$f":"IF(COUNTIF(K$1:K2710,K2710)=1,K2710,\"\")","v":""}]
[null,null,null,null,null,null,null,null,null,"",0,{"$f":"IF(COUNTIF(K$1:K2711,K2711)=1,K2711,\"\")","v":""}]
[null,null,null,null,null,null,null,null,null,"",0,{"$f":"IF(COUNTIF(K$1:K2712,K2712)=1,K2712,\"\")","v":""}]
[null,null,null,null,null,null,null,null,null,"",0,{"$f":"IF(COUNTIF(K$1:K2713,K2713)=1,K2713,\"\")","v":""}]
[null,null,null,null,null,null,null,null,null,"",0,{"$f":"IF(COUNTIF(K$1:K2714,K2714)=1,K2714,\"\")","v":""}]
[null,null,null,null,null,null,null,null,null,"",0,{"$f":"IF(COUNTIF(K$1:K2715,K2715)=1,K2715,\"\")","v":""}]
[null,null,null,null,null,null,null,null,null,"",0,{"$f":"IF(COUNTIF(K$1:K2716,K2716)=1,K2716,\"\")","v":""}]
[null,null,null,null,null,null,null,null,null,{"$f":"IF(D2717=\"\",\"\",IF(ISERROR(FIND(\"s\",D2717)),IF(ISERROR(FIND(\"h \",D2717)),LEFT(D2717,2)/60,   LEFT(D2717,FIND(\"h \",D2717)-1 )+LEFT(RIGHT(D2717,3),2)/60   ),0))","v":""},{"$f":"SUMIFS(J:J,C:C,C2717,A:A,\">\"&$S$4)","v":0},{"$f":"IF(COUNTIF(K$1:K2717,K2717)=1,K2717,\"\")","v":""}]
[null,null,null,null,null,null,null,null,null,"",0,{"$f":"IF(COUNTIF(K$1:K2718,K2718)=1,K2718,\"\")","v":""}]
[null,null,null,null,null,null,null,null,null,"",0,{"$f":"IF(COUNTIF(K$1:K2719,K2719)=1,K2719,\"\")","v":""}]
[null,null,null,null,null,null,null,null,null,"",0,{"$f":"IF(COUNTIF(K$1:K2720,K2720)=1,K2720,\"\")","v":""}]
[null,null,null,null,null,null,null,null,null,"",0,{"$f":"IF(COUNTIF(K$1:K2721,K2721)=1,K2721,\"\")","v":""}]
[null,null,null,null,null,null,null,null,null,"",0,{"$f":"IF(COUNTIF(K$1:K2722,K2722)=1,K2722,\"\")","v":""}]
[null,null,null,null,null,null,null,null,null,"",0,{"$f":"IF(COUNTIF(K$1:K2723,K2723)=1,K2723,\"\")","v":""}]
[null,null,null,null,null,null,null,null,null,"",0,{"$f":"IF(COUNTIF(K$1:K2724,K2724)=1,K2724,\"\")","v":""}]
[null,null,null,null,null,null,null,null,null,"",0,{"$f":"IF(COUNTIF(K$1:K2725,K2725)=1,K2725,\"\")","v":""}]
[null,null,null,null,null,null,null,null,null,"",0,{"$f":"IF(COUNTIF(K$1:K2726,K2726)=1,K2726,\"\")","v":""}]
[null,null,null,null,null,null,null,null,null,"",0,{"$f":"IF(COUNTIF(K$1:K2727,K2727)=1,K2727,\"\")","v":""}]
[null,null,null,null,null,null,null,null,null,"",0,{"$f":"IF(COUNTIF(K$1:K2728,K2728)=1,K2728,\"\")","v":""}]
[null,null,null,null,null,null,null,null,null,"",0,{"$f":"IF(COUNTIF(K$1:K2729,K2729)=1,K2729,\"\")","v":""}]
[null,null,null,null,null,null,null,null,null,"",0,{"$f":"IF(COUNTIF(K$1:K2730,K2730)=1,K2730,\"\")","v":""}]
[null,null,null,null,null,null,null,null,null,"",0,{"$f":"IF(COUNTIF(K$1:K2731,K2731)=1,K2731,\"\")","v":""}]
[null,null,null,null,null,null,null,null,null,"",0,{"$f":"IF(COUNTIF(K$1:K2732,K2732)=1,K2732,\"\")","v":""}]
[null,null,null,null,null,null,null,null,null,"",0,{"$f":"IF(COUNTIF(K$1:K2733,K2733)=1,K2733,\"\")","v":""}]
[null,null,null,null,null,null,null,null,null,"",0,{"$f":"IF(COUNTIF(K$1:K2734,K2734)=1,K2734,\"\")","v":""}]
[null,null,null,null,null,null,null,null,null,"",0,{"$f":"IF(COUNTIF(K$1:K2735,K2735)=1,K2735,\"\")","v":""}]
[null,null,null,null,null,null,null,null,null,"",0,{"$f":"IF(COUNTIF(K$1:K2736,K2736)=1,K2736,\"\")","v":""}]
[null,null,null,null,null,null,null,null,null,"",0,{"$f":"IF(COUNTIF(K$1:K2737,K2737)=1,K2737,\"\")","v":""}]
[null,null,null,null,null,null,null,null,null,"",0,{"$f":"IF(COUNTIF(K$1:K2738,K2738)=1,K2738,\"\")","v":""}]
[null,null,null,null,null,null,null,null,null,"",0,{"$f":"IF(COUNTIF(K$1:K2739,K2739)=1,K2739,\"\")","v":""}]
[null,null,null,null,null,null,null,null,null,"",0,{"$f":"IF(COUNTIF(K$1:K2740,K2740)=1,K2740,\"\")","v":""}]
[null,null,null,null,null,null,null,null,null,"",0,{"$f":"IF(COUNTIF(K$1:K2741,K2741)=1,K2741,\"\")","v":""}]
[null,null,null,null,null,null,null,null,null,"",0,{"$f":"IF(COUNTIF(K$1:K2742,K2742)=1,K2742,\"\")","v":""}]
[null,null,null,null,null,null,null,null,null,"",0,{"$f":"IF(COUNTIF(K$1:K2743,K2743)=1,K2743,\"\")","v":""}]
[null,null,null,null,null,null,null,null,null,"",0,{"$f":"IF(COUNTIF(K$1:K2744,K2744)=1,K2744,\"\")","v":""}]
[null,null,null,null,null,null,null,null,null,"",0,{"$f":"IF(COUNTIF(K$1:K2745,K2745)=1,K2745,\"\")","v":""}]
[null,null,null,null,null,null,null,null,null,"",0,{"$f":"IF(COUNTIF(K$1:K2746,K2746)=1,K2746,\"\")","v":""}]
[null,null,null,null,null,null,null,null,null,"",0,{"$f":"IF(COUNTIF(K$1:K2747,K2747)=1,K2747,\"\")","v":""}]
[null,null,null,null,null,null,null,null,null,"",0,{"$f":"IF(COUNTIF(K$1:K2748,K2748)=1,K2748,\"\")","v":""}]
[null,null,null,null,null,null,null,null,null,"",0,{"$f":"IF(COUNTIF(K$1:K2749,K2749)=1,K2749,\"\")","v":""}]
[null,null,null,null,null,null,null,null,null,"",0,{"$f":"IF(COUNTIF(K$1:K2750,K2750)=1,K2750,\"\")","v":""}]
[null,null,null,null,null,null,null,null,null,"",0,{"$f":"IF(COUNTIF(K$1:K2751,K2751)=1,K2751,\"\")","v":""}]
[null,null,null,null,null,null,null,null,null,"",0,{"$f":"IF(COUNTIF(K$1:K2752,K2752)=1,K2752,\"\")","v":""}]
[null,null,null,null,null,null,null,null,null,"",0,{"$f":"IF(COUNTIF(K$1:K2753,K2753)=1,K2753,\"\")","v":""}]
[null,null,null,null,null,null,null,null,null,"",0,{"$f":"IF(COUNTIF(K$1:K2754,K2754)=1,K2754,\"\")","v":""}]
[null,null,null,null,null,null,null,null,null,"",0,{"$f":"IF(COUNTIF(K$1:K2755,K2755)=1,K2755,\"\")","v":""}]
[null,null,null,null,null,null,null,null,null,"",0,{"$f":"IF(COUNTIF(K$1:K2756,K2756)=1,K2756,\"\")","v":""}]
[null,null,null,null,null,null,null,null,null,"",0,{"$f":"IF(COUNTIF(K$1:K2757,K2757)=1,K2757,\"\")","v":""}]
[null,null,null,null,null,null,null,null,null,"",0,{"$f":"IF(COUNTIF(K$1:K2758,K2758)=1,K2758,\"\")","v":""}]
[null,null,null,null,null,null,null,null,null,"",0,{"$f":"IF(COUNTIF(K$1:K2759,K2759)=1,K2759,\"\")","v":""}]
[null,null,null,null,null,null,null,null,null,"",0,{"$f":"IF(COUNTIF(K$1:K2760,K2760)=1,K2760,\"\")","v":""}]
[null,null,null,null,null,null,null,null,null,"",0,{"$f":"IF(COUNTIF(K$1:K2761,K2761)=1,K2761,\"\")","v":""}]
[null,null,null,null,null,null,null,null,null,"",0,{"$f":"IF(COUNTIF(K$1:K2762,K2762)=1,K2762,\"\")","v":""}]
[null,null,null,null,null,null,null,null,null,"",0,{"$f":"IF(COUNTIF(K$1:K2763,K2763)=1,K2763,\"\")","v":""}]
[null,null,null,null,null,null,null,null,null,"",0,{"$f":"IF(COUNTIF(K$1:K2764,K2764)=1,K2764,\"\")","v":""}]
[null,null,null,null,null,null,null,null,null,"",0,{"$f":"IF(COUNTIF(K$1:K2765,K2765)=1,K2765,\"\")","v":""}]
[null,null,null,null,null,null,null,null,null,"",0,{"$f":"IF(COUNTIF(K$1:K2766,K2766)=1,K2766,\"\")","v":""}]
[null,null,null,null,null,null,null,null,null,"",0,{"$f":"IF(COUNTIF(K$1:K2767,K2767)=1,K2767,\"\")","v":""}]
[null,null,null,null,null,null,null,null,null,"",0,{"$f":"IF(COUNTIF(K$1:K2768,K2768)=1,K2768,\"\")","v":""}]
[null,null,null,null,null,null,null,null,null,"",0,{"$f":"IF(COUNTIF(K$1:K2769,K2769)=1,K2769,\"\")","v":""}]
[null,null,null,null,null,null,null,null,null,"",0,{"$f":"IF(COUNTIF(K$1:K2770,K2770)=1,K2770,\"\")","v":""}]
[null,null,null,null,null,null,null,null,null,"",0,{"$f":"IF(COUNTIF(K$1:K2771,K2771)=1,K2771,\"\")","v":""}]
[null,null,null,null,null,null,null,null,null,"",0,{"$f":"IF(COUNTIF(K$1:K2772,K2772)=1,K2772,\"\")","v":""}]
[null,null,null,null,null,null,null,null,null,"",0,{"$f":"IF(COUNTIF(K$1:K2773,K2773)=1,K2773,\"\")","v":""}]
[null,null,null,null,null,null,null,null,null,"",0,{"$f":"IF(COUNTIF(K$1:K2774,K2774)=1,K2774,\"\")","v":""}]
[null,null,null,null,null,null,null,null,null,"",0,{"$f":"IF(COUNTIF(K$1:K2775,K2775)=1,K2775,\"\")","v":""}]
[null,null,null,null,null,null,null,null,null,"",0,{"$f":"IF(COUNTIF(K$1:K2776,K2776)=1,K2776,\"\")","v":""}]
[null,null,null,null,null,null,null,null,null,"",0,{"$f":"IF(COUNTIF(K$1:K2777,K2777)=1,K2777,\"\")","v":""}]
[null,null,null,null,null,null,null,null,null,"",0,{"$f":"IF(COUNTIF(K$1:K2778,K2778)=1,K2778,\"\")","v":""}]
[null,null,null,null,null,null,null,null,null,"",0,{"$f":"IF(COUNTIF(K$1:K2779,K2779)=1,K2779,\"\")","v":""}]
[null,null,null,null,null,null,null,null,null,"",0,{"$f":"IF(COUNTIF(K$1:K2780,K2780)=1,K2780,\"\")","v":""}]
[null,null,null,null,null,null,null,null,null,{"$f":"IF(D2781=\"\",\"\",IF(ISERROR(FIND(\"s\",D2781)),IF(ISERROR(FIND(\"h \",D2781)),LEFT(D2781,2)/60,   LEFT(D2781,FIND(\"h \",D2781)-1 )+LEFT(RIGHT(D2781,3),2)/60   ),0))","v":""},{"$f":"SUMIFS(J:J,C:C,C2781,A:A,\">\"&$S$4)","v":0},{"$f":"IF(COUNTIF(K$1:K2781,K2781)=1,K2781,\"\")","v":""}]
[null,null,null,null,null,null,null,null,null,"",0,{"$f":"IF(COUNTIF(K$1:K2782,K2782)=1,K2782,\"\")","v":""}]
[null,null,null,null,null,null,null,null,null,"",0,{"$f":"IF(COUNTIF(K$1:K2783,K2783)=1,K2783,\"\")","v":""}]
[null,null,null,null,null,null,null,null,null,"",0,{"$f":"IF(COUNTIF(K$1:K2784,K2784)=1,K2784,\"\")","v":""}]
[null,null,null,null,null,null,null,null,null,"",0,{"$f":"IF(COUNTIF(K$1:K2785,K2785)=1,K2785,\"\")","v":""}]
[null,null,null,null,null,null,null,null,null,"",0,{"$f":"IF(COUNTIF(K$1:K2786,K2786)=1,K2786,\"\")","v":""}]
[null,null,null,null,null,null,null,null,null,"",0,{"$f":"IF(COUNTIF(K$1:K2787,K2787)=1,K2787,\"\")","v":""}]
[null,null,null,null,null,null,null,null,null,"",0,{"$f":"IF(COUNTIF(K$1:K2788,K2788)=1,K2788,\"\")","v":""}]
[null,null,null,null,null,null,null,null,null,"",0,{"$f":"IF(COUNTIF(K$1:K2789,K2789)=1,K2789,\"\")","v":""}]
[null,null,null,null,null,null,null,null,null,"",0,{"$f":"IF(COUNTIF(K$1:K2790,K2790)=1,K2790,\"\")","v":""}]
[null,null,null,null,null,null,null,null,null,"",0,{"$f":"IF(COUNTIF(K$1:K2791,K2791)=1,K2791,\"\")","v":""}]
[null,null,null,null,null,null,null,null,null,"",0,{"$f":"IF(COUNTIF(K$1:K2792,K2792)=1,K2792,\"\")","v":""}]
[null,null,null,null,null,null,null,null,null,"",0,{"$f":"IF(COUNTIF(K$1:K2793,K2793)=1,K2793,\"\")","v":""}]
[null,null,null,null,null,null,null,null,null,"",0,{"$f":"IF(COUNTIF(K$1:K2794,K2794)=1,K2794,\"\")","v":""}]
[null,null,null,null,null,null,null,null,null,"",0,{"$f":"IF(COUNTIF(K$1:K2795,K2795)=1,K2795,\"\")","v":""}]
[null,null,null,null,null,null,null,null,null,"",0,{"$f":"IF(COUNTIF(K$1:K2796,K2796)=1,K2796,\"\")","v":""}]
[null,null,null,null,null,null,null,null,null,"",0,{"$f":"IF(COUNTIF(K$1:K2797,K2797)=1,K2797,\"\")","v":""}]
[null,null,null,null,null,null,null,null,null,"",0,{"$f":"IF(COUNTIF(K$1:K2798,K2798)=1,K2798,\"\")","v":""}]
[null,null,null,null,null,null,null,null,null,"",0,{"$f":"IF(COUNTIF(K$1:K2799,K2799)=1,K2799,\"\")","v":""}]
[null,null,null,null,null,null,null,null,null,"",0,{"$f":"IF(COUNTIF(K$1:K2800,K2800)=1,K2800,\"\")","v":""}]
[null,null,null,null,null,null,null,null,null,"",0,{"$f":"IF(COUNTIF(K$1:K2801,K2801)=1,K2801,\"\")","v":""}]
[null,null,null,null,null,null,null,null,null,"",0,{"$f":"IF(COUNTIF(K$1:K2802,K2802)=1,K2802,\"\")","v":""}]
[null,null,null,null,null,null,null,null,null,"",0,{"$f":"IF(COUNTIF(K$1:K2803,K2803)=1,K2803,\"\")","v":""}]
[null,null,null,null,null,null,null,null,null,"",0,{"$f":"IF(COUNTIF(K$1:K2804,K2804)=1,K2804,\"\")","v":""}]
[null,null,null,null,null,null,null,null,null,"",0,{"$f":"IF(COUNTIF(K$1:K2805,K2805)=1,K2805,\"\")","v":""}]
[null,null,null,null,null,null,null,null,null,"",0,{"$f":"IF(COUNTIF(K$1:K2806,K2806)=1,K2806,\"\")","v":""}]
[null,null,null,null,null,null,null,null,null,"",0,{"$f":"IF(COUNTIF(K$1:K2807,K2807)=1,K2807,\"\")","v":""}]
[null,null,null,null,null,null,null,null,null,"",0,{"$f":"IF(COUNTIF(K$1:K2808,K2808)=1,K2808,\"\")","v":""}]
[null,null,null,null,null,null,null,null,null,"",0,{"$f":"IF(COUNTIF(K$1:K2809,K2809)=1,K2809,\"\")","v":""}]
[null,null,null,null,null,null,null,null,null,"",0,{"$f":"IF(COUNTIF(K$1:K2810,K2810)=1,K2810,\"\")","v":""}]
[null,null,null,null,null,null,null,null,null,"",0,{"$f":"IF(COUNTIF(K$1:K2811,K2811)=1,K2811,\"\")","v":""}]
[null,null,null,null,null,null,null,null,null,"",0,{"$f":"IF(COUNTIF(K$1:K2812,K2812)=1,K2812,\"\")","v":""}]
[null,null,null,null,null,null,null,null,null,"",0,{"$f":"IF(COUNTIF(K$1:K2813,K2813)=1,K2813,\"\")","v":""}]
[null,null,null,null,null,null,null,null,null,"",0,{"$f":"IF(COUNTIF(K$1:K2814,K2814)=1,K2814,\"\")","v":""}]
[null,null,null,null,null,null,null,null,null,"",0,{"$f":"IF(COUNTIF(K$1:K2815,K2815)=1,K2815,\"\")","v":""}]
[null,null,null,null,null,null,null,null,null,"",0,{"$f":"IF(COUNTIF(K$1:K2816,K2816)=1,K2816,\"\")","v":""}]
[null,null,null,null,null,null,null,null,null,"",0,{"$f":"IF(COUNTIF(K$1:K2817,K2817)=1,K2817,\"\")","v":""}]
[null,null,null,null,null,null,null,null,null,"",0,{"$f":"IF(COUNTIF(K$1:K2818,K2818)=1,K2818,\"\")","v":""}]
[null,null,null,null,null,null,null,null,null,"",0,{"$f":"IF(COUNTIF(K$1:K2819,K2819)=1,K2819,\"\")","v":""}]
[null,null,null,null,null,null,null,null,null,"",0,{"$f":"IF(COUNTIF(K$1:K2820,K2820)=1,K2820,\"\")","v":""}]
[null,null,null,null,null,null,null,null,null,"",0,{"$f":"IF(COUNTIF(K$1:K2821,K2821)=1,K2821,\"\")","v":""}]
[null,null,null,null,null,null,null,null,null,"",0,{"$f":"IF(COUNTIF(K$1:K2822,K2822)=1,K2822,\"\")","v":""}]
[null,null,null,null,null,null,null,null,null,"",0,{"$f":"IF(COUNTIF(K$1:K2823,K2823)=1,K2823,\"\")","v":""}]
[null,null,null,null,null,null,null,null,null,"",0,{"$f":"IF(COUNTIF(K$1:K2824,K2824)=1,K2824,\"\")","v":""}]
[null,null,null,null,null,null,null,null,null,"",0,{"$f":"IF(COUNTIF(K$1:K2825,K2825)=1,K2825,\"\")","v":""}]
[null,null,null,null,null,null,null,null,null,"",0,{"$f":"IF(COUNTIF(K$1:K2826,K2826)=1,K2826,\"\")","v":""}]
[null,null,null,null,null,null,null,null,null,"",0,{"$f":"IF(COUNTIF(K$1:K2827,K2827)=1,K2827,\"\")","v":""}]
[null,null,null,null,null,null,null,null,null,"",0,{"$f":"IF(COUNTIF(K$1:K2828,K2828)=1,K2828,\"\")","v":""}]
[null,null,null,null,null,null,null,null,null,"",0,{"$f":"IF(COUNTIF(K$1:K2829,K2829)=1,K2829,\"\")","v":""}]
[null,null,null,null,null,null,null,null,null,"",0,{"$f":"IF(COUNTIF(K$1:K2830,K2830)=1,K2830,\"\")","v":""}]
[null,null,null,null,null,null,null,null,null,"",0,{"$f":"IF(COUNTIF(K$1:K2831,K2831)=1,K2831,\"\")","v":""}]
[null,null,null,null,null,null,null,null,null,"",0,{"$f":"IF(COUNTIF(K$1:K2832,K2832)=1,K2832,\"\")","v":""}]
[null,null,null,null,null,null,null,null,null,"",0,{"$f":"IF(COUNTIF(K$1:K2833,K2833)=1,K2833,\"\")","v":""}]
[null,null,null,null,null,null,null,null,null,"",0,{"$f":"IF(COUNTIF(K$1:K2834,K2834)=1,K2834,\"\")","v":""}]
[null,null,null,null,null,null,null,null,null,"",0,{"$f":"IF(COUNTIF(K$1:K2835,K2835)=1,K2835,\"\")","v":""}]
[null,null,null,null,null,null,null,null,null,"",0,{"$f":"IF(COUNTIF(K$1:K2836,K2836)=1,K2836,\"\")","v":""}]
[null,null,null,null,null,null,null,null,null,"",0,{"$f":"IF(COUNTIF(K$1:K2837,K2837)=1,K2837,\"\")","v":""}]
[null,null,null,null,null,null,null,null,null,"",0,{"$f":"IF(COUNTIF(K$1:K2838,K2838)=1,K2838,\"\")","v":""}]
[null,null,null,null,null,null,null,null,null,"",0,{"$f":"IF(COUNTIF(K$1:K2839,K2839)=1,K2839,\"\")","v":""}]
[null,null,null,null,null,null,null,null,null,"",0,{"$f":"IF(COUNTIF(K$1:K2840,K2840)=1,K2840,\"\")","v":""}]
[null,null,null,null,null,null,null,null,null,"",0,{"$f":"IF(COUNTIF(K$1:K2841,K2841)=1,K2841,\"\")","v":""}]
[null,null,null,null,null,null,null,null,null,"",0,{"$f":"IF(COUNTIF(K$1:K2842,K2842)=1,K2842,\"\")","v":""}]
[null,null,null,null,null,null,null,null,null,"",0,{"$f":"IF(COUNTIF(K$1:K2843,K2843)=1,K2843,\"\")","v":""}]
[null,null,null,null,null,null,null,null,null,"",0,{"$f":"IF(COUNTIF(K$1:K2844,K2844)=1,K2844,\"\")","v":""}]
[null,null,null,null,null,null,null,null,null,{"$f":"IF(D2845=\"\",\"\",IF(ISERROR(FIND(\"s\",D2845)),IF(ISERROR(FIND(\"h \",D2845)),LEFT(D2845,2)/60,   LEFT(D2845,FIND(\"h \",D2845)-1 )+LEFT(RIGHT(D2845,3),2)/60   ),0))","v":""},{"$f":"SUMIFS(J:J,C:C,C2845,A:A,\">\"&$S$4)","v":0},{"$f":"IF(COUNTIF(K$1:K2845,K2845)=1,K2845,\"\")","v":""}]
[null,null,null,null,null,null,null,null,null,"",0,{"$f":"IF(COUNTIF(K$1:K2846,K2846)=1,K2846,\"\")","v":""}]
[null,null,null,null,null,null,null,null,null,"",0,{"$f":"IF(COUNTIF(K$1:K2847,K2847)=1,K2847,\"\")","v":""}]
[null,null,null,null,null,null,null,null,null,"",0,{"$f":"IF(COUNTIF(K$1:K2848,K2848)=1,K2848,\"\")","v":""}]
[null,null,null,null,null,null,null,null,null,"",0,{"$f":"IF(COUNTIF(K$1:K2849,K2849)=1,K2849,\"\")","v":""}]
[null,null,null,null,null,null,null,null,null,"",0,{"$f":"IF(COUNTIF(K$1:K2850,K2850)=1,K2850,\"\")","v":""}]
[null,null,null,null,null,null,null,null,null,"",0,{"$f":"IF(COUNTIF(K$1:K2851,K2851)=1,K2851,\"\")","v":""}]
[null,null,null,null,null,null,null,null,null,"",0,{"$f":"IF(COUNTIF(K$1:K2852,K2852)=1,K2852,\"\")","v":""}]
[null,null,null,null,null,null,null,null,null,"",0,{"$f":"IF(COUNTIF(K$1:K2853,K2853)=1,K2853,\"\")","v":""}]
[null,null,null,null,null,null,null,null,null,"",0,{"$f":"IF(COUNTIF(K$1:K2854,K2854)=1,K2854,\"\")","v":""}]
[null,null,null,null,null,null,null,null,null,"",0,{"$f":"IF(COUNTIF(K$1:K2855,K2855)=1,K2855,\"\")","v":""}]
[null,null,null,null,null,null,null,null,null,"",0,{"$f":"IF(COUNTIF(K$1:K2856,K2856)=1,K2856,\"\")","v":""}]
[null,null,null,null,null,null,null,null,null,"",0,{"$f":"IF(COUNTIF(K$1:K2857,K2857)=1,K2857,\"\")","v":""}]
[null,null,null,null,null,null,null,null,null,"",0,{"$f":"IF(COUNTIF(K$1:K2858,K2858)=1,K2858,\"\")","v":""}]
[null,null,null,null,null,null,null,null,null,"",0,{"$f":"IF(COUNTIF(K$1:K2859,K2859)=1,K2859,\"\")","v":""}]
[null,null,null,null,null,null,null,null,null,"",0,{"$f":"IF(COUNTIF(K$1:K2860,K2860)=1,K2860,\"\")","v":""}]
[null,null,null,null,null,null,null,null,null,"",0,{"$f":"IF(COUNTIF(K$1:K2861,K2861)=1,K2861,\"\")","v":""}]
[null,null,null,null,null,null,null,null,null,"",0,{"$f":"IF(COUNTIF(K$1:K2862,K2862)=1,K2862,\"\")","v":""}]
[null,null,null,null,null,null,null,null,null,"",0,{"$f":"IF(COUNTIF(K$1:K2863,K2863)=1,K2863,\"\")","v":""}]
[null,null,null,null,null,null,null,null,null,"",0,{"$f":"IF(COUNTIF(K$1:K2864,K2864)=1,K2864,\"\")","v":""}]
[null,null,null,null,null,null,null,null,null,"",0,{"$f":"IF(COUNTIF(K$1:K2865,K2865)=1,K2865,\"\")","v":""}]
[null,null,null,null,null,null,null,null,null,"",0,{"$f":"IF(COUNTIF(K$1:K2866,K2866)=1,K2866,\"\")","v":""}]
[null,null,null,null,null,null,null,null,null,"",0,{"$f":"IF(COUNTIF(K$1:K2867,K2867)=1,K2867,\"\")","v":""}]
[null,null,null,null,null,null,null,null,null,"",0,{"$f":"IF(COUNTIF(K$1:K2868,K2868)=1,K2868,\"\")","v":""}]
[null,null,null,null,null,null,null,null,null,"",0,{"$f":"IF(COUNTIF(K$1:K2869,K2869)=1,K2869,\"\")","v":""}]
[null,null,null,null,null,null,null,null,null,"",0,{"$f":"IF(COUNTIF(K$1:K2870,K2870)=1,K2870,\"\")","v":""}]
[null,null,null,null,null,null,null,null,null,"",0,{"$f":"IF(COUNTIF(K$1:K2871,K2871)=1,K2871,\"\")","v":""}]
[null,null,null,null,null,null,null,null,null,"",0,{"$f":"IF(COUNTIF(K$1:K2872,K2872)=1,K2872,\"\")","v":""}]
[null,null,null,null,null,null,null,null,null,"",0,{"$f":"IF(COUNTIF(K$1:K2873,K2873)=1,K2873,\"\")","v":""}]
[null,null,null,null,null,null,null,null,null,"",0,{"$f":"IF(COUNTIF(K$1:K2874,K2874)=1,K2874,\"\")","v":""}]
[null,null,null,null,null,null,null,null,null,"",0,{"$f":"IF(COUNTIF(K$1:K2875,K2875)=1,K2875,\"\")","v":""}]
[null,null,null,null,null,null,null,null,null,"",0,{"$f":"IF(COUNTIF(K$1:K2876,K2876)=1,K2876,\"\")","v":""}]
[null,null,null,null,null,null,null,null,null,"",0,{"$f":"IF(COUNTIF(K$1:K2877,K2877)=1,K2877,\"\")","v":""}]
[null,null,null,null,null,null,null,null,null,"",0,{"$f":"IF(COUNTIF(K$1:K2878,K2878)=1,K2878,\"\")","v":""}]
[null,null,null,null,null,null,null,null,null,"",0,{"$f":"IF(COUNTIF(K$1:K2879,K2879)=1,K2879,\"\")","v":""}]
[null,null,null,null,null,null,null,null,null,"",0,{"$f":"IF(COUNTIF(K$1:K2880,K2880)=1,K2880,\"\")","v":""}]
[null,null,null,null,null,null,null,null,null,"",0,{"$f":"IF(COUNTIF(K$1:K2881,K2881)=1,K2881,\"\")","v":""}]
[null,null,null,null,null,null,null,null,null,"",0,{"$f":"IF(COUNTIF(K$1:K2882,K2882)=1,K2882,\"\")","v":""}]
[null,null,null,null,null,null,null,null,null,"",0,{"$f":"IF(COUNTIF(K$1:K2883,K2883)=1,K2883,\"\")","v":""}]
[null,null,null,null,null,null,null,null,null,"",0,{"$f":"IF(COUNTIF(K$1:K2884,K2884)=1,K2884,\"\")","v":""}]
[null,null,null,null,null,null,null,null,null,"",0,{"$f":"IF(COUNTIF(K$1:K2885,K2885)=1,K2885,\"\")","v":""}]
[null,null,null,null,null,null,null,null,null,"",0,{"$f":"IF(COUNTIF(K$1:K2886,K2886)=1,K2886,\"\")","v":""}]
[null,null,null,null,null,null,null,null,null,"",0,{"$f":"IF(COUNTIF(K$1:K2887,K2887)=1,K2887,\"\")","v":""}]
[null,null,null,null,null,null,null,null,null,"",0,{"$f":"IF(COUNTIF(K$1:K2888,K2888)=1,K2888,\"\")","v":""}]
[null,null,null,null,null,null,null,null,null,"",0,{"$f":"IF(COUNTIF(K$1:K2889,K2889)=1,K2889,\"\")","v":""}]
[null,null,null,null,null,null,null,null,null,"",0,{"$f":"IF(COUNTIF(K$1:K2890,K2890)=1,K2890,\"\")","v":""}]
[null,null,null,null,null,null,null,null,null,"",0,{"$f":"IF(COUNTIF(K$1:K2891,K2891)=1,K2891,\"\")","v":""}]
[null,null,null,null,null,null,null,null,null,"",0,{"$f":"IF(COUNTIF(K$1:K2892,K2892)=1,K2892,\"\")","v":""}]
[null,null,null,null,null,null,null,null,null,"",0,{"$f":"IF(COUNTIF(K$1:K2893,K2893)=1,K2893,\"\")","v":""}]
[null,null,null,null,null,null,null,null,null,"",0,{"$f":"IF(COUNTIF(K$1:K2894,K2894)=1,K2894,\"\")","v":""}]
[null,null,null,null,null,null,null,null,null,"",0,{"$f":"IF(COUNTIF(K$1:K2895,K2895)=1,K2895,\"\")","v":""}]
[null,null,null,null,null,null,null,null,null,"",0,{"$f":"IF(COUNTIF(K$1:K2896,K2896)=1,K2896,\"\")","v":""}]
[null,null,null,null,null,null,null,null,null,"",0,{"$f":"IF(COUNTIF(K$1:K2897,K2897)=1,K2897,\"\")","v":""}]
[null,null,null,null,null,null,null,null,null,"",0,{"$f":"IF(COUNTIF(K$1:K2898,K2898)=1,K2898,\"\")","v":""}]
[null,null,null,null,null,null,null,null,null,"",0,{"$f":"IF(COUNTIF(K$1:K2899,K2899)=1,K2899,\"\")","v":""}]
[null,null,null,null,null,null,null,null,null,"",0,{"$f":"IF(COUNTIF(K$1:K2900,K2900)=1,K2900,\"\")","v":""}]
[null,null,null,null,null,null,null,null,null,"",0,{"$f":"IF(COUNTIF(K$1:K2901,K2901)=1,K2901,\"\")","v":""}]
[null,null,null,null,null,null,null,null,null,"",0,{"$f":"IF(COUNTIF(K$1:K2902,K2902)=1,K2902,\"\")","v":""}]
[null,null,null,null,null,null,null,null,null,"",0,{"$f":"IF(COUNTIF(K$1:K2903,K2903)=1,K2903,\"\")","v":""}]
[null,null,null,null,null,null,null,null,null,"",0,{"$f":"IF(COUNTIF(K$1:K2904,K2904)=1,K2904,\"\")","v":""}]
[null,null,null,null,null,null,null,null,null,"",0,{"$f":"IF(COUNTIF(K$1:K2905,K2905)=1,K2905,\"\")","v":""}]
[null,null,null,null,null,null,null,null,null,"",0,{"$f":"IF(COUNTIF(K$1:K2906,K2906)=1,K2906,\"\")","v":""}]
[null,null,null,null,null,null,null,null,null,"",0,{"$f":"IF(COUNTIF(K$1:K2907,K2907)=1,K2907,\"\")","v":""}]
[null,null,null,null,null,null,null,null,null,"",0,{"$f":"IF(COUNTIF(K$1:K2908,K2908)=1,K2908,\"\")","v":""}]
[null,null,null,null,null,null,null,null,null,{"$f":"IF(D2909=\"\",\"\",IF(ISERROR(FIND(\"s\",D2909)),IF(ISERROR(FIND(\"h \",D2909)),LEFT(D2909,2)/60,   LEFT(D2909,FIND(\"h \",D2909)-1 )+LEFT(RIGHT(D2909,3),2)/60   ),0))","v":""},{"$f":"SUMIFS(J:J,C:C,C2909,A:A,\">\"&$S$4)","v":0},{"$f":"IF(COUNTIF(K$1:K2909,K2909)=1,K2909,\"\")","v":""}]
[null,null,null,null,null,null,null,null,null,"",0,{"$f":"IF(COUNTIF(K$1:K2910,K2910)=1,K2910,\"\")","v":""}]
[null,null,null,null,null,null,null,null,null,"",0,{"$f":"IF(COUNTIF(K$1:K2911,K2911)=1,K2911,\"\")","v":""}]
[null,null,null,null,null,null,null,null,null,"",0,{"$f":"IF(COUNTIF(K$1:K2912,K2912)=1,K2912,\"\")","v":""}]
[null,null,null,null,null,null,null,null,null,"",0,{"$f":"IF(COUNTIF(K$1:K2913,K2913)=1,K2913,\"\")","v":""}]
[null,null,null,null,null,null,null,null,null,"",0,{"$f":"IF(COUNTIF(K$1:K2914,K2914)=1,K2914,\"\")","v":""}]
[null,null,null,null,null,null,null,null,null,"",0,{"$f":"IF(COUNTIF(K$1:K2915,K2915)=1,K2915,\"\")","v":""}]
[null,null,null,null,null,null,null,null,null,"",0,{"$f":"IF(COUNTIF(K$1:K2916,K2916)=1,K2916,\"\")","v":""}]
[null,null,null,null,null,null,null,null,null,"",0,{"$f":"IF(COUNTIF(K$1:K2917,K2917)=1,K2917,\"\")","v":""}]
[null,null,null,null,null,null,null,null,null,"",0,{"$f":"IF(COUNTIF(K$1:K2918,K2918)=1,K2918,\"\")","v":""}]
[null,null,null,null,null,null,null,null,null,"",0,{"$f":"IF(COUNTIF(K$1:K2919,K2919)=1,K2919,\"\")","v":""}]
[null,null,null,null,null,null,null,null,null,"",0,{"$f":"IF(COUNTIF(K$1:K2920,K2920)=1,K2920,\"\")","v":""}]
[null,null,null,null,null,null,null,null,null,"",0,{"$f":"IF(COUNTIF(K$1:K2921,K2921)=1,K2921,\"\")","v":""}]
[null,null,null,null,null,null,null,null,null,"",0,{"$f":"IF(COUNTIF(K$1:K2922,K2922)=1,K2922,\"\")","v":""}]
[null,null,null,null,null,null,null,null,null,"",0,{"$f":"IF(COUNTIF(K$1:K2923,K2923)=1,K2923,\"\")","v":""}]
[null,null,null,null,null,null,null,null,null,"",0,{"$f":"IF(COUNTIF(K$1:K2924,K2924)=1,K2924,\"\")","v":""}]
[null,null,null,null,null,null,null,null,null,"",0,{"$f":"IF(COUNTIF(K$1:K2925,K2925)=1,K2925,\"\")","v":""}]
[null,null,null,null,null,null,null,null,null,"",0,{"$f":"IF(COUNTIF(K$1:K2926,K2926)=1,K2926,\"\")","v":""}]
[null,null,null,null,null,null,null,null,null,"",0,{"$f":"IF(COUNTIF(K$1:K2927,K2927)=1,K2927,\"\")","v":""}]
[null,null,null,null,null,null,null,null,null,"",0,{"$f":"IF(COUNTIF(K$1:K2928,K2928)=1,K2928,\"\")","v":""}]
[null,null,null,null,null,null,null,null,null,"",0,{"$f":"IF(COUNTIF(K$1:K2929,K2929)=1,K2929,\"\")","v":""}]
[null,null,null,null,null,null,null,null,null,"",0,{"$f":"IF(COUNTIF(K$1:K2930,K2930)=1,K2930,\"\")","v":""}]
[null,null,null,null,null,null,null,null,null,"",0,{"$f":"IF(COUNTIF(K$1:K2931,K2931)=1,K2931,\"\")","v":""}]
[null,null,null,null,null,null,null,null,null,"",0,{"$f":"IF(COUNTIF(K$1:K2932,K2932)=1,K2932,\"\")","v":""}]
[null,null,null,null,null,null,null,null,null,"",0,{"$f":"IF(COUNTIF(K$1:K2933,K2933)=1,K2933,\"\")","v":""}]
[null,null,null,null,null,null,null,null,null,"",0,{"$f":"IF(COUNTIF(K$1:K2934,K2934)=1,K2934,\"\")","v":""}]
[null,null,null,null,null,null,null,null,null,"",0,{"$f":"IF(COUNTIF(K$1:K2935,K2935)=1,K2935,\"\")","v":""}]
[null,null,null,null,null,null,null,null,null,"",0,{"$f":"IF(COUNTIF(K$1:K2936,K2936)=1,K2936,\"\")","v":""}]
[null,null,null,null,null,null,null,null,null,"",0,{"$f":"IF(COUNTIF(K$1:K2937,K2937)=1,K2937,\"\")","v":""}]
[null,null,null,null,null,null,null,null,null,"",0,{"$f":"IF(COUNTIF(K$1:K2938,K2938)=1,K2938,\"\")","v":""}]
[null,null,null,null,null,null,null,null,null,"",0,{"$f":"IF(COUNTIF(K$1:K2939,K2939)=1,K2939,\"\")","v":""}]
[null,null,null,null,null,null,null,null,null,"",0,{"$f":"IF(COUNTIF(K$1:K2940,K2940)=1,K2940,\"\")","v":""}]
[null,null,null,null,null,null,null,null,null,"",0,{"$f":"IF(COUNTIF(K$1:K2941,K2941)=1,K2941,\"\")","v":""}]
[null,null,null,null,null,null,null,null,null,"",0,{"$f":"IF(COUNTIF(K$1:K2942,K2942)=1,K2942,\"\")","v":""}]
[null,null,null,null,null,null,null,null,null,"",0,{"$f":"IF(COUNTIF(K$1:K2943,K2943)=1,K2943,\"\")","v":""}]
[null,null,null,null,null,null,null,null,null,"",0,{"$f":"IF(COUNTIF(K$1:K2944,K2944)=1,K2944,\"\")","v":""}]
[null,null,null,null,null,null,null,null,null,"",0,{"$f":"IF(COUNTIF(K$1:K2945,K2945)=1,K2945,\"\")","v":""}]
[null,null,null,null,null,null,null,null,null,"",0,{"$f":"IF(COUNTIF(K$1:K2946,K2946)=1,K2946,\"\")","v":""}]
[null,null,null,null,null,null,null,null,null,"",0,{"$f":"IF(COUNTIF(K$1:K2947,K2947)=1,K2947,\"\")","v":""}]
[null,null,null,null,null,null,null,null,null,"",0,{"$f":"IF(COUNTIF(K$1:K2948,K2948)=1,K2948,\"\")","v":""}]
[null,null,null,null,null,null,null,null,null,"",0,{"$f":"IF(COUNTIF(K$1:K2949,K2949)=1,K2949,\"\")","v":""}]
[null,null,null,null,null,null,null,null,null,"",0,{"$f":"IF(COUNTIF(K$1:K2950,K2950)=1,K2950,\"\")","v":""}]
[null,null,null,null,null,null,null,null,null,"",0,{"$f":"IF(COUNTIF(K$1:K2951,K2951)=1,K2951,\"\")","v":""}]
[null,null,null,null,null,null,null,null,null,"",0,{"$f":"IF(COUNTIF(K$1:K2952,K2952)=1,K2952,\"\")","v":""}]
[null,null,null,null,null,null,null,null,null,"",0,{"$f":"IF(COUNTIF(K$1:K2953,K2953)=1,K2953,\"\")","v":""}]
[null,null,null,null,null,null,null,null,null,"",0,{"$f":"IF(COUNTIF(K$1:K2954,K2954)=1,K2954,\"\")","v":""}]
[null,null,null,null,null,null,null,null,null,"",0,{"$f":"IF(COUNTIF(K$1:K2955,K2955)=1,K2955,\"\")","v":""}]
[null,null,null,null,null,null,null,null,null,"",0,{"$f":"IF(COUNTIF(K$1:K2956,K2956)=1,K2956,\"\")","v":""}]
[null,null,null,null,null,null,null,null,null,"",0,{"$f":"IF(COUNTIF(K$1:K2957,K2957)=1,K2957,\"\")","v":""}]
[null,null,null,null,null,null,null,null,null,"",0,{"$f":"IF(COUNTIF(K$1:K2958,K2958)=1,K2958,\"\")","v":""}]
[null,null,null,null,null,null,null,null,null,"",0,{"$f":"IF(COUNTIF(K$1:K2959,K2959)=1,K2959,\"\")","v":""}]
[null,null,null,null,null,null,null,null,null,"",0,{"$f":"IF(COUNTIF(K$1:K2960,K2960)=1,K2960,\"\")","v":""}]
[null,null,null,null,null,null,null,null,null,"",0,{"$f":"IF(COUNTIF(K$1:K2961,K2961)=1,K2961,\"\")","v":""}]
[null,null,null,null,null,null,null,null,null,"",0,{"$f":"IF(COUNTIF(K$1:K2962,K2962)=1,K2962,\"\")","v":""}]
[null,null,null,null,null,null,null,null,null,"",0,{"$f":"IF(COUNTIF(K$1:K2963,K2963)=1,K2963,\"\")","v":""}]
[null,null,null,null,null,null,null,null,null,"",0,{"$f":"IF(COUNTIF(K$1:K2964,K2964)=1,K2964,\"\")","v":""}]
[null,null,null,null,null,null,null,null,null,"",0,{"$f":"IF(COUNTIF(K$1:K2965,K2965)=1,K2965,\"\")","v":""}]
[null,null,null,null,null,null,null,null,null,"",0,{"$f":"IF(COUNTIF(K$1:K2966,K2966)=1,K2966,\"\")","v":""}]
[null,null,null,null,null,null,null,null,null,"",0,{"$f":"IF(COUNTIF(K$1:K2967,K2967)=1,K2967,\"\")","v":""}]
[null,null,null,null,null,null,null,null,null,"",0,{"$f":"IF(COUNTIF(K$1:K2968,K2968)=1,K2968,\"\")","v":""}]
[null,null,null,null,null,null,null,null,null,"",0,{"$f":"IF(COUNTIF(K$1:K2969,K2969)=1,K2969,\"\")","v":""}]
[null,null,null,null,null,null,null,null,null,"",0,{"$f":"IF(COUNTIF(K$1:K2970,K2970)=1,K2970,\"\")","v":""}]
[null,null,null,null,null,null,null,null,null,"",0,{"$f":"IF(COUNTIF(K$1:K2971,K2971)=1,K2971,\"\")","v":""}]
[null,null,null,null,null,null,null,null,null,"",0,{"$f":"IF(COUNTIF(K$1:K2972,K2972)=1,K2972,\"\")","v":""}]
[null,null,null,null,null,null,null,null,null,{"$f":"IF(D2973=\"\",\"\",IF(ISERROR(FIND(\"s\",D2973)),IF(ISERROR(FIND(\"h \",D2973)),LEFT(D2973,2)/60,   LEFT(D2973,FIND(\"h \",D2973)-1 )+LEFT(RIGHT(D2973,3),2)/60   ),0))","v":""},{"$f":"SUMIFS(J:J,C:C,C2973,A:A,\">\"&$S$4)","v":0},{"$f":"IF(COUNTIF(K$1:K2973,K2973)=1,K2973,\"\")","v":""}]
[null,null,null,null,null,null,null,null,null,"",0,{"$f":"IF(COUNTIF(K$1:K2974,K2974)=1,K2974,\"\")","v":""}]
[null,null,null,null,null,null,null,null,null,"",0,{"$f":"IF(COUNTIF(K$1:K2975,K2975)=1,K2975,\"\")","v":""}]
[null,null,null,null,null,null,null,null,null,"",0,{"$f":"IF(COUNTIF(K$1:K2976,K2976)=1,K2976,\"\")","v":""}]
[null,null,null,null,null,null,null,null,null,"",0,{"$f":"IF(COUNTIF(K$1:K2977,K2977)=1,K2977,\"\")","v":""}]
[null,null,null,null,null,null,null,null,null,"",0,{"$f":"IF(COUNTIF(K$1:K2978,K2978)=1,K2978,\"\")","v":""}]
[null,null,null,null,null,null,null,null,null,"",0,{"$f":"IF(COUNTIF(K$1:K2979,K2979)=1,K2979,\"\")","v":""}]
[null,null,null,null,null,null,null,null,null,"",0,{"$f":"IF(COUNTIF(K$1:K2980,K2980)=1,K2980,\"\")","v":""}]
[null,null,null,null,null,null,null,null,null,"",0,{"$f":"IF(COUNTIF(K$1:K2981,K2981)=1,K2981,\"\")","v":""}]
[null,null,null,null,null,null,null,null,null,"",0,{"$f":"IF(COUNTIF(K$1:K2982,K2982)=1,K2982,\"\")","v":""}]
[null,null,null,null,null,null,null,null,null,"",0,{"$f":"IF(COUNTIF(K$1:K2983,K2983)=1,K2983,\"\")","v":""}]
[null,null,null,null,null,null,null,null,null,"",0,{"$f":"IF(COUNTIF(K$1:K2984,K2984)=1,K2984,\"\")","v":""}]
[null,null,null,null,null,null,null,null,null,"",0,{"$f":"IF(COUNTIF(K$1:K2985,K2985)=1,K2985,\"\")","v":""}]
[null,null,null,null,null,null,null,null,null,"",0,{"$f":"IF(COUNTIF(K$1:K2986,K2986)=1,K2986,\"\")","v":""}]
[null,null,null,null,null,null,null,null,null,"",0,{"$f":"IF(COUNTIF(K$1:K2987,K2987)=1,K2987,\"\")","v":""}]
[null,null,null,null,null,null,null,null,null,"",0,{"$f":"IF(COUNTIF(K$1:K2988,K2988)=1,K2988,\"\")","v":""}]
[null,null,null,null,null,null,null,null,null,"",0,{"$f":"IF(COUNTIF(K$1:K2989,K2989)=1,K2989,\"\")","v":""}]
[null,null,null,null,null,null,null,null,null,"",0,{"$f":"IF(COUNTIF(K$1:K2990,K2990)=1,K2990,\"\")","v":""}]
[null,null,null,null,null,null,null,null,null,"",0,{"$f":"IF(COUNTIF(K$1:K2991,K2991)=1,K2991,\"\")","v":""}]
[null,null,null,null,null,null,null,null,null,"",0,{"$f":"IF(COUNTIF(K$1:K2992,K2992)=1,K2992,\"\")","v":""}]
[null,null,null,null,null,null,null,null,null,"",0,{"$f":"IF(COUNTIF(K$1:K2993,K2993)=1,K2993,\"\")","v":""}]
[null,null,null,null,null,null,null,null,null,"",0,{"$f":"IF(COUNTIF(K$1:K2994,K2994)=1,K2994,\"\")","v":""}]
[null,null,null,null,null,null,null,null,null,"",0,{"$f":"IF(COUNTIF(K$1:K2995,K2995)=1,K2995,\"\")","v":""}]
[null,null,null,null,null,null,null,null,null,"",0,{"$f":"IF(COUNTIF(K$1:K2996,K2996)=1,K2996,\"\")","v":""}]
[null,null,null,null,null,null,null,null,null,"",0,{"$f":"IF(COUNTIF(K$1:K2997,K2997)=1,K2997,\"\")","v":""}]
[null,null,null,null,null,null,null,null,null,"",0,{"$f":"IF(COUNTIF(K$1:K2998,K2998)=1,K2998,\"\")","v":""}]
[null,null,null,null,null,null,null,null,null,"",0,{"$f":"IF(COUNTIF(K$1:K2999,K2999)=1,K2999,\"\")","v":""}]
[null,null,null,null,null,null,null,null,null,"",0,{"$f":"IF(COUNTIF(K$1:K3000,K3000)=1,K3000,\"\")","v":""}]
[null,null,null,null,null,null,null,null,null,"",0,{"$f":"IF(COUNTIF(K$1:K3001,K3001)=1,K3001,\"\")","v":""}]
[null,null,null,null,null,null,null,null,null,"",0,{"$f":"IF(COUNTIF(K$1:K3002,K3002)=1,K3002,\"\")","v":""}]
[null,null,null,null,null,null,null,null,null,"",0,{"$f":"IF(COUNTIF(K$1:K3003,K3003)=1,K3003,\"\")","v":""}]
[null,null,null,null,null,null,null,null,null,"",0,{"$f":"IF(COUNTIF(K$1:K3004,K3004)=1,K3004,\"\")","v":""}]
[null,null,null,null,null,null,null,null,null,"",0,{"$f":"IF(COUNTIF(K$1:K3005,K3005)=1,K3005,\"\")","v":""}]
[null,null,null,null,null,null,null,null,null,"",0,{"$f":"IF(COUNTIF(K$1:K3006,K3006)=1,K3006,\"\")","v":""}]
[null,null,null,null,null,null,null,null,null,"",0,{"$f":"IF(COUNTIF(K$1:K3007,K3007)=1,K3007,\"\")","v":""}]
[null,null,null,null,null,null,null,null,null,"",0,{"$f":"IF(COUNTIF(K$1:K3008,K3008)=1,K3008,\"\")","v":""}]
[null,null,null,null,null,null,null,null,null,"",0,{"$f":"IF(COUNTIF(K$1:K3009,K3009)=1,K3009,\"\")","v":""}]
[null,null,null,null,null,null,null,null,null,"",0,{"$f":"IF(COUNTIF(K$1:K3010,K3010)=1,K3010,\"\")","v":""}]
[null,null,null,null,null,null,null,null,null,"",0,{"$f":"IF(COUNTIF(K$1:K3011,K3011)=1,K3011,\"\")","v":""}]
[null,null,null,null,null,null,null,null,null,"",0,{"$f":"IF(COUNTIF(K$1:K3012,K3012)=1,K3012,\"\")","v":""}]
[null,null,null,null,null,null,null,null,null,"",0,{"$f":"IF(COUNTIF(K$1:K3013,K3013)=1,K3013,\"\")","v":""}]
[null,null,null,null,null,null,null,null,null,"",0,{"$f":"IF(COUNTIF(K$1:K3014,K3014)=1,K3014,\"\")","v":""}]
[null,null,null,null,null,null,null,null,null,"",0,{"$f":"IF(COUNTIF(K$1:K3015,K3015)=1,K3015,\"\")","v":""}]
[null,null,null,null,null,null,null,null,null,"",0,{"$f":"IF(COUNTIF(K$1:K3016,K3016)=1,K3016,\"\")","v":""}]
[null,null,null,null,null,null,null,null,null,"",0,{"$f":"IF(COUNTIF(K$1:K3017,K3017)=1,K3017,\"\")","v":""}]
[null,null,null,null,null,null,null,null,null,"",0,{"$f":"IF(COUNTIF(K$1:K3018,K3018)=1,K3018,\"\")","v":""}]
[null,null,null,null,null,null,null,null,null,"",0,{"$f":"IF(COUNTIF(K$1:K3019,K3019)=1,K3019,\"\")","v":""}]
[null,null,null,null,null,null,null,null,null,"",0,{"$f":"IF(COUNTIF(K$1:K3020,K3020)=1,K3020,\"\")","v":""}]
[null,null,null,null,null,null,null,null,null,"",0,{"$f":"IF(COUNTIF(K$1:K3021,K3021)=1,K3021,\"\")","v":""}]
[null,null,null,null,null,null,null,null,null,"",0,{"$f":"IF(COUNTIF(K$1:K3022,K3022)=1,K3022,\"\")","v":""}]
[null,null,null,null,null,null,null,null,null,"",0,{"$f":"IF(COUNTIF(K$1:K3023,K3023)=1,K3023,\"\")","v":""}]
[null,null,null,null,null,null,null,null,null,"",0,{"$f":"IF(COUNTIF(K$1:K3024,K3024)=1,K3024,\"\")","v":""}]
[null,null,null,null,null,null,null,null,null,"",0,{"$f":"IF(COUNTIF(K$1:K3025,K3025)=1,K3025,\"\")","v":""}]
[null,null,null,null,null,null,null,null,null,"",0,{"$f":"IF(COUNTIF(K$1:K3026,K3026)=1,K3026,\"\")","v":""}]
[null,null,null,null,null,null,null,null,null,"",0,{"$f":"IF(COUNTIF(K$1:K3027,K3027)=1,K3027,\"\")","v":""}]
[null,null,null,null,null,null,null,null,null,"",0,{"$f":"IF(COUNTIF(K$1:K3028,K3028)=1,K3028,\"\")","v":""}]
[null,null,null,null,null,null,null,null,null,"",0,{"$f":"IF(COUNTIF(K$1:K3029,K3029)=1,K3029,\"\")","v":""}]
[null,null,null,null,null,null,null,null,null,"",0,{"$f":"IF(COUNTIF(K$1:K3030,K3030)=1,K3030,\"\")","v":""}]
[null,null,null,null,null,null,null,null,null,"",0,{"$f":"IF(COUNTIF(K$1:K3031,K3031)=1,K3031,\"\")","v":""}]
[null,null,null,null,null,null,null,null,null,"",0,{"$f":"IF(COUNTIF(K$1:K3032,K3032)=1,K3032,\"\")","v":""}]
[null,null,null,null,null,null,null,null,null,"",0,{"$f":"IF(COUNTIF(K$1:K3033,K3033)=1,K3033,\"\")","v":""}]
[null,null,null,null,null,null,null,null,null,"",0,{"$f":"IF(COUNTIF(K$1:K3034,K3034)=1,K3034,\"\")","v":""}]
[null,null,null,null,null,null,null,null,null,"",0,{"$f":"IF(COUNTIF(K$1:K3035,K3035)=1,K3035,\"\")","v":""}]
[null,null,null,null,null,null,null,null,null,"",0,{"$f":"IF(COUNTIF(K$1:K3036,K3036)=1,K3036,\"\")","v":""}]
[null,null,null,null,null,null,null,null,null,{"$f":"IF(D3037=\"\",\"\",IF(ISERROR(FIND(\"s\",D3037)),IF(ISERROR(FIND(\"h \",D3037)),LEFT(D3037,2)/60,   LEFT(D3037,FIND(\"h \",D3037)-1 )+LEFT(RIGHT(D3037,3),2)/60   ),0))","v":""},{"$f":"SUMIFS(J:J,C:C,C3037,A:A,\">\"&$S$4)","v":0},{"$f":"IF(COUNTIF(K$1:K3037,K3037)=1,K3037,\"\")","v":""}]
[null,null,null,null,null,null,null,null,null,"",0,{"$f":"IF(COUNTIF(K$1:K3038,K3038)=1,K3038,\"\")","v":""}]
[null,null,null,null,null,null,null,null,null,"",0,{"$f":"IF(COUNTIF(K$1:K3039,K3039)=1,K3039,\"\")","v":""}]
[null,null,null,null,null,null,null,null,null,"",0,{"$f":"IF(COUNTIF(K$1:K3040,K3040)=1,K3040,\"\")","v":""}]
[null,null,null,null,null,null,null,null,null,"",0,{"$f":"IF(COUNTIF(K$1:K3041,K3041)=1,K3041,\"\")","v":""}]
[null,null,null,null,null,null,null,null,null,"",0,{"$f":"IF(COUNTIF(K$1:K3042,K3042)=1,K3042,\"\")","v":""}]
[null,null,null,null,null,null,null,null,null,"",0,{"$f":"IF(COUNTIF(K$1:K3043,K3043)=1,K3043,\"\")","v":""}]
[null,null,null,null,null,null,null,null,null,"",0,{"$f":"IF(COUNTIF(K$1:K3044,K3044)=1,K3044,\"\")","v":""}]
[null,null,null,null,null,null,null,null,null,"",0,{"$f":"IF(COUNTIF(K$1:K3045,K3045)=1,K3045,\"\")","v":""}]
[null,null,null,null,null,null,null,null,null,"",0,{"$f":"IF(COUNTIF(K$1:K3046,K3046)=1,K3046,\"\")","v":""}]
[null,null,null,null,null,null,null,null,null,"",0,{"$f":"IF(COUNTIF(K$1:K3047,K3047)=1,K3047,\"\")","v":""}]
[null,null,null,null,null,null,null,null,null,"",0,{"$f":"IF(COUNTIF(K$1:K3048,K3048)=1,K3048,\"\")","v":""}]
[null,null,null,null,null,null,null,null,null,"",0,{"$f":"IF(COUNTIF(K$1:K3049,K3049)=1,K3049,\"\")","v":""}]
[null,null,null,null,null,null,null,null,null,"",0,{"$f":"IF(COUNTIF(K$1:K3050,K3050)=1,K3050,\"\")","v":""}]
[null,null,null,null,null,null,null,null,null,"",0,{"$f":"IF(COUNTIF(K$1:K3051,K3051)=1,K3051,\"\")","v":""}]
[null,null,null,null,null,null,null,null,null,"",0,{"$f":"IF(COUNTIF(K$1:K3052,K3052)=1,K3052,\"\")","v":""}]
[null,null,null,null,null,null,null,null,null,"",0,{"$f":"IF(COUNTIF(K$1:K3053,K3053)=1,K3053,\"\")","v":""}]
[null,null,null,null,null,null,null,null,null,"",0,{"$f":"IF(COUNTIF(K$1:K3054,K3054)=1,K3054,\"\")","v":""}]
[null,null,null,null,null,null,null,null,null,"",0,{"$f":"IF(COUNTIF(K$1:K3055,K3055)=1,K3055,\"\")","v":""}]
[null,null,null,null,null,null,null,null,null,"",0,{"$f":"IF(COUNTIF(K$1:K3056,K3056)=1,K3056,\"\")","v":""}]
[null,null,null,null,null,null,null,null,null,"",0,{"$f":"IF(COUNTIF(K$1:K3057,K3057)=1,K3057,\"\")","v":""}]
[null,null,null,null,null,null,null,null,null,"",0,{"$f":"IF(COUNTIF(K$1:K3058,K3058)=1,K3058,\"\")","v":""}]
[null,null,null,null,null,null,null,null,null,"",0,{"$f":"IF(COUNTIF(K$1:K3059,K3059)=1,K3059,\"\")","v":""}]
[null,null,null,null,null,null,null,null,null,"",0,{"$f":"IF(COUNTIF(K$1:K3060,K3060)=1,K3060,\"\")","v":""}]
[null,null,null,null,null,null,null,null,null,"",0,{"$f":"IF(COUNTIF(K$1:K3061,K3061)=1,K3061,\"\")","v":""}]
[null,null,null,null,null,null,null,null,null,"",0,{"$f":"IF(COUNTIF(K$1:K3062,K3062)=1,K3062,\"\")","v":""}]
[null,null,null,null,null,null,null,null,null,"",0,{"$f":"IF(COUNTIF(K$1:K3063,K3063)=1,K3063,\"\")","v":""}]
[null,null,null,null,null,null,null,null,null,"",0,{"$f":"IF(COUNTIF(K$1:K3064,K3064)=1,K3064,\"\")","v":""}]
[null,null,null,null,null,null,null,null,null,"",0,{"$f":"IF(COUNTIF(K$1:K3065,K3065)=1,K3065,\"\")","v":""}]
[null,null,null,null,null,null,null,null,null,"",0,{"$f":"IF(COUNTIF(K$1:K3066,K3066)=1,K3066,\"\")","v":""}]
[null,null,null,null,null,null,null,null,null,"",0,{"$f":"IF(COUNTIF(K$1:K3067,K3067)=1,K3067,\"\")","v":""}]
[null,null,null,null,null,null,null,null,null,"",0,{"$f":"IF(COUNTIF(K$1:K3068,K3068)=1,K3068,\"\")","v":""}]
[null,null,null,null,null,null,null,null,null,"",0,{"$f":"IF(COUNTIF(K$1:K3069,K3069)=1,K3069,\"\")","v":""}]
[null,null,null,null,null,null,null,null,null,"",0,{"$f":"IF(COUNTIF(K$1:K3070,K3070)=1,K3070,\"\")","v":""}]
[null,null,null,null,null,null,null,null,null,"",0,{"$f":"IF(COUNTIF(K$1:K3071,K3071)=1,K3071,\"\")","v":""}]
[null,null,null,null,null,null,null,null,null,"",0,{"$f":"IF(COUNTIF(K$1:K3072,K3072)=1,K3072,\"\")","v":""}]
[null,null,null,null,null,null,null,null,null,"",0,{"$f":"IF(COUNTIF(K$1:K3073,K3073)=1,K3073,\"\")","v":""}]
[null,null,null,null,null,null,null,null,null,"",0,{"$f":"IF(COUNTIF(K$1:K3074,K3074)=1,K3074,\"\")","v":""}]
[null,null,null,null,null,null,null,null,null,"",0,{"$f":"IF(COUNTIF(K$1:K3075,K3075)=1,K3075,\"\")","v":""}]
[null,null,null,null,null,null,null,null,null,"",0,{"$f":"IF(COUNTIF(K$1:K3076,K3076)=1,K3076,\"\")","v":""}]
[null,null,null,null,null,null,null,null,null,"",0,{"$f":"IF(COUNTIF(K$1:K3077,K3077)=1,K3077,\"\")","v":""}]
[null,null,null,null,null,null,null,null,null,"",0,{"$f":"IF(COUNTIF(K$1:K3078,K3078)=1,K3078,\"\")","v":""}]
[null,null,null,null,null,null,null,null,null,"",0,{"$f":"IF(COUNTIF(K$1:K3079,K3079)=1,K3079,\"\")","v":""}]
[null,null,null,null,null,null,null,null,null,"",0,{"$f":"IF(COUNTIF(K$1:K3080,K3080)=1,K3080,\"\")","v":""}]
[null,null,null,null,null,null,null,null,null,"",0,{"$f":"IF(COUNTIF(K$1:K3081,K3081)=1,K3081,\"\")","v":""}]
[null,null,null,null,null,null,null,null,null,"",0,{"$f":"IF(COUNTIF(K$1:K3082,K3082)=1,K3082,\"\")","v":""}]
[null,null,null,null,null,null,null,null,null,"",0,{"$f":"IF(COUNTIF(K$1:K3083,K3083)=1,K3083,\"\")","v":""}]
[null,null,null,null,null,null,null,null,null,"",0,{"$f":"IF(COUNTIF(K$1:K3084,K3084)=1,K3084,\"\")","v":""}]
[null,null,null,null,null,null,null,null,null,"",0,{"$f":"IF(COUNTIF(K$1:K3085,K3085)=1,K3085,\"\")","v":""}]
[null,null,null,null,null,null,null,null,null,"",0,{"$f":"IF(COUNTIF(K$1:K3086,K3086)=1,K3086,\"\")","v":""}]
[null,null,null,null,null,null,null,null,null,"",0,{"$f":"IF(COUNTIF(K$1:K3087,K3087)=1,K3087,\"\")","v":""}]
[null,null,null,null,null,null,null,null,null,"",0,{"$f":"IF(COUNTIF(K$1:K3088,K3088)=1,K3088,\"\")","v":""}]
[null,null,null,null,null,null,null,null,null,"",0,{"$f":"IF(COUNTIF(K$1:K3089,K3089)=1,K3089,\"\")","v":""}]
[null,null,null,null,null,null,null,null,null,"",0,{"$f":"IF(COUNTIF(K$1:K3090,K3090)=1,K3090,\"\")","v":""}]
[null,null,null,null,null,null,null,null,null,"",0,{"$f":"IF(COUNTIF(K$1:K3091,K3091)=1,K3091,\"\")","v":""}]
[null,null,null,null,null,null,null,null,null,"",0,{"$f":"IF(COUNTIF(K$1:K3092,K3092)=1,K3092,\"\")","v":""}]
[null,null,null,null,null,null,null,null,null,"",0,{"$f":"IF(COUNTIF(K$1:K3093,K3093)=1,K3093,\"\")","v":""}]
[null,null,null,null,null,null,null,null,null,"",0,{"$f":"IF(COUNTIF(K$1:K3094,K3094)=1,K3094,\"\")","v":""}]
[null,null,null,null,null,null,null,null,null,"",0,{"$f":"IF(COUNTIF(K$1:K3095,K3095)=1,K3095,\"\")","v":""}]
[null,null,null,null,null,null,null,null,null,"",0,{"$f":"IF(COUNTIF(K$1:K3096,K3096)=1,K3096,\"\")","v":""}]
[null,null,null,null,null,null,null,null,null,"",0,{"$f":"IF(COUNTIF(K$1:K3097,K3097)=1,K3097,\"\")","v":""}]
[null,null,null,null,null,null,null,null,null,"",0,{"$f":"IF(COUNTIF(K$1:K3098,K3098)=1,K3098,\"\")","v":""}]
[null,null,null,null,null,null,null,null,null,"",0,{"$f":"IF(COUNTIF(K$1:K3099,K3099)=1,K3099,\"\")","v":""}]
[null,null,null,null,null,null,null,null,null,"",0,{"$f":"IF(COUNTIF(K$1:K3100,K3100)=1,K3100,\"\")","v":""}]
[null,null,null,null,null,null,null,null,null,{"$f":"IF(D3101=\"\",\"\",IF(ISERROR(FIND(\"s\",D3101)),IF(ISERROR(FIND(\"h \",D3101)),LEFT(D3101,2)/60,   LEFT(D3101,FIND(\"h \",D3101)-1 )+LEFT(RIGHT(D3101,3),2)/60   ),0))","v":""},{"$f":"SUMIFS(J:J,C:C,C3101,A:A,\">\"&$S$4)","v":0},{"$f":"IF(COUNTIF(K$1:K3101,K3101)=1,K3101,\"\")","v":""}]
[null,null,null,null,null,null,null,null,null,"",0,{"$f":"IF(COUNTIF(K$1:K3102,K3102)=1,K3102,\"\")","v":""}]
[null,null,null,null,null,null,null,null,null,"",0,{"$f":"IF(COUNTIF(K$1:K3103,K3103)=1,K3103,\"\")","v":""}]
[null,null,null,null,null,null,null,null,null,"",0,{"$f":"IF(COUNTIF(K$1:K3104,K3104)=1,K3104,\"\")","v":""}]
[null,null,null,null,null,null,null,null,null,"",0,{"$f":"IF(COUNTIF(K$1:K3105,K3105)=1,K3105,\"\")","v":""}]
[null,null,null,null,null,null,null,null,null,"",0,{"$f":"IF(COUNTIF(K$1:K3106,K3106)=1,K3106,\"\")","v":""}]
[null,null,null,null,null,null,null,null,null,"",0,{"$f":"IF(COUNTIF(K$1:K3107,K3107)=1,K3107,\"\")","v":""}]
[null,null,null,null,null,null,null,null,null,"",0,{"$f":"IF(COUNTIF(K$1:K3108,K3108)=1,K3108,\"\")","v":""}]
[null,null,null,null,null,null,null,null,null,"",0,{"$f":"IF(COUNTIF(K$1:K3109,K3109)=1,K3109,\"\")","v":""}]
[null,null,null,null,null,null,null,null,null,"",0,{"$f":"IF(COUNTIF(K$1:K3110,K3110)=1,K3110,\"\")","v":""}]
[null,null,null,null,null,null,null,null,null,"",0,{"$f":"IF(COUNTIF(K$1:K3111,K3111)=1,K3111,\"\")","v":""}]
[null,null,null,null,null,null,null,null,null,"",0,{"$f":"IF(COUNTIF(K$1:K3112,K3112)=1,K3112,\"\")","v":""}]
[null,null,null,null,null,null,null,null,null,"",0,{"$f":"IF(COUNTIF(K$1:K3113,K3113)=1,K3113,\"\")","v":""}]
[null,null,null,null,null,null,null,null,null,"",0,{"$f":"IF(COUNTIF(K$1:K3114,K3114)=1,K3114,\"\")","v":""}]
[null,null,null,null,null,null,null,null,null,"",0,{"$f":"IF(COUNTIF(K$1:K3115,K3115)=1,K3115,\"\")","v":""}]
[null,null,null,null,null,null,null,null,null,"",0,{"$f":"IF(COUNTIF(K$1:K3116,K3116)=1,K3116,\"\")","v":""}]
[null,null,null,null,null,null,null,null,null,"",0,{"$f":"IF(COUNTIF(K$1:K3117,K3117)=1,K3117,\"\")","v":""}]
[null,null,null,null,null,null,null,null,null,"",0,{"$f":"IF(COUNTIF(K$1:K3118,K3118)=1,K3118,\"\")","v":""}]
[null,null,null,null,null,null,null,null,null,"",0,{"$f":"IF(COUNTIF(K$1:K3119,K3119)=1,K3119,\"\")","v":""}]
[null,null,null,null,null,null,null,null,null,"",0,{"$f":"IF(COUNTIF(K$1:K3120,K3120)=1,K3120,\"\")","v":""}]
[null,null,null,null,null,null,null,null,null,"",0,{"$f":"IF(COUNTIF(K$1:K3121,K3121)=1,K3121,\"\")","v":""}]
[null,null,null,null,null,null,null,null,null,"",0,{"$f":"IF(COUNTIF(K$1:K3122,K3122)=1,K3122,\"\")","v":""}]
[null,null,null,null,null,null,null,null,null,"",0,{"$f":"IF(COUNTIF(K$1:K3123,K3123)=1,K3123,\"\")","v":""}]
[null,null,null,null,null,null,null,null,null,"",0,{"$f":"IF(COUNTIF(K$1:K3124,K3124)=1,K3124,\"\")","v":""}]
[null,null,null,null,null,null,null,null,null,"",0,{"$f":"IF(COUNTIF(K$1:K3125,K3125)=1,K3125,\"\")","v":""}]
[null,null,null,null,null,null,null,null,null,"",0,{"$f":"IF(COUNTIF(K$1:K3126,K3126)=1,K3126,\"\")","v":""}]
[null,null,null,null,null,null,null,null,null,"",0,{"$f":"IF(COUNTIF(K$1:K3127,K3127)=1,K3127,\"\")","v":""}]
[null,null,null,null,null,null,null,null,null,"",0,{"$f":"IF(COUNTIF(K$1:K3128,K3128)=1,K3128,\"\")","v":""}]
[null,null,null,null,null,null,null,null,null,"",0,{"$f":"IF(COUNTIF(K$1:K3129,K3129)=1,K3129,\"\")","v":""}]
[null,null,null,null,null,null,null,null,null,"",0,{"$f":"IF(COUNTIF(K$1:K3130,K3130)=1,K3130,\"\")","v":""}]
[null,null,null,null,null,null,null,null,null,"",0,{"$f":"IF(COUNTIF(K$1:K3131,K3131)=1,K3131,\"\")","v":""}]
[null,null,null,null,null,null,null,null,null,"",0,{"$f":"IF(COUNTIF(K$1:K3132,K3132)=1,K3132,\"\")","v":""}]
[null,null,null,null,null,null,null,null,null,"",0,{"$f":"IF(COUNTIF(K$1:K3133,K3133)=1,K3133,\"\")","v":""}]
[null,null,null,null,null,null,null,null,null,"",0,{"$f":"IF(COUNTIF(K$1:K3134,K3134)=1,K3134,\"\")","v":""}]
[null,null,null,null,null,null,null,null,null,"",0,{"$f":"IF(COUNTIF(K$1:K3135,K3135)=1,K3135,\"\")","v":""}]
[null,null,null,null,null,null,null,null,null,"",0,{"$f":"IF(COUNTIF(K$1:K3136,K3136)=1,K3136,\"\")","v":""}]
[null,null,null,null,null,null,null,null,null,"",0,{"$f":"IF(COUNTIF(K$1:K3137,K3137)=1,K3137,\"\")","v":""}]
[null,null,null,null,null,null,null,null,null,"",0,{"$f":"IF(COUNTIF(K$1:K3138,K3138)=1,K3138,\"\")","v":""}]
[null,null,null,null,null,null,null,null,null,"",0,{"$f":"IF(COUNTIF(K$1:K3139,K3139)=1,K3139,\"\")","v":""}]
[null,null,null,null,null,null,null,null,null,"",0,{"$f":"IF(COUNTIF(K$1:K3140,K3140)=1,K3140,\"\")","v":""}]
[null,null,null,null,null,null,null,null,null,"",0,{"$f":"IF(COUNTIF(K$1:K3141,K3141)=1,K3141,\"\")","v":""}]
[null,null,null,null,null,null,null,null,null,"",0,{"$f":"IF(COUNTIF(K$1:K3142,K3142)=1,K3142,\"\")","v":""}]
[null,null,null,null,null,null,null,null,null,"",0,{"$f":"IF(COUNTIF(K$1:K3143,K3143)=1,K3143,\"\")","v":""}]
[null,null,null,null,null,null,null,null,null,"",0,{"$f":"IF(COUNTIF(K$1:K3144,K3144)=1,K3144,\"\")","v":""}]
[null,null,null,null,null,null,null,null,null,"",0,{"$f":"IF(COUNTIF(K$1:K3145,K3145)=1,K3145,\"\")","v":""}]
[null,null,null,null,null,null,null,null,null,"",0,{"$f":"IF(COUNTIF(K$1:K3146,K3146)=1,K3146,\"\")","v":""}]
[null,null,null,null,null,null,null,null,null,"",0,{"$f":"IF(COUNTIF(K$1:K3147,K3147)=1,K3147,\"\")","v":""}]
[null,null,null,null,null,null,null,null,null,"",0,{"$f":"IF(COUNTIF(K$1:K3148,K3148)=1,K3148,\"\")","v":""}]
[null,null,null,null,null,null,null,null,null,"",0,{"$f":"IF(COUNTIF(K$1:K3149,K3149)=1,K3149,\"\")","v":""}]
[null,null,null,null,null,null,null,null,null,"",0,{"$f":"IF(COUNTIF(K$1:K3150,K3150)=1,K3150,\"\")","v":""}]
[null,null,null,null,null,null,null,null,null,"",0,{"$f":"IF(COUNTIF(K$1:K3151,K3151)=1,K3151,\"\")","v":""}]
[null,null,null,null,null,null,null,null,null,"",0,{"$f":"IF(COUNTIF(K$1:K3152,K3152)=1,K3152,\"\")","v":""}]
[null,null,null,null,null,null,null,null,null,"",0,{"$f":"IF(COUNTIF(K$1:K3153,K3153)=1,K3153,\"\")","v":""}]
[null,null,null,null,null,null,null,null,null,"",0,{"$f":"IF(COUNTIF(K$1:K3154,K3154)=1,K3154,\"\")","v":""}]
[null,null,null,null,null,null,null,null,null,"",0,{"$f":"IF(COUNTIF(K$1:K3155,K3155)=1,K3155,\"\")","v":""}]
[null,null,null,null,null,null,null,null,null,"",0,{"$f":"IF(COUNTIF(K$1:K3156,K3156)=1,K3156,\"\")","v":""}]
[null,null,null,null,null,null,null,null,null,"",0,{"$f":"IF(COUNTIF(K$1:K3157,K3157)=1,K3157,\"\")","v":""}]
[null,null,null,null,null,null,null,null,null,"",0,{"$f":"IF(COUNTIF(K$1:K3158,K3158)=1,K3158,\"\")","v":""}]
[null,null,null,null,null,null,null,null,null,"",0,{"$f":"IF(COUNTIF(K$1:K3159,K3159)=1,K3159,\"\")","v":""}]
[null,null,null,null,null,null,null,null,null,"",0,{"$f":"IF(COUNTIF(K$1:K3160,K3160)=1,K3160,\"\")","v":""}]
[null,null,null,null,null,null,null,null,null,"",0,{"$f":"IF(COUNTIF(K$1:K3161,K3161)=1,K3161,\"\")","v":""}]
[null,null,null,null,null,null,null,null,null,"",0,{"$f":"IF(COUNTIF(K$1:K3162,K3162)=1,K3162,\"\")","v":""}]
[null,null,null,null,null,null,null,null,null,"",0,{"$f":"IF(COUNTIF(K$1:K3163,K3163)=1,K3163,\"\")","v":""}]
[null,null,null,null,null,null,null,null,null,"",0,{"$f":"IF(COUNTIF(K$1:K3164,K3164)=1,K3164,\"\")","v":""}]
[null,null,null,null,null,null,null,null,null,{"$f":"IF(D3165=\"\",\"\",IF(ISERROR(FIND(\"s\",D3165)),IF(ISERROR(FIND(\"h \",D3165)),LEFT(D3165,2)/60,   LEFT(D3165,FIND(\"h \",D3165)-1 )+LEFT(RIGHT(D3165,3),2)/60   ),0))","v":""},{"$f":"SUMIFS(J:J,C:C,C3165,A:A,\">\"&$S$4)","v":0},{"$f":"IF(COUNTIF(K$1:K3165,K3165)=1,K3165,\"\")","v":""}]
[null,null,null,null,null,null,null,null,null,"",0,{"$f":"IF(COUNTIF(K$1:K3166,K3166)=1,K3166,\"\")","v":""}]
[null,null,null,null,null,null,null,null,null,"",0,{"$f":"IF(COUNTIF(K$1:K3167,K3167)=1,K3167,\"\")","v":""}]
[null,null,null,null,null,null,null,null,null,"",0,{"$f":"IF(COUNTIF(K$1:K3168,K3168)=1,K3168,\"\")","v":""}]
[null,null,null,null,null,null,null,null,null,"",0,{"$f":"IF(COUNTIF(K$1:K3169,K3169)=1,K3169,\"\")","v":""}]
[null,null,null,null,null,null,null,null,null,"",0,{"$f":"IF(COUNTIF(K$1:K3170,K3170)=1,K3170,\"\")","v":""}]
[null,null,null,null,null,null,null,null,null,"",0,{"$f":"IF(COUNTIF(K$1:K3171,K3171)=1,K3171,\"\")","v":""}]
[null,null,null,null,null,null,null,null,null,"",0,{"$f":"IF(COUNTIF(K$1:K3172,K3172)=1,K3172,\"\")","v":""}]
[null,null,null,null,null,null,null,null,null,"",0,{"$f":"IF(COUNTIF(K$1:K3173,K3173)=1,K3173,\"\")","v":""}]
[null,null,null,null,null,null,null,null,null,"",0,{"$f":"IF(COUNTIF(K$1:K3174,K3174)=1,K3174,\"\")","v":""}]
[null,null,null,null,null,null,null,null,null,"",0,{"$f":"IF(COUNTIF(K$1:K3175,K3175)=1,K3175,\"\")","v":""}]
[null,null,null,null,null,null,null,null,null,"",0,{"$f":"IF(COUNTIF(K$1:K3176,K3176)=1,K3176,\"\")","v":""}]
[null,null,null,null,null,null,null,null,null,"",0,{"$f":"IF(COUNTIF(K$1:K3177,K3177)=1,K3177,\"\")","v":""}]
[null,null,null,null,null,null,null,null,null,"",0,{"$f":"IF(COUNTIF(K$1:K3178,K3178)=1,K3178,\"\")","v":""}]
[null,null,null,null,null,null,null,null,null,"",0,{"$f":"IF(COUNTIF(K$1:K3179,K3179)=1,K3179,\"\")","v":""}]
[null,null,null,null,null,null,null,null,null,"",0,{"$f":"IF(COUNTIF(K$1:K3180,K3180)=1,K3180,\"\")","v":""}]
[null,null,null,null,null,null,null,null,null,"",0,{"$f":"IF(COUNTIF(K$1:K3181,K3181)=1,K3181,\"\")","v":""}]
[null,null,null,null,null,null,null,null,null,"",0,{"$f":"IF(COUNTIF(K$1:K3182,K3182)=1,K3182,\"\")","v":""}]
[null,null,null,null,null,null,null,null,null,"",0,{"$f":"IF(COUNTIF(K$1:K3183,K3183)=1,K3183,\"\")","v":""}]
[null,null,null,null,null,null,null,null,null,"",0,{"$f":"IF(COUNTIF(K$1:K3184,K3184)=1,K3184,\"\")","v":""}]
[null,null,null,null,null,null,null,null,null,"",0,{"$f":"IF(COUNTIF(K$1:K3185,K3185)=1,K3185,\"\")","v":""}]
[null,null,null,null,null,null,null,null,null,"",0,{"$f":"IF(COUNTIF(K$1:K3186,K3186)=1,K3186,\"\")","v":""}]
[null,null,null,null,null,null,null,null,null,"",0,{"$f":"IF(COUNTIF(K$1:K3187,K3187)=1,K3187,\"\")","v":""}]
[null,null,null,null,null,null,null,null,null,"",0,{"$f":"IF(COUNTIF(K$1:K3188,K3188)=1,K3188,\"\")","v":""}]
[null,null,null,null,null,null,null,null,null,"",0,{"$f":"IF(COUNTIF(K$1:K3189,K3189)=1,K3189,\"\")","v":""}]
[null,null,null,null,null,null,null,null,null,"",0,{"$f":"IF(COUNTIF(K$1:K3190,K3190)=1,K3190,\"\")","v":""}]
[null,null,null,null,null,null,null,null,null,"",0,{"$f":"IF(COUNTIF(K$1:K3191,K3191)=1,K3191,\"\")","v":""}]
[null,null,null,null,null,null,null,null,null,"",0,{"$f":"IF(COUNTIF(K$1:K3192,K3192)=1,K3192,\"\")","v":""}]
[null,null,null,null,null,null,null,null,null,"",0,{"$f":"IF(COUNTIF(K$1:K3193,K3193)=1,K3193,\"\")","v":""}]
[null,null,null,null,null,null,null,null,null,"",0,{"$f":"IF(COUNTIF(K$1:K3194,K3194)=1,K3194,\"\")","v":""}]
[null,null,null,null,null,null,null,null,null,"",0,{"$f":"IF(COUNTIF(K$1:K3195,K3195)=1,K3195,\"\")","v":""}]
[null,null,null,null,null,null,null,null,null,"",0,{"$f":"IF(COUNTIF(K$1:K3196,K3196)=1,K3196,\"\")","v":""}]
[null,null,null,null,null,null,null,null,null,"",0,{"$f":"IF(COUNTIF(K$1:K3197,K3197)=1,K3197,\"\")","v":""}]
[null,null,null,null,null,null,null,null,null,"",0,{"$f":"IF(COUNTIF(K$1:K3198,K3198)=1,K3198,\"\")","v":""}]
[null,null,null,null,null,null,null,null,null,"",0,{"$f":"IF(COUNTIF(K$1:K3199,K3199)=1,K3199,\"\")","v":""}]
[null,null,null,null,null,null,null,null,null,"",0,{"$f":"IF(COUNTIF(K$1:K3200,K3200)=1,K3200,\"\")","v":""}]
[null,null,null,null,null,null,null,null,null,"",0,{"$f":"IF(COUNTIF(K$1:K3201,K3201)=1,K3201,\"\")","v":""}]
[null,null,null,null,null,null,null,null,null,"",0,{"$f":"IF(COUNTIF(K$1:K3202,K3202)=1,K3202,\"\")","v":""}]
[null,null,null,null,null,null,null,null,null,"",0,{"$f":"IF(COUNTIF(K$1:K3203,K3203)=1,K3203,\"\")","v":""}]
[null,null,null,null,null,null,null,null,null,"",0,{"$f":"IF(COUNTIF(K$1:K3204,K3204)=1,K3204,\"\")","v":""}]
[null,null,null,null,null,null,null,null,null,"",0,{"$f":"IF(COUNTIF(K$1:K3205,K3205)=1,K3205,\"\")","v":""}]
[null,null,null,null,null,null,null,null,null,"",0,{"$f":"IF(COUNTIF(K$1:K3206,K3206)=1,K3206,\"\")","v":""}]
[null,null,null,null,null,null,null,null,null,"",0,{"$f":"IF(COUNTIF(K$1:K3207,K3207)=1,K3207,\"\")","v":""}]
[null,null,null,null,null,null,null,null,null,"",0,{"$f":"IF(COUNTIF(K$1:K3208,K3208)=1,K3208,\"\")","v":""}]
[null,null,null,null,null,null,null,null,null,"",0,{"$f":"IF(COUNTIF(K$1:K3209,K3209)=1,K3209,\"\")","v":""}]
[null,null,null,null,null,null,null,null,null,"",0,{"$f":"IF(COUNTIF(K$1:K3210,K3210)=1,K3210,\"\")","v":""}]
[null,null,null,null,null,null,null,null,null,"",0,{"$f":"IF(COUNTIF(K$1:K3211,K3211)=1,K3211,\"\")","v":""}]
[null,null,null,null,null,null,null,null,null,"",0,{"$f":"IF(COUNTIF(K$1:K3212,K3212)=1,K3212,\"\")","v":""}]
[null,null,null,null,null,null,null,null,null,"",0,{"$f":"IF(COUNTIF(K$1:K3213,K3213)=1,K3213,\"\")","v":""}]
[null,null,null,null,null,null,null,null,null,"",0,{"$f":"IF(COUNTIF(K$1:K3214,K3214)=1,K3214,\"\")","v":""}]
[null,null,null,null,null,null,null,null,null,"",0,{"$f":"IF(COUNTIF(K$1:K3215,K3215)=1,K3215,\"\")","v":""}]
[null,null,null,null,null,null,null,null,null,"",0,{"$f":"IF(COUNTIF(K$1:K3216,K3216)=1,K3216,\"\")","v":""}]
[null,null,null,null,null,null,null,null,null,"",0,{"$f":"IF(COUNTIF(K$1:K3217,K3217)=1,K3217,\"\")","v":""}]
[null,null,null,null,null,null,null,null,null,"",0,{"$f":"IF(COUNTIF(K$1:K3218,K3218)=1,K3218,\"\")","v":""}]
[null,null,null,null,null,null,null,null,null,"",0,{"$f":"IF(COUNTIF(K$1:K3219,K3219)=1,K3219,\"\")","v":""}]
[null,null,null,null,null,null,null,null,null,"",0,{"$f":"IF(COUNTIF(K$1:K3220,K3220)=1,K3220,\"\")","v":""}]
[null,null,null,null,null,null,null,null,null,"",0,{"$f":"IF(COUNTIF(K$1:K3221,K3221)=1,K3221,\"\")","v":""}]
[null,null,null,null,null,null,null,null,null,"",0,{"$f":"IF(COUNTIF(K$1:K3222,K3222)=1,K3222,\"\")","v":""}]
[null,null,null,null,null,null,null,null,null,"",0,{"$f":"IF(COUNTIF(K$1:K3223,K3223)=1,K3223,\"\")","v":""}]
[null,null,null,null,null,null,null,null,null,"",0,{"$f":"IF(COUNTIF(K$1:K3224,K3224)=1,K3224,\"\")","v":""}]
[null,null,null,null,null,null,null,null,null,"",0,{"$f":"IF(COUNTIF(K$1:K3225,K3225)=1,K3225,\"\")","v":""}]
[null,null,null,null,null,null,null,null,null,"",0,{"$f":"IF(COUNTIF(K$1:K3226,K3226)=1,K3226,\"\")","v":""}]
[null,null,null,null,null,null,null,null,null,"",0,{"$f":"IF(COUNTIF(K$1:K3227,K3227)=1,K3227,\"\")","v":""}]
[null,null,null,null,null,null,null,null,null,"",0,{"$f":"IF(COUNTIF(K$1:K3228,K3228)=1,K3228,\"\")","v":""}]
[null,null,null,null,null,null,null,null,null,{"$f":"IF(D3229=\"\",\"\",IF(ISERROR(FIND(\"s\",D3229)),IF(ISERROR(FIND(\"h \",D3229)),LEFT(D3229,2)/60,   LEFT(D3229,FIND(\"h \",D3229)-1 )+LEFT(RIGHT(D3229,3),2)/60   ),0))","v":""},{"$f":"SUMIFS(J:J,C:C,C3229,A:A,\">\"&$S$4)","v":0},{"$f":"IF(COUNTIF(K$1:K3229,K3229)=1,K3229,\"\")","v":""}]
[null,null,null,null,null,null,null,null,null,"",0,{"$f":"IF(COUNTIF(K$1:K3230,K3230)=1,K3230,\"\")","v":""}]
[null,null,null,null,null,null,null,null,null,"",0,{"$f":"IF(COUNTIF(K$1:K3231,K3231)=1,K3231,\"\")","v":""}]
[null,null,null,null,null,null,null,null,null,"",0,{"$f":"IF(COUNTIF(K$1:K3232,K3232)=1,K3232,\"\")","v":""}]
[null,null,null,null,null,null,null,null,null,"",0,{"$f":"IF(COUNTIF(K$1:K3233,K3233)=1,K3233,\"\")","v":""}]
[null,null,null,null,null,null,null,null,null,"",0,{"$f":"IF(COUNTIF(K$1:K3234,K3234)=1,K3234,\"\")","v":""}]
[null,null,null,null,null,null,null,null,null,"",0,{"$f":"IF(COUNTIF(K$1:K3235,K3235)=1,K3235,\"\")","v":""}]
[null,null,null,null,null,null,null,null,null,"",0,{"$f":"IF(COUNTIF(K$1:K3236,K3236)=1,K3236,\"\")","v":""}]
[null,null,null,null,null,null,null,null,null,"",0,{"$f":"IF(COUNTIF(K$1:K3237,K3237)=1,K3237,\"\")","v":""}]
[null,null,null,null,null,null,null,null,null,"",0,{"$f":"IF(COUNTIF(K$1:K3238,K3238)=1,K3238,\"\")","v":""}]
[null,null,null,null,null,null,null,null,null,"",0,{"$f":"IF(COUNTIF(K$1:K3239,K3239)=1,K3239,\"\")","v":""}]
[null,null,null,null,null,null,null,null,null,"",0,{"$f":"IF(COUNTIF(K$1:K3240,K3240)=1,K3240,\"\")","v":""}]
[null,null,null,null,null,null,null,null,null,"",0,{"$f":"IF(COUNTIF(K$1:K3241,K3241)=1,K3241,\"\")","v":""}]
[null,null,null,null,null,null,null,null,null,"",0,{"$f":"IF(COUNTIF(K$1:K3242,K3242)=1,K3242,\"\")","v":""}]
[null,null,null,null,null,null,null,null,null,"",0,{"$f":"IF(COUNTIF(K$1:K3243,K3243)=1,K3243,\"\")","v":""}]
[null,null,null,null,null,null,null,null,null,"",0,{"$f":"IF(COUNTIF(K$1:K3244,K3244)=1,K3244,\"\")","v":""}]
[null,null,null,null,null,null,null,null,null,"",0,{"$f":"IF(COUNTIF(K$1:K3245,K3245)=1,K3245,\"\")","v":""}]
[null,null,null,null,null,null,null,null,null,"",0,{"$f":"IF(COUNTIF(K$1:K3246,K3246)=1,K3246,\"\")","v":""}]
[null,null,null,null,null,null,null,null,null,"",0,{"$f":"IF(COUNTIF(K$1:K3247,K3247)=1,K3247,\"\")","v":""}]
[null,null,null,null,null,null,null,null,null,"",0,{"$f":"IF(COUNTIF(K$1:K3248,K3248)=1,K3248,\"\")","v":""}]
[null,null,null,null,null,null,null,null,null,"",0,{"$f":"IF(COUNTIF(K$1:K3249,K3249)=1,K3249,\"\")","v":""}]
[null,null,null,null,null,null,null,null,null,"",0,{"$f":"IF(COUNTIF(K$1:K3250,K3250)=1,K3250,\"\")","v":""}]
[null,null,null,null,null,null,null,null,null,"",0,{"$f":"IF(COUNTIF(K$1:K3251,K3251)=1,K3251,\"\")","v":""}]
[null,null,null,null,null,null,null,null,null,"",0,{"$f":"IF(COUNTIF(K$1:K3252,K3252)=1,K3252,\"\")","v":""}]
[null,null,null,null,null,null,null,null,null,"",0,{"$f":"IF(COUNTIF(K$1:K3253,K3253)=1,K3253,\"\")","v":""}]
[null,null,null,null,null,null,null,null,null,"",0,{"$f":"IF(COUNTIF(K$1:K3254,K3254)=1,K3254,\"\")","v":""}]
[null,null,null,null,null,null,null,null,null,"",0,{"$f":"IF(COUNTIF(K$1:K3255,K3255)=1,K3255,\"\")","v":""}]
[null,null,null,null,null,null,null,null,null,"",0,{"$f":"IF(COUNTIF(K$1:K3256,K3256)=1,K3256,\"\")","v":""}]
[null,null,null,null,null,null,null,null,null,"",0,{"$f":"IF(COUNTIF(K$1:K3257,K3257)=1,K3257,\"\")","v":""}]
[null,null,null,null,null,null,null,null,null,"",0,{"$f":"IF(COUNTIF(K$1:K3258,K3258)=1,K3258,\"\")","v":""}]
[null,null,null,null,null,null,null,null,null,"",0,{"$f":"IF(COUNTIF(K$1:K3259,K3259)=1,K3259,\"\")","v":""}]
[null,null,null,null,null,null,null,null,null,"",0,{"$f":"IF(COUNTIF(K$1:K3260,K3260)=1,K3260,\"\")","v":""}]
[null,null,null,null,null,null,null,null,null,"",0,{"$f":"IF(COUNTIF(K$1:K3261,K3261)=1,K3261,\"\")","v":""}]
[null,null,null,null,null,null,null,null,null,"",0,{"$f":"IF(COUNTIF(K$1:K3262,K3262)=1,K3262,\"\")","v":""}]
[null,null,null,null,null,null,null,null,null,"",0,{"$f":"IF(COUNTIF(K$1:K3263,K3263)=1,K3263,\"\")","v":""}]
[null,null,null,null,null,null,null,null,null,"",0,{"$f":"IF(COUNTIF(K$1:K3264,K3264)=1,K3264,\"\")","v":""}]
[null,null,null,null,null,null,null,null,null,"",0,{"$f":"IF(COUNTIF(K$1:K3265,K3265)=1,K3265,\"\")","v":""}]
[null,null,null,null,null,null,null,null,null,"",0,{"$f":"IF(COUNTIF(K$1:K3266,K3266)=1,K3266,\"\")","v":""}]
[null,null,null,null,null,null,null,null,null,"",0,{"$f":"IF(COUNTIF(K$1:K3267,K3267)=1,K3267,\"\")","v":""}]
[null,null,null,null,null,null,null,null,null,"",0,{"$f":"IF(COUNTIF(K$1:K3268,K3268)=1,K3268,\"\")","v":""}]
[null,null,null,null,null,null,null,null,null,"",0,{"$f":"IF(COUNTIF(K$1:K3269,K3269)=1,K3269,\"\")","v":""}]
[null,null,null,null,null,null,null,null,null,"",0,{"$f":"IF(COUNTIF(K$1:K3270,K3270)=1,K3270,\"\")","v":""}]
[null,null,null,null,null,null,null,null,null,"",0,{"$f":"IF(COUNTIF(K$1:K3271,K3271)=1,K3271,\"\")","v":""}]
[null,null,null,null,null,null,null,null,null,"",0,{"$f":"IF(COUNTIF(K$1:K3272,K3272)=1,K3272,\"\")","v":""}]
[null,null,null,null,null,null,null,null,null,"",0,{"$f":"IF(COUNTIF(K$1:K3273,K3273)=1,K3273,\"\")","v":""}]
[null,null,null,null,null,null,null,null,null,"",0,{"$f":"IF(COUNTIF(K$1:K3274,K3274)=1,K3274,\"\")","v":""}]
[null,null,null,null,null,null,null,null,null,"",0,{"$f":"IF(COUNTIF(K$1:K3275,K3275)=1,K3275,\"\")","v":""}]
[null,null,null,null,null,null,null,null,null,"",0,{"$f":"IF(COUNTIF(K$1:K3276,K3276)=1,K3276,\"\")","v":""}]
[null,null,null,null,null,null,null,null,null,"",0,{"$f":"IF(COUNTIF(K$1:K3277,K3277)=1,K3277,\"\")","v":""}]
[null,null,null,null,null,null,null,null,null,"",0,{"$f":"IF(COUNTIF(K$1:K3278,K3278)=1,K3278,\"\")","v":""}]
[null,null,null,null,null,null,null,null,null,"",0,{"$f":"IF(COUNTIF(K$1:K3279,K3279)=1,K3279,\"\")","v":""}]
[null,null,null,null,null,null,null,null,null,"",0,{"$f":"IF(COUNTIF(K$1:K3280,K3280)=1,K3280,\"\")","v":""}]
[null,null,null,null,null,null,null,null,null,"",0,{"$f":"IF(COUNTIF(K$1:K3281,K3281)=1,K3281,\"\")","v":""}]
[null,null,null,null,null,null,null,null,null,"",0,{"$f":"IF(COUNTIF(K$1:K3282,K3282)=1,K3282,\"\")","v":""}]
[null,null,null,null,null,null,null,null,null,"",0,{"$f":"IF(COUNTIF(K$1:K3283,K3283)=1,K3283,\"\")","v":""}]
[null,null,null,null,null,null,null,null,null,"",0,{"$f":"IF(COUNTIF(K$1:K3284,K3284)=1,K3284,\"\")","v":""}]
[null,null,null,null,null,null,null,null,null,"",0,{"$f":"IF(COUNTIF(K$1:K3285,K3285)=1,K3285,\"\")","v":""}]
[null,null,null,null,null,null,null,null,null,"",0,{"$f":"IF(COUNTIF(K$1:K3286,K3286)=1,K3286,\"\")","v":""}]
[null,null,null,null,null,null,null,null,null,"",0,{"$f":"IF(COUNTIF(K$1:K3287,K3287)=1,K3287,\"\")","v":""}]
[null,null,null,null,null,null,null,null,null,"",0,{"$f":"IF(COUNTIF(K$1:K3288,K3288)=1,K3288,\"\")","v":""}]
[null,null,null,null,null,null,null,null,null,"",0,{"$f":"IF(COUNTIF(K$1:K3289,K3289)=1,K3289,\"\")","v":""}]
[null,null,null,null,null,null,null,null,null,"",0,{"$f":"IF(COUNTIF(K$1:K3290,K3290)=1,K3290,\"\")","v":""}]
[null,null,null,null,null,null,null,null,null,"",0,{"$f":"IF(COUNTIF(K$1:K3291,K3291)=1,K3291,\"\")","v":""}]
[null,null,null,null,null,null,null,null,null,"",0,{"$f":"IF(COUNTIF(K$1:K3292,K3292)=1,K3292,\"\")","v":""}]
[null,null,null,null,null,null,null,null,null,{"$f":"IF(D3293=\"\",\"\",IF(ISERROR(FIND(\"s\",D3293)),IF(ISERROR(FIND(\"h \",D3293)),LEFT(D3293,2)/60,   LEFT(D3293,FIND(\"h \",D3293)-1 )+LEFT(RIGHT(D3293,3),2)/60   ),0))","v":""},{"$f":"SUMIFS(J:J,C:C,C3293,A:A,\">\"&$S$4)","v":0},{"$f":"IF(COUNTIF(K$1:K3293,K3293)=1,K3293,\"\")","v":""}]
[null,null,null,null,null,null,null,null,null,"",0,{"$f":"IF(COUNTIF(K$1:K3294,K3294)=1,K3294,\"\")","v":""}]
[null,null,null,null,null,null,null,null,null,"",0,{"$f":"IF(COUNTIF(K$1:K3295,K3295)=1,K3295,\"\")","v":""}]
[null,null,null,null,null,null,null,null,null,"",0,{"$f":"IF(COUNTIF(K$1:K3296,K3296)=1,K3296,\"\")","v":""}]
[null,null,null,null,null,null,null,null,null,"",0,{"$f":"IF(COUNTIF(K$1:K3297,K3297)=1,K3297,\"\")","v":""}]
[null,null,null,null,null,null,null,null,null,"",0,{"$f":"IF(COUNTIF(K$1:K3298,K3298)=1,K3298,\"\")","v":""}]
[null,null,null,null,null,null,null,null,null,"",0,{"$f":"IF(COUNTIF(K$1:K3299,K3299)=1,K3299,\"\")","v":""}]
[null,null,null,null,null,null,null,null,null,"",0,{"$f":"IF(COUNTIF(K$1:K3300,K3300)=1,K3300,\"\")","v":""}]
[null,null,null,null,null,null,null,null,null,"",0,{"$f":"IF(COUNTIF(K$1:K3301,K3301)=1,K3301,\"\")","v":""}]
[null,null,null,null,null,null,null,null,null,"",0,{"$f":"IF(COUNTIF(K$1:K3302,K3302)=1,K3302,\"\")","v":""}]
[null,null,null,null,null,null,null,null,null,"",0,{"$f":"IF(COUNTIF(K$1:K3303,K3303)=1,K3303,\"\")","v":""}]
[null,null,null,null,null,null,null,null,null,"",0,{"$f":"IF(COUNTIF(K$1:K3304,K3304)=1,K3304,\"\")","v":""}]
[null,null,null,null,null,null,null,null,null,"",0,{"$f":"IF(COUNTIF(K$1:K3305,K3305)=1,K3305,\"\")","v":""}]
[null,null,null,null,null,null,null,null,null,"",0,{"$f":"IF(COUNTIF(K$1:K3306,K3306)=1,K3306,\"\")","v":""}]
[null,null,null,null,null,null,null,null,null,"",0,{"$f":"IF(COUNTIF(K$1:K3307,K3307)=1,K3307,\"\")","v":""}]
[null,null,null,null,null,null,null,null,null,"",0,{"$f":"IF(COUNTIF(K$1:K3308,K3308)=1,K3308,\"\")","v":""}]
[null,null,null,null,null,null,null,null,null,"",0,{"$f":"IF(COUNTIF(K$1:K3309,K3309)=1,K3309,\"\")","v":""}]
[null,null,null,null,null,null,null,null,null,"",0,{"$f":"IF(COUNTIF(K$1:K3310,K3310)=1,K3310,\"\")","v":""}]
[null,null,null,null,null,null,null,null,null,"",0,{"$f":"IF(COUNTIF(K$1:K3311,K3311)=1,K3311,\"\")","v":""}]
[null,null,null,null,null,null,null,null,null,"",0,{"$f":"IF(COUNTIF(K$1:K3312,K3312)=1,K3312,\"\")","v":""}]
[null,null,null,null,null,null,null,null,null,"",0,{"$f":"IF(COUNTIF(K$1:K3313,K3313)=1,K3313,\"\")","v":""}]
[null,null,null,null,null,null,null,null,null,"",0,{"$f":"IF(COUNTIF(K$1:K3314,K3314)=1,K3314,\"\")","v":""}]
[null,null,null,null,null,null,null,null,null,"",0,{"$f":"IF(COUNTIF(K$1:K3315,K3315)=1,K3315,\"\")","v":""}]
[null,null,null,null,null,null,null,null,null,"",0,{"$f":"IF(COUNTIF(K$1:K3316,K3316)=1,K3316,\"\")","v":""}]
[null,null,null,null,null,null,null,null,null,"",0,{"$f":"IF(COUNTIF(K$1:K3317,K3317)=1,K3317,\"\")","v":""}]
[null,null,null,null,null,null,null,null,null,"",0,{"$f":"IF(COUNTIF(K$1:K3318,K3318)=1,K3318,\"\")","v":""}]
[null,null,null,null,null,null,null,null,null,"",0,{"$f":"IF(COUNTIF(K$1:K3319,K3319)=1,K3319,\"\")","v":""}]
[null,null,null,null,null,null,null,null,null,"",0,{"$f":"IF(COUNTIF(K$1:K3320,K3320)=1,K3320,\"\")","v":""}]
[null,null,null,null,null,null,null,null,null,"",0,{"$f":"IF(COUNTIF(K$1:K3321,K3321)=1,K3321,\"\")","v":""}]
[null,null,null,null,null,null,null,null,null,"",0,{"$f":"IF(COUNTIF(K$1:K3322,K3322)=1,K3322,\"\")","v":""}]
[null,null,null,null,null,null,null,null,null,"",0,{"$f":"IF(COUNTIF(K$1:K3323,K3323)=1,K3323,\"\")","v":""}]
[null,null,null,null,null,null,null,null,null,"",0,{"$f":"IF(COUNTIF(K$1:K3324,K3324)=1,K3324,\"\")","v":""}]
[null,null,null,null,null,null,null,null,null,"",0,{"$f":"IF(COUNTIF(K$1:K3325,K3325)=1,K3325,\"\")","v":""}]
[null,null,null,null,null,null,null,null,null,"",0,{"$f":"IF(COUNTIF(K$1:K3326,K3326)=1,K3326,\"\")","v":""}]
[null,null,null,null,null,null,null,null,null,"",0,{"$f":"IF(COUNTIF(K$1:K3327,K3327)=1,K3327,\"\")","v":""}]
[null,null,null,null,null,null,null,null,null,"",0,{"$f":"IF(COUNTIF(K$1:K3328,K3328)=1,K3328,\"\")","v":""}]
[null,null,null,null,null,null,null,null,null,"",0,{"$f":"IF(COUNTIF(K$1:K3329,K3329)=1,K3329,\"\")","v":""}]
[null,null,null,null,null,null,null,null,null,"",0,{"$f":"IF(COUNTIF(K$1:K3330,K3330)=1,K3330,\"\")","v":""}]
[null,null,null,null,null,null,null,null,null,"",0,{"$f":"IF(COUNTIF(K$1:K3331,K3331)=1,K3331,\"\")","v":""}]
[null,null,null,null,null,null,null,null,null,"",0,{"$f":"IF(COUNTIF(K$1:K3332,K3332)=1,K3332,\"\")","v":""}]
[null,null,null,null,null,null,null,null,null,"",0,{"$f":"IF(COUNTIF(K$1:K3333,K3333)=1,K3333,\"\")","v":""}]
[null,null,null,null,null,null,null,null,null,"",0,{"$f":"IF(COUNTIF(K$1:K3334,K3334)=1,K3334,\"\")","v":""}]
[null,null,null,null,null,null,null,null,null,"",0,{"$f":"IF(COUNTIF(K$1:K3335,K3335)=1,K3335,\"\")","v":""}]
[null,null,null,null,null,null,null,null,null,"",0,{"$f":"IF(COUNTIF(K$1:K3336,K3336)=1,K3336,\"\")","v":""}]
[null,null,null,null,null,null,null,null,null,"",0,{"$f":"IF(COUNTIF(K$1:K3337,K3337)=1,K3337,\"\")","v":""}]
[null,null,null,null,null,null,null,null,null,"",0,{"$f":"IF(COUNTIF(K$1:K3338,K3338)=1,K3338,\"\")","v":""}]
[null,null,null,null,null,null,null,null,null,"",0,{"$f":"IF(COUNTIF(K$1:K3339,K3339)=1,K3339,\"\")","v":""}]
[null,null,null,null,null,null,null,null,null,"",0,{"$f":"IF(COUNTIF(K$1:K3340,K3340)=1,K3340,\"\")","v":""}]
[null,null,null,null,null,null,null,null,null,"",0,{"$f":"IF(COUNTIF(K$1:K3341,K3341)=1,K3341,\"\")","v":""}]
[null,null,null,null,null,null,null,null,null,"",0,{"$f":"IF(COUNTIF(K$1:K3342,K3342)=1,K3342,\"\")","v":""}]
[null,null,null,null,null,null,null,null,null,"",0,{"$f":"IF(COUNTIF(K$1:K3343,K3343)=1,K3343,\"\")","v":""}]
[null,null,null,null,null,null,null,null,null,"",0,{"$f":"IF(COUNTIF(K$1:K3344,K3344)=1,K3344,\"\")","v":""}]
[null,null,null,null,null,null,null,null,null,"",0,{"$f":"IF(COUNTIF(K$1:K3345,K3345)=1,K3345,\"\")","v":""}]
[null,null,null,null,null,null,null,null,null,"",0,{"$f":"IF(COUNTIF(K$1:K3346,K3346)=1,K3346,\"\")","v":""}]
[null,null,null,null,null,null,null,null,null,"",0,{"$f":"IF(COUNTIF(K$1:K3347,K3347)=1,K3347,\"\")","v":""}]
[null,null,null,null,null,null,null,null,null,"",0,{"$f":"IF(COUNTIF(K$1:K3348,K3348)=1,K3348,\"\")","v":""}]
[null,null,null,null,null,null,null,null,null,"",0,{"$f":"IF(COUNTIF(K$1:K3349,K3349)=1,K3349,\"\")","v":""}]
[null,null,null,null,null,null,null,null,null,"",0,{"$f":"IF(COUNTIF(K$1:K3350,K3350)=1,K3350,\"\")","v":""}]
[null,null,null,null,null,null,null,null,null,"",0,{"$f":"IF(COUNTIF(K$1:K3351,K3351)=1,K3351,\"\")","v":""}]
[null,null,null,null,null,null,null,null,null,"",0,{"$f":"IF(COUNTIF(K$1:K3352,K3352)=1,K3352,\"\")","v":""}]
[null,null,null,null,null,null,null,null,null,"",0,{"$f":"IF(COUNTIF(K$1:K3353,K3353)=1,K3353,\"\")","v":""}]
[null,null,null,null,null,null,null,null,null,"",0,{"$f":"IF(COUNTIF(K$1:K3354,K3354)=1,K3354,\"\")","v":""}]
[null,null,null,null,null,null,null,null,null,"",0,{"$f":"IF(COUNTIF(K$1:K3355,K3355)=1,K3355,\"\")","v":""}]
[null,null,null,null,null,null,null,null,null,"",0,{"$f":"IF(COUNTIF(K$1:K3356,K3356)=1,K3356,\"\")","v":""}]
[null,null,null,null,null,null,null,null,null,{"$f":"IF(D3357=\"\",\"\",IF(ISERROR(FIND(\"s\",D3357)),IF(ISERROR(FIND(\"h \",D3357)),LEFT(D3357,2)/60,   LEFT(D3357,FIND(\"h \",D3357)-1 )+LEFT(RIGHT(D3357,3),2)/60   ),0))","v":""},{"$f":"SUMIFS(J:J,C:C,C3357,A:A,\">\"&$S$4)","v":0},{"$f":"IF(COUNTIF(K$1:K3357,K3357)=1,K3357,\"\")","v":""}]
[null,null,null,null,null,null,null,null,null,"",0,{"$f":"IF(COUNTIF(K$1:K3358,K3358)=1,K3358,\"\")","v":""}]
[null,null,null,null,null,null,null,null,null,"",0,{"$f":"IF(COUNTIF(K$1:K3359,K3359)=1,K3359,\"\")","v":""}]
[null,null,null,null,null,null,null,null,null,"",0,{"$f":"IF(COUNTIF(K$1:K3360,K3360)=1,K3360,\"\")","v":""}]
[null,null,null,null,null,null,null,null,null,"",0,{"$f":"IF(COUNTIF(K$1:K3361,K3361)=1,K3361,\"\")","v":""}]
[null,null,null,null,null,null,null,null,null,"",0,{"$f":"IF(COUNTIF(K$1:K3362,K3362)=1,K3362,\"\")","v":""}]
[null,null,null,null,null,null,null,null,null,"",0,{"$f":"IF(COUNTIF(K$1:K3363,K3363)=1,K3363,\"\")","v":""}]
[null,null,null,null,null,null,null,null,null,"",0,{"$f":"IF(COUNTIF(K$1:K3364,K3364)=1,K3364,\"\")","v":""}]
[null,null,null,null,null,null,null,null,null,"",0,{"$f":"IF(COUNTIF(K$1:K3365,K3365)=1,K3365,\"\")","v":""}]
[null,null,null,null,null,null,null,null,null,"",0,{"$f":"IF(COUNTIF(K$1:K3366,K3366)=1,K3366,\"\")","v":""}]
[null,null,null,null,null,null,null,null,null,"",0,{"$f":"IF(COUNTIF(K$1:K3367,K3367)=1,K3367,\"\")","v":""}]
[null,null,null,null,null,null,null,null,null,"",0,{"$f":"IF(COUNTIF(K$1:K3368,K3368)=1,K3368,\"\")","v":""}]
[null,null,null,null,null,null,null,null,null,"",0,{"$f":"IF(COUNTIF(K$1:K3369,K3369)=1,K3369,\"\")","v":""}]
[null,null,null,null,null,null,null,null,null,"",0,{"$f":"IF(COUNTIF(K$1:K3370,K3370)=1,K3370,\"\")","v":""}]
[null,null,null,null,null,null,null,null,null,"",0,{"$f":"IF(COUNTIF(K$1:K3371,K3371)=1,K3371,\"\")","v":""}]
[null,null,null,null,null,null,null,null,null,"",0,{"$f":"IF(COUNTIF(K$1:K3372,K3372)=1,K3372,\"\")","v":""}]
[null,null,null,null,null,null,null,null,null,"",0,{"$f":"IF(COUNTIF(K$1:K3373,K3373)=1,K3373,\"\")","v":""}]
[null,null,null,null,null,null,null,null,null,"",0,{"$f":"IF(COUNTIF(K$1:K3374,K3374)=1,K3374,\"\")","v":""}]
[null,null,null,null,null,null,null,null,null,"",0,{"$f":"IF(COUNTIF(K$1:K3375,K3375)=1,K3375,\"\")","v":""}]
[null,null,null,null,null,null,null,null,null,"",0,{"$f":"IF(COUNTIF(K$1:K3376,K3376)=1,K3376,\"\")","v":""}]
[null,null,null,null,null,null,null,null,null,"",0,{"$f":"IF(COUNTIF(K$1:K3377,K3377)=1,K3377,\"\")","v":""}]
[null,null,null,null,null,null,null,null,null,"",0,{"$f":"IF(COUNTIF(K$1:K3378,K3378)=1,K3378,\"\")","v":""}]
[null,null,null,null,null,null,null,null,null,"",0,{"$f":"IF(COUNTIF(K$1:K3379,K3379)=1,K3379,\"\")","v":""}]
[null,null,null,null,null,null,null,null,null,"",0,{"$f":"IF(COUNTIF(K$1:K3380,K3380)=1,K3380,\"\")","v":""}]
[null,null,null,null,null,null,null,null,null,"",0,{"$f":"IF(COUNTIF(K$1:K3381,K3381)=1,K3381,\"\")","v":""}]
[null,null,null,null,null,null,null,null,null,"",0,{"$f":"IF(COUNTIF(K$1:K3382,K3382)=1,K3382,\"\")","v":""}]
[null,null,null,null,null,null,null,null,null,"",0,{"$f":"IF(COUNTIF(K$1:K3383,K3383)=1,K3383,\"\")","v":""}]
[null,null,null,null,null,null,null,null,null,"",0,{"$f":"IF(COUNTIF(K$1:K3384,K3384)=1,K3384,\"\")","v":""}]
[null,null,null,null,null,null,null,null,null,"",0,{"$f":"IF(COUNTIF(K$1:K3385,K3385)=1,K3385,\"\")","v":""}]
[null,null,null,null,null,null,null,null,null,"",0,{"$f":"IF(COUNTIF(K$1:K3386,K3386)=1,K3386,\"\")","v":""}]
[null,null,null,null,null,null,null,null,null,"",0,{"$f":"IF(COUNTIF(K$1:K3387,K3387)=1,K3387,\"\")","v":""}]
[null,null,null,null,null,null,null,null,null,"",0,{"$f":"IF(COUNTIF(K$1:K3388,K3388)=1,K3388,\"\")","v":""}]
[null,null,null,null,null,null,null,null,null,"",0,{"$f":"IF(COUNTIF(K$1:K3389,K3389)=1,K3389,\"\")","v":""}]
[null,null,null,null,null,null,null,null,null,"",0,{"$f":"IF(COUNTIF(K$1:K3390,K3390)=1,K3390,\"\")","v":""}]
[null,null,null,null,null,null,null,null,null,"",0,{"$f":"IF(COUNTIF(K$1:K3391,K3391)=1,K3391,\"\")","v":""}]
[null,null,null,null,null,null,null,null,null,"",0,{"$f":"IF(COUNTIF(K$1:K3392,K3392)=1,K3392,\"\")","v":""}]
[null,null,null,null,null,null,null,null,null,"",0,{"$f":"IF(COUNTIF(K$1:K3393,K3393)=1,K3393,\"\")","v":""}]
[null,null,null,null,null,null,null,null,null,"",0,{"$f":"IF(COUNTIF(K$1:K3394,K3394)=1,K3394,\"\")","v":""}]
[null,null,null,null,null,null,null,null,null,"",0,{"$f":"IF(COUNTIF(K$1:K3395,K3395)=1,K3395,\"\")","v":""}]
[null,null,null,null,null,null,null,null,null,"",0,{"$f":"IF(COUNTIF(K$1:K3396,K3396)=1,K3396,\"\")","v":""}]
[null,null,null,null,null,null,null,null,null,"",0,{"$f":"IF(COUNTIF(K$1:K3397,K3397)=1,K3397,\"\")","v":""}]
[null,null,null,null,null,null,null,null,null,"",0,{"$f":"IF(COUNTIF(K$1:K3398,K3398)=1,K3398,\"\")","v":""}]
[null,null,null,null,null,null,null,null,null,"",0,{"$f":"IF(COUNTIF(K$1:K3399,K3399)=1,K3399,\"\")","v":""}]
[null,null,null,null,null,null,null,null,null,"",0,{"$f":"IF(COUNTIF(K$1:K3400,K3400)=1,K3400,\"\")","v":""}]
[null,null,null,null,null,null,null,null,null,"",0,{"$f":"IF(COUNTIF(K$1:K3401,K3401)=1,K3401,\"\")","v":""}]
[null,null,null,null,null,null,null,null,null,"",0,{"$f":"IF(COUNTIF(K$1:K3402,K3402)=1,K3402,\"\")","v":""}]
[null,null,null,null,null,null,null,null,null,"",0,{"$f":"IF(COUNTIF(K$1:K3403,K3403)=1,K3403,\"\")","v":""}]
[null,null,null,null,null,null,null,null,null,"",0,{"$f":"IF(COUNTIF(K$1:K3404,K3404)=1,K3404,\"\")","v":""}]
[null,null,null,null,null,null,null,null,null,"",0,{"$f":"IF(COUNTIF(K$1:K3405,K3405)=1,K3405,\"\")","v":""}]
[null,null,null,null,null,null,null,null,null,"",0,{"$f":"IF(COUNTIF(K$1:K3406,K3406)=1,K3406,\"\")","v":""}]
[null,null,null,null,null,null,null,null,null,"",0,{"$f":"IF(COUNTIF(K$1:K3407,K3407)=1,K3407,\"\")","v":""}]
[null,null,null,null,null,null,null,null,null,"",0,{"$f":"IF(COUNTIF(K$1:K3408,K3408)=1,K3408,\"\")","v":""}]
[null,null,null,null,null,null,null,null,null,"",0,{"$f":"IF(COUNTIF(K$1:K3409,K3409)=1,K3409,\"\")","v":""}]
[null,null,null,null,null,null,null,null,null,"",0,{"$f":"IF(COUNTIF(K$1:K3410,K3410)=1,K3410,\"\")","v":""}]
[null,null,null,null,null,null,null,null,null,"",0,{"$f":"IF(COUNTIF(K$1:K3411,K3411)=1,K3411,\"\")","v":""}]
[null,null,null,null,null,null,null,null,null,"",0,{"$f":"IF(COUNTIF(K$1:K3412,K3412)=1,K3412,\"\")","v":""}]
[null,null,null,null,null,null,null,null,null,"",0,{"$f":"IF(COUNTIF(K$1:K3413,K3413)=1,K3413,\"\")","v":""}]
[null,null,null,null,null,null,null,null,null,"",0,{"$f":"IF(COUNTIF(K$1:K3414,K3414)=1,K3414,\"\")","v":""}]
[null,null,null,null,null,null,null,null,null,"",0,{"$f":"IF(COUNTIF(K$1:K3415,K3415)=1,K3415,\"\")","v":""}]
[null,null,null,null,null,null,null,null,null,"",0,{"$f":"IF(COUNTIF(K$1:K3416,K3416)=1,K3416,\"\")","v":""}]
[null,null,null,null,null,null,null,null,null,"",0,{"$f":"IF(COUNTIF(K$1:K3417,K3417)=1,K3417,\"\")","v":""}]
[null,null,null,null,null,null,null,null,null,"",0,{"$f":"IF(COUNTIF(K$1:K3418,K3418)=1,K3418,\"\")","v":""}]
[null,null,null,null,null,null,null,null,null,"",0,{"$f":"IF(COUNTIF(K$1:K3419,K3419)=1,K3419,\"\")","v":""}]
[null,null,null,null,null,null,null,null,null,"",0,{"$f":"IF(COUNTIF(K$1:K3420,K3420)=1,K3420,\"\")","v":""}]
[null,null,null,null,null,null,null,null,null,{"$f":"IF(D3421=\"\",\"\",IF(ISERROR(FIND(\"s\",D3421)),IF(ISERROR(FIND(\"h \",D3421)),LEFT(D3421,2)/60,   LEFT(D3421,FIND(\"h \",D3421)-1 )+LEFT(RIGHT(D3421,3),2)/60   ),0))","v":""},{"$f":"SUMIFS(J:J,C:C,C3421,A:A,\">\"&$S$4)","v":0},{"$f":"IF(COUNTIF(K$1:K3421,K3421)=1,K3421,\"\")","v":""}]
[null,null,null,null,null,null,null,null,null,"",0,{"$f":"IF(COUNTIF(K$1:K3422,K3422)=1,K3422,\"\")","v":""}]
[null,null,null,null,null,null,null,null,null,"",0,{"$f":"IF(COUNTIF(K$1:K3423,K3423)=1,K3423,\"\")","v":""}]
[null,null,null,null,null,null,null,null,null,"",0,{"$f":"IF(COUNTIF(K$1:K3424,K3424)=1,K3424,\"\")","v":""}]
[null,null,null,null,null,null,null,null,null,"",0,{"$f":"IF(COUNTIF(K$1:K3425,K3425)=1,K3425,\"\")","v":""}]
[null,null,null,null,null,null,null,null,null,"",0,{"$f":"IF(COUNTIF(K$1:K3426,K3426)=1,K3426,\"\")","v":""}]
[null,null,null,null,null,null,null,null,null,"",0,{"$f":"IF(COUNTIF(K$1:K3427,K3427)=1,K3427,\"\")","v":""}]
[null,null,null,null,null,null,null,null,null,"",0,{"$f":"IF(COUNTIF(K$1:K3428,K3428)=1,K3428,\"\")","v":""}]
[null,null,null,null,null,null,null,null,null,"",0,{"$f":"IF(COUNTIF(K$1:K3429,K3429)=1,K3429,\"\")","v":""}]
[null,null,null,null,null,null,null,null,null,"",0,{"$f":"IF(COUNTIF(K$1:K3430,K3430)=1,K3430,\"\")","v":""}]
[null,null,null,null,null,null,null,null,null,"",0,{"$f":"IF(COUNTIF(K$1:K3431,K3431)=1,K3431,\"\")","v":""}]
[null,null,null,null,null,null,null,null,null,"",0,{"$f":"IF(COUNTIF(K$1:K3432,K3432)=1,K3432,\"\")","v":""}]
[null,null,null,null,null,null,null,null,null,"",0,{"$f":"IF(COUNTIF(K$1:K3433,K3433)=1,K3433,\"\")","v":""}]
[null,null,null,null,null,null,null,null,null,"",0,{"$f":"IF(COUNTIF(K$1:K3434,K3434)=1,K3434,\"\")","v":""}]
[null,null,null,null,null,null,null,null,null,"",0,{"$f":"IF(COUNTIF(K$1:K3435,K3435)=1,K3435,\"\")","v":""}]
[null,null,null,null,null,null,null,null,null,"",0,{"$f":"IF(COUNTIF(K$1:K3436,K3436)=1,K3436,\"\")","v":""}]
[null,null,null,null,null,null,null,null,null,"",0,{"$f":"IF(COUNTIF(K$1:K3437,K3437)=1,K3437,\"\")","v":""}]
[null,null,null,null,null,null,null,null,null,"",0,{"$f":"IF(COUNTIF(K$1:K3438,K3438)=1,K3438,\"\")","v":""}]
[null,null,null,null,null,null,null,null,null,"",0,{"$f":"IF(COUNTIF(K$1:K3439,K3439)=1,K3439,\"\")","v":""}]
[null,null,null,null,null,null,null,null,null,"",0,{"$f":"IF(COUNTIF(K$1:K3440,K3440)=1,K3440,\"\")","v":""}]
[null,null,null,null,null,null,null,null,null,"",0,{"$f":"IF(COUNTIF(K$1:K3441,K3441)=1,K3441,\"\")","v":""}]
[null,null,null,null,null,null,null,null,null,"",0,{"$f":"IF(COUNTIF(K$1:K3442,K3442)=1,K3442,\"\")","v":""}]
[null,null,null,null,null,null,null,null,null,"",0,{"$f":"IF(COUNTIF(K$1:K3443,K3443)=1,K3443,\"\")","v":""}]
[null,null,null,null,null,null,null,null,null,"",0,{"$f":"IF(COUNTIF(K$1:K3444,K3444)=1,K3444,\"\")","v":""}]
[null,null,null,null,null,null,null,null,null,"",0,{"$f":"IF(COUNTIF(K$1:K3445,K3445)=1,K3445,\"\")","v":""}]
[null,null,null,null,null,null,null,null,null,"",0,{"$f":"IF(COUNTIF(K$1:K3446,K3446)=1,K3446,\"\")","v":""}]
[null,null,null,null,null,null,null,null,null,"",0,{"$f":"IF(COUNTIF(K$1:K3447,K3447)=1,K3447,\"\")","v":""}]
[null,null,null,null,null,null,null,null,null,"",0,{"$f":"IF(COUNTIF(K$1:K3448,K3448)=1,K3448,\"\")","v":""}]
[null,null,null,null,null,null,null,null,null,"",0,{"$f":"IF(COUNTIF(K$1:K3449,K3449)=1,K3449,\"\")","v":""}]
[null,null,null,null,null,null,null,null,null,"",0,{"$f":"IF(COUNTIF(K$1:K3450,K3450)=1,K3450,\"\")","v":""}]
[null,null,null,null,null,null,null,null,null,"",0,{"$f":"IF(COUNTIF(K$1:K3451,K3451)=1,K3451,\"\")","v":""}]
[null,null,null,null,null,null,null,null,null,"",0,{"$f":"IF(COUNTIF(K$1:K3452,K3452)=1,K3452,\"\")","v":""}]
[null,null,null,null,null,null,null,null,null,"",0,{"$f":"IF(COUNTIF(K$1:K3453,K3453)=1,K3453,\"\")","v":""}]
[null,null,null,null,null,null,null,null,null,"",0,{"$f":"IF(COUNTIF(K$1:K3454,K3454)=1,K3454,\"\")","v":""}]
[null,null,null,null,null,null,null,null,null,"",0,{"$f":"IF(COUNTIF(K$1:K3455,K3455)=1,K3455,\"\")","v":""}]
[null,null,null,null,null,null,null,null,null,"",0,{"$f":"IF(COUNTIF(K$1:K3456,K3456)=1,K3456,\"\")","v":""}]
[null,null,null,null,null,null,null,null,null,"",0,{"$f":"IF(COUNTIF(K$1:K3457,K3457)=1,K3457,\"\")","v":""}]
[null,null,null,null,null,null,null,null,null,"",0,{"$f":"IF(COUNTIF(K$1:K3458,K3458)=1,K3458,\"\")","v":""}]
[null,null,null,null,null,null,null,null,null,"",0,{"$f":"IF(COUNTIF(K$1:K3459,K3459)=1,K3459,\"\")","v":""}]
[null,null,null,null,null,null,null,null,null,"",0,{"$f":"IF(COUNTIF(K$1:K3460,K3460)=1,K3460,\"\")","v":""}]
[null,null,null,null,null,null,null,null,null,"",0,{"$f":"IF(COUNTIF(K$1:K3461,K3461)=1,K3461,\"\")","v":""}]
[null,null,null,null,null,null,null,null,null,"",0,{"$f":"IF(COUNTIF(K$1:K3462,K3462)=1,K3462,\"\")","v":""}]
[null,null,null,null,null,null,null,null,null,"",0,{"$f":"IF(COUNTIF(K$1:K3463,K3463)=1,K3463,\"\")","v":""}]
[null,null,null,null,null,null,null,null,null,"",0,{"$f":"IF(COUNTIF(K$1:K3464,K3464)=1,K3464,\"\")","v":""}]
[null,null,null,null,null,null,null,null,null,"",0,{"$f":"IF(COUNTIF(K$1:K3465,K3465)=1,K3465,\"\")","v":""}]
[null,null,null,null,null,null,null,null,null,"",0,{"$f":"IF(COUNTIF(K$1:K3466,K3466)=1,K3466,\"\")","v":""}]
[null,null,null,null,null,null,null,null,null,"",0,{"$f":"IF(COUNTIF(K$1:K3467,K3467)=1,K3467,\"\")","v":""}]
[null,null,null,null,null,null,null,null,null,"",0,{"$f":"IF(COUNTIF(K$1:K3468,K3468)=1,K3468,\"\")","v":""}]
[null,null,null,null,null,null,null,null,null,"",0,{"$f":"IF(COUNTIF(K$1:K3469,K3469)=1,K3469,\"\")","v":""}]
[null,null,null,null,null,null,null,null,null,"",0,{"$f":"IF(COUNTIF(K$1:K3470,K3470)=1,K3470,\"\")","v":""}]
[null,null,null,null,null,null,null,null,null,"",0,{"$f":"IF(COUNTIF(K$1:K3471,K3471)=1,K3471,\"\")","v":""}]
[null,null,null,null,null,null,null,null,null,"",0,{"$f":"IF(COUNTIF(K$1:K3472,K3472)=1,K3472,\"\")","v":""}]
[null,null,null,null,null,null,null,null,null,"",0,{"$f":"IF(COUNTIF(K$1:K3473,K3473)=1,K3473,\"\")","v":""}]
[null,null,null,null,null,null,null,null,null,"",0,{"$f":"IF(COUNTIF(K$1:K3474,K3474)=1,K3474,\"\")","v":""}]
[null,null,null,null,null,null,null,null,null,"",0,{"$f":"IF(COUNTIF(K$1:K3475,K3475)=1,K3475,\"\")","v":""}]
[null,null,null,null,null,null,null,null,null,"",0,{"$f":"IF(COUNTIF(K$1:K3476,K3476)=1,K3476,\"\")","v":""}]
[null,null,null,null,null,null,null,null,null,"",0,{"$f":"IF(COUNTIF(K$1:K3477,K3477)=1,K3477,\"\")","v":""}]
[null,null,null,null,null,null,null,null,null,"",0,{"$f":"IF(COUNTIF(K$1:K3478,K3478)=1,K3478,\"\")","v":""}]
[null,null,null,null,null,null,null,null,null,"",0,{"$f":"IF(COUNTIF(K$1:K3479,K3479)=1,K3479,\"\")","v":""}]
[null,null,null,null,null,null,null,null,null,"",0,{"$f":"IF(COUNTIF(K$1:K3480,K3480)=1,K3480,\"\")","v":""}]
[null,null,null,null,null,null,null,null,null,"",0,{"$f":"IF(COUNTIF(K$1:K3481,K3481)=1,K3481,\"\")","v":""}]
[null,null,null,null,null,null,null,null,null,"",0,{"$f":"IF(COUNTIF(K$1:K3482,K3482)=1,K3482,\"\")","v":""}]
[null,null,null,null,null,null,null,null,null,"",0,{"$f":"IF(COUNTIF(K$1:K3483,K3483)=1,K3483,\"\")","v":""}]
[null,null,null,null,null,null,null,null,null,"",0,{"$f":"IF(COUNTIF(K$1:K3484,K3484)=1,K3484,\"\")","v":""}]
[null,null,null,null,null,null,null,null,null,{"$f":"IF(D3485=\"\",\"\",IF(ISERROR(FIND(\"s\",D3485)),IF(ISERROR(FIND(\"h \",D3485)),LEFT(D3485,2)/60,   LEFT(D3485,FIND(\"h \",D3485)-1 )+LEFT(RIGHT(D3485,3),2)/60   ),0))","v":""},{"$f":"SUMIFS(J:J,C:C,C3485,A:A,\">\"&$S$4)","v":0},{"$f":"IF(COUNTIF(K$1:K3485,K3485)=1,K3485,\"\")","v":""}]
[null,null,null,null,null,null,null,null,null,"",0,{"$f":"IF(COUNTIF(K$1:K3486,K3486)=1,K3486,\"\")","v":""}]
[null,null,null,null,null,null,null,null,null,"",0,{"$f":"IF(COUNTIF(K$1:K3487,K3487)=1,K3487,\"\")","v":""}]
[null,null,null,null,null,null,null,null,null,"",0,{"$f":"IF(COUNTIF(K$1:K3488,K3488)=1,K3488,\"\")","v":""}]
[null,null,null,null,null,null,null,null,null,"",0,{"$f":"IF(COUNTIF(K$1:K3489,K3489)=1,K3489,\"\")","v":""}]
[null,null,null,null,null,null,null,null,null,"",0,{"$f":"IF(COUNTIF(K$1:K3490,K3490)=1,K3490,\"\")","v":""}]
[null,null,null,null,null,null,null,null,null,"",0,{"$f":"IF(COUNTIF(K$1:K3491,K3491)=1,K3491,\"\")","v":""}]
[null,null,null,null,null,null,null,null,null,"",0,{"$f":"IF(COUNTIF(K$1:K3492,K3492)=1,K3492,\"\")","v":""}]
[null,null,null,null,null,null,null,null,null,"",0,{"$f":"IF(COUNTIF(K$1:K3493,K3493)=1,K3493,\"\")","v":""}]
[null,null,null,null,null,null,null,null,null,"",0,{"$f":"IF(COUNTIF(K$1:K3494,K3494)=1,K3494,\"\")","v":""}]
[null,null,null,null,null,null,null,null,null,"",0,{"$f":"IF(COUNTIF(K$1:K3495,K3495)=1,K3495,\"\")","v":""}]
[null,null,null,null,null,null,null,null,null,"",0,{"$f":"IF(COUNTIF(K$1:K3496,K3496)=1,K3496,\"\")","v":""}]
[null,null,null,null,null,null,null,null,null,"",0,{"$f":"IF(COUNTIF(K$1:K3497,K3497)=1,K3497,\"\")","v":""}]
[null,null,null,null,null,null,null,null,null,"",0,{"$f":"IF(COUNTIF(K$1:K3498,K3498)=1,K3498,\"\")","v":""}]
[null,null,null,null,null,null,null,null,null,"",0,{"$f":"IF(COUNTIF(K$1:K3499,K3499)=1,K3499,\"\")","v":""}]
[null,null,null,null,null,null,null,null,null,"",0,{"$f":"IF(COUNTIF(K$1:K3500,K3500)=1,K3500,\"\")","v":""}]
[null,null,null,null,null,null,null,null,null,"",0,{"$f":"IF(COUNTIF(K$1:K3501,K3501)=1,K3501,\"\")","v":""}]
[null,null,null,null,null,null,null,null,null,"",0,{"$f":"IF(COUNTIF(K$1:K3502,K3502)=1,K3502,\"\")","v":""}]
[null,null,null,null,null,null,null,null,null,"",0,{"$f":"IF(COUNTIF(K$1:K3503,K3503)=1,K3503,\"\")","v":""}]
[null,null,null,null,null,null,null,null,null,"",0,{"$f":"IF(COUNTIF(K$1:K3504,K3504)=1,K3504,\"\")","v":""}]
[null,null,null,null,null,null,null,null,null,"",0,{"$f":"IF(COUNTIF(K$1:K3505,K3505)=1,K3505,\"\")","v":""}]
[null,null,null,null,null,null,null,null,null,"",0,{"$f":"IF(COUNTIF(K$1:K3506,K3506)=1,K3506,\"\")","v":""}]
[null,null,null,null,null,null,null,null,null,"",0,{"$f":"IF(COUNTIF(K$1:K3507,K3507)=1,K3507,\"\")","v":""}]
[null,null,null,null,null,null,null,null,null,"",0,{"$f":"IF(COUNTIF(K$1:K3508,K3508)=1,K3508,\"\")","v":""}]
[null,null,null,null,null,null,null,null,null,"",0,{"$f":"IF(COUNTIF(K$1:K3509,K3509)=1,K3509,\"\")","v":""}]
[null,null,null,null,null,null,null,null,null,"",0,{"$f":"IF(COUNTIF(K$1:K3510,K3510)=1,K3510,\"\")","v":""}]
[null,null,null,null,null,null,null,null,null,"",0,{"$f":"IF(COUNTIF(K$1:K3511,K3511)=1,K3511,\"\")","v":""}]
[null,null,null,null,null,null,null,null,null,"",0,{"$f":"IF(COUNTIF(K$1:K3512,K3512)=1,K3512,\"\")","v":""}]
[null,null,null,null,null,null,null,null,null,"",0,{"$f":"IF(COUNTIF(K$1:K3513,K3513)=1,K3513,\"\")","v":""}]
[null,null,null,null,null,null,null,null,null,"",0,{"$f":"IF(COUNTIF(K$1:K3514,K3514)=1,K3514,\"\")","v":""}]
[null,null,null,null,null,null,null,null,null,"",0,{"$f":"IF(COUNTIF(K$1:K3515,K3515)=1,K3515,\"\")","v":""}]
[null,null,null,null,null,null,null,null,null,"",0,{"$f":"IF(COUNTIF(K$1:K3516,K3516)=1,K3516,\"\")","v":""}]
[null,null,null,null,null,null,null,null,null,"",0,{"$f":"IF(COUNTIF(K$1:K3517,K3517)=1,K3517,\"\")","v":""}]
[null,null,null,null,null,null,null,null,null,"",0,{"$f":"IF(COUNTIF(K$1:K3518,K3518)=1,K3518,\"\")","v":""}]
[null,null,null,null,null,null,null,null,null,"",0,{"$f":"IF(COUNTIF(K$1:K3519,K3519)=1,K3519,\"\")","v":""}]
[null,null,null,null,null,null,null,null,null,"",0,{"$f":"IF(COUNTIF(K$1:K3520,K3520)=1,K3520,\"\")","v":""}]
[null,null,null,null,null,null,null,null,null,"",0,{"$f":"IF(COUNTIF(K$1:K3521,K3521)=1,K3521,\"\")","v":""}]
[null,null,null,null,null,null,null,null,null,"",0,{"$f":"IF(COUNTIF(K$1:K3522,K3522)=1,K3522,\"\")","v":""}]
[null,null,null,null,null,null,null,null,null,"",0,{"$f":"IF(COUNTIF(K$1:K3523,K3523)=1,K3523,\"\")","v":""}]
[null,null,null,null,null,null,null,null,null,"",0,{"$f":"IF(COUNTIF(K$1:K3524,K3524)=1,K3524,\"\")","v":""}]
[null,null,null,null,null,null,null,null,null,"",0,{"$f":"IF(COUNTIF(K$1:K3525,K3525)=1,K3525,\"\")","v":""}]
[null,null,null,null,null,null,null,null,null,"",0,{"$f":"IF(COUNTIF(K$1:K3526,K3526)=1,K3526,\"\")","v":""}]
[null,null,null,null,null,null,null,null,null,"",0,{"$f":"IF(COUNTIF(K$1:K3527,K3527)=1,K3527,\"\")","v":""}]
[null,null,null,null,null,null,null,null,null,"",0,{"$f":"IF(COUNTIF(K$1:K3528,K3528)=1,K3528,\"\")","v":""}]
[null,null,null,null,null,null,null,null,null,"",0,{"$f":"IF(COUNTIF(K$1:K3529,K3529)=1,K3529,\"\")","v":""}]
[null,null,null,null,null,null,null,null,null,"",0,{"$f":"IF(COUNTIF(K$1:K3530,K3530)=1,K3530,\"\")","v":""}]
[null,null,null,null,null,null,null,null,null,"",0,{"$f":"IF(COUNTIF(K$1:K3531,K3531)=1,K3531,\"\")","v":""}]
[null,null,null,null,null,null,null,null,null,"",0,{"$f":"IF(COUNTIF(K$1:K3532,K3532)=1,K3532,\"\")","v":""}]
[null,null,null,null,null,null,null,null,null,"",0,{"$f":"IF(COUNTIF(K$1:K3533,K3533)=1,K3533,\"\")","v":""}]
[null,null,null,null,null,null,null,null,null,"",0,{"$f":"IF(COUNTIF(K$1:K3534,K3534)=1,K3534,\"\")","v":""}]
[null,null,null,null,null,null,null,null,null,"",0,{"$f":"IF(COUNTIF(K$1:K3535,K3535)=1,K3535,\"\")","v":""}]
[null,null,null,null,null,null,null,null,null,"",0,{"$f":"IF(COUNTIF(K$1:K3536,K3536)=1,K3536,\"\")","v":""}]
[null,null,null,null,null,null,null,null,null,"",0,{"$f":"IF(COUNTIF(K$1:K3537,K3537)=1,K3537,\"\")","v":""}]
[null,null,null,null,null,null,null,null,null,"",0,{"$f":"IF(COUNTIF(K$1:K3538,K3538)=1,K3538,\"\")","v":""}]
[null,null,null,null,null,null,null,null,null,"",0,{"$f":"IF(COUNTIF(K$1:K3539,K3539)=1,K3539,\"\")","v":""}]
[null,null,null,null,null,null,null,null,null,"",0,{"$f":"IF(COUNTIF(K$1:K3540,K3540)=1,K3540,\"\")","v":""}]
[null,null,null,null,null,null,null,null,null,"",0,{"$f":"IF(COUNTIF(K$1:K3541,K3541)=1,K3541,\"\")","v":""}]
[null,null,null,null,null,null,null,null,null,"",0,{"$f":"IF(COUNTIF(K$1:K3542,K3542)=1,K3542,\"\")","v":""}]
[null,null,null,null,null,null,null,null,null,"",0,{"$f":"IF(COUNTIF(K$1:K3543,K3543)=1,K3543,\"\")","v":""}]
[null,null,null,null,null,null,null,null,null,"",0,{"$f":"IF(COUNTIF(K$1:K3544,K3544)=1,K3544,\"\")","v":""}]
[null,null,null,null,null,null,null,null,null,"",0,{"$f":"IF(COUNTIF(K$1:K3545,K3545)=1,K3545,\"\")","v":""}]
[null,null,null,null,null,null,null,null,null,"",0,{"$f":"IF(COUNTIF(K$1:K3546,K3546)=1,K3546,\"\")","v":""}]
[null,null,null,null,null,null,null,null,null,"",0,{"$f":"IF(COUNTIF(K$1:K3547,K3547)=1,K3547,\"\")","v":""}]
[null,null,null,null,null,null,null,null,null,"",0,{"$f":"IF(COUNTIF(K$1:K3548,K3548)=1,K3548,\"\")","v":""}]
[null,null,null,null,null,null,null,null,null,{"$f":"IF(D3549=\"\",\"\",IF(ISERROR(FIND(\"s\",D3549)),IF(ISERROR(FIND(\"h \",D3549)),LEFT(D3549,2)/60,   LEFT(D3549,FIND(\"h \",D3549)-1 )+LEFT(RIGHT(D3549,3),2)/60   ),0))","v":""},{"$f":"SUMIFS(J:J,C:C,C3549,A:A,\">\"&$S$4)","v":0},{"$f":"IF(COUNTIF(K$1:K3549,K3549)=1,K3549,\"\")","v":""}]
[null,null,null,null,null,null,null,null,null,"",0,{"$f":"IF(COUNTIF(K$1:K3550,K3550)=1,K3550,\"\")","v":""}]
[null,null,null,null,null,null,null,null,null,"",0,{"$f":"IF(COUNTIF(K$1:K3551,K3551)=1,K3551,\"\")","v":""}]
[null,null,null,null,null,null,null,null,null,"",0,{"$f":"IF(COUNTIF(K$1:K3552,K3552)=1,K3552,\"\")","v":""}]
[null,null,null,null,null,null,null,null,null,"",0,{"$f":"IF(COUNTIF(K$1:K3553,K3553)=1,K3553,\"\")","v":""}]
[null,null,null,null,null,null,null,null,null,"",0,{"$f":"IF(COUNTIF(K$1:K3554,K3554)=1,K3554,\"\")","v":""}]
[null,null,null,null,null,null,null,null,null,"",0,{"$f":"IF(COUNTIF(K$1:K3555,K3555)=1,K3555,\"\")","v":""}]
[null,null,null,null,null,null,null,null,null,"",0,{"$f":"IF(COUNTIF(K$1:K3556,K3556)=1,K3556,\"\")","v":""}]
[null,null,null,null,null,null,null,null,null,"",0,{"$f":"IF(COUNTIF(K$1:K3557,K3557)=1,K3557,\"\")","v":""}]
[null,null,null,null,null,null,null,null,null,"",0,{"$f":"IF(COUNTIF(K$1:K3558,K3558)=1,K3558,\"\")","v":""}]
[null,null,null,null,null,null,null,null,null,"",0,{"$f":"IF(COUNTIF(K$1:K3559,K3559)=1,K3559,\"\")","v":""}]
[null,null,null,null,null,null,null,null,null,"",0,{"$f":"IF(COUNTIF(K$1:K3560,K3560)=1,K3560,\"\")","v":""}]
[null,null,null,null,null,null,null,null,null,"",0,{"$f":"IF(COUNTIF(K$1:K3561,K3561)=1,K3561,\"\")","v":""}]
[null,null,null,null,null,null,null,null,null,"",0,{"$f":"IF(COUNTIF(K$1:K3562,K3562)=1,K3562,\"\")","v":""}]
[null,null,null,null,null,null,null,null,null,"",0,{"$f":"IF(COUNTIF(K$1:K3563,K3563)=1,K3563,\"\")","v":""}]
[null,null,null,null,null,null,null,null,null,"",0,{"$f":"IF(COUNTIF(K$1:K3564,K3564)=1,K3564,\"\")","v":""}]
[null,null,null,null,null,null,null,null,null,"",0,{"$f":"IF(COUNTIF(K$1:K3565,K3565)=1,K3565,\"\")","v":""}]
[null,null,null,null,null,null,null,null,null,"",0,{"$f":"IF(COUNTIF(K$1:K3566,K3566)=1,K3566,\"\")","v":""}]
[null,null,null,null,null,null,null,null,null,"",0,{"$f":"IF(COUNTIF(K$1:K3567,K3567)=1,K3567,\"\")","v":""}]
[null,null,null,null,null,null,null,null,null,"",0,{"$f":"IF(COUNTIF(K$1:K3568,K3568)=1,K3568,\"\")","v":""}]
[null,null,null,null,null,null,null,null,null,"",0,{"$f":"IF(COUNTIF(K$1:K3569,K3569)=1,K3569,\"\")","v":""}]
[null,null,null,null,null,null,null,null,null,"",0,{"$f":"IF(COUNTIF(K$1:K3570,K3570)=1,K3570,\"\")","v":""}]
[null,null,null,null,null,null,null,null,null,"",0,{"$f":"IF(COUNTIF(K$1:K3571,K3571)=1,K3571,\"\")","v":""}]
[null,null,null,null,null,null,null,null,null,"",0,{"$f":"IF(COUNTIF(K$1:K3572,K3572)=1,K3572,\"\")","v":""}]
[null,null,null,null,null,null,null,null,null,"",0,{"$f":"IF(COUNTIF(K$1:K3573,K3573)=1,K3573,\"\")","v":""}]
[null,null,null,null,null,null,null,null,null,"",0,{"$f":"IF(COUNTIF(K$1:K3574,K3574)=1,K3574,\"\")","v":""}]
[null,null,null,null,null,null,null,null,null,"",0,{"$f":"IF(COUNTIF(K$1:K3575,K3575)=1,K3575,\"\")","v":""}]
[null,null,null,null,null,null,null,null,null,"",0,{"$f":"IF(COUNTIF(K$1:K3576,K3576)=1,K3576,\"\")","v":""}]
[null,null,null,null,null,null,null,null,null,"",0,{"$f":"IF(COUNTIF(K$1:K3577,K3577)=1,K3577,\"\")","v":""}]
[null,null,null,null,null,null,null,null,null,"",0,{"$f":"IF(COUNTIF(K$1:K3578,K3578)=1,K3578,\"\")","v":""}]
[null,null,null,null,null,null,null,null,null,"",0,{"$f":"IF(COUNTIF(K$1:K3579,K3579)=1,K3579,\"\")","v":""}]
[null,null,null,null,null,null,null,null,null,"",0,{"$f":"IF(COUNTIF(K$1:K3580,K3580)=1,K3580,\"\")","v":""}]
[null,null,null,null,null,null,null,null,null,"",0,{"$f":"IF(COUNTIF(K$1:K3581,K3581)=1,K3581,\"\")","v":""}]
[null,null,null,null,null,null,null,null,null,"",0,{"$f":"IF(COUNTIF(K$1:K3582,K3582)=1,K3582,\"\")","v":""}]
[null,null,null,null,null,null,null,null,null,"",0,{"$f":"IF(COUNTIF(K$1:K3583,K3583)=1,K3583,\"\")","v":""}]
[null,null,null,null,null,null,null,null,null,"",0,{"$f":"IF(COUNTIF(K$1:K3584,K3584)=1,K3584,\"\")","v":""}]
[null,null,null,null,null,null,null,null,null,"",0,{"$f":"IF(COUNTIF(K$1:K3585,K3585)=1,K3585,\"\")","v":""}]
[null,null,null,null,null,null,null,null,null,"",0,{"$f":"IF(COUNTIF(K$1:K3586,K3586)=1,K3586,\"\")","v":""}]
[null,null,null,null,null,null,null,null,null,"",0,{"$f":"IF(COUNTIF(K$1:K3587,K3587)=1,K3587,\"\")","v":""}]
[null,null,null,null,null,null,null,null,null,"",0,{"$f":"IF(COUNTIF(K$1:K3588,K3588)=1,K3588,\"\")","v":""}]
[null,null,null,null,null,null,null,null,null,"",0,{"$f":"IF(COUNTIF(K$1:K3589,K3589)=1,K3589,\"\")","v":""}]
[null,null,null,null,null,null,null,null,null,"",0,{"$f":"IF(COUNTIF(K$1:K3590,K3590)=1,K3590,\"\")","v":""}]
[null,null,null,null,null,null,null,null,null,"",0,{"$f":"IF(COUNTIF(K$1:K3591,K3591)=1,K3591,\"\")","v":""}]
[null,null,null,null,null,null,null,null,null,"",0,{"$f":"IF(COUNTIF(K$1:K3592,K3592)=1,K3592,\"\")","v":""}]
[null,null,null,null,null,null,null,null,null,"",0,{"$f":"IF(COUNTIF(K$1:K3593,K3593)=1,K3593,\"\")","v":""}]
[null,null,null,null,null,null,null,null,null,"",0,{"$f":"IF(COUNTIF(K$1:K3594,K3594)=1,K3594,\"\")","v":""}]
[null,null,null,null,null,null,null,null,null,"",0,{"$f":"IF(COUNTIF(K$1:K3595,K3595)=1,K3595,\"\")","v":""}]
[null,null,null,null,null,null,null,null,null,"",0,{"$f":"IF(COUNTIF(K$1:K3596,K3596)=1,K3596,\"\")","v":""}]
[null,null,null,null,null,null,null,null,null,"",0,{"$f":"IF(COUNTIF(K$1:K3597,K3597)=1,K3597,\"\")","v":""}]
[null,null,null,null,null,null,null,null,null,"",0,{"$f":"IF(COUNTIF(K$1:K3598,K3598)=1,K3598,\"\")","v":""}]
[null,null,null,null,null,null,null,null,null,"",0,{"$f":"IF(COUNTIF(K$1:K3599,K3599)=1,K3599,\"\")","v":""}]
[null,null,null,null,null,null,null,null,null,"",0,{"$f":"IF(COUNTIF(K$1:K3600,K3600)=1,K3600,\"\")","v":""}]
[null,null,null,null,null,null,null,null,null,"",0,{"$f":"IF(COUNTIF(K$1:K3601,K3601)=1,K3601,\"\")","v":""}]
[null,null,null,null,null,null,null,null,null,"",0,{"$f":"IF(COUNTIF(K$1:K3602,K3602)=1,K3602,\"\")","v":""}]
[null,null,null,null,null,null,null,null,null,"",0,{"$f":"IF(COUNTIF(K$1:K3603,K3603)=1,K3603,\"\")","v":""}]
[null,null,null,null,null,null,null,null,null,"",0,{"$f":"IF(COUNTIF(K$1:K3604,K3604)=1,K3604,\"\")","v":""}]
[null,null,null,null,null,null,null,null,null,"",0,{"$f":"IF(COUNTIF(K$1:K3605,K3605)=1,K3605,\"\")","v":""}]
[null,null,null,null,null,null,null,null,null,"",0,{"$f":"IF(COUNTIF(K$1:K3606,K3606)=1,K3606,\"\")","v":""}]
[null,null,null,null,null,null,null,null,null,"",0,{"$f":"IF(COUNTIF(K$1:K3607,K3607)=1,K3607,\"\")","v":""}]
[null,null,null,null,null,null,null,null,null,"",0,{"$f":"IF(COUNTIF(K$1:K3608,K3608)=1,K3608,\"\")","v":""}]
[null,null,null,null,null,null,null,null,null,"",0,{"$f":"IF(COUNTIF(K$1:K3609,K3609)=1,K3609,\"\")","v":""}]
[null,null,null,null,null,null,null,null,null,"",0,{"$f":"IF(COUNTIF(K$1:K3610,K3610)=1,K3610,\"\")","v":""}]
[null,null,null,null,null,null,null,null,null,"",0,{"$f":"IF(COUNTIF(K$1:K3611,K3611)=1,K3611,\"\")","v":""}]
[null,null,null,null,null,null,null,null,null,"",0,{"$f":"IF(COUNTIF(K$1:K3612,K3612)=1,K3612,\"\")","v":""}]
[null,null,null,null,null,null,null,null,null,{"$f":"IF(D3613=\"\",\"\",IF(ISERROR(FIND(\"s\",D3613)),IF(ISERROR(FIND(\"h \",D3613)),LEFT(D3613,2)/60,   LEFT(D3613,FIND(\"h \",D3613)-1 )+LEFT(RIGHT(D3613,3),2)/60   ),0))","v":""},{"$f":"SUMIFS(J:J,C:C,C3613,A:A,\">\"&$S$4)","v":0},{"$f":"IF(COUNTIF(K$1:K3613,K3613)=1,K3613,\"\")","v":""}]
[null,null,null,null,null,null,null,null,null,"",0,{"$f":"IF(COUNTIF(K$1:K3614,K3614)=1,K3614,\"\")","v":""}]
[null,null,null,null,null,null,null,null,null,"",0,{"$f":"IF(COUNTIF(K$1:K3615,K3615)=1,K3615,\"\")","v":""}]
[null,null,null,null,null,null,null,null,null,"",0,{"$f":"IF(COUNTIF(K$1:K3616,K3616)=1,K3616,\"\")","v":""}]
[null,null,null,null,null,null,null,null,null,"",0,{"$f":"IF(COUNTIF(K$1:K3617,K3617)=1,K3617,\"\")","v":""}]
[null,null,null,null,null,null,null,null,null,"",0,{"$f":"IF(COUNTIF(K$1:K3618,K3618)=1,K3618,\"\")","v":""}]
[null,null,null,null,null,null,null,null,null,"",0,{"$f":"IF(COUNTIF(K$1:K3619,K3619)=1,K3619,\"\")","v":""}]
[null,null,null,null,null,null,null,null,null,"",0,{"$f":"IF(COUNTIF(K$1:K3620,K3620)=1,K3620,\"\")","v":""}]
[null,null,null,null,null,null,null,null,null,"",0,{"$f":"IF(COUNTIF(K$1:K3621,K3621)=1,K3621,\"\")","v":""}]
[null,null,null,null,null,null,null,null,null,"",0,{"$f":"IF(COUNTIF(K$1:K3622,K3622)=1,K3622,\"\")","v":""}]
[null,null,null,null,null,null,null,null,null,"",0,{"$f":"IF(COUNTIF(K$1:K3623,K3623)=1,K3623,\"\")","v":""}]
[null,null,null,null,null,null,null,null,null,"",0,{"$f":"IF(COUNTIF(K$1:K3624,K3624)=1,K3624,\"\")","v":""}]
[null,null,null,null,null,null,null,null,null,"",0,{"$f":"IF(COUNTIF(K$1:K3625,K3625)=1,K3625,\"\")","v":""}]
[null,null,null,null,null,null,null,null,null,"",0,{"$f":"IF(COUNTIF(K$1:K3626,K3626)=1,K3626,\"\")","v":""}]
[null,null,null,null,null,null,null,null,null,"",0,{"$f":"IF(COUNTIF(K$1:K3627,K3627)=1,K3627,\"\")","v":""}]
[null,null,null,null,null,null,null,null,null,"",0,{"$f":"IF(COUNTIF(K$1:K3628,K3628)=1,K3628,\"\")","v":""}]
[null,null,null,null,null,null,null,null,null,"",0,{"$f":"IF(COUNTIF(K$1:K3629,K3629)=1,K3629,\"\")","v":""}]
[null,null,null,null,null,null,null,null,null,"",0,{"$f":"IF(COUNTIF(K$1:K3630,K3630)=1,K3630,\"\")","v":""}]
[null,null,null,null,null,null,null,null,null,"",0,{"$f":"IF(COUNTIF(K$1:K3631,K3631)=1,K3631,\"\")","v":""}]
[null,null,null,null,null,null,null,null,null,"",0,{"$f":"IF(COUNTIF(K$1:K3632,K3632)=1,K3632,\"\")","v":""}]
[null,null,null,null,null,null,null,null,null,"",0,{"$f":"IF(COUNTIF(K$1:K3633,K3633)=1,K3633,\"\")","v":""}]
[null,null,null,null,null,null,null,null,null,"",0,{"$f":"IF(COUNTIF(K$1:K3634,K3634)=1,K3634,\"\")","v":""}]
[null,null,null,null,null,null,null,null,null,"",0,{"$f":"IF(COUNTIF(K$1:K3635,K3635)=1,K3635,\"\")","v":""}]
[null,null,null,null,null,null,null,null,null,"",0,{"$f":"IF(COUNTIF(K$1:K3636,K3636)=1,K3636,\"\")","v":""}]
[null,null,null,null,null,null,null,null,null,"",0,{"$f":"IF(COUNTIF(K$1:K3637,K3637)=1,K3637,\"\")","v":""}]
[null,null,null,null,null,null,null,null,null,"",0,{"$f":"IF(COUNTIF(K$1:K3638,K3638)=1,K3638,\"\")","v":""}]
[null,null,null,null,null,null,null,null,null,"",0,{"$f":"IF(COUNTIF(K$1:K3639,K3639)=1,K3639,\"\")","v":""}]
[null,null,null,null,null,null,null,null,null,"",0,{"$f":"IF(COUNTIF(K$1:K3640,K3640)=1,K3640,\"\")","v":""}]
[null,null,null,null,null,null,null,null,null,"",0,{"$f":"IF(COUNTIF(K$1:K3641,K3641)=1,K3641,\"\")","v":""}]
[null,null,null,null,null,null,null,null,null,"",0,{"$f":"IF(COUNTIF(K$1:K3642,K3642)=1,K3642,\"\")","v":""}]
[null,null,null,null,null,null,null,null,null,"",0,{"$f":"IF(COUNTIF(K$1:K3643,K3643)=1,K3643,\"\")","v":""}]
[null,null,null,null,null,null,null,null,null,"",0,{"$f":"IF(COUNTIF(K$1:K3644,K3644)=1,K3644,\"\")","v":""}]
[null,null,null,null,null,null,null,null,null,"",0,{"$f":"IF(COUNTIF(K$1:K3645,K3645)=1,K3645,\"\")","v":""}]
[null,null,null,null,null,null,null,null,null,"",0,{"$f":"IF(COUNTIF(K$1:K3646,K3646)=1,K3646,\"\")","v":""}]
[null,null,null,null,null,null,null,null,null,"",0,{"$f":"IF(COUNTIF(K$1:K3647,K3647)=1,K3647,\"\")","v":""}]
[null,null,null,null,null,null,null,null,null,"",0,{"$f":"IF(COUNTIF(K$1:K3648,K3648)=1,K3648,\"\")","v":""}]
[null,null,null,null,null,null,null,null,null,"",0,{"$f":"IF(COUNTIF(K$1:K3649,K3649)=1,K3649,\"\")","v":""}]
[null,null,null,null,null,null,null,null,null,"",0,{"$f":"IF(COUNTIF(K$1:K3650,K3650)=1,K3650,\"\")","v":""}]
[null,null,null,null,null,null,null,null,null,"",0,{"$f":"IF(COUNTIF(K$1:K3651,K3651)=1,K3651,\"\")","v":""}]
[null,null,null,null,null,null,null,null,null,"",0,{"$f":"IF(COUNTIF(K$1:K3652,K3652)=1,K3652,\"\")","v":""}]
[null,null,null,null,null,null,null,null,null,"",0,{"$f":"IF(COUNTIF(K$1:K3653,K3653)=1,K3653,\"\")","v":""}]
[null,null,null,null,null,null,null,null,null,"",0,{"$f":"IF(COUNTIF(K$1:K3654,K3654)=1,K3654,\"\")","v":""}]
[null,null,null,null,null,null,null,null,null,"",0,{"$f":"IF(COUNTIF(K$1:K3655,K3655)=1,K3655,\"\")","v":""}]
[null,null,null,null,null,null,null,null,null,"",0,{"$f":"IF(COUNTIF(K$1:K3656,K3656)=1,K3656,\"\")","v":""}]
[null,null,null,null,null,null,null,null,null,"",0,{"$f":"IF(COUNTIF(K$1:K3657,K3657)=1,K3657,\"\")","v":""}]
[null,null,null,null,null,null,null,null,null,"",0,{"$f":"IF(COUNTIF(K$1:K3658,K3658)=1,K3658,\"\")","v":""}]
[null,null,null,null,null,null,null,null,null,"",0,{"$f":"IF(COUNTIF(K$1:K3659,K3659)=1,K3659,\"\")","v":""}]
[null,null,null,null,null,null,null,null,null,"",0,{"$f":"IF(COUNTIF(K$1:K3660,K3660)=1,K3660,\"\")","v":""}]
[null,null,null,null,null,null,null,null,null,"",0,{"$f":"IF(COUNTIF(K$1:K3661,K3661)=1,K3661,\"\")","v":""}]
[null,null,null,null,null,null,null,null,null,"",0,{"$f":"IF(COUNTIF(K$1:K3662,K3662)=1,K3662,\"\")","v":""}]
[null,null,null,null,null,null,null,null,null,"",0,{"$f":"IF(COUNTIF(K$1:K3663,K3663)=1,K3663,\"\")","v":""}]
[null,null,null,null,null,null,null,null,null,"",0,{"$f":"IF(COUNTIF(K$1:K3664,K3664)=1,K3664,\"\")","v":""}]
[null,null,null,null,null,null,null,null,null,"",0,{"$f":"IF(COUNTIF(K$1:K3665,K3665)=1,K3665,\"\")","v":""}]
[null,null,null,null,null,null,null,null,null,"",0,{"$f":"IF(COUNTIF(K$1:K3666,K3666)=1,K3666,\"\")","v":""}]
[null,null,null,null,null,null,null,null,null,"",0,{"$f":"IF(COUNTIF(K$1:K3667,K3667)=1,K3667,\"\")","v":""}]
[null,null,null,null,null,null,null,null,null,"",0,{"$f":"IF(COUNTIF(K$1:K3668,K3668)=1,K3668,\"\")","v":""}]
[null,null,null,null,null,null,null,null,null,"",0,{"$f":"IF(COUNTIF(K$1:K3669,K3669)=1,K3669,\"\")","v":""}]
[null,null,null,null,null,null,null,null,null,"",0,{"$f":"IF(COUNTIF(K$1:K3670,K3670)=1,K3670,\"\")","v":""}]
[null,null,null,null,null,null,null,null,null,"",0,{"$f":"IF(COUNTIF(K$1:K3671,K3671)=1,K3671,\"\")","v":""}]
[null,null,null,null,null,null,null,null,null,"",0,{"$f":"IF(COUNTIF(K$1:K3672,K3672)=1,K3672,\"\")","v":""}]
[null,null,null,null,null,null,null,null,null,"",0,{"$f":"IF(COUNTIF(K$1:K3673,K3673)=1,K3673,\"\")","v":""}]
[null,null,null,null,null,null,null,null,null,"",0,{"$f":"IF(COUNTIF(K$1:K3674,K3674)=1,K3674,\"\")","v":""}]
[null,null,null,null,null,null,null,null,null,"",0,{"$f":"IF(COUNTIF(K$1:K3675,K3675)=1,K3675,\"\")","v":""}]
[null,null,null,null,null,null,null,null,null,"",0,{"$f":"IF(COUNTIF(K$1:K3676,K3676)=1,K3676,\"\")","v":""}]
[null,null,null,null,null,null,null,null,null,{"$f":"IF(D3677=\"\",\"\",IF(ISERROR(FIND(\"s\",D3677)),IF(ISERROR(FIND(\"h \",D3677)),LEFT(D3677,2)/60,   LEFT(D3677,FIND(\"h \",D3677)-1 )+LEFT(RIGHT(D3677,3),2)/60   ),0))","v":""},{"$f":"SUMIFS(J:J,C:C,C3677,A:A,\">\"&$S$4)","v":0},{"$f":"IF(COUNTIF(K$1:K3677,K3677)=1,K3677,\"\")","v":""}]
[null,null,null,null,null,null,null,null,null,"",0,{"$f":"IF(COUNTIF(K$1:K3678,K3678)=1,K3678,\"\")","v":""}]
[null,null,null,null,null,null,null,null,null,"",0,{"$f":"IF(COUNTIF(K$1:K3679,K3679)=1,K3679,\"\")","v":""}]
[null,null,null,null,null,null,null,null,null,"",0,{"$f":"IF(COUNTIF(K$1:K3680,K3680)=1,K3680,\"\")","v":""}]
[null,null,null,null,null,null,null,null,null,"",0,{"$f":"IF(COUNTIF(K$1:K3681,K3681)=1,K3681,\"\")","v":""}]
[null,null,null,null,null,null,null,null,null,"",0,{"$f":"IF(COUNTIF(K$1:K3682,K3682)=1,K3682,\"\")","v":""}]
[null,null,null,null,null,null,null,null,null,"",0,{"$f":"IF(COUNTIF(K$1:K3683,K3683)=1,K3683,\"\")","v":""}]
[null,null,null,null,null,null,null,null,null,"",0,{"$f":"IF(COUNTIF(K$1:K3684,K3684)=1,K3684,\"\")","v":""}]
[null,null,null,null,null,null,null,null,null,"",0,{"$f":"IF(COUNTIF(K$1:K3685,K3685)=1,K3685,\"\")","v":""}]
[null,null,null,null,null,null,null,null,null,"",0,{"$f":"IF(COUNTIF(K$1:K3686,K3686)=1,K3686,\"\")","v":""}]
[null,null,null,null,null,null,null,null,null,"",0,{"$f":"IF(COUNTIF(K$1:K3687,K3687)=1,K3687,\"\")","v":""}]
[null,null,null,null,null,null,null,null,null,"",0,{"$f":"IF(COUNTIF(K$1:K3688,K3688)=1,K3688,\"\")","v":""}]
[null,null,null,null,null,null,null,null,null,"",0,{"$f":"IF(COUNTIF(K$1:K3689,K3689)=1,K3689,\"\")","v":""}]
[null,null,null,null,null,null,null,null,null,"",0,{"$f":"IF(COUNTIF(K$1:K3690,K3690)=1,K3690,\"\")","v":""}]
[null,null,null,null,null,null,null,null,null,"",0,{"$f":"IF(COUNTIF(K$1:K3691,K3691)=1,K3691,\"\")","v":""}]
[null,null,null,null,null,null,null,null,null,"",0,{"$f":"IF(COUNTIF(K$1:K3692,K3692)=1,K3692,\"\")","v":""}]
[null,null,null,null,null,null,null,null,null,"",0,{"$f":"IF(COUNTIF(K$1:K3693,K3693)=1,K3693,\"\")","v":""}]
[null,null,null,null,null,null,null,null,null,"",0,{"$f":"IF(COUNTIF(K$1:K3694,K3694)=1,K3694,\"\")","v":""}]
[null,null,null,null,null,null,null,null,null,"",0,{"$f":"IF(COUNTIF(K$1:K3695,K3695)=1,K3695,\"\")","v":""}]
[null,null,null,null,null,null,null,null,null,"",0,{"$f":"IF(COUNTIF(K$1:K3696,K3696)=1,K3696,\"\")","v":""}]
[null,null,null,null,null,null,null,null,null,"",0,{"$f":"IF(COUNTIF(K$1:K3697,K3697)=1,K3697,\"\")","v":""}]
[null,null,null,null,null,null,null,null,null,"",0,{"$f":"IF(COUNTIF(K$1:K3698,K3698)=1,K3698,\"\")","v":""}]
[null,null,null,null,null,null,null,null,null,"",0,{"$f":"IF(COUNTIF(K$1:K3699,K3699)=1,K3699,\"\")","v":""}]
[null,null,null,null,null,null,null,null,null,"",0,{"$f":"IF(COUNTIF(K$1:K3700,K3700)=1,K3700,\"\")","v":""}]
[null,null,null,null,null,null,null,null,null,"",0,{"$f":"IF(COUNTIF(K$1:K3701,K3701)=1,K3701,\"\")","v":""}]
[null,null,null,null,null,null,null,null,null,"",0,{"$f":"IF(COUNTIF(K$1:K3702,K3702)=1,K3702,\"\")","v":""}]
[null,null,null,null,null,null,null,null,null,"",0,{"$f":"IF(COUNTIF(K$1:K3703,K3703)=1,K3703,\"\")","v":""}]
[null,null,null,null,null,null,null,null,null,"",0,{"$f":"IF(COUNTIF(K$1:K3704,K3704)=1,K3704,\"\")","v":""}]
[null,null,null,null,null,null,null,null,null,"",0,{"$f":"IF(COUNTIF(K$1:K3705,K3705)=1,K3705,\"\")","v":""}]
[null,null,null,null,null,null,null,null,null,"",0,{"$f":"IF(COUNTIF(K$1:K3706,K3706)=1,K3706,\"\")","v":""}]
[null,null,null,null,null,null,null,null,null,"",0,{"$f":"IF(COUNTIF(K$1:K3707,K3707)=1,K3707,\"\")","v":""}]
[null,null,null,null,null,null,null,null,null,"",0,{"$f":"IF(COUNTIF(K$1:K3708,K3708)=1,K3708,\"\")","v":""}]
[null,null,null,null,null,null,null,null,null,"",0,{"$f":"IF(COUNTIF(K$1:K3709,K3709)=1,K3709,\"\")","v":""}]
[null,null,null,null,null,null,null,null,null,"",0,{"$f":"IF(COUNTIF(K$1:K3710,K3710)=1,K3710,\"\")","v":""}]
[null,null,null,null,null,null,null,null,null,"",0,{"$f":"IF(COUNTIF(K$1:K3711,K3711)=1,K3711,\"\")","v":""}]
[null,null,null,null,null,null,null,null,null,"",0,{"$f":"IF(COUNTIF(K$1:K3712,K3712)=1,K3712,\"\")","v":""}]
[null,null,null,null,null,null,null,null,null,"",0,{"$f":"IF(COUNTIF(K$1:K3713,K3713)=1,K3713,\"\")","v":""}]
[null,null,null,null,null,null,null,null,null,"",0,{"$f":"IF(COUNTIF(K$1:K3714,K3714)=1,K3714,\"\")","v":""}]
[null,null,null,null,null,null,null,null,null,"",0,{"$f":"IF(COUNTIF(K$1:K3715,K3715)=1,K3715,\"\")","v":""}]
[null,null,null,null,null,null,null,null,null,"",0,{"$f":"IF(COUNTIF(K$1:K3716,K3716)=1,K3716,\"\")","v":""}]
[null,null,null,null,null,null,null,null,null,"",0,{"$f":"IF(COUNTIF(K$1:K3717,K3717)=1,K3717,\"\")","v":""}]
[null,null,null,null,null,null,null,null,null,"",0,{"$f":"IF(COUNTIF(K$1:K3718,K3718)=1,K3718,\"\")","v":""}]
[null,null,null,null,null,null,null,null,null,"",0,{"$f":"IF(COUNTIF(K$1:K3719,K3719)=1,K3719,\"\")","v":""}]
[null,null,null,null,null,null,null,null,null,"",0,{"$f":"IF(COUNTIF(K$1:K3720,K3720)=1,K3720,\"\")","v":""}]
[null,null,null,null,null,null,null,null,null,"",0,{"$f":"IF(COUNTIF(K$1:K3721,K3721)=1,K3721,\"\")","v":""}]
[null,null,null,null,null,null,null,null,null,"",0,{"$f":"IF(COUNTIF(K$1:K3722,K3722)=1,K3722,\"\")","v":""}]
[null,null,null,null,null,null,null,null,null,"",0,{"$f":"IF(COUNTIF(K$1:K3723,K3723)=1,K3723,\"\")","v":""}]
[null,null,null,null,null,null,null,null,null,"",0,{"$f":"IF(COUNTIF(K$1:K3724,K3724)=1,K3724,\"\")","v":""}]
[null,null,null,null,null,null,null,null,null,"",0,{"$f":"IF(COUNTIF(K$1:K3725,K3725)=1,K3725,\"\")","v":""}]
[null,null,null,null,null,null,null,null,null,"",0,{"$f":"IF(COUNTIF(K$1:K3726,K3726)=1,K3726,\"\")","v":""}]
[null,null,null,null,null,null,null,null,null,"",0,{"$f":"IF(COUNTIF(K$1:K3727,K3727)=1,K3727,\"\")","v":""}]
[null,null,null,null,null,null,null,null,null,"",0,{"$f":"IF(COUNTIF(K$1:K3728,K3728)=1,K3728,\"\")","v":""}]
[null,null,null,null,null,null,null,null,null,"",0,{"$f":"IF(COUNTIF(K$1:K3729,K3729)=1,K3729,\"\")","v":""}]
[null,null,null,null,null,null,null,null,null,"",0,{"$f":"IF(COUNTIF(K$1:K3730,K3730)=1,K3730,\"\")","v":""}]
[null,null,null,null,null,null,null,null,null,"",0,{"$f":"IF(COUNTIF(K$1:K3731,K3731)=1,K3731,\"\")","v":""}]
[null,null,null,null,null,null,null,null,null,"",0,{"$f":"IF(COUNTIF(K$1:K3732,K3732)=1,K3732,\"\")","v":""}]
[null,null,null,null,null,null,null,null,null,"",0,{"$f":"IF(COUNTIF(K$1:K3733,K3733)=1,K3733,\"\")","v":""}]
[null,null,null,null,null,null,null,null,null,"",0,{"$f":"IF(COUNTIF(K$1:K3734,K3734)=1,K3734,\"\")","v":""}]
[null,null,null,null,null,null,null,null,null,"",0,{"$f":"IF(COUNTIF(K$1:K3735,K3735)=1,K3735,\"\")","v":""}]
[null,null,null,null,null,null,null,null,null,"",0,{"$f":"IF(COUNTIF(K$1:K3736,K3736)=1,K3736,\"\")","v":""}]
[null,null,null,null,null,null,null,null,null,"",0,{"$f":"IF(COUNTIF(K$1:K3737,K3737)=1,K3737,\"\")","v":""}]
[null,null,null,null,null,null,null,null,null,"",0,{"$f":"IF(COUNTIF(K$1:K3738,K3738)=1,K3738,\"\")","v":""}]
[null,null,null,null,null,null,null,null,null,"",0,{"$f":"IF(COUNTIF(K$1:K3739,K3739)=1,K3739,\"\")","v":""}]
[null,null,null,null,null,null,null,null,null,"",0,{"$f":"IF(COUNTIF(K$1:K3740,K3740)=1,K3740,\"\")","v":""}]
[null,null,null,null,null,null,null,null,null,{"$f":"IF(D3741=\"\",\"\",IF(ISERROR(FIND(\"s\",D3741)),IF(ISERROR(FIND(\"h \",D3741)),LEFT(D3741,2)/60,   LEFT(D3741,FIND(\"h \",D3741)-1 )+LEFT(RIGHT(D3741,3),2)/60   ),0))","v":""},{"$f":"SUMIFS(J:J,C:C,C3741,A:A,\">\"&$S$4)","v":0},{"$f":"IF(COUNTIF(K$1:K3741,K3741)=1,K3741,\"\")","v":""}]
[null,null,null,null,null,null,null,null,null,"",0,{"$f":"IF(COUNTIF(K$1:K3742,K3742)=1,K3742,\"\")","v":""}]
[null,null,null,null,null,null,null,null,null,"",0,{"$f":"IF(COUNTIF(K$1:K3743,K3743)=1,K3743,\"\")","v":""}]
[null,null,null,null,null,null,null,null,null,"",0,{"$f":"IF(COUNTIF(K$1:K3744,K3744)=1,K3744,\"\")","v":""}]
[null,null,null,null,null,null,null,null,null,"",0,{"$f":"IF(COUNTIF(K$1:K3745,K3745)=1,K3745,\"\")","v":""}]
[null,null,null,null,null,null,null,null,null,"",0,{"$f":"IF(COUNTIF(K$1:K3746,K3746)=1,K3746,\"\")","v":""}]
[null,null,null,null,null,null,null,null,null,"",0,{"$f":"IF(COUNTIF(K$1:K3747,K3747)=1,K3747,\"\")","v":""}]
[null,null,null,null,null,null,null,null,null,"",0,{"$f":"IF(COUNTIF(K$1:K3748,K3748)=1,K3748,\"\")","v":""}]
[null,null,null,null,null,null,null,null,null,"",0,{"$f":"IF(COUNTIF(K$1:K3749,K3749)=1,K3749,\"\")","v":""}]
[null,null,null,null,null,null,null,null,null,"",0,{"$f":"IF(COUNTIF(K$1:K3750,K3750)=1,K3750,\"\")","v":""}]
[null,null,null,null,null,null,null,null,null,"",0,{"$f":"IF(COUNTIF(K$1:K3751,K3751)=1,K3751,\"\")","v":""}]
[null,null,null,null,null,null,null,null,null,"",0,{"$f":"IF(COUNTIF(K$1:K3752,K3752)=1,K3752,\"\")","v":""}]
[null,null,null,null,null,null,null,null,null,"",0,{"$f":"IF(COUNTIF(K$1:K3753,K3753)=1,K3753,\"\")","v":""}]
[null,null,null,null,null,null,null,null,null,"",0,{"$f":"IF(COUNTIF(K$1:K3754,K3754)=1,K3754,\"\")","v":""}]
[null,null,null,null,null,null,null,null,null,"",0,{"$f":"IF(COUNTIF(K$1:K3755,K3755)=1,K3755,\"\")","v":""}]
[null,null,null,null,null,null,null,null,null,"",0,{"$f":"IF(COUNTIF(K$1:K3756,K3756)=1,K3756,\"\")","v":""}]
[null,null,null,null,null,null,null,null,null,"",0,{"$f":"IF(COUNTIF(K$1:K3757,K3757)=1,K3757,\"\")","v":""}]
[null,null,null,null,null,null,null,null,null,"",0,{"$f":"IF(COUNTIF(K$1:K3758,K3758)=1,K3758,\"\")","v":""}]
[null,null,null,null,null,null,null,null,null,"",0,{"$f":"IF(COUNTIF(K$1:K3759,K3759)=1,K3759,\"\")","v":""}]
[null,null,null,null,null,null,null,null,null,"",0,{"$f":"IF(COUNTIF(K$1:K3760,K3760)=1,K3760,\"\")","v":""}]
[null,null,null,null,null,null,null,null,null,"",0,{"$f":"IF(COUNTIF(K$1:K3761,K3761)=1,K3761,\"\")","v":""}]
[null,null,null,null,null,null,null,null,null,"",0,{"$f":"IF(COUNTIF(K$1:K3762,K3762)=1,K3762,\"\")","v":""}]
[null,null,null,null,null,null,null,null,null,"",0,{"$f":"IF(COUNTIF(K$1:K3763,K3763)=1,K3763,\"\")","v":""}]
[null,null,null,null,null,null,null,null,null,"",0,{"$f":"IF(COUNTIF(K$1:K3764,K3764)=1,K3764,\"\")","v":""}]
[null,null,null,null,null,null,null,null,null,"",0,{"$f":"IF(COUNTIF(K$1:K3765,K3765)=1,K3765,\"\")","v":""}]
[null,null,null,null,null,null,null,null,null,"",0,{"$f":"IF(COUNTIF(K$1:K3766,K3766)=1,K3766,\"\")","v":""}]
[null,null,null,null,null,null,null,null,null,"",0,{"$f":"IF(COUNTIF(K$1:K3767,K3767)=1,K3767,\"\")","v":""}]
[null,null,null,null,null,null,null,null,null,"",0,{"$f":"IF(COUNTIF(K$1:K3768,K3768)=1,K3768,\"\")","v":""}]
[null,null,null,null,null,null,null,null,null,"",0,{"$f":"IF(COUNTIF(K$1:K3769,K3769)=1,K3769,\"\")","v":""}]
[null,null,null,null,null,null,null,null,null,"",0,{"$f":"IF(COUNTIF(K$1:K3770,K3770)=1,K3770,\"\")","v":""}]
[null,null,null,null,null,null,null,null,null,"",0,{"$f":"IF(COUNTIF(K$1:K3771,K3771)=1,K3771,\"\")","v":""}]
[null,null,null,null,null,null,null,null,null,"",0,{"$f":"IF(COUNTIF(K$1:K3772,K3772)=1,K3772,\"\")","v":""}]
[null,null,null,null,null,null,null,null,null,"",0,{"$f":"IF(COUNTIF(K$1:K3773,K3773)=1,K3773,\"\")","v":""}]
[null,null,null,null,null,null,null,null,null,"",0,{"$f":"IF(COUNTIF(K$1:K3774,K3774)=1,K3774,\"\")","v":""}]
[null,null,null,null,null,null,null,null,null,"",0,{"$f":"IF(COUNTIF(K$1:K3775,K3775)=1,K3775,\"\")","v":""}]
[null,null,null,null,null,null,null,null,null,"",0,{"$f":"IF(COUNTIF(K$1:K3776,K3776)=1,K3776,\"\")","v":""}]
[null,null,null,null,null,null,null,null,null,"",0,{"$f":"IF(COUNTIF(K$1:K3777,K3777)=1,K3777,\"\")","v":""}]
[null,null,null,null,null,null,null,null,null,"",0,{"$f":"IF(COUNTIF(K$1:K3778,K3778)=1,K3778,\"\")","v":""}]
[null,null,null,null,null,null,null,null,null,"",0,{"$f":"IF(COUNTIF(K$1:K3779,K3779)=1,K3779,\"\")","v":""}]
[null,null,null,null,null,null,null,null,null,"",0,{"$f":"IF(COUNTIF(K$1:K3780,K3780)=1,K3780,\"\")","v":""}]
[null,null,null,null,null,null,null,null,null,"",0,{"$f":"IF(COUNTIF(K$1:K3781,K3781)=1,K3781,\"\")","v":""}]
[null,null,null,null,null,null,null,null,null,"",0,{"$f":"IF(COUNTIF(K$1:K3782,K3782)=1,K3782,\"\")","v":""}]
[null,null,null,null,null,null,null,null,null,"",0,{"$f":"IF(COUNTIF(K$1:K3783,K3783)=1,K3783,\"\")","v":""}]
[null,null,null,null,null,null,null,null,null,"",0,{"$f":"IF(COUNTIF(K$1:K3784,K3784)=1,K3784,\"\")","v":""}]
[null,null,null,null,null,null,null,null,null,"",0,{"$f":"IF(COUNTIF(K$1:K3785,K3785)=1,K3785,\"\")","v":""}]
[null,null,null,null,null,null,null,null,null,"",0,{"$f":"IF(COUNTIF(K$1:K3786,K3786)=1,K3786,\"\")","v":""}]
[null,null,null,null,null,null,null,null,null,"",0,{"$f":"IF(COUNTIF(K$1:K3787,K3787)=1,K3787,\"\")","v":""}]
[null,null,null,null,null,null,null,null,null,"",0,{"$f":"IF(COUNTIF(K$1:K3788,K3788)=1,K3788,\"\")","v":""}]
[null,null,null,null,null,null,null,null,null,"",0,{"$f":"IF(COUNTIF(K$1:K3789,K3789)=1,K3789,\"\")","v":""}]
[null,null,null,null,null,null,null,null,null,"",0,{"$f":"IF(COUNTIF(K$1:K3790,K3790)=1,K3790,\"\")","v":""}]
[null,null,null,null,null,null,null,null,null,"",0,{"$f":"IF(COUNTIF(K$1:K3791,K3791)=1,K3791,\"\")","v":""}]
[null,null,null,null,null,null,null,null,null,"",0,{"$f":"IF(COUNTIF(K$1:K3792,K3792)=1,K3792,\"\")","v":""}]
[null,null,null,null,null,null,null,null,null,"",0,{"$f":"IF(COUNTIF(K$1:K3793,K3793)=1,K3793,\"\")","v":""}]
[null,null,null,null,null,null,null,null,null,"",0,{"$f":"IF(COUNTIF(K$1:K3794,K3794)=1,K3794,\"\")","v":""}]
[null,null,null,null,null,null,null,null,null,"",0,{"$f":"IF(COUNTIF(K$1:K3795,K3795)=1,K3795,\"\")","v":""}]
[null,null,null,null,null,null,null,null,null,"",0,{"$f":"IF(COUNTIF(K$1:K3796,K3796)=1,K3796,\"\")","v":""}]
[null,null,null,null,null,null,null,null,null,"",0,{"$f":"IF(COUNTIF(K$1:K3797,K3797)=1,K3797,\"\")","v":""}]
[null,null,null,null,null,null,null,null,null,"",0,{"$f":"IF(COUNTIF(K$1:K3798,K3798)=1,K3798,\"\")","v":""}]
[null,null,null,null,null,null,null,null,null,"",0,{"$f":"IF(COUNTIF(K$1:K3799,K3799)=1,K3799,\"\")","v":""}]
[null,null,null,null,null,null,null,null,null,"",0,{"$f":"IF(COUNTIF(K$1:K3800,K3800)=1,K3800,\"\")","v":""}]
[null,null,null,null,null,null,null,null,null,"",0,{"$f":"IF(COUNTIF(K$1:K3801,K3801)=1,K3801,\"\")","v":""}]
[null,null,null,null,null,null,null,null,null,"",0,{"$f":"IF(COUNTIF(K$1:K3802,K3802)=1,K3802,\"\")","v":""}]
[null,null,null,null,null,null,null,null,null,"",0,{"$f":"IF(COUNTIF(K$1:K3803,K3803)=1,K3803,\"\")","v":""}]
[null,null,null,null,null,null,null,null,null,"",0,{"$f":"IF(COUNTIF(K$1:K3804,K3804)=1,K3804,\"\")","v":""}]
[null,null,null,null,null,null,null,null,null,{"$f":"IF(D3805=\"\",\"\",IF(ISERROR(FIND(\"s\",D3805)),IF(ISERROR(FIND(\"h \",D3805)),LEFT(D3805,2)/60,   LEFT(D3805,FIND(\"h \",D3805)-1 )+LEFT(RIGHT(D3805,3),2)/60   ),0))","v":""},{"$f":"SUMIFS(J:J,C:C,C3805,A:A,\">\"&$S$4)","v":0},{"$f":"IF(COUNTIF(K$1:K3805,K3805)=1,K3805,\"\")","v":""}]
[null,null,null,null,null,null,null,null,null,"",0,{"$f":"IF(COUNTIF(K$1:K3806,K3806)=1,K3806,\"\")","v":""}]
[null,null,null,null,null,null,null,null,null,"",0,{"$f":"IF(COUNTIF(K$1:K3807,K3807)=1,K3807,\"\")","v":""}]
[null,null,null,null,null,null,null,null,null,"",0,{"$f":"IF(COUNTIF(K$1:K3808,K3808)=1,K3808,\"\")","v":""}]
[null,null,null,null,null,null,null,null,null,"",0,{"$f":"IF(COUNTIF(K$1:K3809,K3809)=1,K3809,\"\")","v":""}]
[null,null,null,null,null,null,null,null,null,"",0,{"$f":"IF(COUNTIF(K$1:K3810,K3810)=1,K3810,\"\")","v":""}]
[null,null,null,null,null,null,null,null,null,"",0,{"$f":"IF(COUNTIF(K$1:K3811,K3811)=1,K3811,\"\")","v":""}]
[null,null,null,null,null,null,null,null,null,"",0,{"$f":"IF(COUNTIF(K$1:K3812,K3812)=1,K3812,\"\")","v":""}]
[null,null,null,null,null,null,null,null,null,"",0,{"$f":"IF(COUNTIF(K$1:K3813,K3813)=1,K3813,\"\")","v":""}]
[null,null,null,null,null,null,null,null,null,"",0,{"$f":"IF(COUNTIF(K$1:K3814,K3814)=1,K3814,\"\")","v":""}]
[null,null,null,null,null,null,null,null,null,"",0,{"$f":"IF(COUNTIF(K$1:K3815,K3815)=1,K3815,\"\")","v":""}]
[null,null,null,null,null,null,null,null,null,"",0,{"$f":"IF(COUNTIF(K$1:K3816,K3816)=1,K3816,\"\")","v":""}]
[null,null,null,null,null,null,null,null,null,"",0,{"$f":"IF(COUNTIF(K$1:K3817,K3817)=1,K3817,\"\")","v":""}]
[null,null,null,null,null,null,null,null,null,"",0,{"$f":"IF(COUNTIF(K$1:K3818,K3818)=1,K3818,\"\")","v":""}]
[null,null,null,null,null,null,null,null,null,"",0,{"$f":"IF(COUNTIF(K$1:K3819,K3819)=1,K3819,\"\")","v":""}]
[null,null,null,null,null,null,null,null,null,"",0,{"$f":"IF(COUNTIF(K$1:K3820,K3820)=1,K3820,\"\")","v":""}]
[null,null,null,null,null,null,null,null,null,"",0,{"$f":"IF(COUNTIF(K$1:K3821,K3821)=1,K3821,\"\")","v":""}]
[null,null,null,null,null,null,null,null,null,"",0,{"$f":"IF(COUNTIF(K$1:K3822,K3822)=1,K3822,\"\")","v":""}]
[null,null,null,null,null,null,null,null,null,"",0,{"$f":"IF(COUNTIF(K$1:K3823,K3823)=1,K3823,\"\")","v":""}]
[null,null,null,null,null,null,null,null,null,"",0,{"$f":"IF(COUNTIF(K$1:K3824,K3824)=1,K3824,\"\")","v":""}]
[null,null,null,null,null,null,null,null,null,"",0,{"$f":"IF(COUNTIF(K$1:K3825,K3825)=1,K3825,\"\")","v":""}]
[null,null,null,null,null,null,null,null,null,"",0,{"$f":"IF(COUNTIF(K$1:K3826,K3826)=1,K3826,\"\")","v":""}]
[null,null,null,null,null,null,null,null,null,"",0,{"$f":"IF(COUNTIF(K$1:K3827,K3827)=1,K3827,\"\")","v":""}]
[null,null,null,null,null,null,null,null,null,"",0,{"$f":"IF(COUNTIF(K$1:K3828,K3828)=1,K3828,\"\")","v":""}]
[null,null,null,null,null,null,null,null,null,"",0,{"$f":"IF(COUNTIF(K$1:K3829,K3829)=1,K3829,\"\")","v":""}]
[null,null,null,null,null,null,null,null,null,"",0,{"$f":"IF(COUNTIF(K$1:K3830,K3830)=1,K3830,\"\")","v":""}]
[null,null,null,null,null,null,null,null,null,"",0,{"$f":"IF(COUNTIF(K$1:K3831,K3831)=1,K3831,\"\")","v":""}]
[null,null,null,null,null,null,null,null,null,"",0,{"$f":"IF(COUNTIF(K$1:K3832,K3832)=1,K3832,\"\")","v":""}]
[null,null,null,null,null,null,null,null,null,"",0,{"$f":"IF(COUNTIF(K$1:K3833,K3833)=1,K3833,\"\")","v":""}]
[null,null,null,null,null,null,null,null,null,"",0,{"$f":"IF(COUNTIF(K$1:K3834,K3834)=1,K3834,\"\")","v":""}]
[null,null,null,null,null,null,null,null,null,"",0,{"$f":"IF(COUNTIF(K$1:K3835,K3835)=1,K3835,\"\")","v":""}]
[null,null,null,null,null,null,null,null,null,"",0,{"$f":"IF(COUNTIF(K$1:K3836,K3836)=1,K3836,\"\")","v":""}]
[null,null,null,null,null,null,null,null,null,"",0,{"$f":"IF(COUNTIF(K$1:K3837,K3837)=1,K3837,\"\")","v":""}]
[null,null,null,null,null,null,null,null,null,"",0,{"$f":"IF(COUNTIF(K$1:K3838,K3838)=1,K3838,\"\")","v":""}]
[null,null,null,null,null,null,null,null,null,"",0,{"$f":"IF(COUNTIF(K$1:K3839,K3839)=1,K3839,\"\")","v":""}]
[null,null,null,null,null,null,null,null,null,"",0,{"$f":"IF(COUNTIF(K$1:K3840,K3840)=1,K3840,\"\")","v":""}]
[null,null,null,null,null,null,null,null,null,"",0,{"$f":"IF(COUNTIF(K$1:K3841,K3841)=1,K3841,\"\")","v":""}]
[null,null,null,null,null,null,null,null,null,"",0,{"$f":"IF(COUNTIF(K$1:K3842,K3842)=1,K3842,\"\")","v":""}]
[null,null,null,null,null,null,null,null,null,"",0,{"$f":"IF(COUNTIF(K$1:K3843,K3843)=1,K3843,\"\")","v":""}]
[null,null,null,null,null,null,null,null,null,"",0,{"$f":"IF(COUNTIF(K$1:K3844,K3844)=1,K3844,\"\")","v":""}]
[null,null,null,null,null,null,null,null,null,"",0,{"$f":"IF(COUNTIF(K$1:K3845,K3845)=1,K3845,\"\")","v":""}]
[null,null,null,null,null,null,null,null,null,"",0,{"$f":"IF(COUNTIF(K$1:K3846,K3846)=1,K3846,\"\")","v":""}]
[null,null,null,null,null,null,null,null,null,"",0,{"$f":"IF(COUNTIF(K$1:K3847,K3847)=1,K3847,\"\")","v":""}]
[null,null,null,null,null,null,null,null,null,"",0,{"$f":"IF(COUNTIF(K$1:K3848,K3848)=1,K3848,\"\")","v":""}]
[null,null,null,null,null,null,null,null,null,"",0,{"$f":"IF(COUNTIF(K$1:K3849,K3849)=1,K3849,\"\")","v":""}]
[null,null,null,null,null,null,null,null,null,"",0,{"$f":"IF(COUNTIF(K$1:K3850,K3850)=1,K3850,\"\")","v":""}]
[null,null,null,null,null,null,null,null,null,"",0,{"$f":"IF(COUNTIF(K$1:K3851,K3851)=1,K3851,\"\")","v":""}]
[null,null,null,null,null,null,null,null,null,"",0,{"$f":"IF(COUNTIF(K$1:K3852,K3852)=1,K3852,\"\")","v":""}]
[null,null,null,null,null,null,null,null,null,"",0,{"$f":"IF(COUNTIF(K$1:K3853,K3853)=1,K3853,\"\")","v":""}]
[null,null,null,null,null,null,null,null,null,"",0,{"$f":"IF(COUNTIF(K$1:K3854,K3854)=1,K3854,\"\")","v":""}]
[null,null,null,null,null,null,null,null,null,"",0,{"$f":"IF(COUNTIF(K$1:K3855,K3855)=1,K3855,\"\")","v":""}]
[null,null,null,null,null,null,null,null,null,"",0,{"$f":"IF(COUNTIF(K$1:K3856,K3856)=1,K3856,\"\")","v":""}]
[null,null,null,null,null,null,null,null,null,"",0,{"$f":"IF(COUNTIF(K$1:K3857,K3857)=1,K3857,\"\")","v":""}]
[null,null,null,null,null,null,null,null,null,"",0,{"$f":"IF(COUNTIF(K$1:K3858,K3858)=1,K3858,\"\")","v":""}]
[null,null,null,null,null,null,null,null,null,"",0,{"$f":"IF(COUNTIF(K$1:K3859,K3859)=1,K3859,\"\")","v":""}]
[null,null,null,null,null,null,null,null,null,"",0,{"$f":"IF(COUNTIF(K$1:K3860,K3860)=1,K3860,\"\")","v":""}]
[null,null,null,null,null,null,null,null,null,"",0,{"$f":"IF(COUNTIF(K$1:K3861,K3861)=1,K3861,\"\")","v":""}]
[null,null,null,null,null,null,null,null,null,"",0,{"$f":"IF(COUNTIF(K$1:K3862,K3862)=1,K3862,\"\")","v":""}]
[null,null,null,null,null,null,null,null,null,"",0,{"$f":"IF(COUNTIF(K$1:K3863,K3863)=1,K3863,\"\")","v":""}]
[null,null,null,null,null,null,null,null,null,"",0,{"$f":"IF(COUNTIF(K$1:K3864,K3864)=1,K3864,\"\")","v":""}]
[null,null,null,null,null,null,null,null,null,"",0,{"$f":"IF(COUNTIF(K$1:K3865,K3865)=1,K3865,\"\")","v":""}]
[null,null,null,null,null,null,null,null,null,"",0,{"$f":"IF(COUNTIF(K$1:K3866,K3866)=1,K3866,\"\")","v":""}]
[null,null,null,null,null,null,null,null,null,"",0,{"$f":"IF(COUNTIF(K$1:K3867,K3867)=1,K3867,\"\")","v":""}]
[null,null,null,null,null,null,null,null,null,"",0,{"$f":"IF(COUNTIF(K$1:K3868,K3868)=1,K3868,\"\")","v":""}]
[null,null,null,null,null,null,null,null,null,{"$f":"IF(D3869=\"\",\"\",IF(ISERROR(FIND(\"s\",D3869)),IF(ISERROR(FIND(\"h \",D3869)),LEFT(D3869,2)/60,   LEFT(D3869,FIND(\"h \",D3869)-1 )+LEFT(RIGHT(D3869,3),2)/60   ),0))","v":""},{"$f":"SUMIFS(J:J,C:C,C3869,A:A,\">\"&$S$4)","v":0},{"$f":"IF(COUNTIF(K$1:K3869,K3869)=1,K3869,\"\")","v":""}]
[null,null,null,null,null,null,null,null,null,"",0,{"$f":"IF(COUNTIF(K$1:K3870,K3870)=1,K3870,\"\")","v":""}]
[null,null,null,null,null,null,null,null,null,"",0,{"$f":"IF(COUNTIF(K$1:K3871,K3871)=1,K3871,\"\")","v":""}]
[null,null,null,null,null,null,null,null,null,"",0,{"$f":"IF(COUNTIF(K$1:K3872,K3872)=1,K3872,\"\")","v":""}]
[null,null,null,null,null,null,null,null,null,"",0,{"$f":"IF(COUNTIF(K$1:K3873,K3873)=1,K3873,\"\")","v":""}]
[null,null,null,null,null,null,null,null,null,"",0,{"$f":"IF(COUNTIF(K$1:K3874,K3874)=1,K3874,\"\")","v":""}]
[null,null,null,null,null,null,null,null,null,"",0,{"$f":"IF(COUNTIF(K$1:K3875,K3875)=1,K3875,\"\")","v":""}]
[null,null,null,null,null,null,null,null,null,"",0,{"$f":"IF(COUNTIF(K$1:K3876,K3876)=1,K3876,\"\")","v":""}]
[null,null,null,null,null,null,null,null,null,"",0,{"$f":"IF(COUNTIF(K$1:K3877,K3877)=1,K3877,\"\")","v":""}]
[null,null,null,null,null,null,null,null,null,"",0,{"$f":"IF(COUNTIF(K$1:K3878,K3878)=1,K3878,\"\")","v":""}]
[null,null,null,null,null,null,null,null,null,"",0,{"$f":"IF(COUNTIF(K$1:K3879,K3879)=1,K3879,\"\")","v":""}]
[null,null,null,null,null,null,null,null,null,"",0,{"$f":"IF(COUNTIF(K$1:K3880,K3880)=1,K3880,\"\")","v":""}]
[null,null,null,null,null,null,null,null,null,"",0,{"$f":"IF(COUNTIF(K$1:K3881,K3881)=1,K3881,\"\")","v":""}]
[null,null,null,null,null,null,null,null,null,"",0,{"$f":"IF(COUNTIF(K$1:K3882,K3882)=1,K3882,\"\")","v":""}]
[null,null,null,null,null,null,null,null,null,"",0,{"$f":"IF(COUNTIF(K$1:K3883,K3883)=1,K3883,\"\")","v":""}]
[null,null,null,null,null,null,null,null,null,"",0,{"$f":"IF(COUNTIF(K$1:K3884,K3884)=1,K3884,\"\")","v":""}]
[null,null,null,null,null,null,null,null,null,"",0,{"$f":"IF(COUNTIF(K$1:K3885,K3885)=1,K3885,\"\")","v":""}]
[null,null,null,null,null,null,null,null,null,"",0,{"$f":"IF(COUNTIF(K$1:K3886,K3886)=1,K3886,\"\")","v":""}]
[null,null,null,null,null,null,null,null,null,"",0,{"$f":"IF(COUNTIF(K$1:K3887,K3887)=1,K3887,\"\")","v":""}]
[null,null,null,null,null,null,null,null,null,"",0,{"$f":"IF(COUNTIF(K$1:K3888,K3888)=1,K3888,\"\")","v":""}]
[null,null,null,null,null,null,null,null,null,"",0,{"$f":"IF(COUNTIF(K$1:K3889,K3889)=1,K3889,\"\")","v":""}]
[null,null,null,null,null,null,null,null,null,"",0,{"$f":"IF(COUNTIF(K$1:K3890,K3890)=1,K3890,\"\")","v":""}]
[null,null,null,null,null,null,null,null,null,"",0,{"$f":"IF(COUNTIF(K$1:K3891,K3891)=1,K3891,\"\")","v":""}]
[null,null,null,null,null,null,null,null,null,"",0,{"$f":"IF(COUNTIF(K$1:K3892,K3892)=1,K3892,\"\")","v":""}]
[null,null,null,null,null,null,null,null,null,"",0,{"$f":"IF(COUNTIF(K$1:K3893,K3893)=1,K3893,\"\")","v":""}]
[null,null,null,null,null,null,null,null,null,"",0,{"$f":"IF(COUNTIF(K$1:K3894,K3894)=1,K3894,\"\")","v":""}]
[null,null,null,null,null,null,null,null,null,"",0,{"$f":"IF(COUNTIF(K$1:K3895,K3895)=1,K3895,\"\")","v":""}]
[null,null,null,null,null,null,null,null,null,"",0,{"$f":"IF(COUNTIF(K$1:K3896,K3896)=1,K3896,\"\")","v":""}]
[null,null,null,null,null,null,null,null,null,"",0,{"$f":"IF(COUNTIF(K$1:K3897,K3897)=1,K3897,\"\")","v":""}]
[null,null,null,null,null,null,null,null,null,"",0,{"$f":"IF(COUNTIF(K$1:K3898,K3898)=1,K3898,\"\")","v":""}]
[null,null,null,null,null,null,null,null,null,"",0,{"$f":"IF(COUNTIF(K$1:K3899,K3899)=1,K3899,\"\")","v":""}]
[null,null,null,null,null,null,null,null,null,"",0,{"$f":"IF(COUNTIF(K$1:K3900,K3900)=1,K3900,\"\")","v":""}]
[null,null,null,null,null,null,null,null,null,"",0,{"$f":"IF(COUNTIF(K$1:K3901,K3901)=1,K3901,\"\")","v":""}]
[null,null,null,null,null,null,null,null,null,"",0,{"$f":"IF(COUNTIF(K$1:K3902,K3902)=1,K3902,\"\")","v":""}]
[null,null,null,null,null,null,null,null,null,"",0,{"$f":"IF(COUNTIF(K$1:K3903,K3903)=1,K3903,\"\")","v":""}]
[null,null,null,null,null,null,null,null,null,"",0,{"$f":"IF(COUNTIF(K$1:K3904,K3904)=1,K3904,\"\")","v":""}]
[null,null,null,null,null,null,null,null,null,"",0,{"$f":"IF(COUNTIF(K$1:K3905,K3905)=1,K3905,\"\")","v":""}]
[null,null,null,null,null,null,null,null,null,"",0,{"$f":"IF(COUNTIF(K$1:K3906,K3906)=1,K3906,\"\")","v":""}]
[null,null,null,null,null,null,null,null,null,"",0,{"$f":"IF(COUNTIF(K$1:K3907,K3907)=1,K3907,\"\")","v":""}]
[null,null,null,null,null,null,null,null,null,"",0,{"$f":"IF(COUNTIF(K$1:K3908,K3908)=1,K3908,\"\")","v":""}]
[null,null,null,null,null,null,null,null,null,"",0,{"$f":"IF(COUNTIF(K$1:K3909,K3909)=1,K3909,\"\")","v":""}]
[null,null,null,null,null,null,null,null,null,"",0,{"$f":"IF(COUNTIF(K$1:K3910,K3910)=1,K3910,\"\")","v":""}]
[null,null,null,null,null,null,null,null,null,"",0,{"$f":"IF(COUNTIF(K$1:K3911,K3911)=1,K3911,\"\")","v":""}]
[null,null,null,null,null,null,null,null,null,"",0,{"$f":"IF(COUNTIF(K$1:K3912,K3912)=1,K3912,\"\")","v":""}]
[null,null,null,null,null,null,null,null,null,"",0,{"$f":"IF(COUNTIF(K$1:K3913,K3913)=1,K3913,\"\")","v":""}]
[null,null,null,null,null,null,null,null,null,"",0,{"$f":"IF(COUNTIF(K$1:K3914,K3914)=1,K3914,\"\")","v":""}]
[null,null,null,null,null,null,null,null,null,"",0,{"$f":"IF(COUNTIF(K$1:K3915,K3915)=1,K3915,\"\")","v":""}]
[null,null,null,null,null,null,null,null,null,"",0,{"$f":"IF(COUNTIF(K$1:K3916,K3916)=1,K3916,\"\")","v":""}]
[null,null,null,null,null,null,null,null,null,"",0,{"$f":"IF(COUNTIF(K$1:K3917,K3917)=1,K3917,\"\")","v":""}]
[null,null,null,null,null,null,null,null,null,"",0,{"$f":"IF(COUNTIF(K$1:K3918,K3918)=1,K3918,\"\")","v":""}]
[null,null,null,null,null,null,null,null,null,"",0,{"$f":"IF(COUNTIF(K$1:K3919,K3919)=1,K3919,\"\")","v":""}]
[null,null,null,null,null,null,null,null,null,"",0,{"$f":"IF(COUNTIF(K$1:K3920,K3920)=1,K3920,\"\")","v":""}]
[null,null,null,null,null,null,null,null,null,"",0,{"$f":"IF(COUNTIF(K$1:K3921,K3921)=1,K3921,\"\")","v":""}]
[null,null,null,null,null,null,null,null,null,"",0,{"$f":"IF(COUNTIF(K$1:K3922,K3922)=1,K3922,\"\")","v":""}]
[null,null,null,null,null,null,null,null,null,"",0,{"$f":"IF(COUNTIF(K$1:K3923,K3923)=1,K3923,\"\")","v":""}]
[null,null,null,null,null,null,null,null,null,"",0,{"$f":"IF(COUNTIF(K$1:K3924,K3924)=1,K3924,\"\")","v":""}]
[null,null,null,null,null,null,null,null,null,"",0,{"$f":"IF(COUNTIF(K$1:K3925,K3925)=1,K3925,\"\")","v":""}]
[null,null,null,null,null,null,null,null,null,"",0,{"$f":"IF(COUNTIF(K$1:K3926,K3926)=1,K3926,\"\")","v":""}]
[null,null,null,null,null,null,null,null,null,"",0,{"$f":"IF(COUNTIF(K$1:K3927,K3927)=1,K3927,\"\")","v":""}]
[null,null,null,null,null,null,null,null,null,"",0,{"$f":"IF(COUNTIF(K$1:K3928,K3928)=1,K3928,\"\")","v":""}]
[null,null,null,null,null,null,null,null,null,"",0,{"$f":"IF(COUNTIF(K$1:K3929,K3929)=1,K3929,\"\")","v":""}]
[null,null,null,null,null,null,null,null,null,"",0,{"$f":"IF(COUNTIF(K$1:K3930,K3930)=1,K3930,\"\")","v":""}]
[null,null,null,null,null,null,null,null,null,"",0,{"$f":"IF(COUNTIF(K$1:K3931,K3931)=1,K3931,\"\")","v":""}]
[null,null,null,null,null,null,null,null,null,"",0,{"$f":"IF(COUNTIF(K$1:K3932,K3932)=1,K3932,\"\")","v":""}]
[null,null,null,null,null,null,null,null,null,{"$f":"IF(D3933=\"\",\"\",IF(ISERROR(FIND(\"s\",D3933)),IF(ISERROR(FIND(\"h \",D3933)),LEFT(D3933,2)/60,   LEFT(D3933,FIND(\"h \",D3933)-1 )+LEFT(RIGHT(D3933,3),2)/60   ),0))","v":""},{"$f":"SUMIFS(J:J,C:C,C3933,A:A,\">\"&$S$4)","v":0},{"$f":"IF(COUNTIF(K$1:K3933,K3933)=1,K3933,\"\")","v":""}]
[null,null,null,null,null,null,null,null,null,"",0,{"$f":"IF(COUNTIF(K$1:K3934,K3934)=1,K3934,\"\")","v":""}]
[null,null,null,null,null,null,null,null,null,"",0,{"$f":"IF(COUNTIF(K$1:K3935,K3935)=1,K3935,\"\")","v":""}]
[null,null,null,null,null,null,null,null,null,"",0,{"$f":"IF(COUNTIF(K$1:K3936,K3936)=1,K3936,\"\")","v":""}]
[null,null,null,null,null,null,null,null,null,"",0,{"$f":"IF(COUNTIF(K$1:K3937,K3937)=1,K3937,\"\")","v":""}]
[null,null,null,null,null,null,null,null,null,"",0,{"$f":"IF(COUNTIF(K$1:K3938,K3938)=1,K3938,\"\")","v":""}]
[null,null,null,null,null,null,null,null,null,"",0,{"$f":"IF(COUNTIF(K$1:K3939,K3939)=1,K3939,\"\")","v":""}]
[null,null,null,null,null,null,null,null,null,"",0,{"$f":"IF(COUNTIF(K$1:K3940,K3940)=1,K3940,\"\")","v":""}]
[null,null,null,null,null,null,null,null,null,"",0,{"$f":"IF(COUNTIF(K$1:K3941,K3941)=1,K3941,\"\")","v":""}]
[null,null,null,null,null,null,null,null,null,"",0,{"$f":"IF(COUNTIF(K$1:K3942,K3942)=1,K3942,\"\")","v":""}]
[null,null,null,null,null,null,null,null,null,"",0,{"$f":"IF(COUNTIF(K$1:K3943,K3943)=1,K3943,\"\")","v":""}]
[null,null,null,null,null,null,null,null,null,"",0,{"$f":"IF(COUNTIF(K$1:K3944,K3944)=1,K3944,\"\")","v":""}]
[null,null,null,null,null,null,null,null,null,"",0,{"$f":"IF(COUNTIF(K$1:K3945,K3945)=1,K3945,\"\")","v":""}]
[null,null,null,null,null,null,null,null,null,"",0,{"$f":"IF(COUNTIF(K$1:K3946,K3946)=1,K3946,\"\")","v":""}]
[null,null,null,null,null,null,null,null,null,"",0,{"$f":"IF(COUNTIF(K$1:K3947,K3947)=1,K3947,\"\")","v":""}]
[null,null,null,null,null,null,null,null,null,"",0,{"$f":"IF(COUNTIF(K$1:K3948,K3948)=1,K3948,\"\")","v":""}]
[null,null,null,null,null,null,null,null,null,"",0,{"$f":"IF(COUNTIF(K$1:K3949,K3949)=1,K3949,\"\")","v":""}]
[null,null,null,null,null,null,null,null,null,"",0,{"$f":"IF(COUNTIF(K$1:K3950,K3950)=1,K3950,\"\")","v":""}]
[null,null,null,null,null,null,null,null,null,"",0,{"$f":"IF(COUNTIF(K$1:K3951,K3951)=1,K3951,\"\")","v":""}]
[null,null,null,null,null,null,null,null,null,"",0,{"$f":"IF(COUNTIF(K$1:K3952,K3952)=1,K3952,\"\")","v":""}]
[null,null,null,null,null,null,null,null,null,"",0,{"$f":"IF(COUNTIF(K$1:K3953,K3953)=1,K3953,\"\")","v":""}]
[null,null,null,null,null,null,null,null,null,"",0,{"$f":"IF(COUNTIF(K$1:K3954,K3954)=1,K3954,\"\")","v":""}]
[null,null,null,null,null,null,null,null,null,"",0,{"$f":"IF(COUNTIF(K$1:K3955,K3955)=1,K3955,\"\")","v":""}]
[null,null,null,null,null,null,null,null,null,"",0,{"$f":"IF(COUNTIF(K$1:K3956,K3956)=1,K3956,\"\")","v":""}]
[null,null,null,null,null,null,null,null,null,"",0,{"$f":"IF(COUNTIF(K$1:K3957,K3957)=1,K3957,\"\")","v":""}]
[null,null,null,null,null,null,null,null,null,"",0,{"$f":"IF(COUNTIF(K$1:K3958,K3958)=1,K3958,\"\")","v":""}]
[null,null,null,null,null,null,null,null,null,"",0,{"$f":"IF(COUNTIF(K$1:K3959,K3959)=1,K3959,\"\")","v":""}]
[null,null,null,null,null,null,null,null,null,"",0,{"$f":"IF(COUNTIF(K$1:K3960,K3960)=1,K3960,\"\")","v":""}]
[null,null,null,null,null,null,null,null,null,"",0,{"$f":"IF(COUNTIF(K$1:K3961,K3961)=1,K3961,\"\")","v":""}]
[null,null,null,null,null,null,null,null,null,"",0,{"$f":"IF(COUNTIF(K$1:K3962,K3962)=1,K3962,\"\")","v":""}]
[null,null,null,null,null,null,null,null,null,"",0,{"$f":"IF(COUNTIF(K$1:K3963,K3963)=1,K3963,\"\")","v":""}]
[null,null,null,null,null,null,null,null,null,"",0,{"$f":"IF(COUNTIF(K$1:K3964,K3964)=1,K3964,\"\")","v":""}]
[null,null,null,null,null,null,null,null,null,"",0,{"$f":"IF(COUNTIF(K$1:K3965,K3965)=1,K3965,\"\")","v":""}]
[null,null,null,null,null,null,null,null,null,"",0,{"$f":"IF(COUNTIF(K$1:K3966,K3966)=1,K3966,\"\")","v":""}]
[null,null,null,null,null,null,null,null,null,"",0,{"$f":"IF(COUNTIF(K$1:K3967,K3967)=1,K3967,\"\")","v":""}]
[null,null,null,null,null,null,null,null,null,"",0,{"$f":"IF(COUNTIF(K$1:K3968,K3968)=1,K3968,\"\")","v":""}]
[null,null,null,null,null,null,null,null,null,"",0,{"$f":"IF(COUNTIF(K$1:K3969,K3969)=1,K3969,\"\")","v":""}]
[null,null,null,null,null,null,null,null,null,"",0,{"$f":"IF(COUNTIF(K$1:K3970,K3970)=1,K3970,\"\")","v":""}]
[null,null,null,null,null,null,null,null,null,"",0,{"$f":"IF(COUNTIF(K$1:K3971,K3971)=1,K3971,\"\")","v":""}]
[null,null,null,null,null,null,null,null,null,"",0,{"$f":"IF(COUNTIF(K$1:K3972,K3972)=1,K3972,\"\")","v":""}]
[null,null,null,null,null,null,null,null,null,"",0,{"$f":"IF(COUNTIF(K$1:K3973,K3973)=1,K3973,\"\")","v":""}]
[null,null,null,null,null,null,null,null,null,"",0,{"$f":"IF(COUNTIF(K$1:K3974,K3974)=1,K3974,\"\")","v":""}]
[null,null,null,null,null,null,null,null,null,"",0,{"$f":"IF(COUNTIF(K$1:K3975,K3975)=1,K3975,\"\")","v":""}]
[null,null,null,null,null,null,null,null,null,"",0,{"$f":"IF(COUNTIF(K$1:K3976,K3976)=1,K3976,\"\")","v":""}]
[null,null,null,null,null,null,null,null,null,"",0,{"$f":"IF(COUNTIF(K$1:K3977,K3977)=1,K3977,\"\")","v":""}]
[null,null,null,null,null,null,null,null,null,"",0,{"$f":"IF(COUNTIF(K$1:K3978,K3978)=1,K3978,\"\")","v":""}]
[null,null,null,null,null,null,null,null,null,"",0,{"$f":"IF(COUNTIF(K$1:K3979,K3979)=1,K3979,\"\")","v":""}]
[null,null,null,null,null,null,null,null,null,"",0,{"$f":"IF(COUNTIF(K$1:K3980,K3980)=1,K3980,\"\")","v":""}]
[null,null,null,null,null,null,null,null,null,"",0,{"$f":"IF(COUNTIF(K$1:K3981,K3981)=1,K3981,\"\")","v":""}]
[null,null,null,null,null,null,null,null,null,"",0,{"$f":"IF(COUNTIF(K$1:K3982,K3982)=1,K3982,\"\")","v":""}]
[null,null,null,null,null,null,null,null,null,"",0,{"$f":"IF(COUNTIF(K$1:K3983,K3983)=1,K3983,\"\")","v":""}]
[null,null,null,null,null,null,null,null,null,"",0,{"$f":"IF(COUNTIF(K$1:K3984,K3984)=1,K3984,\"\")","v":""}]
[null,null,null,null,null,null,null,null,null,"",0,{"$f":"IF(COUNTIF(K$1:K3985,K3985)=1,K3985,\"\")","v":""}]
[null,null,null,null,null,null,null,null,null,"",0,{"$f":"IF(COUNTIF(K$1:K3986,K3986)=1,K3986,\"\")","v":""}]
[null,null,null,null,null,null,null,null,null,"",0,{"$f":"IF(COUNTIF(K$1:K3987,K3987)=1,K3987,\"\")","v":""}]
[null,null,null,null,null,null,null,null,null,"",0,{"$f":"IF(COUNTIF(K$1:K3988,K3988)=1,K3988,\"\")","v":""}]
[null,null,null,null,null,null,null,null,null,"",0,{"$f":"IF(COUNTIF(K$1:K3989,K3989)=1,K3989,\"\")","v":""}]
[null,null,null,null,null,null,null,null,null,"",0,{"$f":"IF(COUNTIF(K$1:K3990,K3990)=1,K3990,\"\")","v":""}]
[null,null,null,null,null,null,null,null,null,"",0,{"$f":"IF(COUNTIF(K$1:K3991,K3991)=1,K3991,\"\")","v":""}]
[null,null,null,null,null,null,null,null,null,"",0,{"$f":"IF(COUNTIF(K$1:K3992,K3992)=1,K3992,\"\")","v":""}]
[null,null,null,null,null,null,null,null,null,"",0,{"$f":"IF(COUNTIF(K$1:K3993,K3993)=1,K3993,\"\")","v":""}]
[null,null,null,null,null,null,null,null,null,"",0,{"$f":"IF(COUNTIF(K$1:K3994,K3994)=1,K3994,\"\")","v":""}]
[null,null,null,null,null,null,null,null,null,"",0,{"$f":"IF(COUNTIF(K$1:K3995,K3995)=1,K3995,\"\")","v":""}]
[null,null,null,null,null,null,null,null,null,"",0,{"$f":"IF(COUNTIF(K$1:K3996,K3996)=1,K3996,\"\")","v":""}]
[null,null,null,null,null,null,null,null,null,{"$f":"IF(D3997=\"\",\"\",IF(ISERROR(FIND(\"s\",D3997)),IF(ISERROR(FIND(\"h \",D3997)),LEFT(D3997,2)/60,   LEFT(D3997,FIND(\"h \",D3997)-1 )+LEFT(RIGHT(D3997,3),2)/60   ),0))","v":""},{"$f":"SUMIFS(J:J,C:C,C3997,A:A,\">\"&$S$4)","v":0},{"$f":"IF(COUNTIF(K$1:K3997,K3997)=1,K3997,\"\")","v":""}]
[null,null,null,null,null,null,null,null,null,"",0,{"$f":"IF(COUNTIF(K$1:K3998,K3998)=1,K3998,\"\")","v":""}]
[null,null,null,null,null,null,null,null,null,"",0,{"$f":"IF(COUNTIF(K$1:K3999,K3999)=1,K3999,\"\")","v":""}]
[null,null,null,null,null,null,null,null,null,"",0,{"$f":"IF(COUNTIF(K$1:K4000,K4000)=1,K4000,\"\")","v":""}]

{"sheet":"Trello","index":3,"n_rows":192,"n_cols":26,"rows_kept":192,"cut":false,"hidden":false,"merged":[]}
["|","|__grupo","|__total","|__tarjetas__|","|__tarjetas__|__nombre","|__tarjetas__|__numero","|__tarjetas__|__checklist","|__tarjetas__|__adjuntos","|__tarjetas__|__comentarios","|__tarjetas__|__card_age","|__tarjetas__|__mxn","|__tarjetas__|__debt","|__tarjetas__|__cost","|__tarjetas__|__foreign","|__tarjetas__|__deadline","|__tarjetas__|__delivered","|__tarjetas__|__sla","|__tarjetas__|__timecamp","|__tarjetas__|__estimate","|__tarjetas__|__plugin__0","|__tarjetas__|__plugin__1","|__tarjetas__|__plugin__2","|__tarjetas__|__plugin__3","|__tarjetas__|__plugin__4","|__tarjetas__|__plugin__5","|__tarjetas__|__plugin__6"]
["Vendiendo","Vendiendo",8,0,"Manuel Austria - agentur.xxx",null,null,2,1,"⌚ 14 days",null,null,null,"Foreign: 2.100",null,null,null,null,null,"⌚ 14 days","Foreign: 2.100"]
[null,null,null,1,"Wilbur LAX - lotusesthetic.com",null,null,3,2,"⌚ 15 days",null,null,null,"Foreign: 800",null,null,null,null,"Estimate hrs: 20","⌚ 15 days","Foreign: 800","Estimate hrs: 20"]
[null,null,null,2,"Ricardo CDMX - Página web",null,null,2,1,"⌚ 18 days",null,null,null,"Foreign: 500",null,null,null,null,null,"⌚ 18 days","Foreign: 500"]
[null,null,null,3,"Juan Balnearis - Landing bodyclinic",null,null,1,1,"⌚ 14 days",null,null,null,"Foreign: 75",null,null,null,null,null,"⌚ 14 days","Foreign: 75"]
[null,null,null,4,"Francisco Inlat - Nuevo Figurella Franquicias",null,null,1,1,"⌚ 141 days",null,null,null,"Foreign: 1.400",null,null,null,null,"Estimate hrs: 40","⌚ 141 days","Foreign: 1.400","Estimate hrs: 40"]
[null,null,null,5,"Ricardo Cuerna - Designer space",null,null,3,2,"⌚ 6 days",null,null,null,"Foreign: 750",null,null,null,null,"Estimate hrs: 20","⌚ 6 days","Foreign: 750","Estimate hrs: 20"]
[null,null,null,6,"Faby - APIs Libreria y rediseño",null,null,null,1,"⌚ 1 days","MXN: 22.000",null,null,null,null,null,null,null,null,"⌚ 1 days","MXN: 22.000"]
[null,null,null,7,"Eduardo Freelancer - cambios Arekkusu 2do round",null,null,1,1,"⌚ 1 days",null,null,null,"Foreign: 300",null,null,null,null,null,"⌚ 1 days","Foreign: 300"]
["Actual","Actual",6,0,"Ricardo CDMX - Excel a Plataforma Web",null,"2023-05-04",2,4,"⌚ 18 days",null,null,null,"Foreign: 300","Deadline: Mi., 30. Aug. 2023","Delivered: Fr., 1. Sept. 2023","2d 18h","15:26:00",null,"⌚ 18 days","Foreign: 300","Deadline: Mi., 30. Aug. 2023","Delivered: Fr., 1. Sept. 2023","2d 18h","15:26:00"]
[null,null,null,1,"Jaidi Col - PDF online marker",null,null,5,4,"⌚ 12 days",null,null,null,"Foreign: 700","Deadline: Fr., 15. Sept. 2023",null,"3d 6h","00:36:00","Estimate hrs: 15","⌚ 12 days","Foreign: 700","Estimate hrs: 15","Deadline: Fr., 15. Sept. 2023","3d 6h","00:36:00"]
[null,null,null,2,"Francisco Inlat - Ingeurbe Ingles",null,null,1,4,"⌚ 22 days",null,null,null,"Foreign: 800",null,null,"14d 2h",null,null,"⌚ 22 days","Foreign: 800","14d 2h"]
[null,null,null,3,"Gary Hydracheck - safe-2-bleed Quote on contact",null,null,2,null,"⌚ 1 days",null,null,null,null,null,null,"14d 5h",null,null,"⌚ 1 day","14d 5h"]
[null,null,null,4,"Ricardo Cuerna - Fixum Carta Porte",null,null,1,3,"⌚ 28 days",null,null,null,"Foreign: 2.500",null,null,"8d 5h","00:01:00",null,"⌚ 28 days","Foreign: 2.500","8d 5h","00:01:00"]
[null,null,null,5,"Juan Balnearis - Bodyclinicmx cambios",null,null,6,3,"⌚ 23 days",null,null,null,"Foreign: 200",null,null,"9h 19min","00:37:00",null,"⌚ 23 days","Foreign: 200","9h 19min","00:37:00"]
["Cobrando","Cobrando",7,0,"Faby - Crawler Farmakosto",null,"2023-04-04",1,5,"⌚ 43 days","MXN: 30.000","Debt: 15.000",null,null,"Deadline: Mi., 13. Sept. 2023",null,"14d 5h",0.41736111111111113,null,"⌚ 43 days","MXN: 30.000","Debt: 15.000","Deadline: Mi., 13. Sept. 2023","14d 5h","10:01:00"]
[null,null,null,1,"Bjorn Sueco - Speedup",null,null,1,1,"⌚ 3 days",null,null,null,"Foreign: 300",null,null,"14d 10h",null,null,"⌚ 3 days","Foreign: 300","14d 10h"]
[null,null,null,2,"Juan Balnearis - unidades medicas",null,null,3,3,"⌚ 23 days",null,null,null,"Foreign: 400",null,null,"10d 6h","00:37:00",null,"⌚ 23 days","Foreign: 400","10d 6h","00:37:00"]
[null,null,null,3,"Daren frelancer - cambios maintenance form",null,null,5,8,"⌚ 15 days",null,"Debt: 100",null,"Foreign: 100",null,null,"1d 6h","01:00:00",null,"⌚ 15 days","Foreign: 100","Debt: 100","1d 6h","01:00:00"]
[null,null,null,4,"Rodrigo Techservices - Kanatest Hosting",null,null,null,2,"⌚ 70 days","MXN: 2.000","Debt: 1.700",null,null,null,null,"-54d 21h",null,null,"⌚ 70 days","MXN: 2.000","Debt: 1.700","-54d 21h"]
[null,null,null,5,"Ricardo Freelancer - BDD Spotify",null,"42/46",5,10,"⌚ 321 days",null,"Debt: 257",null,"Foreign: 5.497",null,null,null,"09:52:00",null,"⌚ 321 days","Foreign: 5.497","Debt: 257","09:52:00"]
[null,null,null,6,"Yordi - Prestamo Kennedy",null,null,1,1,"⌚ 12 days","MXN: 1.750",null,null,null,null,null,"2d 14h",null,null,"⌚ 12 days","MXN: 1.750","2d 14h"]
["Terminado","Terminado",118,0,"Alejandro Disidentes - Sixbell",null,null,4,3,"⌚ 65 days",null,"Debt: 0",null,"Foreign: 450",null,null,null,"07:53:00",null,"⌚ 65 days","Foreign: 450","Debt: 0","07:53:00"]
[null,null,null,1,"Gary Hydracheck - add to cart godspeedsocks",null,null,null,3,"⌚ 15 days",null,"Debt: 100","Cost: 10 $","Foreign: 100",null,null,null,null,null,"⌚ 15 days","Foreign: 100","Debt: 100","Cost: 10 $"]
[null,null,null,2,"Ricardo Cuerna - Fixum facturacion",null,null,12,9,"⌚ 83 days",null,"Debt: 0",null,"Foreign: 1.900","Deadline: Mo., 31. Juli 2023",null,null,1.0805555555555555,"Estimate hrs: 40","⌚ 83 days","Foreign: 1.900","Debt: 0","Estimate hrs: 40","Deadline: Mo., 31. Juli 2023",1.0805555555555555]
[null,null,null,3,"Viv Freelancer - 5 column filter",null,null,4,8,"⌚ 32 days",null,"Debt: 0",null,"Foreign: 200",null,"Delivered: Di., 29. Aug. 2023",null,"09:03:00",null,"⌚ 32 days","Foreign: 200","Debt: 0","Delivered: Di., 29. Aug. 2023","09:03:00"]
[null,null,null,4,"Juan Balnearis - Landing y cambios web",null,null,6,3,"⌚ 30 days",null,"Debt: 0",null,"Foreign: 350",null,"Delivered: Di., 29. Aug. 2023",null,"09:38:00",null,"⌚ 30 days","Foreign: 350","Debt: 0","Delivered: Di., 29. Aug. 2023","09:38:00"]
[null,null,null,5,"Juan Balnearis - promedicamujer",null,null,2,4,"⌚ 22 days",null,"Debt: 0",null,"Foreign: 200","Deadline: Do., 24. Aug. 2023","Delivered: Di., 29. Aug. 2023",null,"00:40:00",null,"⌚ 22 days","Foreign: 200","Debt: 0","Deadline: Do., 24. Aug. 2023","Delivered: Di., 29. Aug. 2023","00:40:00"]
[null,null,null,6,"Andres - Checkout fondo apuestas",null,null,null,3,"⌚ 25 days","MXN: 3.000","Debt: 0",null,null,null,null,null,null,null,"⌚ 25 days","MXN: 3.000","Debt: 0"]
[null,null,null,7,"Thomas Ferdinand - Website",null,null,4,11,"⌚ 58 days",null,"Debt: 375","Cost: 220 $","Foreign: 375","Deadline: Mi., 26. Juli 2023","Delivered: Di., 22. Aug. 2023",null,"02:10:00",null,"⌚ 58 days","Foreign: 375","Debt: 375","Cost: 220 $","Deadline: Mi., 26. Juli 2023","Delivered: Di., 22. Aug. 2023",9.0277777777777776E-2]
[null,null,null,8,"Paul Freelancer - 2nd round crypto website",null,null,1,2,"⌚ 30 days",null,"Debt: 0",null,"Foreign: 205",null,null,null,"03:28:00",null,"⌚ 30 days","Foreign: 205","Debt: 0","03:28:00"]
[null,null,null,9,"Bjorn Sueco - Nordic foods 2nd round",null,null,4,11,"⌚ 54 days",null,"Debt: 0","Cost: 212 $","Foreign: 600",null,null,null,"10:39:00",null,"⌚ 54 days","Foreign: 600","Debt: 0","Cost: 212 $","10:39:00"]
[null,null,null,10,"Carlos Sanchez - rehacer chrishop.mx",null,null,1,2,"⌚ 70 days","MXN: 1.000",null,null,null,null,null,null,"01:03:00",null,"⌚ 70 days","MXN: 1.000","01:03:00"]
[null,null,null,11,"Paul Freelancer - Coinbase API site",null,null,3,8,"⌚ 64 days",null,"Debt: 0","Cost: 200 $","Foreign: 575","Deadline: Di., 25. Juli 2023",null,null,"01:17:00","Estimate hrs: 10","⌚ 64 days","Foreign: 575","Debt: 0","Cost: 200 $","Estimate hrs: 10","Deadline: Di., 25. Juli 2023",5.347222222222222E-2]
[null,null,null,12,"Viv Freelancer - Fourdle game",null,"2023-02-01",1,21,"⌚ 65 days",null,"Debt: 0","Cost: 470 $","Foreign: 685","Deadline: Mi., 26. Juli 2023",null,null,1.1576388888888889,null,"⌚ 65 days","Foreign: 685","Debt: 0","Cost: 470 $","Deadline: Mi., 26. Juli 2023",1.1576388888888889]
[null,null,null,13,"Mama Madhu préstamo",null,null,null,2,"⌚ 79 days","MXN: 5.000",null,null,null,"Deadline: Mo., 10. Juli 2023",null,null,null,null,"⌚ 79 days","MXN: 5.000","Deadline: Mo., 10. Juli 2023"]
[null,null,null,14,"Juan Balnearis - Maquetar figma a html",null,null,6,8,"⌚ 50 days",null,"Debt: 0","Cost: 140 $","Foreign: 325",null,null,null,"00:10:00",null,"⌚ 50 days","Foreign: 325","Debt: 0","Cost: 140 $","00:10:00"]
[null,null,null,15,"Sam - Peters Window Hosting",null,null,null,3,"⌚ 42 days",null,"Debt: 0",null,"Foreign: 100",null,null,null,null,null,"⌚ 42 days","Foreign: 100","Debt: 0"]
[null,null,null,16,"Diana Inlat - Ingeurbe Tablet e Ingles",null,null,1,1,"⌚ 114 days",null,null,"Cost: 50 $","Foreign: 500",null,null,null,"01:30:00","Estimate hrs: 5","⌚ 114 days","Foreign: 500","Cost: 50 $","Estimate hrs: 5","01:30:00"]
[null,null,null,17,"Faby - LB Logistics",null,null,1,10,"⌚ 110 days","MXN: 12.000","Debt: 0","Cost: 260 $",null,"Deadline: Do., 20. Juli 2023",null,null,"10:49:00","Estimate hrs: 5","⌚ 110 days","MXN: 12.000","Debt: 0","Cost: 260 $","Estimate hrs: 5","Deadline: Do., 20. Juli 2023","10:49:00"]
[null,null,null,18,"Ricardo Freelancer - Accounting",null,"52/61",16,12,"⌚ 162 days",null,"Debt: 0",null,"Foreign: 6.000","Deadline: Fr., 28. Apr. 2023",null,null,6.2270833333333329,null,"⌚ 162 days","Foreign: 6.000","Debt: 0","Deadline: Fr., 28. Apr. 2023",6.2270833333333329]
[null,null,null,19,"Nana maletas Feb 23",null,null,null,1,"⌚ 78 days","MXN: 1.750",null,null,null,null,null,null,null,null,"⌚ 78 days","MXN: 1.750"]
[null,null,null,20,"Steve 5 10 - Página personal protfolio",null,null,4,7,"⌚ 111 days",null,"Debt: 0","Cost: 75 $","Foreign: 450","Deadline: Fr., 21. Juli 2023",null,null,0.31944444444444448,null,"⌚ 111 days","Foreign: 450","Debt: 0","Cost: 75 $","Deadline: Fr., 21. Juli 2023","07:40:00"]
[null,null,null,21,"Daren freelancer - Nuevo Form",null,null,1,5,"⌚ 97 days",null,"Debt: 0",null,"Foreign: 250",null,null,null,"00:19:00","Estimate hrs: 5","⌚ 97 days","Foreign: 250","Debt: 0","Estimate hrs: 5","00:19:00"]
[null,null,null,22,"Samantha - vuelo mty",null,null,null,3,"⌚ 185 days","MXN: 4.148","Debt: 4.148",null,null,null,null,null,null,null,"⌚ 185 days","MXN: 4.148","Debt: 4.148"]
[null,null,null,23,"Gary Hydracheck - Fix quote shipping",null,null,2,8,"⌚ 79 days",null,"Debt: 0",null,"Foreign: 250",null,null,null,"04:36:00","Estimate hrs: 5","⌚ 79 days","Foreign: 250","Debt: 0","Estimate hrs: 5","04:36:00"]
[null,null,null,24,"Yordi - préstamo fisher's",null,null,null,3,"⌚ 65 days","MXN: 1.500",null,null,null,"Deadline: So., 13. Aug. 2023",null,null,null,null,"⌚ 65 days","MXN: 1.500","Deadline: So., 13. Aug. 2023"]
[null,null,null,25,"Bjorn Sueco - ajustes Woo y POS",null,null,4,3,"⌚ 112 days",null,"Debt: 0","Cost: 450 $","Foreign: 900",null,null,null,"08:54:00","Estimate hrs: 10","⌚ 112 days","Foreign: 900","Debt: 0","Cost: 450 $","Estimate hrs: 10","08:54:00"]
[null,null,null,26,"Carlos Freelancer - Tarea flowchart y reporte",null,null,2,4,"⌚ 69 days",null,null,"Cost: 0 $","Foreign: 50",null,null,null,"01:13:00","Estimate hrs: 1","⌚ 69 days","Foreign: 50","Cost: 0 $","Estimate hrs: 1","01:13:00"]
[null,null,null,27,"Rodrigo Techservices - Techservices Hosting y run4you",null,null,8,5,"⌚ 110 days","MXN: 3.000",null,null,null,null,null,null,9.9999999999999992E-2,"Estimate hrs: 2","⌚ 110 days","MXN: 3.000","Estimate hrs: 2","02:24:00"]
[null,null,null,28,"Carlos Freelancer - Tarea API Tickers",null,null,1,1,"⌚ 76 days",null,null,null,"Foreign: 500",null,null,null,"13:09:00",null,"⌚ 76 days","Foreign: 500","13:09:00"]
[null,null,null,29,"Faby - PMI Ame Sitio multilang",null,"19/21",4,5,"⌚ 180 days","MXN: 13.000","Debt: 6.500","Cost: 200 $",null,"Deadline: Fr., 28. Apr. 2023",null,null,"10:19:00","Estimate hrs: 10","⌚ 180 days","MXN: 13.000","Debt: 6.500","Cost: 200 $","Estimate hrs: 10","Deadline: Fr., 28. Apr. 2023","10:19:00"]
[null,null,null,30,"Viv Freelancer - Historic wordle",null,null,2,2,"⌚ 76 days",null,"Debt: 125",null,"Foreign: 250",null,null,null,"04:44:00",null,"⌚ 76 days","Foreign: 250","Debt: 125","04:44:00"]
[null,null,null,31,"Faby - Candywax Depilaciones",null,"13/18",2,2,"⌚ 237 days","MXN: 12.000","Debt: 7.000",null,null,"Deadline: Di., 28. Feb. 2023","Delivered: Mi., 8. März 2023",null,"02:40:00",null,"⌚ 237 days","MXN: 12.000","Debt: 7.000","Deadline: Di., 28. Feb. 2023","Delivered: Mi., 8. März 2023","02:40:00"]
[null,null,null,32,"Mama Madhu - prestamo",null,null,1,3,"⌚ 151 days","MXN: 6.000","Debt: -400",null,null,null,null,null,"00:41:00",null,"⌚ 151 days","MXN: 6.000","Debt: -400","00:41:00"]
[null,null,null,33,"Eduardo Freelancer - Inmobiliaria Cambios php pura",null,null,5,3,"⌚ 224 days",null,"Debt: 0","Cost: 200 $","Foreign: 500",null,null,null,"07:03:00",null,"⌚ 224 days","Foreign: 500","Debt: 0","Cost: 200 $","07:03:00"]
[null,null,null,34,"Emilio pinturas arreglar su sitio",null,null,1,1,"⌚ 90 days",null,null,null,"Foreign: 35",null,null,null,null,null,"⌚ 90 days","Foreign: 35"]
[null,null,null,35,"Gary Hydracheck - Quote page makeup",null,null,1,1,"⌚ 115 days",null,null,"Cost: 80 $","Foreign: 200",null,null,null,"05:57:00",null,"⌚ 115 days","Foreign: 200","Cost: 80 $","05:57:00"]
[null,null,null,36,"Viv Freelancer - Soporte anual $200",null,null,2,1,"⌚ 96 days",null,null,null,"Foreign: 230",null,null,null,"06:01:00",null,"⌚ 96 days","Foreign: 230","06:01:00"]
[null,null,null,37,"Daren freelancer - nuevo form precisemd",null,null,4,1,"⌚ 112 days",null,null,"Cost: 30 $","Foreign: 250",null,null,null,"08:54:00",null,"⌚ 112 days","Foreign: 250","Cost: 30 $","08:54:00"]
[null,null,null,38,"Viv Freelancer - Ecommerce Wordle",null,"41/43",6,8,"⌚ 175 days",null,"Debt: 0",null,"Foreign: 885","Deadline: Mi., 12. Apr. 2023",null,null,"21:18:00","Estimate hrs: 20","⌚ 175 days","Foreign: 885","Debt: 0","Estimate hrs: 20","Deadline: Mi., 12. Apr. 2023","21:18:00"]
[null,null,null,39,"Miguel Bullkens - B2B Nuevo Exchange",null,null,3,1,"⌚ 239 days",null,"Debt: 350",null,"Foreign: 650","Deadline: Fr., 17. Feb. 2023",null,null,6.8749999999999992E-2,"Estimate hrs: 5","⌚ 239 days","Foreign: 650","Debt: 350","Estimate hrs: 5","Deadline: Fr., 17. Feb. 2023","01:39:00"]
[null,null,null,40,"Yamel - renovación Konditorhusset 2023",null,null,null,1,"⌚ 110 days","MXN: 2.000",null,null,null,null,null,null,null,null,"⌚ 110 days","MXN: 2.000"]
[null,null,null,41,"Viv Freelancer - hosting migration",null,null,1,1,"⌚ 115 days",null,null,null,"Foreign: 400",null,null,null,"05:27:00","Estimate hrs: 3","⌚ 115 days","Foreign: 400","Estimate hrs: 3","05:27:00"]
[null,null,null,42,"Xavier Bobby - Itel plugins desactivar",null,null,4,2,"⌚ 152 days",null,"Debt: 35",null,"Foreign: 35",null,null,null,"00:08:00",null,"⌚ 152 days","Foreign: 35","Debt: 35","00:08:00"]
[null,null,null,43,"Pablo Nanofactura - Soporte errores",null,null,2,2,"⌚ 125 days","MXN: 2.100","Debt: 2.100",null,null,null,null,null,"04:48:00","Estimate hrs: 3","⌚ 125 days","MXN: 2.100","Debt: 2.100","Estimate hrs: 3","04:48:00"]
[null,null,null,44,"Diana Inlat - Rehacer Ingeurbe",null,"2023-07-06",5,3,"⌚ 196 days",null,"Debt: 650","Cost: 250 $","Foreign: 1.000","Deadline: Fr., 21. Apr. 2023",null,null,1.8333333333333333,"Estimate hrs: 15","⌚ 196 days","Foreign: 1.000","Debt: 650","Cost: 250 $","Estimate hrs: 15","Deadline: Fr., 21. Apr. 2023",1.8333333333333333]
[null,null,null,45,"Pablo Nanofactura - Con IVA o sin IVA premium function global",null,null,1,null,"⌚ 145 days",null,null,null,null,null,null,null,"03:58:00",null,"⌚ 145 days","03:58:00"]
[null,null,null,46,"Rodrigo Techservices - WP Run4u",null,null,null,2,"⌚ 166 days","MXN: 350",null,null,null,null,null,null,null,null,"⌚ 166 days","MXN: 350"]
[null,null,null,47,"Gary Hydracheck New Checkout quitar maquillaje viejo",null,null,1,4,"⌚ 140 days",null,"Debt: 0",null,"Foreign: 200","Deadline: Fr., 5. Mai 2023","Delivered: Mi., 3. Mai 2023","-124d 18h","03:04:00",null,"⌚ 140 days","Foreign: 200","Debt: 0","Deadline: Fr., 5. Mai 2023","Delivered: Mi., 3. Mai 2023","-124d 18h","03:04:00"]
[null,null,null,48,"Gustavo Freelancer - Cambios pag ITESM",null,"2023-03-03",5,5,"⌚ 238 days","MXN: 2.750","Debt: 1.125",null,null,"Deadline: Di., 24. Jan. 2023","Delivered: Do., 26. Jan. 2023",null,"02:25:00",null,"⌚ 238 days","MXN: 2.750","Debt: 1.125","Deadline: Di., 24. Jan. 2023","Delivered: Do., 26. Jan. 2023","02:25:00"]
[null,null,null,49,"Pablo Nanofactura - Nuevo Diseño y nueva API",null,null,7,8,"⌚ 212 days","MXN: 11.000","Debt: 3.300",null,null,"Deadline: Fr., 24. Feb. 2023","Delivered: Di., 4. Apr. 2023",null,null,"Estimate hrs: 25","⌚ 212 days","MXN: 11.000","Debt: 3.300","Estimate hrs: 25","Deadline: Fr., 24. Feb. 2023","Delivered: Di., 4. Apr. 2023"]
[null,null,null,50,"Emilio Pinturas - bug lotes",null,null,5,1,"⌚ 162 days",null,null,null,"Foreign: 30",null,null,null,null,null,"⌚ 162 days","Foreign: 30"]
[null,null,null,51,"Xavier Bobby - Itel y Movitel Landings",null,"41/42",7,7,"⌚ 260 days",null,"Debt: 0",null,"Foreign: 600","Deadline: Mi., 22. März 2023",null,null,1.6465277777777778,"Estimate hrs: 35","⌚ 260 days","Foreign: 600","Debt: 0","Estimate hrs: 35","Deadline: Mi., 22. März 2023",1.6465277777777778]
[null,null,null,52,"yo - Migración de mi Whatsapp normal a Business",null,null,16,null,"⌚ 172 days",null,null,null,null,null,null,"-157d 11h",null,null,"⌚ 172 days","-157d 11h"]
[null,null,null,53,"Viv Freelancer - Wordle New Probability",null,null,2,1,"⌚ 175 days",null,null,null,"Foreign: 80","Deadline: Fr., 24. März 2023",null,null,null,null,"⌚ 175 days","Foreign: 80","Deadline: Fr., 24. März 2023"]
[null,null,null,54,"Santiago Freelancer - EncuentraTuBote",null,"41/41",2,1,"⌚ 357 days",null,"Debt: 250",null,"Foreign: 500","Deadline: Fr., 27. Jan. 2023",null,null,null,null,"⌚ 357 days","Foreign: 500","Debt: 250","Deadline: Fr., 27. Jan. 2023"]
[null,null,null,55,"John Freelancer - Traducción Form Ingles",null,null,4,1,"⌚ 187 days",null,"Debt: -150",null,"Foreign: 200",null,null,null,null,null,"⌚ 187 days","Foreign: 200","Debt: -150"]
[null,null,null,56,"Emilio pinturas - Pinturas fix error",null,null,null,null,"⌚ 187 days",null,null,null,"Foreign: 25",null,null,null,null,null,"⌚ 187 days","Foreign: 25"]
[null,null,null,57,"Gary Hydracheck - Checkout zipcode issue",null,null,null,null,"⌚ 188 days",null,null,null,"Foreign: 30",null,null,null,null,null,"⌚ 188 days","Foreign: 30"]
[null,null,null,58,"Nana - maletas",null,null,null,2,"⌚ 226 days","MXN: 4.292","Debt: 3.847",null,null,null,null,null,null,null,"⌚ 226 days","MXN: 4.292","Debt: 3.847"]
[null,null,null,59,"Viv Freelancer - Doble letra",null,null,null,null,"⌚ 191 days",null,null,null,"Foreign: 30",null,null,null,null,null,"⌚ 191 days","Foreign: 30"]
[null,null,null,60,"Miguel Bullkens - Bots Demo desde historico o desde 0",null,"2023-08-03",1,null,"⌚ 216 days",null,null,null,"Foreign: 200","Deadline: So., 12. Feb. 2023","Delivered: So., 12. Feb. 2023",null,null,null,"⌚ 216 days","Foreign: 200","Deadline: So., 12. Feb. 2023","Delivered: So., 12. Feb. 2023"]
[null,null,null,61,"Samantha - Concierto Banda",null,null,null,2,"⌚ 204 days","MXN: 3.045",null,null,null,null,null,null,null,null,"⌚ 204 days","MXN: 3.045"]
[null,null,null,62,"Viv Freelancer - Strict mode & score",null,null,null,2,"⌚ 210 days",null,null,null,"Foreign: 350",null,"Delivered: Di., 21. Feb. 2023",null,null,null,"⌚ 210 days","Foreign: 350","Delivered: Di., 21. Feb. 2023"]
[null,null,null,63,"Samantha - La Paz Dinn",null,null,null,3,"⌚ 204 days","MXN: 9.222",null,null,null,null,null,null,null,null,"⌚ 204 days","MXN: 9.222"]
[null,null,null,64,"Nana - Vuelo Tijuana",null,null,null,1,"⌚ 211 days","MXN: 3.555",null,null,null,null,null,null,null,null,"⌚ 211 days","MXN: 3.555"]
[null,null,null,65,"Viv Freelancer - Sort out words",null,null,3,null,"⌚ 222 days",null,null,null,"Foreign: 150",null,null,null,null,null,"⌚ 222 days","Foreign: 150"]
[null,null,null,66,"Nana - bus Oaxaca",null,null,null,1,"⌚ 210 days","MXN: 1.290",null,null,null,null,null,null,null,null,"⌚ 210 days","MXN: 1.290"]
[null,null,null,67,"Pablo Nanofactura - Nanofactura Factura API",null,"39/47",14,6,"⌚ 330 days","MXN: 50.000","Debt: 0",null,null,"Deadline: Fr., 9. Dez. 2022","Delivered: Fr., 10. Feb. 2023",null,null,null,"⌚ 330 days","MXN: 50.000","Debt: 0","Deadline: Fr., 9. Dez. 2022","Delivered: Fr., 10. Feb. 2023"]
[null,null,null,68,"Carrascosa - Firma Valuación",null,null,null,1,"⌚ 211 days","MXN: 2.000",null,null,null,null,null,null,null,null,"⌚ 211 days","MXN: 2.000"]
[null,null,null,69,"Diana Inlat - Ingeurbe Proyectos Acordeon fix",null,null,1,null,"⌚ 217 days",null,null,null,"Foreign: 75",null,null,null,null,null,"⌚ 217 days","Foreign: 75"]
[null,null,null,70,"Gustavo Freelancer - Diloconfresas gmaps checkout",null,null,null,1,"⌚ 237 days","MXN: 500",null,null,null,null,"Delivered: Do., 2. Feb. 2023",null,null,null,"⌚ 237 days","MXN: 500","Delivered: Do., 2. Feb. 2023"]
[null,null,null,71,"Caba - prestamo",null,null,null,1,"⌚ 239 days","MXN: 5.000",null,null,null,"Deadline: Mi., 15. Feb. 2023","Delivered: Mo., 9. Jan. 2023",null,null,null,"⌚ 239 days","MXN: 5.000","Deadline: Mi., 15. Feb. 2023","Delivered: Mo., 9. Jan. 2023"]
[null,null,null,72,"Viv Freelancer - Wordle word filter",null,null,2,2,"⌚ 231 days",null,"Debt: 480",null,"Foreign: 800",null,null,null,null,null,"⌚ 231 days","Foreign: 800","Debt: 480"]
[null,null,null,73,"Yamel Freelancer - Konditorhusset 1hr cambios",null,null,null,null,"⌚ 226 days",null,null,null,"Foreign: 30",null,null,null,null,null,"⌚ 226 days","Foreign: 30"]
[null,null,null,74,"Rigoberto Freelancer - YourQuickMoney",null,null,4,3,"⌚ 345 days",null,null,null,"Foreign: 1.200","Deadline: Fr., 21. Okt. 2022",null,null,null,null,"⌚ 345 days","Foreign: 1.200","Deadline: Fr., 21. Okt. 2022"]
[null,null,null,75,"Nick Advizee - new edits, filtros, nueva plataforma y advizee free ssl",null,null,1,10,"⌚ 293 days",null,"Debt: 0",null,"Foreign: 200",null,null,null,null,null,"⌚ 293 days","Foreign: 200","Debt: 0"]
[null,null,null,76,"Francisco Inlat - Ingeurbe cfield y badge",null,null,null,null,"⌚ 258 days",null,null,null,"Foreign: 90",null,null,null,null,null,"⌚ 258 days","Foreign: 90"]
[null,null,null,77,"Papa - EdiEco CRM",null,"15/16",null,2,"⌚ 366 days","MXN: 15.000","Debt: 0",null,null,"Deadline: Mo., 31. Okt. 2022",null,null,null,null,"⌚ 366 days","MXN: 15.000","Debt: 0","Deadline: Mo., 31. Okt. 2022"]
[null,null,null,78,"Daren Freelancer - Precise DM cambios",null,null,6,null,"⌚ 293 days",null,null,null,"Foreign: 180",null,"Delivered: Mi., 30. Nov. 2022",null,null,null,"⌚ 293 days","Foreign: 180","Delivered: Mi., 30. Nov. 2022"]
[null,null,null,79,"Miguel Bullkens - Reunion 2da parte",null,"2023-05-05",12,3,"⌚ 369 days",null,"Debt: 0",null,"Foreign: 600","Deadline: Mo., 17. Okt. 2022","Delivered: Mi., 26. Okt. 2022",null,null,null,"⌚ 369 days","Foreign: 600","Debt: 0","Deadline: Mo., 17. Okt. 2022","Delivered: Mi., 26. Okt. 2022"]
[null,null,null,80,"Lisandro - IAPTI QR y nuevo campo link social tree, mybb mail envios...",null,null,null,null,"⌚ 341 days",null,null,null,"Foreign: 70",null,"Delivered: Fr., 21. Okt. 2022",null,null,null,"⌚ 341 days","Foreign: 70","Delivered: Fr., 21. Okt. 2022"]
[null,null,null,81,"Lisandro - JO Instalar template \"Panda\"",null,null,null,null,"⌚ 359 days",null,null,null,"Foreign: 200",null,"Delivered: Fr., 7. Okt. 2022",null,null,null,"⌚ 359 days","Foreign: 200","Delivered: Fr., 7. Okt. 2022"]
[null,null,null,82,"Lisandro - Copia form a mail Iapti",null,null,null,null,"⌚ 364 days",null,null,null,"Foreign: 30",null,"Delivered: Sa., 17. Sept. 2022",null,null,null,"⌚ 364 days","Foreign: 30","Delivered: Sa., 17. Sept. 2022"]
[null,null,null,83,"Jason Inlat - Arreglar Farm. Etica",null,null,null,null,"⌚ 288 days",null,null,null,"Foreign: 100",null,null,null,null,null,"⌚ 288 days","Foreign: 100"]
[null,null,null,84,"yo - Videojuegos",null,null,1,1,"⌚ 292 days","MXN: -4.700",null,null,null,null,null,null,null,null,"⌚ 292 days","MXN: -4.700"]
[null,null,null,85,"Arreglar Facet Ingeurbe",null,null,null,null,"⌚ 308 days",null,null,null,"Foreign: 25",null,"Delivered: Mi., 9. Nov. 2022",null,null,null,"⌚ 308 days","Foreign: 25","Delivered: Mi., 9. Nov. 2022"]
[null,null,null,86,"Samantha - Dinn",null,null,null,8,"⌚ 367 days","MXN: 7.400",null,null,null,null,"Delivered: Fr., 26. Aug. 2022",null,null,null,"⌚ 367 days","MXN: 7.400","Delivered: Fr., 26. Aug. 2022"]
[null,null,null,87,"Nick Advizee - Localbeauty cambios",null,null,null,null,"⌚ 300 days",null,null,null,"Foreign: 40",null,null,null,null,null,"⌚ 300 days","Foreign: 40"]
[null,null,null,88,"Gustavo Freelancer - Sitio Recuperado",null,null,null,null,"⌚ 306 days",null,null,null,"Foreign: 150",null,null,null,null,null,"⌚ 306 days","Foreign: 150"]
[null,null,null,89,"Rashid - Dogwalkers Hosting",null,null,null,3,"⌚ 338 days",null,"Debt: 0",null,"Foreign: 100","Deadline: Mi., 2. Nov. 2022",null,null,null,null,"⌚ 338 days","Foreign: 100","Debt: 0","Deadline: Mi., 2. Nov. 2022"]
[null,null,null,90,"Papa - Edi Financial",null,null,4,1,"⌚ 334 days","MXN: 0",null,null,null,null,null,null,null,null,"⌚ 334 days","MXN: 0"]
[null,null,null,91,"yo - Cambiar contraseñas del plesk y demás sitios para correr a Ivonne",null,null,null,null,"⌚ 309 days",null,null,null,null,null,null,null,null,null,"⌚ 309 days"]
[null,null,null,92,"Madhu - Kebab",null,"2023-06-06",2,2,"⌚ 327 days",null,null,null,"Foreign: 300","Deadline: Mi., 26. Okt. 2022",null,null,null,null,"⌚ 327 days","Foreign: 300","Deadline: Mi., 26. Okt. 2022"]
[null,null,null,93,"Emilio pinturas - crear plataforma",null,null,null,5,"⌚ 369 days",null,null,null,"Foreign: 1.025",null,"Delivered: Mo., 5. Sept. 2022",null,null,null,"⌚ 369 days","Foreign: 1.025","Delivered: Mo., 5. Sept. 2022"]
[null,null,null,94,"Papa - Economatica Bkp Services",null,null,4,2,"⌚ 366 days","MXN: 15.000",null,null,null,"Deadline: Fr., 7. Okt. 2022","Delivered: Fr., 21. Okt. 2022",null,null,null,"⌚ 366 days","MXN: 15.000","Deadline: Fr., 7. Okt. 2022","Delivered: Fr., 21. Okt. 2022"]
[null,null,null,95,"Gustavo Freelancer - Diloconfresas Checkout Horario",null,null,2,1,"⌚ 351 days","MXN: 3.500",null,null,null,null,"Delivered: Do., 29. Sept. 2022",null,null,null,"⌚ 351 days","MXN: 3.500","Delivered: Do., 29. Sept. 2022"]
[null,null,null,96,"JoshNBA - Scrapp BBallRef",null,null,null,null,"⌚ 324 days",null,null,null,"Foreign: 100",null,"Delivered: Di., 25. Okt. 2022",null,null,null,"⌚ 324 days","Foreign: 100","Delivered: Di., 25. Okt. 2022"]
[null,null,null,97,"Jason Freelancer - Brindabella clonar sitio",null,null,2,null,"⌚ 328 days",null,null,null,"Foreign: 250",null,"Delivered: Di., 25. Okt. 2022",null,null,null,"⌚ 328 days","Foreign: 250","Delivered: Di., 25. Okt. 2022"]
[null,null,null,98,{"$error":"#NAME?"},null,"0/35",null,null,"⌚ 621 days",null,null,null,null,null,null,null,null,null,"⌚ 621 days"]
[null,null,null,99,"Nick Advizee - aimsfitting.com error DNS",null,null,null,null,"⌚ 329 days",null,null,null,"Foreign: 10",null,null,null,null,null,"⌚ 329 days","Foreign: 10"]
[null,null,null,100,"JoshNBA - Setup nueva temporada",null,null,null,null,"⌚ 329 days",null,null,null,"Foreign: 60",null,null,null,null,null,"⌚ 329 days","Foreign: 60"]
[null,null,null,101,"Nick Advizee - Desactivo pago por hora auto",null,null,null,null,"⌚ 331 days",null,null,null,"Foreign: 57",null,"Delivered: So., 9. Okt. 2022",null,null,null,"⌚ 331 days","Foreign: 57","Delivered: So., 9. Okt. 2022"]
[null,null,null,102,"Yamel Freelancer - Konditor cambios",null,null,null,1,"⌚ 354 days",null,null,null,"Foreign: 60",null,null,null,null,null,"⌚ 354 days","Foreign: 60"]
[null,null,null,103,"Jason Freelancer - Brindabella Mini Ajustes",null,null,null,null,"⌚ 334 days",null,null,null,"Foreign: 0",null,null,null,null,null,"⌚ 334 days","Foreign: 0"]
[null,null,null,104,"varios - Chipre Usability Tests",null,null,null,null,"⌚ 337 days",null,null,null,"Foreign: 60","Deadline: Fr., 14. Okt. 2022",null,null,null,null,"⌚ 337 days","Foreign: 60","Deadline: Fr., 14. Okt. 2022"]
[null,null,null,105,"Buita - Depósito",null,null,null,6,"⌚ 349 days","MXN: -1.787","Debt: 0",null,null,null,null,null,null,null,"⌚ 349 days","MXN: -1.787","Debt: 0"]
[null,null,null,106,"Nick Advizee - Migracion",null,null,null,null,"⌚ 341 days",null,null,null,null,null,null,null,null,null,"⌚ 341 days"]
[null,null,null,107,"Daren freelancer - Precisemd form2",null,null,3,null,"⌚ 349 days",null,null,null,"Foreign: 220",null,null,null,null,null,"⌚ 349 days","Foreign: 220"]
[null,null,null,108,"Norma Nateras - Hosting",null,null,null,3,"⌚ 348 days","MXN: 2.000",null,null,null,"Deadline: Mo., 3. Okt. 2022",null,null,null,null,"⌚ 348 days","MXN: 2.000","Deadline: Mo., 3. Okt. 2022"]
[null,null,null,109,"Mama Madhu - Préstamo",null,null,null,1,"⌚ 356 days","MXN: 7.600",null,null,null,null,null,null,null,null,"⌚ 356 days","MXN: 7.600"]
[null,null,null,110,"Carrascosa - Freelancer",null,null,null,null,"⌚ 367 days",null,null,null,"Foreign: 100",null,"Delivered: Mo., 5. Sept. 2022",null,null,null,"⌚ 367 days","Foreign: 100","Delivered: Mo., 5. Sept. 2022"]
[null,null,null,111,"Nana - Vuelos",null,null,null,1,"⌚ 367 days","MXN: 2.279",null,null,null,null,"Delivered: Mo., 29. Aug. 2022",null,null,null,"⌚ 367 days","MXN: 2.279","Delivered: Mo., 29. Aug. 2022"]
[null,null,null,112,"yo - Kavak Reembolso",null,null,null,1,"⌚ 367 days","MXN: 1.500",null,null,null,null,"Delivered: So., 7. Aug. 2022",null,null,null,"⌚ 367 days","MXN: 1.500","Delivered: So., 7. Aug. 2022"]
[null,null,null,113,"Nick Advizee - Localbeaty - tags taxonomy filter",null,null,1,null,"⌚ 365 days",null,null,null,null,"Deadline: Di., 20. Sept. 2022",null,null,null,null,"⌚ 365 days","Deadline: Di., 20. Sept. 2022"]
[null,null,null,114,"JoshNBA - Josh NBA",null,null,null,null,"⌚ 369 days",null,null,null,"Foreign: 400",null,"Delivered: Mi., 7. Sept. 2022",null,null,null,"⌚ 369 days","Foreign: 400","Delivered: Mi., 7. Sept. 2022"]
[null,null,null,115,"Gary Hydracheck - Speedup",null,"2023-04-02",2,null,"⌚ 369 days",null,null,null,"Foreign: 150","Deadline: Di., 13. Sept. 2022",null,null,null,null,"⌚ 369 days","Foreign: 150","Deadline: Di., 13. Sept. 2022"]
[null,null,null,116,"Sam Freelancer - PetersWindow Hosting",null,null,null,null,"⌚ 369 days",null,null,null,"Foreign: 100",null,"Delivered: Di., 30. Aug. 2022",null,null,null,"⌚ 369 days","Foreign: 100","Delivered: Di., 30. Aug. 2022"]
[null,null,null,117,"Jason Freelancer - Speedup Brindabella",null,"2023-05-05",null,null,"⌚ 369 days",null,null,null,"Foreign: 460","Deadline: Do., 15. Sept. 2022",null,null,null,null,"⌚ 369 days","Foreign: 460","Deadline: Do., 15. Sept. 2022"]
["Fijos","Fijos",6,0,"Tiempo Libre - ACD",null,"0/30",3,null,"⌚ 48 days",null,null,null,null,null,null,null,"17:18:00",null,"⌚ 48 days","17:18:00"]
[null,null,null,1,"Administrativo - ACD",null,null,1,null,"⌚ 48 days",null,null,null,null,null,null,null,4.3374999999999995,null,"⌚ 48 days",4.3374999999999995]
[null,null,null,2,"Hostings - ACD",null,"0/2",2,6,"⌚ 41 days",null,null,null,"Foreign: 100","Deadline: Mo., 7. Aug. 2023",null,null,"09:49:00",null,"⌚ 41 days","Foreign: 100","Deadline: Mo., 7. Aug. 2023","09:49:00"]
[null,null,null,3,"Nick Advizee - fijo",null,"2023-01-01",2,15,"⌚ 239 days",null,null,null,"Foreign: 25",null,null,null,3.5145833333333329,null,"⌚ 239 days","Foreign: 25",3.5145833333333329]
[null,null,null,4,"Alejandro Disidentes - Sixbell Mtto",null,null,null,1,"⌚ 7 days",null,null,null,"Foreign: 100",null,null,null,null,null,"⌚ 7 days","Foreign: 100"]
[null,null,null,5,"Ricardo Cuerna - Fixum Mtto",null,null,null,1,"⌚ 6 days","MXN: 3.000",null,null,null,null,null,null,null,null,"⌚ 6 days","MXN: 3.000"]
["Cotizado","Cotizado",46,0,"Francesco - LearnDash",null,null,1,1,"⌚ 20 days",null,null,null,"Foreign: 150",null,null,null,null,null,"⌚ 20 days","Foreign: 150"]
[null,null,null,1,"Diana Inlat - ecomm + blog estilo figurella",null,null,2,1,"⌚ 167 days",null,null,null,"Foreign: 750",null,null,null,null,null,"⌚ 167 days","Foreign: 750"]
[null,null,null,2,"Ricardo Cuerna - Freelancer Mexa",null,null,null,1,"⌚ 29 days",null,null,null,"Foreign: 800",null,null,null,null,null,"⌚ 29 days","Foreign: 800"]
[null,null,null,3,"Ulises Freelancer - WP Crowdfunding",null,null,null,1,"⌚ 25 days",null,null,null,"Foreign: 800",null,null,null,null,null,"⌚ 25 days","Foreign: 800"]
[null,null,null,4,"Rodrigo Techservices - Formulario medico",null,null,null,1,"⌚ 44 days",null,null,null,"Foreign: 500",null,null,null,null,null,"⌚ 44 days","Foreign: 500"]
[null,null,null,5,"Faby - PMI AxxiPay self install templates",null,null,null,1,"⌚ 65 days",null,null,null,"Foreign: 750",null,null,null,null,null,"⌚ 65 days","Foreign: 750"]
[null,null,null,6,"Ricardo Chile - Carlson Electricos",null,null,null,1,"⌚ 58 days",null,null,null,"Foreign: 500",null,null,null,null,null,"⌚ 58 days","Foreign: 500"]
[null,null,null,7,"Ricardo Cuerna - Eventos ecuestres",null,null,2,1,"⌚ 54 days","MXN: 19.000",null,null,null,null,null,null,null,null,"⌚ 54 days","MXN: 19.000"]
[null,null,null,8,"Paloma Freelancer - cambios tcandiani",null,null,1,1,"⌚ 91 days","MXN: 8.000",null,null,null,null,null,null,null,null,"⌚ 91 days","MXN: 8.000"]
[null,null,null,9,"Faby - Suscr. super semanal",null,null,1,1,"⌚ 111 days","MXN: 17.000",null,null,null,null,null,null,null,null,"⌚ 111 days","MXN: 17.000"]
[null,null,null,10,"yo - FIRE Business online",null,null,1,1,"⌚ 263 days",null,null,null,null,"Deadline: Di., 31. Okt. 2023",null,"-157d 11h","00:32:00",null,"⌚ 263 days","Deadline: Di., 31. Okt. 2023","-157d 11h","00:32:00"]
[null,null,null,11,"Xavier Bobby - Itel Speedup",null,null,null,1,"⌚ 152 days",null,null,null,"Foreign: 150",null,null,null,null,null,"⌚ 152 days","Foreign: 150"]
[null,null,null,12,"yo - Hacer robot de trades de acciones gringas, super diversificarlo y listo...",null,null,null,1,"⌚ 224 days",null,null,null,null,"Deadline: Fr., 28. Apr. 2023",null,null,null,null,"⌚ 224 days","Deadline: Fr., 28. Apr. 2023"]
[null,null,null,13,"Carrascosa AC - Página de Contratos",null,"2023-12-01",null,1,"⌚ 337 days","MXN: 0",null,null,null,"Deadline: Sa., 31. Dez. 2022",null,null,null,null,"⌚ 337 days","MXN: 0","Deadline: Sa., 31. Dez. 2022"]
[null,null,null,14,"Carrascosa AC - Asociación Civil",null,null,5,1,"⌚ 285 days","MXN: -18.000",null,null,null,null,null,"-159d 14h",null,null,"⌚ 285 days","MXN: -18.000","-159d 14h"]
[null,null,null,15,"Faby - Sportsworld rehacer",null,null,1,null,"⌚ 169 days",null,null,null,null,null,null,null,null,null,"⌚ 169 days"]
[null,null,null,16,"Emilio Pinturas - Stock dentista",null,null,null,1,"⌚ 165 days",null,null,null,"Foreign: 500",null,null,null,null,null,"⌚ 165 days","Foreign: 500"]
[null,null,null,17,"Faby - Axxipay nuevo sitio",null,null,null,1,"⌚ 180 days","MXN: 10.000",null,null,null,null,null,null,null,null,"⌚ 180 days","MXN: 10.000"]
[null,null,null,18,"Jason Freelancer - Speedup Brindabella de nuevo",null,null,null,1,"⌚ 173 days",null,null,null,"Foreign: 80",null,null,null,null,null,"⌚ 173 days","Foreign: 80"]
[null,null,null,19,"yo - Clonar facturación goteo aprovechando nanofactura",null,null,null,null,"⌚ 216 days",null,null,null,null,null,null,null,null,null,"⌚ 216 days"]
[null,null,null,20,"Miguel Bullkens - Bulkens NFT",null,null,null,null,"⌚ 217 days",null,null,null,"Foreign: 900",null,null,null,null,null,"⌚ 217 days","Foreign: 900"]
[null,null,null,21,"Gustavo Freelancer - Formularios en pagina",null,null,null,null,"⌚ 209 days",null,null,null,"Foreign: 50",null,null,null,null,null,"⌚ 209 days","Foreign: 50"]
[null,null,null,22,"Gustavo Freelancer - Ootness Twilio",null,null,2,2,"⌚ 211 days",null,null,null,"Foreign: 500",null,null,null,null,null,"⌚ 211 days","Foreign: 500"]
[null,null,null,23,"Fernando Freelancer - Funeraria",null,null,2,null,"⌚ 222 days",null,null,null,"Foreign: 1.500",null,null,null,null,null,"⌚ 222 days","Foreign: 1.500"]
[null,null,null,24,"Gustavo Freelancer - Filtro estrellas inmobiliaria Arg",null,null,null,1,"⌚ 218 days","MXN: 1.500",null,null,null,null,null,null,null,null,"⌚ 218 days","MXN: 1.500"]
[null,null,null,25,"Ruva - Motos copia encuentra tu moto",null,null,null,null,"⌚ 237 days",null,null,null,"Foreign: 700",null,null,null,null,null,"⌚ 237 days","Foreign: 700"]
[null,null,null,26,"Santiago Freelancer - EncuentraTuMoto a WP",null,null,null,null,"⌚ 230 days",null,null,null,"Foreign: 600",null,null,null,null,null,"⌚ 230 days","Foreign: 600"]
[null,null,null,27,"Rigoberto Freelancer - Alertas Ajax",null,null,null,null,"⌚ 228 days",null,null,null,"Foreign: 125",null,null,null,null,null,"⌚ 228 days","Foreign: 125"]
[null,null,null,28,"Caba - ERP Casanova rent copia edimex",null,null,null,1,"⌚ 278 days","MXN: 10.000",null,null,null,null,null,null,null,null,"⌚ 278 days","MXN: 10.000"]
[null,null,null,29,"Fidel Samantha - E-learning Cursos Financieros",null,null,null,null,"⌚ 250 days",null,null,null,"Foreign: 900",null,null,null,null,null,"⌚ 250 days","Foreign: 900"]
[null,null,null,30,"Gustavo Freelancer - Viajes act. posts/productos",null,null,null,1,"⌚ 250 days","MXN: 3.000",null,null,null,null,null,null,null,null,"⌚ 250 days","MXN: 3.000"]
[null,null,null,31,"Faby - Racelab Reservas Tailored",null,null,null,null,"⌚ 252 days",null,null,null,"Foreign: 350",null,null,null,null,null,"⌚ 252 days","Foreign: 350"]
[null,null,null,32,"Diana Inlat - Farmacia",null,null,1,null,"⌚ 250 days",null,null,null,"Foreign: 1.220",null,null,null,null,null,"⌚ 250 days","Foreign: 1.220"]
[null,null,null,33,"Miguel Bullkens - Bot 2Fa",null,null,null,null,"⌚ 280 days",null,null,null,"Foreign: 250",null,null,null,null,null,"⌚ 280 days","Foreign: 250"]
[null,null,null,34,"Rodrigo Techservices - Hotel Casa Ballena",null,null,1,1,"⌚ 288 days","MXN: 18.000",null,null,null,null,null,null,null,null,"⌚ 288 days","MXN: 18.000"]
[null,null,null,35,"Rodrigo Techservices - Inmuebles",null,null,null,1,"⌚ 288 days","MXN: 22.000",null,null,null,null,null,null,null,null,"⌚ 288 days","MXN: 22.000"]
[null,null,null,36,"Sam Freelancer - Horse Ranch",null,null,null,null,"⌚ 321 days",null,null,null,"Foreign: 1.300",null,null,null,null,null,"⌚ 321 days","Foreign: 1.300"]
[null,null,null,37,"JoshNBA - Bet scrapper",null,null,1,null,"⌚ 369 days",null,null,null,"Foreign: 1.450",null,null,null,null,null,"⌚ 369 days","Foreign: 1.450"]
[null,null,null,38,"Madhu - Ammar Construction",null,null,3,null,"⌚ 328 days",null,null,null,"Foreign: 300",null,null,null,null,null,"⌚ 328 days","Foreign: 300"]
[null,null,null,39,"Jason Inlat - MPago Subscripcion",null,null,1,2,"⌚ 369 days","MXN: 7.000",null,null,null,null,null,null,null,null,"⌚ 369 days","MXN: 7.000"]
[null,null,null,40,"varios - Disque pospone",null,null,2,1,"⌚ 338 days",null,"Debt: 1.150",null,"Foreign: 1.200","Deadline: Fr., 21. Okt. 2022",null,null,null,null,"⌚ 338 days","Foreign: 1.200","Debt: 1.150","Deadline: Fr., 21. Okt. 2022"]
[null,null,null,41,"Luis Axo - 100 hosting",null,null,null,null,"⌚ 365 days",null,null,null,"Foreign: 100",null,null,null,null,null,"⌚ 365 days","Foreign: 100"]
[null,null,null,42,"Lisandro - JO Shipnow + Maoar destacados",null,null,null,null,"⌚ 369 days",null,null,null,"Foreign: 480",null,null,null,null,null,"⌚ 369 days","Foreign: 480"]
[null,null,null,43,"Rodrigo Techservices - Proepta",null,null,null,1,"⌚ 369 days","MXN: 27.000",null,null,null,null,null,null,null,null,"⌚ 369 days","MXN: 27.000"]
[null,null,null,44,"Olga Freelancer - SportsMaster Mx",null,null,null,null,"⌚ 369 days",null,null,null,"Foreign: 300",null,null,null,null,null,"⌚ 369 days","Foreign: 300"]
[null,null,null,45,"Bea Axo Fea - Pagina su chamba",null,null,null,null,"⌚ 369 days",null,null,null,"Foreign: 300",null,null,null,null,null,"⌚ 369 days","Foreign: 300"]

{"sheet":"Reporte","index":4,"n_rows":501,"n_cols":40,"rows_kept":501,"cut":false,"hidden":false,"merged":[[2,34,2,35],[3,34,11,35],[2,36,2,37],[3,36,11,37]]}
[null,null,null,"Columna",{"$f":"MATCH(\"|__tarjetas__|__foreign\", Trello!1:1, 0)","v":14},{"$f":"MATCH(\"|__tarjetas__|__mxn\", Trello!1:1, 0)","v":11},{"$f":"MATCH(\"|__tarjetas__|__debt\", Trello!1:1, 0)","v":12},{"$f":"MATCH(\"|__tarjetas__|__cost\", Trello!1:1, 0)","v":13},null,null,null,{"$f":"MATCH(\"|__tarjetas__|__deadline\", Trello!1:1, 0)","v":15},{"$f":"MATCH(\"|__tarjetas__|__delivered\", Trello!1:1, 0)","v":16},null,{"$f":"MATCH(\"|__tarjetas__|__estimate\", Trello!1:1, 0)","v":19}]
["Card","Status","Created","Card age","Foreign",17.5,"Debt Mxn","Cost Mxn","Margin","real dead","real deliver","Deadline","Delivered","Backorder","Estimate","Spent hrs","Forecast","Hourly rate","Lead time","Days sales outstanding"]
[{"$f":"IFERROR(IF(Trello!E2=\"\",\"\",Trello!E2),\" \")","v":"Manuel Austria - agentur.xxx"},{"$f":"IF($A3=\"\",\"\",IF(Trello!A2=\"\",B2,Trello!A2))","v":"Vendiendo"},{"$f":"IF($A3=\"\",\"\",TODAY()-D3)","v":"2023-08-30"},{"$f":"IF($A3=\"\",\"\",SUBSTITUTE(SUBSTITUTE(Trello!J2,\" days\",\"\"),\"⌚ \",\"\")*1)","v":14},{"$f":"IFERROR(IF($A3=\"\",\"\",SUBSTITUTE(SUBSTITUTE(SUBSTITUTE(INDIRECT(\"Trello!\"&ADDRESS(ROW()-1, E$1, 4)),\"Foreign: \",\"\"),\" $\",\"\"),\".\",\"\")*1),\"\")","v":2100},{"$f":"IF($E3=\"\",IFERROR(IF($A3=\"\",\"\",SUBSTITUTE(SUBSTITUTE(SUBSTITUTE(INDIRECT(\"Trello!\"&ADDRESS(ROW()-1, F$1, 4)),\"MXN: \",\"\"),\" MX$\",\"\"),\".\",\"\")*1),\"\"),E3*F$2)","v":36750},{"$f":"IFERROR(IF($A3=\"\",\"\",SUBSTITUTE(SUBSTITUTE(SUBSTITUTE(INDIRECT(\"Trello!\"&ADDRESS(ROW()-1, G$1, 4)),\"Debt: \",\"\"),\" $\",\"\"),\".\",\"\")*1)*IF(E3=\"\",1,F$2),\"\")","v":""},{"$f":"IFERROR(IF($A3=\"\",\"\",SUBSTITUTE(SUBSTITUTE(SUBSTITUTE(INDIRECT(\"Trello!\"&ADDRESS(ROW()-1, H$1, 4)),\"Cost: \",\"\"),\" $\",\"\"),\".\",\"\")*1*$F$2),\"\")","v":""},{"$f":"IF(OR(F3=\"\",H3=\"\"),F3,F3-H3)","v":36750},{"$f":"IFERROR(SUBSTITUTE(SUBSTITUTE(SUBSTITUTE(RIGHT(INDIRECT(\"Trello!\"&ADDRESS(ROW()-1, L$1, 4)),LEN(INDIRECT(\"Trello!\"&ADDRESS(ROW()-1, L$1, 4)))-15),\". \",\"/\"),\" 20\",\"/20\"),\" \",\"\"),\"\")","v":""},{"$f":"IFERROR(SUBSTITUTE(SUBSTITUTE(SUBSTITUTE(RIGHT(INDIRECT(\"Trello!\"&ADDRESS(ROW()-1, M$1, 4)),LEN(INDIRECT(\"Trello!\"&ADDRESS(ROW()-1, M$1, 4)))-15),\". \",\"/\"),\" 20\",\"/20\"),\" \",\"\"),\"\")","v":""},{"$f":"IFERROR(SUBSTITUTE(SUBSTITUTE(SUBSTITUTE(SUBSTITUTE(SUBSTITUTE(SUBSTITUTE(SUBSTITUTE(SUBSTITUTE(SUBSTITUTE(SUBSTITUTE(SUBSTITUTE(SUBSTITUTE(J3,\"Dez\",12),\"Nov\",11),\"Okt\",10),\"Sept\",9),\"Aug\",8),\"Juli\",7),\"Juni\",6),\"Mai\",5),\"Apr\",4),\"März\",3),\"Feb\",2),\"Jan\",1)*1,\"\")","v":""},"",{"$f":"IF(AND(L3>0,M3>0,L3<>\"\",M3<>\"\"),L3-M3,\"\")","v":""},{"$f":"IFERROR(SUBSTITUTE(INDIRECT(\"Trello!\"&ADDRESS(ROW()-1, O$1, 4)),\"Estimate hrs: \",\"\")*1,\"\")","v":""},{"$f":"IF(SUMIF(Timecamp!C:C,Reporte!A3,Timecamp!J:J)=0,\"\",SUMIF(Timecamp!C:C,Reporte!A3,Timecamp!J:J))","v":0.1},{"$f":"IF(AND(O3>0,P3>0,O3<>\"\",P3<>\"\"),(P3/O3)-1,\"\")","v":""},{"$f":"IF(OR(P3=\"\",F3=\"\"),\"\",F3/P3)","v":367500},{"$f":"IFERROR(VLOOKUP(A3,'SLA Trab'!E:I,5,FALSE),\"\")","v":""},{"$f":"IFERROR(VLOOKUP(A3,'SLA Cobr'!E:I,5,FALSE),\"\")","v":""},null,"Resumen","#","Avg. Age","Debt","Margin","Avg. Back","Spent hrs","Spent days","Forecast","Hourly rate","Lead time","DSO",null,"Instrucciones",null,"* Handy time"]
[{"$f":"IFERROR(IF(Trello!E3=\"\",\"\",Trello!E3),\" \")","v":"Wilbur LAX - lotusesthetic.com"},{"$f":"IF($A4=\"\",\"\",IF(Trello!A3=\"\",B3,Trello!A3))","v":"Vendiendo"},{"$f":"IF($A4=\"\",\"\",TODAY()-D4)","v":"2023-08-29"},{"$f":"IF($A4=\"\",\"\",SUBSTITUTE(SUBSTITUTE(Trello!J3,\" days\",\"\"),\"⌚ \",\"\")*1)","v":15},{"$f":"IFERROR(IF($A4=\"\",\"\",SUBSTITUTE(SUBSTITUTE(SUBSTITUTE(INDIRECT(\"Trello!\"&ADDRESS(ROW()-1, E$1, 4)),\"Foreign: \",\"\"),\" $\",\"\"),\".\",\"\")*1),\"\")","v":800},{"$f":"IF($E4=\"\",IFERROR(IF($A4=\"\",\"\",SUBSTITUTE(SUBSTITUTE(SUBSTITUTE(INDIRECT(\"Trello!\"&ADDRESS(ROW()-1, F$1, 4)),\"MXN: \",\"\"),\" MX$\",\"\"),\".\",\"\")*1),\"\"),E4*F$2)","v":14000},{"$f":"IFERROR(IF($A4=\"\",\"\",SUBSTITUTE(SUBSTITUTE(SUBSTITUTE(INDIRECT(\"Trello!\"&ADDRESS(ROW()-1, G$1, 4)),\"Debt: \",\"\"),\" $\",\"\"),\".\",\"\")*1)*IF(E4=\"\",1,F$2),\"\")","v":""},{"$f":"IFERROR(IF($A4=\"\",\"\",SUBSTITUTE(SUBSTITUTE(SUBSTITUTE(INDIRECT(\"Trello!\"&ADDRESS(ROW()-1, H$1, 4)),\"Cost: \",\"\"),\" $\",\"\"),\".\",\"\")*1*$F$2),\"\")","v":""},{"$f":"IF(OR(F4=\"\",H4=\"\"),F4,F4-H4)","v":14000},{"$f":"IFERROR(SUBSTITUTE(SUBSTITUTE(SUBSTITUTE(RIGHT(INDIRECT(\"Trello!\"&ADDRESS(ROW()-1, L$1, 4)),LEN(INDIRECT(\"Trello!\"&ADDRESS(ROW()-1, L$1, 4)))-15),\". \",\"/\"),\" 20\",\"/20\"),\" \",\"\"),\"\")","v":""},{"$f":"IFERROR(SUBSTITUTE(SUBSTITUTE(SUBSTITUTE(RIGHT(INDIRECT(\"Trello!\"&ADDRESS(ROW()-1, M$1, 4)),LEN(INDIRECT(\"Trello!\"&ADDRESS(ROW()-1, M$1, 4)))-15),\". \",\"/\"),\" 20\",\"/20\"),\" \",\"\"),\"\")","v":""},"","","",{"$f":"IFERROR(SUBSTITUTE(INDIRECT(\"Trello!\"&ADDRESS(ROW()-1, O$1, 4)),\"Estimate hrs: \",\"\")*1,\"\")","v":20},{"$f":"IF(SUMIF(Timecamp!C:C,Reporte!A4,Timecamp!J:J)=0,\"\",SUMIF(Timecamp!C:C,Reporte!A4,Timecamp!J:J))","v":""},"","",{"$f":"IFERROR(VLOOKUP(A4,'SLA Trab'!E:I,5,FALSE),\"\")","v":""},{"$f":"IFERROR(VLOOKUP(A4,'SLA Cobr'!E:I,5,FALSE),\"\")","v":""},null,"Vendiendo",{"$f":"COUNTIF(B:B,V4)","v":8},{"$f":"IFERROR(AVERAGEIF($B:$B,$V4,D:D),\"\")","v":26.25},{"$f":"SUMIF($B:$B,$V4,G:G)","v":0},null,{"$f":"IFERROR(AVERAGEIF($B:$B,$V4,N:N),\"\")","v":""},{"$f":"SUMIF($B:$B,$V4,P:P)","v":0.25},{"$f":"AB4/24","v":1.0416666666666666E-2},{"$f":"IFERROR(AVERAGEIF($B:$B,$V4,Q:Q),\"\")","v":""},212916.66666666666,"","",null,"En trello exportas 3 csvs (console y 2 de SLA) y  revisa R1. En timecamp copias y pegas Zeiteintrage de alle Zeiten (solo nuevas). Ya en reporte analisas.",null,"Usa export de app usage en el rango (uso semanas) y pegas en app usage. En app cat ya exportas con \"Trello handy time.php\" el tiempo a timecamp (y agregas alguna categoria a alguna app si gustas).",null,"Timecamp","https://app.timecamp.com/time_tracking/task_report/130052148#/entries"]
[{"$f":"IFERROR(IF(Trello!E4=\"\",\"\",Trello!E4),\" \")","v":"Ricardo CDMX - Página web"},{"$f":"IF($A5=\"\",\"\",IF(Trello!A4=\"\",B4,Trello!A4))","v":"Vendiendo"},"2023-08-26",{"$f":"IF($A5=\"\",\"\",SUBSTITUTE(SUBSTITUTE(Trello!J4,\" days\",\"\"),\"⌚ \",\"\")*1)","v":18},{"$f":"IFERROR(IF($A5=\"\",\"\",SUBSTITUTE(SUBSTITUTE(SUBSTITUTE(INDIRECT(\"Trello!\"&ADDRESS(ROW()-1, E$1, 4)),\"Foreign: \",\"\"),\" $\",\"\"),\".\",\"\")*1),\"\")","v":500},{"$f":"IF($E5=\"\",IFERROR(IF($A5=\"\",\"\",SUBSTITUTE(SUBSTITUTE(SUBSTITUTE(INDIRECT(\"Trello!\"&ADDRESS(ROW()-1, F$1, 4)),\"MXN: \",\"\"),\" MX$\",\"\"),\".\",\"\")*1),\"\"),E5*F$2)","v":8750},{"$f":"IFERROR(IF($A5=\"\",\"\",SUBSTITUTE(SUBSTITUTE(SUBSTITUTE(INDIRECT(\"Trello!\"&ADDRESS(ROW()-1, G$1, 4)),\"Debt: \",\"\"),\" $\",\"\"),\".\",\"\")*1)*IF(E5=\"\",1,F$2),\"\")","v":""},{"$f":"IFERROR(IF($A5=\"\",\"\",SUBSTITUTE(SUBSTITUTE(SUBSTITUTE(INDIRECT(\"Trello!\"&ADDRESS(ROW()-1, H$1, 4)),\"Cost: \",\"\"),\" $\",\"\"),\".\",\"\")*1*$F$2),\"\")","v":""},{"$f":"IF(OR(F5=\"\",H5=\"\"),F5,F5-H5)","v":8750},{"$f":"IFERROR(SUBSTITUTE(SUBSTITUTE(SUBSTITUTE(RIGHT(INDIRECT(\"Trello!\"&ADDRESS(ROW()-1, L$1, 4)),LEN(INDIRECT(\"Trello!\"&ADDRESS(ROW()-1, L$1, 4)))-15),\". \",\"/\"),\" 20\",\"/20\"),\" \",\"\"),\"\")","v":""},{"$f":"IFERROR(SUBSTITUTE(SUBSTITUTE(SUBSTITUTE(RIGHT(INDIRECT(\"Trello!\"&ADDRESS(ROW()-1, M$1, 4)),LEN(INDIRECT(\"Trello!\"&ADDRESS(ROW()-1, M$1, 4)))-15),\". \",\"/\"),\" 20\",\"/20\"),\" \",\"\"),\"\")","v":""},"","","",{"$f":"IFERROR(SUBSTITUTE(INDIRECT(\"Trello!\"&ADDRESS(ROW()-1, O$1, 4)),\"Estimate hrs: \",\"\")*1,\"\")","v":""},{"$f":"IF(SUMIF(Timecamp!C:C,Reporte!A5,Timecamp!J:J)=0,\"\",SUMIF(Timecamp!C:C,Reporte!A5,Timecamp!J:J))","v":0.15},{"$f":"IF(AND(O5>0,P5>0,O5<>\"\",P5<>\"\"),(P5/O5)-1,\"\")","v":""},58333.333333333336,{"$f":"IFERROR(VLOOKUP(A5,'SLA Trab'!E:I,5,FALSE),\"\")","v":""},{"$f":"IFERROR(VLOOKUP(A5,'SLA Cobr'!E:I,5,FALSE),\"\")","v":""},null,"Actual",{"$f":"COUNTIF(B:B,V5)","v":6},{"$f":"IFERROR(AVERAGEIF($B:$B,$V5,D:D),\"\")","v":17.333333333333332},{"$f":"SUMIF($B:$B,$V5,G:G)","v":0},{"$f":"SUMIF($B:$B,$V5,I:I)","v":78750},{"$f":"IFERROR(AVERAGEIF($B:$B,$V5,N:N),\"\")","v":-2},{"$f":"SUMIF($B:$B,$V5,P:P)","v":16.06666666666667},{"$f":"AB5/24","v":0.66944444444444462},-0.96111111111111114,9530.5895439377073,6.1805555555555562,12.25,null,null,null,null,null,"App Usage","https://app.timecamp.com/time_tracking/task_report/130076421#/entries"]
[{"$f":"IFERROR(IF(Trello!E5=\"\",\"\",Trello!E5),\" \")","v":"Juan Balnearis - Landing bodyclinic"},{"$f":"IF($A6=\"\",\"\",IF(Trello!A5=\"\",B5,Trello!A5))","v":"Vendiendo"},"2023-08-30",{"$f":"IF($A6=\"\",\"\",SUBSTITUTE(SUBSTITUTE(Trello!J5,\" days\",\"\"),\"⌚ \",\"\")*1)","v":14},{"$f":"IFERROR(IF($A6=\"\",\"\",SUBSTITUTE(SUBSTITUTE(SUBSTITUTE(INDIRECT(\"Trello!\"&ADDRESS(ROW()-1, E$1, 4)),\"Foreign: \",\"\"),\" $\",\"\"),\".\",\"\")*1),\"\")","v":75},{"$f":"IF($E6=\"\",IFERROR(IF($A6=\"\",\"\",SUBSTITUTE(SUBSTITUTE(SUBSTITUTE(INDIRECT(\"Trello!\"&ADDRESS(ROW()-1, F$1, 4)),\"MXN: \",\"\"),\" MX$\",\"\"),\".\",\"\")*1),\"\"),E6*F$2)","v":1312.5},{"$f":"IFERROR(IF($A6=\"\",\"\",SUBSTITUTE(SUBSTITUTE(SUBSTITUTE(INDIRECT(\"Trello!\"&ADDRESS(ROW()-1, G$1, 4)),\"Debt: \",\"\"),\" $\",\"\"),\".\",\"\")*1)*IF(E6=\"\",1,F$2),\"\")","v":""},{"$f":"IFERROR(IF($A6=\"\",\"\",SUBSTITUTE(SUBSTITUTE(SUBSTITUTE(INDIRECT(\"Trello!\"&ADDRESS(ROW()-1, H$1, 4)),\"Cost: \",\"\"),\" $\",\"\"),\".\",\"\")*1*$F$2),\"\")","v":""},1312.5,{"$f":"IFERROR(SUBSTITUTE(SUBSTITUTE(SUBSTITUTE(RIGHT(INDIRECT(\"Trello!\"&ADDRESS(ROW()-1, L$1, 4)),LEN(INDIRECT(\"Trello!\"&ADDRESS(ROW()-1, L$1, 4)))-15),\". \",\"/\"),\" 20\",\"/20\"),\" \",\"\"),\"\")","v":""},{"$f":"IFERROR(SUBSTITUTE(SUBSTITUTE(SUBSTITUTE(RIGHT(INDIRECT(\"Trello!\"&ADDRESS(ROW()-1, M$1, 4)),LEN(INDIRECT(\"Trello!\"&ADDRESS(ROW()-1, M$1, 4)))-15),\". \",\"/\"),\" 20\",\"/20\"),\" \",\"\"),\"\")","v":""},"","","",{"$f":"IFERROR(SUBSTITUTE(INDIRECT(\"Trello!\"&ADDRESS(ROW()-1, O$1, 4)),\"Estimate hrs: \",\"\")*1,\"\")","v":""},{"$f":"IF(SUMIF(Timecamp!C:C,Reporte!A6,Timecamp!J:J)=0,\"\",SUMIF(Timecamp!C:C,Reporte!A6,Timecamp!J:J))","v":""},"","",{"$f":"IFERROR(VLOOKUP(A6,'SLA Trab'!E:I,5,FALSE),\"\")","v":""},{"$f":"IFERROR(VLOOKUP(A6,'SLA Cobr'!E:I,5,FALSE),\"\")","v":""},null,"Cobrando",{"$f":"COUNTIF(B:B,V6)","v":7},{"$f":"IFERROR(AVERAGEIF($B:$B,$V6,D:D),\"\")","v":69.571428571428569},{"$f":"SUMIF($B:$B,$V6,G:G)","v":22947.5},{"$f":"SUMIF($B:$B,$V6,I:I)","v":143947.5},{"$f":"IFERROR(AVERAGEIF($B:$B,$V6,N:N),\"\")","v":""},{"$f":"SUMIF($B:$B,$V6,P:P)","v":19.666666666666671},0.81944444444444464,"",108884.9868163496,9.5666666666666664,24.565476190476193]
[{"$f":"IFERROR(IF(Trello!E6=\"\",\"\",Trello!E6),\" \")","v":"Francisco Inlat - Nuevo Figurella Franquicias"},{"$f":"IF($A7=\"\",\"\",IF(Trello!A6=\"\",B6,Trello!A6))","v":"Vendiendo"},"2023-04-25",{"$f":"IF($A7=\"\",\"\",SUBSTITUTE(SUBSTITUTE(Trello!J6,\" days\",\"\"),\"⌚ \",\"\")*1)","v":141},{"$f":"IFERROR(IF($A7=\"\",\"\",SUBSTITUTE(SUBSTITUTE(SUBSTITUTE(INDIRECT(\"Trello!\"&ADDRESS(ROW()-1, E$1, 4)),\"Foreign: \",\"\"),\" $\",\"\"),\".\",\"\")*1),\"\")","v":1400},{"$f":"IF($E7=\"\",IFERROR(IF($A7=\"\",\"\",SUBSTITUTE(SUBSTITUTE(SUBSTITUTE(INDIRECT(\"Trello!\"&ADDRESS(ROW()-1, F$1, 4)),\"MXN: \",\"\"),\" MX$\",\"\"),\".\",\"\")*1),\"\"),E7*F$2)","v":24500},{"$f":"IFERROR(IF($A7=\"\",\"\",SUBSTITUTE(SUBSTITUTE(SUBSTITUTE(INDIRECT(\"Trello!\"&ADDRESS(ROW()-1, G$1, 4)),\"Debt: \",\"\"),\" $\",\"\"),\".\",\"\")*1)*IF(E7=\"\",1,F$2),\"\")","v":""},{"$f":"IFERROR(IF($A7=\"\",\"\",SUBSTITUTE(SUBSTITUTE(SUBSTITUTE(INDIRECT(\"Trello!\"&ADDRESS(ROW()-1, H$1, 4)),\"Cost: \",\"\"),\" $\",\"\"),\".\",\"\")*1*$F$2),\"\")","v":""},24500,{"$f":"IFERROR(SUBSTITUTE(SUBSTITUTE(SUBSTITUTE(RIGHT(INDIRECT(\"Trello!\"&ADDRESS(ROW()-1, L$1, 4)),LEN(INDIRECT(\"Trello!\"&ADDRESS(ROW()-1, L$1, 4)))-15),\". \",\"/\"),\" 20\",\"/20\"),\" \",\"\"),\"\")","v":""},{"$f":"IFERROR(SUBSTITUTE(SUBSTITUTE(SUBSTITUTE(RIGHT(INDIRECT(\"Trello!\"&ADDRESS(ROW()-1, M$1, 4)),LEN(INDIRECT(\"Trello!\"&ADDRESS(ROW()-1, M$1, 4)))-15),\". \",\"/\"),\" 20\",\"/20\"),\" \",\"\"),\"\")","v":""},"","","",{"$f":"IFERROR(SUBSTITUTE(INDIRECT(\"Trello!\"&ADDRESS(ROW()-1, O$1, 4)),\"Estimate hrs: \",\"\")*1,\"\")","v":40},{"$f":"IF(SUMIF(Timecamp!C:C,Reporte!A7,Timecamp!J:J)=0,\"\",SUMIF(Timecamp!C:C,Reporte!A7,Timecamp!J:J))","v":""},"","",{"$f":"IFERROR(VLOOKUP(A7,'SLA Trab'!E:I,5,FALSE),\"\")","v":""},{"$f":"IFERROR(VLOOKUP(A7,'SLA Cobr'!E:I,5,FALSE),\"\")","v":""},null,"Terminado",{"$f":"COUNTIF(B:B,V7)","v":118},{"$f":"IFERROR(AVERAGEIF($B:$B,$V7,D:D),\"\")","v":219.77966101694915},{"$f":"SUMIF($B:$B,$V7,G:G)","v":66382.5},{"$f":"SUMIF($B:$B,$V7,I:I)","v":665619},{"$f":"IFERROR(AVERAGEIF($B:$B,$V7,N:N),\"\")","v":-11.636363636363637},{"$f":"SUMIF($B:$B,$V7,P:P)","v":504.93333333333334},21.038888888888888,0.16146676587301584,18899.532143035882,14.829954954954953,17.743371212121207]
[{"$f":"IFERROR(IF(Trello!E7=\"\",\"\",Trello!E7),\" \")","v":"Ricardo Cuerna - Designer space"},{"$f":"IF($A8=\"\",\"\",IF(Trello!A7=\"\",B7,Trello!A7))","v":"Vendiendo"},"2023-09-07",{"$f":"IF($A8=\"\",\"\",SUBSTITUTE(SUBSTITUTE(Trello!J7,\" days\",\"\"),\"⌚ \",\"\")*1)","v":6},{"$f":"IFERROR(IF($A8=\"\",\"\",SUBSTITUTE(SUBSTITUTE(SUBSTITUTE(INDIRECT(\"Trello!\"&ADDRESS(ROW()-1, E$1, 4)),\"Foreign: \",\"\"),\" $\",\"\"),\".\",\"\")*1),\"\")","v":750},{"$f":"IF($E8=\"\",IFERROR(IF($A8=\"\",\"\",SUBSTITUTE(SUBSTITUTE(SUBSTITUTE(INDIRECT(\"Trello!\"&ADDRESS(ROW()-1, F$1, 4)),\"MXN: \",\"\"),\" MX$\",\"\"),\".\",\"\")*1),\"\"),E8*F$2)","v":13125},{"$f":"IFERROR(IF($A8=\"\",\"\",SUBSTITUTE(SUBSTITUTE(SUBSTITUTE(INDIRECT(\"Trello!\"&ADDRESS(ROW()-1, G$1, 4)),\"Debt: \",\"\"),\" $\",\"\"),\".\",\"\")*1)*IF(E8=\"\",1,F$2),\"\")","v":""},{"$f":"IFERROR(IF($A8=\"\",\"\",SUBSTITUTE(SUBSTITUTE(SUBSTITUTE(INDIRECT(\"Trello!\"&ADDRESS(ROW()-1, H$1, 4)),\"Cost: \",\"\"),\" $\",\"\"),\".\",\"\")*1*$F$2),\"\")","v":""},13125,{"$f":"IFERROR(SUBSTITUTE(SUBSTITUTE(SUBSTITUTE(RIGHT(INDIRECT(\"Trello!\"&ADDRESS(ROW()-1, L$1, 4)),LEN(INDIRECT(\"Trello!\"&ADDRESS(ROW()-1, L$1, 4)))-15),\". \",\"/\"),\" 20\",\"/20\"),\" \",\"\"),\"\")","v":""},{"$f":"IFERROR(SUBSTITUTE(SUBSTITUTE(SUBSTITUTE(RIGHT(INDIRECT(\"Trello!\"&ADDRESS(ROW()-1, M$1, 4)),LEN(INDIRECT(\"Trello!\"&ADDRESS(ROW()-1, M$1, 4)))-15),\". \",\"/\"),\" 20\",\"/20\"),\" \",\"\"),\"\")","v":""},"","",{"$f":"IF(AND(L8>0,M8>0,L8<>\"\",M8<>\"\"),L8-M8,\"\")","v":""},{"$f":"IFERROR(SUBSTITUTE(INDIRECT(\"Trello!\"&ADDRESS(ROW()-1, O$1, 4)),\"Estimate hrs: \",\"\")*1,\"\")","v":20},{"$f":"IF(SUMIF(Timecamp!C:C,Reporte!A8,Timecamp!J:J)=0,\"\",SUMIF(Timecamp!C:C,Reporte!A8,Timecamp!J:J))","v":""},"","",{"$f":"IFERROR(VLOOKUP(A8,'SLA Trab'!E:I,5,FALSE),\"\")","v":""},{"$f":"IFERROR(VLOOKUP(A8,'SLA Cobr'!E:I,5,FALSE),\"\")","v":""},null,"Cotizado",{"$f":"COUNTIF(B:B,V8)","v":46},{"$f":"IFERROR(AVERAGEIF($B:$B,$V8,D:D),\"\")","v":223.95652173913044},null,null,{"$f":"IFERROR(AVERAGEIF($B:$B,$V8,N:N),\"\")","v":""},{"$f":"SUMIF($B:$B,$V8,P:P)","v":0.93333333333333335},3.888888888888889E-2,"",283500,30.520833333333332,""]
[{"$f":"IFERROR(IF(Trello!E8=\"\",\"\",Trello!E8),\" \")","v":"Faby - APIs Libreria y rediseño"},{"$f":"IF($A9=\"\",\"\",IF(Trello!A8=\"\",B8,Trello!A8))","v":"Vendiendo"},"2023-09-12",{"$f":"IF($A9=\"\",\"\",SUBSTITUTE(SUBSTITUTE(Trello!J8,\" days\",\"\"),\"⌚ \",\"\")*1)","v":1},{"$f":"IFERROR(IF($A9=\"\",\"\",SUBSTITUTE(SUBSTITUTE(SUBSTITUTE(INDIRECT(\"Trello!\"&ADDRESS(ROW()-1, E$1, 4)),\"Foreign: \",\"\"),\" $\",\"\"),\".\",\"\")*1),\"\")","v":""},{"$f":"IF($E9=\"\",IFERROR(IF($A9=\"\",\"\",SUBSTITUTE(SUBSTITUTE(SUBSTITUTE(INDIRECT(\"Trello!\"&ADDRESS(ROW()-1, F$1, 4)),\"MXN: \",\"\"),\" MX$\",\"\"),\".\",\"\")*1),\"\"),E9*F$2)","v":22000},{"$f":"IFERROR(IF($A9=\"\",\"\",SUBSTITUTE(SUBSTITUTE(SUBSTITUTE(INDIRECT(\"Trello!\"&ADDRESS(ROW()-1, G$1, 4)),\"Debt: \",\"\"),\" $\",\"\"),\".\",\"\")*1)*IF(E9=\"\",1,F$2),\"\")","v":""},{"$f":"IFERROR(IF($A9=\"\",\"\",SUBSTITUTE(SUBSTITUTE(SUBSTITUTE(INDIRECT(\"Trello!\"&ADDRESS(ROW()-1, H$1, 4)),\"Cost: \",\"\"),\" $\",\"\"),\".\",\"\")*1*$F$2),\"\")","v":""},22000,{"$f":"IFERROR(SUBSTITUTE(SUBSTITUTE(SUBSTITUTE(RIGHT(INDIRECT(\"Trello!\"&ADDRESS(ROW()-1, L$1, 4)),LEN(INDIRECT(\"Trello!\"&ADDRESS(ROW()-1, L$1, 4)))-15),\". \",\"/\"),\" 20\",\"/20\"),\" \",\"\"),\"\")","v":""},{"$f":"IFERROR(SUBSTITUTE(SUBSTITUTE(SUBSTITUTE(RIGHT(INDIRECT(\"Trello!\"&ADDRESS(ROW()-1, M$1, 4)),LEN(INDIRECT(\"Trello!\"&ADDRESS(ROW()-1, M$1, 4)))-15),\". \",\"/\"),\" 20\",\"/20\"),\" \",\"\"),\"\")","v":""},"","",{"$f":"IF(AND(L9>0,M9>0,L9<>\"\",M9<>\"\"),L9-M9,\"\")","v":""},{"$f":"IFERROR(SUBSTITUTE(INDIRECT(\"Trello!\"&ADDRESS(ROW()-1, O$1, 4)),\"Estimate hrs: \",\"\")*1,\"\")","v":""},{"$f":"IF(SUMIF(Timecamp!C:C,Reporte!A9,Timecamp!J:J)=0,\"\",SUMIF(Timecamp!C:C,Reporte!A9,Timecamp!J:J))","v":""},"","",{"$f":"IFERROR(VLOOKUP(A9,'SLA Trab'!E:I,5,FALSE),\"\")","v":""},{"$f":"IFERROR(VLOOKUP(A9,'SLA Cobr'!E:I,5,FALSE),\"\")","v":""},null,"Global",{"$f":"SUM(W4:W8)","v":185},{"$f":"AVERAGE(X4:X8)","v":111.37818893216831},{"$f":"SUMIF(Y4:Y8,\">0\",Y4:Y8)","v":89330},{"$f":"SUM(Z4:Z8)","v":888316.5},{"$f":"AVERAGE(AA4:AA8)","v":-6.8181818181818183},{"$f":"SUM(AB4:AB8)","v":541.84999999999991},22.577083333333331,{"$f":"AVERAGE(AD4:AD8)","v":-0.39982217261904762},{"$f":"AVERAGE(AE4:AE8)","v":126746.35503399796},{"$f":"AVERAGE(AF4:AF8)","v":15.274502627627626},{"$f":"AVERAGE(AG4:AG8)","v":18.186282467532465}]
[{"$f":"IFERROR(IF(Trello!E9=\"\",\"\",Trello!E9),\" \")","v":"Eduardo Freelancer - cambios Arekkusu 2do round"},{"$f":"IF($A10=\"\",\"\",IF(Trello!A9=\"\",B9,Trello!A9))","v":"Vendiendo"},"2023-09-12",{"$f":"IF($A10=\"\",\"\",SUBSTITUTE(SUBSTITUTE(Trello!J9,\" days\",\"\"),\"⌚ \",\"\")*1)","v":1},{"$f":"IFERROR(IF($A10=\"\",\"\",SUBSTITUTE(SUBSTITUTE(SUBSTITUTE(INDIRECT(\"Trello!\"&ADDRESS(ROW()-1, E$1, 4)),\"Foreign: \",\"\"),\" $\",\"\"),\".\",\"\")*1),\"\")","v":300},{"$f":"IF($E10=\"\",IFERROR(IF($A10=\"\",\"\",SUBSTITUTE(SUBSTITUTE(SUBSTITUTE(INDIRECT(\"Trello!\"&ADDRESS(ROW()-1, F$1, 4)),\"MXN: \",\"\"),\" MX$\",\"\"),\".\",\"\")*1),\"\"),E10*F$2)","v":5250},{"$f":"IFERROR(IF($A10=\"\",\"\",SUBSTITUTE(SUBSTITUTE(SUBSTITUTE(INDIRECT(\"Trello!\"&ADDRESS(ROW()-1, G$1, 4)),\"Debt: \",\"\"),\" $\",\"\"),\".\",\"\")*1)*IF(E10=\"\",1,F$2),\"\")","v":""},{"$f":"IFERROR(IF($A10=\"\",\"\",SUBSTITUTE(SUBSTITUTE(SUBSTITUTE(INDIRECT(\"Trello!\"&ADDRESS(ROW()-1, H$1, 4)),\"Cost: \",\"\"),\" $\",\"\"),\".\",\"\")*1*$F$2),\"\")","v":""},5250,{"$f":"IFERROR(SUBSTITUTE(SUBSTITUTE(SUBSTITUTE(RIGHT(INDIRECT(\"Trello!\"&ADDRESS(ROW()-1, L$1, 4)),LEN(INDIRECT(\"Trello!\"&ADDRESS(ROW()-1, L$1, 4)))-15),\". \",\"/\"),\" 20\",\"/20\"),\" \",\"\"),\"\")","v":""},{"$f":"IFERROR(SUBSTITUTE(SUBSTITUTE(SUBSTITUTE(RIGHT(INDIRECT(\"Trello!\"&ADDRESS(ROW()-1, M$1, 4)),LEN(INDIRECT(\"Trello!\"&ADDRESS(ROW()-1, M$1, 4)))-15),\". \",\"/\"),\" 20\",\"/20\"),\" \",\"\"),\"\")","v":""},{"$f":"IFERROR(SUBSTITUTE(SUBSTITUTE(SUBSTITUTE(SUBSTITUTE(SUBSTITUTE(SUBSTITUTE(SUBSTITUTE(SUBSTITUTE(SUBSTITUTE(SUBSTITUTE(SUBSTITUTE(SUBSTITUTE(J10,\"Dez\",12),\"Nov\",11),\"Okt\",10),\"Sept\",9),\"Aug\",8),\"Juli\",7),\"Juni\",6),\"Mai\",5),\"Apr\",4),\"März\",3),\"Feb\",2),\"Jan\",1)*1,\"\")","v":""},"",{"$f":"IF(AND(L10>0,M10>0,L10<>\"\",M10<>\"\"),L10-M10,\"\")","v":""},{"$f":"IFERROR(SUBSTITUTE(INDIRECT(\"Trello!\"&ADDRESS(ROW()-1, O$1, 4)),\"Estimate hrs: \",\"\")*1,\"\")","v":""},{"$f":"IF(SUMIF(Timecamp!C:C,Reporte!A10,Timecamp!J:J)=0,\"\",SUMIF(Timecamp!C:C,Reporte!A10,Timecamp!J:J))","v":""},"","",{"$f":"IFERROR(VLOOKUP(A10,'SLA Trab'!E:I,5,FALSE),\"\")","v":""},{"$f":"IFERROR(VLOOKUP(A10,'SLA Cobr'!E:I,5,FALSE),\"\")","v":""}]
[{"$f":"IFERROR(IF(Trello!E10=\"\",\"\",Trello!E10),\" \")","v":"Ricardo CDMX - Excel a Plataforma Web"},{"$f":"IF($A11=\"\",\"\",IF(Trello!A10=\"\",B10,Trello!A10))","v":"Actual"},"2023-08-26",{"$f":"IF($A11=\"\",\"\",SUBSTITUTE(SUBSTITUTE(Trello!J10,\" days\",\"\"),\"⌚ \",\"\")*1)","v":18},{"$f":"IFERROR(IF($A11=\"\",\"\",SUBSTITUTE(SUBSTITUTE(SUBSTITUTE(INDIRECT(\"Trello!\"&ADDRESS(ROW()-1, E$1, 4)),\"Foreign: \",\"\"),\" $\",\"\"),\".\",\"\")*1),\"\")","v":300},{"$f":"IF($E11=\"\",IFERROR(IF($A11=\"\",\"\",SUBSTITUTE(SUBSTITUTE(SUBSTITUTE(INDIRECT(\"Trello!\"&ADDRESS(ROW()-1, F$1, 4)),\"MXN: \",\"\"),\" MX$\",\"\"),\".\",\"\")*1),\"\"),E11*F$2)","v":5250},{"$f":"IFERROR(IF($A11=\"\",\"\",SUBSTITUTE(SUBSTITUTE(SUBSTITUTE(INDIRECT(\"Trello!\"&ADDRESS(ROW()-1, G$1, 4)),\"Debt: \",\"\"),\" $\",\"\"),\".\",\"\")*1)*IF(E11=\"\",1,F$2),\"\")","v":""},{"$f":"IFERROR(IF($A11=\"\",\"\",SUBSTITUTE(SUBSTITUTE(SUBSTITUTE(INDIRECT(\"Trello!\"&ADDRESS(ROW()-1, H$1, 4)),\"Cost: \",\"\"),\" $\",\"\"),\".\",\"\")*1*$F$2),\"\")","v":""},5250,{"$f":"IFERROR(SUBSTITUTE(SUBSTITUTE(SUBSTITUTE(RIGHT(INDIRECT(\"Trello!\"&ADDRESS(ROW()-1, L$1, 4)),LEN(INDIRECT(\"Trello!\"&ADDRESS(ROW()-1, L$1, 4)))-15),\". \",\"/\"),\" 20\",\"/20\"),\" \",\"\"),\"\")","v":"30/Aug/2023"},{"$f":"IFERROR(SUBSTITUTE(SUBSTITUTE(SUBSTITUTE(RIGHT(INDIRECT(\"Trello!\"&ADDRESS(ROW()-1, M$1, 4)),LEN(INDIRECT(\"Trello!\"&ADDRESS(ROW()-1, M$1, 4)))-15),\". \",\"/\"),\" 20\",\"/20\"),\" \",\"\"),\"\")","v":"1/Sept/2023"},{"$f":"IFERROR(SUBSTITUTE(SUBSTITUTE(SUBSTITUTE(SUBSTITUTE(SUBSTITUTE(SUBSTITUTE(SUBSTITUTE(SUBSTITUTE(SUBSTITUTE(SUBSTITUTE(SUBSTITUTE(SUBSTITUTE(J11,\"Dez\",12),\"Nov\",11),\"Okt\",10),\"Sept\",9),\"Aug\",8),\"Juli\",7),\"Juni\",6),\"Mai\",5),\"Apr\",4),\"März\",3),\"Feb\",2),\"Jan\",1)*1,\"\")","v":"2023-08-30"},"2023-09-01",-2,{"$f":"IFERROR(SUBSTITUTE(INDIRECT(\"Trello!\"&ADDRESS(ROW()-1, O$1, 4)),\"Estimate hrs: \",\"\")*1,\"\")","v":""},{"$f":"IF(SUMIF(Timecamp!C:C,Reporte!A11,Timecamp!J:J)=0,\"\",SUMIF(Timecamp!C:C,Reporte!A11,Timecamp!J:J))","v":14.983333333333334},"",350.38932146829808,{"$f":"IFERROR(VLOOKUP(A11,'SLA Trab'!E:I,5,FALSE),\"\")","v":5.625},{"$f":"IFERROR(VLOOKUP(A11,'SLA Cobr'!E:I,5,FALSE),\"\")","v":12.25}]
[{"$f":"IFERROR(IF(Trello!E11=\"\",\"\",Trello!E11),\" \")","v":"Jaidi Col - PDF online marker"},{"$f":"IF($A12=\"\",\"\",IF(Trello!A11=\"\",B11,Trello!A11))","v":"Actual"},"2023-09-01",{"$f":"IF($A12=\"\",\"\",SUBSTITUTE(SUBSTITUTE(Trello!J11,\" days\",\"\"),\"⌚ \",\"\")*1)","v":12},{"$f":"IFERROR(IF($A12=\"\",\"\",SUBSTITUTE(SUBSTITUTE(SUBSTITUTE(INDIRECT(\"Trello!\"&ADDRESS(ROW()-1, E$1, 4)),\"Foreign: \",\"\"),\" $\",\"\"),\".\",\"\")*1),\"\")","v":700},{"$f":"IF($E12=\"\",IFERROR(IF($A12=\"\",\"\",SUBSTITUTE(SUBSTITUTE(SUBSTITUTE(INDIRECT(\"Trello!\"&ADDRESS(ROW()-1, F$1, 4)),\"MXN: \",\"\"),\" MX$\",\"\"),\".\",\"\")*1),\"\"),E12*F$2)","v":12250},{"$f":"IFERROR(IF($A12=\"\",\"\",SUBSTITUTE(SUBSTITUTE(SUBSTITUTE(INDIRECT(\"Trello!\"&ADDRESS(ROW()-1, G$1, 4)),\"Debt: \",\"\"),\" $\",\"\"),\".\",\"\")*1)*IF(E12=\"\",1,F$2),\"\")","v":""},{"$f":"IFERROR(IF($A12=\"\",\"\",SUBSTITUTE(SUBSTITUTE(SUBSTITUTE(INDIRECT(\"Trello!\"&ADDRESS(ROW()-1, H$1, 4)),\"Cost: \",\"\"),\" $\",\"\"),\".\",\"\")*1*$F$2),\"\")","v":""},12250,{"$f":"IFERROR(SUBSTITUTE(SUBSTITUTE(SUBSTITUTE(RIGHT(INDIRECT(\"Trello!\"&ADDRESS(ROW()-1, L$1, 4)),LEN(INDIRECT(\"Trello!\"&ADDRESS(ROW()-1, L$1, 4)))-15),\". \",\"/\"),\" 20\",\"/20\"),\" \",\"\"),\"\")","v":"15/Sept/2023"},{"$f":"IFERROR(SUBSTITUTE(SUBSTITUTE(SUBSTITUTE(RIGHT(INDIRECT(\"Trello!\"&ADDRESS(ROW()-1, M$1, 4)),LEN(INDIRECT(\"Trello!\"&ADDRESS(ROW()-1, M$1, 4)))-15),\". \",\"/\"),\" 20\",\"/20\"),\" \",\"\"),\"\")","v":""},"2023-09-15","","",{"$f":"IFERROR(SUBSTITUTE(INDIRECT(\"Trello!\"&ADDRESS(ROW()-1, O$1, 4)),\"Estimate hrs: \",\"\")*1,\"\")","v":15},{"$f":"IF(SUMIF(Timecamp!C:C,Reporte!A12,Timecamp!J:J)=0,\"\",SUMIF(Timecamp!C:C,Reporte!A12,Timecamp!J:J))","v":0.58333333333333337},-0.96111111111111114,21000,{"$f":"IFERROR(VLOOKUP(A12,'SLA Trab'!E:I,5,FALSE),\"\")","v":11.75},{"$f":"IFERROR(VLOOKUP(A12,'SLA Cobr'!E:I,5,FALSE),\"\")","v":""}]
[{"$f":"IFERROR(IF(Trello!E12=\"\",\"\",Trello!E12),\" \")","v":"Francisco Inlat - Ingeurbe Ingles"},{"$f":"IF($A13=\"\",\"\",IF(Trello!A12=\"\",B12,Trello!A12))","v":"Actual"},"2023-08-22",{"$f":"IF($A13=\"\",\"\",SUBSTITUTE(SUBSTITUTE(Trello!J12,\" days\",\"\"),\"⌚ \",\"\")*1)","v":22},{"$f":"IFERROR(IF($A13=\"\",\"\",SUBSTITUTE(SUBSTITUTE(SUBSTITUTE(INDIRECT(\"Trello!\"&ADDRESS(ROW()-1, E$1, 4)),\"Foreign: \",\"\"),\" $\",\"\"),\".\",\"\")*1),\"\")","v":800},{"$f":"IF($E13=\"\",IFERROR(IF($A13=\"\",\"\",SUBSTITUTE(SUBSTITUTE(SUBSTITUTE(INDIRECT(\"Trello!\"&ADDRESS(ROW()-1, F$1, 4)),\"MXN: \",\"\"),\" MX$\",\"\"),\".\",\"\")*1),\"\"),E13*F$2)","v":14000},{"$f":"IFERROR(IF($A13=\"\",\"\",SUBSTITUTE(SUBSTITUTE(SUBSTITUTE(INDIRECT(\"Trello!\"&ADDRESS(ROW()-1, G$1, 4)),\"Debt: \",\"\"),\" $\",\"\"),\".\",\"\")*1)*IF(E13=\"\",1,F$2),\"\")","v":""},{"$f":"IFERROR(IF($A13=\"\",\"\",SUBSTITUTE(SUBSTITUTE(SUBSTITUTE(INDIRECT(\"Trello!\"&ADDRESS(ROW()-1, H$1, 4)),\"Cost: \",\"\"),\" $\",\"\"),\".\",\"\")*1*$F$2),\"\")","v":""},14000,{"$f":"IFERROR(SUBSTITUTE(SUBSTITUTE(SUBSTITUTE(RIGHT(INDIRECT(\"Trello!\"&ADDRESS(ROW()-1, L$1, 4)),LEN(INDIRECT(\"Trello!\"&ADDRESS(ROW()-1, L$1, 4)))-15),\". \",\"/\"),\" 20\",\"/20\"),\" \",\"\"),\"\")","v":""},{"$f":"IFERROR(SUBSTITUTE(SUBSTITUTE(SUBSTITUTE(RIGHT(INDIRECT(\"Trello!\"&ADDRESS(ROW()-1, M$1, 4)),LEN(INDIRECT(\"Trello!\"&ADDRESS(ROW()-1, M$1, 4)))-15),\". \",\"/\"),\" 20\",\"/20\"),\" \",\"\"),\"\")","v":""},"","","",{"$f":"IFERROR(SUBSTITUTE(INDIRECT(\"Trello!\"&ADDRESS(ROW()-1, O$1, 4)),\"Estimate hrs: \",\"\")*1,\"\")","v":""},{"$f":"IF(SUMIF(Timecamp!C:C,Reporte!A13,Timecamp!J:J)=0,\"\",SUMIF(Timecamp!C:C,Reporte!A13,Timecamp!J:J))","v":""},"","",{"$f":"IFERROR(VLOOKUP(A13,'SLA Trab'!E:I,5,FALSE),\"\")","v":0.91666666666666663},{"$f":"IFERROR(VLOOKUP(A13,'SLA Cobr'!E:I,5,FALSE),\"\")","v":""}]
[{"$f":"IFERROR(IF(Trello!E13=\"\",\"\",Trello!E13),\" \")","v":"Gary Hydracheck - safe-2-bleed Quote on contact"},{"$f":"IF($A14=\"\",\"\",IF(Trello!A13=\"\",B13,Trello!A13))","v":"Actual"},"2023-09-12",{"$f":"IF($A14=\"\",\"\",SUBSTITUTE(SUBSTITUTE(Trello!J13,\" days\",\"\"),\"⌚ \",\"\")*1)","v":1},{"$f":"IFERROR(IF($A14=\"\",\"\",SUBSTITUTE(SUBSTITUTE(SUBSTITUTE(INDIRECT(\"Trello!\"&ADDRESS(ROW()-1, E$1, 4)),\"Foreign: \",\"\"),\" $\",\"\"),\".\",\"\")*1),\"\")","v":""},{"$f":"IF($E14=\"\",IFERROR(IF($A14=\"\",\"\",SUBSTITUTE(SUBSTITUTE(SUBSTITUTE(INDIRECT(\"Trello!\"&ADDRESS(ROW()-1, F$1, 4)),\"MXN: \",\"\"),\" MX$\",\"\"),\".\",\"\")*1),\"\"),E14*F$2)","v":""},{"$f":"IFERROR(IF($A14=\"\",\"\",SUBSTITUTE(SUBSTITUTE(SUBSTITUTE(INDIRECT(\"Trello!\"&ADDRESS(ROW()-1, G$1, 4)),\"Debt: \",\"\"),\" $\",\"\"),\".\",\"\")*1)*IF(E14=\"\",1,F$2),\"\")","v":""},{"$f":"IFERROR(IF($A14=\"\",\"\",SUBSTITUTE(SUBSTITUTE(SUBSTITUTE(INDIRECT(\"Trello!\"&ADDRESS(ROW()-1, H$1, 4)),\"Cost: \",\"\"),\" $\",\"\"),\".\",\"\")*1*$F$2),\"\")","v":""},"",{"$f":"IFERROR(SUBSTITUTE(SUBSTITUTE(SUBSTITUTE(RIGHT(INDIRECT(\"Trello!\"&ADDRESS(ROW()-1, L$1, 4)),LEN(INDIRECT(\"Trello!\"&ADDRESS(ROW()-1, L$1, 4)))-15),\". \",\"/\"),\" 20\",\"/20\"),\" \",\"\"),\"\")","v":""},{"$f":"IFERROR(SUBSTITUTE(SUBSTITUTE(SUBSTITUTE(RIGHT(INDIRECT(\"Trello!\"&ADDRESS(ROW()-1, M$1, 4)),LEN(INDIRECT(\"Trello!\"&ADDRESS(ROW()-1, M$1, 4)))-15),\". \",\"/\"),\" 20\",\"/20\"),\" \",\"\"),\"\")","v":""},"","","",{"$f":"IFERROR(SUBSTITUTE(INDIRECT(\"Trello!\"&ADDRESS(ROW()-1, O$1, 4)),\"Estimate hrs: \",\"\")*1,\"\")","v":""},{"$f":"IF(SUMIF(Timecamp!C:C,Reporte!A14,Timecamp!J:J)=0,\"\",SUMIF(Timecamp!C:C,Reporte!A14,Timecamp!J:J))","v":1.6666666666666666E-2},"","",{"$f":"IFERROR(VLOOKUP(A14,'SLA Trab'!E:I,5,FALSE),\"\")","v":0.79166666666666663},{"$f":"IFERROR(VLOOKUP(A14,'SLA Cobr'!E:I,5,FALSE),\"\")","v":""}]
[{"$f":"IFERROR(IF(Trello!E14=\"\",\"\",Trello!E14),\" \")","v":"Ricardo Cuerna - Fixum Carta Porte"},{"$f":"IF($A15=\"\",\"\",IF(Trello!A14=\"\",B14,Trello!A14))","v":"Actual"},"2023-08-16",{"$f":"IF($A15=\"\",\"\",SUBSTITUTE(SUBSTITUTE(Trello!J14,\" days\",\"\"),\"⌚ \",\"\")*1)","v":28},{"$f":"IFERROR(IF($A15=\"\",\"\",SUBSTITUTE(SUBSTITUTE(SUBSTITUTE(INDIRECT(\"Trello!\"&ADDRESS(ROW()-1, E$1, 4)),\"Foreign: \",\"\"),\" $\",\"\"),\".\",\"\")*1),\"\")","v":2500},{"$f":"IF($E15=\"\",IFERROR(IF($A15=\"\",\"\",SUBSTITUTE(SUBSTITUTE(SUBSTITUTE(INDIRECT(\"Trello!\"&ADDRESS(ROW()-1, F$1, 4)),\"MXN: \",\"\"),\" MX$\",\"\"),\".\",\"\")*1),\"\"),E15*F$2)","v":43750},{"$f":"IFERROR(IF($A15=\"\",\"\",SUBSTITUTE(SUBSTITUTE(SUBSTITUTE(INDIRECT(\"Trello!\"&ADDRESS(ROW()-1, G$1, 4)),\"Debt: \",\"\"),\" $\",\"\"),\".\",\"\")*1)*IF(E15=\"\",1,F$2),\"\")","v":""},{"$f":"IFERROR(IF($A15=\"\",\"\",SUBSTITUTE(SUBSTITUTE(SUBSTITUTE(INDIRECT(\"Trello!\"&ADDRESS(ROW()-1, H$1, 4)),\"Cost: \",\"\"),\" $\",\"\"),\".\",\"\")*1*$F$2),\"\")","v":""},43750,{"$f":"IFERROR(SUBSTITUTE(SUBSTITUTE(SUBSTITUTE(RIGHT(INDIRECT(\"Trello!\"&ADDRESS(ROW()-1, L$1, 4)),LEN(INDIRECT(\"Trello!\"&ADDRESS(ROW()-1, L$1, 4)))-15),\". \",\"/\"),\" 20\",\"/20\"),\" \",\"\"),\"\")","v":""},{"$f":"IFERROR(SUBSTITUTE(SUBSTITUTE(SUBSTITUTE(RIGHT(INDIRECT(\"Trello!\"&ADDRESS(ROW()-1, M$1, 4)),LEN(INDIRECT(\"Trello!\"&ADDRESS(ROW()-1, M$1, 4)))-15),\". \",\"/\"),\" 20\",\"/20\"),\" \",\"\"),\"\")","v":""},"","","",{"$f":"IFERROR(SUBSTITUTE(INDIRECT(\"Trello!\"&ADDRESS(ROW()-1, O$1, 4)),\"Estimate hrs: \",\"\")*1,\"\")","v":""},{"$f":"IF(SUMIF(Timecamp!C:C,Reporte!A15,Timecamp!J:J)=0,\"\",SUMIF(Timecamp!C:C,Reporte!A15,Timecamp!J:J))","v":""},"","",{"$f":"IFERROR(VLOOKUP(A15,'SLA Trab'!E:I,5,FALSE),\"\")","v":6.791666666666667},{"$f":"IFERROR(VLOOKUP(A15,'SLA Cobr'!E:I,5,FALSE),\"\")","v":""}]
[{"$f":"IFERROR(IF(Trello!E15=\"\",\"\",Trello!E15),\" \")","v":"Juan Balnearis - Bodyclinicmx cambios"},{"$f":"IF($A16=\"\",\"\",IF(Trello!A15=\"\",B15,Trello!A15))","v":"Actual"},"2023-08-21",{"$f":"IF($A16=\"\",\"\",SUBSTITUTE(SUBSTITUTE(Trello!J15,\" days\",\"\"),\"⌚ \",\"\")*1)","v":23},{"$f":"IFERROR(IF($A16=\"\",\"\",SUBSTITUTE(SUBSTITUTE(SUBSTITUTE(INDIRECT(\"Trello!\"&ADDRESS(ROW()-1, E$1, 4)),\"Foreign: \",\"\"),\" $\",\"\"),\".\",\"\")*1),\"\")","v":200},{"$f":"IF($E16=\"\",IFERROR(IF($A16=\"\",\"\",SUBSTITUTE(SUBSTITUTE(SUBSTITUTE(INDIRECT(\"Trello!\"&ADDRESS(ROW()-1, F$1, 4)),\"MXN: \",\"\"),\" MX$\",\"\"),\".\",\"\")*1),\"\"),E16*F$2)","v":3500},{"$f":"IFERROR(IF($A16=\"\",\"\",SUBSTITUTE(SUBSTITUTE(SUBSTITUTE(INDIRECT(\"Trello!\"&ADDRESS(ROW()-1, G$1, 4)),\"Debt: \",\"\"),\" $\",\"\"),\".\",\"\")*1)*IF(E16=\"\",1,F$2),\"\")","v":""},{"$f":"IFERROR(IF($A16=\"\",\"\",SUBSTITUTE(SUBSTITUTE(SUBSTITUTE(INDIRECT(\"Trello!\"&ADDRESS(ROW()-1, H$1, 4)),\"Cost: \",\"\"),\" $\",\"\"),\".\",\"\")*1*$F$2),\"\")","v":""},3500,{"$f":"IFERROR(SUBSTITUTE(SUBSTITUTE(SUBSTITUTE(RIGHT(INDIRECT(\"Trello!\"&ADDRESS(ROW()-1, L$1, 4)),LEN(INDIRECT(\"Trello!\"&ADDRESS(ROW()-1, L$1, 4)))-15),\". \",\"/\"),\" 20\",\"/20\"),\" \",\"\"),\"\")","v":""},{"$f":"IFERROR(SUBSTITUTE(SUBSTITUTE(SUBSTITUTE(RIGHT(INDIRECT(\"Trello!\"&ADDRESS(ROW()-1, M$1, 4)),LEN(INDIRECT(\"Trello!\"&ADDRESS(ROW()-1, M$1, 4)))-15),\". \",\"/\"),\" 20\",\"/20\"),\" \",\"\"),\"\")","v":""},"","",{"$f":"IF(AND(L16>0,M16>0,L16<>\"\",M16<>\"\"),L16-M16,\"\")","v":""},{"$f":"IFERROR(SUBSTITUTE(INDIRECT(\"Trello!\"&ADDRESS(ROW()-1, O$1, 4)),\"Estimate hrs: \",\"\")*1,\"\")","v":""},{"$f":"IF(SUMIF(Timecamp!C:C,Reporte!A16,Timecamp!J:J)=0,\"\",SUMIF(Timecamp!C:C,Reporte!A16,Timecamp!J:J))","v":0.48333333333333334},"",7241.3793103448279,{"$f":"IFERROR(VLOOKUP(A16,'SLA Trab'!E:I,5,FALSE),\"\")","v":11.208333333333334},{"$f":"IFERROR(VLOOKUP(A16,'SLA Cobr'!E:I,5,FALSE),\"\")","v":""}]
[{"$f":"IFERROR(IF(Trello!E16=\"\",\"\",Trello!E16),\" \")","v":"Faby - Crawler Farmakosto"},{"$f":"IF($A17=\"\",\"\",IF(Trello!A16=\"\",B16,Trello!A16))","v":"Cobrando"},"2023-08-01",{"$f":"IF($A17=\"\",\"\",SUBSTITUTE(SUBSTITUTE(Trello!J16,\" days\",\"\"),\"⌚ \",\"\")*1)","v":43},{"$f":"IFERROR(IF($A17=\"\",\"\",SUBSTITUTE(SUBSTITUTE(SUBSTITUTE(INDIRECT(\"Trello!\"&ADDRESS(ROW()-1, E$1, 4)),\"Foreign: \",\"\"),\" $\",\"\"),\".\",\"\")*1),\"\")","v":""},{"$f":"IF($E17=\"\",IFERROR(IF($A17=\"\",\"\",SUBSTITUTE(SUBSTITUTE(SUBSTITUTE(INDIRECT(\"Trello!\"&ADDRESS(ROW()-1, F$1, 4)),\"MXN: \",\"\"),\" MX$\",\"\"),\".\",\"\")*1),\"\"),E17*F$2)","v":30000},{"$f":"IFERROR(IF($A17=\"\",\"\",SUBSTITUTE(SUBSTITUTE(SUBSTITUTE(INDIRECT(\"Trello!\"&ADDRESS(ROW()-1, G$1, 4)),\"Debt: \",\"\"),\" $\",\"\"),\".\",\"\")*1)*IF(E17=\"\",1,F$2),\"\")","v":15000},{"$f":"IFERROR(IF($A17=\"\",\"\",SUBSTITUTE(SUBSTITUTE(SUBSTITUTE(INDIRECT(\"Trello!\"&ADDRESS(ROW()-1, H$1, 4)),\"Cost: \",\"\"),\" $\",\"\"),\".\",\"\")*1*$F$2),\"\")","v":""},30000,{"$f":"IFERROR(SUBSTITUTE(SUBSTITUTE(SUBSTITUTE(RIGHT(INDIRECT(\"Trello!\"&ADDRESS(ROW()-1, L$1, 4)),LEN(INDIRECT(\"Trello!\"&ADDRESS(ROW()-1, L$1, 4)))-15),\". \",\"/\"),\" 20\",\"/20\"),\" \",\"\"),\"\")","v":"13/Sept/2023"},{"$f":"IFERROR(SUBSTITUTE(SUBSTITUTE(SUBSTITUTE(RIGHT(INDIRECT(\"Trello!\"&ADDRESS(ROW()-1, M$1, 4)),LEN(INDIRECT(\"Trello!\"&ADDRESS(ROW()-1, M$1, 4)))-15),\". \",\"/\"),\" 20\",\"/20\"),\" \",\"\"),\"\")","v":""},"2023-09-13","","",{"$f":"IFERROR(SUBSTITUTE(INDIRECT(\"Trello!\"&ADDRESS(ROW()-1, O$1, 4)),\"Estimate hrs: \",\"\")*1,\"\")","v":""},{"$f":"IF(SUMIF(Timecamp!C:C,Reporte!A17,Timecamp!J:J)=0,\"\",SUMIF(Timecamp!C:C,Reporte!A17,Timecamp!J:J))","v":9.6166666666666689},"",3119.5840554592714,{"$f":"IFERROR(VLOOKUP(A17,'SLA Trab'!E:I,5,FALSE),\"\")","v":34.083333333333336},{"$f":"IFERROR(VLOOKUP(A17,'SLA Cobr'!E:I,5,FALSE),\"\")","v":0.79166666666666663}]
[{"$f":"IFERROR(IF(Trello!E17=\"\",\"\",Trello!E17),\" \")","v":"Bjorn Sueco - Speedup"},{"$f":"IF($A18=\"\",\"\",IF(Trello!A17=\"\",B17,Trello!A17))","v":"Cobrando"},"2023-09-10",{"$f":"IF($A18=\"\",\"\",SUBSTITUTE(SUBSTITUTE(Trello!J17,\" days\",\"\"),\"⌚ \",\"\")*1)","v":3},{"$f":"IFERROR(IF($A18=\"\",\"\",SUBSTITUTE(SUBSTITUTE(SUBSTITUTE(INDIRECT(\"Trello!\"&ADDRESS(ROW()-1, E$1, 4)),\"Foreign: \",\"\"),\" $\",\"\"),\".\",\"\")*1),\"\")","v":300},{"$f":"IF($E18=\"\",IFERROR(IF($A18=\"\",\"\",SUBSTITUTE(SUBSTITUTE(SUBSTITUTE(INDIRECT(\"Trello!\"&ADDRESS(ROW()-1, F$1, 4)),\"MXN: \",\"\"),\" MX$\",\"\"),\".\",\"\")*1),\"\"),E18*F$2)","v":5250},{"$f":"IFERROR(IF($A18=\"\",\"\",SUBSTITUTE(SUBSTITUTE(SUBSTITUTE(INDIRECT(\"Trello!\"&ADDRESS(ROW()-1, G$1, 4)),\"Debt: \",\"\"),\" $\",\"\"),\".\",\"\")*1)*IF(E18=\"\",1,F$2),\"\")","v":""},{"$f":"IFERROR(IF($A18=\"\",\"\",SUBSTITUTE(SUBSTITUTE(SUBSTITUTE(INDIRECT(\"Trello!\"&ADDRESS(ROW()-1, H$1, 4)),\"Cost: \",\"\"),\" $\",\"\"),\".\",\"\")*1*$F$2),\"\")","v":""},5250,{"$f":"IFERROR(SUBSTITUTE(SUBSTITUTE(SUBSTITUTE(RIGHT(INDIRECT(\"Trello!\"&ADDRESS(ROW()-1, L$1, 4)),LEN(INDIRECT(\"Trello!\"&ADDRESS(ROW()-1, L$1, 4)))-15),\". \",\"/\"),\" 20\",\"/20\"),\" \",\"\"),\"\")","v":""},{"$f":"IFERROR(SUBSTITUTE(SUBSTITUTE(SUBSTITUTE(RIGHT(INDIRECT(\"Trello!\"&ADDRESS(ROW()-1, M$1, 4)),LEN(INDIRECT(\"Trello!\"&ADDRESS(ROW()-1, M$1, 4)))-15),\". \",\"/\"),\" 20\",\"/20\"),\" \",\"\"),\"\")","v":""},"","",{"$f":"IF(AND(L18>0,M18>0,L18<>\"\",M18<>\"\"),L18-M18,\"\")","v":""},{"$f":"IFERROR(SUBSTITUTE(INDIRECT(\"Trello!\"&ADDRESS(ROW()-1, O$1, 4)),\"Estimate hrs: \",\"\")*1,\"\")","v":""},{"$f":"IF(SUMIF(Timecamp!C:C,Reporte!A18,Timecamp!J:J)=0,\"\",SUMIF(Timecamp!C:C,Reporte!A18,Timecamp!J:J))","v":""},"","",{"$f":"IFERROR(VLOOKUP(A18,'SLA Trab'!E:I,5,FALSE),\"\")","v":2.8333333333333335},{"$f":"IFERROR(VLOOKUP(A18,'SLA Cobr'!E:I,5,FALSE),\"\")","v":0.58333333333333337}]
[{"$f":"IFERROR(IF(Trello!E18=\"\",\"\",Trello!E18),\" \")","v":"Juan Balnearis - unidades medicas"},{"$f":"IF($A19=\"\",\"\",IF(Trello!A18=\"\",B18,Trello!A18))","v":"Cobrando"},"2023-08-21",{"$f":"IF($A19=\"\",\"\",SUBSTITUTE(SUBSTITUTE(Trello!J18,\" days\",\"\"),\"⌚ \",\"\")*1)","v":23},{"$f":"IFERROR(IF($A19=\"\",\"\",SUBSTITUTE(SUBSTITUTE(SUBSTITUTE(INDIRECT(\"Trello!\"&ADDRESS(ROW()-1, E$1, 4)),\"Foreign: \",\"\"),\" $\",\"\"),\".\",\"\")*1),\"\")","v":400},{"$f":"IF($E19=\"\",IFERROR(IF($A19=\"\",\"\",SUBSTITUTE(SUBSTITUTE(SUBSTITUTE(INDIRECT(\"Trello!\"&ADDRESS(ROW()-1, F$1, 4)),\"MXN: \",\"\"),\" MX$\",\"\"),\".\",\"\")*1),\"\"),E19*F$2)","v":7000},{"$f":"IFERROR(IF($A19=\"\",\"\",SUBSTITUTE(SUBSTITUTE(SUBSTITUTE(INDIRECT(\"Trello!\"&ADDRESS(ROW()-1, G$1, 4)),\"Debt: \",\"\"),\" $\",\"\"),\".\",\"\")*1)*IF(E19=\"\",1,F$2),\"\")","v":""},{"$f":"IFERROR(IF($A19=\"\",\"\",SUBSTITUTE(SUBSTITUTE(SUBSTITUTE(INDIRECT(\"Trello!\"&ADDRESS(ROW()-1, H$1, 4)),\"Cost: \",\"\"),\" $\",\"\"),\".\",\"\")*1*$F$2),\"\")","v":""},7000,{"$f":"IFERROR(SUBSTITUTE(SUBSTITUTE(SUBSTITUTE(RIGHT(INDIRECT(\"Trello!\"&ADDRESS(ROW()-1, L$1, 4)),LEN(INDIRECT(\"Trello!\"&ADDRESS(ROW()-1, L$1, 4)))-15),\". \",\"/\"),\" 20\",\"/20\"),\" \",\"\"),\"\")","v":""},{"$f":"IFERROR(SUBSTITUTE(SUBSTITUTE(SUBSTITUTE(RIGHT(INDIRECT(\"Trello!\"&ADDRESS(ROW()-1, M$1, 4)),LEN(INDIRECT(\"Trello!\"&ADDRESS(ROW()-1, M$1, 4)))-15),\". \",\"/\"),\" 20\",\"/20\"),\" \",\"\"),\"\")","v":""},"","","",{"$f":"IFERROR(SUBSTITUTE(INDIRECT(\"Trello!\"&ADDRESS(ROW()-1, O$1, 4)),\"Estimate hrs: \",\"\")*1,\"\")","v":""},{"$f":"IF(SUMIF(Timecamp!C:C,Reporte!A19,Timecamp!J:J)=0,\"\",SUMIF(Timecamp!C:C,Reporte!A19,Timecamp!J:J))","v":1.6666666666666666E-2},"",420000,{"$f":"IFERROR(VLOOKUP(A19,'SLA Trab'!E:I,5,FALSE),\"\")","v":9.875},{"$f":"IFERROR(VLOOKUP(A19,'SLA Cobr'!E:I,5,FALSE),\"\")","v":4.791666666666667}]
[{"$f":"IFERROR(IF(Trello!E19=\"\",\"\",Trello!E19),\" \")","v":"Daren frelancer - cambios maintenance form"},{"$f":"IF($A20=\"\",\"\",IF(Trello!A19=\"\",B19,Trello!A19))","v":"Cobrando"},"2023-08-29",{"$f":"IF($A20=\"\",\"\",SUBSTITUTE(SUBSTITUTE(Trello!J19,\" days\",\"\"),\"⌚ \",\"\")*1)","v":15},{"$f":"IFERROR(IF($A20=\"\",\"\",SUBSTITUTE(SUBSTITUTE(SUBSTITUTE(INDIRECT(\"Trello!\"&ADDRESS(ROW()-1, E$1, 4)),\"Foreign: \",\"\"),\" $\",\"\"),\".\",\"\")*1),\"\")","v":100},{"$f":"IF($E20=\"\",IFERROR(IF($A20=\"\",\"\",SUBSTITUTE(SUBSTITUTE(SUBSTITUTE(INDIRECT(\"Trello!\"&ADDRESS(ROW()-1, F$1, 4)),\"MXN: \",\"\"),\" MX$\",\"\"),\".\",\"\")*1),\"\"),E20*F$2)","v":1750},{"$f":"IFERROR(IF($A20=\"\",\"\",SUBSTITUTE(SUBSTITUTE(SUBSTITUTE(INDIRECT(\"Trello!\"&ADDRESS(ROW()-1, G$1, 4)),\"Debt: \",\"\"),\" $\",\"\"),\".\",\"\")*1)*IF(E20=\"\",1,F$2),\"\")","v":1750},{"$f":"IFERROR(IF($A20=\"\",\"\",SUBSTITUTE(SUBSTITUTE(SUBSTITUTE(INDIRECT(\"Trello!\"&ADDRESS(ROW()-1, H$1, 4)),\"Cost: \",\"\"),\" $\",\"\"),\".\",\"\")*1*$F$2),\"\")","v":""},1750,{"$f":"IFERROR(SUBSTITUTE(SUBSTITUTE(SUBSTITUTE(RIGHT(INDIRECT(\"Trello!\"&ADDRESS(ROW()-1, L$1, 4)),LEN(INDIRECT(\"Trello!\"&ADDRESS(ROW()-1, L$1, 4)))-15),\". \",\"/\"),\" 20\",\"/20\"),\" \",\"\"),\"\")","v":""},{"$f":"IFERROR(SUBSTITUTE(SUBSTITUTE(SUBSTITUTE(RIGHT(INDIRECT(\"Trello!\"&ADDRESS(ROW()-1, M$1, 4)),LEN(INDIRECT(\"Trello!\"&ADDRESS(ROW()-1, M$1, 4)))-15),\". \",\"/\"),\" 20\",\"/20\"),\" \",\"\"),\"\")","v":""},"","","",{"$f":"IFERROR(SUBSTITUTE(INDIRECT(\"Trello!\"&ADDRESS(ROW()-1, O$1, 4)),\"Estimate hrs: \",\"\")*1,\"\")","v":""},{"$f":"IF(SUMIF(Timecamp!C:C,Reporte!A20,Timecamp!J:J)=0,\"\",SUMIF(Timecamp!C:C,Reporte!A20,Timecamp!J:J))","v":0.96666666666666667},"",1810.344827586207,{"$f":"IFERROR(VLOOKUP(A20,'SLA Trab'!E:I,5,FALSE),\"\")","v":1.0416666666666667},{"$f":"IFERROR(VLOOKUP(A20,'SLA Cobr'!E:I,5,FALSE),\"\")","v":13.75}]
[{"$f":"IFERROR(IF(Trello!E20=\"\",\"\",Trello!E20),\" \")","v":"Rodrigo Techservices - Kanatest Hosting"},{"$f":"IF($A21=\"\",\"\",IF(Trello!A20=\"\",B20,Trello!A20))","v":"Cobrando"},"2023-07-05",{"$f":"IF($A21=\"\",\"\",SUBSTITUTE(SUBSTITUTE(Trello!J20,\" days\",\"\"),\"⌚ \",\"\")*1)","v":70},{"$f":"IFERROR(IF($A21=\"\",\"\",SUBSTITUTE(SUBSTITUTE(SUBSTITUTE(INDIRECT(\"Trello!\"&ADDRESS(ROW()-1, E$1, 4)),\"Foreign: \",\"\"),\" $\",\"\"),\".\",\"\")*1),\"\")","v":""},{"$f":"IF($E21=\"\",IFERROR(IF($A21=\"\",\"\",SUBSTITUTE(SUBSTITUTE(SUBSTITUTE(INDIRECT(\"Trello!\"&ADDRESS(ROW()-1, F$1, 4)),\"MXN: \",\"\"),\" MX$\",\"\"),\".\",\"\")*1),\"\"),E21*F$2)","v":2000},{"$f":"IFERROR(IF($A21=\"\",\"\",SUBSTITUTE(SUBSTITUTE(SUBSTITUTE(INDIRECT(\"Trello!\"&ADDRESS(ROW()-1, G$1, 4)),\"Debt: \",\"\"),\" $\",\"\"),\".\",\"\")*1)*IF(E21=\"\",1,F$2),\"\")","v":1700},{"$f":"IFERROR(IF($A21=\"\",\"\",SUBSTITUTE(SUBSTITUTE(SUBSTITUTE(INDIRECT(\"Trello!\"&ADDRESS(ROW()-1, H$1, 4)),\"Cost: \",\"\"),\" $\",\"\"),\".\",\"\")*1*$F$2),\"\")","v":""},2000,{"$f":"IFERROR(SUBSTITUTE(SUBSTITUTE(SUBSTITUTE(RIGHT(INDIRECT(\"Trello!\"&ADDRESS(ROW()-1, L$1, 4)),LEN(INDIRECT(\"Trello!\"&ADDRESS(ROW()-1, L$1, 4)))-15),\". \",\"/\"),\" 20\",\"/20\"),\" \",\"\"),\"\")","v":""},{"$f":"IFERROR(SUBSTITUTE(SUBSTITUTE(SUBSTITUTE(RIGHT(INDIRECT(\"Trello!\"&ADDRESS(ROW()-1, M$1, 4)),LEN(INDIRECT(\"Trello!\"&ADDRESS(ROW()-1, M$1, 4)))-15),\". \",\"/\"),\" 20\",\"/20\"),\" \",\"\"),\"\")","v":""},"","","",{"$f":"IFERROR(SUBSTITUTE(INDIRECT(\"Trello!\"&ADDRESS(ROW()-1, O$1, 4)),\"Estimate hrs: \",\"\")*1,\"\")","v":""},{"$f":"IF(SUMIF(Timecamp!C:C,Reporte!A21,Timecamp!J:J)=0,\"\",SUMIF(Timecamp!C:C,Reporte!A21,Timecamp!J:J))","v":""},"","",{"$f":"IFERROR(VLOOKUP(A21,'SLA Trab'!E:I,5,FALSE),\"\")","v":0},{"$f":"IFERROR(VLOOKUP(A21,'SLA Cobr'!E:I,5,FALSE),\"\")","v":69.875}]
[{"$f":"IFERROR(IF(Trello!E21=\"\",\"\",Trello!E21),\" \")","v":"Ricardo Freelancer - BDD Spotify"},{"$f":"IF($A22=\"\",\"\",IF(Trello!A21=\"\",B21,Trello!A21))","v":"Cobrando"},"2022-10-27",{"$f":"IF($A22=\"\",\"\",SUBSTITUTE(SUBSTITUTE(Trello!J21,\" days\",\"\"),\"⌚ \",\"\")*1)","v":321},{"$f":"IFERROR(IF($A22=\"\",\"\",SUBSTITUTE(SUBSTITUTE(SUBSTITUTE(INDIRECT(\"Trello!\"&ADDRESS(ROW()-1, E$1, 4)),\"Foreign: \",\"\"),\" $\",\"\"),\".\",\"\")*1),\"\")","v":5497},{"$f":"IF($E22=\"\",IFERROR(IF($A22=\"\",\"\",SUBSTITUTE(SUBSTITUTE(SUBSTITUTE(INDIRECT(\"Trello!\"&ADDRESS(ROW()-1, F$1, 4)),\"MXN: \",\"\"),\" MX$\",\"\"),\".\",\"\")*1),\"\"),E22*F$2)","v":96197.5},{"$f":"IFERROR(IF($A22=\"\",\"\",SUBSTITUTE(SUBSTITUTE(SUBSTITUTE(INDIRECT(\"Trello!\"&ADDRESS(ROW()-1, G$1, 4)),\"Debt: \",\"\"),\" $\",\"\"),\".\",\"\")*1)*IF(E22=\"\",1,F$2),\"\")","v":4497.5},{"$f":"IFERROR(IF($A22=\"\",\"\",SUBSTITUTE(SUBSTITUTE(SUBSTITUTE(INDIRECT(\"Trello!\"&ADDRESS(ROW()-1, H$1, 4)),\"Cost: \",\"\"),\" $\",\"\"),\".\",\"\")*1*$F$2),\"\")","v":""},96197.5,{"$f":"IFERROR(SUBSTITUTE(SUBSTITUTE(SUBSTITUTE(RIGHT(INDIRECT(\"Trello!\"&ADDRESS(ROW()-1, L$1, 4)),LEN(INDIRECT(\"Trello!\"&ADDRESS(ROW()-1, L$1, 4)))-15),\". \",\"/\"),\" 20\",\"/20\"),\" \",\"\"),\"\")","v":""},{"$f":"IFERROR(SUBSTITUTE(SUBSTITUTE(SUBSTITUTE(RIGHT(INDIRECT(\"Trello!\"&ADDRESS(ROW()-1, M$1, 4)),LEN(INDIRECT(\"Trello!\"&ADDRESS(ROW()-1, M$1, 4)))-15),\". \",\"/\"),\" 20\",\"/20\"),\" \",\"\"),\"\")","v":""},"","","",{"$f":"IFERROR(SUBSTITUTE(INDIRECT(\"Trello!\"&ADDRESS(ROW()-1, O$1, 4)),\"Estimate hrs: \",\"\")*1,\"\")","v":""},{"$f":"IF(SUMIF(Timecamp!C:C,Reporte!A22,Timecamp!J:J)=0,\"\",SUMIF(Timecamp!C:C,Reporte!A22,Timecamp!J:J))","v":9.0666666666666682},"",10610.018382352939,{"$f":"IFERROR(VLOOKUP(A22,'SLA Trab'!E:I,5,FALSE),\"\")","v":""},{"$f":"IFERROR(VLOOKUP(A22,'SLA Cobr'!E:I,5,FALSE),\"\")","v":69.75}]
[{"$f":"IFERROR(IF(Trello!E22=\"\",\"\",Trello!E22),\" \")","v":"Yordi - Prestamo Kennedy"},{"$f":"IF($A23=\"\",\"\",IF(Trello!A22=\"\",B22,Trello!A22))","v":"Cobrando"},"2023-09-01",{"$f":"IF($A23=\"\",\"\",SUBSTITUTE(SUBSTITUTE(Trello!J22,\" days\",\"\"),\"⌚ \",\"\")*1)","v":12},{"$f":"IFERROR(IF($A23=\"\",\"\",SUBSTITUTE(SUBSTITUTE(SUBSTITUTE(INDIRECT(\"Trello!\"&ADDRESS(ROW()-1, E$1, 4)),\"Foreign: \",\"\"),\" $\",\"\"),\".\",\"\")*1),\"\")","v":""},{"$f":"IF($E23=\"\",IFERROR(IF($A23=\"\",\"\",SUBSTITUTE(SUBSTITUTE(SUBSTITUTE(INDIRECT(\"Trello!\"&ADDRESS(ROW()-1, F$1, 4)),\"MXN: \",\"\"),\" MX$\",\"\"),\".\",\"\")*1),\"\"),E23*F$2)","v":1750},{"$f":"IFERROR(IF($A23=\"\",\"\",SUBSTITUTE(SUBSTITUTE(SUBSTITUTE(INDIRECT(\"Trello!\"&ADDRESS(ROW()-1, G$1, 4)),\"Debt: \",\"\"),\" $\",\"\"),\".\",\"\")*1)*IF(E23=\"\",1,F$2),\"\")","v":""},{"$f":"IFERROR(IF($A23=\"\",\"\",SUBSTITUTE(SUBSTITUTE(SUBSTITUTE(INDIRECT(\"Trello!\"&ADDRESS(ROW()-1, H$1, 4)),\"Cost: \",\"\"),\" $\",\"\"),\".\",\"\")*1*$F$2),\"\")","v":""},1750,{"$f":"IFERROR(SUBSTITUTE(SUBSTITUTE(SUBSTITUTE(RIGHT(INDIRECT(\"Trello!\"&ADDRESS(ROW()-1, L$1, 4)),LEN(INDIRECT(\"Trello!\"&ADDRESS(ROW()-1, L$1, 4)))-15),\". \",\"/\"),\" 20\",\"/20\"),\" \",\"\"),\"\")","v":""},{"$f":"IFERROR(SUBSTITUTE(SUBSTITUTE(SUBSTITUTE(RIGHT(INDIRECT(\"Trello!\"&ADDRESS(ROW()-1, M$1, 4)),LEN(INDIRECT(\"Trello!\"&ADDRESS(ROW()-1, M$1, 4)))-15),\". \",\"/\"),\" 20\",\"/20\"),\" \",\"\"),\"\")","v":""},"","","",{"$f":"IFERROR(SUBSTITUTE(INDIRECT(\"Trello!\"&ADDRESS(ROW()-1, O$1, 4)),\"Estimate hrs: \",\"\")*1,\"\")","v":""},{"$f":"IF(SUMIF(Timecamp!C:C,Reporte!A23,Timecamp!J:J)=0,\"\",SUMIF(Timecamp!C:C,Reporte!A23,Timecamp!J:J))","v":""},"","",{"$f":"IFERROR(VLOOKUP(A23,'SLA Trab'!E:I,5,FALSE),\"\")","v":""},{"$f":"IFERROR(VLOOKUP(A23,'SLA Cobr'!E:I,5,FALSE),\"\")","v":12.416666666666666}]
[{"$f":"IFERROR(IF(Trello!E23=\"\",\"\",Trello!E23),\" \")","v":"Alejandro Disidentes - Sixbell"},{"$f":"IF($A24=\"\",\"\",IF(Trello!A23=\"\",B23,Trello!A23))","v":"Terminado"},"2023-07-10",{"$f":"IF($A24=\"\",\"\",SUBSTITUTE(SUBSTITUTE(Trello!J23,\" days\",\"\"),\"⌚ \",\"\")*1)","v":65},{"$f":"IFERROR(IF($A24=\"\",\"\",SUBSTITUTE(SUBSTITUTE(SUBSTITUTE(INDIRECT(\"Trello!\"&ADDRESS(ROW()-1, E$1, 4)),\"Foreign: \",\"\"),\" $\",\"\"),\".\",\"\")*1),\"\")","v":450},{"$f":"IF($E24=\"\",IFERROR(IF($A24=\"\",\"\",SUBSTITUTE(SUBSTITUTE(SUBSTITUTE(INDIRECT(\"Trello!\"&ADDRESS(ROW()-1, F$1, 4)),\"MXN: \",\"\"),\" MX$\",\"\"),\".\",\"\")*1),\"\"),E24*F$2)","v":7875},{"$f":"IFERROR(IF($A24=\"\",\"\",SUBSTITUTE(SUBSTITUTE(SUBSTITUTE(INDIRECT(\"Trello!\"&ADDRESS(ROW()-1, G$1, 4)),\"Debt: \",\"\"),\" $\",\"\"),\".\",\"\")*1)*IF(E24=\"\",1,F$2),\"\")","v":0},{"$f":"IFERROR(IF($A24=\"\",\"\",SUBSTITUTE(SUBSTITUTE(SUBSTITUTE(INDIRECT(\"Trello!\"&ADDRESS(ROW()-1, H$1, 4)),\"Cost: \",\"\"),\" $\",\"\"),\".\",\"\")*1*$F$2),\"\")","v":""},7875,{"$f":"IFERROR(SUBSTITUTE(SUBSTITUTE(SUBSTITUTE(RIGHT(INDIRECT(\"Trello!\"&ADDRESS(ROW()-1, L$1, 4)),LEN(INDIRECT(\"Trello!\"&ADDRESS(ROW()-1, L$1, 4)))-15),\". \",\"/\"),\" 20\",\"/20\"),\" \",\"\"),\"\")","v":""},{"$f":"IFERROR(SUBSTITUTE(SUBSTITUTE(SUBSTITUTE(RIGHT(INDIRECT(\"Trello!\"&ADDRESS(ROW()-1, M$1, 4)),LEN(INDIRECT(\"Trello!\"&ADDRESS(ROW()-1, M$1, 4)))-15),\". \",\"/\"),\" 20\",\"/20\"),\" \",\"\"),\"\")","v":""},"","","",{"$f":"IFERROR(SUBSTITUTE(INDIRECT(\"Trello!\"&ADDRESS(ROW()-1, O$1, 4)),\"Estimate hrs: \",\"\")*1,\"\")","v":""},{"$f":"IF(SUMIF(Timecamp!C:C,Reporte!A24,Timecamp!J:J)=0,\"\",SUMIF(Timecamp!C:C,Reporte!A24,Timecamp!J:J))","v":7.5999999999999979},"",1036.1842105263161,{"$f":"IFERROR(VLOOKUP(A24,'SLA Trab'!E:I,5,FALSE),\"\")","v":40.833333333333336},{"$f":"IFERROR(VLOOKUP(A24,'SLA Cobr'!E:I,5,FALSE),\"\")","v":0}]
[{"$f":"IFERROR(IF(Trello!E24=\"\",\"\",Trello!E24),\" \")","v":"Gary Hydracheck - add to cart godspeedsocks"},{"$f":"IF($A25=\"\",\"\",IF(Trello!A24=\"\",B24,Trello!A24))","v":"Terminado"},"2023-08-29",{"$f":"IF($A25=\"\",\"\",SUBSTITUTE(SUBSTITUTE(Trello!J24,\" days\",\"\"),\"⌚ \",\"\")*1)","v":15},{"$f":"IFERROR(IF($A25=\"\",\"\",SUBSTITUTE(SUBSTITUTE(SUBSTITUTE(INDIRECT(\"Trello!\"&ADDRESS(ROW()-1, E$1, 4)),\"Foreign: \",\"\"),\" $\",\"\"),\".\",\"\")*1),\"\")","v":100},{"$f":"IF($E25=\"\",IFERROR(IF($A25=\"\",\"\",SUBSTITUTE(SUBSTITUTE(SUBSTITUTE(INDIRECT(\"Trello!\"&ADDRESS(ROW()-1, F$1, 4)),\"MXN: \",\"\"),\" MX$\",\"\"),\".\",\"\")*1),\"\"),E25*F$2)","v":1750},{"$f":"IFERROR(IF($A25=\"\",\"\",SUBSTITUTE(SUBSTITUTE(SUBSTITUTE(INDIRECT(\"Trello!\"&ADDRESS(ROW()-1, G$1, 4)),\"Debt: \",\"\"),\" $\",\"\"),\".\",\"\")*1)*IF(E25=\"\",1,F$2),\"\")","v":1750},{"$f":"IFERROR(IF($A25=\"\",\"\",SUBSTITUTE(SUBSTITUTE(SUBSTITUTE(INDIRECT(\"Trello!\"&ADDRESS(ROW()-1, H$1, 4)),\"Cost: \",\"\"),\" $\",\"\"),\".\",\"\")*1*$F$2),\"\")","v":175},1575,{"$f":"IFERROR(SUBSTITUTE(SUBSTITUTE(SUBSTITUTE(RIGHT(INDIRECT(\"Trello!\"&ADDRESS(ROW()-1, L$1, 4)),LEN(INDIRECT(\"Trello!\"&ADDRESS(ROW()-1, L$1, 4)))-15),\". \",\"/\"),\" 20\",\"/20\"),\" \",\"\"),\"\")","v":""},{"$f":"IFERROR(SUBSTITUTE(SUBSTITUTE(SUBSTITUTE(RIGHT(INDIRECT(\"Trello!\"&ADDRESS(ROW()-1, M$1, 4)),LEN(INDIRECT(\"Trello!\"&ADDRESS(ROW()-1, M$1, 4)))-15),\". \",\"/\"),\" 20\",\"/20\"),\" \",\"\"),\"\")","v":""},"","","",{"$f":"IFERROR(SUBSTITUTE(INDIRECT(\"Trello!\"&ADDRESS(ROW()-1, O$1, 4)),\"Estimate hrs: \",\"\")*1,\"\")","v":""},{"$f":"IF(SUMIF(Timecamp!C:C,Reporte!A25,Timecamp!J:J)=0,\"\",SUMIF(Timecamp!C:C,Reporte!A25,Timecamp!J:J))","v":""},"","",{"$f":"IFERROR(VLOOKUP(A25,'SLA Trab'!E:I,5,FALSE),\"\")","v":3.0833333333333335},{"$f":"IFERROR(VLOOKUP(A25,'SLA Cobr'!E:I,5,FALSE),\"\")","v":4.958333333333333}]
[{"$f":"IFERROR(IF(Trello!E25=\"\",\"\",Trello!E25),\" \")","v":"Ricardo Cuerna - Fixum facturacion"},{"$f":"IF($A26=\"\",\"\",IF(Trello!A25=\"\",B25,Trello!A25))","v":"Terminado"},"2023-06-22",{"$f":"IF($A26=\"\",\"\",SUBSTITUTE(SUBSTITUTE(Trello!J25,\" days\",\"\"),\"⌚ \",\"\")*1)","v":83},{"$f":"IFERROR(IF($A26=\"\",\"\",SUBSTITUTE(SUBSTITUTE(SUBSTITUTE(INDIRECT(\"Trello!\"&ADDRESS(ROW()-1, E$1, 4)),\"Foreign: \",\"\"),\" $\",\"\"),\".\",\"\")*1),\"\")","v":1900},{"$f":"IF($E26=\"\",IFERROR(IF($A26=\"\",\"\",SUBSTITUTE(SUBSTITUTE(SUBSTITUTE(INDIRECT(\"Trello!\"&ADDRESS(ROW()-1, F$1, 4)),\"MXN: \",\"\"),\" MX$\",\"\"),\".\",\"\")*1),\"\"),E26*F$2)","v":33250},{"$f":"IFERROR(IF($A26=\"\",\"\",SUBSTITUTE(SUBSTITUTE(SUBSTITUTE(INDIRECT(\"Trello!\"&ADDRESS(ROW()-1, G$1, 4)),\"Debt: \",\"\"),\" $\",\"\"),\".\",\"\")*1)*IF(E26=\"\",1,F$2),\"\")","v":0},{"$f":"IFERROR(IF($A26=\"\",\"\",SUBSTITUTE(SUBSTITUTE(SUBSTITUTE(INDIRECT(\"Trello!\"&ADDRESS(ROW()-1, H$1, 4)),\"Cost: \",\"\"),\" $\",\"\"),\".\",\"\")*1*$F$2),\"\")","v":""},33250,{"$f":"IFERROR(SUBSTITUTE(SUBSTITUTE(SUBSTITUTE(RIGHT(INDIRECT(\"Trello!\"&ADDRESS(ROW()-1, L$1, 4)),LEN(INDIRECT(\"Trello!\"&ADDRESS(ROW()-1, L$1, 4)))-15),\". \",\"/\"),\" 20\",\"/20\"),\" \",\"\"),\"\")","v":"31/Juli/2023"},{"$f":"IFERROR(SUBSTITUTE(SUBSTITUTE(SUBSTITUTE(RIGHT(INDIRECT(\"Trello!\"&ADDRESS(ROW()-1, M$1, 4)),LEN(INDIRECT(\"Trello!\"&ADDRESS(ROW()-1, M$1, 4)))-15),\". \",\"/\"),\" 20\",\"/20\"),\" \",\"\"),\"\")","v":""},"2023-07-31","","",{"$f":"IFERROR(SUBSTITUTE(INDIRECT(\"Trello!\"&ADDRESS(ROW()-1, O$1, 4)),\"Estimate hrs: \",\"\")*1,\"\")","v":40},{"$f":"IF(SUMIF(Timecamp!C:C,Reporte!A26,Timecamp!J:J)=0,\"\",SUMIF(Timecamp!C:C,Reporte!A26,Timecamp!J:J))","v":24.26666666666668},-0.39333333333333298,1370.1923076923069,{"$f":"IFERROR(VLOOKUP(A26,'SLA Trab'!E:I,5,FALSE),\"\")","v":71.791666666666671},{"$f":"IFERROR(VLOOKUP(A26,'SLA Cobr'!E:I,5,FALSE),\"\")","v":0}]
[{"$f":"IFERROR(IF(Trello!E26=\"\",\"\",Trello!E26),\" \")","v":"Viv Freelancer - 5 column filter"},{"$f":"IF($A27=\"\",\"\",IF(Trello!A26=\"\",B26,Trello!A26))","v":"Terminado"},"2023-08-12",{"$f":"IF($A27=\"\",\"\",SUBSTITUTE(SUBSTITUTE(Trello!J26,\" days\",\"\"),\"⌚ \",\"\")*1)","v":32},{"$f":"IFERROR(IF($A27=\"\",\"\",SUBSTITUTE(SUBSTITUTE(SUBSTITUTE(INDIRECT(\"Trello!\"&ADDRESS(ROW()-1, E$1, 4)),\"Foreign: \",\"\"),\" $\",\"\"),\".\",\"\")*1),\"\")","v":200},{"$f":"IF($E27=\"\",IFERROR(IF($A27=\"\",\"\",SUBSTITUTE(SUBSTITUTE(SUBSTITUTE(INDIRECT(\"Trello!\"&ADDRESS(ROW()-1, F$1, 4)),\"MXN: \",\"\"),\" MX$\",\"\"),\".\",\"\")*1),\"\"),E27*F$2)","v":3500},{"$f":"IFERROR(IF($A27=\"\",\"\",SUBSTITUTE(SUBSTITUTE(SUBSTITUTE(INDIRECT(\"Trello!\"&ADDRESS(ROW()-1, G$1, 4)),\"Debt: \",\"\"),\" $\",\"\"),\".\",\"\")*1)*IF(E27=\"\",1,F$2),\"\")","v":0},{"$f":"IFERROR(IF($A27=\"\",\"\",SUBSTITUTE(SUBSTITUTE(SUBSTITUTE(INDIRECT(\"Trello!\"&ADDRESS(ROW()-1, H$1, 4)),\"Cost: \",\"\"),\" $\",\"\"),\".\",\"\")*1*$F$2),\"\")","v":""},3500,{"$f":"IFERROR(SUBSTITUTE(SUBSTITUTE(SUBSTITUTE(RIGHT(INDIRECT(\"Trello!\"&ADDRESS(ROW()-1, L$1, 4)),LEN(INDIRECT(\"Trello!\"&ADDRESS(ROW()-1, L$1, 4)))-15),\". \",\"/\"),\" 20\",\"/20\"),\" \",\"\"),\"\")","v":""},{"$f":"IFERROR(SUBSTITUTE(SUBSTITUTE(SUBSTITUTE(RIGHT(INDIRECT(\"Trello!\"&ADDRESS(ROW()-1, M$1, 4)),LEN(INDIRECT(\"Trello!\"&ADDRESS(ROW()-1, M$1, 4)))-15),\". \",\"/\"),\" 20\",\"/20\"),\" \",\"\"),\"\")","v":"29/Aug/2023"},"","2023-08-29","",{"$f":"IFERROR(SUBSTITUTE(INDIRECT(\"Trello!\"&ADDRESS(ROW()-1, O$1, 4)),\"Estimate hrs: \",\"\")*1,\"\")","v":""},{"$f":"IF(SUMIF(Timecamp!C:C,Reporte!A27,Timecamp!J:J)=0,\"\",SUMIF(Timecamp!C:C,Reporte!A27,Timecamp!J:J))","v":8.7999999999999989},"",397.72727272727275,{"$f":"IFERROR(VLOOKUP(A27,'SLA Trab'!E:I,5,FALSE),\"\")","v":16.666666666666668},{"$f":"IFERROR(VLOOKUP(A27,'SLA Cobr'!E:I,5,FALSE),\"\")","v":1.2916666666666667}]
[{"$f":"IFERROR(IF(Trello!E27=\"\",\"\",Trello!E27),\" \")","v":"Juan Balnearis - Landing y cambios web"},{"$f":"IF($A28=\"\",\"\",IF(Trello!A27=\"\",B27,Trello!A27))","v":"Terminado"},"2023-08-14",{"$f":"IF($A28=\"\",\"\",SUBSTITUTE(SUBSTITUTE(Trello!J27,\" days\",\"\"),\"⌚ \",\"\")*1)","v":30},{"$f":"IFERROR(IF($A28=\"\",\"\",SUBSTITUTE(SUBSTITUTE(SUBSTITUTE(INDIRECT(\"Trello!\"&ADDRESS(ROW()-1, E$1, 4)),\"Foreign: \",\"\"),\" $\",\"\"),\".\",\"\")*1),\"\")","v":350},{"$f":"IF($E28=\"\",IFERROR(IF($A28=\"\",\"\",SUBSTITUTE(SUBSTITUTE(SUBSTITUTE(INDIRECT(\"Trello!\"&ADDRESS(ROW()-1, F$1, 4)),\"MXN: \",\"\"),\" MX$\",\"\"),\".\",\"\")*1),\"\"),E28*F$2)","v":6125},{"$f":"IFERROR(IF($A28=\"\",\"\",SUBSTITUTE(SUBSTITUTE(SUBSTITUTE(INDIRECT(\"Trello!\"&ADDRESS(ROW()-1, G$1, 4)),\"Debt: \",\"\"),\" $\",\"\"),\".\",\"\")*1)*IF(E28=\"\",1,F$2),\"\")","v":0},{"$f":"IFERROR(IF($A28=\"\",\"\",SUBSTITUTE(SUBSTITUTE(SUBSTITUTE(INDIRECT(\"Trello!\"&ADDRESS(ROW()-1, H$1, 4)),\"Cost: \",\"\"),\" $\",\"\"),\".\",\"\")*1*$F$2),\"\")","v":""},6125,{"$f":"IFERROR(SUBSTITUTE(SUBSTITUTE(SUBSTITUTE(RIGHT(INDIRECT(\"Trello!\"&ADDRESS(ROW()-1, L$1, 4)),LEN(INDIRECT(\"Trello!\"&ADDRESS(ROW()-1, L$1, 4)))-15),\". \",\"/\"),\" 20\",\"/20\"),\" \",\"\"),\"\")","v":""},{"$f":"IFERROR(SUBSTITUTE(SUBSTITUTE(SUBSTITUTE(RIGHT(INDIRECT(\"Trello!\"&ADDRESS(ROW()-1, M$1, 4)),LEN(INDIRECT(\"Trello!\"&ADDRESS(ROW()-1, M$1, 4)))-15),\". \",\"/\"),\" 20\",\"/20\"),\" \",\"\"),\"\")","v":"29/Aug/2023"},"","2023-08-29","",{"$f":"IFERROR(SUBSTITUTE(INDIRECT(\"Trello!\"&ADDRESS(ROW()-1, O$1, 4)),\"Estimate hrs: \",\"\")*1,\"\")","v":""},{"$f":"IF(SUMIF(Timecamp!C:C,Reporte!A28,Timecamp!J:J)=0,\"\",SUMIF(Timecamp!C:C,Reporte!A28,Timecamp!J:J))","v":4.1666666666666661},"",1470.0000000000002,{"$f":"IFERROR(VLOOKUP(A28,'SLA Trab'!E:I,5,FALSE),\"\")","v":7.083333333333333},{"$f":"IFERROR(VLOOKUP(A28,'SLA Cobr'!E:I,5,FALSE),\"\")","v":10.541666666666666}]
[{"$f":"IFERROR(IF(Trello!E28=\"\",\"\",Trello!E28),\" \")","v":"Juan Balnearis - promedicamujer"},{"$f":"IF($A29=\"\",\"\",IF(Trello!A28=\"\",B28,Trello!A28))","v":"Terminado"},"2023-08-22",{"$f":"IF($A29=\"\",\"\",SUBSTITUTE(SUBSTITUTE(Trello!J28,\" days\",\"\"),\"⌚ \",\"\")*1)","v":22},{"$f":"IFERROR(IF($A29=\"\",\"\",SUBSTITUTE(SUBSTITUTE(SUBSTITUTE(INDIRECT(\"Trello!\"&ADDRESS(ROW()-1, E$1, 4)),\"Foreign: \",\"\"),\" $\",\"\"),\".\",\"\")*1),\"\")","v":200},{"$f":"IF($E29=\"\",IFERROR(IF($A29=\"\",\"\",SUBSTITUTE(SUBSTITUTE(SUBSTITUTE(INDIRECT(\"Trello!\"&ADDRESS(ROW()-1, F$1, 4)),\"MXN: \",\"\"),\" MX$\",\"\"),\".\",\"\")*1),\"\"),E29*F$2)","v":3500},{"$f":"IFERROR(IF($A29=\"\",\"\",SUBSTITUTE(SUBSTITUTE(SUBSTITUTE(INDIRECT(\"Trello!\"&ADDRESS(ROW()-1, G$1, 4)),\"Debt: \",\"\"),\" $\",\"\"),\".\",\"\")*1)*IF(E29=\"\",1,F$2),\"\")","v":0},{"$f":"IFERROR(IF($A29=\"\",\"\",SUBSTITUTE(SUBSTITUTE(SUBSTITUTE(INDIRECT(\"Trello!\"&ADDRESS(ROW()-1, H$1, 4)),\"Cost: \",\"\"),\" $\",\"\"),\".\",\"\")*1*$F$2),\"\")","v":""},3500,{"$f":"IFERROR(SUBSTITUTE(SUBSTITUTE(SUBSTITUTE(RIGHT(INDIRECT(\"Trello!\"&ADDRESS(ROW()-1, L$1, 4)),LEN(INDIRECT(\"Trello!\"&ADDRESS(ROW()-1, L$1, 4)))-15),\". \",\"/\"),\" 20\",\"/20\"),\" \",\"\"),\"\")","v":"24/Aug/2023"},{"$f":"IFERROR(SUBSTITUTE(SUBSTITUTE(SUBSTITUTE(RIGHT(INDIRECT(\"Trello!\"&ADDRESS(ROW()-1, M$1, 4)),LEN(INDIRECT(\"Trello!\"&ADDRESS(ROW()-1, M$1, 4)))-15),\". \",\"/\"),\" 20\",\"/20\"),\" \",\"\"),\"\")","v":"29/Aug/2023"},"2023-08-24","2023-08-29",-5,{"$f":"IFERROR(SUBSTITUTE(INDIRECT(\"Trello!\"&ADDRESS(ROW()-1, O$1, 4)),\"Estimate hrs: \",\"\")*1,\"\")","v":""},{"$f":"IF(SUMIF(Timecamp!C:C,Reporte!A29,Timecamp!J:J)=0,\"\",SUMIF(Timecamp!C:C,Reporte!A29,Timecamp!J:J))","v":0.63333333333333341},"",5526.3157894736833,{"$f":"IFERROR(VLOOKUP(A29,'SLA Trab'!E:I,5,FALSE),\"\")","v":3.8333333333333335},{"$f":"IFERROR(VLOOKUP(A29,'SLA Cobr'!E:I,5,FALSE),\"\")","v":1.9583333333333333}]
[{"$f":"IFERROR(IF(Trello!E29=\"\",\"\",Trello!E29),\" \")","v":"Andres - Checkout fondo apuestas"},{"$f":"IF($A30=\"\",\"\",IF(Trello!A29=\"\",B29,Trello!A29))","v":"Terminado"},"2023-08-19",{"$f":"IF($A30=\"\",\"\",SUBSTITUTE(SUBSTITUTE(Trello!J29,\" days\",\"\"),\"⌚ \",\"\")*1)","v":25},{"$f":"IFERROR(IF($A30=\"\",\"\",SUBSTITUTE(SUBSTITUTE(SUBSTITUTE(INDIRECT(\"Trello!\"&ADDRESS(ROW()-1, E$1, 4)),\"Foreign: \",\"\"),\" $\",\"\"),\".\",\"\")*1),\"\")","v":""},{"$f":"IF($E30=\"\",IFERROR(IF($A30=\"\",\"\",SUBSTITUTE(SUBSTITUTE(SUBSTITUTE(INDIRECT(\"Trello!\"&ADDRESS(ROW()-1, F$1, 4)),\"MXN: \",\"\"),\" MX$\",\"\"),\".\",\"\")*1),\"\"),E30*F$2)","v":3000},{"$f":"IFERROR(IF($A30=\"\",\"\",SUBSTITUTE(SUBSTITUTE(SUBSTITUTE(INDIRECT(\"Trello!\"&ADDRESS(ROW()-1, G$1, 4)),\"Debt: \",\"\"),\" $\",\"\"),\".\",\"\")*1)*IF(E30=\"\",1,F$2),\"\")","v":0},{"$f":"IFERROR(IF($A30=\"\",\"\",SUBSTITUTE(SUBSTITUTE(SUBSTITUTE(INDIRECT(\"Trello!\"&ADDRESS(ROW()-1, H$1, 4)),\"Cost: \",\"\"),\" $\",\"\"),\".\",\"\")*1*$F$2),\"\")","v":""},3000,{"$f":"IFERROR(SUBSTITUTE(SUBSTITUTE(SUBSTITUTE(RIGHT(INDIRECT(\"Trello!\"&ADDRESS(ROW()-1, L$1, 4)),LEN(INDIRECT(\"Trello!\"&ADDRESS(ROW()-1, L$1, 4)))-15),\". \",\"/\"),\" 20\",\"/20\"),\" \",\"\"),\"\")","v":""},{"$f":"IFERROR(SUBSTITUTE(SUBSTITUTE(SUBSTITUTE(RIGHT(INDIRECT(\"Trello!\"&ADDRESS(ROW()-1, M$1, 4)),LEN(INDIRECT(\"Trello!\"&ADDRESS(ROW()-1, M$1, 4)))-15),\". \",\"/\"),\" 20\",\"/20\"),\" \",\"\"),\"\")","v":""},"","","",{"$f":"IFERROR(SUBSTITUTE(INDIRECT(\"Trello!\"&ADDRESS(ROW()-1, O$1, 4)),\"Estimate hrs: \",\"\")*1,\"\")","v":""},{"$f":"IF(SUMIF(Timecamp!C:C,Reporte!A30,Timecamp!J:J)=0,\"\",SUMIF(Timecamp!C:C,Reporte!A30,Timecamp!J:J))","v":""},"","",{"$f":"IFERROR(VLOOKUP(A30,'SLA Trab'!E:I,5,FALSE),\"\")","v":""},{"$f":"IFERROR(VLOOKUP(A30,'SLA Cobr'!E:I,5,FALSE),\"\")","v":11.416666666666666}]
[{"$f":"IFERROR(IF(Trello!E30=\"\",\"\",Trello!E30),\" \")","v":"Thomas Ferdinand - Website"},{"$f":"IF($A31=\"\",\"\",IF(Trello!A30=\"\",B30,Trello!A30))","v":"Terminado"},"2023-07-17",{"$f":"IF($A31=\"\",\"\",SUBSTITUTE(SUBSTITUTE(Trello!J30,\" days\",\"\"),\"⌚ \",\"\")*1)","v":58},{"$f":"IFERROR(IF($A31=\"\",\"\",SUBSTITUTE(SUBSTITUTE(SUBSTITUTE(INDIRECT(\"Trello!\"&ADDRESS(ROW()-1, E$1, 4)),\"Foreign: \",\"\"),\" $\",\"\"),\".\",\"\")*1),\"\")","v":375},{"$f":"IF($E31=\"\",IFERROR(IF($A31=\"\",\"\",SUBSTITUTE(SUBSTITUTE(SUBSTITUTE(INDIRECT(\"Trello!\"&ADDRESS(ROW()-1, F$1, 4)),\"MXN: \",\"\"),\" MX$\",\"\"),\".\",\"\")*1),\"\"),E31*F$2)","v":6562.5},{"$f":"IFERROR(IF($A31=\"\",\"\",SUBSTITUTE(SUBSTITUTE(SUBSTITUTE(INDIRECT(\"Trello!\"&ADDRESS(ROW()-1, G$1, 4)),\"Debt: \",\"\"),\" $\",\"\"),\".\",\"\")*1)*IF(E31=\"\",1,F$2),\"\")","v":6562.5},{"$f":"IFERROR(IF($A31=\"\",\"\",SUBSTITUTE(SUBSTITUTE(SUBSTITUTE(INDIRECT(\"Trello!\"&ADDRESS(ROW()-1, H$1, 4)),\"Cost: \",\"\"),\" $\",\"\"),\".\",\"\")*1*$F$2),\"\")","v":3850},2712.5,{"$f":"IFERROR(SUBSTITUTE(SUBSTITUTE(SUBSTITUTE(RIGHT(INDIRECT(\"Trello!\"&ADDRESS(ROW()-1, L$1, 4)),LEN(INDIRECT(\"Trello!\"&ADDRESS(ROW()-1, L$1, 4)))-15),\". \",\"/\"),\" 20\",\"/20\"),\" \",\"\"),\"\")","v":"26/Juli/2023"},{"$f":"IFERROR(SUBSTITUTE(SUBSTITUTE(SUBSTITUTE(RIGHT(INDIRECT(\"Trello!\"&ADDRESS(ROW()-1, M$1, 4)),LEN(INDIRECT(\"Trello!\"&ADDRESS(ROW()-1, M$1, 4)))-15),\". \",\"/\"),\" 20\",\"/20\"),\" \",\"\"),\"\")","v":"22/Aug/2023"},"2023-07-26","2023-08-22",-27,{"$f":"IFERROR(SUBSTITUTE(INDIRECT(\"Trello!\"&ADDRESS(ROW()-1, O$1, 4)),\"Estimate hrs: \",\"\")*1,\"\")","v":""},{"$f":"IF(SUMIF(Timecamp!C:C,Reporte!A31,Timecamp!J:J)=0,\"\",SUMIF(Timecamp!C:C,Reporte!A31,Timecamp!J:J))","v":9.1666666666666661},"",715.90909090909099,{"$f":"IFERROR(VLOOKUP(A31,'SLA Trab'!E:I,5,FALSE),\"\")","v":12.041666666666666},{"$f":"IFERROR(VLOOKUP(A31,'SLA Cobr'!E:I,5,FALSE),\"\")","v":31.166666666666668}]
[{"$f":"IFERROR(IF(Trello!E31=\"\",\"\",Trello!E31),\" \")","v":"Paul Freelancer - 2nd round crypto website"},{"$f":"IF($A32=\"\",\"\",IF(Trello!A31=\"\",B31,Trello!A31))","v":"Terminado"},"2023-08-14",{"$f":"IF($A32=\"\",\"\",SUBSTITUTE(SUBSTITUTE(Trello!J31,\" days\",\"\"),\"⌚ \",\"\")*1)","v":30},{"$f":"IFERROR(IF($A32=\"\",\"\",SUBSTITUTE(SUBSTITUTE(SUBSTITUTE(INDIRECT(\"Trello!\"&ADDRESS(ROW()-1, E$1, 4)),\"Foreign: \",\"\"),\" $\",\"\"),\".\",\"\")*1),\"\")","v":205},{"$f":"IF($E32=\"\",IFERROR(IF($A32=\"\",\"\",SUBSTITUTE(SUBSTITUTE(SUBSTITUTE(INDIRECT(\"Trello!\"&ADDRESS(ROW()-1, F$1, 4)),\"MXN: \",\"\"),\" MX$\",\"\"),\".\",\"\")*1),\"\"),E32*F$2)","v":3587.5},{"$f":"IFERROR(IF($A32=\"\",\"\",SUBSTITUTE(SUBSTITUTE(SUBSTITUTE(INDIRECT(\"Trello!\"&ADDRESS(ROW()-1, G$1, 4)),\"Debt: \",\"\"),\" $\",\"\"),\".\",\"\")*1)*IF(E32=\"\",1,F$2),\"\")","v":0},{"$f":"IFERROR(IF($A32=\"\",\"\",SUBSTITUTE(SUBSTITUTE(SUBSTITUTE(INDIRECT(\"Trello!\"&ADDRESS(ROW()-1, H$1, 4)),\"Cost: \",\"\"),\" $\",\"\"),\".\",\"\")*1*$F$2),\"\")","v":""},3587.5,{"$f":"IFERROR(SUBSTITUTE(SUBSTITUTE(SUBSTITUTE(RIGHT(INDIRECT(\"Trello!\"&ADDRESS(ROW()-1, L$1, 4)),LEN(INDIRECT(\"Trello!\"&ADDRESS(ROW()-1, L$1, 4)))-15),\". \",\"/\"),\" 20\",\"/20\"),\" \",\"\"),\"\")","v":""},{"$f":"IFERROR(SUBSTITUTE(SUBSTITUTE(SUBSTITUTE(RIGHT(INDIRECT(\"Trello!\"&ADDRESS(ROW()-1, M$1, 4)),LEN(INDIRECT(\"Trello!\"&ADDRESS(ROW()-1, M$1, 4)))-15),\". \",\"/\"),\" 20\",\"/20\"),\" \",\"\"),\"\")","v":""},"","","",{"$f":"IFERROR(SUBSTITUTE(INDIRECT(\"Trello!\"&ADDRESS(ROW()-1, O$1, 4)),\"Estimate hrs: \",\"\")*1,\"\")","v":""},{"$f":"IF(SUMIF(Timecamp!C:C,Reporte!A32,Timecamp!J:J)=0,\"\",SUMIF(Timecamp!C:C,Reporte!A32,Timecamp!J:J))","v":3.333333333333333},"",1076.25,{"$f":"IFERROR(VLOOKUP(A32,'SLA Trab'!E:I,5,FALSE),\"\")","v":0.45833333333333331},{"$f":"IFERROR(VLOOKUP(A32,'SLA Cobr'!E:I,5,FALSE),\"\")","v":8.4583333333333339}]
[{"$f":"IFERROR(IF(Trello!E32=\"\",\"\",Trello!E32),\" \")","v":"Bjorn Sueco - Nordic foods 2nd round"},{"$f":"IF($A33=\"\",\"\",IF(Trello!A32=\"\",B32,Trello!A32))","v":"Terminado"},"2023-07-21",{"$f":"IF($A33=\"\",\"\",SUBSTITUTE(SUBSTITUTE(Trello!J32,\" days\",\"\"),\"⌚ \",\"\")*1)","v":54},{"$f":"IFERROR(IF($A33=\"\",\"\",SUBSTITUTE(SUBSTITUTE(SUBSTITUTE(INDIRECT(\"Trello!\"&ADDRESS(ROW()-1, E$1, 4)),\"Foreign: \",\"\"),\" $\",\"\"),\".\",\"\")*1),\"\")","v":600},{"$f":"IF($E33=\"\",IFERROR(IF($A33=\"\",\"\",SUBSTITUTE(SUBSTITUTE(SUBSTITUTE(INDIRECT(\"Trello!\"&ADDRESS(ROW()-1, F$1, 4)),\"MXN: \",\"\"),\" MX$\",\"\"),\".\",\"\")*1),\"\"),E33*F$2)","v":10500},{"$f":"IFERROR(IF($A33=\"\",\"\",SUBSTITUTE(SUBSTITUTE(SUBSTITUTE(INDIRECT(\"Trello!\"&ADDRESS(ROW()-1, G$1, 4)),\"Debt: \",\"\"),\" $\",\"\"),\".\",\"\")*1)*IF(E33=\"\",1,F$2),\"\")","v":0},{"$f":"IFERROR(IF($A33=\"\",\"\",SUBSTITUTE(SUBSTITUTE(SUBSTITUTE(INDIRECT(\"Trello!\"&ADDRESS(ROW()-1, H$1, 4)),\"Cost: \",\"\"),\" $\",\"\"),\".\",\"\")*1*$F$2),\"\")","v":3710},6790,{"$f":"IFERROR(SUBSTITUTE(SUBSTITUTE(SUBSTITUTE(RIGHT(INDIRECT(\"Trello!\"&ADDRESS(ROW()-1, L$1, 4)),LEN(INDIRECT(\"Trello!\"&ADDRESS(ROW()-1, L$1, 4)))-15),\". \",\"/\"),\" 20\",\"/20\"),\" \",\"\"),\"\")","v":""},{"$f":"IFERROR(SUBSTITUTE(SUBSTITUTE(SUBSTITUTE(RIGHT(INDIRECT(\"Trello!\"&ADDRESS(ROW()-1, M$1, 4)),LEN(INDIRECT(\"Trello!\"&ADDRESS(ROW()-1, M$1, 4)))-15),\". \",\"/\"),\" 20\",\"/20\"),\" \",\"\"),\"\")","v":""},"","","",{"$f":"IFERROR(SUBSTITUTE(INDIRECT(\"Trello!\"&ADDRESS(ROW()-1, O$1, 4)),\"Estimate hrs: \",\"\")*1,\"\")","v":""},{"$f":"IF(SUMIF(Timecamp!C:C,Reporte!A33,Timecamp!J:J)=0,\"\",SUMIF(Timecamp!C:C,Reporte!A33,Timecamp!J:J))","v":9.9333333333333336},"",1057.0469798657718,{"$f":"IFERROR(VLOOKUP(A33,'SLA Trab'!E:I,5,FALSE),\"\")","v":6.5},{"$f":"IFERROR(VLOOKUP(A33,'SLA Cobr'!E:I,5,FALSE),\"\")","v":0}]
[{"$f":"IFERROR(IF(Trello!E33=\"\",\"\",Trello!E33),\" \")","v":"Carlos Sanchez - rehacer chrishop.mx"},{"$f":"IF($A34=\"\",\"\",IF(Trello!A33=\"\",B33,Trello!A33))","v":"Terminado"},"2023-07-05",{"$f":"IF($A34=\"\",\"\",SUBSTITUTE(SUBSTITUTE(Trello!J33,\" days\",\"\"),\"⌚ \",\"\")*1)","v":70},{"$f":"IFERROR(IF($A34=\"\",\"\",SUBSTITUTE(SUBSTITUTE(SUBSTITUTE(INDIRECT(\"Trello!\"&ADDRESS(ROW()-1, E$1, 4)),\"Foreign: \",\"\"),\" $\",\"\"),\".\",\"\")*1),\"\")","v":""},{"$f":"IF($E34=\"\",IFERROR(IF($A34=\"\",\"\",SUBSTITUTE(SUBSTITUTE(SUBSTITUTE(INDIRECT(\"Trello!\"&ADDRESS(ROW()-1, F$1, 4)),\"MXN: \",\"\"),\" MX$\",\"\"),\".\",\"\")*1),\"\"),E34*F$2)","v":1000},{"$f":"IFERROR(IF($A34=\"\",\"\",SUBSTITUTE(SUBSTITUTE(SUBSTITUTE(INDIRECT(\"Trello!\"&ADDRESS(ROW()-1, G$1, 4)),\"Debt: \",\"\"),\" $\",\"\"),\".\",\"\")*1)*IF(E34=\"\",1,F$2),\"\")","v":""},{"$f":"IFERROR(IF($A34=\"\",\"\",SUBSTITUTE(SUBSTITUTE(SUBSTITUTE(INDIRECT(\"Trello!\"&ADDRESS(ROW()-1, H$1, 4)),\"Cost: \",\"\"),\" $\",\"\"),\".\",\"\")*1*$F$2),\"\")","v":""},1000,{"$f":"IFERROR(SUBSTITUTE(SUBSTITUTE(SUBSTITUTE(RIGHT(INDIRECT(\"Trello!\"&ADDRESS(ROW()-1, L$1, 4)),LEN(INDIRECT(\"Trello!\"&ADDRESS(ROW()-1, L$1, 4)))-15),\". \",\"/\"),\" 20\",\"/20\"),\" \",\"\"),\"\")","v":""},{"$f":"IFERROR(SUBSTITUTE(SUBSTITUTE(SUBSTITUTE(RIGHT(INDIRECT(\"Trello!\"&ADDRESS(ROW()-1, M$1, 4)),LEN(INDIRECT(\"Trello!\"&ADDRESS(ROW()-1, M$1, 4)))-15),\". \",\"/\"),\" 20\",\"/20\"),\" \",\"\"),\"\")","v":""},"","","",{"$f":"IFERROR(SUBSTITUTE(INDIRECT(\"Trello!\"&ADDRESS(ROW()-1, O$1, 4)),\"Estimate hrs: \",\"\")*1,\"\")","v":""},{"$f":"IF(SUMIF(Timecamp!C:C,Reporte!A34,Timecamp!J:J)=0,\"\",SUMIF(Timecamp!C:C,Reporte!A34,Timecamp!J:J))","v":1},"",1000,{"$f":"IFERROR(VLOOKUP(A34,'SLA Trab'!E:I,5,FALSE),\"\")","v":0.95833333333333337},{"$f":"IFERROR(VLOOKUP(A34,'SLA Cobr'!E:I,5,FALSE),\"\")","v":0}]
[{"$f":"IFERROR(IF(Trello!E34=\"\",\"\",Trello!E34),\" \")","v":"Paul Freelancer - Coinbase API site"},{"$f":"IF($A35=\"\",\"\",IF(Trello!A34=\"\",B34,Trello!A34))","v":"Terminado"},"2023-07-11",{"$f":"IF($A35=\"\",\"\",SUBSTITUTE(SUBSTITUTE(Trello!J34,\" days\",\"\"),\"⌚ \",\"\")*1)","v":64},{"$f":"IFERROR(IF($A35=\"\",\"\",SUBSTITUTE(SUBSTITUTE(SUBSTITUTE(INDIRECT(\"Trello!\"&ADDRESS(ROW()-1, E$1, 4)),\"Foreign: \",\"\"),\" $\",\"\"),\".\",\"\")*1),\"\")","v":575},{"$f":"IF($E35=\"\",IFERROR(IF($A35=\"\",\"\",SUBSTITUTE(SUBSTITUTE(SUBSTITUTE(INDIRECT(\"Trello!\"&ADDRESS(ROW()-1, F$1, 4)),\"MXN: \",\"\"),\" MX$\",\"\"),\".\",\"\")*1),\"\"),E35*F$2)","v":10062.5},{"$f":"IFERROR(IF($A35=\"\",\"\",SUBSTITUTE(SUBSTITUTE(SUBSTITUTE(INDIRECT(\"Trello!\"&ADDRESS(ROW()-1, G$1, 4)),\"Debt: \",\"\"),\" $\",\"\"),\".\",\"\")*1)*IF(E35=\"\",1,F$2),\"\")","v":0},{"$f":"IFERROR(IF($A35=\"\",\"\",SUBSTITUTE(SUBSTITUTE(SUBSTITUTE(INDIRECT(\"Trello!\"&ADDRESS(ROW()-1, H$1, 4)),\"Cost: \",\"\"),\" $\",\"\"),\".\",\"\")*1*$F$2),\"\")","v":3500},6562.5,{"$f":"IFERROR(SUBSTITUTE(SUBSTITUTE(SUBSTITUTE(RIGHT(INDIRECT(\"Trello!\"&ADDRESS(ROW()-1, L$1, 4)),LEN(INDIRECT(\"Trello!\"&ADDRESS(ROW()-1, L$1, 4)))-15),\". \",\"/\"),\" 20\",\"/20\"),\" \",\"\"),\"\")","v":"25/Juli/2023"},{"$f":"IFERROR(SUBSTITUTE(SUBSTITUTE(SUBSTITUTE(RIGHT(INDIRECT(\"Trello!\"&ADDRESS(ROW()-1, M$1, 4)),LEN(INDIRECT(\"Trello!\"&ADDRESS(ROW()-1, M$1, 4)))-15),\". \",\"/\"),\" 20\",\"/20\"),\" \",\"\"),\"\")","v":""},"2023-07-25","","",{"$f":"IFERROR(SUBSTITUTE(INDIRECT(\"Trello!\"&ADDRESS(ROW()-1, O$1, 4)),\"Estimate hrs: \",\"\")*1,\"\")","v":10},{"$f":"IF(SUMIF(Timecamp!C:C,Reporte!A35,Timecamp!J:J)=0,\"\",SUMIF(Timecamp!C:C,Reporte!A35,Timecamp!J:J))","v":9.0333333333333368},-9.6666666666666345E-2,1113.9298892988925,{"$f":"IFERROR(VLOOKUP(A35,'SLA Trab'!E:I,5,FALSE),\"\")","v":19.875},{"$f":"IFERROR(VLOOKUP(A35,'SLA Cobr'!E:I,5,FALSE),\"\")","v":13.916666666666666}]
[{"$f":"IFERROR(IF(Trello!E35=\"\",\"\",Trello!E35),\" \")","v":"Viv Freelancer - Fourdle game"},{"$f":"IF($A36=\"\",\"\",IF(Trello!A35=\"\",B35,Trello!A35))","v":"Terminado"},"2023-07-10",{"$f":"IF($A36=\"\",\"\",SUBSTITUTE(SUBSTITUTE(Trello!J35,\" days\",\"\"),\"⌚ \",\"\")*1)","v":65},{"$f":"IFERROR(IF($A36=\"\",\"\",SUBSTITUTE(SUBSTITUTE(SUBSTITUTE(INDIRECT(\"Trello!\"&ADDRESS(ROW()-1, E$1, 4)),\"Foreign: \",\"\"),\" $\",\"\"),\".\",\"\")*1),\"\")","v":685},{"$f":"IF($E36=\"\",IFERROR(IF($A36=\"\",\"\",SUBSTITUTE(SUBSTITUTE(SUBSTITUTE(INDIRECT(\"Trello!\"&ADDRESS(ROW()-1, F$1, 4)),\"MXN: \",\"\"),\" MX$\",\"\"),\".\",\"\")*1),\"\"),E36*F$2)","v":11987.5},{"$f":"IFERROR(IF($A36=\"\",\"\",SUBSTITUTE(SUBSTITUTE(SUBSTITUTE(INDIRECT(\"Trello!\"&ADDRESS(ROW()-1, G$1, 4)),\"Debt: \",\"\"),\" $\",\"\"),\".\",\"\")*1)*IF(E36=\"\",1,F$2),\"\")","v":0},{"$f":"IFERROR(IF($A36=\"\",\"\",SUBSTITUTE(SUBSTITUTE(SUBSTITUTE(INDIRECT(\"Trello!\"&ADDRESS(ROW()-1, H$1, 4)),\"Cost: \",\"\"),\" $\",\"\"),\".\",\"\")*1*$F$2),\"\")","v":8225},3762.5,{"$f":"IFERROR(SUBSTITUTE(SUBSTITUTE(SUBSTITUTE(RIGHT(INDIRECT(\"Trello!\"&ADDRESS(ROW()-1, L$1, 4)),LEN(INDIRECT(\"Trello!\"&ADDRESS(ROW()-1, L$1, 4)))-15),\". \",\"/\"),\" 20\",\"/20\"),\" \",\"\"),\"\")","v":"26/Juli/2023"},{"$f":"IFERROR(SUBSTITUTE(SUBSTITUTE(SUBSTITUTE(RIGHT(INDIRECT(\"Trello!\"&ADDRESS(ROW()-1, M$1, 4)),LEN(INDIRECT(\"Trello!\"&ADDRESS(ROW()-1, M$1, 4)))-15),\". \",\"/\"),\" 20\",\"/20\"),\" \",\"\"),\"\")","v":""},"2023-07-26","","",{"$f":"IFERROR(SUBSTITUTE(INDIRECT(\"Trello!\"&ADDRESS(ROW()-1, O$1, 4)),\"Estimate hrs: \",\"\")*1,\"\")","v":""},{"$f":"IF(SUMIF(Timecamp!C:C,Reporte!A36,Timecamp!J:J)=0,\"\",SUMIF(Timecamp!C:C,Reporte!A36,Timecamp!J:J))","v":27.29999999999999},{"$f":"IF(AND(O36>0,P36>0,O36<>\"\",P36<>\"\"),(P36/O36)-1,\"\")","v":""},{"$f":"IF(OR(P36=\"\",F36=\"\"),\"\",F36/P36)","v":439.10256410256426},{"$f":"IFERROR(VLOOKUP(A36,'SLA Trab'!E:I,5,FALSE),\"\")","v":31.625},{"$f":"IFERROR(VLOOKUP(A36,'SLA Cobr'!E:I,5,FALSE),\"\")","v":4.1666666666666664E-2}]
[{"$f":"IFERROR(IF(Trello!E36=\"\",\"\",Trello!E36),\" \")","v":"Mama Madhu préstamo"},{"$f":"IF($A37=\"\",\"\",IF(Trello!A36=\"\",B36,Trello!A36))","v":"Terminado"},"2023-06-26",{"$f":"IF($A37=\"\",\"\",SUBSTITUTE(SUBSTITUTE(Trello!J36,\" days\",\"\"),\"⌚ \",\"\")*1)","v":79},{"$f":"IFERROR(IF($A37=\"\",\"\",SUBSTITUTE(SUBSTITUTE(SUBSTITUTE(INDIRECT(\"Trello!\"&ADDRESS(ROW()-1, E$1, 4)),\"Foreign: \",\"\"),\" $\",\"\"),\".\",\"\")*1),\"\")","v":""},{"$f":"IF($E37=\"\",IFERROR(IF($A37=\"\",\"\",SUBSTITUTE(SUBSTITUTE(SUBSTITUTE(INDIRECT(\"Trello!\"&ADDRESS(ROW()-1, F$1, 4)),\"MXN: \",\"\"),\" MX$\",\"\"),\".\",\"\")*1),\"\"),E37*F$2)","v":5000},{"$f":"IFERROR(IF($A37=\"\",\"\",SUBSTITUTE(SUBSTITUTE(SUBSTITUTE(INDIRECT(\"Trello!\"&ADDRESS(ROW()-1, G$1, 4)),\"Debt: \",\"\"),\" $\",\"\"),\".\",\"\")*1)*IF(E37=\"\",1,F$2),\"\")","v":""},{"$f":"IFERROR(IF($A37=\"\",\"\",SUBSTITUTE(SUBSTITUTE(SUBSTITUTE(INDIRECT(\"Trello!\"&ADDRESS(ROW()-1, H$1, 4)),\"Cost: \",\"\"),\" $\",\"\"),\".\",\"\")*1*$F$2),\"\")","v":""},5000,{"$f":"IFERROR(SUBSTITUTE(SUBSTITUTE(SUBSTITUTE(RIGHT(INDIRECT(\"Trello!\"&ADDRESS(ROW()-1, L$1, 4)),LEN(INDIRECT(\"Trello!\"&ADDRESS(ROW()-1, L$1, 4)))-15),\". \",\"/\"),\" 20\",\"/20\"),\" \",\"\"),\"\")","v":"10/Juli/2023"},{"$f":"IFERROR(SUBSTITUTE(SUBSTITUTE(SUBSTITUTE(RIGHT(INDIRECT(\"Trello!\"&ADDRESS(ROW()-1, M$1, 4)),LEN(INDIRECT(\"Trello!\"&ADDRESS(ROW()-1, M$1, 4)))-15),\". \",\"/\"),\" 20\",\"/20\"),\" \",\"\"),\"\")","v":""},"2023-07-10","","",{"$f":"IFERROR(SUBSTITUTE(INDIRECT(\"Trello!\"&ADDRESS(ROW()-1, O$1, 4)),\"Estimate hrs: \",\"\")*1,\"\")","v":""},{"$f":"IF(SUMIF(Timecamp!C:C,Reporte!A37,Timecamp!J:J)=0,\"\",SUMIF(Timecamp!C:C,Reporte!A37,Timecamp!J:J))","v":""},"","",{"$f":"IFERROR(VLOOKUP(A37,'SLA Trab'!E:I,5,FALSE),\"\")","v":""},{"$f":"IFERROR(VLOOKUP(A37,'SLA Cobr'!E:I,5,FALSE),\"\")","v":""}]
[{"$f":"IFERROR(IF(Trello!E37=\"\",\"\",Trello!E37),\" \")","v":"Juan Balnearis - Maquetar figma a html"},{"$f":"IF($A38=\"\",\"\",IF(Trello!A37=\"\",B37,Trello!A37))","v":"Terminado"},"2023-07-25",{"$f":"IF($A38=\"\",\"\",SUBSTITUTE(SUBSTITUTE(Trello!J37,\" days\",\"\"),\"⌚ \",\"\")*1)","v":50},{"$f":"IFERROR(IF($A38=\"\",\"\",SUBSTITUTE(SUBSTITUTE(SUBSTITUTE(INDIRECT(\"Trello!\"&ADDRESS(ROW()-1, E$1, 4)),\"Foreign: \",\"\"),\" $\",\"\"),\".\",\"\")*1),\"\")","v":325},{"$f":"IF($E38=\"\",IFERROR(IF($A38=\"\",\"\",SUBSTITUTE(SUBSTITUTE(SUBSTITUTE(INDIRECT(\"Trello!\"&ADDRESS(ROW()-1, F$1, 4)),\"MXN: \",\"\"),\" MX$\",\"\"),\".\",\"\")*1),\"\"),E38*F$2)","v":5687.5},{"$f":"IFERROR(IF($A38=\"\",\"\",SUBSTITUTE(SUBSTITUTE(SUBSTITUTE(INDIRECT(\"Trello!\"&ADDRESS(ROW()-1, G$1, 4)),\"Debt: \",\"\"),\" $\",\"\"),\".\",\"\")*1)*IF(E38=\"\",1,F$2),\"\")","v":0},{"$f":"IFERROR(IF($A38=\"\",\"\",SUBSTITUTE(SUBSTITUTE(SUBSTITUTE(INDIRECT(\"Trello!\"&ADDRESS(ROW()-1, H$1, 4)),\"Cost: \",\"\"),\" $\",\"\"),\".\",\"\")*1*$F$2),\"\")","v":2450},3237.5,{"$f":"IFERROR(SUBSTITUTE(SUBSTITUTE(SUBSTITUTE(RIGHT(INDIRECT(\"Trello!\"&ADDRESS(ROW()-1, L$1, 4)),LEN(INDIRECT(\"Trello!\"&ADDRESS(ROW()-1, L$1, 4)))-15),\". \",\"/\"),\" 20\",\"/20\"),\" \",\"\"),\"\")","v":""},{"$f":"IFERROR(SUBSTITUTE(SUBSTITUTE(SUBSTITUTE(RIGHT(INDIRECT(\"Trello!\"&ADDRESS(ROW()-1, M$1, 4)),LEN(INDIRECT(\"Trello!\"&ADDRESS(ROW()-1, M$1, 4)))-15),\". \",\"/\"),\" 20\",\"/20\"),\" \",\"\"),\"\")","v":""},"","","",{"$f":"IFERROR(SUBSTITUTE(INDIRECT(\"Trello!\"&ADDRESS(ROW()-1, O$1, 4)),\"Estimate hrs: \",\"\")*1,\"\")","v":""},{"$f":"IF(SUMIF(Timecamp!C:C,Reporte!A38,Timecamp!J:J)=0,\"\",SUMIF(Timecamp!C:C,Reporte!A38,Timecamp!J:J))","v":8.3333333333333329E-2},"",68250,{"$f":"IFERROR(VLOOKUP(A38,'SLA Trab'!E:I,5,FALSE),\"\")","v":""},{"$f":"IFERROR(VLOOKUP(A38,'SLA Cobr'!E:I,5,FALSE),\"\")","v":""}]
[{"$f":"IFERROR(IF(Trello!E38=\"\",\"\",Trello!E38),\" \")","v":"Sam - Peters Window Hosting"},{"$f":"IF($A39=\"\",\"\",IF(Trello!A38=\"\",B38,Trello!A38))","v":"Terminado"},"2023-08-02",{"$f":"IF($A39=\"\",\"\",SUBSTITUTE(SUBSTITUTE(Trello!J38,\" days\",\"\"),\"⌚ \",\"\")*1)","v":42},{"$f":"IFERROR(IF($A39=\"\",\"\",SUBSTITUTE(SUBSTITUTE(SUBSTITUTE(INDIRECT(\"Trello!\"&ADDRESS(ROW()-1, E$1, 4)),\"Foreign: \",\"\"),\" $\",\"\"),\".\",\"\")*1),\"\")","v":100},{"$f":"IF($E39=\"\",IFERROR(IF($A39=\"\",\"\",SUBSTITUTE(SUBSTITUTE(SUBSTITUTE(INDIRECT(\"Trello!\"&ADDRESS(ROW()-1, F$1, 4)),\"MXN: \",\"\"),\" MX$\",\"\"),\".\",\"\")*1),\"\"),E39*F$2)","v":1750},{"$f":"IFERROR(IF($A39=\"\",\"\",SUBSTITUTE(SUBSTITUTE(SUBSTITUTE(INDIRECT(\"Trello!\"&ADDRESS(ROW()-1, G$1, 4)),\"Debt: \",\"\"),\" $\",\"\"),\".\",\"\")*1)*IF(E39=\"\",1,F$2),\"\")","v":0},{"$f":"IFERROR(IF($A39=\"\",\"\",SUBSTITUTE(SUBSTITUTE(SUBSTITUTE(INDIRECT(\"Trello!\"&ADDRESS(ROW()-1, H$1, 4)),\"Cost: \",\"\"),\" $\",\"\"),\".\",\"\")*1*$F$2),\"\")","v":""},1750,{"$f":"IFERROR(SUBSTITUTE(SUBSTITUTE(SUBSTITUTE(RIGHT(INDIRECT(\"Trello!\"&ADDRESS(ROW()-1, L$1, 4)),LEN(INDIRECT(\"Trello!\"&ADDRESS(ROW()-1, L$1, 4)))-15),\". \",\"/\"),\" 20\",\"/20\"),\" \",\"\"),\"\")","v":""},{"$f":"IFERROR(SUBSTITUTE(SUBSTITUTE(SUBSTITUTE(RIGHT(INDIRECT(\"Trello!\"&ADDRESS(ROW()-1, M$1, 4)),LEN(INDIRECT(\"Trello!\"&ADDRESS(ROW()-1, M$1, 4)))-15),\". \",\"/\"),\" 20\",\"/20\"),\" \",\"\"),\"\")","v":""},"","","",{"$f":"IFERROR(SUBSTITUTE(INDIRECT(\"Trello!\"&ADDRESS(ROW()-1, O$1, 4)),\"Estimate hrs: \",\"\")*1,\"\")","v":""},{"$f":"IF(SUMIF(Timecamp!C:C,Reporte!A39,Timecamp!J:J)=0,\"\",SUMIF(Timecamp!C:C,Reporte!A39,Timecamp!J:J))","v":""},"","",{"$f":"IFERROR(VLOOKUP(A39,'SLA Trab'!E:I,5,FALSE),\"\")","v":""},{"$f":"IFERROR(VLOOKUP(A39,'SLA Cobr'!E:I,5,FALSE),\"\")","v":7.666666666666667}]
[{"$f":"IFERROR(IF(Trello!E39=\"\",\"\",Trello!E39),\" \")","v":"Diana Inlat - Ingeurbe Tablet e Ingles"},{"$f":"IF($A40=\"\",\"\",IF(Trello!A39=\"\",B39,Trello!A39))","v":"Terminado"},"2023-05-22",{"$f":"IF($A40=\"\",\"\",SUBSTITUTE(SUBSTITUTE(Trello!J39,\" days\",\"\"),\"⌚ \",\"\")*1)","v":114},{"$f":"IFERROR(IF($A40=\"\",\"\",SUBSTITUTE(SUBSTITUTE(SUBSTITUTE(INDIRECT(\"Trello!\"&ADDRESS(ROW()-1, E$1, 4)),\"Foreign: \",\"\"),\" $\",\"\"),\".\",\"\")*1),\"\")","v":500},{"$f":"IF($E40=\"\",IFERROR(IF($A40=\"\",\"\",SUBSTITUTE(SUBSTITUTE(SUBSTITUTE(INDIRECT(\"Trello!\"&ADDRESS(ROW()-1, F$1, 4)),\"MXN: \",\"\"),\" MX$\",\"\"),\".\",\"\")*1),\"\"),E40*F$2)","v":8750},{"$f":"IFERROR(IF($A40=\"\",\"\",SUBSTITUTE(SUBSTITUTE(SUBSTITUTE(INDIRECT(\"Trello!\"&ADDRESS(ROW()-1, G$1, 4)),\"Debt: \",\"\"),\" $\",\"\"),\".\",\"\")*1)*IF(E40=\"\",1,F$2),\"\")","v":""},{"$f":"IFERROR(IF($A40=\"\",\"\",SUBSTITUTE(SUBSTITUTE(SUBSTITUTE(INDIRECT(\"Trello!\"&ADDRESS(ROW()-1, H$1, 4)),\"Cost: \",\"\"),\" $\",\"\"),\".\",\"\")*1*$F$2),\"\")","v":875},7875,{"$f":"IFERROR(SUBSTITUTE(SUBSTITUTE(SUBSTITUTE(RIGHT(INDIRECT(\"Trello!\"&ADDRESS(ROW()-1, L$1, 4)),LEN(INDIRECT(\"Trello!\"&ADDRESS(ROW()-1, L$1, 4)))-15),\". \",\"/\"),\" 20\",\"/20\"),\" \",\"\"),\"\")","v":""},{"$f":"IFERROR(SUBSTITUTE(SUBSTITUTE(SUBSTITUTE(RIGHT(INDIRECT(\"Trello!\"&ADDRESS(ROW()-1, M$1, 4)),LEN(INDIRECT(\"Trello!\"&ADDRESS(ROW()-1, M$1, 4)))-15),\". \",\"/\"),\" 20\",\"/20\"),\" \",\"\"),\"\")","v":""},"","","",{"$f":"IFERROR(SUBSTITUTE(INDIRECT(\"Trello!\"&ADDRESS(ROW()-1, O$1, 4)),\"Estimate hrs: \",\"\")*1,\"\")","v":5},{"$f":"IF(SUMIF(Timecamp!C:C,Reporte!A40,Timecamp!J:J)=0,\"\",SUMIF(Timecamp!C:C,Reporte!A40,Timecamp!J:J))","v":1.4500000000000002},-0.71,6034.4827586206893,{"$f":"IFERROR(VLOOKUP(A40,'SLA Trab'!E:I,5,FALSE),\"\")","v":14},{"$f":"IFERROR(VLOOKUP(A40,'SLA Cobr'!E:I,5,FALSE),\"\")","v":59.125}]
[{"$f":"IFERROR(IF(Trello!E40=\"\",\"\",Trello!E40),\" \")","v":"Faby - LB Logistics"},{"$f":"IF($A41=\"\",\"\",IF(Trello!A40=\"\",B40,Trello!A40))","v":"Terminado"},"2023-05-26",{"$f":"IF($A41=\"\",\"\",SUBSTITUTE(SUBSTITUTE(Trello!J40,\" days\",\"\"),\"⌚ \",\"\")*1)","v":110},{"$f":"IFERROR(IF($A41=\"\",\"\",SUBSTITUTE(SUBSTITUTE(SUBSTITUTE(INDIRECT(\"Trello!\"&ADDRESS(ROW()-1, E$1, 4)),\"Foreign: \",\"\"),\" $\",\"\"),\".\",\"\")*1),\"\")","v":""},{"$f":"IF($E41=\"\",IFERROR(IF($A41=\"\",\"\",SUBSTITUTE(SUBSTITUTE(SUBSTITUTE(INDIRECT(\"Trello!\"&ADDRESS(ROW()-1, F$1, 4)),\"MXN: \",\"\"),\" MX$\",\"\"),\".\",\"\")*1),\"\"),E41*F$2)","v":12000},{"$f":"IFERROR(IF($A41=\"\",\"\",SUBSTITUTE(SUBSTITUTE(SUBSTITUTE(INDIRECT(\"Trello!\"&ADDRESS(ROW()-1, G$1, 4)),\"Debt: \",\"\"),\" $\",\"\"),\".\",\"\")*1)*IF(E41=\"\",1,F$2),\"\")","v":0},{"$f":"IFERROR(IF($A41=\"\",\"\",SUBSTITUTE(SUBSTITUTE(SUBSTITUTE(INDIRECT(\"Trello!\"&ADDRESS(ROW()-1, H$1, 4)),\"Cost: \",\"\"),\" $\",\"\"),\".\",\"\")*1*$F$2),\"\")","v":4550},7450,{"$f":"IFERROR(SUBSTITUTE(SUBSTITUTE(SUBSTITUTE(RIGHT(INDIRECT(\"Trello!\"&ADDRESS(ROW()-1, L$1, 4)),LEN(INDIRECT(\"Trello!\"&ADDRESS(ROW()-1, L$1, 4)))-15),\". \",\"/\"),\" 20\",\"/20\"),\" \",\"\"),\"\")","v":"20/Juli/2023"},{"$f":"IFERROR(SUBSTITUTE(SUBSTITUTE(SUBSTITUTE(RIGHT(INDIRECT(\"Trello!\"&ADDRESS(ROW()-1, M$1, 4)),LEN(INDIRECT(\"Trello!\"&ADDRESS(ROW()-1, M$1, 4)))-15),\". \",\"/\"),\" 20\",\"/20\"),\" \",\"\"),\"\")","v":""},"2023-07-20","","",{"$f":"IFERROR(SUBSTITUTE(INDIRECT(\"Trello!\"&ADDRESS(ROW()-1, O$1, 4)),\"Estimate hrs: \",\"\")*1,\"\")","v":5},{"$f":"IF(SUMIF(Timecamp!C:C,Reporte!A41,Timecamp!J:J)=0,\"\",SUMIF(Timecamp!C:C,Reporte!A41,Timecamp!J:J))","v":13.16666666666667},1.6333333333333337,911.39240506329088,{"$f":"IFERROR(VLOOKUP(A41,'SLA Trab'!E:I,5,FALSE),\"\")","v":18.25},{"$f":"IFERROR(VLOOKUP(A41,'SLA Cobr'!E:I,5,FALSE),\"\")","v":2.875}]
[{"$f":"IFERROR(IF(Trello!E41=\"\",\"\",Trello!E41),\" \")","v":"Ricardo Freelancer - Accounting"},{"$f":"IF($A42=\"\",\"\",IF(Trello!A41=\"\",B41,Trello!A41))","v":"Terminado"},"2023-04-04",{"$f":"IF($A42=\"\",\"\",SUBSTITUTE(SUBSTITUTE(Trello!J41,\" days\",\"\"),\"⌚ \",\"\")*1)","v":162},{"$f":"IFERROR(IF($A42=\"\",\"\",SUBSTITUTE(SUBSTITUTE(SUBSTITUTE(INDIRECT(\"Trello!\"&ADDRESS(ROW()-1, E$1, 4)),\"Foreign: \",\"\"),\" $\",\"\"),\".\",\"\")*1),\"\")","v":6000},{"$f":"IF($E42=\"\",IFERROR(IF($A42=\"\",\"\",SUBSTITUTE(SUBSTITUTE(SUBSTITUTE(INDIRECT(\"Trello!\"&ADDRESS(ROW()-1, F$1, 4)),\"MXN: \",\"\"),\" MX$\",\"\"),\".\",\"\")*1),\"\"),E42*F$2)","v":105000},{"$f":"IFERROR(IF($A42=\"\",\"\",SUBSTITUTE(SUBSTITUTE(SUBSTITUTE(INDIRECT(\"Trello!\"&ADDRESS(ROW()-1, G$1, 4)),\"Debt: \",\"\"),\" $\",\"\"),\".\",\"\")*1)*IF(E42=\"\",1,F$2),\"\")","v":0},{"$f":"IFERROR(IF($A42=\"\",\"\",SUBSTITUTE(SUBSTITUTE(SUBSTITUTE(INDIRECT(\"Trello!\"&ADDRESS(ROW()-1, H$1, 4)),\"Cost: \",\"\"),\" $\",\"\"),\".\",\"\")*1*$F$2),\"\")","v":""},105000,{"$f":"IFERROR(SUBSTITUTE(SUBSTITUTE(SUBSTITUTE(RIGHT(INDIRECT(\"Trello!\"&ADDRESS(ROW()-1, L$1, 4)),LEN(INDIRECT(\"Trello!\"&ADDRESS(ROW()-1, L$1, 4)))-15),\". \",\"/\"),\" 20\",\"/20\"),\" \",\"\"),\"\")","v":"28/Apr/2023"},{"$f":"IFERROR(SUBSTITUTE(SUBSTITUTE(SUBSTITUTE(RIGHT(INDIRECT(\"Trello!\"&ADDRESS(ROW()-1, M$1, 4)),LEN(INDIRECT(\"Trello!\"&ADDRESS(ROW()-1, M$1, 4)))-15),\". \",\"/\"),\" 20\",\"/20\"),\" \",\"\"),\"\")","v":""},"2023-04-28","","",{"$f":"IFERROR(SUBSTITUTE(INDIRECT(\"Trello!\"&ADDRESS(ROW()-1, O$1, 4)),\"Estimate hrs: \",\"\")*1,\"\")","v":""},{"$f":"IF(SUMIF(Timecamp!C:C,Reporte!A42,Timecamp!J:J)=0,\"\",SUMIF(Timecamp!C:C,Reporte!A42,Timecamp!J:J))","v":146},"",719.17808219178085,{"$f":"IFERROR(VLOOKUP(A42,'SLA Trab'!E:I,5,FALSE),\"\")","v":83},{"$f":"IFERROR(VLOOKUP(A42,'SLA Cobr'!E:I,5,FALSE),\"\")","v":36.958333333333336}]
[{"$f":"IFERROR(IF(Trello!E42=\"\",\"\",Trello!E42),\" \")","v":"Nana maletas Feb 23"},{"$f":"IF($A43=\"\",\"\",IF(Trello!A42=\"\",B42,Trello!A42))","v":"Terminado"},"2023-06-27",{"$f":"IF($A43=\"\",\"\",SUBSTITUTE(SUBSTITUTE(Trello!J42,\" days\",\"\"),\"⌚ \",\"\")*1)","v":78},{"$f":"IFERROR(IF($A43=\"\",\"\",SUBSTITUTE(SUBSTITUTE(SUBSTITUTE(INDIRECT(\"Trello!\"&ADDRESS(ROW()-1, E$1, 4)),\"Foreign: \",\"\"),\" $\",\"\"),\".\",\"\")*1),\"\")","v":""},{"$f":"IF($E43=\"\",IFERROR(IF($A43=\"\",\"\",SUBSTITUTE(SUBSTITUTE(SUBSTITUTE(INDIRECT(\"Trello!\"&ADDRESS(ROW()-1, F$1, 4)),\"MXN: \",\"\"),\" MX$\",\"\"),\".\",\"\")*1),\"\"),E43*F$2)","v":1750},{"$f":"IFERROR(IF($A43=\"\",\"\",SUBSTITUTE(SUBSTITUTE(SUBSTITUTE(INDIRECT(\"Trello!\"&ADDRESS(ROW()-1, G$1, 4)),\"Debt: \",\"\"),\" $\",\"\"),\".\",\"\")*1)*IF(E43=\"\",1,F$2),\"\")","v":""},{"$f":"IFERROR(IF($A43=\"\",\"\",SUBSTITUTE(SUBSTITUTE(SUBSTITUTE(INDIRECT(\"Trello!\"&ADDRESS(ROW()-1, H$1, 4)),\"Cost: \",\"\"),\" $\",\"\"),\".\",\"\")*1*$F$2),\"\")","v":""},1750,{"$f":"IFERROR(SUBSTITUTE(SUBSTITUTE(SUBSTITUTE(RIGHT(INDIRECT(\"Trello!\"&ADDRESS(ROW()-1, L$1, 4)),LEN(INDIRECT(\"Trello!\"&ADDRESS(ROW()-1, L$1, 4)))-15),\". \",\"/\"),\" 20\",\"/20\"),\" \",\"\"),\"\")","v":""},{"$f":"IFERROR(SUBSTITUTE(SUBSTITUTE(SUBSTITUTE(RIGHT(INDIRECT(\"Trello!\"&ADDRESS(ROW()-1, M$1, 4)),LEN(INDIRECT(\"Trello!\"&ADDRESS(ROW()-1, M$1, 4)))-15),\". \",\"/\"),\" 20\",\"/20\"),\" \",\"\"),\"\")","v":""},"","","",{"$f":"IFERROR(SUBSTITUTE(INDIRECT(\"Trello!\"&ADDRESS(ROW()-1, O$1, 4)),\"Estimate hrs: \",\"\")*1,\"\")","v":""},{"$f":"IF(SUMIF(Timecamp!C:C,Reporte!A43,Timecamp!J:J)=0,\"\",SUMIF(Timecamp!C:C,Reporte!A43,Timecamp!J:J))","v":""},"","",{"$f":"IFERROR(VLOOKUP(A43,'SLA Trab'!E:I,5,FALSE),\"\")","v":""},{"$f":"IFERROR(VLOOKUP(A43,'SLA Cobr'!E:I,5,FALSE),\"\")","v":36.958333333333336}]
[{"$f":"IFERROR(IF(Trello!E43=\"\",\"\",Trello!E43),\" \")","v":"Steve 5 10 - Página personal protfolio"},{"$f":"IF($A44=\"\",\"\",IF(Trello!A43=\"\",B43,Trello!A43))","v":"Terminado"},"2023-05-25",{"$f":"IF($A44=\"\",\"\",SUBSTITUTE(SUBSTITUTE(Trello!J43,\" days\",\"\"),\"⌚ \",\"\")*1)","v":111},{"$f":"IFERROR(IF($A44=\"\",\"\",SUBSTITUTE(SUBSTITUTE(SUBSTITUTE(INDIRECT(\"Trello!\"&ADDRESS(ROW()-1, E$1, 4)),\"Foreign: \",\"\"),\" $\",\"\"),\".\",\"\")*1),\"\")","v":450},{"$f":"IF($E44=\"\",IFERROR(IF($A44=\"\",\"\",SUBSTITUTE(SUBSTITUTE(SUBSTITUTE(INDIRECT(\"Trello!\"&ADDRESS(ROW()-1, F$1, 4)),\"MXN: \",\"\"),\" MX$\",\"\"),\".\",\"\")*1),\"\"),E44*F$2)","v":7875},{"$f":"IFERROR(IF($A44=\"\",\"\",SUBSTITUTE(SUBSTITUTE(SUBSTITUTE(INDIRECT(\"Trello!\"&ADDRESS(ROW()-1, G$1, 4)),\"Debt: \",\"\"),\" $\",\"\"),\".\",\"\")*1)*IF(E44=\"\",1,F$2),\"\")","v":0},{"$f":"IFERROR(IF($A44=\"\",\"\",SUBSTITUTE(SUBSTITUTE(SUBSTITUTE(INDIRECT(\"Trello!\"&ADDRESS(ROW()-1, H$1, 4)),\"Cost: \",\"\"),\" $\",\"\"),\".\",\"\")*1*$F$2),\"\")","v":1312.5},6562.5,{"$f":"IFERROR(SUBSTITUTE(SUBSTITUTE(SUBSTITUTE(RIGHT(INDIRECT(\"Trello!\"&ADDRESS(ROW()-1, L$1, 4)),LEN(INDIRECT(\"Trello!\"&ADDRESS(ROW()-1, L$1, 4)))-15),\". \",\"/\"),\" 20\",\"/20\"),\" \",\"\"),\"\")","v":"21/Juli/2023"},{"$f":"IFERROR(SUBSTITUTE(SUBSTITUTE(SUBSTITUTE(RIGHT(INDIRECT(\"Trello!\"&ADDRESS(ROW()-1, M$1, 4)),LEN(INDIRECT(\"Trello!\"&ADDRESS(ROW()-1, M$1, 4)))-15),\". \",\"/\"),\" 20\",\"/20\"),\" \",\"\"),\"\")","v":""},"2023-07-21","","",{"$f":"IFERROR(SUBSTITUTE(INDIRECT(\"Trello!\"&ADDRESS(ROW()-1, O$1, 4)),\"Estimate hrs: \",\"\")*1,\"\")","v":""},{"$f":"IF(SUMIF(Timecamp!C:C,Reporte!A44,Timecamp!J:J)=0,\"\",SUMIF(Timecamp!C:C,Reporte!A44,Timecamp!J:J))","v":10.033333333333337},"",784.88372093023224,{"$f":"IFERROR(VLOOKUP(A44,'SLA Trab'!E:I,5,FALSE),\"\")","v":""},{"$f":"IFERROR(VLOOKUP(A44,'SLA Cobr'!E:I,5,FALSE),\"\")","v":""}]
[{"$f":"IFERROR(IF(Trello!E44=\"\",\"\",Trello!E44),\" \")","v":"Daren freelancer - Nuevo Form"},{"$f":"IF($A45=\"\",\"\",IF(Trello!A44=\"\",B44,Trello!A44))","v":"Terminado"},"2023-06-08",{"$f":"IF($A45=\"\",\"\",SUBSTITUTE(SUBSTITUTE(Trello!J44,\" days\",\"\"),\"⌚ \",\"\")*1)","v":97},{"$f":"IFERROR(IF($A45=\"\",\"\",SUBSTITUTE(SUBSTITUTE(SUBSTITUTE(INDIRECT(\"Trello!\"&ADDRESS(ROW()-1, E$1, 4)),\"Foreign: \",\"\"),\" $\",\"\"),\".\",\"\")*1),\"\")","v":250},{"$f":"IF($E45=\"\",IFERROR(IF($A45=\"\",\"\",SUBSTITUTE(SUBSTITUTE(SUBSTITUTE(INDIRECT(\"Trello!\"&ADDRESS(ROW()-1, F$1, 4)),\"MXN: \",\"\"),\" MX$\",\"\"),\".\",\"\")*1),\"\"),E45*F$2)","v":4375},{"$f":"IFERROR(IF($A45=\"\",\"\",SUBSTITUTE(SUBSTITUTE(SUBSTITUTE(INDIRECT(\"Trello!\"&ADDRESS(ROW()-1, G$1, 4)),\"Debt: \",\"\"),\" $\",\"\"),\".\",\"\")*1)*IF(E45=\"\",1,F$2),\"\")","v":0},{"$f":"IFERROR(IF($A45=\"\",\"\",SUBSTITUTE(SUBSTITUTE(SUBSTITUTE(INDIRECT(\"Trello!\"&ADDRESS(ROW()-1, H$1, 4)),\"Cost: \",\"\"),\" $\",\"\"),\".\",\"\")*1*$F$2),\"\")","v":""},4375,{"$f":"IFERROR(SUBSTITUTE(SUBSTITUTE(SUBSTITUTE(RIGHT(INDIRECT(\"Trello!\"&ADDRESS(ROW()-1, L$1, 4)),LEN(INDIRECT(\"Trello!\"&ADDRESS(ROW()-1, L$1, 4)))-15),\". \",\"/\"),\" 20\",\"/20\"),\" \",\"\"),\"\")","v":""},{"$f":"IFERROR(SUBSTITUTE(SUBSTITUTE(SUBSTITUTE(RIGHT(INDIRECT(\"Trello!\"&ADDRESS(ROW()-1, M$1, 4)),LEN(INDIRECT(\"Trello!\"&ADDRESS(ROW()-1, M$1, 4)))-15),\". \",\"/\"),\" 20\",\"/20\"),\" \",\"\"),\"\")","v":""},"","","",{"$f":"IFERROR(SUBSTITUTE(INDIRECT(\"Trello!\"&ADDRESS(ROW()-1, O$1, 4)),\"Estimate hrs: \",\"\")*1,\"\")","v":5},{"$f":"IF(SUMIF(Timecamp!C:C,Reporte!A45,Timecamp!J:J)=0,\"\",SUMIF(Timecamp!C:C,Reporte!A45,Timecamp!J:J))","v":""},"","",{"$f":"IFERROR(VLOOKUP(A45,'SLA Trab'!E:I,5,FALSE),\"\")","v":""},{"$f":"IFERROR(VLOOKUP(A45,'SLA Cobr'!E:I,5,FALSE),\"\")","v":""}]
[{"$f":"IFERROR(IF(Trello!E45=\"\",\"\",Trello!E45),\" \")","v":"Samantha - vuelo mty"},{"$f":"IF($A46=\"\",\"\",IF(Trello!A45=\"\",B45,Trello!A45))","v":"Terminado"},"2023-03-12",{"$f":"IF($A46=\"\",\"\",SUBSTITUTE(SUBSTITUTE(Trello!J45,\" days\",\"\"),\"⌚ \",\"\")*1)","v":185},{"$f":"IFERROR(IF($A46=\"\",\"\",SUBSTITUTE(SUBSTITUTE(SUBSTITUTE(INDIRECT(\"Trello!\"&ADDRESS(ROW()-1, E$1, 4)),\"Foreign: \",\"\"),\" $\",\"\"),\".\",\"\")*1),\"\")","v":""},{"$f":"IF($E46=\"\",IFERROR(IF($A46=\"\",\"\",SUBSTITUTE(SUBSTITUTE(SUBSTITUTE(INDIRECT(\"Trello!\"&ADDRESS(ROW()-1, F$1, 4)),\"MXN: \",\"\"),\" MX$\",\"\"),\".\",\"\")*1),\"\"),E46*F$2)","v":4148},{"$f":"IFERROR(IF($A46=\"\",\"\",SUBSTITUTE(SUBSTITUTE(SUBSTITUTE(INDIRECT(\"Trello!\"&ADDRESS(ROW()-1, G$1, 4)),\"Debt: \",\"\"),\" $\",\"\"),\".\",\"\")*1)*IF(E46=\"\",1,F$2),\"\")","v":4148},{"$f":"IFERROR(IF($A46=\"\",\"\",SUBSTITUTE(SUBSTITUTE(SUBSTITUTE(INDIRECT(\"Trello!\"&ADDRESS(ROW()-1, H$1, 4)),\"Cost: \",\"\"),\" $\",\"\"),\".\",\"\")*1*$F$2),\"\")","v":""},4148,{"$f":"IFERROR(SUBSTITUTE(SUBSTITUTE(SUBSTITUTE(RIGHT(INDIRECT(\"Trello!\"&ADDRESS(ROW()-1, L$1, 4)),LEN(INDIRECT(\"Trello!\"&ADDRESS(ROW()-1, L$1, 4)))-15),\". \",\"/\"),\" 20\",\"/20\"),\" \",\"\"),\"\")","v":""},{"$f":"IFERROR(SUBSTITUTE(SUBSTITUTE(SUBSTITUTE(RIGHT(INDIRECT(\"Trello!\"&ADDRESS(ROW()-1, M$1, 4)),LEN(INDIRECT(\"Trello!\"&ADDRESS(ROW()-1, M$1, 4)))-15),\". \",\"/\"),\" 20\",\"/20\"),\" \",\"\"),\"\")","v":""},"","","",{"$f":"IFERROR(SUBSTITUTE(INDIRECT(\"Trello!\"&ADDRESS(ROW()-1, O$1, 4)),\"Estimate hrs: \",\"\")*1,\"\")","v":""},{"$f":"IF(SUMIF(Timecamp!C:C,Reporte!A46,Timecamp!J:J)=0,\"\",SUMIF(Timecamp!C:C,Reporte!A46,Timecamp!J:J))","v":""},"","",{"$f":"IFERROR(VLOOKUP(A46,'SLA Trab'!E:I,5,FALSE),\"\")","v":""},{"$f":"IFERROR(VLOOKUP(A46,'SLA Cobr'!E:I,5,FALSE),\"\")","v":26.625}]
[{"$f":"IFERROR(IF(Trello!E46=\"\",\"\",Trello!E46),\" \")","v":"Gary Hydracheck - Fix quote shipping"},{"$f":"IF($A47=\"\",\"\",IF(Trello!A46=\"\",B46,Trello!A46))","v":"Terminado"},"2023-06-26",{"$f":"IF($A47=\"\",\"\",SUBSTITUTE(SUBSTITUTE(Trello!J46,\" days\",\"\"),\"⌚ \",\"\")*1)","v":79},{"$f":"IFERROR(IF($A47=\"\",\"\",SUBSTITUTE(SUBSTITUTE(SUBSTITUTE(INDIRECT(\"Trello!\"&ADDRESS(ROW()-1, E$1, 4)),\"Foreign: \",\"\"),\" $\",\"\"),\".\",\"\")*1),\"\")","v":250},{"$f":"IF($E47=\"\",IFERROR(IF($A47=\"\",\"\",SUBSTITUTE(SUBSTITUTE(SUBSTITUTE(INDIRECT(\"Trello!\"&ADDRESS(ROW()-1, F$1, 4)),\"MXN: \",\"\"),\" MX$\",\"\"),\".\",\"\")*1),\"\"),E47*F$2)","v":4375},{"$f":"IFERROR(IF($A47=\"\",\"\",SUBSTITUTE(SUBSTITUTE(SUBSTITUTE(INDIRECT(\"Trello!\"&ADDRESS(ROW()-1, G$1, 4)),\"Debt: \",\"\"),\" $\",\"\"),\".\",\"\")*1)*IF(E47=\"\",1,F$2),\"\")","v":0},{"$f":"IFERROR(IF($A47=\"\",\"\",SUBSTITUTE(SUBSTITUTE(SUBSTITUTE(INDIRECT(\"Trello!\"&ADDRESS(ROW()-1, H$1, 4)),\"Cost: \",\"\"),\" $\",\"\"),\".\",\"\")*1*$F$2),\"\")","v":""},4375,{"$f":"IFERROR(SUBSTITUTE(SUBSTITUTE(SUBSTITUTE(RIGHT(INDIRECT(\"Trello!\"&ADDRESS(ROW()-1, L$1, 4)),LEN(INDIRECT(\"Trello!\"&ADDRESS(ROW()-1, L$1, 4)))-15),\". \",\"/\"),\" 20\",\"/20\"),\" \",\"\"),\"\")","v":""},{"$f":"IFERROR(SUBSTITUTE(SUBSTITUTE(SUBSTITUTE(RIGHT(INDIRECT(\"Trello!\"&ADDRESS(ROW()-1, M$1, 4)),LEN(INDIRECT(\"Trello!\"&ADDRESS(ROW()-1, M$1, 4)))-15),\". \",\"/\"),\" 20\",\"/20\"),\" \",\"\"),\"\")","v":""},"","","",{"$f":"IFERROR(SUBSTITUTE(INDIRECT(\"Trello!\"&ADDRESS(ROW()-1, O$1, 4)),\"Estimate hrs: \",\"\")*1,\"\")","v":5},{"$f":"IF(SUMIF(Timecamp!C:C,Reporte!A47,Timecamp!J:J)=0,\"\",SUMIF(Timecamp!C:C,Reporte!A47,Timecamp!J:J))","v":3.5500000000000003},-0.28999999999999992,1232.394366197183,{"$f":"IFERROR(VLOOKUP(A47,'SLA Trab'!E:I,5,FALSE),\"\")","v":7.75},{"$f":"IFERROR(VLOOKUP(A47,'SLA Cobr'!E:I,5,FALSE),\"\")","v":4.1666666666666664E-2}]
[{"$f":"IFERROR(IF(Trello!E47=\"\",\"\",Trello!E47),\" \")","v":"Yordi - préstamo fisher's"},{"$f":"IF($A48=\"\",\"\",IF(Trello!A47=\"\",B47,Trello!A47))","v":"Terminado"},"2023-07-10",{"$f":"IF($A48=\"\",\"\",SUBSTITUTE(SUBSTITUTE(Trello!J47,\" days\",\"\"),\"⌚ \",\"\")*1)","v":65},{"$f":"IFERROR(IF($A48=\"\",\"\",SUBSTITUTE(SUBSTITUTE(SUBSTITUTE(INDIRECT(\"Trello!\"&ADDRESS(ROW()-1, E$1, 4)),\"Foreign: \",\"\"),\" $\",\"\"),\".\",\"\")*1),\"\")","v":""},{"$f":"IF($E48=\"\",IFERROR(IF($A48=\"\",\"\",SUBSTITUTE(SUBSTITUTE(SUBSTITUTE(INDIRECT(\"Trello!\"&ADDRESS(ROW()-1, F$1, 4)),\"MXN: \",\"\"),\" MX$\",\"\"),\".\",\"\")*1),\"\"),E48*F$2)","v":1500},{"$f":"IFERROR(IF($A48=\"\",\"\",SUBSTITUTE(SUBSTITUTE(SUBSTITUTE(INDIRECT(\"Trello!\"&ADDRESS(ROW()-1, G$1, 4)),\"Debt: \",\"\"),\" $\",\"\"),\".\",\"\")*1)*IF(E48=\"\",1,F$2),\"\")","v":""},{"$f":"IFERROR(IF($A48=\"\",\"\",SUBSTITUTE(SUBSTITUTE(SUBSTITUTE(INDIRECT(\"Trello!\"&ADDRESS(ROW()-1, H$1, 4)),\"Cost: \",\"\"),\" $\",\"\"),\".\",\"\")*1*$F$2),\"\")","v":""},1500,{"$f":"IFERROR(SUBSTITUTE(SUBSTITUTE(SUBSTITUTE(RIGHT(INDIRECT(\"Trello!\"&ADDRESS(ROW()-1, L$1, 4)),LEN(INDIRECT(\"Trello!\"&ADDRESS(ROW()-1, L$1, 4)))-15),\". \",\"/\"),\" 20\",\"/20\"),\" \",\"\"),\"\")","v":"13/Aug/2023"},{"$f":"IFERROR(SUBSTITUTE(SUBSTITUTE(SUBSTITUTE(RIGHT(INDIRECT(\"Trello!\"&ADDRESS(ROW()-1, M$1, 4)),LEN(INDIRECT(\"Trello!\"&ADDRESS(ROW()-1, M$1, 4)))-15),\". \",\"/\"),\" 20\",\"/20\"),\" \",\"\"),\"\")","v":""},"2023-08-13","","",{"$f":"IFERROR(SUBSTITUTE(INDIRECT(\"Trello!\"&ADDRESS(ROW()-1, O$1, 4)),\"Estimate hrs: \",\"\")*1,\"\")","v":""},{"$f":"IF(SUMIF(Timecamp!C:C,Reporte!A48,Timecamp!J:J)=0,\"\",SUMIF(Timecamp!C:C,Reporte!A48,Timecamp!J:J))","v":""},"","",{"$f":"IFERROR(VLOOKUP(A48,'SLA Trab'!E:I,5,FALSE),\"\")","v":""},{"$f":"IFERROR(VLOOKUP(A48,'SLA Cobr'!E:I,5,FALSE),\"\")","v":""}]
[{"$f":"IFERROR(IF(Trello!E48=\"\",\"\",Trello!E48),\" \")","v":"Bjorn Sueco - ajustes Woo y POS"},{"$f":"IF($A49=\"\",\"\",IF(Trello!A48=\"\",B48,Trello!A48))","v":"Terminado"},"2023-05-24",{"$f":"IF($A49=\"\",\"\",SUBSTITUTE(SUBSTITUTE(Trello!J48,\" days\",\"\"),\"⌚ \",\"\")*1)","v":112},{"$f":"IFERROR(IF($A49=\"\",\"\",SUBSTITUTE(SUBSTITUTE(SUBSTITUTE(INDIRECT(\"Trello!\"&ADDRESS(ROW()-1, E$1, 4)),\"Foreign: \",\"\"),\" $\",\"\"),\".\",\"\")*1),\"\")","v":900},{"$f":"IF($E49=\"\",IFERROR(IF($A49=\"\",\"\",SUBSTITUTE(SUBSTITUTE(SUBSTITUTE(INDIRECT(\"Trello!\"&ADDRESS(ROW()-1, F$1, 4)),\"MXN: \",\"\"),\" MX$\",\"\"),\".\",\"\")*1),\"\"),E49*F$2)","v":15750},{"$f":"IFERROR(IF($A49=\"\",\"\",SUBSTITUTE(SUBSTITUTE(SUBSTITUTE(INDIRECT(\"Trello!\"&ADDRESS(ROW()-1, G$1, 4)),\"Debt: \",\"\"),\" $\",\"\"),\".\",\"\")*1)*IF(E49=\"\",1,F$2),\"\")","v":0},{"$f":"IFERROR(IF($A49=\"\",\"\",SUBSTITUTE(SUBSTITUTE(SUBSTITUTE(INDIRECT(\"Trello!\"&ADDRESS(ROW()-1, H$1, 4)),\"Cost: \",\"\"),\" $\",\"\"),\".\",\"\")*1*$F$2),\"\")","v":7875},7875,{"$f":"IFERROR(SUBSTITUTE(SUBSTITUTE(SUBSTITUTE(RIGHT(INDIRECT(\"Trello!\"&ADDRESS(ROW()-1, L$1, 4)),LEN(INDIRECT(\"Trello!\"&ADDRESS(ROW()-1, L$1, 4)))-15),\". \",\"/\"),\" 20\",\"/20\"),\" \",\"\"),\"\")","v":""},{"$f":"IFERROR(SUBSTITUTE(SUBSTITUTE(SUBSTITUTE(RIGHT(INDIRECT(\"Trello!\"&ADDRESS(ROW()-1, M$1, 4)),LEN(INDIRECT(\"Trello!\"&ADDRESS(ROW()-1, M$1, 4)))-15),\". \",\"/\"),\" 20\",\"/20\"),\" \",\"\"),\"\")","v":""},"","","",{"$f":"IFERROR(SUBSTITUTE(INDIRECT(\"Trello!\"&ADDRESS(ROW()-1, O$1, 4)),\"Estimate hrs: \",\"\")*1,\"\")","v":10},{"$f":"IF(SUMIF(Timecamp!C:C,Reporte!A49,Timecamp!J:J)=0,\"\",SUMIF(Timecamp!C:C,Reporte!A49,Timecamp!J:J))","v":8.8833333333333364},-0.11166666666666636,1772.9831144465284,{"$f":"IFERROR(VLOOKUP(A49,'SLA Trab'!E:I,5,FALSE),\"\")","v":38.125},{"$f":"IFERROR(VLOOKUP(A49,'SLA Cobr'!E:I,5,FALSE),\"\")","v":2.25}]
[{"$f":"IFERROR(IF(Trello!E49=\"\",\"\",Trello!E49),\" \")","v":"Carlos Freelancer - Tarea flowchart y reporte"},{"$f":"IF($A50=\"\",\"\",IF(Trello!A49=\"\",B49,Trello!A49))","v":"Terminado"},"2023-07-06",{"$f":"IF($A50=\"\",\"\",SUBSTITUTE(SUBSTITUTE(Trello!J49,\" days\",\"\"),\"⌚ \",\"\")*1)","v":69},{"$f":"IFERROR(IF($A50=\"\",\"\",SUBSTITUTE(SUBSTITUTE(SUBSTITUTE(INDIRECT(\"Trello!\"&ADDRESS(ROW()-1, E$1, 4)),\"Foreign: \",\"\"),\" $\",\"\"),\".\",\"\")*1),\"\")","v":50},{"$f":"IF($E50=\"\",IFERROR(IF($A50=\"\",\"\",SUBSTITUTE(SUBSTITUTE(SUBSTITUTE(INDIRECT(\"Trello!\"&ADDRESS(ROW()-1, F$1, 4)),\"MXN: \",\"\"),\" MX$\",\"\"),\".\",\"\")*1),\"\"),E50*F$2)","v":875},{"$f":"IFERROR(IF($A50=\"\",\"\",SUBSTITUTE(SUBSTITUTE(SUBSTITUTE(INDIRECT(\"Trello!\"&ADDRESS(ROW()-1, G$1, 4)),\"Debt: \",\"\"),\" $\",\"\"),\".\",\"\")*1)*IF(E50=\"\",1,F$2),\"\")","v":""},{"$f":"IFERROR(IF($A50=\"\",\"\",SUBSTITUTE(SUBSTITUTE(SUBSTITUTE(INDIRECT(\"Trello!\"&ADDRESS(ROW()-1, H$1, 4)),\"Cost: \",\"\"),\" $\",\"\"),\".\",\"\")*1*$F$2),\"\")","v":0},875,{"$f":"IFERROR(SUBSTITUTE(SUBSTITUTE(SUBSTITUTE(RIGHT(INDIRECT(\"Trello!\"&ADDRESS(ROW()-1, L$1, 4)),LEN(INDIRECT(\"Trello!\"&ADDRESS(ROW()-1, L$1, 4)))-15),\". \",\"/\"),\" 20\",\"/20\"),\" \",\"\"),\"\")","v":""},{"$f":"IFERROR(SUBSTITUTE(SUBSTITUTE(SUBSTITUTE(RIGHT(INDIRECT(\"Trello!\"&ADDRESS(ROW()-1, M$1, 4)),LEN(INDIRECT(\"Trello!\"&ADDRESS(ROW()-1, M$1, 4)))-15),\". \",\"/\"),\" 20\",\"/20\"),\" \",\"\"),\"\")","v":""},"","","",{"$f":"IFERROR(SUBSTITUTE(INDIRECT(\"Trello!\"&ADDRESS(ROW()-1, O$1, 4)),\"Estimate hrs: \",\"\")*1,\"\")","v":1},{"$f":"IF(SUMIF(Timecamp!C:C,Reporte!A50,Timecamp!J:J)=0,\"\",SUMIF(Timecamp!C:C,Reporte!A50,Timecamp!J:J))","v":1.2},0.19999999999999996,729.16666666666674,{"$f":"IFERROR(VLOOKUP(A50,'SLA Trab'!E:I,5,FALSE),\"\")","v":4.1666666666666664E-2},{"$f":"IFERROR(VLOOKUP(A50,'SLA Cobr'!E:I,5,FALSE),\"\")","v":0.33333333333333331}]
[{"$f":"IFERROR(IF(Trello!E50=\"\",\"\",Trello!E50),\" \")","v":"Rodrigo Techservices - Techservices Hosting y run4you"},{"$f":"IF($A51=\"\",\"\",IF(Trello!A50=\"\",B50,Trello!A50))","v":"Terminado"},"2023-05-26",{"$f":"IF($A51=\"\",\"\",SUBSTITUTE(SUBSTITUTE(Trello!J50,\" days\",\"\"),\"⌚ \",\"\")*1)","v":110},{"$f":"IFERROR(IF($A51=\"\",\"\",SUBSTITUTE(SUBSTITUTE(SUBSTITUTE(INDIRECT(\"Trello!\"&ADDRESS(ROW()-1, E$1, 4)),\"Foreign: \",\"\"),\" $\",\"\"),\".\",\"\")*1),\"\")","v":""},{"$f":"IF($E51=\"\",IFERROR(IF($A51=\"\",\"\",SUBSTITUTE(SUBSTITUTE(SUBSTITUTE(INDIRECT(\"Trello!\"&ADDRESS(ROW()-1, F$1, 4)),\"MXN: \",\"\"),\" MX$\",\"\"),\".\",\"\")*1),\"\"),E51*F$2)","v":3000},{"$f":"IFERROR(IF($A51=\"\",\"\",SUBSTITUTE(SUBSTITUTE(SUBSTITUTE(INDIRECT(\"Trello!\"&ADDRESS(ROW()-1, G$1, 4)),\"Debt: \",\"\"),\" $\",\"\"),\".\",\"\")*1)*IF(E51=\"\",1,F$2),\"\")","v":""},{"$f":"IFERROR(IF($A51=\"\",\"\",SUBSTITUTE(SUBSTITUTE(SUBSTITUTE(INDIRECT(\"Trello!\"&ADDRESS(ROW()-1, H$1, 4)),\"Cost: \",\"\"),\" $\",\"\"),\".\",\"\")*1*$F$2),\"\")","v":""},3000,{"$f":"IFERROR(SUBSTITUTE(SUBSTITUTE(SUBSTITUTE(RIGHT(INDIRECT(\"Trello!\"&ADDRESS(ROW()-1, L$1, 4)),LEN(INDIRECT(\"Trello!\"&ADDRESS(ROW()-1, L$1, 4)))-15),\". \",\"/\"),\" 20\",\"/20\"),\" \",\"\"),\"\")","v":""},{"$f":"IFERROR(SUBSTITUTE(SUBSTITUTE(SUBSTITUTE(RIGHT(INDIRECT(\"Trello!\"&ADDRESS(ROW()-1, M$1, 4)),LEN(INDIRECT(\"Trello!\"&ADDRESS(ROW()-1, M$1, 4)))-15),\". \",\"/\"),\" 20\",\"/20\"),\" \",\"\"),\"\")","v":""},"","","",{"$f":"IFERROR(SUBSTITUTE(INDIRECT(\"Trello!\"&ADDRESS(ROW()-1, O$1, 4)),\"Estimate hrs: \",\"\")*1,\"\")","v":2},{"$f":"IF(SUMIF(Timecamp!C:C,Reporte!A51,Timecamp!J:J)=0,\"\",SUMIF(Timecamp!C:C,Reporte!A51,Timecamp!J:J))","v":1.6666666666666666E-2},-0.9916666666666667,180000,{"$f":"IFERROR(VLOOKUP(A51,'SLA Trab'!E:I,5,FALSE),\"\")","v":""},{"$f":"IFERROR(VLOOKUP(A51,'SLA Cobr'!E:I,5,FALSE),\"\")","v":""}]
[{"$f":"IFERROR(IF(Trello!E51=\"\",\"\",Trello!E51),\" \")","v":"Carlos Freelancer - Tarea API Tickers"},{"$f":"IF($A52=\"\",\"\",IF(Trello!A51=\"\",B51,Trello!A51))","v":"Terminado"},"2023-06-29",{"$f":"IF($A52=\"\",\"\",SUBSTITUTE(SUBSTITUTE(Trello!J51,\" days\",\"\"),\"⌚ \",\"\")*1)","v":76},{"$f":"IFERROR(IF($A52=\"\",\"\",SUBSTITUTE(SUBSTITUTE(SUBSTITUTE(INDIRECT(\"Trello!\"&ADDRESS(ROW()-1, E$1, 4)),\"Foreign: \",\"\"),\" $\",\"\"),\".\",\"\")*1),\"\")","v":500},{"$f":"IF($E52=\"\",IFERROR(IF($A52=\"\",\"\",SUBSTITUTE(SUBSTITUTE(SUBSTITUTE(INDIRECT(\"Trello!\"&ADDRESS(ROW()-1, F$1, 4)),\"MXN: \",\"\"),\" MX$\",\"\"),\".\",\"\")*1),\"\"),E52*F$2)","v":8750},{"$f":"IFERROR(IF($A52=\"\",\"\",SUBSTITUTE(SUBSTITUTE(SUBSTITUTE(INDIRECT(\"Trello!\"&ADDRESS(ROW()-1, G$1, 4)),\"Debt: \",\"\"),\" $\",\"\"),\".\",\"\")*1)*IF(E52=\"\",1,F$2),\"\")","v":""},{"$f":"IFERROR(IF($A52=\"\",\"\",SUBSTITUTE(SUBSTITUTE(SUBSTITUTE(INDIRECT(\"Trello!\"&ADDRESS(ROW()-1, H$1, 4)),\"Cost: \",\"\"),\" $\",\"\"),\".\",\"\")*1*$F$2),\"\")","v":""},8750,{"$f":"IFERROR(SUBSTITUTE(SUBSTITUTE(SUBSTITUTE(RIGHT(INDIRECT(\"Trello!\"&ADDRESS(ROW()-1, L$1, 4)),LEN(INDIRECT(\"Trello!\"&ADDRESS(ROW()-1, L$1, 4)))-15),\". \",\"/\"),\" 20\",\"/20\"),\" \",\"\"),\"\")","v":""},{"$f":"IFERROR(SUBSTITUTE(SUBSTITUTE(SUBSTITUTE(RIGHT(INDIRECT(\"Trello!\"&ADDRESS(ROW()-1, M$1, 4)),LEN(INDIRECT(\"Trello!\"&ADDRESS(ROW()-1, M$1, 4)))-15),\". \",\"/\"),\" 20\",\"/20\"),\" \",\"\"),\"\")","v":""},"","","",{"$f":"IFERROR(SUBSTITUTE(INDIRECT(\"Trello!\"&ADDRESS(ROW()-1, O$1, 4)),\"Estimate hrs: \",\"\")*1,\"\")","v":""},{"$f":"IF(SUMIF(Timecamp!C:C,Reporte!A52,Timecamp!J:J)=0,\"\",SUMIF(Timecamp!C:C,Reporte!A52,Timecamp!J:J))","v":13.600000000000001},"",643.38235294117635,{"$f":"IFERROR(VLOOKUP(A52,'SLA Trab'!E:I,5,FALSE),\"\")","v":0.66666666666666663},{"$f":"IFERROR(VLOOKUP(A52,'SLA Cobr'!E:I,5,FALSE),\"\")","v":2.25}]
[{"$f":"IFERROR(IF(Trello!E52=\"\",\"\",Trello!E52),\" \")","v":"Faby - PMI Ame Sitio multilang"},{"$f":"IF($A53=\"\",\"\",IF(Trello!A52=\"\",B52,Trello!A52))","v":"Terminado"},"2023-03-17",{"$f":"IF($A53=\"\",\"\",SUBSTITUTE(SUBSTITUTE(Trello!J52,\" days\",\"\"),\"⌚ \",\"\")*1)","v":180},{"$f":"IFERROR(IF($A53=\"\",\"\",SUBSTITUTE(SUBSTITUTE(SUBSTITUTE(INDIRECT(\"Trello!\"&ADDRESS(ROW()-1, E$1, 4)),\"Foreign: \",\"\"),\" $\",\"\"),\".\",\"\")*1),\"\")","v":""},{"$f":"IF($E53=\"\",IFERROR(IF($A53=\"\",\"\",SUBSTITUTE(SUBSTITUTE(SUBSTITUTE(INDIRECT(\"Trello!\"&ADDRESS(ROW()-1, F$1, 4)),\"MXN: \",\"\"),\" MX$\",\"\"),\".\",\"\")*1),\"\"),E53*F$2)","v":13000},{"$f":"IFERROR(IF($A53=\"\",\"\",SUBSTITUTE(SUBSTITUTE(SUBSTITUTE(INDIRECT(\"Trello!\"&ADDRESS(ROW()-1, G$1, 4)),\"Debt: \",\"\"),\" $\",\"\"),\".\",\"\")*1)*IF(E53=\"\",1,F$2),\"\")","v":6500},{"$f":"IFERROR(IF($A53=\"\",\"\",SUBSTITUTE(SUBSTITUTE(SUBSTITUTE(INDIRECT(\"Trello!\"&ADDRESS(ROW()-1, H$1, 4)),\"Cost: \",\"\"),\" $\",\"\"),\".\",\"\")*1*$F$2),\"\")","v":3500},9500,{"$f":"IFERROR(SUBSTITUTE(SUBSTITUTE(SUBSTITUTE(RIGHT(INDIRECT(\"Trello!\"&ADDRESS(ROW()-1, L$1, 4)),LEN(INDIRECT(\"Trello!\"&ADDRESS(ROW()-1, L$1, 4)))-15),\". \",\"/\"),\" 20\",\"/20\"),\" \",\"\"),\"\")","v":"28/Apr/2023"},{"$f":"IFERROR(SUBSTITUTE(SUBSTITUTE(SUBSTITUTE(RIGHT(INDIRECT(\"Trello!\"&ADDRESS(ROW()-1, M$1, 4)),LEN(INDIRECT(\"Trello!\"&ADDRESS(ROW()-1, M$1, 4)))-15),\". \",\"/\"),\" 20\",\"/20\"),\" \",\"\"),\"\")","v":""},"2023-04-28","","",{"$f":"IFERROR(SUBSTITUTE(INDIRECT(\"Trello!\"&ADDRESS(ROW()-1, O$1, 4)),\"Estimate hrs: \",\"\")*1,\"\")","v":10},{"$f":"IF(SUMIF(Timecamp!C:C,Reporte!A53,Timecamp!J:J)=0,\"\",SUMIF(Timecamp!C:C,Reporte!A53,Timecamp!J:J))","v":10.033333333333335},3.3333333333334103E-3,1295.6810631229234,{"$f":"IFERROR(VLOOKUP(A53,'SLA Trab'!E:I,5,FALSE),\"\")","v":32.708333333333336},{"$f":"IFERROR(VLOOKUP(A53,'SLA Cobr'!E:I,5,FALSE),\"\")","v":40}]
[{"$f":"IFERROR(IF(Trello!E53=\"\",\"\",Trello!E53),\" \")","v":"Viv Freelancer - Historic wordle"},{"$f":"IF($A54=\"\",\"\",IF(Trello!A53=\"\",B53,Trello!A53))","v":"Terminado"},"2023-06-29",{"$f":"IF($A54=\"\",\"\",SUBSTITUTE(SUBSTITUTE(Trello!J53,\" days\",\"\"),\"⌚ \",\"\")*1)","v":76},{"$f":"IFERROR(IF($A54=\"\",\"\",SUBSTITUTE(SUBSTITUTE(SUBSTITUTE(INDIRECT(\"Trello!\"&ADDRESS(ROW()-1, E$1, 4)),\"Foreign: \",\"\"),\" $\",\"\"),\".\",\"\")*1),\"\")","v":250},{"$f":"IF($E54=\"\",IFERROR(IF($A54=\"\",\"\",SUBSTITUTE(SUBSTITUTE(SUBSTITUTE(INDIRECT(\"Trello!\"&ADDRESS(ROW()-1, F$1, 4)),\"MXN: \",\"\"),\" MX$\",\"\"),\".\",\"\")*1),\"\"),E54*F$2)","v":4375},{"$f":"IFERROR(IF($A54=\"\",\"\",SUBSTITUTE(SUBSTITUTE(SUBSTITUTE(INDIRECT(\"Trello!\"&ADDRESS(ROW()-1, G$1, 4)),\"Debt: \",\"\"),\" $\",\"\"),\".\",\"\")*1)*IF(E54=\"\",1,F$2),\"\")","v":2187.5},{"$f":"IFERROR(IF($A54=\"\",\"\",SUBSTITUTE(SUBSTITUTE(SUBSTITUTE(INDIRECT(\"Trello!\"&ADDRESS(ROW()-1, H$1, 4)),\"Cost: \",\"\"),\" $\",\"\"),\".\",\"\")*1*$F$2),\"\")","v":""},4375,{"$f":"IFERROR(SUBSTITUTE(SUBSTITUTE(SUBSTITUTE(RIGHT(INDIRECT(\"Trello!\"&ADDRESS(ROW()-1, L$1, 4)),LEN(INDIRECT(\"Trello!\"&ADDRESS(ROW()-1, L$1, 4)))-15),\". \",\"/\"),\" 20\",\"/20\"),\" \",\"\"),\"\")","v":""},{"$f":"IFERROR(SUBSTITUTE(SUBSTITUTE(SUBSTITUTE(RIGHT(INDIRECT(\"Trello!\"&ADDRESS(ROW()-1, M$1, 4)),LEN(INDIRECT(\"Trello!\"&ADDRESS(ROW()-1, M$1, 4)))-15),\". \",\"/\"),\" 20\",\"/20\"),\" \",\"\"),\"\")","v":""},"","","",{"$f":"IFERROR(SUBSTITUTE(INDIRECT(\"Trello!\"&ADDRESS(ROW()-1, O$1, 4)),\"Estimate hrs: \",\"\")*1,\"\")","v":""},{"$f":"IF(SUMIF(Timecamp!C:C,Reporte!A54,Timecamp!J:J)=0,\"\",SUMIF(Timecamp!C:C,Reporte!A54,Timecamp!J:J))","v":5.1166666666666663},"",855.04885993485345,{"$f":"IFERROR(VLOOKUP(A54,'SLA Trab'!E:I,5,FALSE),\"\")","v":4.1666666666666664E-2},{"$f":"IFERROR(VLOOKUP(A54,'SLA Cobr'!E:I,5,FALSE),\"\")","v":0.95833333333333337}]
[{"$f":"IFERROR(IF(Trello!E54=\"\",\"\",Trello!E54),\" \")","v":"Faby - Candywax Depilaciones"},{"$f":"IF($A55=\"\",\"\",IF(Trello!A54=\"\",B54,Trello!A54))","v":"Terminado"},"2023-01-19",{"$f":"IF($A55=\"\",\"\",SUBSTITUTE(SUBSTITUTE(Trello!J54,\" days\",\"\"),\"⌚ \",\"\")*1)","v":237},{"$f":"IFERROR(IF($A55=\"\",\"\",SUBSTITUTE(SUBSTITUTE(SUBSTITUTE(INDIRECT(\"Trello!\"&ADDRESS(ROW()-1, E$1, 4)),\"Foreign: \",\"\"),\" $\",\"\"),\".\",\"\")*1),\"\")","v":""},{"$f":"IF($E55=\"\",IFERROR(IF($A55=\"\",\"\",SUBSTITUTE(SUBSTITUTE(SUBSTITUTE(INDIRECT(\"Trello!\"&ADDRESS(ROW()-1, F$1, 4)),\"MXN: \",\"\"),\" MX$\",\"\"),\".\",\"\")*1),\"\"),E55*F$2)","v":12000},{"$f":"IFERROR(IF($A55=\"\",\"\",SUBSTITUTE(SUBSTITUTE(SUBSTITUTE(INDIRECT(\"Trello!\"&ADDRESS(ROW()-1, G$1, 4)),\"Debt: \",\"\"),\" $\",\"\"),\".\",\"\")*1)*IF(E55=\"\",1,F$2),\"\")","v":7000},{"$f":"IFERROR(IF($A55=\"\",\"\",SUBSTITUTE(SUBSTITUTE(SUBSTITUTE(INDIRECT(\"Trello!\"&ADDRESS(ROW()-1, H$1, 4)),\"Cost: \",\"\"),\" $\",\"\"),\".\",\"\")*1*$F$2),\"\")","v":""},12000,{"$f":"IFERROR(SUBSTITUTE(SUBSTITUTE(SUBSTITUTE(RIGHT(INDIRECT(\"Trello!\"&ADDRESS(ROW()-1, L$1, 4)),LEN(INDIRECT(\"Trello!\"&ADDRESS(ROW()-1, L$1, 4)))-15),\". \",\"/\"),\" 20\",\"/20\"),\" \",\"\"),\"\")","v":"28/Feb/2023"},{"$f":"IFERROR(SUBSTITUTE(SUBSTITUTE(SUBSTITUTE(RIGHT(INDIRECT(\"Trello!\"&ADDRESS(ROW()-1, M$1, 4)),LEN(INDIRECT(\"Trello!\"&ADDRESS(ROW()-1, M$1, 4)))-15),\". \",\"/\"),\" 20\",\"/20\"),\" \",\"\"),\"\")","v":"8/März/2023"},"2023-02-28","2023-03-08",-8,{"$f":"IFERROR(SUBSTITUTE(INDIRECT(\"Trello!\"&ADDRESS(ROW()-1, O$1, 4)),\"Estimate hrs: \",\"\")*1,\"\")","v":""},{"$f":"IF(SUMIF(Timecamp!C:C,Reporte!A55,Timecamp!J:J)=0,\"\",SUMIF(Timecamp!C:C,Reporte!A55,Timecamp!J:J))","v":3.3166666666666669},"",3618.0904522613064,{"$f":"IFERROR(VLOOKUP(A55,'SLA Trab'!E:I,5,FALSE),\"\")","v":""},{"$f":"IFERROR(VLOOKUP(A55,'SLA Cobr'!E:I,5,FALSE),\"\")","v":99.208333333333329}]
[{"$f":"IFERROR(IF(Trello!E55=\"\",\"\",Trello!E55),\" \")","v":"Mama Madhu - prestamo"},{"$f":"IF($A56=\"\",\"\",IF(Trello!A55=\"\",B55,Trello!A55))","v":"Terminado"},"2023-04-15",{"$f":"IF($A56=\"\",\"\",SUBSTITUTE(SUBSTITUTE(Trello!J55,\" days\",\"\"),\"⌚ \",\"\")*1)","v":151},{"$f":"IFERROR(IF($A56=\"\",\"\",SUBSTITUTE(SUBSTITUTE(SUBSTITUTE(INDIRECT(\"Trello!\"&ADDRESS(ROW()-1, E$1, 4)),\"Foreign: \",\"\"),\" $\",\"\"),\".\",\"\")*1),\"\")","v":""},{"$f":"IF($E56=\"\",IFERROR(IF($A56=\"\",\"\",SUBSTITUTE(SUBSTITUTE(SUBSTITUTE(INDIRECT(\"Trello!\"&ADDRESS(ROW()-1, F$1, 4)),\"MXN: \",\"\"),\" MX$\",\"\"),\".\",\"\")*1),\"\"),E56*F$2)","v":6000},{"$f":"IFERROR(IF($A56=\"\",\"\",SUBSTITUTE(SUBSTITUTE(SUBSTITUTE(INDIRECT(\"Trello!\"&ADDRESS(ROW()-1, G$1, 4)),\"Debt: \",\"\"),\" $\",\"\"),\".\",\"\")*1)*IF(E56=\"\",1,F$2),\"\")","v":-400},{"$f":"IFERROR(IF($A56=\"\",\"\",SUBSTITUTE(SUBSTITUTE(SUBSTITUTE(INDIRECT(\"Trello!\"&ADDRESS(ROW()-1, H$1, 4)),\"Cost: \",\"\"),\" $\",\"\"),\".\",\"\")*1*$F$2),\"\")","v":""},6000,{"$f":"IFERROR(SUBSTITUTE(SUBSTITUTE(SUBSTITUTE(RIGHT(INDIRECT(\"Trello!\"&ADDRESS(ROW()-1, L$1, 4)),LEN(INDIRECT(\"Trello!\"&ADDRESS(ROW()-1, L$1, 4)))-15),\". \",\"/\"),\" 20\",\"/20\"),\" \",\"\"),\"\")","v":""},{"$f":"IFERROR(SUBSTITUTE(SUBSTITUTE(SUBSTITUTE(RIGHT(INDIRECT(\"Trello!\"&ADDRESS(ROW()-1, M$1, 4)),LEN(INDIRECT(\"Trello!\"&ADDRESS(ROW()-1, M$1, 4)))-15),\". \",\"/\"),\" 20\",\"/20\"),\" \",\"\"),\"\")","v":""},"","","",{"$f":"IFERROR(SUBSTITUTE(INDIRECT(\"Trello!\"&ADDRESS(ROW()-1, O$1, 4)),\"Estimate hrs: \",\"\")*1,\"\")","v":""},{"$f":"IF(SUMIF(Timecamp!C:C,Reporte!A56,Timecamp!J:J)=0,\"\",SUMIF(Timecamp!C:C,Reporte!A56,Timecamp!J:J))","v":1.0166666666666666},"",5901.6393442622957,{"$f":"IFERROR(VLOOKUP(A56,'SLA Trab'!E:I,5,FALSE),\"\")","v":""},{"$f":"IFERROR(VLOOKUP(A56,'SLA Cobr'!E:I,5,FALSE),\"\")","v":67.083333333333329}]
[{"$f":"IFERROR(IF(Trello!E56=\"\",\"\",Trello!E56),\" \")","v":"Eduardo Freelancer - Inmobiliaria Cambios php pura"},{"$f":"IF($A57=\"\",\"\",IF(Trello!A56=\"\",B56,Trello!A56))","v":"Terminado"},"2023-02-01",{"$f":"IF($A57=\"\",\"\",SUBSTITUTE(SUBSTITUTE(Trello!J56,\" days\",\"\"),\"⌚ \",\"\")*1)","v":224},{"$f":"IFERROR(IF($A57=\"\",\"\",SUBSTITUTE(SUBSTITUTE(SUBSTITUTE(INDIRECT(\"Trello!\"&ADDRESS(ROW()-1, E$1, 4)),\"Foreign: \",\"\"),\" $\",\"\"),\".\",\"\")*1),\"\")","v":500},{"$f":"IF($E57=\"\",IFERROR(IF($A57=\"\",\"\",SUBSTITUTE(SUBSTITUTE(SUBSTITUTE(INDIRECT(\"Trello!\"&ADDRESS(ROW()-1, F$1, 4)),\"MXN: \",\"\"),\" MX$\",\"\"),\".\",\"\")*1),\"\"),E57*F$2)","v":8750},{"$f":"IFERROR(IF($A57=\"\",\"\",SUBSTITUTE(SUBSTITUTE(SUBSTITUTE(INDIRECT(\"Trello!\"&ADDRESS(ROW()-1, G$1, 4)),\"Debt: \",\"\"),\" $\",\"\"),\".\",\"\")*1)*IF(E57=\"\",1,F$2),\"\")","v":0},{"$f":"IFERROR(IF($A57=\"\",\"\",SUBSTITUTE(SUBSTITUTE(SUBSTITUTE(INDIRECT(\"Trello!\"&ADDRESS(ROW()-1, H$1, 4)),\"Cost: \",\"\"),\" $\",\"\"),\".\",\"\")*1*$F$2),\"\")","v":3500},5250,{"$f":"IFERROR(SUBSTITUTE(SUBSTITUTE(SUBSTITUTE(RIGHT(INDIRECT(\"Trello!\"&ADDRESS(ROW()-1, L$1, 4)),LEN(INDIRECT(\"Trello!\"&ADDRESS(ROW()-1, L$1, 4)))-15),\". \",\"/\"),\" 20\",\"/20\"),\" \",\"\"),\"\")","v":""},{"$f":"IFERROR(SUBSTITUTE(SUBSTITUTE(SUBSTITUTE(RIGHT(INDIRECT(\"Trello!\"&ADDRESS(ROW()-1, M$1, 4)),LEN(INDIRECT(\"Trello!\"&ADDRESS(ROW()-1, M$1, 4)))-15),\". \",\"/\"),\" 20\",\"/20\"),\" \",\"\"),\"\")","v":""},"","","",{"$f":"IFERROR(SUBSTITUTE(INDIRECT(\"Trello!\"&ADDRESS(ROW()-1, O$1, 4)),\"Estimate hrs: \",\"\")*1,\"\")","v":""},{"$f":"IF(SUMIF(Timecamp!C:C,Reporte!A57,Timecamp!J:J)=0,\"\",SUMIF(Timecamp!C:C,Reporte!A57,Timecamp!J:J))","v":7.7166666666666659},"",1133.9092872570195,{"$f":"IFERROR(VLOOKUP(A57,'SLA Trab'!E:I,5,FALSE),\"\")","v":16.958333333333332},{"$f":"IFERROR(VLOOKUP(A57,'SLA Cobr'!E:I,5,FALSE),\"\")","v":11.25}]
[{"$f":"IFERROR(IF(Trello!E57=\"\",\"\",Trello!E57),\" \")","v":"Emilio pinturas arreglar su sitio"},{"$f":"IF($A58=\"\",\"\",IF(Trello!A57=\"\",B57,Trello!A57))","v":"Terminado"},"2023-06-15",{"$f":"IF($A58=\"\",\"\",SUBSTITUTE(SUBSTITUTE(Trello!J57,\" days\",\"\"),\"⌚ \",\"\")*1)","v":90},{"$f":"IFERROR(IF($A58=\"\",\"\",SUBSTITUTE(SUBSTITUTE(SUBSTITUTE(INDIRECT(\"Trello!\"&ADDRESS(ROW()-1, E$1, 4)),\"Foreign: \",\"\"),\" $\",\"\"),\".\",\"\")*1),\"\")","v":35},{"$f":"IF($E58=\"\",IFERROR(IF($A58=\"\",\"\",SUBSTITUTE(SUBSTITUTE(SUBSTITUTE(INDIRECT(\"Trello!\"&ADDRESS(ROW()-1, F$1, 4)),\"MXN: \",\"\"),\" MX$\",\"\"),\".\",\"\")*1),\"\"),E58*F$2)","v":612.5},{"$f":"IFERROR(IF($A58=\"\",\"\",SUBSTITUTE(SUBSTITUTE(SUBSTITUTE(INDIRECT(\"Trello!\"&ADDRESS(ROW()-1, G$1, 4)),\"Debt: \",\"\"),\" $\",\"\"),\".\",\"\")*1)*IF(E58=\"\",1,F$2),\"\")","v":""},{"$f":"IFERROR(IF($A58=\"\",\"\",SUBSTITUTE(SUBSTITUTE(SUBSTITUTE(INDIRECT(\"Trello!\"&ADDRESS(ROW()-1, H$1, 4)),\"Cost: \",\"\"),\" $\",\"\"),\".\",\"\")*1*$F$2),\"\")","v":""},612.5,{"$f":"IFERROR(SUBSTITUTE(SUBSTITUTE(SUBSTITUTE(RIGHT(INDIRECT(\"Trello!\"&ADDRESS(ROW()-1, L$1, 4)),LEN(INDIRECT(\"Trello!\"&ADDRESS(ROW()-1, L$1, 4)))-15),\". \",\"/\"),\" 20\",\"/20\"),\" \",\"\"),\"\")","v":""},{"$f":"IFERROR(SUBSTITUTE(SUBSTITUTE(SUBSTITUTE(RIGHT(INDIRECT(\"Trello!\"&ADDRESS(ROW()-1, M$1, 4)),LEN(INDIRECT(\"Trello!\"&ADDRESS(ROW()-1, M$1, 4)))-15),\". \",\"/\"),\" 20\",\"/20\"),\" \",\"\"),\"\")","v":""},"","","",{"$f":"IFERROR(SUBSTITUTE(INDIRECT(\"Trello!\"&ADDRESS(ROW()-1, O$1, 4)),\"Estimate hrs: \",\"\")*1,\"\")","v":""},{"$f":"IF(SUMIF(Timecamp!C:C,Reporte!A58,Timecamp!J:J)=0,\"\",SUMIF(Timecamp!C:C,Reporte!A58,Timecamp!J:J))","v":0.6333333333333333},"",967.1052631578948,{"$f":"IFERROR(VLOOKUP(A58,'SLA Trab'!E:I,5,FALSE),\"\")","v":4.1666666666666664E-2},{"$f":"IFERROR(VLOOKUP(A58,'SLA Cobr'!E:I,5,FALSE),\"\")","v":4.1666666666666664E-2}]
[{"$f":"IFERROR(IF(Trello!E58=\"\",\"\",Trello!E58),\" \")","v":"Gary Hydracheck - Quote page makeup"},{"$f":"IF($A59=\"\",\"\",IF(Trello!A58=\"\",B58,Trello!A58))","v":"Terminado"},"2023-05-21",{"$f":"IF($A59=\"\",\"\",SUBSTITUTE(SUBSTITUTE(Trello!J58,\" days\",\"\"),\"⌚ \",\"\")*1)","v":115},{"$f":"IFERROR(IF($A59=\"\",\"\",SUBSTITUTE(SUBSTITUTE(SUBSTITUTE(INDIRECT(\"Trello!\"&ADDRESS(ROW()-1, E$1, 4)),\"Foreign: \",\"\"),\" $\",\"\"),\".\",\"\")*1),\"\")","v":200},{"$f":"IF($E59=\"\",IFERROR(IF($A59=\"\",\"\",SUBSTITUTE(SUBSTITUTE(SUBSTITUTE(INDIRECT(\"Trello!\"&ADDRESS(ROW()-1, F$1, 4)),\"MXN: \",\"\"),\" MX$\",\"\"),\".\",\"\")*1),\"\"),E59*F$2)","v":3500},{"$f":"IFERROR(IF($A59=\"\",\"\",SUBSTITUTE(SUBSTITUTE(SUBSTITUTE(INDIRECT(\"Trello!\"&ADDRESS(ROW()-1, G$1, 4)),\"Debt: \",\"\"),\" $\",\"\"),\".\",\"\")*1)*IF(E59=\"\",1,F$2),\"\")","v":""},{"$f":"IFERROR(IF($A59=\"\",\"\",SUBSTITUTE(SUBSTITUTE(SUBSTITUTE(INDIRECT(\"Trello!\"&ADDRESS(ROW()-1, H$1, 4)),\"Cost: \",\"\"),\" $\",\"\"),\".\",\"\")*1*$F$2),\"\")","v":1400},2100,{"$f":"IFERROR(SUBSTITUTE(SUBSTITUTE(SUBSTITUTE(RIGHT(INDIRECT(\"Trello!\"&ADDRESS(ROW()-1, L$1, 4)),LEN(INDIRECT(\"Trello!\"&ADDRESS(ROW()-1, L$1, 4)))-15),\". \",\"/\"),\" 20\",\"/20\"),\" \",\"\"),\"\")","v":""},{"$f":"IFERROR(SUBSTITUTE(SUBSTITUTE(SUBSTITUTE(RIGHT(INDIRECT(\"Trello!\"&ADDRESS(ROW()-1, M$1, 4)),LEN(INDIRECT(\"Trello!\"&ADDRESS(ROW()-1, M$1, 4)))-15),\". \",\"/\"),\" 20\",\"/20\"),\" \",\"\"),\"\")","v":""},"","","",{"$f":"IFERROR(SUBSTITUTE(INDIRECT(\"Trello!\"&ADDRESS(ROW()-1, O$1, 4)),\"Estimate hrs: \",\"\")*1,\"\")","v":""},{"$f":"IF(SUMIF(Timecamp!C:C,Reporte!A59,Timecamp!J:J)=0,\"\",SUMIF(Timecamp!C:C,Reporte!A59,Timecamp!J:J))","v":5.8333333333333321},"",600.00000000000011,{"$f":"IFERROR(VLOOKUP(A59,'SLA Trab'!E:I,5,FALSE),\"\")","v":""},{"$f":"IFERROR(VLOOKUP(A59,'SLA Cobr'!E:I,5,FALSE),\"\")","v":""}]
[{"$f":"IFERROR(IF(Trello!E59=\"\",\"\",Trello!E59),\" \")","v":"Viv Freelancer - Soporte anual $200"},{"$f":"IF($A60=\"\",\"\",IF(Trello!A59=\"\",B59,Trello!A59))","v":"Terminado"},"2023-06-09",{"$f":"IF($A60=\"\",\"\",SUBSTITUTE(SUBSTITUTE(Trello!J59,\" days\",\"\"),\"⌚ \",\"\")*1)","v":96},{"$f":"IFERROR(IF($A60=\"\",\"\",SUBSTITUTE(SUBSTITUTE(SUBSTITUTE(INDIRECT(\"Trello!\"&ADDRESS(ROW()-1, E$1, 4)),\"Foreign: \",\"\"),\" $\",\"\"),\".\",\"\")*1),\"\")","v":230},{"$f":"IF($E60=\"\",IFERROR(IF($A60=\"\",\"\",SUBSTITUTE(SUBSTITUTE(SUBSTITUTE(INDIRECT(\"Trello!\"&ADDRESS(ROW()-1, F$1, 4)),\"MXN: \",\"\"),\" MX$\",\"\"),\".\",\"\")*1),\"\"),E60*F$2)","v":4025},{"$f":"IFERROR(IF($A60=\"\",\"\",SUBSTITUTE(SUBSTITUTE(SUBSTITUTE(INDIRECT(\"Trello!\"&ADDRESS(ROW()-1, G$1, 4)),\"Debt: \",\"\"),\" $\",\"\"),\".\",\"\")*1)*IF(E60=\"\",1,F$2),\"\")","v":""},{"$f":"IFERROR(IF($A60=\"\",\"\",SUBSTITUTE(SUBSTITUTE(SUBSTITUTE(INDIRECT(\"Trello!\"&ADDRESS(ROW()-1, H$1, 4)),\"Cost: \",\"\"),\" $\",\"\"),\".\",\"\")*1*$F$2),\"\")","v":""},4025,{"$f":"IFERROR(SUBSTITUTE(SUBSTITUTE(SUBSTITUTE(RIGHT(INDIRECT(\"Trello!\"&ADDRESS(ROW()-1, L$1, 4)),LEN(INDIRECT(\"Trello!\"&ADDRESS(ROW()-1, L$1, 4)))-15),\". \",\"/\"),\" 20\",\"/20\"),\" \",\"\"),\"\")","v":""},{"$f":"IFERROR(SUBSTITUTE(SUBSTITUTE(SUBSTITUTE(RIGHT(INDIRECT(\"Trello!\"&ADDRESS(ROW()-1, M$1, 4)),LEN(INDIRECT(\"Trello!\"&ADDRESS(ROW()-1, M$1, 4)))-15),\". \",\"/\"),\" 20\",\"/20\"),\" \",\"\"),\"\")","v":""},"","","",{"$f":"IFERROR(SUBSTITUTE(INDIRECT(\"Trello!\"&ADDRESS(ROW()-1, O$1, 4)),\"Estimate hrs: \",\"\")*1,\"\")","v":""},{"$f":"IF(SUMIF(Timecamp!C:C,Reporte!A60,Timecamp!J:J)=0,\"\",SUMIF(Timecamp!C:C,Reporte!A60,Timecamp!J:J))","v":10.116666666666669},"",397.85831960461275,{"$f":"IFERROR(VLOOKUP(A60,'SLA Trab'!E:I,5,FALSE),\"\")","v":4.1666666666666664E-2},{"$f":"IFERROR(VLOOKUP(A60,'SLA Cobr'!E:I,5,FALSE),\"\")","v":4.1666666666666664E-2}]
[{"$f":"IFERROR(IF(Trello!E60=\"\",\"\",Trello!E60),\" \")","v":"Daren freelancer - nuevo form precisemd"},{"$f":"IF($A61=\"\",\"\",IF(Trello!A60=\"\",B60,Trello!A60))","v":"Terminado"},"2023-05-24",{"$f":"IF($A61=\"\",\"\",SUBSTITUTE(SUBSTITUTE(Trello!J60,\" days\",\"\"),\"⌚ \",\"\")*1)","v":112},{"$f":"IFERROR(IF($A61=\"\",\"\",SUBSTITUTE(SUBSTITUTE(SUBSTITUTE(INDIRECT(\"Trello!\"&ADDRESS(ROW()-1, E$1, 4)),\"Foreign: \",\"\"),\" $\",\"\"),\".\",\"\")*1),\"\")","v":250},{"$f":"IF($E61=\"\",IFERROR(IF($A61=\"\",\"\",SUBSTITUTE(SUBSTITUTE(SUBSTITUTE(INDIRECT(\"Trello!\"&ADDRESS(ROW()-1, F$1, 4)),\"MXN: \",\"\"),\" MX$\",\"\"),\".\",\"\")*1),\"\"),E61*F$2)","v":4375},{"$f":"IFERROR(IF($A61=\"\",\"\",SUBSTITUTE(SUBSTITUTE(SUBSTITUTE(INDIRECT(\"Trello!\"&ADDRESS(ROW()-1, G$1, 4)),\"Debt: \",\"\"),\" $\",\"\"),\".\",\"\")*1)*IF(E61=\"\",1,F$2),\"\")","v":""},{"$f":"IFERROR(IF($A61=\"\",\"\",SUBSTITUTE(SUBSTITUTE(SUBSTITUTE(INDIRECT(\"Trello!\"&ADDRESS(ROW()-1, H$1, 4)),\"Cost: \",\"\"),\" $\",\"\"),\".\",\"\")*1*$F$2),\"\")","v":525},3850,{"$f":"IFERROR(SUBSTITUTE(SUBSTITUTE(SUBSTITUTE(RIGHT(INDIRECT(\"Trello!\"&ADDRESS(ROW()-1, L$1, 4)),LEN(INDIRECT(\"Trello!\"&ADDRESS(ROW()-1, L$1, 4)))-15),\". \",\"/\"),\" 20\",\"/20\"),\" \",\"\"),\"\")","v":""},{"$f":"IFERROR(SUBSTITUTE(SUBSTITUTE(SUBSTITUTE(RIGHT(INDIRECT(\"Trello!\"&ADDRESS(ROW()-1, M$1, 4)),LEN(INDIRECT(\"Trello!\"&ADDRESS(ROW()-1, M$1, 4)))-15),\". \",\"/\"),\" 20\",\"/20\"),\" \",\"\"),\"\")","v":""},"","","",{"$f":"IFERROR(SUBSTITUTE(INDIRECT(\"Trello!\"&ADDRESS(ROW()-1, O$1, 4)),\"Estimate hrs: \",\"\")*1,\"\")","v":""},{"$f":"IF(SUMIF(Timecamp!C:C,Reporte!A61,Timecamp!J:J)=0,\"\",SUMIF(Timecamp!C:C,Reporte!A61,Timecamp!J:J))","v":8.8166666666666664},"",496.21928166351609,{"$f":"IFERROR(VLOOKUP(A61,'SLA Trab'!E:I,5,FALSE),\"\")","v":12.833333333333334},{"$f":"IFERROR(VLOOKUP(A61,'SLA Cobr'!E:I,5,FALSE),\"\")","v":2}]
[{"$f":"IFERROR(IF(Trello!E61=\"\",\"\",Trello!E61),\" \")","v":"Viv Freelancer - Ecommerce Wordle"},{"$f":"IF($A62=\"\",\"\",IF(Trello!A61=\"\",B61,Trello!A61))","v":"Terminado"},"2023-03-22",{"$f":"IF($A62=\"\",\"\",SUBSTITUTE(SUBSTITUTE(Trello!J61,\" days\",\"\"),\"⌚ \",\"\")*1)","v":175},{"$f":"IFERROR(IF($A62=\"\",\"\",SUBSTITUTE(SUBSTITUTE(SUBSTITUTE(INDIRECT(\"Trello!\"&ADDRESS(ROW()-1, E$1, 4)),\"Foreign: \",\"\"),\" $\",\"\"),\".\",\"\")*1),\"\")","v":885},{"$f":"IF($E62=\"\",IFERROR(IF($A62=\"\",\"\",SUBSTITUTE(SUBSTITUTE(SUBSTITUTE(INDIRECT(\"Trello!\"&ADDRESS(ROW()-1, F$1, 4)),\"MXN: \",\"\"),\" MX$\",\"\"),\".\",\"\")*1),\"\"),E62*F$2)","v":15487.5},{"$f":"IFERROR(IF($A62=\"\",\"\",SUBSTITUTE(SUBSTITUTE(SUBSTITUTE(INDIRECT(\"Trello!\"&ADDRESS(ROW()-1, G$1, 4)),\"Debt: \",\"\"),\" $\",\"\"),\".\",\"\")*1)*IF(E62=\"\",1,F$2),\"\")","v":0},{"$f":"IFERROR(IF($A62=\"\",\"\",SUBSTITUTE(SUBSTITUTE(SUBSTITUTE(INDIRECT(\"Trello!\"&ADDRESS(ROW()-1, H$1, 4)),\"Cost: \",\"\"),\" $\",\"\"),\".\",\"\")*1*$F$2),\"\")","v":""},15487.5,{"$f":"IFERROR(SUBSTITUTE(SUBSTITUTE(SUBSTITUTE(RIGHT(INDIRECT(\"Trello!\"&ADDRESS(ROW()-1, L$1, 4)),LEN(INDIRECT(\"Trello!\"&ADDRESS(ROW()-1, L$1, 4)))-15),\". \",\"/\"),\" 20\",\"/20\"),\" \",\"\"),\"\")","v":"12/Apr/2023"},{"$f":"IFERROR(SUBSTITUTE(SUBSTITUTE(SUBSTITUTE(RIGHT(INDIRECT(\"Trello!\"&ADDRESS(ROW()-1, M$1, 4)),LEN(INDIRECT(\"Trello!\"&ADDRESS(ROW()-1, M$1, 4)))-15),\". \",\"/\"),\" 20\",\"/20\"),\" \",\"\"),\"\")","v":""},"2023-04-12","","",{"$f":"IFERROR(SUBSTITUTE(INDIRECT(\"Trello!\"&ADDRESS(ROW()-1, O$1, 4)),\"Estimate hrs: \",\"\")*1,\"\")","v":20},{"$f":"IF(SUMIF(Timecamp!C:C,Reporte!A62,Timecamp!J:J)=0,\"\",SUMIF(Timecamp!C:C,Reporte!A62,Timecamp!J:J))","v":21.016666666666673},5.083333333333373E-2,736.91514670896095,{"$f":"IFERROR(VLOOKUP(A62,'SLA Trab'!E:I,5,FALSE),\"\")","v":21.791666666666668},{"$f":"IFERROR(VLOOKUP(A62,'SLA Cobr'!E:I,5,FALSE),\"\")","v":47.5}]
[{"$f":"IFERROR(IF(Trello!E62=\"\",\"\",Trello!E62),\" \")","v":"Miguel Bullkens - B2B Nuevo Exchange"},{"$f":"IF($A63=\"\",\"\",IF(Trello!A62=\"\",B62,Trello!A62))","v":"Terminado"},"2023-01-17",{"$f":"IF($A63=\"\",\"\",SUBSTITUTE(SUBSTITUTE(Trello!J62,\" days\",\"\"),\"⌚ \",\"\")*1)","v":239},{"$f":"IFERROR(IF($A63=\"\",\"\",SUBSTITUTE(SUBSTITUTE(SUBSTITUTE(INDIRECT(\"Trello!\"&ADDRESS(ROW()-1, E$1, 4)),\"Foreign: \",\"\"),\" $\",\"\"),\".\",\"\")*1),\"\")","v":650},{"$f":"IF($E63=\"\",IFERROR(IF($A63=\"\",\"\",SUBSTITUTE(SUBSTITUTE(SUBSTITUTE(INDIRECT(\"Trello!\"&ADDRESS(ROW()-1, F$1, 4)),\"MXN: \",\"\"),\" MX$\",\"\"),\".\",\"\")*1),\"\"),E63*F$2)","v":11375},{"$f":"IFERROR(IF($A63=\"\",\"\",SUBSTITUTE(SUBSTITUTE(SUBSTITUTE(INDIRECT(\"Trello!\"&ADDRESS(ROW()-1, G$1, 4)),\"Debt: \",\"\"),\" $\",\"\"),\".\",\"\")*1)*IF(E63=\"\",1,F$2),\"\")","v":6125},{"$f":"IFERROR(IF($A63=\"\",\"\",SUBSTITUTE(SUBSTITUTE(SUBSTITUTE(INDIRECT(\"Trello!\"&ADDRESS(ROW()-1, H$1, 4)),\"Cost: \",\"\"),\" $\",\"\"),\".\",\"\")*1*$F$2),\"\")","v":""},11375,{"$f":"IFERROR(SUBSTITUTE(SUBSTITUTE(SUBSTITUTE(RIGHT(INDIRECT(\"Trello!\"&ADDRESS(ROW()-1, L$1, 4)),LEN(INDIRECT(\"Trello!\"&ADDRESS(ROW()-1, L$1, 4)))-15),\". \",\"/\"),\" 20\",\"/20\"),\" \",\"\"),\"\")","v":"17/Feb/2023"},{"$f":"IFERROR(SUBSTITUTE(SUBSTITUTE(SUBSTITUTE(RIGHT(INDIRECT(\"Trello!\"&ADDRESS(ROW()-1, M$1, 4)),LEN(INDIRECT(\"Trello!\"&ADDRESS(ROW()-1, M$1, 4)))-15),\". \",\"/\"),\" 20\",\"/20\"),\" \",\"\"),\"\")","v":""},"2023-02-17","","",{"$f":"IFERROR(SUBSTITUTE(INDIRECT(\"Trello!\"&ADDRESS(ROW()-1, O$1, 4)),\"Estimate hrs: \",\"\")*1,\"\")","v":5},{"$f":"IF(SUMIF(Timecamp!C:C,Reporte!A63,Timecamp!J:J)=0,\"\",SUMIF(Timecamp!C:C,Reporte!A63,Timecamp!J:J))","v":2.8},-0.44000000000000006,4062.5000000000005,{"$f":"IFERROR(VLOOKUP(A63,'SLA Trab'!E:I,5,FALSE),\"\")","v":8.3333333333333329E-2},{"$f":"IFERROR(VLOOKUP(A63,'SLA Cobr'!E:I,5,FALSE),\"\")","v":68.416666666666671}]
[{"$f":"IFERROR(IF(Trello!E63=\"\",\"\",Trello!E63),\" \")","v":"Yamel - renovación Konditorhusset 2023"},{"$f":"IF($A64=\"\",\"\",IF(Trello!A63=\"\",B63,Trello!A63))","v":"Terminado"},"2023-05-26",{"$f":"IF($A64=\"\",\"\",SUBSTITUTE(SUBSTITUTE(Trello!J63,\" days\",\"\"),\"⌚ \",\"\")*1)","v":110},{"$f":"IFERROR(IF($A64=\"\",\"\",SUBSTITUTE(SUBSTITUTE(SUBSTITUTE(INDIRECT(\"Trello!\"&ADDRESS(ROW()-1, E$1, 4)),\"Foreign: \",\"\"),\" $\",\"\"),\".\",\"\")*1),\"\")","v":""},{"$f":"IF($E64=\"\",IFERROR(IF($A64=\"\",\"\",SUBSTITUTE(SUBSTITUTE(SUBSTITUTE(INDIRECT(\"Trello!\"&ADDRESS(ROW()-1, F$1, 4)),\"MXN: \",\"\"),\" MX$\",\"\"),\".\",\"\")*1),\"\"),E64*F$2)","v":2000},{"$f":"IFERROR(IF($A64=\"\",\"\",SUBSTITUTE(SUBSTITUTE(SUBSTITUTE(INDIRECT(\"Trello!\"&ADDRESS(ROW()-1, G$1, 4)),\"Debt: \",\"\"),\" $\",\"\"),\".\",\"\")*1)*IF(E64=\"\",1,F$2),\"\")","v":""},{"$f":"IFERROR(IF($A64=\"\",\"\",SUBSTITUTE(SUBSTITUTE(SUBSTITUTE(INDIRECT(\"Trello!\"&ADDRESS(ROW()-1, H$1, 4)),\"Cost: \",\"\"),\" $\",\"\"),\".\",\"\")*1*$F$2),\"\")","v":""},2000,{"$f":"IFERROR(SUBSTITUTE(SUBSTITUTE(SUBSTITUTE(RIGHT(INDIRECT(\"Trello!\"&ADDRESS(ROW()-1, L$1, 4)),LEN(INDIRECT(\"Trello!\"&ADDRESS(ROW()-1, L$1, 4)))-15),\". \",\"/\"),\" 20\",\"/20\"),\" \",\"\"),\"\")","v":""},{"$f":"IFERROR(SUBSTITUTE(SUBSTITUTE(SUBSTITUTE(RIGHT(INDIRECT(\"Trello!\"&ADDRESS(ROW()-1, M$1, 4)),LEN(INDIRECT(\"Trello!\"&ADDRESS(ROW()-1, M$1, 4)))-15),\". \",\"/\"),\" 20\",\"/20\"),\" \",\"\"),\"\")","v":""},"","","",{"$f":"IFERROR(SUBSTITUTE(INDIRECT(\"Trello!\"&ADDRESS(ROW()-1, O$1, 4)),\"Estimate hrs: \",\"\")*1,\"\")","v":""},{"$f":"IF(SUMIF(Timecamp!C:C,Reporte!A64,Timecamp!J:J)=0,\"\",SUMIF(Timecamp!C:C,Reporte!A64,Timecamp!J:J))","v":""},"","",{"$f":"IFERROR(VLOOKUP(A64,'SLA Trab'!E:I,5,FALSE),\"\")","v":0},{"$f":"IFERROR(VLOOKUP(A64,'SLA Cobr'!E:I,5,FALSE),\"\")","v":0.45833333333333331}]
[{"$f":"IFERROR(IF(Trello!E64=\"\",\"\",Trello!E64),\" \")","v":"Viv Freelancer - hosting migration"},{"$f":"IF($A65=\"\",\"\",IF(Trello!A64=\"\",B64,Trello!A64))","v":"Terminado"},"2023-05-21",{"$f":"IF($A65=\"\",\"\",SUBSTITUTE(SUBSTITUTE(Trello!J64,\" days\",\"\"),\"⌚ \",\"\")*1)","v":115},{"$f":"IFERROR(IF($A65=\"\",\"\",SUBSTITUTE(SUBSTITUTE(SUBSTITUTE(INDIRECT(\"Trello!\"&ADDRESS(ROW()-1, E$1, 4)),\"Foreign: \",\"\"),\" $\",\"\"),\".\",\"\")*1),\"\")","v":400},{"$f":"IF($E65=\"\",IFERROR(IF($A65=\"\",\"\",SUBSTITUTE(SUBSTITUTE(SUBSTITUTE(INDIRECT(\"Trello!\"&ADDRESS(ROW()-1, F$1, 4)),\"MXN: \",\"\"),\" MX$\",\"\"),\".\",\"\")*1),\"\"),E65*F$2)","v":7000},{"$f":"IFERROR(IF($A65=\"\",\"\",SUBSTITUTE(SUBSTITUTE(SUBSTITUTE(INDIRECT(\"Trello!\"&ADDRESS(ROW()-1, G$1, 4)),\"Debt: \",\"\"),\" $\",\"\"),\".\",\"\")*1)*IF(E65=\"\",1,F$2),\"\")","v":""},{"$f":"IFERROR(IF($A65=\"\",\"\",SUBSTITUTE(SUBSTITUTE(SUBSTITUTE(INDIRECT(\"Trello!\"&ADDRESS(ROW()-1, H$1, 4)),\"Cost: \",\"\"),\" $\",\"\"),\".\",\"\")*1*$F$2),\"\")","v":""},7000,{"$f":"IFERROR(SUBSTITUTE(SUBSTITUTE(SUBSTITUTE(RIGHT(INDIRECT(\"Trello!\"&ADDRESS(ROW()-1, L$1, 4)),LEN(INDIRECT(\"Trello!\"&ADDRESS(ROW()-1, L$1, 4)))-15),\". \",\"/\"),\" 20\",\"/20\"),\" \",\"\"),\"\")","v":""},{"$f":"IFERROR(SUBSTITUTE(SUBSTITUTE(SUBSTITUTE(RIGHT(INDIRECT(\"Trello!\"&ADDRESS(ROW()-1, M$1, 4)),LEN(INDIRECT(\"Trello!\"&ADDRESS(ROW()-1, M$1, 4)))-15),\". \",\"/\"),\" 20\",\"/20\"),\" \",\"\"),\"\")","v":""},"","","",{"$f":"IFERROR(SUBSTITUTE(INDIRECT(\"Trello!\"&ADDRESS(ROW()-1, O$1, 4)),\"Estimate hrs: \",\"\")*1,\"\")","v":3},{"$f":"IF(SUMIF(Timecamp!C:C,Reporte!A65,Timecamp!J:J)=0,\"\",SUMIF(Timecamp!C:C,Reporte!A65,Timecamp!J:J))","v":6.2833333333333314},1.0944444444444437,1114.058355437666,{"$f":"IFERROR(VLOOKUP(A65,'SLA Trab'!E:I,5,FALSE),\"\")","v":3.625},{"$f":"IFERROR(VLOOKUP(A65,'SLA Cobr'!E:I,5,FALSE),\"\")","v":0.16666666666666666}]
[{"$f":"IFERROR(IF(Trello!E65=\"\",\"\",Trello!E65),\" \")","v":"Xavier Bobby - Itel plugins desactivar"},{"$f":"IF($A66=\"\",\"\",IF(Trello!A65=\"\",B65,Trello!A65))","v":"Terminado"},"2023-04-14",{"$f":"IF($A66=\"\",\"\",SUBSTITUTE(SUBSTITUTE(Trello!J65,\" days\",\"\"),\"⌚ \",\"\")*1)","v":152},{"$f":"IFERROR(IF($A66=\"\",\"\",SUBSTITUTE(SUBSTITUTE(SUBSTITUTE(INDIRECT(\"Trello!\"&ADDRESS(ROW()-1, E$1, 4)),\"Foreign: \",\"\"),\" $\",\"\"),\".\",\"\")*1),\"\")","v":35},{"$f":"IF($E66=\"\",IFERROR(IF($A66=\"\",\"\",SUBSTITUTE(SUBSTITUTE(SUBSTITUTE(INDIRECT(\"Trello!\"&ADDRESS(ROW()-1, F$1, 4)),\"MXN: \",\"\"),\" MX$\",\"\"),\".\",\"\")*1),\"\"),E66*F$2)","v":612.5},{"$f":"IFERROR(IF($A66=\"\",\"\",SUBSTITUTE(SUBSTITUTE(SUBSTITUTE(INDIRECT(\"Trello!\"&ADDRESS(ROW()-1, G$1, 4)),\"Debt: \",\"\"),\" $\",\"\"),\".\",\"\")*1)*IF(E66=\"\",1,F$2),\"\")","v":612.5},{"$f":"IFERROR(IF($A66=\"\",\"\",SUBSTITUTE(SUBSTITUTE(SUBSTITUTE(INDIRECT(\"Trello!\"&ADDRESS(ROW()-1, H$1, 4)),\"Cost: \",\"\"),\" $\",\"\"),\".\",\"\")*1*$F$2),\"\")","v":""},612.5,{"$f":"IFERROR(SUBSTITUTE(SUBSTITUTE(SUBSTITUTE(RIGHT(INDIRECT(\"Trello!\"&ADDRESS(ROW()-1, L$1, 4)),LEN(INDIRECT(\"Trello!\"&ADDRESS(ROW()-1, L$1, 4)))-15),\". \",\"/\"),\" 20\",\"/20\"),\" \",\"\"),\"\")","v":""},{"$f":"IFERROR(SUBSTITUTE(SUBSTITUTE(SUBSTITUTE(RIGHT(INDIRECT(\"Trello!\"&ADDRESS(ROW()-1, M$1, 4)),LEN(INDIRECT(\"Trello!\"&ADDRESS(ROW()-1, M$1, 4)))-15),\". \",\"/\"),\" 20\",\"/20\"),\" \",\"\"),\"\")","v":""},"","","",{"$f":"IFERROR(SUBSTITUTE(INDIRECT(\"Trello!\"&ADDRESS(ROW()-1, O$1, 4)),\"Estimate hrs: \",\"\")*1,\"\")","v":""},{"$f":"IF(SUMIF(Timecamp!C:C,Reporte!A66,Timecamp!J:J)=0,\"\",SUMIF(Timecamp!C:C,Reporte!A66,Timecamp!J:J))","v":2.4000000000000004},"",255.20833333333329,{"$f":"IFERROR(VLOOKUP(A66,'SLA Trab'!E:I,5,FALSE),\"\")","v":""},{"$f":"IFERROR(VLOOKUP(A66,'SLA Cobr'!E:I,5,FALSE),\"\")","v":40.75}]
[{"$f":"IFERROR(IF(Trello!E66=\"\",\"\",Trello!E66),\" \")","v":"Pablo Nanofactura - Soporte errores"},{"$f":"IF($A67=\"\",\"\",IF(Trello!A66=\"\",B66,Trello!A66))","v":"Terminado"},"2023-05-11",{"$f":"IF($A67=\"\",\"\",SUBSTITUTE(SUBSTITUTE(Trello!J66,\" days\",\"\"),\"⌚ \",\"\")*1)","v":125},{"$f":"IFERROR(IF($A67=\"\",\"\",SUBSTITUTE(SUBSTITUTE(SUBSTITUTE(INDIRECT(\"Trello!\"&ADDRESS(ROW()-1, E$1, 4)),\"Foreign: \",\"\"),\" $\",\"\"),\".\",\"\")*1),\"\")","v":""},{"$f":"IF($E67=\"\",IFERROR(IF($A67=\"\",\"\",SUBSTITUTE(SUBSTITUTE(SUBSTITUTE(INDIRECT(\"Trello!\"&ADDRESS(ROW()-1, F$1, 4)),\"MXN: \",\"\"),\" MX$\",\"\"),\".\",\"\")*1),\"\"),E67*F$2)","v":2100},{"$f":"IFERROR(IF($A67=\"\",\"\",SUBSTITUTE(SUBSTITUTE(SUBSTITUTE(INDIRECT(\"Trello!\"&ADDRESS(ROW()-1, G$1, 4)),\"Debt: \",\"\"),\" $\",\"\"),\".\",\"\")*1)*IF(E67=\"\",1,F$2),\"\")","v":2100},{"$f":"IFERROR(IF($A67=\"\",\"\",SUBSTITUTE(SUBSTITUTE(SUBSTITUTE(INDIRECT(\"Trello!\"&ADDRESS(ROW()-1, H$1, 4)),\"Cost: \",\"\"),\" $\",\"\"),\".\",\"\")*1*$F$2),\"\")","v":""},2100,{"$f":"IFERROR(SUBSTITUTE(SUBSTITUTE(SUBSTITUTE(RIGHT(INDIRECT(\"Trello!\"&ADDRESS(ROW()-1, L$1, 4)),LEN(INDIRECT(\"Trello!\"&ADDRESS(ROW()-1, L$1, 4)))-15),\". \",\"/\"),\" 20\",\"/20\"),\" \",\"\"),\"\")","v":""},{"$f":"IFERROR(SUBSTITUTE(SUBSTITUTE(SUBSTITUTE(RIGHT(INDIRECT(\"Trello!\"&ADDRESS(ROW()-1, M$1, 4)),LEN(INDIRECT(\"Trello!\"&ADDRESS(ROW()-1, M$1, 4)))-15),\". \",\"/\"),\" 20\",\"/20\"),\" \",\"\"),\"\")","v":""},"","","",{"$f":"IFERROR(SUBSTITUTE(INDIRECT(\"Trello!\"&ADDRESS(ROW()-1, O$1, 4)),\"Estimate hrs: \",\"\")*1,\"\")","v":3},{"$f":"IF(SUMIF(Timecamp!C:C,Reporte!A67,Timecamp!J:J)=0,\"\",SUMIF(Timecamp!C:C,Reporte!A67,Timecamp!J:J))","v":5.3833333333333329},{"$f":"IF(AND(O67>0,P67>0,O67<>\"\",P67<>\"\"),(P67/O67)-1,\"\")","v":0.79444444444444429},{"$f":"IF(OR(P67=\"\",F67=\"\"),\"\",F67/P67)","v":390.092879256966},{"$f":"IFERROR(VLOOKUP(A67,'SLA Trab'!E:I,5,FALSE),\"\")","v":0.79166666666666663},{"$f":"IFERROR(VLOOKUP(A67,'SLA Cobr'!E:I,5,FALSE),\"\")","v":13.125}]
[{"$f":"IFERROR(IF(Trello!E67=\"\",\"\",Trello!E67),\" \")","v":"Diana Inlat - Rehacer Ingeurbe"},{"$f":"IF($A68=\"\",\"\",IF(Trello!A67=\"\",B67,Trello!A67))","v":"Terminado"},{"$f":"IF($A68=\"\",\"\",TODAY()-D68)","v":"2023-03-01"},{"$f":"IF($A68=\"\",\"\",SUBSTITUTE(SUBSTITUTE(Trello!J67,\" days\",\"\"),\"⌚ \",\"\")*1)","v":196},{"$f":"IFERROR(IF($A68=\"\",\"\",SUBSTITUTE(SUBSTITUTE(SUBSTITUTE(INDIRECT(\"Trello!\"&ADDRESS(ROW()-1, E$1, 4)),\"Foreign: \",\"\"),\" $\",\"\"),\".\",\"\")*1),\"\")","v":1000},{"$f":"IF($E68=\"\",IFERROR(IF($A68=\"\",\"\",SUBSTITUTE(SUBSTITUTE(SUBSTITUTE(INDIRECT(\"Trello!\"&ADDRESS(ROW()-1, F$1, 4)),\"MXN: \",\"\"),\" MX$\",\"\"),\".\",\"\")*1),\"\"),E68*F$2)","v":17500},{"$f":"IFERROR(IF($A68=\"\",\"\",SUBSTITUTE(SUBSTITUTE(SUBSTITUTE(INDIRECT(\"Trello!\"&ADDRESS(ROW()-1, G$1, 4)),\"Debt: \",\"\"),\" $\",\"\"),\".\",\"\")*1)*IF(E68=\"\",1,F$2),\"\")","v":11375},{"$f":"IFERROR(IF($A68=\"\",\"\",SUBSTITUTE(SUBSTITUTE(SUBSTITUTE(INDIRECT(\"Trello!\"&ADDRESS(ROW()-1, H$1, 4)),\"Cost: \",\"\"),\" $\",\"\"),\".\",\"\")*1*$F$2),\"\")","v":4375},13125,{"$f":"IFERROR(SUBSTITUTE(SUBSTITUTE(SUBSTITUTE(RIGHT(INDIRECT(\"Trello!\"&ADDRESS(ROW()-1, L$1, 4)),LEN(INDIRECT(\"Trello!\"&ADDRESS(ROW()-1, L$1, 4)))-15),\". \",\"/\"),\" 20\",\"/20\"),\" \",\"\"),\"\")","v":"21/Apr/2023"},{"$f":"IFERROR(SUBSTITUTE(SUBSTITUTE(SUBSTITUTE(RIGHT(INDIRECT(\"Trello!\"&ADDRESS(ROW()-1, M$1, 4)),LEN(INDIRECT(\"Trello!\"&ADDRESS(ROW()-1, M$1, 4)))-15),\". \",\"/\"),\" 20\",\"/20\"),\" \",\"\"),\"\")","v":""},"2023-04-21","","",{"$f":"IFERROR(SUBSTITUTE(INDIRECT(\"Trello!\"&ADDRESS(ROW()-1, O$1, 4)),\"Estimate hrs: \",\"\")*1,\"\")","v":15},{"$f":"IF(SUMIF(Timecamp!C:C,Reporte!A68,Timecamp!J:J)=0,\"\",SUMIF(Timecamp!C:C,Reporte!A68,Timecamp!J:J))","v":55.633333333333312},2.7088888888888873,314.55961653684852,{"$f":"IFERROR(VLOOKUP(A68,'SLA Trab'!E:I,5,FALSE),\"\")","v":51.916666666666664},{"$f":"IFERROR(VLOOKUP(A68,'SLA Cobr'!E:I,5,FALSE),\"\")","v":0}]
[{"$f":"IFERROR(IF(Trello!E68=\"\",\"\",Trello!E68),\" \")","v":"Pablo Nanofactura - Con IVA o sin IVA premium function global"},{"$f":"IF($A69=\"\",\"\",IF(Trello!A68=\"\",B68,Trello!A68))","v":"Terminado"},"2023-04-21",{"$f":"IF($A69=\"\",\"\",SUBSTITUTE(SUBSTITUTE(Trello!J68,\" days\",\"\"),\"⌚ \",\"\")*1)","v":145},{"$f":"IFERROR(IF($A69=\"\",\"\",SUBSTITUTE(SUBSTITUTE(SUBSTITUTE(INDIRECT(\"Trello!\"&ADDRESS(ROW()-1, E$1, 4)),\"Foreign: \",\"\"),\" $\",\"\"),\".\",\"\")*1),\"\")","v":""},{"$f":"IF($E69=\"\",IFERROR(IF($A69=\"\",\"\",SUBSTITUTE(SUBSTITUTE(SUBSTITUTE(INDIRECT(\"Trello!\"&ADDRESS(ROW()-1, F$1, 4)),\"MXN: \",\"\"),\" MX$\",\"\"),\".\",\"\")*1),\"\"),E69*F$2)","v":""},{"$f":"IFERROR(IF($A69=\"\",\"\",SUBSTITUTE(SUBSTITUTE(SUBSTITUTE(INDIRECT(\"Trello!\"&ADDRESS(ROW()-1, G$1, 4)),\"Debt: \",\"\"),\" $\",\"\"),\".\",\"\")*1)*IF(E69=\"\",1,F$2),\"\")","v":""},{"$f":"IFERROR(IF($A69=\"\",\"\",SUBSTITUTE(SUBSTITUTE(SUBSTITUTE(INDIRECT(\"Trello!\"&ADDRESS(ROW()-1, H$1, 4)),\"Cost: \",\"\"),\" $\",\"\"),\".\",\"\")*1*$F$2),\"\")","v":""},{"$f":"IF(OR(F69=\"\",H69=\"\"),F69,F69-H69)","v":""},{"$f":"IFERROR(SUBSTITUTE(SUBSTITUTE(SUBSTITUTE(RIGHT(INDIRECT(\"Trello!\"&ADDRESS(ROW()-1, L$1, 4)),LEN(INDIRECT(\"Trello!\"&ADDRESS(ROW()-1, L$1, 4)))-15),\". \",\"/\"),\" 20\",\"/20\"),\" \",\"\"),\"\")","v":""},{"$f":"IFERROR(SUBSTITUTE(SUBSTITUTE(SUBSTITUTE(RIGHT(INDIRECT(\"Trello!\"&ADDRESS(ROW()-1, M$1, 4)),LEN(INDIRECT(\"Trello!\"&ADDRESS(ROW()-1, M$1, 4)))-15),\". \",\"/\"),\" 20\",\"/20\"),\" \",\"\"),\"\")","v":""},"","","",{"$f":"IFERROR(SUBSTITUTE(INDIRECT(\"Trello!\"&ADDRESS(ROW()-1, O$1, 4)),\"Estimate hrs: \",\"\")*1,\"\")","v":""},{"$f":"IF(SUMIF(Timecamp!C:C,Reporte!A69,Timecamp!J:J)=0,\"\",SUMIF(Timecamp!C:C,Reporte!A69,Timecamp!J:J))","v":4.3166666666666664},"","",{"$f":"IFERROR(VLOOKUP(A69,'SLA Trab'!E:I,5,FALSE),\"\")","v":3.3333333333333335},{"$f":"IFERROR(VLOOKUP(A69,'SLA Cobr'!E:I,5,FALSE),\"\")","v":0.79166666666666663}]
[{"$f":"IFERROR(IF(Trello!E69=\"\",\"\",Trello!E69),\" \")","v":"Rodrigo Techservices - WP Run4u"},{"$f":"IF($A70=\"\",\"\",IF(Trello!A69=\"\",B69,Trello!A69))","v":"Terminado"},"2023-03-31",{"$f":"IF($A70=\"\",\"\",SUBSTITUTE(SUBSTITUTE(Trello!J69,\" days\",\"\"),\"⌚ \",\"\")*1)","v":166},{"$f":"IFERROR(IF($A70=\"\",\"\",SUBSTITUTE(SUBSTITUTE(SUBSTITUTE(INDIRECT(\"Trello!\"&ADDRESS(ROW()-1, E$1, 4)),\"Foreign: \",\"\"),\" $\",\"\"),\".\",\"\")*1),\"\")","v":""},{"$f":"IF($E70=\"\",IFERROR(IF($A70=\"\",\"\",SUBSTITUTE(SUBSTITUTE(SUBSTITUTE(INDIRECT(\"Trello!\"&ADDRESS(ROW()-1, F$1, 4)),\"MXN: \",\"\"),\" MX$\",\"\"),\".\",\"\")*1),\"\"),E70*F$2)","v":350},{"$f":"IFERROR(IF($A70=\"\",\"\",SUBSTITUTE(SUBSTITUTE(SUBSTITUTE(INDIRECT(\"Trello!\"&ADDRESS(ROW()-1, G$1, 4)),\"Debt: \",\"\"),\" $\",\"\"),\".\",\"\")*1)*IF(E70=\"\",1,F$2),\"\")","v":""},{"$f":"IFERROR(IF($A70=\"\",\"\",SUBSTITUTE(SUBSTITUTE(SUBSTITUTE(INDIRECT(\"Trello!\"&ADDRESS(ROW()-1, H$1, 4)),\"Cost: \",\"\"),\" $\",\"\"),\".\",\"\")*1*$F$2),\"\")","v":""},350,{"$f":"IFERROR(SUBSTITUTE(SUBSTITUTE(SUBSTITUTE(RIGHT(INDIRECT(\"Trello!\"&ADDRESS(ROW()-1, L$1, 4)),LEN(INDIRECT(\"Trello!\"&ADDRESS(ROW()-1, L$1, 4)))-15),\". \",\"/\"),\" 20\",\"/20\"),\" \",\"\"),\"\")","v":""},{"$f":"IFERROR(SUBSTITUTE(SUBSTITUTE(SUBSTITUTE(RIGHT(INDIRECT(\"Trello!\"&ADDRESS(ROW()-1, M$1, 4)),LEN(INDIRECT(\"Trello!\"&ADDRESS(ROW()-1, M$1, 4)))-15),\". \",\"/\"),\" 20\",\"/20\"),\" \",\"\"),\"\")","v":""},"","","",{"$f":"IFERROR(SUBSTITUTE(INDIRECT(\"Trello!\"&ADDRESS(ROW()-1, O$1, 4)),\"Estimate hrs: \",\"\")*1,\"\")","v":""},{"$f":"IF(SUMIF(Timecamp!C:C,Reporte!A70,Timecamp!J:J)=0,\"\",SUMIF(Timecamp!C:C,Reporte!A70,Timecamp!J:J))","v":0.35},"",1000.0000000000001,{"$f":"IFERROR(VLOOKUP(A70,'SLA Trab'!E:I,5,FALSE),\"\")","v":4.1666666666666664E-2},{"$f":"IFERROR(VLOOKUP(A70,'SLA Cobr'!E:I,5,FALSE),\"\")","v":32.791666666666664}]
[{"$f":"IFERROR(IF(Trello!E70=\"\",\"\",Trello!E70),\" \")","v":"Gary Hydracheck New Checkout quitar maquillaje viejo"},{"$f":"IF($A71=\"\",\"\",IF(Trello!A70=\"\",B70,Trello!A70))","v":"Terminado"},{"$f":"IF($A71=\"\",\"\",TODAY()-D71)","v":"2023-04-26"},{"$f":"IF($A71=\"\",\"\",SUBSTITUTE(SUBSTITUTE(Trello!J70,\" days\",\"\"),\"⌚ \",\"\")*1)","v":140},{"$f":"IFERROR(IF($A71=\"\",\"\",SUBSTITUTE(SUBSTITUTE(SUBSTITUTE(INDIRECT(\"Trello!\"&ADDRESS(ROW()-1, E$1, 4)),\"Foreign: \",\"\"),\" $\",\"\"),\".\",\"\")*1),\"\")","v":200},{"$f":"IF($E71=\"\",IFERROR(IF($A71=\"\",\"\",SUBSTITUTE(SUBSTITUTE(SUBSTITUTE(INDIRECT(\"Trello!\"&ADDRESS(ROW()-1, F$1, 4)),\"MXN: \",\"\"),\" MX$\",\"\"),\".\",\"\")*1),\"\"),E71*F$2)","v":3500},{"$f":"IFERROR(IF($A71=\"\",\"\",SUBSTITUTE(SUBSTITUTE(SUBSTITUTE(INDIRECT(\"Trello!\"&ADDRESS(ROW()-1, G$1, 4)),\"Debt: \",\"\"),\" $\",\"\"),\".\",\"\")*1)*IF(E71=\"\",1,F$2),\"\")","v":0},{"$f":"IFERROR(IF($A71=\"\",\"\",SUBSTITUTE(SUBSTITUTE(SUBSTITUTE(INDIRECT(\"Trello!\"&ADDRESS(ROW()-1, H$1, 4)),\"Cost: \",\"\"),\" $\",\"\"),\".\",\"\")*1*$F$2),\"\")","v":""},3500,{"$f":"IFERROR(SUBSTITUTE(SUBSTITUTE(SUBSTITUTE(RIGHT(INDIRECT(\"Trello!\"&ADDRESS(ROW()-1, L$1, 4)),LEN(INDIRECT(\"Trello!\"&ADDRESS(ROW()-1, L$1, 4)))-15),\". \",\"/\"),\" 20\",\"/20\"),\" \",\"\"),\"\")","v":"5/Mai/2023"},{"$f":"IFERROR(SUBSTITUTE(SUBSTITUTE(SUBSTITUTE(RIGHT(INDIRECT(\"Trello!\"&ADDRESS(ROW()-1, M$1, 4)),LEN(INDIRECT(\"Trello!\"&ADDRESS(ROW()-1, M$1, 4)))-15),\". \",\"/\"),\" 20\",\"/20\"),\" \",\"\"),\"\")","v":"3/Mai/2023"},"2023-05-05","2023-05-03",2,{"$f":"IFERROR(SUBSTITUTE(INDIRECT(\"Trello!\"&ADDRESS(ROW()-1, O$1, 4)),\"Estimate hrs: \",\"\")*1,\"\")","v":""},{"$f":"IF(SUMIF(Timecamp!C:C,Reporte!A71,Timecamp!J:J)=0,\"\",SUMIF(Timecamp!C:C,Reporte!A71,Timecamp!J:J))","v":8.6333333333333311},"",405.40540540540553,{"$f":"IFERROR(VLOOKUP(A71,'SLA Trab'!E:I,5,FALSE),\"\")","v":27.791666666666668},{"$f":"IFERROR(VLOOKUP(A71,'SLA Cobr'!E:I,5,FALSE),\"\")","v":""}]
[{"$f":"IFERROR(IF(Trello!E71=\"\",\"\",Trello!E71),\" \")","v":"Gustavo Freelancer - Cambios pag ITESM"},{"$f":"IF($A72=\"\",\"\",IF(Trello!A71=\"\",B71,Trello!A71))","v":"Terminado"},"2023-01-18",{"$f":"IF($A72=\"\",\"\",SUBSTITUTE(SUBSTITUTE(Trello!J71,\" days\",\"\"),\"⌚ \",\"\")*1)","v":238},{"$f":"IFERROR(IF($A72=\"\",\"\",SUBSTITUTE(SUBSTITUTE(SUBSTITUTE(INDIRECT(\"Trello!\"&ADDRESS(ROW()-1, E$1, 4)),\"Foreign: \",\"\"),\" $\",\"\"),\".\",\"\")*1),\"\")","v":""},{"$f":"IF($E72=\"\",IFERROR(IF($A72=\"\",\"\",SUBSTITUTE(SUBSTITUTE(SUBSTITUTE(INDIRECT(\"Trello!\"&ADDRESS(ROW()-1, F$1, 4)),\"MXN: \",\"\"),\" MX$\",\"\"),\".\",\"\")*1),\"\"),E72*F$2)","v":2750},{"$f":"IFERROR(IF($A72=\"\",\"\",SUBSTITUTE(SUBSTITUTE(SUBSTITUTE(INDIRECT(\"Trello!\"&ADDRESS(ROW()-1, G$1, 4)),\"Debt: \",\"\"),\" $\",\"\"),\".\",\"\")*1)*IF(E72=\"\",1,F$2),\"\")","v":1125},{"$f":"IFERROR(IF($A72=\"\",\"\",SUBSTITUTE(SUBSTITUTE(SUBSTITUTE(INDIRECT(\"Trello!\"&ADDRESS(ROW()-1, H$1, 4)),\"Cost: \",\"\"),\" $\",\"\"),\".\",\"\")*1*$F$2),\"\")","v":""},2750,{"$f":"IFERROR(SUBSTITUTE(SUBSTITUTE(SUBSTITUTE(RIGHT(INDIRECT(\"Trello!\"&ADDRESS(ROW()-1, L$1, 4)),LEN(INDIRECT(\"Trello!\"&ADDRESS(ROW()-1, L$1, 4)))-15),\". \",\"/\"),\" 20\",\"/20\"),\" \",\"\"),\"\")","v":"24/Jan/2023"},{"$f":"IFERROR(SUBSTITUTE(SUBSTITUTE(SUBSTITUTE(RIGHT(INDIRECT(\"Trello!\"&ADDRESS(ROW()-1, M$1, 4)),LEN(INDIRECT(\"Trello!\"&ADDRESS(ROW()-1, M$1, 4)))-15),\". \",\"/\"),\" 20\",\"/20\"),\" \",\"\"),\"\")","v":"26/Jan/2023"},"2023-01-24","2023-01-26",-2,{"$f":"IFERROR(SUBSTITUTE(INDIRECT(\"Trello!\"&ADDRESS(ROW()-1, O$1, 4)),\"Estimate hrs: \",\"\")*1,\"\")","v":""},{"$f":"IF(SUMIF(Timecamp!C:C,Reporte!A72,Timecamp!J:J)=0,\"\",SUMIF(Timecamp!C:C,Reporte!A72,Timecamp!J:J))","v":2.4166666666666665},"",1137.9310344827586,{"$f":"IFERROR(VLOOKUP(A72,'SLA Trab'!E:I,5,FALSE),\"\")","v":""},{"$f":"IFERROR(VLOOKUP(A72,'SLA Cobr'!E:I,5,FALSE),\"\")","v":75.75}]
[{"$f":"IFERROR(IF(Trello!E72=\"\",\"\",Trello!E72),\" \")","v":"Pablo Nanofactura - Nuevo Diseño y nueva API"},{"$f":"IF($A73=\"\",\"\",IF(Trello!A72=\"\",B72,Trello!A72))","v":"Terminado"},"2023-02-13",{"$f":"IF($A73=\"\",\"\",SUBSTITUTE(SUBSTITUTE(Trello!J72,\" days\",\"\"),\"⌚ \",\"\")*1)","v":212},{"$f":"IFERROR(IF($A73=\"\",\"\",SUBSTITUTE(SUBSTITUTE(SUBSTITUTE(INDIRECT(\"Trello!\"&ADDRESS(ROW()-1, E$1, 4)),\"Foreign: \",\"\"),\" $\",\"\"),\".\",\"\")*1),\"\")","v":""},{"$f":"IF($E73=\"\",IFERROR(IF($A73=\"\",\"\",SUBSTITUTE(SUBSTITUTE(SUBSTITUTE(INDIRECT(\"Trello!\"&ADDRESS(ROW()-1, F$1, 4)),\"MXN: \",\"\"),\" MX$\",\"\"),\".\",\"\")*1),\"\"),E73*F$2)","v":11000},{"$f":"IFERROR(IF($A73=\"\",\"\",SUBSTITUTE(SUBSTITUTE(SUBSTITUTE(INDIRECT(\"Trello!\"&ADDRESS(ROW()-1, G$1, 4)),\"Debt: \",\"\"),\" $\",\"\"),\".\",\"\")*1)*IF(E73=\"\",1,F$2),\"\")","v":3300},{"$f":"IFERROR(IF($A73=\"\",\"\",SUBSTITUTE(SUBSTITUTE(SUBSTITUTE(INDIRECT(\"Trello!\"&ADDRESS(ROW()-1, H$1, 4)),\"Cost: \",\"\"),\" $\",\"\"),\".\",\"\")*1*$F$2),\"\")","v":""},11000,{"$f":"IFERROR(SUBSTITUTE(SUBSTITUTE(SUBSTITUTE(RIGHT(INDIRECT(\"Trello!\"&ADDRESS(ROW()-1, L$1, 4)),LEN(INDIRECT(\"Trello!\"&ADDRESS(ROW()-1, L$1, 4)))-15),\". \",\"/\"),\" 20\",\"/20\"),\" \",\"\"),\"\")","v":"24/Feb/2023"},{"$f":"IFERROR(SUBSTITUTE(SUBSTITUTE(SUBSTITUTE(RIGHT(INDIRECT(\"Trello!\"&ADDRESS(ROW()-1, M$1, 4)),LEN(INDIRECT(\"Trello!\"&ADDRESS(ROW()-1, M$1, 4)))-15),\". \",\"/\"),\" 20\",\"/20\"),\" \",\"\"),\"\")","v":"4/Apr/2023"},"2023-02-24","2023-04-04",-39,{"$f":"IFERROR(SUBSTITUTE(INDIRECT(\"Trello!\"&ADDRESS(ROW()-1, O$1, 4)),\"Estimate hrs: \",\"\")*1,\"\")","v":25},{"$f":"IF(SUMIF(Timecamp!C:C,Reporte!A73,Timecamp!J:J)=0,\"\",SUMIF(Timecamp!C:C,Reporte!A73,Timecamp!J:J))","v":0.05},-0.998,220000,{"$f":"IFERROR(VLOOKUP(A73,'SLA Trab'!E:I,5,FALSE),\"\")","v":4.1666666666666664E-2},{"$f":"IFERROR(VLOOKUP(A73,'SLA Cobr'!E:I,5,FALSE),\"\")","v":19.708333333333332}]
[{"$f":"IFERROR(IF(Trello!E73=\"\",\"\",Trello!E73),\" \")","v":"Emilio Pinturas - bug lotes"},{"$f":"IF($A74=\"\",\"\",IF(Trello!A73=\"\",B73,Trello!A73))","v":"Terminado"},"2023-04-04",{"$f":"IF($A74=\"\",\"\",SUBSTITUTE(SUBSTITUTE(Trello!J73,\" days\",\"\"),\"⌚ \",\"\")*1)","v":162},{"$f":"IFERROR(IF($A74=\"\",\"\",SUBSTITUTE(SUBSTITUTE(SUBSTITUTE(INDIRECT(\"Trello!\"&ADDRESS(ROW()-1, E$1, 4)),\"Foreign: \",\"\"),\" $\",\"\"),\".\",\"\")*1),\"\")","v":30},{"$f":"IF($E74=\"\",IFERROR(IF($A74=\"\",\"\",SUBSTITUTE(SUBSTITUTE(SUBSTITUTE(INDIRECT(\"Trello!\"&ADDRESS(ROW()-1, F$1, 4)),\"MXN: \",\"\"),\" MX$\",\"\"),\".\",\"\")*1),\"\"),E74*F$2)","v":525},{"$f":"IFERROR(IF($A74=\"\",\"\",SUBSTITUTE(SUBSTITUTE(SUBSTITUTE(INDIRECT(\"Trello!\"&ADDRESS(ROW()-1, G$1, 4)),\"Debt: \",\"\"),\" $\",\"\"),\".\",\"\")*1)*IF(E74=\"\",1,F$2),\"\")","v":""},{"$f":"IFERROR(IF($A74=\"\",\"\",SUBSTITUTE(SUBSTITUTE(SUBSTITUTE(INDIRECT(\"Trello!\"&ADDRESS(ROW()-1, H$1, 4)),\"Cost: \",\"\"),\" $\",\"\"),\".\",\"\")*1*$F$2),\"\")","v":""},525,{"$f":"IFERROR(SUBSTITUTE(SUBSTITUTE(SUBSTITUTE(RIGHT(INDIRECT(\"Trello!\"&ADDRESS(ROW()-1, L$1, 4)),LEN(INDIRECT(\"Trello!\"&ADDRESS(ROW()-1, L$1, 4)))-15),\". \",\"/\"),\" 20\",\"/20\"),\" \",\"\"),\"\")","v":""},{"$f":"IFERROR(SUBSTITUTE(SUBSTITUTE(SUBSTITUTE(RIGHT(INDIRECT(\"Trello!\"&ADDRESS(ROW()-1, M$1, 4)),LEN(INDIRECT(\"Trello!\"&ADDRESS(ROW()-1, M$1, 4)))-15),\". \",\"/\"),\" 20\",\"/20\"),\" \",\"\"),\"\")","v":""},"","",{"$f":"IF(AND(L74>0,M74>0,L74<>\"\",M74<>\"\"),L74-M74,\"\")","v":""},{"$f":"IFERROR(SUBSTITUTE(INDIRECT(\"Trello!\"&ADDRESS(ROW()-1, O$1, 4)),\"Estimate hrs: \",\"\")*1,\"\")","v":""},{"$f":"IF(SUMIF(Timecamp!C:C,Reporte!A74,Timecamp!J:J)=0,\"\",SUMIF(Timecamp!C:C,Reporte!A74,Timecamp!J:J))","v":""},"","",{"$f":"IFERROR(VLOOKUP(A74,'SLA Trab'!E:I,5,FALSE),\"\")","v":4.1666666666666664E-2},{"$f":"IFERROR(VLOOKUP(A74,'SLA Cobr'!E:I,5,FALSE),\"\")","v":1.7916666666666667}]
[{"$f":"IFERROR(IF(Trello!E74=\"\",\"\",Trello!E74),\" \")","v":"Xavier Bobby - Itel y Movitel Landings"},{"$f":"IF($A75=\"\",\"\",IF(Trello!A74=\"\",B74,Trello!A74))","v":"Terminado"},"2022-12-27",{"$f":"IF($A75=\"\",\"\",SUBSTITUTE(SUBSTITUTE(Trello!J74,\" days\",\"\"),\"⌚ \",\"\")*1)","v":260},{"$f":"IFERROR(IF($A75=\"\",\"\",SUBSTITUTE(SUBSTITUTE(SUBSTITUTE(INDIRECT(\"Trello!\"&ADDRESS(ROW()-1, E$1, 4)),\"Foreign: \",\"\"),\" $\",\"\"),\".\",\"\")*1),\"\")","v":600},{"$f":"IF($E75=\"\",IFERROR(IF($A75=\"\",\"\",SUBSTITUTE(SUBSTITUTE(SUBSTITUTE(INDIRECT(\"Trello!\"&ADDRESS(ROW()-1, F$1, 4)),\"MXN: \",\"\"),\" MX$\",\"\"),\".\",\"\")*1),\"\"),E75*F$2)","v":10500},{"$f":"IFERROR(IF($A75=\"\",\"\",SUBSTITUTE(SUBSTITUTE(SUBSTITUTE(INDIRECT(\"Trello!\"&ADDRESS(ROW()-1, G$1, 4)),\"Debt: \",\"\"),\" $\",\"\"),\".\",\"\")*1)*IF(E75=\"\",1,F$2),\"\")","v":0},{"$f":"IFERROR(IF($A75=\"\",\"\",SUBSTITUTE(SUBSTITUTE(SUBSTITUTE(INDIRECT(\"Trello!\"&ADDRESS(ROW()-1, H$1, 4)),\"Cost: \",\"\"),\" $\",\"\"),\".\",\"\")*1*$F$2),\"\")","v":""},10500,{"$f":"IFERROR(SUBSTITUTE(SUBSTITUTE(SUBSTITUTE(RIGHT(INDIRECT(\"Trello!\"&ADDRESS(ROW()-1, L$1, 4)),LEN(INDIRECT(\"Trello!\"&ADDRESS(ROW()-1, L$1, 4)))-15),\". \",\"/\"),\" 20\",\"/20\"),\" \",\"\"),\"\")","v":"22/März/2023"},{"$f":"IFERROR(SUBSTITUTE(SUBSTITUTE(SUBSTITUTE(RIGHT(INDIRECT(\"Trello!\"&ADDRESS(ROW()-1, M$1, 4)),LEN(INDIRECT(\"Trello!\"&ADDRESS(ROW()-1, M$1, 4)))-15),\". \",\"/\"),\" 20\",\"/20\"),\" \",\"\"),\"\")","v":""},{"$f":"IFERROR(SUBSTITUTE(SUBSTITUTE(SUBSTITUTE(SUBSTITUTE(SUBSTITUTE(SUBSTITUTE(SUBSTITUTE(SUBSTITUTE(SUBSTITUTE(SUBSTITUTE(SUBSTITUTE(SUBSTITUTE(J75,\"Dez\",12),\"Nov\",11),\"Okt\",10),\"Sept\",9),\"Aug\",8),\"Juli\",7),\"Juni\",6),\"Mai\",5),\"Apr\",4),\"März\",3),\"Feb\",2),\"Jan\",1)*1,\"\")","v":"2023-03-22"},"","",{"$f":"IFERROR(SUBSTITUTE(INDIRECT(\"Trello!\"&ADDRESS(ROW()-1, O$1, 4)),\"Estimate hrs: \",\"\")*1,\"\")","v":35},{"$f":"IF(SUMIF(Timecamp!C:C,Reporte!A75,Timecamp!J:J)=0,\"\",SUMIF(Timecamp!C:C,Reporte!A75,Timecamp!J:J))","v":39.533333333333331},0.12952380952380937,265.59865092748737,{"$f":"IFERROR(VLOOKUP(A75,'SLA Trab'!E:I,5,FALSE),\"\")","v":4.1666666666666664E-2},{"$f":"IFERROR(VLOOKUP(A75,'SLA Cobr'!E:I,5,FALSE),\"\")","v":4.1666666666666664E-2}]
[{"$f":"IFERROR(IF(Trello!E75=\"\",\"\",Trello!E75),\" \")","v":"yo - Migración de mi Whatsapp normal a Business"},{"$f":"IF($A76=\"\",\"\",IF(Trello!A75=\"\",B75,Trello!A75))","v":"Terminado"},"2023-03-25",{"$f":"IF($A76=\"\",\"\",SUBSTITUTE(SUBSTITUTE(Trello!J75,\" days\",\"\"),\"⌚ \",\"\")*1)","v":172},{"$f":"IFERROR(IF($A76=\"\",\"\",SUBSTITUTE(SUBSTITUTE(SUBSTITUTE(INDIRECT(\"Trello!\"&ADDRESS(ROW()-1, E$1, 4)),\"Foreign: \",\"\"),\" $\",\"\"),\".\",\"\")*1),\"\")","v":""},{"$f":"IF($E76=\"\",IFERROR(IF($A76=\"\",\"\",SUBSTITUTE(SUBSTITUTE(SUBSTITUTE(INDIRECT(\"Trello!\"&ADDRESS(ROW()-1, F$1, 4)),\"MXN: \",\"\"),\" MX$\",\"\"),\".\",\"\")*1),\"\"),E76*F$2)","v":""},{"$f":"IFERROR(IF($A76=\"\",\"\",SUBSTITUTE(SUBSTITUTE(SUBSTITUTE(INDIRECT(\"Trello!\"&ADDRESS(ROW()-1, G$1, 4)),\"Debt: \",\"\"),\" $\",\"\"),\".\",\"\")*1)*IF(E76=\"\",1,F$2),\"\")","v":""},{"$f":"IFERROR(IF($A76=\"\",\"\",SUBSTITUTE(SUBSTITUTE(SUBSTITUTE(INDIRECT(\"Trello!\"&ADDRESS(ROW()-1, H$1, 4)),\"Cost: \",\"\"),\" $\",\"\"),\".\",\"\")*1*$F$2),\"\")","v":""},"",{"$f":"IFERROR(SUBSTITUTE(SUBSTITUTE(SUBSTITUTE(RIGHT(INDIRECT(\"Trello!\"&ADDRESS(ROW()-1, L$1, 4)),LEN(INDIRECT(\"Trello!\"&ADDRESS(ROW()-1, L$1, 4)))-15),\". \",\"/\"),\" 20\",\"/20\"),\" \",\"\"),\"\")","v":""},{"$f":"IFERROR(SUBSTITUTE(SUBSTITUTE(SUBSTITUTE(RIGHT(INDIRECT(\"Trello!\"&ADDRESS(ROW()-1, M$1, 4)),LEN(INDIRECT(\"Trello!\"&ADDRESS(ROW()-1, M$1, 4)))-15),\". \",\"/\"),\" 20\",\"/20\"),\" \",\"\"),\"\")","v":""},"","","",{"$f":"IFERROR(SUBSTITUTE(INDIRECT(\"Trello!\"&ADDRESS(ROW()-1, O$1, 4)),\"Estimate hrs: \",\"\")*1,\"\")","v":""},{"$f":"IF(SUMIF(Timecamp!C:C,Reporte!A76,Timecamp!J:J)=0,\"\",SUMIF(Timecamp!C:C,Reporte!A76,Timecamp!J:J))","v":""},"","",{"$f":"IFERROR(VLOOKUP(A76,'SLA Trab'!E:I,5,FALSE),\"\")","v":""},{"$f":"IFERROR(VLOOKUP(A76,'SLA Cobr'!E:I,5,FALSE),\"\")","v":""}]
[{"$f":"IFERROR(IF(Trello!E76=\"\",\"\",Trello!E76),\" \")","v":"Viv Freelancer - Wordle New Probability"},{"$f":"IF($A77=\"\",\"\",IF(Trello!A76=\"\",B76,Trello!A76))","v":"Terminado"},"2023-03-22",{"$f":"IF($A77=\"\",\"\",SUBSTITUTE(SUBSTITUTE(Trello!J76,\" days\",\"\"),\"⌚ \",\"\")*1)","v":175},{"$f":"IFERROR(IF($A77=\"\",\"\",SUBSTITUTE(SUBSTITUTE(SUBSTITUTE(INDIRECT(\"Trello!\"&ADDRESS(ROW()-1, E$1, 4)),\"Foreign: \",\"\"),\" $\",\"\"),\".\",\"\")*1),\"\")","v":80},{"$f":"IF($E77=\"\",IFERROR(IF($A77=\"\",\"\",SUBSTITUTE(SUBSTITUTE(SUBSTITUTE(INDIRECT(\"Trello!\"&ADDRESS(ROW()-1, F$1, 4)),\"MXN: \",\"\"),\" MX$\",\"\"),\".\",\"\")*1),\"\"),E77*F$2)","v":1400},{"$f":"IFERROR(IF($A77=\"\",\"\",SUBSTITUTE(SUBSTITUTE(SUBSTITUTE(INDIRECT(\"Trello!\"&ADDRESS(ROW()-1, G$1, 4)),\"Debt: \",\"\"),\" $\",\"\"),\".\",\"\")*1)*IF(E77=\"\",1,F$2),\"\")","v":""},{"$f":"IFERROR(IF($A77=\"\",\"\",SUBSTITUTE(SUBSTITUTE(SUBSTITUTE(INDIRECT(\"Trello!\"&ADDRESS(ROW()-1, H$1, 4)),\"Cost: \",\"\"),\" $\",\"\"),\".\",\"\")*1*$F$2),\"\")","v":""},1400,{"$f":"IFERROR(SUBSTITUTE(SUBSTITUTE(SUBSTITUTE(RIGHT(INDIRECT(\"Trello!\"&ADDRESS(ROW()-1, L$1, 4)),LEN(INDIRECT(\"Trello!\"&ADDRESS(ROW()-1, L$1, 4)))-15),\". \",\"/\"),\" 20\",\"/20\"),\" \",\"\"),\"\")","v":"24/März/2023"},{"$f":"IFERROR(SUBSTITUTE(SUBSTITUTE(SUBSTITUTE(RIGHT(INDIRECT(\"Trello!\"&ADDRESS(ROW()-1, M$1, 4)),LEN(INDIRECT(\"Trello!\"&ADDRESS(ROW()-1, M$1, 4)))-15),\". \",\"/\"),\" 20\",\"/20\"),\" \",\"\"),\"\")","v":""},"2023-03-24","","",{"$f":"IFERROR(SUBSTITUTE(INDIRECT(\"Trello!\"&ADDRESS(ROW()-1, O$1, 4)),\"Estimate hrs: \",\"\")*1,\"\")","v":""},{"$f":"IF(SUMIF(Timecamp!C:C,Reporte!A77,Timecamp!J:J)=0,\"\",SUMIF(Timecamp!C:C,Reporte!A77,Timecamp!J:J))","v":""},"","",{"$f":"IFERROR(VLOOKUP(A77,'SLA Trab'!E:I,5,FALSE),\"\")","v":""},{"$f":"IFERROR(VLOOKUP(A77,'SLA Cobr'!E:I,5,FALSE),\"\")","v":""}]
[{"$f":"IFERROR(IF(Trello!E77=\"\",\"\",Trello!E77),\" \")","v":"Santiago Freelancer - EncuentraTuBote"},{"$f":"IF($A78=\"\",\"\",IF(Trello!A77=\"\",B77,Trello!A77))","v":"Terminado"},"2022-09-21",{"$f":"IF($A78=\"\",\"\",SUBSTITUTE(SUBSTITUTE(Trello!J77,\" days\",\"\"),\"⌚ \",\"\")*1)","v":357},{"$f":"IFERROR(IF($A78=\"\",\"\",SUBSTITUTE(SUBSTITUTE(SUBSTITUTE(INDIRECT(\"Trello!\"&ADDRESS(ROW()-1, E$1, 4)),\"Foreign: \",\"\"),\" $\",\"\"),\".\",\"\")*1),\"\")","v":500},{"$f":"IF($E78=\"\",IFERROR(IF($A78=\"\",\"\",SUBSTITUTE(SUBSTITUTE(SUBSTITUTE(INDIRECT(\"Trello!\"&ADDRESS(ROW()-1, F$1, 4)),\"MXN: \",\"\"),\" MX$\",\"\"),\".\",\"\")*1),\"\"),E78*F$2)","v":8750},{"$f":"IFERROR(IF($A78=\"\",\"\",SUBSTITUTE(SUBSTITUTE(SUBSTITUTE(INDIRECT(\"Trello!\"&ADDRESS(ROW()-1, G$1, 4)),\"Debt: \",\"\"),\" $\",\"\"),\".\",\"\")*1)*IF(E78=\"\",1,F$2),\"\")","v":4375},{"$f":"IFERROR(IF($A78=\"\",\"\",SUBSTITUTE(SUBSTITUTE(SUBSTITUTE(INDIRECT(\"Trello!\"&ADDRESS(ROW()-1, H$1, 4)),\"Cost: \",\"\"),\" $\",\"\"),\".\",\"\")*1*$F$2),\"\")","v":""},8750,{"$f":"IFERROR(SUBSTITUTE(SUBSTITUTE(SUBSTITUTE(RIGHT(INDIRECT(\"Trello!\"&ADDRESS(ROW()-1, L$1, 4)),LEN(INDIRECT(\"Trello!\"&ADDRESS(ROW()-1, L$1, 4)))-15),\". \",\"/\"),\" 20\",\"/20\"),\" \",\"\"),\"\")","v":"27/Jan/2023"},{"$f":"IFERROR(SUBSTITUTE(SUBSTITUTE(SUBSTITUTE(RIGHT(INDIRECT(\"Trello!\"&ADDRESS(ROW()-1, M$1, 4)),LEN(INDIRECT(\"Trello!\"&ADDRESS(ROW()-1, M$1, 4)))-15),\". \",\"/\"),\" 20\",\"/20\"),\" \",\"\"),\"\")","v":""},"2023-01-27","","",{"$f":"IFERROR(SUBSTITUTE(INDIRECT(\"Trello!\"&ADDRESS(ROW()-1, O$1, 4)),\"Estimate hrs: \",\"\")*1,\"\")","v":""},{"$f":"IF(SUMIF(Timecamp!C:C,Reporte!A78,Timecamp!J:J)=0,\"\",SUMIF(Timecamp!C:C,Reporte!A78,Timecamp!J:J))","v":""},"","",{"$f":"IFERROR(VLOOKUP(A78,'SLA Trab'!E:I,5,FALSE),\"\")","v":""},{"$f":"IFERROR(VLOOKUP(A78,'SLA Cobr'!E:I,5,FALSE),\"\")","v":""}]
[{"$f":"IFERROR(IF(Trello!E78=\"\",\"\",Trello!E78),\" \")","v":"John Freelancer - Traducción Form Ingles"},{"$f":"IF($A79=\"\",\"\",IF(Trello!A78=\"\",B78,Trello!A78))","v":"Terminado"},"2023-03-10",{"$f":"IF($A79=\"\",\"\",SUBSTITUTE(SUBSTITUTE(Trello!J78,\" days\",\"\"),\"⌚ \",\"\")*1)","v":187},{"$f":"IFERROR(IF($A79=\"\",\"\",SUBSTITUTE(SUBSTITUTE(SUBSTITUTE(INDIRECT(\"Trello!\"&ADDRESS(ROW()-1, E$1, 4)),\"Foreign: \",\"\"),\" $\",\"\"),\".\",\"\")*1),\"\")","v":200},{"$f":"IF($E79=\"\",IFERROR(IF($A79=\"\",\"\",SUBSTITUTE(SUBSTITUTE(SUBSTITUTE(INDIRECT(\"Trello!\"&ADDRESS(ROW()-1, F$1, 4)),\"MXN: \",\"\"),\" MX$\",\"\"),\".\",\"\")*1),\"\"),E79*F$2)","v":3500},{"$f":"IFERROR(IF($A79=\"\",\"\",SUBSTITUTE(SUBSTITUTE(SUBSTITUTE(INDIRECT(\"Trello!\"&ADDRESS(ROW()-1, G$1, 4)),\"Debt: \",\"\"),\" $\",\"\"),\".\",\"\")*1)*IF(E79=\"\",1,F$2),\"\")","v":-2625},{"$f":"IFERROR(IF($A79=\"\",\"\",SUBSTITUTE(SUBSTITUTE(SUBSTITUTE(INDIRECT(\"Trello!\"&ADDRESS(ROW()-1, H$1, 4)),\"Cost: \",\"\"),\" $\",\"\"),\".\",\"\")*1*$F$2),\"\")","v":""},3500,{"$f":"IFERROR(SUBSTITUTE(SUBSTITUTE(SUBSTITUTE(RIGHT(INDIRECT(\"Trello!\"&ADDRESS(ROW()-1, L$1, 4)),LEN(INDIRECT(\"Trello!\"&ADDRESS(ROW()-1, L$1, 4)))-15),\". \",\"/\"),\" 20\",\"/20\"),\" \",\"\"),\"\")","v":""},{"$f":"IFERROR(SUBSTITUTE(SUBSTITUTE(SUBSTITUTE(RIGHT(INDIRECT(\"Trello!\"&ADDRESS(ROW()-1, M$1, 4)),LEN(INDIRECT(\"Trello!\"&ADDRESS(ROW()-1, M$1, 4)))-15),\". \",\"/\"),\" 20\",\"/20\"),\" \",\"\"),\"\")","v":""},"","","",{"$f":"IFERROR(SUBSTITUTE(INDIRECT(\"Trello!\"&ADDRESS(ROW()-1, O$1, 4)),\"Estimate hrs: \",\"\")*1,\"\")","v":""},{"$f":"IF(SUMIF(Timecamp!C:C,Reporte!A79,Timecamp!J:J)=0,\"\",SUMIF(Timecamp!C:C,Reporte!A79,Timecamp!J:J))","v":""},"","",{"$f":"IFERROR(VLOOKUP(A79,'SLA Trab'!E:I,5,FALSE),\"\")","v":""},{"$f":"IFERROR(VLOOKUP(A79,'SLA Cobr'!E:I,5,FALSE),\"\")","v":""}]
[{"$f":"IFERROR(IF(Trello!E79=\"\",\"\",Trello!E79),\" \")","v":"Emilio pinturas - Pinturas fix error"},{"$f":"IF($A80=\"\",\"\",IF(Trello!A79=\"\",B79,Trello!A79))","v":"Terminado"},"2023-03-10",{"$f":"IF($A80=\"\",\"\",SUBSTITUTE(SUBSTITUTE(Trello!J79,\" days\",\"\"),\"⌚ \",\"\")*1)","v":187},{"$f":"IFERROR(IF($A80=\"\",\"\",SUBSTITUTE(SUBSTITUTE(SUBSTITUTE(INDIRECT(\"Trello!\"&ADDRESS(ROW()-1, E$1, 4)),\"Foreign: \",\"\"),\" $\",\"\"),\".\",\"\")*1),\"\")","v":25},{"$f":"IF($E80=\"\",IFERROR(IF($A80=\"\",\"\",SUBSTITUTE(SUBSTITUTE(SUBSTITUTE(INDIRECT(\"Trello!\"&ADDRESS(ROW()-1, F$1, 4)),\"MXN: \",\"\"),\" MX$\",\"\"),\".\",\"\")*1),\"\"),E80*F$2)","v":437.5},{"$f":"IFERROR(IF($A80=\"\",\"\",SUBSTITUTE(SUBSTITUTE(SUBSTITUTE(INDIRECT(\"Trello!\"&ADDRESS(ROW()-1, G$1, 4)),\"Debt: \",\"\"),\" $\",\"\"),\".\",\"\")*1)*IF(E80=\"\",1,F$2),\"\")","v":""},{"$f":"IFERROR(IF($A80=\"\",\"\",SUBSTITUTE(SUBSTITUTE(SUBSTITUTE(INDIRECT(\"Trello!\"&ADDRESS(ROW()-1, H$1, 4)),\"Cost: \",\"\"),\" $\",\"\"),\".\",\"\")*1*$F$2),\"\")","v":""},437.5,{"$f":"IFERROR(SUBSTITUTE(SUBSTITUTE(SUBSTITUTE(RIGHT(INDIRECT(\"Trello!\"&ADDRESS(ROW()-1, L$1, 4)),LEN(INDIRECT(\"Trello!\"&ADDRESS(ROW()-1, L$1, 4)))-15),\". \",\"/\"),\" 20\",\"/20\"),\" \",\"\"),\"\")","v":""},{"$f":"IFERROR(SUBSTITUTE(SUBSTITUTE(SUBSTITUTE(RIGHT(INDIRECT(\"Trello!\"&ADDRESS(ROW()-1, M$1, 4)),LEN(INDIRECT(\"Trello!\"&ADDRESS(ROW()-1, M$1, 4)))-15),\". \",\"/\"),\" 20\",\"/20\"),\" \",\"\"),\"\")","v":""},"","","",{"$f":"IFERROR(SUBSTITUTE(INDIRECT(\"Trello!\"&ADDRESS(ROW()-1, O$1, 4)),\"Estimate hrs: \",\"\")*1,\"\")","v":""},{"$f":"IF(SUMIF(Timecamp!C:C,Reporte!A80,Timecamp!J:J)=0,\"\",SUMIF(Timecamp!C:C,Reporte!A80,Timecamp!J:J))","v":""},"","",{"$f":"IFERROR(VLOOKUP(A80,'SLA Trab'!E:I,5,FALSE),\"\")","v":""},{"$f":"IFERROR(VLOOKUP(A80,'SLA Cobr'!E:I,5,FALSE),\"\")","v":""}]
[{"$f":"IFERROR(IF(Trello!E80=\"\",\"\",Trello!E80),\" \")","v":"Gary Hydracheck - Checkout zipcode issue"},{"$f":"IF($A81=\"\",\"\",IF(Trello!A80=\"\",B80,Trello!A80))","v":"Terminado"},"2023-03-09",{"$f":"IF($A81=\"\",\"\",SUBSTITUTE(SUBSTITUTE(Trello!J80,\" days\",\"\"),\"⌚ \",\"\")*1)","v":188},{"$f":"IFERROR(IF($A81=\"\",\"\",SUBSTITUTE(SUBSTITUTE(SUBSTITUTE(INDIRECT(\"Trello!\"&ADDRESS(ROW()-1, E$1, 4)),\"Foreign: \",\"\"),\" $\",\"\"),\".\",\"\")*1),\"\")","v":30},{"$f":"IF($E81=\"\",IFERROR(IF($A81=\"\",\"\",SUBSTITUTE(SUBSTITUTE(SUBSTITUTE(INDIRECT(\"Trello!\"&ADDRESS(ROW()-1, F$1, 4)),\"MXN: \",\"\"),\" MX$\",\"\"),\".\",\"\")*1),\"\"),E81*F$2)","v":525},{"$f":"IFERROR(IF($A81=\"\",\"\",SUBSTITUTE(SUBSTITUTE(SUBSTITUTE(INDIRECT(\"Trello!\"&ADDRESS(ROW()-1, G$1, 4)),\"Debt: \",\"\"),\" $\",\"\"),\".\",\"\")*1)*IF(E81=\"\",1,F$2),\"\")","v":""},{"$f":"IFERROR(IF($A81=\"\",\"\",SUBSTITUTE(SUBSTITUTE(SUBSTITUTE(INDIRECT(\"Trello!\"&ADDRESS(ROW()-1, H$1, 4)),\"Cost: \",\"\"),\" $\",\"\"),\".\",\"\")*1*$F$2),\"\")","v":""},525,{"$f":"IFERROR(SUBSTITUTE(SUBSTITUTE(SUBSTITUTE(RIGHT(INDIRECT(\"Trello!\"&ADDRESS(ROW()-1, L$1, 4)),LEN(INDIRECT(\"Trello!\"&ADDRESS(ROW()-1, L$1, 4)))-15),\". \",\"/\"),\" 20\",\"/20\"),\" \",\"\"),\"\")","v":""},{"$f":"IFERROR(SUBSTITUTE(SUBSTITUTE(SUBSTITUTE(RIGHT(INDIRECT(\"Trello!\"&ADDRESS(ROW()-1, M$1, 4)),LEN(INDIRECT(\"Trello!\"&ADDRESS(ROW()-1, M$1, 4)))-15),\". \",\"/\"),\" 20\",\"/20\"),\" \",\"\"),\"\")","v":""},"","","",{"$f":"IFERROR(SUBSTITUTE(INDIRECT(\"Trello!\"&ADDRESS(ROW()-1, O$1, 4)),\"Estimate hrs: \",\"\")*1,\"\")","v":""},{"$f":"IF(SUMIF(Timecamp!C:C,Reporte!A81,Timecamp!J:J)=0,\"\",SUMIF(Timecamp!C:C,Reporte!A81,Timecamp!J:J))","v":0.11666666666666667},"",4500,{"$f":"IFERROR(VLOOKUP(A81,'SLA Trab'!E:I,5,FALSE),\"\")","v":""},{"$f":"IFERROR(VLOOKUP(A81,'SLA Cobr'!E:I,5,FALSE),\"\")","v":""}]
[{"$f":"IFERROR(IF(Trello!E81=\"\",\"\",Trello!E81),\" \")","v":"Nana - maletas"},{"$f":"IF($A82=\"\",\"\",IF(Trello!A81=\"\",B81,Trello!A81))","v":"Terminado"},"2023-01-30",{"$f":"IF($A82=\"\",\"\",SUBSTITUTE(SUBSTITUTE(Trello!J81,\" days\",\"\"),\"⌚ \",\"\")*1)","v":226},{"$f":"IFERROR(IF($A82=\"\",\"\",SUBSTITUTE(SUBSTITUTE(SUBSTITUTE(INDIRECT(\"Trello!\"&ADDRESS(ROW()-1, E$1, 4)),\"Foreign: \",\"\"),\" $\",\"\"),\".\",\"\")*1),\"\")","v":""},{"$f":"IF($E82=\"\",IFERROR(IF($A82=\"\",\"\",SUBSTITUTE(SUBSTITUTE(SUBSTITUTE(INDIRECT(\"Trello!\"&ADDRESS(ROW()-1, F$1, 4)),\"MXN: \",\"\"),\" MX$\",\"\"),\".\",\"\")*1),\"\"),E82*F$2)","v":4292},{"$f":"IFERROR(IF($A82=\"\",\"\",SUBSTITUTE(SUBSTITUTE(SUBSTITUTE(INDIRECT(\"Trello!\"&ADDRESS(ROW()-1, G$1, 4)),\"Debt: \",\"\"),\" $\",\"\"),\".\",\"\")*1)*IF(E82=\"\",1,F$2),\"\")","v":3847},{"$f":"IFERROR(IF($A82=\"\",\"\",SUBSTITUTE(SUBSTITUTE(SUBSTITUTE(INDIRECT(\"Trello!\"&ADDRESS(ROW()-1, H$1, 4)),\"Cost: \",\"\"),\" $\",\"\"),\".\",\"\")*1*$F$2),\"\")","v":""},4292,{"$f":"IFERROR(SUBSTITUTE(SUBSTITUTE(SUBSTITUTE(RIGHT(INDIRECT(\"Trello!\"&ADDRESS(ROW()-1, L$1, 4)),LEN(INDIRECT(\"Trello!\"&ADDRESS(ROW()-1, L$1, 4)))-15),\". \",\"/\"),\" 20\",\"/20\"),\" \",\"\"),\"\")","v":""},{"$f":"IFERROR(SUBSTITUTE(SUBSTITUTE(SUBSTITUTE(RIGHT(INDIRECT(\"Trello!\"&ADDRESS(ROW()-1, M$1, 4)),LEN(INDIRECT(\"Trello!\"&ADDRESS(ROW()-1, M$1, 4)))-15),\". \",\"/\"),\" 20\",\"/20\"),\" \",\"\"),\"\")","v":""},"","","",{"$f":"IFERROR(SUBSTITUTE(INDIRECT(\"Trello!\"&ADDRESS(ROW()-1, O$1, 4)),\"Estimate hrs: \",\"\")*1,\"\")","v":""},{"$f":"IF(SUMIF(Timecamp!C:C,Reporte!A82,Timecamp!J:J)=0,\"\",SUMIF(Timecamp!C:C,Reporte!A82,Timecamp!J:J))","v":0.11666666666666667},"",36788.571428571428,{"$f":"IFERROR(VLOOKUP(A82,'SLA Trab'!E:I,5,FALSE),\"\")","v":""},{"$f":"IFERROR(VLOOKUP(A82,'SLA Cobr'!E:I,5,FALSE),\"\")","v":""}]
[{"$f":"IFERROR(IF(Trello!E82=\"\",\"\",Trello!E82),\" \")","v":"Viv Freelancer - Doble letra"},{"$f":"IF($A83=\"\",\"\",IF(Trello!A82=\"\",B82,Trello!A82))","v":"Terminado"},"2023-03-06",{"$f":"IF($A83=\"\",\"\",SUBSTITUTE(SUBSTITUTE(Trello!J82,\" days\",\"\"),\"⌚ \",\"\")*1)","v":191},{"$f":"IFERROR(IF($A83=\"\",\"\",SUBSTITUTE(SUBSTITUTE(SUBSTITUTE(INDIRECT(\"Trello!\"&ADDRESS(ROW()-1, E$1, 4)),\"Foreign: \",\"\"),\" $\",\"\"),\".\",\"\")*1),\"\")","v":30},{"$f":"IF($E83=\"\",IFERROR(IF($A83=\"\",\"\",SUBSTITUTE(SUBSTITUTE(SUBSTITUTE(INDIRECT(\"Trello!\"&ADDRESS(ROW()-1, F$1, 4)),\"MXN: \",\"\"),\" MX$\",\"\"),\".\",\"\")*1),\"\"),E83*F$2)","v":525},{"$f":"IFERROR(IF($A83=\"\",\"\",SUBSTITUTE(SUBSTITUTE(SUBSTITUTE(INDIRECT(\"Trello!\"&ADDRESS(ROW()-1, G$1, 4)),\"Debt: \",\"\"),\" $\",\"\"),\".\",\"\")*1)*IF(E83=\"\",1,F$2),\"\")","v":""},{"$f":"IFERROR(IF($A83=\"\",\"\",SUBSTITUTE(SUBSTITUTE(SUBSTITUTE(INDIRECT(\"Trello!\"&ADDRESS(ROW()-1, H$1, 4)),\"Cost: \",\"\"),\" $\",\"\"),\".\",\"\")*1*$F$2),\"\")","v":""},525,{"$f":"IFERROR(SUBSTITUTE(SUBSTITUTE(SUBSTITUTE(RIGHT(INDIRECT(\"Trello!\"&ADDRESS(ROW()-1, L$1, 4)),LEN(INDIRECT(\"Trello!\"&ADDRESS(ROW()-1, L$1, 4)))-15),\". \",\"/\"),\" 20\",\"/20\"),\" \",\"\"),\"\")","v":""},{"$f":"IFERROR(SUBSTITUTE(SUBSTITUTE(SUBSTITUTE(RIGHT(INDIRECT(\"Trello!\"&ADDRESS(ROW()-1, M$1, 4)),LEN(INDIRECT(\"Trello!\"&ADDRESS(ROW()-1, M$1, 4)))-15),\". \",\"/\"),\" 20\",\"/20\"),\" \",\"\"),\"\")","v":""},"","","",{"$f":"IFERROR(SUBSTITUTE(INDIRECT(\"Trello!\"&ADDRESS(ROW()-1, O$1, 4)),\"Estimate hrs: \",\"\")*1,\"\")","v":""},{"$f":"IF(SUMIF(Timecamp!C:C,Reporte!A83,Timecamp!J:J)=0,\"\",SUMIF(Timecamp!C:C,Reporte!A83,Timecamp!J:J))","v":""},"","",{"$f":"IFERROR(VLOOKUP(A83,'SLA Trab'!E:I,5,FALSE),\"\")","v":""},{"$f":"IFERROR(VLOOKUP(A83,'SLA Cobr'!E:I,5,FALSE),\"\")","v":""}]
[{"$f":"IFERROR(IF(Trello!E83=\"\",\"\",Trello!E83),\" \")","v":"Miguel Bullkens - Bots Demo desde historico o desde 0"},{"$f":"IF($A84=\"\",\"\",IF(Trello!A83=\"\",B83,Trello!A83))","v":"Terminado"},"2023-02-09",{"$f":"IF($A84=\"\",\"\",SUBSTITUTE(SUBSTITUTE(Trello!J83,\" days\",\"\"),\"⌚ \",\"\")*1)","v":216},{"$f":"IFERROR(IF($A84=\"\",\"\",SUBSTITUTE(SUBSTITUTE(SUBSTITUTE(INDIRECT(\"Trello!\"&ADDRESS(ROW()-1, E$1, 4)),\"Foreign: \",\"\"),\" $\",\"\"),\".\",\"\")*1),\"\")","v":200},{"$f":"IF($E84=\"\",IFERROR(IF($A84=\"\",\"\",SUBSTITUTE(SUBSTITUTE(SUBSTITUTE(INDIRECT(\"Trello!\"&ADDRESS(ROW()-1, F$1, 4)),\"MXN: \",\"\"),\" MX$\",\"\"),\".\",\"\")*1),\"\"),E84*F$2)","v":3500},{"$f":"IFERROR(IF($A84=\"\",\"\",SUBSTITUTE(SUBSTITUTE(SUBSTITUTE(INDIRECT(\"Trello!\"&ADDRESS(ROW()-1, G$1, 4)),\"Debt: \",\"\"),\" $\",\"\"),\".\",\"\")*1)*IF(E84=\"\",1,F$2),\"\")","v":""},{"$f":"IFERROR(IF($A84=\"\",\"\",SUBSTITUTE(SUBSTITUTE(SUBSTITUTE(INDIRECT(\"Trello!\"&ADDRESS(ROW()-1, H$1, 4)),\"Cost: \",\"\"),\" $\",\"\"),\".\",\"\")*1*$F$2),\"\")","v":""},3500,{"$f":"IFERROR(SUBSTITUTE(SUBSTITUTE(SUBSTITUTE(RIGHT(INDIRECT(\"Trello!\"&ADDRESS(ROW()-1, L$1, 4)),LEN(INDIRECT(\"Trello!\"&ADDRESS(ROW()-1, L$1, 4)))-15),\". \",\"/\"),\" 20\",\"/20\"),\" \",\"\"),\"\")","v":"12/Feb/2023"},{"$f":"IFERROR(SUBSTITUTE(SUBSTITUTE(SUBSTITUTE(RIGHT(INDIRECT(\"Trello!\"&ADDRESS(ROW()-1, M$1, 4)),LEN(INDIRECT(\"Trello!\"&ADDRESS(ROW()-1, M$1, 4)))-15),\". \",\"/\"),\" 20\",\"/20\"),\" \",\"\"),\"\")","v":"12/Feb/2023"},"2023-02-12","2023-02-12",0,{"$f":"IFERROR(SUBSTITUTE(INDIRECT(\"Trello!\"&ADDRESS(ROW()-1, O$1, 4)),\"Estimate hrs: \",\"\")*1,\"\")","v":""},{"$f":"IF(SUMIF(Timecamp!C:C,Reporte!A84,Timecamp!J:J)=0,\"\",SUMIF(Timecamp!C:C,Reporte!A84,Timecamp!J:J))","v":""},"","",{"$f":"IFERROR(VLOOKUP(A84,'SLA Trab'!E:I,5,FALSE),\"\")","v":""},{"$f":"IFERROR(VLOOKUP(A84,'SLA Cobr'!E:I,5,FALSE),\"\")","v":""}]
[{"$f":"IFERROR(IF(Trello!E84=\"\",\"\",Trello!E84),\" \")","v":"Samantha - Concierto Banda"},{"$f":"IF($A85=\"\",\"\",IF(Trello!A84=\"\",B84,Trello!A84))","v":"Terminado"},"2023-02-21",{"$f":"IF($A85=\"\",\"\",SUBSTITUTE(SUBSTITUTE(Trello!J84,\" days\",\"\"),\"⌚ \",\"\")*1)","v":204},{"$f":"IFERROR(IF($A85=\"\",\"\",SUBSTITUTE(SUBSTITUTE(SUBSTITUTE(INDIRECT(\"Trello!\"&ADDRESS(ROW()-1, E$1, 4)),\"Foreign: \",\"\"),\" $\",\"\"),\".\",\"\")*1),\"\")","v":""},{"$f":"IF($E85=\"\",IFERROR(IF($A85=\"\",\"\",SUBSTITUTE(SUBSTITUTE(SUBSTITUTE(INDIRECT(\"Trello!\"&ADDRESS(ROW()-1, F$1, 4)),\"MXN: \",\"\"),\" MX$\",\"\"),\".\",\"\")*1),\"\"),E85*F$2)","v":3045},{"$f":"IFERROR(IF($A85=\"\",\"\",SUBSTITUTE(SUBSTITUTE(SUBSTITUTE(INDIRECT(\"Trello!\"&ADDRESS(ROW()-1, G$1, 4)),\"Debt: \",\"\"),\" $\",\"\"),\".\",\"\")*1)*IF(E85=\"\",1,F$2),\"\")","v":""},{"$f":"IFERROR(IF($A85=\"\",\"\",SUBSTITUTE(SUBSTITUTE(SUBSTITUTE(INDIRECT(\"Trello!\"&ADDRESS(ROW()-1, H$1, 4)),\"Cost: \",\"\"),\" $\",\"\"),\".\",\"\")*1*$F$2),\"\")","v":""},3045,{"$f":"IFERROR(SUBSTITUTE(SUBSTITUTE(SUBSTITUTE(RIGHT(INDIRECT(\"Trello!\"&ADDRESS(ROW()-1, L$1, 4)),LEN(INDIRECT(\"Trello!\"&ADDRESS(ROW()-1, L$1, 4)))-15),\". \",\"/\"),\" 20\",\"/20\"),\" \",\"\"),\"\")","v":""},{"$f":"IFERROR(SUBSTITUTE(SUBSTITUTE(SUBSTITUTE(RIGHT(INDIRECT(\"Trello!\"&ADDRESS(ROW()-1, M$1, 4)),LEN(INDIRECT(\"Trello!\"&ADDRESS(ROW()-1, M$1, 4)))-15),\". \",\"/\"),\" 20\",\"/20\"),\" \",\"\"),\"\")","v":""},"","","",{"$f":"IFERROR(SUBSTITUTE(INDIRECT(\"Trello!\"&ADDRESS(ROW()-1, O$1, 4)),\"Estimate hrs: \",\"\")*1,\"\")","v":""},{"$f":"IF(SUMIF(Timecamp!C:C,Reporte!A85,Timecamp!J:J)=0,\"\",SUMIF(Timecamp!C:C,Reporte!A85,Timecamp!J:J))","v":""},"","",{"$f":"IFERROR(VLOOKUP(A85,'SLA Trab'!E:I,5,FALSE),\"\")","v":""},{"$f":"IFERROR(VLOOKUP(A85,'SLA Cobr'!E:I,5,FALSE),\"\")","v":""}]
[{"$f":"IFERROR(IF(Trello!E85=\"\",\"\",Trello!E85),\" \")","v":"Viv Freelancer - Strict mode & score"},{"$f":"IF($A86=\"\",\"\",IF(Trello!A85=\"\",B85,Trello!A85))","v":"Terminado"},"2023-02-15",{"$f":"IF($A86=\"\",\"\",SUBSTITUTE(SUBSTITUTE(Trello!J85,\" days\",\"\"),\"⌚ \",\"\")*1)","v":210},{"$f":"IFERROR(IF($A86=\"\",\"\",SUBSTITUTE(SUBSTITUTE(SUBSTITUTE(INDIRECT(\"Trello!\"&ADDRESS(ROW()-1, E$1, 4)),\"Foreign: \",\"\"),\" $\",\"\"),\".\",\"\")*1),\"\")","v":350},{"$f":"IF($E86=\"\",IFERROR(IF($A86=\"\",\"\",SUBSTITUTE(SUBSTITUTE(SUBSTITUTE(INDIRECT(\"Trello!\"&ADDRESS(ROW()-1, F$1, 4)),\"MXN: \",\"\"),\" MX$\",\"\"),\".\",\"\")*1),\"\"),E86*F$2)","v":6125},{"$f":"IFERROR(IF($A86=\"\",\"\",SUBSTITUTE(SUBSTITUTE(SUBSTITUTE(INDIRECT(\"Trello!\"&ADDRESS(ROW()-1, G$1, 4)),\"Debt: \",\"\"),\" $\",\"\"),\".\",\"\")*1)*IF(E86=\"\",1,F$2),\"\")","v":""},{"$f":"IFERROR(IF($A86=\"\",\"\",SUBSTITUTE(SUBSTITUTE(SUBSTITUTE(INDIRECT(\"Trello!\"&ADDRESS(ROW()-1, H$1, 4)),\"Cost: \",\"\"),\" $\",\"\"),\".\",\"\")*1*$F$2),\"\")","v":""},6125,{"$f":"IFERROR(SUBSTITUTE(SUBSTITUTE(SUBSTITUTE(RIGHT(INDIRECT(\"Trello!\"&ADDRESS(ROW()-1, L$1, 4)),LEN(INDIRECT(\"Trello!\"&ADDRESS(ROW()-1, L$1, 4)))-15),\". \",\"/\"),\" 20\",\"/20\"),\" \",\"\"),\"\")","v":""},{"$f":"IFERROR(SUBSTITUTE(SUBSTITUTE(SUBSTITUTE(RIGHT(INDIRECT(\"Trello!\"&ADDRESS(ROW()-1, M$1, 4)),LEN(INDIRECT(\"Trello!\"&ADDRESS(ROW()-1, M$1, 4)))-15),\". \",\"/\"),\" 20\",\"/20\"),\" \",\"\"),\"\")","v":"21/Feb/2023"},"","2023-02-21","",{"$f":"IFERROR(SUBSTITUTE(INDIRECT(\"Trello!\"&ADDRESS(ROW()-1, O$1, 4)),\"Estimate hrs: \",\"\")*1,\"\")","v":""},{"$f":"IF(SUMIF(Timecamp!C:C,Reporte!A86,Timecamp!J:J)=0,\"\",SUMIF(Timecamp!C:C,Reporte!A86,Timecamp!J:J))","v":""},"","",{"$f":"IFERROR(VLOOKUP(A86,'SLA Trab'!E:I,5,FALSE),\"\")","v":""},{"$f":"IFERROR(VLOOKUP(A86,'SLA Cobr'!E:I,5,FALSE),\"\")","v":""}]
[{"$f":"IFERROR(IF(Trello!E86=\"\",\"\",Trello!E86),\" \")","v":"Samantha - La Paz Dinn"},{"$f":"IF($A87=\"\",\"\",IF(Trello!A86=\"\",B86,Trello!A86))","v":"Terminado"},"2023-02-21",{"$f":"IF($A87=\"\",\"\",SUBSTITUTE(SUBSTITUTE(Trello!J86,\" days\",\"\"),\"⌚ \",\"\")*1)","v":204},{"$f":"IFERROR(IF($A87=\"\",\"\",SUBSTITUTE(SUBSTITUTE(SUBSTITUTE(INDIRECT(\"Trello!\"&ADDRESS(ROW()-1, E$1, 4)),\"Foreign: \",\"\"),\" $\",\"\"),\".\",\"\")*1),\"\")","v":""},{"$f":"IF($E87=\"\",IFERROR(IF($A87=\"\",\"\",SUBSTITUTE(SUBSTITUTE(SUBSTITUTE(INDIRECT(\"Trello!\"&ADDRESS(ROW()-1, F$1, 4)),\"MXN: \",\"\"),\" MX$\",\"\"),\".\",\"\")*1),\"\"),E87*F$2)","v":9222},{"$f":"IFERROR(IF($A87=\"\",\"\",SUBSTITUTE(SUBSTITUTE(SUBSTITUTE(INDIRECT(\"Trello!\"&ADDRESS(ROW()-1, G$1, 4)),\"Debt: \",\"\"),\" $\",\"\"),\".\",\"\")*1)*IF(E87=\"\",1,F$2),\"\")","v":""},{"$f":"IFERROR(IF($A87=\"\",\"\",SUBSTITUTE(SUBSTITUTE(SUBSTITUTE(INDIRECT(\"Trello!\"&ADDRESS(ROW()-1, H$1, 4)),\"Cost: \",\"\"),\" $\",\"\"),\".\",\"\")*1*$F$2),\"\")","v":""},9222,{"$f":"IFERROR(SUBSTITUTE(SUBSTITUTE(SUBSTITUTE(RIGHT(INDIRECT(\"Trello!\"&ADDRESS(ROW()-1, L$1, 4)),LEN(INDIRECT(\"Trello!\"&ADDRESS(ROW()-1, L$1, 4)))-15),\". \",\"/\"),\" 20\",\"/20\"),\" \",\"\"),\"\")","v":""},{"$f":"IFERROR(SUBSTITUTE(SUBSTITUTE(SUBSTITUTE(RIGHT(INDIRECT(\"Trello!\"&ADDRESS(ROW()-1, M$1, 4)),LEN(INDIRECT(\"Trello!\"&ADDRESS(ROW()-1, M$1, 4)))-15),\". \",\"/\"),\" 20\",\"/20\"),\" \",\"\"),\"\")","v":""},"","","",{"$f":"IFERROR(SUBSTITUTE(INDIRECT(\"Trello!\"&ADDRESS(ROW()-1, O$1, 4)),\"Estimate hrs: \",\"\")*1,\"\")","v":""},{"$f":"IF(SUMIF(Timecamp!C:C,Reporte!A87,Timecamp!J:J)=0,\"\",SUMIF(Timecamp!C:C,Reporte!A87,Timecamp!J:J))","v":""},"","",{"$f":"IFERROR(VLOOKUP(A87,'SLA Trab'!E:I,5,FALSE),\"\")","v":""},{"$f":"IFERROR(VLOOKUP(A87,'SLA Cobr'!E:I,5,FALSE),\"\")","v":""}]
[{"$f":"IFERROR(IF(Trello!E87=\"\",\"\",Trello!E87),\" \")","v":"Nana - Vuelo Tijuana"},{"$f":"IF($A88=\"\",\"\",IF(Trello!A87=\"\",B87,Trello!A87))","v":"Terminado"},"2023-02-14",{"$f":"IF($A88=\"\",\"\",SUBSTITUTE(SUBSTITUTE(Trello!J87,\" days\",\"\"),\"⌚ \",\"\")*1)","v":211},{"$f":"IFERROR(IF($A88=\"\",\"\",SUBSTITUTE(SUBSTITUTE(SUBSTITUTE(INDIRECT(\"Trello!\"&ADDRESS(ROW()-1, E$1, 4)),\"Foreign: \",\"\"),\" $\",\"\"),\".\",\"\")*1),\"\")","v":""},{"$f":"IF($E88=\"\",IFERROR(IF($A88=\"\",\"\",SUBSTITUTE(SUBSTITUTE(SUBSTITUTE(INDIRECT(\"Trello!\"&ADDRESS(ROW()-1, F$1, 4)),\"MXN: \",\"\"),\" MX$\",\"\"),\".\",\"\")*1),\"\"),E88*F$2)","v":3555},{"$f":"IFERROR(IF($A88=\"\",\"\",SUBSTITUTE(SUBSTITUTE(SUBSTITUTE(INDIRECT(\"Trello!\"&ADDRESS(ROW()-1, G$1, 4)),\"Debt: \",\"\"),\" $\",\"\"),\".\",\"\")*1)*IF(E88=\"\",1,F$2),\"\")","v":""},{"$f":"IFERROR(IF($A88=\"\",\"\",SUBSTITUTE(SUBSTITUTE(SUBSTITUTE(INDIRECT(\"Trello!\"&ADDRESS(ROW()-1, H$1, 4)),\"Cost: \",\"\"),\" $\",\"\"),\".\",\"\")*1*$F$2),\"\")","v":""},3555,{"$f":"IFERROR(SUBSTITUTE(SUBSTITUTE(SUBSTITUTE(RIGHT(INDIRECT(\"Trello!\"&ADDRESS(ROW()-1, L$1, 4)),LEN(INDIRECT(\"Trello!\"&ADDRESS(ROW()-1, L$1, 4)))-15),\". \",\"/\"),\" 20\",\"/20\"),\" \",\"\"),\"\")","v":""},{"$f":"IFERROR(SUBSTITUTE(SUBSTITUTE(SUBSTITUTE(RIGHT(INDIRECT(\"Trello!\"&ADDRESS(ROW()-1, M$1, 4)),LEN(INDIRECT(\"Trello!\"&ADDRESS(ROW()-1, M$1, 4)))-15),\". \",\"/\"),\" 20\",\"/20\"),\" \",\"\"),\"\")","v":""},"","","",{"$f":"IFERROR(SUBSTITUTE(INDIRECT(\"Trello!\"&ADDRESS(ROW()-1, O$1, 4)),\"Estimate hrs: \",\"\")*1,\"\")","v":""},{"$f":"IF(SUMIF(Timecamp!C:C,Reporte!A88,Timecamp!J:J)=0,\"\",SUMIF(Timecamp!C:C,Reporte!A88,Timecamp!J:J))","v":""},"","",{"$f":"IFERROR(VLOOKUP(A88,'SLA Trab'!E:I,5,FALSE),\"\")","v":""},{"$f":"IFERROR(VLOOKUP(A88,'SLA Cobr'!E:I,5,FALSE),\"\")","v":""}]
[{"$f":"IFERROR(IF(Trello!E88=\"\",\"\",Trello!E88),\" \")","v":"Viv Freelancer - Sort out words"},{"$f":"IF($A89=\"\",\"\",IF(Trello!A88=\"\",B88,Trello!A88))","v":"Terminado"},"2023-02-03",{"$f":"IF($A89=\"\",\"\",SUBSTITUTE(SUBSTITUTE(Trello!J88,\" days\",\"\"),\"⌚ \",\"\")*1)","v":222},{"$f":"IFERROR(IF($A89=\"\",\"\",SUBSTITUTE(SUBSTITUTE(SUBSTITUTE(INDIRECT(\"Trello!\"&ADDRESS(ROW()-1, E$1, 4)),\"Foreign: \",\"\"),\" $\",\"\"),\".\",\"\")*1),\"\")","v":150},{"$f":"IF($E89=\"\",IFERROR(IF($A89=\"\",\"\",SUBSTITUTE(SUBSTITUTE(SUBSTITUTE(INDIRECT(\"Trello!\"&ADDRESS(ROW()-1, F$1, 4)),\"MXN: \",\"\"),\" MX$\",\"\"),\".\",\"\")*1),\"\"),E89*F$2)","v":2625},{"$f":"IFERROR(IF($A89=\"\",\"\",SUBSTITUTE(SUBSTITUTE(SUBSTITUTE(INDIRECT(\"Trello!\"&ADDRESS(ROW()-1, G$1, 4)),\"Debt: \",\"\"),\" $\",\"\"),\".\",\"\")*1)*IF(E89=\"\",1,F$2),\"\")","v":""},{"$f":"IFERROR(IF($A89=\"\",\"\",SUBSTITUTE(SUBSTITUTE(SUBSTITUTE(INDIRECT(\"Trello!\"&ADDRESS(ROW()-1, H$1, 4)),\"Cost: \",\"\"),\" $\",\"\"),\".\",\"\")*1*$F$2),\"\")","v":""},2625,{"$f":"IFERROR(SUBSTITUTE(SUBSTITUTE(SUBSTITUTE(RIGHT(INDIRECT(\"Trello!\"&ADDRESS(ROW()-1, L$1, 4)),LEN(INDIRECT(\"Trello!\"&ADDRESS(ROW()-1, L$1, 4)))-15),\". \",\"/\"),\" 20\",\"/20\"),\" \",\"\"),\"\")","v":""},{"$f":"IFERROR(SUBSTITUTE(SUBSTITUTE(SUBSTITUTE(RIGHT(INDIRECT(\"Trello!\"&ADDRESS(ROW()-1, M$1, 4)),LEN(INDIRECT(\"Trello!\"&ADDRESS(ROW()-1, M$1, 4)))-15),\". \",\"/\"),\" 20\",\"/20\"),\" \",\"\"),\"\")","v":""},"","","",{"$f":"IFERROR(SUBSTITUTE(INDIRECT(\"Trello!\"&ADDRESS(ROW()-1, O$1, 4)),\"Estimate hrs: \",\"\")*1,\"\")","v":""},{"$f":"IF(SUMIF(Timecamp!C:C,Reporte!A89,Timecamp!J:J)=0,\"\",SUMIF(Timecamp!C:C,Reporte!A89,Timecamp!J:J))","v":""},"","",{"$f":"IFERROR(VLOOKUP(A89,'SLA Trab'!E:I,5,FALSE),\"\")","v":""},{"$f":"IFERROR(VLOOKUP(A89,'SLA Cobr'!E:I,5,FALSE),\"\")","v":""}]
[{"$f":"IFERROR(IF(Trello!E89=\"\",\"\",Trello!E89),\" \")","v":"Nana - bus Oaxaca"},{"$f":"IF($A90=\"\",\"\",IF(Trello!A89=\"\",B89,Trello!A89))","v":"Terminado"},"2023-02-15",{"$f":"IF($A90=\"\",\"\",SUBSTITUTE(SUBSTITUTE(Trello!J89,\" days\",\"\"),\"⌚ \",\"\")*1)","v":210},{"$f":"IFERROR(IF($A90=\"\",\"\",SUBSTITUTE(SUBSTITUTE(SUBSTITUTE(INDIRECT(\"Trello!\"&ADDRESS(ROW()-1, E$1, 4)),\"Foreign: \",\"\"),\" $\",\"\"),\".\",\"\")*1),\"\")","v":""},{"$f":"IF($E90=\"\",IFERROR(IF($A90=\"\",\"\",SUBSTITUTE(SUBSTITUTE(SUBSTITUTE(INDIRECT(\"Trello!\"&ADDRESS(ROW()-1, F$1, 4)),\"MXN: \",\"\"),\" MX$\",\"\"),\".\",\"\")*1),\"\"),E90*F$2)","v":1290},{"$f":"IFERROR(IF($A90=\"\",\"\",SUBSTITUTE(SUBSTITUTE(SUBSTITUTE(INDIRECT(\"Trello!\"&ADDRESS(ROW()-1, G$1, 4)),\"Debt: \",\"\"),\" $\",\"\"),\".\",\"\")*1)*IF(E90=\"\",1,F$2),\"\")","v":""},{"$f":"IFERROR(IF($A90=\"\",\"\",SUBSTITUTE(SUBSTITUTE(SUBSTITUTE(INDIRECT(\"Trello!\"&ADDRESS(ROW()-1, H$1, 4)),\"Cost: \",\"\"),\" $\",\"\"),\".\",\"\")*1*$F$2),\"\")","v":""},1290,{"$f":"IFERROR(SUBSTITUTE(SUBSTITUTE(SUBSTITUTE(RIGHT(INDIRECT(\"Trello!\"&ADDRESS(ROW()-1, L$1, 4)),LEN(INDIRECT(\"Trello!\"&ADDRESS(ROW()-1, L$1, 4)))-15),\". \",\"/\"),\" 20\",\"/20\"),\" \",\"\"),\"\")","v":""},{"$f":"IFERROR(SUBSTITUTE(SUBSTITUTE(SUBSTITUTE(RIGHT(INDIRECT(\"Trello!\"&ADDRESS(ROW()-1, M$1, 4)),LEN(INDIRECT(\"Trello!\"&ADDRESS(ROW()-1, M$1, 4)))-15),\". \",\"/\"),\" 20\",\"/20\"),\" \",\"\"),\"\")","v":""},"","","",{"$f":"IFERROR(SUBSTITUTE(INDIRECT(\"Trello!\"&ADDRESS(ROW()-1, O$1, 4)),\"Estimate hrs: \",\"\")*1,\"\")","v":""},{"$f":"IF(SUMIF(Timecamp!C:C,Reporte!A90,Timecamp!J:J)=0,\"\",SUMIF(Timecamp!C:C,Reporte!A90,Timecamp!J:J))","v":""},"","",{"$f":"IFERROR(VLOOKUP(A90,'SLA Trab'!E:I,5,FALSE),\"\")","v":""},{"$f":"IFERROR(VLOOKUP(A90,'SLA Cobr'!E:I,5,FALSE),\"\")","v":""}]
[{"$f":"IFERROR(IF(Trello!E90=\"\",\"\",Trello!E90),\" \")","v":"Pablo Nanofactura - Nanofactura Factura API"},{"$f":"IF($A91=\"\",\"\",IF(Trello!A90=\"\",B90,Trello!A90))","v":"Terminado"},"2022-10-18",{"$f":"IF($A91=\"\",\"\",SUBSTITUTE(SUBSTITUTE(Trello!J90,\" days\",\"\"),\"⌚ \",\"\")*1)","v":330},{"$f":"IFERROR(IF($A91=\"\",\"\",SUBSTITUTE(SUBSTITUTE(SUBSTITUTE(INDIRECT(\"Trello!\"&ADDRESS(ROW()-1, E$1, 4)),\"Foreign: \",\"\"),\" $\",\"\"),\".\",\"\")*1),\"\")","v":""},{"$f":"IF($E91=\"\",IFERROR(IF($A91=\"\",\"\",SUBSTITUTE(SUBSTITUTE(SUBSTITUTE(INDIRECT(\"Trello!\"&ADDRESS(ROW()-1, F$1, 4)),\"MXN: \",\"\"),\" MX$\",\"\"),\".\",\"\")*1),\"\"),E91*F$2)","v":50000},{"$f":"IFERROR(IF($A91=\"\",\"\",SUBSTITUTE(SUBSTITUTE(SUBSTITUTE(INDIRECT(\"Trello!\"&ADDRESS(ROW()-1, G$1, 4)),\"Debt: \",\"\"),\" $\",\"\"),\".\",\"\")*1)*IF(E91=\"\",1,F$2),\"\")","v":0},{"$f":"IFERROR(IF($A91=\"\",\"\",SUBSTITUTE(SUBSTITUTE(SUBSTITUTE(INDIRECT(\"Trello!\"&ADDRESS(ROW()-1, H$1, 4)),\"Cost: \",\"\"),\" $\",\"\"),\".\",\"\")*1*$F$2),\"\")","v":""},50000,{"$f":"IFERROR(SUBSTITUTE(SUBSTITUTE(SUBSTITUTE(RIGHT(INDIRECT(\"Trello!\"&ADDRESS(ROW()-1, L$1, 4)),LEN(INDIRECT(\"Trello!\"&ADDRESS(ROW()-1, L$1, 4)))-15),\". \",\"/\"),\" 20\",\"/20\"),\" \",\"\"),\"\")","v":"9/Dez/2022"},{"$f":"IFERROR(SUBSTITUTE(SUBSTITUTE(SUBSTITUTE(RIGHT(INDIRECT(\"Trello!\"&ADDRESS(ROW()-1, M$1, 4)),LEN(INDIRECT(\"Trello!\"&ADDRESS(ROW()-1, M$1, 4)))-15),\". \",\"/\"),\" 20\",\"/20\"),\" \",\"\"),\"\")","v":"10/Feb/2023"},"2022-12-09","2023-02-10",-63,{"$f":"IFERROR(SUBSTITUTE(INDIRECT(\"Trello!\"&ADDRESS(ROW()-1, O$1, 4)),\"Estimate hrs: \",\"\")*1,\"\")","v":""},{"$f":"IF(SUMIF(Timecamp!C:C,Reporte!A91,Timecamp!J:J)=0,\"\",SUMIF(Timecamp!C:C,Reporte!A91,Timecamp!J:J))","v":""},"","",{"$f":"IFERROR(VLOOKUP(A91,'SLA Trab'!E:I,5,FALSE),\"\")","v":""},{"$f":"IFERROR(VLOOKUP(A91,'SLA Cobr'!E:I,5,FALSE),\"\")","v":""}]
[{"$f":"IFERROR(IF(Trello!E91=\"\",\"\",Trello!E91),\" \")","v":"Carrascosa - Firma Valuación"},{"$f":"IF($A92=\"\",\"\",IF(Trello!A91=\"\",B91,Trello!A91))","v":"Terminado"},"2023-02-14",{"$f":"IF($A92=\"\",\"\",SUBSTITUTE(SUBSTITUTE(Trello!J91,\" days\",\"\"),\"⌚ \",\"\")*1)","v":211},{"$f":"IFERROR(IF($A92=\"\",\"\",SUBSTITUTE(SUBSTITUTE(SUBSTITUTE(INDIRECT(\"Trello!\"&ADDRESS(ROW()-1, E$1, 4)),\"Foreign: \",\"\"),\" $\",\"\"),\".\",\"\")*1),\"\")","v":""},{"$f":"IF($E92=\"\",IFERROR(IF($A92=\"\",\"\",SUBSTITUTE(SUBSTITUTE(SUBSTITUTE(INDIRECT(\"Trello!\"&ADDRESS(ROW()-1, F$1, 4)),\"MXN: \",\"\"),\" MX$\",\"\"),\".\",\"\")*1),\"\"),E92*F$2)","v":2000},{"$f":"IFERROR(IF($A92=\"\",\"\",SUBSTITUTE(SUBSTITUTE(SUBSTITUTE(INDIRECT(\"Trello!\"&ADDRESS(ROW()-1, G$1, 4)),\"Debt: \",\"\"),\" $\",\"\"),\".\",\"\")*1)*IF(E92=\"\",1,F$2),\"\")","v":""},{"$f":"IFERROR(IF($A92=\"\",\"\",SUBSTITUTE(SUBSTITUTE(SUBSTITUTE(INDIRECT(\"Trello!\"&ADDRESS(ROW()-1, H$1, 4)),\"Cost: \",\"\"),\" $\",\"\"),\".\",\"\")*1*$F$2),\"\")","v":""},2000,{"$f":"IFERROR(SUBSTITUTE(SUBSTITUTE(SUBSTITUTE(RIGHT(INDIRECT(\"Trello!\"&ADDRESS(ROW()-1, L$1, 4)),LEN(INDIRECT(\"Trello!\"&ADDRESS(ROW()-1, L$1, 4)))-15),\". \",\"/\"),\" 20\",\"/20\"),\" \",\"\"),\"\")","v":""},{"$f":"IFERROR(SUBSTITUTE(SUBSTITUTE(SUBSTITUTE(RIGHT(INDIRECT(\"Trello!\"&ADDRESS(ROW()-1, M$1, 4)),LEN(INDIRECT(\"Trello!\"&ADDRESS(ROW()-1, M$1, 4)))-15),\". \",\"/\"),\" 20\",\"/20\"),\" \",\"\"),\"\")","v":""},"","","",{"$f":"IFERROR(SUBSTITUTE(INDIRECT(\"Trello!\"&ADDRESS(ROW()-1, O$1, 4)),\"Estimate hrs: \",\"\")*1,\"\")","v":""},{"$f":"IF(SUMIF(Timecamp!C:C,Reporte!A92,Timecamp!J:J)=0,\"\",SUMIF(Timecamp!C:C,Reporte!A92,Timecamp!J:J))","v":""},"","",{"$f":"IFERROR(VLOOKUP(A92,'SLA Trab'!E:I,5,FALSE),\"\")","v":""},{"$f":"IFERROR(VLOOKUP(A92,'SLA Cobr'!E:I,5,FALSE),\"\")","v":""}]
[{"$f":"IFERROR(IF(Trello!E92=\"\",\"\",Trello!E92),\" \")","v":"Diana Inlat - Ingeurbe Proyectos Acordeon fix"},{"$f":"IF($A93=\"\",\"\",IF(Trello!A92=\"\",B92,Trello!A92))","v":"Terminado"},"2023-02-08",{"$f":"IF($A93=\"\",\"\",SUBSTITUTE(SUBSTITUTE(Trello!J92,\" days\",\"\"),\"⌚ \",\"\")*1)","v":217},{"$f":"IFERROR(IF($A93=\"\",\"\",SUBSTITUTE(SUBSTITUTE(SUBSTITUTE(INDIRECT(\"Trello!\"&ADDRESS(ROW()-1, E$1, 4)),\"Foreign: \",\"\"),\" $\",\"\"),\".\",\"\")*1),\"\")","v":75},{"$f":"IF($E93=\"\",IFERROR(IF($A93=\"\",\"\",SUBSTITUTE(SUBSTITUTE(SUBSTITUTE(INDIRECT(\"Trello!\"&ADDRESS(ROW()-1, F$1, 4)),\"MXN: \",\"\"),\" MX$\",\"\"),\".\",\"\")*1),\"\"),E93*F$2)","v":1312.5},{"$f":"IFERROR(IF($A93=\"\",\"\",SUBSTITUTE(SUBSTITUTE(SUBSTITUTE(INDIRECT(\"Trello!\"&ADDRESS(ROW()-1, G$1, 4)),\"Debt: \",\"\"),\" $\",\"\"),\".\",\"\")*1)*IF(E93=\"\",1,F$2),\"\")","v":""},{"$f":"IFERROR(IF($A93=\"\",\"\",SUBSTITUTE(SUBSTITUTE(SUBSTITUTE(INDIRECT(\"Trello!\"&ADDRESS(ROW()-1, H$1, 4)),\"Cost: \",\"\"),\" $\",\"\"),\".\",\"\")*1*$F$2),\"\")","v":""},1312.5,{"$f":"IFERROR(SUBSTITUTE(SUBSTITUTE(SUBSTITUTE(RIGHT(INDIRECT(\"Trello!\"&ADDRESS(ROW()-1, L$1, 4)),LEN(INDIRECT(\"Trello!\"&ADDRESS(ROW()-1, L$1, 4)))-15),\". \",\"/\"),\" 20\",\"/20\"),\" \",\"\"),\"\")","v":""},{"$f":"IFERROR(SUBSTITUTE(SUBSTITUTE(SUBSTITUTE(RIGHT(INDIRECT(\"Trello!\"&ADDRESS(ROW()-1, M$1, 4)),LEN(INDIRECT(\"Trello!\"&ADDRESS(ROW()-1, M$1, 4)))-15),\". \",\"/\"),\" 20\",\"/20\"),\" \",\"\"),\"\")","v":""},"","","",{"$f":"IFERROR(SUBSTITUTE(INDIRECT(\"Trello!\"&ADDRESS(ROW()-1, O$1, 4)),\"Estimate hrs: \",\"\")*1,\"\")","v":""},{"$f":"IF(SUMIF(Timecamp!C:C,Reporte!A93,Timecamp!J:J)=0,\"\",SUMIF(Timecamp!C:C,Reporte!A93,Timecamp!J:J))","v":""},"","",{"$f":"IFERROR(VLOOKUP(A93,'SLA Trab'!E:I,5,FALSE),\"\")","v":""},{"$f":"IFERROR(VLOOKUP(A93,'SLA Cobr'!E:I,5,FALSE),\"\")","v":""}]
[{"$f":"IFERROR(IF(Trello!E93=\"\",\"\",Trello!E93),\" \")","v":"Gustavo Freelancer - Diloconfresas gmaps checkout"},{"$f":"IF($A94=\"\",\"\",IF(Trello!A93=\"\",B93,Trello!A93))","v":"Terminado"},"2023-01-19",{"$f":"IF($A94=\"\",\"\",SUBSTITUTE(SUBSTITUTE(Trello!J93,\" days\",\"\"),\"⌚ \",\"\")*1)","v":237},{"$f":"IFERROR(IF($A94=\"\",\"\",SUBSTITUTE(SUBSTITUTE(SUBSTITUTE(INDIRECT(\"Trello!\"&ADDRESS(ROW()-1, E$1, 4)),\"Foreign: \",\"\"),\" $\",\"\"),\".\",\"\")*1),\"\")","v":""},{"$f":"IF($E94=\"\",IFERROR(IF($A94=\"\",\"\",SUBSTITUTE(SUBSTITUTE(SUBSTITUTE(INDIRECT(\"Trello!\"&ADDRESS(ROW()-1, F$1, 4)),\"MXN: \",\"\"),\" MX$\",\"\"),\".\",\"\")*1),\"\"),E94*F$2)","v":500},{"$f":"IFERROR(IF($A94=\"\",\"\",SUBSTITUTE(SUBSTITUTE(SUBSTITUTE(INDIRECT(\"Trello!\"&ADDRESS(ROW()-1, G$1, 4)),\"Debt: \",\"\"),\" $\",\"\"),\".\",\"\")*1)*IF(E94=\"\",1,F$2),\"\")","v":""},{"$f":"IFERROR(IF($A94=\"\",\"\",SUBSTITUTE(SUBSTITUTE(SUBSTITUTE(INDIRECT(\"Trello!\"&ADDRESS(ROW()-1, H$1, 4)),\"Cost: \",\"\"),\" $\",\"\"),\".\",\"\")*1*$F$2),\"\")","v":""},500,{"$f":"IFERROR(SUBSTITUTE(SUBSTITUTE(SUBSTITUTE(RIGHT(INDIRECT(\"Trello!\"&ADDRESS(ROW()-1, L$1, 4)),LEN(INDIRECT(\"Trello!\"&ADDRESS(ROW()-1, L$1, 4)))-15),\". \",\"/\"),\" 20\",\"/20\"),\" \",\"\"),\"\")","v":""},{"$f":"IFERROR(SUBSTITUTE(SUBSTITUTE(SUBSTITUTE(RIGHT(INDIRECT(\"Trello!\"&ADDRESS(ROW()-1, M$1, 4)),LEN(INDIRECT(\"Trello!\"&ADDRESS(ROW()-1, M$1, 4)))-15),\". \",\"/\"),\" 20\",\"/20\"),\" \",\"\"),\"\")","v":"2/Feb/2023"},"","2023-02-02","",{"$f":"IFERROR(SUBSTITUTE(INDIRECT(\"Trello!\"&ADDRESS(ROW()-1, O$1, 4)),\"Estimate hrs: \",\"\")*1,\"\")","v":""},{"$f":"IF(SUMIF(Timecamp!C:C,Reporte!A94,Timecamp!J:J)=0,\"\",SUMIF(Timecamp!C:C,Reporte!A94,Timecamp!J:J))","v":""},"","",{"$f":"IFERROR(VLOOKUP(A94,'SLA Trab'!E:I,5,FALSE),\"\")","v":""},{"$f":"IFERROR(VLOOKUP(A94,'SLA Cobr'!E:I,5,FALSE),\"\")","v":""}]
[{"$f":"IFERROR(IF(Trello!E94=\"\",\"\",Trello!E94),\" \")","v":"Caba - prestamo"},{"$f":"IF($A95=\"\",\"\",IF(Trello!A94=\"\",B94,Trello!A94))","v":"Terminado"},"2023-01-17",{"$f":"IF($A95=\"\",\"\",SUBSTITUTE(SUBSTITUTE(Trello!J94,\" days\",\"\"),\"⌚ \",\"\")*1)","v":239},{"$f":"IFERROR(IF($A95=\"\",\"\",SUBSTITUTE(SUBSTITUTE(SUBSTITUTE(INDIRECT(\"Trello!\"&ADDRESS(ROW()-1, E$1, 4)),\"Foreign: \",\"\"),\" $\",\"\"),\".\",\"\")*1),\"\")","v":""},{"$f":"IF($E95=\"\",IFERROR(IF($A95=\"\",\"\",SUBSTITUTE(SUBSTITUTE(SUBSTITUTE(INDIRECT(\"Trello!\"&ADDRESS(ROW()-1, F$1, 4)),\"MXN: \",\"\"),\" MX$\",\"\"),\".\",\"\")*1),\"\"),E95*F$2)","v":5000},{"$f":"IFERROR(IF($A95=\"\",\"\",SUBSTITUTE(SUBSTITUTE(SUBSTITUTE(INDIRECT(\"Trello!\"&ADDRESS(ROW()-1, G$1, 4)),\"Debt: \",\"\"),\" $\",\"\"),\".\",\"\")*1)*IF(E95=\"\",1,F$2),\"\")","v":""},{"$f":"IFERROR(IF($A95=\"\",\"\",SUBSTITUTE(SUBSTITUTE(SUBSTITUTE(INDIRECT(\"Trello!\"&ADDRESS(ROW()-1, H$1, 4)),\"Cost: \",\"\"),\" $\",\"\"),\".\",\"\")*1*$F$2),\"\")","v":""},5000,{"$f":"IFERROR(SUBSTITUTE(SUBSTITUTE(SUBSTITUTE(RIGHT(INDIRECT(\"Trello!\"&ADDRESS(ROW()-1, L$1, 4)),LEN(INDIRECT(\"Trello!\"&ADDRESS(ROW()-1, L$1, 4)))-15),\". \",\"/\"),\" 20\",\"/20\"),\" \",\"\"),\"\")","v":"15/Feb/2023"},{"$f":"IFERROR(SUBSTITUTE(SUBSTITUTE(SUBSTITUTE(RIGHT(INDIRECT(\"Trello!\"&ADDRESS(ROW()-1, M$1, 4)),LEN(INDIRECT(\"Trello!\"&ADDRESS(ROW()-1, M$1, 4)))-15),\". \",\"/\"),\" 20\",\"/20\"),\" \",\"\"),\"\")","v":"9/Jan/2023"},"2023-02-15","2023-01-09",37,{"$f":"IFERROR(SUBSTITUTE(INDIRECT(\"Trello!\"&ADDRESS(ROW()-1, O$1, 4)),\"Estimate hrs: \",\"\")*1,\"\")","v":""},{"$f":"IF(SUMIF(Timecamp!C:C,Reporte!A95,Timecamp!J:J)=0,\"\",SUMIF(Timecamp!C:C,Reporte!A95,Timecamp!J:J))","v":""},"","",{"$f":"IFERROR(VLOOKUP(A95,'SLA Trab'!E:I,5,FALSE),\"\")","v":""},{"$f":"IFERROR(VLOOKUP(A95,'SLA Cobr'!E:I,5,FALSE),\"\")","v":""}]
[{"$f":"IFERROR(IF(Trello!E95=\"\",\"\",Trello!E95),\" \")","v":"Viv Freelancer - Wordle word filter"},{"$f":"IF($A96=\"\",\"\",IF(Trello!A95=\"\",B95,Trello!A95))","v":"Terminado"},"2023-01-25",{"$f":"IF($A96=\"\",\"\",SUBSTITUTE(SUBSTITUTE(Trello!J95,\" days\",\"\"),\"⌚ \",\"\")*1)","v":231},{"$f":"IFERROR(IF($A96=\"\",\"\",SUBSTITUTE(SUBSTITUTE(SUBSTITUTE(INDIRECT(\"Trello!\"&ADDRESS(ROW()-1, E$1, 4)),\"Foreign: \",\"\"),\" $\",\"\"),\".\",\"\")*1),\"\")","v":800},{"$f":"IF($E96=\"\",IFERROR(IF($A96=\"\",\"\",SUBSTITUTE(SUBSTITUTE(SUBSTITUTE(INDIRECT(\"Trello!\"&ADDRESS(ROW()-1, F$1, 4)),\"MXN: \",\"\"),\" MX$\",\"\"),\".\",\"\")*1),\"\"),E96*F$2)","v":14000},{"$f":"IFERROR(IF($A96=\"\",\"\",SUBSTITUTE(SUBSTITUTE(SUBSTITUTE(INDIRECT(\"Trello!\"&ADDRESS(ROW()-1, G$1, 4)),\"Debt: \",\"\"),\" $\",\"\"),\".\",\"\")*1)*IF(E96=\"\",1,F$2),\"\")","v":8400},{"$f":"IFERROR(IF($A96=\"\",\"\",SUBSTITUTE(SUBSTITUTE(SUBSTITUTE(INDIRECT(\"Trello!\"&ADDRESS(ROW()-1, H$1, 4)),\"Cost: \",\"\"),\" $\",\"\"),\".\",\"\")*1*$F$2),\"\")","v":""},14000,{"$f":"IFERROR(SUBSTITUTE(SUBSTITUTE(SUBSTITUTE(RIGHT(INDIRECT(\"Trello!\"&ADDRESS(ROW()-1, L$1, 4)),LEN(INDIRECT(\"Trello!\"&ADDRESS(ROW()-1, L$1, 4)))-15),\". \",\"/\"),\" 20\",\"/20\"),\" \",\"\"),\"\")","v":""},{"$f":"IFERROR(SUBSTITUTE(SUBSTITUTE(SUBSTITUTE(RIGHT(INDIRECT(\"Trello!\"&ADDRESS(ROW()-1, M$1, 4)),LEN(INDIRECT(\"Trello!\"&ADDRESS(ROW()-1, M$1, 4)))-15),\". \",\"/\"),\" 20\",\"/20\"),\" \",\"\"),\"\")","v":""},"","","",{"$f":"IFERROR(SUBSTITUTE(INDIRECT(\"Trello!\"&ADDRESS(ROW()-1, O$1, 4)),\"Estimate hrs: \",\"\")*1,\"\")","v":""},{"$f":"IF(SUMIF(Timecamp!C:C,Reporte!A96,Timecamp!J:J)=0,\"\",SUMIF(Timecamp!C:C,Reporte!A96,Timecamp!J:J))","v":""},"","",{"$f":"IFERROR(VLOOKUP(A96,'SLA Trab'!E:I,5,FALSE),\"\")","v":""},{"$f":"IFERROR(VLOOKUP(A96,'SLA Cobr'!E:I,5,FALSE),\"\")","v":""}]
[{"$f":"IFERROR(IF(Trello!E96=\"\",\"\",Trello!E96),\" \")","v":"Yamel Freelancer - Konditorhusset 1hr cambios"},{"$f":"IF($A97=\"\",\"\",IF(Trello!A96=\"\",B96,Trello!A96))","v":"Terminado"},"2023-01-30",{"$f":"IF($A97=\"\",\"\",SUBSTITUTE(SUBSTITUTE(Trello!J96,\" days\",\"\"),\"⌚ \",\"\")*1)","v":226},{"$f":"IFERROR(IF($A97=\"\",\"\",SUBSTITUTE(SUBSTITUTE(SUBSTITUTE(INDIRECT(\"Trello!\"&ADDRESS(ROW()-1, E$1, 4)),\"Foreign: \",\"\"),\" $\",\"\"),\".\",\"\")*1),\"\")","v":30},{"$f":"IF($E97=\"\",IFERROR(IF($A97=\"\",\"\",SUBSTITUTE(SUBSTITUTE(SUBSTITUTE(INDIRECT(\"Trello!\"&ADDRESS(ROW()-1, F$1, 4)),\"MXN: \",\"\"),\" MX$\",\"\"),\".\",\"\")*1),\"\"),E97*F$2)","v":525},{"$f":"IFERROR(IF($A97=\"\",\"\",SUBSTITUTE(SUBSTITUTE(SUBSTITUTE(INDIRECT(\"Trello!\"&ADDRESS(ROW()-1, G$1, 4)),\"Debt: \",\"\"),\" $\",\"\"),\".\",\"\")*1)*IF(E97=\"\",1,F$2),\"\")","v":""},{"$f":"IFERROR(IF($A97=\"\",\"\",SUBSTITUTE(SUBSTITUTE(SUBSTITUTE(INDIRECT(\"Trello!\"&ADDRESS(ROW()-1, H$1, 4)),\"Cost: \",\"\"),\" $\",\"\"),\".\",\"\")*1*$F$2),\"\")","v":""},525,{"$f":"IFERROR(SUBSTITUTE(SUBSTITUTE(SUBSTITUTE(RIGHT(INDIRECT(\"Trello!\"&ADDRESS(ROW()-1, L$1, 4)),LEN(INDIRECT(\"Trello!\"&ADDRESS(ROW()-1, L$1, 4)))-15),\". \",\"/\"),\" 20\",\"/20\"),\" \",\"\"),\"\")","v":""},{"$f":"IFERROR(SUBSTITUTE(SUBSTITUTE(SUBSTITUTE(RIGHT(INDIRECT(\"Trello!\"&ADDRESS(ROW()-1, M$1, 4)),LEN(INDIRECT(\"Trello!\"&ADDRESS(ROW()-1, M$1, 4)))-15),\". \",\"/\"),\" 20\",\"/20\"),\" \",\"\"),\"\")","v":""},"","","",{"$f":"IFERROR(SUBSTITUTE(INDIRECT(\"Trello!\"&ADDRESS(ROW()-1, O$1, 4)),\"Estimate hrs: \",\"\")*1,\"\")","v":""},{"$f":"IF(SUMIF(Timecamp!C:C,Reporte!A97,Timecamp!J:J)=0,\"\",SUMIF(Timecamp!C:C,Reporte!A97,Timecamp!J:J))","v":""},"","",{"$f":"IFERROR(VLOOKUP(A97,'SLA Trab'!E:I,5,FALSE),\"\")","v":""},{"$f":"IFERROR(VLOOKUP(A97,'SLA Cobr'!E:I,5,FALSE),\"\")","v":""}]
[{"$f":"IFERROR(IF(Trello!E97=\"\",\"\",Trello!E97),\" \")","v":"Rigoberto Freelancer - YourQuickMoney"},{"$f":"IF($A98=\"\",\"\",IF(Trello!A97=\"\",B97,Trello!A97))","v":"Terminado"},"2022-10-03",{"$f":"IF($A98=\"\",\"\",SUBSTITUTE(SUBSTITUTE(Trello!J97,\" days\",\"\"),\"⌚ \",\"\")*1)","v":345},{"$f":"IFERROR(IF($A98=\"\",\"\",SUBSTITUTE(SUBSTITUTE(SUBSTITUTE(INDIRECT(\"Trello!\"&ADDRESS(ROW()-1, E$1, 4)),\"Foreign: \",\"\"),\" $\",\"\"),\".\",\"\")*1),\"\")","v":1200},{"$f":"IF($E98=\"\",IFERROR(IF($A98=\"\",\"\",SUBSTITUTE(SUBSTITUTE(SUBSTITUTE(INDIRECT(\"Trello!\"&ADDRESS(ROW()-1, F$1, 4)),\"MXN: \",\"\"),\" MX$\",\"\"),\".\",\"\")*1),\"\"),E98*F$2)","v":21000},{"$f":"IFERROR(IF($A98=\"\",\"\",SUBSTITUTE(SUBSTITUTE(SUBSTITUTE(INDIRECT(\"Trello!\"&ADDRESS(ROW()-1, G$1, 4)),\"Debt: \",\"\"),\" $\",\"\"),\".\",\"\")*1)*IF(E98=\"\",1,F$2),\"\")","v":""},{"$f":"IFERROR(IF($A98=\"\",\"\",SUBSTITUTE(SUBSTITUTE(SUBSTITUTE(INDIRECT(\"Trello!\"&ADDRESS(ROW()-1, H$1, 4)),\"Cost: \",\"\"),\" $\",\"\"),\".\",\"\")*1*$F$2),\"\")","v":""},21000,{"$f":"IFERROR(SUBSTITUTE(SUBSTITUTE(SUBSTITUTE(RIGHT(INDIRECT(\"Trello!\"&ADDRESS(ROW()-1, L$1, 4)),LEN(INDIRECT(\"Trello!\"&ADDRESS(ROW()-1, L$1, 4)))-15),\". \",\"/\"),\" 20\",\"/20\"),\" \",\"\"),\"\")","v":"21/Okt/2022"},{"$f":"IFERROR(SUBSTITUTE(SUBSTITUTE(SUBSTITUTE(RIGHT(INDIRECT(\"Trello!\"&ADDRESS(ROW()-1, M$1, 4)),LEN(INDIRECT(\"Trello!\"&ADDRESS(ROW()-1, M$1, 4)))-15),\". \",\"/\"),\" 20\",\"/20\"),\" \",\"\"),\"\")","v":""},"2022-10-21","","",{"$f":"IFERROR(SUBSTITUTE(INDIRECT(\"Trello!\"&ADDRESS(ROW()-1, O$1, 4)),\"Estimate hrs: \",\"\")*1,\"\")","v":""},{"$f":"IF(SUMIF(Timecamp!C:C,Reporte!A98,Timecamp!J:J)=0,\"\",SUMIF(Timecamp!C:C,Reporte!A98,Timecamp!J:J))","v":""},"","",{"$f":"IFERROR(VLOOKUP(A98,'SLA Trab'!E:I,5,FALSE),\"\")","v":""},{"$f":"IFERROR(VLOOKUP(A98,'SLA Cobr'!E:I,5,FALSE),\"\")","v":""}]
[{"$f":"IFERROR(IF(Trello!E98=\"\",\"\",Trello!E98),\" \")","v":"Nick Advizee - new edits, filtros, nueva plataforma y advizee free ssl"},{"$f":"IF($A99=\"\",\"\",IF(Trello!A98=\"\",B98,Trello!A98))","v":"Terminado"},"2022-11-24",{"$f":"IF($A99=\"\",\"\",SUBSTITUTE(SUBSTITUTE(Trello!J98,\" days\",\"\"),\"⌚ \",\"\")*1)","v":293},{"$f":"IFERROR(IF($A99=\"\",\"\",SUBSTITUTE(SUBSTITUTE(SUBSTITUTE(INDIRECT(\"Trello!\"&ADDRESS(ROW()-1, E$1, 4)),\"Foreign: \",\"\"),\" $\",\"\"),\".\",\"\")*1),\"\")","v":200},{"$f":"IF($E99=\"\",IFERROR(IF($A99=\"\",\"\",SUBSTITUTE(SUBSTITUTE(SUBSTITUTE(INDIRECT(\"Trello!\"&ADDRESS(ROW()-1, F$1, 4)),\"MXN: \",\"\"),\" MX$\",\"\"),\".\",\"\")*1),\"\"),E99*F$2)","v":3500},{"$f":"IFERROR(IF($A99=\"\",\"\",SUBSTITUTE(SUBSTITUTE(SUBSTITUTE(INDIRECT(\"Trello!\"&ADDRESS(ROW()-1, G$1, 4)),\"Debt: \",\"\"),\" $\",\"\"),\".\",\"\")*1)*IF(E99=\"\",1,F$2),\"\")","v":0},{"$f":"IFERROR(IF($A99=\"\",\"\",SUBSTITUTE(SUBSTITUTE(SUBSTITUTE(INDIRECT(\"Trello!\"&ADDRESS(ROW()-1, H$1, 4)),\"Cost: \",\"\"),\" $\",\"\"),\".\",\"\")*1*$F$2),\"\")","v":""},3500,{"$f":"IFERROR(SUBSTITUTE(SUBSTITUTE(SUBSTITUTE(RIGHT(INDIRECT(\"Trello!\"&ADDRESS(ROW()-1, L$1, 4)),LEN(INDIRECT(\"Trello!\"&ADDRESS(ROW()-1, L$1, 4)))-15),\". \",\"/\"),\" 20\",\"/20\"),\" \",\"\"),\"\")","v":""},{"$f":"IFERROR(SUBSTITUTE(SUBSTITUTE(SUBSTITUTE(RIGHT(INDIRECT(\"Trello!\"&ADDRESS(ROW()-1, M$1, 4)),LEN(INDIRECT(\"Trello!\"&ADDRESS(ROW()-1, M$1, 4)))-15),\". \",\"/\"),\" 20\",\"/20\"),\" \",\"\"),\"\")","v":""},"","","",{"$f":"IFERROR(SUBSTITUTE(INDIRECT(\"Trello!\"&ADDRESS(ROW()-1, O$1, 4)),\"Estimate hrs: \",\"\")*1,\"\")","v":""},{"$f":"IF(SUMIF(Timecamp!C:C,Reporte!A99,Timecamp!J:J)=0,\"\",SUMIF(Timecamp!C:C,Reporte!A99,Timecamp!J:J))","v":""},"","",{"$f":"IFERROR(VLOOKUP(A99,'SLA Trab'!E:I,5,FALSE),\"\")","v":""},{"$f":"IFERROR(VLOOKUP(A99,'SLA Cobr'!E:I,5,FALSE),\"\")","v":""}]
[{"$f":"IFERROR(IF(Trello!E99=\"\",\"\",Trello!E99),\" \")","v":"Francisco Inlat - Ingeurbe cfield y badge"},{"$f":"IF($A100=\"\",\"\",IF(Trello!A99=\"\",B99,Trello!A99))","v":"Terminado"},"2022-12-29",{"$f":"IF($A100=\"\",\"\",SUBSTITUTE(SUBSTITUTE(Trello!J99,\" days\",\"\"),\"⌚ \",\"\")*1)","v":258},{"$f":"IFERROR(IF($A100=\"\",\"\",SUBSTITUTE(SUBSTITUTE(SUBSTITUTE(INDIRECT(\"Trello!\"&ADDRESS(ROW()-1, E$1, 4)),\"Foreign: \",\"\"),\" $\",\"\"),\".\",\"\")*1),\"\")","v":90},{"$f":"IF($E100=\"\",IFERROR(IF($A100=\"\",\"\",SUBSTITUTE(SUBSTITUTE(SUBSTITUTE(INDIRECT(\"Trello!\"&ADDRESS(ROW()-1, F$1, 4)),\"MXN: \",\"\"),\" MX$\",\"\"),\".\",\"\")*1),\"\"),E100*F$2)","v":1575},{"$f":"IFERROR(IF($A100=\"\",\"\",SUBSTITUTE(SUBSTITUTE(SUBSTITUTE(INDIRECT(\"Trello!\"&ADDRESS(ROW()-1, G$1, 4)),\"Debt: \",\"\"),\" $\",\"\"),\".\",\"\")*1)*IF(E100=\"\",1,F$2),\"\")","v":""},{"$f":"IFERROR(IF($A100=\"\",\"\",SUBSTITUTE(SUBSTITUTE(SUBSTITUTE(INDIRECT(\"Trello!\"&ADDRESS(ROW()-1, H$1, 4)),\"Cost: \",\"\"),\" $\",\"\"),\".\",\"\")*1*$F$2),\"\")","v":""},1575,{"$f":"IFERROR(SUBSTITUTE(SUBSTITUTE(SUBSTITUTE(RIGHT(INDIRECT(\"Trello!\"&ADDRESS(ROW()-1, L$1, 4)),LEN(INDIRECT(\"Trello!\"&ADDRESS(ROW()-1, L$1, 4)))-15),\". \",\"/\"),\" 20\",\"/20\"),\" \",\"\"),\"\")","v":""},{"$f":"IFERROR(SUBSTITUTE(SUBSTITUTE(SUBSTITUTE(RIGHT(INDIRECT(\"Trello!\"&ADDRESS(ROW()-1, M$1, 4)),LEN(INDIRECT(\"Trello!\"&ADDRESS(ROW()-1, M$1, 4)))-15),\". \",\"/\"),\" 20\",\"/20\"),\" \",\"\"),\"\")","v":""},"","","",{"$f":"IFERROR(SUBSTITUTE(INDIRECT(\"Trello!\"&ADDRESS(ROW()-1, O$1, 4)),\"Estimate hrs: \",\"\")*1,\"\")","v":""},{"$f":"IF(SUMIF(Timecamp!C:C,Reporte!A100,Timecamp!J:J)=0,\"\",SUMIF(Timecamp!C:C,Reporte!A100,Timecamp!J:J))","v":""},"","",{"$f":"IFERROR(VLOOKUP(A100,'SLA Trab'!E:I,5,FALSE),\"\")","v":""},{"$f":"IFERROR(VLOOKUP(A100,'SLA Cobr'!E:I,5,FALSE),\"\")","v":""}]
[{"$f":"IFERROR(IF(Trello!E100=\"\",\"\",Trello!E100),\" \")","v":"Papa - EdiEco CRM"},{"$f":"IF($A101=\"\",\"\",IF(Trello!A100=\"\",B100,Trello!A100))","v":"Terminado"},"2022-09-12",{"$f":"IF($A101=\"\",\"\",SUBSTITUTE(SUBSTITUTE(Trello!J100,\" days\",\"\"),\"⌚ \",\"\")*1)","v":366},{"$f":"IFERROR(IF($A101=\"\",\"\",SUBSTITUTE(SUBSTITUTE(SUBSTITUTE(INDIRECT(\"Trello!\"&ADDRESS(ROW()-1, E$1, 4)),\"Foreign: \",\"\"),\" $\",\"\"),\".\",\"\")*1),\"\")","v":""},{"$f":"IF($E101=\"\",IFERROR(IF($A101=\"\",\"\",SUBSTITUTE(SUBSTITUTE(SUBSTITUTE(INDIRECT(\"Trello!\"&ADDRESS(ROW()-1, F$1, 4)),\"MXN: \",\"\"),\" MX$\",\"\"),\".\",\"\")*1),\"\"),E101*F$2)","v":15000},{"$f":"IFERROR(IF($A101=\"\",\"\",SUBSTITUTE(SUBSTITUTE(SUBSTITUTE(INDIRECT(\"Trello!\"&ADDRESS(ROW()-1, G$1, 4)),\"Debt: \",\"\"),\" $\",\"\"),\".\",\"\")*1)*IF(E101=\"\",1,F$2),\"\")","v":0},{"$f":"IFERROR(IF($A101=\"\",\"\",SUBSTITUTE(SUBSTITUTE(SUBSTITUTE(INDIRECT(\"Trello!\"&ADDRESS(ROW()-1, H$1, 4)),\"Cost: \",\"\"),\" $\",\"\"),\".\",\"\")*1*$F$2),\"\")","v":""},15000,{"$f":"IFERROR(SUBSTITUTE(SUBSTITUTE(SUBSTITUTE(RIGHT(INDIRECT(\"Trello!\"&ADDRESS(ROW()-1, L$1, 4)),LEN(INDIRECT(\"Trello!\"&ADDRESS(ROW()-1, L$1, 4)))-15),\". \",\"/\"),\" 20\",\"/20\"),\" \",\"\"),\"\")","v":"31/Okt/2022"},{"$f":"IFERROR(SUBSTITUTE(SUBSTITUTE(SUBSTITUTE(RIGHT(INDIRECT(\"Trello!\"&ADDRESS(ROW()-1, M$1, 4)),LEN(INDIRECT(\"Trello!\"&ADDRESS(ROW()-1, M$1, 4)))-15),\". \",\"/\"),\" 20\",\"/20\"),\" \",\"\"),\"\")","v":""},"2022-10-31","","",{"$f":"IFERROR(SUBSTITUTE(INDIRECT(\"Trello!\"&ADDRESS(ROW()-1, O$1, 4)),\"Estimate hrs: \",\"\")*1,\"\")","v":""},{"$f":"IF(SUMIF(Timecamp!C:C,Reporte!A101,Timecamp!J:J)=0,\"\",SUMIF(Timecamp!C:C,Reporte!A101,Timecamp!J:J))","v":""},"","",{"$f":"IFERROR(VLOOKUP(A101,'SLA Trab'!E:I,5,FALSE),\"\")","v":""},{"$f":"IFERROR(VLOOKUP(A101,'SLA Cobr'!E:I,5,FALSE),\"\")","v":""}]
[{"$f":"IFERROR(IF(Trello!E101=\"\",\"\",Trello!E101),\" \")","v":"Daren Freelancer - Precise DM cambios"},{"$f":"IF($A102=\"\",\"\",IF(Trello!A101=\"\",B101,Trello!A101))","v":"Terminado"},"2022-11-24",{"$f":"IF($A102=\"\",\"\",SUBSTITUTE(SUBSTITUTE(Trello!J101,\" days\",\"\"),\"⌚ \",\"\")*1)","v":293},{"$f":"IFERROR(IF($A102=\"\",\"\",SUBSTITUTE(SUBSTITUTE(SUBSTITUTE(INDIRECT(\"Trello!\"&ADDRESS(ROW()-1, E$1, 4)),\"Foreign: \",\"\"),\" $\",\"\"),\".\",\"\")*1),\"\")","v":180},{"$f":"IF($E102=\"\",IFERROR(IF($A102=\"\",\"\",SUBSTITUTE(SUBSTITUTE(SUBSTITUTE(INDIRECT(\"Trello!\"&ADDRESS(ROW()-1, F$1, 4)),\"MXN: \",\"\"),\" MX$\",\"\"),\".\",\"\")*1),\"\"),E102*F$2)","v":3150},{"$f":"IFERROR(IF($A102=\"\",\"\",SUBSTITUTE(SUBSTITUTE(SUBSTITUTE(INDIRECT(\"Trello!\"&ADDRESS(ROW()-1, G$1, 4)),\"Debt: \",\"\"),\" $\",\"\"),\".\",\"\")*1)*IF(E102=\"\",1,F$2),\"\")","v":""},{"$f":"IFERROR(IF($A102=\"\",\"\",SUBSTITUTE(SUBSTITUTE(SUBSTITUTE(INDIRECT(\"Trello!\"&ADDRESS(ROW()-1, H$1, 4)),\"Cost: \",\"\"),\" $\",\"\"),\".\",\"\")*1*$F$2),\"\")","v":""},3150,{"$f":"IFERROR(SUBSTITUTE(SUBSTITUTE(SUBSTITUTE(RIGHT(INDIRECT(\"Trello!\"&ADDRESS(ROW()-1, L$1, 4)),LEN(INDIRECT(\"Trello!\"&ADDRESS(ROW()-1, L$1, 4)))-15),\". \",\"/\"),\" 20\",\"/20\"),\" \",\"\"),\"\")","v":""},{"$f":"IFERROR(SUBSTITUTE(SUBSTITUTE(SUBSTITUTE(RIGHT(INDIRECT(\"Trello!\"&ADDRESS(ROW()-1, M$1, 4)),LEN(INDIRECT(\"Trello!\"&ADDRESS(ROW()-1, M$1, 4)))-15),\". \",\"/\"),\" 20\",\"/20\"),\" \",\"\"),\"\")","v":"30/Nov/2022"},"","2022-11-30","",{"$f":"IFERROR(SUBSTITUTE(INDIRECT(\"Trello!\"&ADDRESS(ROW()-1, O$1, 4)),\"Estimate hrs: \",\"\")*1,\"\")","v":""},{"$f":"IF(SUMIF(Timecamp!C:C,Reporte!A102,Timecamp!J:J)=0,\"\",SUMIF(Timecamp!C:C,Reporte!A102,Timecamp!J:J))","v":""},"","",{"$f":"IFERROR(VLOOKUP(A102,'SLA Trab'!E:I,5,FALSE),\"\")","v":""},{"$f":"IFERROR(VLOOKUP(A102,'SLA Cobr'!E:I,5,FALSE),\"\")","v":""}]
[{"$f":"IFERROR(IF(Trello!E102=\"\",\"\",Trello!E102),\" \")","v":"Miguel Bullkens - Reunion 2da parte"},{"$f":"IF($A103=\"\",\"\",IF(Trello!A102=\"\",B102,Trello!A102))","v":"Terminado"},"2022-09-09",{"$f":"IF($A103=\"\",\"\",SUBSTITUTE(SUBSTITUTE(Trello!J102,\" days\",\"\"),\"⌚ \",\"\")*1)","v":369},{"$f":"IFERROR(IF($A103=\"\",\"\",SUBSTITUTE(SUBSTITUTE(SUBSTITUTE(INDIRECT(\"Trello!\"&ADDRESS(ROW()-1, E$1, 4)),\"Foreign: \",\"\"),\" $\",\"\"),\".\",\"\")*1),\"\")","v":600},{"$f":"IF($E103=\"\",IFERROR(IF($A103=\"\",\"\",SUBSTITUTE(SUBSTITUTE(SUBSTITUTE(INDIRECT(\"Trello!\"&ADDRESS(ROW()-1, F$1, 4)),\"MXN: \",\"\"),\" MX$\",\"\"),\".\",\"\")*1),\"\"),E103*F$2)","v":10500},{"$f":"IFERROR(IF($A103=\"\",\"\",SUBSTITUTE(SUBSTITUTE(SUBSTITUTE(INDIRECT(\"Trello!\"&ADDRESS(ROW()-1, G$1, 4)),\"Debt: \",\"\"),\" $\",\"\"),\".\",\"\")*1)*IF(E103=\"\",1,F$2),\"\")","v":0},{"$f":"IFERROR(IF($A103=\"\",\"\",SUBSTITUTE(SUBSTITUTE(SUBSTITUTE(INDIRECT(\"Trello!\"&ADDRESS(ROW()-1, H$1, 4)),\"Cost: \",\"\"),\" $\",\"\"),\".\",\"\")*1*$F$2),\"\")","v":""},10500,{"$f":"IFERROR(SUBSTITUTE(SUBSTITUTE(SUBSTITUTE(RIGHT(INDIRECT(\"Trello!\"&ADDRESS(ROW()-1, L$1, 4)),LEN(INDIRECT(\"Trello!\"&ADDRESS(ROW()-1, L$1, 4)))-15),\". \",\"/\"),\" 20\",\"/20\"),\" \",\"\"),\"\")","v":"17/Okt/2022"},{"$f":"IFERROR(SUBSTITUTE(SUBSTITUTE(SUBSTITUTE(RIGHT(INDIRECT(\"Trello!\"&ADDRESS(ROW()-1, M$1, 4)),LEN(INDIRECT(\"Trello!\"&ADDRESS(ROW()-1, M$1, 4)))-15),\". \",\"/\"),\" 20\",\"/20\"),\" \",\"\"),\"\")","v":"26/Okt/2022"},"2022-10-17","2022-10-26",-9,{"$f":"IFERROR(SUBSTITUTE(INDIRECT(\"Trello!\"&ADDRESS(ROW()-1, O$1, 4)),\"Estimate hrs: \",\"\")*1,\"\")","v":""},{"$f":"IF(SUMIF(Timecamp!C:C,Reporte!A103,Timecamp!J:J)=0,\"\",SUMIF(Timecamp!C:C,Reporte!A103,Timecamp!J:J))","v":""},"","",{"$f":"IFERROR(VLOOKUP(A103,'SLA Trab'!E:I,5,FALSE),\"\")","v":""},{"$f":"IFERROR(VLOOKUP(A103,'SLA Cobr'!E:I,5,FALSE),\"\")","v":""}]
[{"$f":"IFERROR(IF(Trello!E103=\"\",\"\",Trello!E103),\" \")","v":"Lisandro - IAPTI QR y nuevo campo link social tree, mybb mail envios..."},{"$f":"IF($A104=\"\",\"\",IF(Trello!A103=\"\",B103,Trello!A103))","v":"Terminado"},"2022-10-07",{"$f":"IF($A104=\"\",\"\",SUBSTITUTE(SUBSTITUTE(Trello!J103,\" days\",\"\"),\"⌚ \",\"\")*1)","v":341},{"$f":"IFERROR(IF($A104=\"\",\"\",SUBSTITUTE(SUBSTITUTE(SUBSTITUTE(INDIRECT(\"Trello!\"&ADDRESS(ROW()-1, E$1, 4)),\"Foreign: \",\"\"),\" $\",\"\"),\".\",\"\")*1),\"\")","v":70},{"$f":"IF($E104=\"\",IFERROR(IF($A104=\"\",\"\",SUBSTITUTE(SUBSTITUTE(SUBSTITUTE(INDIRECT(\"Trello!\"&ADDRESS(ROW()-1, F$1, 4)),\"MXN: \",\"\"),\" MX$\",\"\"),\".\",\"\")*1),\"\"),E104*F$2)","v":1225},{"$f":"IFERROR(IF($A104=\"\",\"\",SUBSTITUTE(SUBSTITUTE(SUBSTITUTE(INDIRECT(\"Trello!\"&ADDRESS(ROW()-1, G$1, 4)),\"Debt: \",\"\"),\" $\",\"\"),\".\",\"\")*1)*IF(E104=\"\",1,F$2),\"\")","v":""},{"$f":"IFERROR(IF($A104=\"\",\"\",SUBSTITUTE(SUBSTITUTE(SUBSTITUTE(INDIRECT(\"Trello!\"&ADDRESS(ROW()-1, H$1, 4)),\"Cost: \",\"\"),\" $\",\"\"),\".\",\"\")*1*$F$2),\"\")","v":""},1225,{"$f":"IFERROR(SUBSTITUTE(SUBSTITUTE(SUBSTITUTE(RIGHT(INDIRECT(\"Trello!\"&ADDRESS(ROW()-1, L$1, 4)),LEN(INDIRECT(\"Trello!\"&ADDRESS(ROW()-1, L$1, 4)))-15),\". \",\"/\"),\" 20\",\"/20\"),\" \",\"\"),\"\")","v":""},{"$f":"IFERROR(SUBSTITUTE(SUBSTITUTE(SUBSTITUTE(RIGHT(INDIRECT(\"Trello!\"&ADDRESS(ROW()-1, M$1, 4)),LEN(INDIRECT(\"Trello!\"&ADDRESS(ROW()-1, M$1, 4)))-15),\". \",\"/\"),\" 20\",\"/20\"),\" \",\"\"),\"\")","v":"21/Okt/2022"},"","2022-10-21","",{"$f":"IFERROR(SUBSTITUTE(INDIRECT(\"Trello!\"&ADDRESS(ROW()-1, O$1, 4)),\"Estimate hrs: \",\"\")*1,\"\")","v":""},{"$f":"IF(SUMIF(Timecamp!C:C,Reporte!A104,Timecamp!J:J)=0,\"\",SUMIF(Timecamp!C:C,Reporte!A104,Timecamp!J:J))","v":""},"","",{"$f":"IFERROR(VLOOKUP(A104,'SLA Trab'!E:I,5,FALSE),\"\")","v":""},{"$f":"IFERROR(VLOOKUP(A104,'SLA Cobr'!E:I,5,FALSE),\"\")","v":""}]
[{"$f":"IFERROR(IF(Trello!E104=\"\",\"\",Trello!E104),\" \")","v":"Lisandro - JO Instalar template \"Panda\""},{"$f":"IF($A105=\"\",\"\",IF(Trello!A104=\"\",B104,Trello!A104))","v":"Terminado"},"2022-09-19",{"$f":"IF($A105=\"\",\"\",SUBSTITUTE(SUBSTITUTE(Trello!J104,\" days\",\"\"),\"⌚ \",\"\")*1)","v":359},{"$f":"IFERROR(IF($A105=\"\",\"\",SUBSTITUTE(SUBSTITUTE(SUBSTITUTE(INDIRECT(\"Trello!\"&ADDRESS(ROW()-1, E$1, 4)),\"Foreign: \",\"\"),\" $\",\"\"),\".\",\"\")*1),\"\")","v":200},{"$f":"IF($E105=\"\",IFERROR(IF($A105=\"\",\"\",SUBSTITUTE(SUBSTITUTE(SUBSTITUTE(INDIRECT(\"Trello!\"&ADDRESS(ROW()-1, F$1, 4)),\"MXN: \",\"\"),\" MX$\",\"\"),\".\",\"\")*1),\"\"),E105*F$2)","v":3500},{"$f":"IFERROR(IF($A105=\"\",\"\",SUBSTITUTE(SUBSTITUTE(SUBSTITUTE(INDIRECT(\"Trello!\"&ADDRESS(ROW()-1, G$1, 4)),\"Debt: \",\"\"),\" $\",\"\"),\".\",\"\")*1)*IF(E105=\"\",1,F$2),\"\")","v":""},{"$f":"IFERROR(IF($A105=\"\",\"\",SUBSTITUTE(SUBSTITUTE(SUBSTITUTE(INDIRECT(\"Trello!\"&ADDRESS(ROW()-1, H$1, 4)),\"Cost: \",\"\"),\" $\",\"\"),\".\",\"\")*1*$F$2),\"\")","v":""},3500,{"$f":"IFERROR(SUBSTITUTE(SUBSTITUTE(SUBSTITUTE(RIGHT(INDIRECT(\"Trello!\"&ADDRESS(ROW()-1, L$1, 4)),LEN(INDIRECT(\"Trello!\"&ADDRESS(ROW()-1, L$1, 4)))-15),\". \",\"/\"),\" 20\",\"/20\"),\" \",\"\"),\"\")","v":""},{"$f":"IFERROR(SUBSTITUTE(SUBSTITUTE(SUBSTITUTE(RIGHT(INDIRECT(\"Trello!\"&ADDRESS(ROW()-1, M$1, 4)),LEN(INDIRECT(\"Trello!\"&ADDRESS(ROW()-1, M$1, 4)))-15),\". \",\"/\"),\" 20\",\"/20\"),\" \",\"\"),\"\")","v":"7/Okt/2022"},"","2022-10-07","",{"$f":"IFERROR(SUBSTITUTE(INDIRECT(\"Trello!\"&ADDRESS(ROW()-1, O$1, 4)),\"Estimate hrs: \",\"\")*1,\"\")","v":""},{"$f":"IF(SUMIF(Timecamp!C:C,Reporte!A105,Timecamp!J:J)=0,\"\",SUMIF(Timecamp!C:C,Reporte!A105,Timecamp!J:J))","v":""},"","",{"$f":"IFERROR(VLOOKUP(A105,'SLA Trab'!E:I,5,FALSE),\"\")","v":""},{"$f":"IFERROR(VLOOKUP(A105,'SLA Cobr'!E:I,5,FALSE),\"\")","v":""}]
[{"$f":"IFERROR(IF(Trello!E105=\"\",\"\",Trello!E105),\" \")","v":"Lisandro - Copia form a mail Iapti"},{"$f":"IF($A106=\"\",\"\",IF(Trello!A105=\"\",B105,Trello!A105))","v":"Terminado"},"2022-09-14",{"$f":"IF($A106=\"\",\"\",SUBSTITUTE(SUBSTITUTE(Trello!J105,\" days\",\"\"),\"⌚ \",\"\")*1)","v":364},{"$f":"IFERROR(IF($A106=\"\",\"\",SUBSTITUTE(SUBSTITUTE(SUBSTITUTE(INDIRECT(\"Trello!\"&ADDRESS(ROW()-1, E$1, 4)),\"Foreign: \",\"\"),\" $\",\"\"),\".\",\"\")*1),\"\")","v":30},{"$f":"IF($E106=\"\",IFERROR(IF($A106=\"\",\"\",SUBSTITUTE(SUBSTITUTE(SUBSTITUTE(INDIRECT(\"Trello!\"&ADDRESS(ROW()-1, F$1, 4)),\"MXN: \",\"\"),\" MX$\",\"\"),\".\",\"\")*1),\"\"),E106*F$2)","v":525},{"$f":"IFERROR(IF($A106=\"\",\"\",SUBSTITUTE(SUBSTITUTE(SUBSTITUTE(INDIRECT(\"Trello!\"&ADDRESS(ROW()-1, G$1, 4)),\"Debt: \",\"\"),\" $\",\"\"),\".\",\"\")*1)*IF(E106=\"\",1,F$2),\"\")","v":""},{"$f":"IFERROR(IF($A106=\"\",\"\",SUBSTITUTE(SUBSTITUTE(SUBSTITUTE(INDIRECT(\"Trello!\"&ADDRESS(ROW()-1, H$1, 4)),\"Cost: \",\"\"),\" $\",\"\"),\".\",\"\")*1*$F$2),\"\")","v":""},525,{"$f":"IFERROR(SUBSTITUTE(SUBSTITUTE(SUBSTITUTE(RIGHT(INDIRECT(\"Trello!\"&ADDRESS(ROW()-1, L$1, 4)),LEN(INDIRECT(\"Trello!\"&ADDRESS(ROW()-1, L$1, 4)))-15),\". \",\"/\"),\" 20\",\"/20\"),\" \",\"\"),\"\")","v":""},{"$f":"IFERROR(SUBSTITUTE(SUBSTITUTE(SUBSTITUTE(RIGHT(INDIRECT(\"Trello!\"&ADDRESS(ROW()-1, M$1, 4)),LEN(INDIRECT(\"Trello!\"&ADDRESS(ROW()-1, M$1, 4)))-15),\". \",\"/\"),\" 20\",\"/20\"),\" \",\"\"),\"\")","v":"17/Sept/2022"},"","2022-09-17","",{"$f":"IFERROR(SUBSTITUTE(INDIRECT(\"Trello!\"&ADDRESS(ROW()-1, O$1, 4)),\"Estimate hrs: \",\"\")*1,\"\")","v":""},{"$f":"IF(SUMIF(Timecamp!C:C,Reporte!A106,Timecamp!J:J)=0,\"\",SUMIF(Timecamp!C:C,Reporte!A106,Timecamp!J:J))","v":""},"","",{"$f":"IFERROR(VLOOKUP(A106,'SLA Trab'!E:I,5,FALSE),\"\")","v":""},{"$f":"IFERROR(VLOOKUP(A106,'SLA Cobr'!E:I,5,FALSE),\"\")","v":""}]
[{"$f":"IFERROR(IF(Trello!E106=\"\",\"\",Trello!E106),\" \")","v":"Jason Inlat - Arreglar Farm. Etica"},{"$f":"IF($A107=\"\",\"\",IF(Trello!A106=\"\",B106,Trello!A106))","v":"Terminado"},"2022-11-29",{"$f":"IF($A107=\"\",\"\",SUBSTITUTE(SUBSTITUTE(Trello!J106,\" days\",\"\"),\"⌚ \",\"\")*1)","v":288},{"$f":"IFERROR(IF($A107=\"\",\"\",SUBSTITUTE(SUBSTITUTE(SUBSTITUTE(INDIRECT(\"Trello!\"&ADDRESS(ROW()-1, E$1, 4)),\"Foreign: \",\"\"),\" $\",\"\"),\".\",\"\")*1),\"\")","v":100},{"$f":"IF($E107=\"\",IFERROR(IF($A107=\"\",\"\",SUBSTITUTE(SUBSTITUTE(SUBSTITUTE(INDIRECT(\"Trello!\"&ADDRESS(ROW()-1, F$1, 4)),\"MXN: \",\"\"),\" MX$\",\"\"),\".\",\"\")*1),\"\"),E107*F$2)","v":1750},{"$f":"IFERROR(IF($A107=\"\",\"\",SUBSTITUTE(SUBSTITUTE(SUBSTITUTE(INDIRECT(\"Trello!\"&ADDRESS(ROW()-1, G$1, 4)),\"Debt: \",\"\"),\" $\",\"\"),\".\",\"\")*1)*IF(E107=\"\",1,F$2),\"\")","v":""},{"$f":"IFERROR(IF($A107=\"\",\"\",SUBSTITUTE(SUBSTITUTE(SUBSTITUTE(INDIRECT(\"Trello!\"&ADDRESS(ROW()-1, H$1, 4)),\"Cost: \",\"\"),\" $\",\"\"),\".\",\"\")*1*$F$2),\"\")","v":""},1750,{"$f":"IFERROR(SUBSTITUTE(SUBSTITUTE(SUBSTITUTE(RIGHT(INDIRECT(\"Trello!\"&ADDRESS(ROW()-1, L$1, 4)),LEN(INDIRECT(\"Trello!\"&ADDRESS(ROW()-1, L$1, 4)))-15),\". \",\"/\"),\" 20\",\"/20\"),\" \",\"\"),\"\")","v":""},{"$f":"IFERROR(SUBSTITUTE(SUBSTITUTE(SUBSTITUTE(RIGHT(INDIRECT(\"Trello!\"&ADDRESS(ROW()-1, M$1, 4)),LEN(INDIRECT(\"Trello!\"&ADDRESS(ROW()-1, M$1, 4)))-15),\". \",\"/\"),\" 20\",\"/20\"),\" \",\"\"),\"\")","v":""},"","","",{"$f":"IFERROR(SUBSTITUTE(INDIRECT(\"Trello!\"&ADDRESS(ROW()-1, O$1, 4)),\"Estimate hrs: \",\"\")*1,\"\")","v":""},{"$f":"IF(SUMIF(Timecamp!C:C,Reporte!A107,Timecamp!J:J)=0,\"\",SUMIF(Timecamp!C:C,Reporte!A107,Timecamp!J:J))","v":""},"","",{"$f":"IFERROR(VLOOKUP(A107,'SLA Trab'!E:I,5,FALSE),\"\")","v":""},{"$f":"IFERROR(VLOOKUP(A107,'SLA Cobr'!E:I,5,FALSE),\"\")","v":""}]
[{"$f":"IFERROR(IF(Trello!E107=\"\",\"\",Trello!E107),\" \")","v":"yo - Videojuegos"},{"$f":"IF($A108=\"\",\"\",IF(Trello!A107=\"\",B107,Trello!A107))","v":"Terminado"},"2022-11-25",{"$f":"IF($A108=\"\",\"\",SUBSTITUTE(SUBSTITUTE(Trello!J107,\" days\",\"\"),\"⌚ \",\"\")*1)","v":292},{"$f":"IFERROR(IF($A108=\"\",\"\",SUBSTITUTE(SUBSTITUTE(SUBSTITUTE(INDIRECT(\"Trello!\"&ADDRESS(ROW()-1, E$1, 4)),\"Foreign: \",\"\"),\" $\",\"\"),\".\",\"\")*1),\"\")","v":""},{"$f":"IF($E108=\"\",IFERROR(IF($A108=\"\",\"\",SUBSTITUTE(SUBSTITUTE(SUBSTITUTE(INDIRECT(\"Trello!\"&ADDRESS(ROW()-1, F$1, 4)),\"MXN: \",\"\"),\" MX$\",\"\"),\".\",\"\")*1),\"\"),E108*F$2)","v":-4700},{"$f":"IFERROR(IF($A108=\"\",\"\",SUBSTITUTE(SUBSTITUTE(SUBSTITUTE(INDIRECT(\"Trello!\"&ADDRESS(ROW()-1, G$1, 4)),\"Debt: \",\"\"),\" $\",\"\"),\".\",\"\")*1)*IF(E108=\"\",1,F$2),\"\")","v":""},{"$f":"IFERROR(IF($A108=\"\",\"\",SUBSTITUTE(SUBSTITUTE(SUBSTITUTE(INDIRECT(\"Trello!\"&ADDRESS(ROW()-1, H$1, 4)),\"Cost: \",\"\"),\" $\",\"\"),\".\",\"\")*1*$F$2),\"\")","v":""},-4700,{"$f":"IFERROR(SUBSTITUTE(SUBSTITUTE(SUBSTITUTE(RIGHT(INDIRECT(\"Trello!\"&ADDRESS(ROW()-1, L$1, 4)),LEN(INDIRECT(\"Trello!\"&ADDRESS(ROW()-1, L$1, 4)))-15),\". \",\"/\"),\" 20\",\"/20\"),\" \",\"\"),\"\")","v":""},{"$f":"IFERROR(SUBSTITUTE(SUBSTITUTE(SUBSTITUTE(RIGHT(INDIRECT(\"Trello!\"&ADDRESS(ROW()-1, M$1, 4)),LEN(INDIRECT(\"Trello!\"&ADDRESS(ROW()-1, M$1, 4)))-15),\". \",\"/\"),\" 20\",\"/20\"),\" \",\"\"),\"\")","v":""},"","","",{"$f":"IFERROR(SUBSTITUTE(INDIRECT(\"Trello!\"&ADDRESS(ROW()-1, O$1, 4)),\"Estimate hrs: \",\"\")*1,\"\")","v":""},{"$f":"IF(SUMIF(Timecamp!C:C,Reporte!A108,Timecamp!J:J)=0,\"\",SUMIF(Timecamp!C:C,Reporte!A108,Timecamp!J:J))","v":""},"","",{"$f":"IFERROR(VLOOKUP(A108,'SLA Trab'!E:I,5,FALSE),\"\")","v":""},{"$f":"IFERROR(VLOOKUP(A108,'SLA Cobr'!E:I,5,FALSE),\"\")","v":""}]
[{"$f":"IFERROR(IF(Trello!E108=\"\",\"\",Trello!E108),\" \")","v":"Arreglar Facet Ingeurbe"},{"$f":"IF($A109=\"\",\"\",IF(Trello!A108=\"\",B108,Trello!A108))","v":"Terminado"},"2022-11-09",{"$f":"IF($A109=\"\",\"\",SUBSTITUTE(SUBSTITUTE(Trello!J108,\" days\",\"\"),\"⌚ \",\"\")*1)","v":308},{"$f":"IFERROR(IF($A109=\"\",\"\",SUBSTITUTE(SUBSTITUTE(SUBSTITUTE(INDIRECT(\"Trello!\"&ADDRESS(ROW()-1, E$1, 4)),\"Foreign: \",\"\"),\" $\",\"\"),\".\",\"\")*1),\"\")","v":25},{"$f":"IF($E109=\"\",IFERROR(IF($A109=\"\",\"\",SUBSTITUTE(SUBSTITUTE(SUBSTITUTE(INDIRECT(\"Trello!\"&ADDRESS(ROW()-1, F$1, 4)),\"MXN: \",\"\"),\" MX$\",\"\"),\".\",\"\")*1),\"\"),E109*F$2)","v":437.5},{"$f":"IFERROR(IF($A109=\"\",\"\",SUBSTITUTE(SUBSTITUTE(SUBSTITUTE(INDIRECT(\"Trello!\"&ADDRESS(ROW()-1, G$1, 4)),\"Debt: \",\"\"),\" $\",\"\"),\".\",\"\")*1)*IF(E109=\"\",1,F$2),\"\")","v":""},{"$f":"IFERROR(IF($A109=\"\",\"\",SUBSTITUTE(SUBSTITUTE(SUBSTITUTE(INDIRECT(\"Trello!\"&ADDRESS(ROW()-1, H$1, 4)),\"Cost: \",\"\"),\" $\",\"\"),\".\",\"\")*1*$F$2),\"\")","v":""},437.5,{"$f":"IFERROR(SUBSTITUTE(SUBSTITUTE(SUBSTITUTE(RIGHT(INDIRECT(\"Trello!\"&ADDRESS(ROW()-1, L$1, 4)),LEN(INDIRECT(\"Trello!\"&ADDRESS(ROW()-1, L$1, 4)))-15),\". \",\"/\"),\" 20\",\"/20\"),\" \",\"\"),\"\")","v":""},{"$f":"IFERROR(SUBSTITUTE(SUBSTITUTE(SUBSTITUTE(RIGHT(INDIRECT(\"Trello!\"&ADDRESS(ROW()-1, M$1, 4)),LEN(INDIRECT(\"Trello!\"&ADDRESS(ROW()-1, M$1, 4)))-15),\". \",\"/\"),\" 20\",\"/20\"),\" \",\"\"),\"\")","v":"9/Nov/2022"},"","2022-11-09","",{"$f":"IFERROR(SUBSTITUTE(INDIRECT(\"Trello!\"&ADDRESS(ROW()-1, O$1, 4)),\"Estimate hrs: \",\"\")*1,\"\")","v":""},{"$f":"IF(SUMIF(Timecamp!C:C,Reporte!A109,Timecamp!J:J)=0,\"\",SUMIF(Timecamp!C:C,Reporte!A109,Timecamp!J:J))","v":""},"","",{"$f":"IFERROR(VLOOKUP(A109,'SLA Trab'!E:I,5,FALSE),\"\")","v":""},{"$f":"IFERROR(VLOOKUP(A109,'SLA Cobr'!E:I,5,FALSE),\"\")","v":""}]
[{"$f":"IFERROR(IF(Trello!E109=\"\",\"\",Trello!E109),\" \")","v":"Samantha - Dinn"},{"$f":"IF($A110=\"\",\"\",IF(Trello!A109=\"\",B109,Trello!A109))","v":"Terminado"},"2022-09-11",{"$f":"IF($A110=\"\",\"\",SUBSTITUTE(SUBSTITUTE(Trello!J109,\" days\",\"\"),\"⌚ \",\"\")*1)","v":367},{"$f":"IFERROR(IF($A110=\"\",\"\",SUBSTITUTE(SUBSTITUTE(SUBSTITUTE(INDIRECT(\"Trello!\"&ADDRESS(ROW()-1, E$1, 4)),\"Foreign: \",\"\"),\" $\",\"\"),\".\",\"\")*1),\"\")","v":""},{"$f":"IF($E110=\"\",IFERROR(IF($A110=\"\",\"\",SUBSTITUTE(SUBSTITUTE(SUBSTITUTE(INDIRECT(\"Trello!\"&ADDRESS(ROW()-1, F$1, 4)),\"MXN: \",\"\"),\" MX$\",\"\"),\".\",\"\")*1),\"\"),E110*F$2)","v":7400},{"$f":"IFERROR(IF($A110=\"\",\"\",SUBSTITUTE(SUBSTITUTE(SUBSTITUTE(INDIRECT(\"Trello!\"&ADDRESS(ROW()-1, G$1, 4)),\"Debt: \",\"\"),\" $\",\"\"),\".\",\"\")*1)*IF(E110=\"\",1,F$2),\"\")","v":""},{"$f":"IFERROR(IF($A110=\"\",\"\",SUBSTITUTE(SUBSTITUTE(SUBSTITUTE(INDIRECT(\"Trello!\"&ADDRESS(ROW()-1, H$1, 4)),\"Cost: \",\"\"),\" $\",\"\"),\".\",\"\")*1*$F$2),\"\")","v":""},7400,{"$f":"IFERROR(SUBSTITUTE(SUBSTITUTE(SUBSTITUTE(RIGHT(INDIRECT(\"Trello!\"&ADDRESS(ROW()-1, L$1, 4)),LEN(INDIRECT(\"Trello!\"&ADDRESS(ROW()-1, L$1, 4)))-15),\". \",\"/\"),\" 20\",\"/20\"),\" \",\"\"),\"\")","v":""},{"$f":"IFERROR(SUBSTITUTE(SUBSTITUTE(SUBSTITUTE(RIGHT(INDIRECT(\"Trello!\"&ADDRESS(ROW()-1, M$1, 4)),LEN(INDIRECT(\"Trello!\"&ADDRESS(ROW()-1, M$1, 4)))-15),\". \",\"/\"),\" 20\",\"/20\"),\" \",\"\"),\"\")","v":"26/Aug/2022"},"","2022-08-26","",{"$f":"IFERROR(SUBSTITUTE(INDIRECT(\"Trello!\"&ADDRESS(ROW()-1, O$1, 4)),\"Estimate hrs: \",\"\")*1,\"\")","v":""},{"$f":"IF(SUMIF(Timecamp!C:C,Reporte!A110,Timecamp!J:J)=0,\"\",SUMIF(Timecamp!C:C,Reporte!A110,Timecamp!J:J))","v":""},"","",{"$f":"IFERROR(VLOOKUP(A110,'SLA Trab'!E:I,5,FALSE),\"\")","v":""},{"$f":"IFERROR(VLOOKUP(A110,'SLA Cobr'!E:I,5,FALSE),\"\")","v":""}]
[{"$f":"IFERROR(IF(Trello!E110=\"\",\"\",Trello!E110),\" \")","v":"Nick Advizee - Localbeauty cambios"},{"$f":"IF($A111=\"\",\"\",IF(Trello!A110=\"\",B110,Trello!A110))","v":"Terminado"},"2022-11-17",{"$f":"IF($A111=\"\",\"\",SUBSTITUTE(SUBSTITUTE(Trello!J110,\" days\",\"\"),\"⌚ \",\"\")*1)","v":300},{"$f":"IFERROR(IF($A111=\"\",\"\",SUBSTITUTE(SUBSTITUTE(SUBSTITUTE(INDIRECT(\"Trello!\"&ADDRESS(ROW()-1, E$1, 4)),\"Foreign: \",\"\"),\" $\",\"\"),\".\",\"\")*1),\"\")","v":40},{"$f":"IF($E111=\"\",IFERROR(IF($A111=\"\",\"\",SUBSTITUTE(SUBSTITUTE(SUBSTITUTE(INDIRECT(\"Trello!\"&ADDRESS(ROW()-1, F$1, 4)),\"MXN: \",\"\"),\" MX$\",\"\"),\".\",\"\")*1),\"\"),E111*F$2)","v":700},{"$f":"IFERROR(IF($A111=\"\",\"\",SUBSTITUTE(SUBSTITUTE(SUBSTITUTE(INDIRECT(\"Trello!\"&ADDRESS(ROW()-1, G$1, 4)),\"Debt: \",\"\"),\" $\",\"\"),\".\",\"\")*1)*IF(E111=\"\",1,F$2),\"\")","v":""},{"$f":"IFERROR(IF($A111=\"\",\"\",SUBSTITUTE(SUBSTITUTE(SUBSTITUTE(INDIRECT(\"Trello!\"&ADDRESS(ROW()-1, H$1, 4)),\"Cost: \",\"\"),\" $\",\"\"),\".\",\"\")*1*$F$2),\"\")","v":""},700,{"$f":"IFERROR(SUBSTITUTE(SUBSTITUTE(SUBSTITUTE(RIGHT(INDIRECT(\"Trello!\"&ADDRESS(ROW()-1, L$1, 4)),LEN(INDIRECT(\"Trello!\"&ADDRESS(ROW()-1, L$1, 4)))-15),\". \",\"/\"),\" 20\",\"/20\"),\" \",\"\"),\"\")","v":""},{"$f":"IFERROR(SUBSTITUTE(SUBSTITUTE(SUBSTITUTE(RIGHT(INDIRECT(\"Trello!\"&ADDRESS(ROW()-1, M$1, 4)),LEN(INDIRECT(\"Trello!\"&ADDRESS(ROW()-1, M$1, 4)))-15),\". \",\"/\"),\" 20\",\"/20\"),\" \",\"\"),\"\")","v":""},"","","",{"$f":"IFERROR(SUBSTITUTE(INDIRECT(\"Trello!\"&ADDRESS(ROW()-1, O$1, 4)),\"Estimate hrs: \",\"\")*1,\"\")","v":""},{"$f":"IF(SUMIF(Timecamp!C:C,Reporte!A111,Timecamp!J:J)=0,\"\",SUMIF(Timecamp!C:C,Reporte!A111,Timecamp!J:J))","v":""},"","",{"$f":"IFERROR(VLOOKUP(A111,'SLA Trab'!E:I,5,FALSE),\"\")","v":""},{"$f":"IFERROR(VLOOKUP(A111,'SLA Cobr'!E:I,5,FALSE),\"\")","v":""}]
[{"$f":"IFERROR(IF(Trello!E111=\"\",\"\",Trello!E111),\" \")","v":"Gustavo Freelancer - Sitio Recuperado"},{"$f":"IF($A112=\"\",\"\",IF(Trello!A111=\"\",B111,Trello!A111))","v":"Terminado"},"2022-11-11",{"$f":"IF($A112=\"\",\"\",SUBSTITUTE(SUBSTITUTE(Trello!J111,\" days\",\"\"),\"⌚ \",\"\")*1)","v":306},{"$f":"IFERROR(IF($A112=\"\",\"\",SUBSTITUTE(SUBSTITUTE(SUBSTITUTE(INDIRECT(\"Trello!\"&ADDRESS(ROW()-1, E$1, 4)),\"Foreign: \",\"\"),\" $\",\"\"),\".\",\"\")*1),\"\")","v":150},{"$f":"IF($E112=\"\",IFERROR(IF($A112=\"\",\"\",SUBSTITUTE(SUBSTITUTE(SUBSTITUTE(INDIRECT(\"Trello!\"&ADDRESS(ROW()-1, F$1, 4)),\"MXN: \",\"\"),\" MX$\",\"\"),\".\",\"\")*1),\"\"),E112*F$2)","v":2625},{"$f":"IFERROR(IF($A112=\"\",\"\",SUBSTITUTE(SUBSTITUTE(SUBSTITUTE(INDIRECT(\"Trello!\"&ADDRESS(ROW()-1, G$1, 4)),\"Debt: \",\"\"),\" $\",\"\"),\".\",\"\")*1)*IF(E112=\"\",1,F$2),\"\")","v":""},{"$f":"IFERROR(IF($A112=\"\",\"\",SUBSTITUTE(SUBSTITUTE(SUBSTITUTE(INDIRECT(\"Trello!\"&ADDRESS(ROW()-1, H$1, 4)),\"Cost: \",\"\"),\" $\",\"\"),\".\",\"\")*1*$F$2),\"\")","v":""},2625,{"$f":"IFERROR(SUBSTITUTE(SUBSTITUTE(SUBSTITUTE(RIGHT(INDIRECT(\"Trello!\"&ADDRESS(ROW()-1, L$1, 4)),LEN(INDIRECT(\"Trello!\"&ADDRESS(ROW()-1, L$1, 4)))-15),\". \",\"/\"),\" 20\",\"/20\"),\" \",\"\"),\"\")","v":""},{"$f":"IFERROR(SUBSTITUTE(SUBSTITUTE(SUBSTITUTE(RIGHT(INDIRECT(\"Trello!\"&ADDRESS(ROW()-1, M$1, 4)),LEN(INDIRECT(\"Trello!\"&ADDRESS(ROW()-1, M$1, 4)))-15),\". \",\"/\"),\" 20\",\"/20\"),\" \",\"\"),\"\")","v":""},"","","",{"$f":"IFERROR(SUBSTITUTE(INDIRECT(\"Trello!\"&ADDRESS(ROW()-1, O$1, 4)),\"Estimate hrs: \",\"\")*1,\"\")","v":""},{"$f":"IF(SUMIF(Timecamp!C:C,Reporte!A112,Timecamp!J:J)=0,\"\",SUMIF(Timecamp!C:C,Reporte!A112,Timecamp!J:J))","v":""},"","",{"$f":"IFERROR(VLOOKUP(A112,'SLA Trab'!E:I,5,FALSE),\"\")","v":""},{"$f":"IFERROR(VLOOKUP(A112,'SLA Cobr'!E:I,5,FALSE),\"\")","v":""}]
[{"$f":"IFERROR(IF(Trello!E112=\"\",\"\",Trello!E112),\" \")","v":"Rashid - Dogwalkers Hosting"},{"$f":"IF($A113=\"\",\"\",IF(Trello!A112=\"\",B112,Trello!A112))","v":"Terminado"},"2022-10-10",{"$f":"IF($A113=\"\",\"\",SUBSTITUTE(SUBSTITUTE(Trello!J112,\" days\",\"\"),\"⌚ \",\"\")*1)","v":338},{"$f":"IFERROR(IF($A113=\"\",\"\",SUBSTITUTE(SUBSTITUTE(SUBSTITUTE(INDIRECT(\"Trello!\"&ADDRESS(ROW()-1, E$1, 4)),\"Foreign: \",\"\"),\" $\",\"\"),\".\",\"\")*1),\"\")","v":100},{"$f":"IF($E113=\"\",IFERROR(IF($A113=\"\",\"\",SUBSTITUTE(SUBSTITUTE(SUBSTITUTE(INDIRECT(\"Trello!\"&ADDRESS(ROW()-1, F$1, 4)),\"MXN: \",\"\"),\" MX$\",\"\"),\".\",\"\")*1),\"\"),E113*F$2)","v":1750},{"$f":"IFERROR(IF($A113=\"\",\"\",SUBSTITUTE(SUBSTITUTE(SUBSTITUTE(INDIRECT(\"Trello!\"&ADDRESS(ROW()-1, G$1, 4)),\"Debt: \",\"\"),\" $\",\"\"),\".\",\"\")*1)*IF(E113=\"\",1,F$2),\"\")","v":0},{"$f":"IFERROR(IF($A113=\"\",\"\",SUBSTITUTE(SUBSTITUTE(SUBSTITUTE(INDIRECT(\"Trello!\"&ADDRESS(ROW()-1, H$1, 4)),\"Cost: \",\"\"),\" $\",\"\"),\".\",\"\")*1*$F$2),\"\")","v":""},1750,{"$f":"IFERROR(SUBSTITUTE(SUBSTITUTE(SUBSTITUTE(RIGHT(INDIRECT(\"Trello!\"&ADDRESS(ROW()-1, L$1, 4)),LEN(INDIRECT(\"Trello!\"&ADDRESS(ROW()-1, L$1, 4)))-15),\". \",\"/\"),\" 20\",\"/20\"),\" \",\"\"),\"\")","v":"2/Nov/2022"},{"$f":"IFERROR(SUBSTITUTE(SUBSTITUTE(SUBSTITUTE(RIGHT(INDIRECT(\"Trello!\"&ADDRESS(ROW()-1, M$1, 4)),LEN(INDIRECT(\"Trello!\"&ADDRESS(ROW()-1, M$1, 4)))-15),\". \",\"/\"),\" 20\",\"/20\"),\" \",\"\"),\"\")","v":""},"2022-11-02","","",{"$f":"IFERROR(SUBSTITUTE(INDIRECT(\"Trello!\"&ADDRESS(ROW()-1, O$1, 4)),\"Estimate hrs: \",\"\")*1,\"\")","v":""},{"$f":"IF(SUMIF(Timecamp!C:C,Reporte!A113,Timecamp!J:J)=0,\"\",SUMIF(Timecamp!C:C,Reporte!A113,Timecamp!J:J))","v":""},"","",{"$f":"IFERROR(VLOOKUP(A113,'SLA Trab'!E:I,5,FALSE),\"\")","v":""},{"$f":"IFERROR(VLOOKUP(A113,'SLA Cobr'!E:I,5,FALSE),\"\")","v":""}]
[{"$f":"IFERROR(IF(Trello!E113=\"\",\"\",Trello!E113),\" \")","v":"Papa - Edi Financial"},{"$f":"IF($A114=\"\",\"\",IF(Trello!A113=\"\",B113,Trello!A113))","v":"Terminado"},"2022-10-14",{"$f":"IF($A114=\"\",\"\",SUBSTITUTE(SUBSTITUTE(Trello!J113,\" days\",\"\"),\"⌚ \",\"\")*1)","v":334},{"$f":"IFERROR(IF($A114=\"\",\"\",SUBSTITUTE(SUBSTITUTE(SUBSTITUTE(INDIRECT(\"Trello!\"&ADDRESS(ROW()-1, E$1, 4)),\"Foreign: \",\"\"),\" $\",\"\"),\".\",\"\")*1),\"\")","v":""},{"$f":"IF($E114=\"\",IFERROR(IF($A114=\"\",\"\",SUBSTITUTE(SUBSTITUTE(SUBSTITUTE(INDIRECT(\"Trello!\"&ADDRESS(ROW()-1, F$1, 4)),\"MXN: \",\"\"),\" MX$\",\"\"),\".\",\"\")*1),\"\"),E114*F$2)","v":0},{"$f":"IFERROR(IF($A114=\"\",\"\",SUBSTITUTE(SUBSTITUTE(SUBSTITUTE(INDIRECT(\"Trello!\"&ADDRESS(ROW()-1, G$1, 4)),\"Debt: \",\"\"),\" $\",\"\"),\".\",\"\")*1)*IF(E114=\"\",1,F$2),\"\")","v":""},{"$f":"IFERROR(IF($A114=\"\",\"\",SUBSTITUTE(SUBSTITUTE(SUBSTITUTE(INDIRECT(\"Trello!\"&ADDRESS(ROW()-1, H$1, 4)),\"Cost: \",\"\"),\" $\",\"\"),\".\",\"\")*1*$F$2),\"\")","v":""},0,{"$f":"IFERROR(SUBSTITUTE(SUBSTITUTE(SUBSTITUTE(RIGHT(INDIRECT(\"Trello!\"&ADDRESS(ROW()-1, L$1, 4)),LEN(INDIRECT(\"Trello!\"&ADDRESS(ROW()-1, L$1, 4)))-15),\". \",\"/\"),\" 20\",\"/20\"),\" \",\"\"),\"\")","v":""},{"$f":"IFERROR(SUBSTITUTE(SUBSTITUTE(SUBSTITUTE(RIGHT(INDIRECT(\"Trello!\"&ADDRESS(ROW()-1, M$1, 4)),LEN(INDIRECT(\"Trello!\"&ADDRESS(ROW()-1, M$1, 4)))-15),\". \",\"/\"),\" 20\",\"/20\"),\" \",\"\"),\"\")","v":""},"","","",{"$f":"IFERROR(SUBSTITUTE(INDIRECT(\"Trello!\"&ADDRESS(ROW()-1, O$1, 4)),\"Estimate hrs: \",\"\")*1,\"\")","v":""},{"$f":"IF(SUMIF(Timecamp!C:C,Reporte!A114,Timecamp!J:J)=0,\"\",SUMIF(Timecamp!C:C,Reporte!A114,Timecamp!J:J))","v":""},"","",{"$f":"IFERROR(VLOOKUP(A114,'SLA Trab'!E:I,5,FALSE),\"\")","v":""},{"$f":"IFERROR(VLOOKUP(A114,'SLA Cobr'!E:I,5,FALSE),\"\")","v":""}]
[{"$f":"IFERROR(IF(Trello!E114=\"\",\"\",Trello!E114),\" \")","v":"yo - Cambiar contraseñas del plesk y demás sitios para correr a Ivonne"},{"$f":"IF($A115=\"\",\"\",IF(Trello!A114=\"\",B114,Trello!A114))","v":"Terminado"},"2022-11-08",{"$f":"IF($A115=\"\",\"\",SUBSTITUTE(SUBSTITUTE(Trello!J114,\" days\",\"\"),\"⌚ \",\"\")*1)","v":309},{"$f":"IFERROR(IF($A115=\"\",\"\",SUBSTITUTE(SUBSTITUTE(SUBSTITUTE(INDIRECT(\"Trello!\"&ADDRESS(ROW()-1, E$1, 4)),\"Foreign: \",\"\"),\" $\",\"\"),\".\",\"\")*1),\"\")","v":""},{"$f":"IF($E115=\"\",IFERROR(IF($A115=\"\",\"\",SUBSTITUTE(SUBSTITUTE(SUBSTITUTE(INDIRECT(\"Trello!\"&ADDRESS(ROW()-1, F$1, 4)),\"MXN: \",\"\"),\" MX$\",\"\"),\".\",\"\")*1),\"\"),E115*F$2)","v":""},{"$f":"IFERROR(IF($A115=\"\",\"\",SUBSTITUTE(SUBSTITUTE(SUBSTITUTE(INDIRECT(\"Trello!\"&ADDRESS(ROW()-1, G$1, 4)),\"Debt: \",\"\"),\" $\",\"\"),\".\",\"\")*1)*IF(E115=\"\",1,F$2),\"\")","v":""},{"$f":"IFERROR(IF($A115=\"\",\"\",SUBSTITUTE(SUBSTITUTE(SUBSTITUTE(INDIRECT(\"Trello!\"&ADDRESS(ROW()-1, H$1, 4)),\"Cost: \",\"\"),\" $\",\"\"),\".\",\"\")*1*$F$2),\"\")","v":""},"",{"$f":"IFERROR(SUBSTITUTE(SUBSTITUTE(SUBSTITUTE(RIGHT(INDIRECT(\"Trello!\"&ADDRESS(ROW()-1, L$1, 4)),LEN(INDIRECT(\"Trello!\"&ADDRESS(ROW()-1, L$1, 4)))-15),\". \",\"/\"),\" 20\",\"/20\"),\" \",\"\"),\"\")","v":""},{"$f":"IFERROR(SUBSTITUTE(SUBSTITUTE(SUBSTITUTE(RIGHT(INDIRECT(\"Trello!\"&ADDRESS(ROW()-1, M$1, 4)),LEN(INDIRECT(\"Trello!\"&ADDRESS(ROW()-1, M$1, 4)))-15),\". \",\"/\"),\" 20\",\"/20\"),\" \",\"\"),\"\")","v":""},"","","",{"$f":"IFERROR(SUBSTITUTE(INDIRECT(\"Trello!\"&ADDRESS(ROW()-1, O$1, 4)),\"Estimate hrs: \",\"\")*1,\"\")","v":""},{"$f":"IF(SUMIF(Timecamp!C:C,Reporte!A115,Timecamp!J:J)=0,\"\",SUMIF(Timecamp!C:C,Reporte!A115,Timecamp!J:J))","v":""},"","",{"$f":"IFERROR(VLOOKUP(A115,'SLA Trab'!E:I,5,FALSE),\"\")","v":""},{"$f":"IFERROR(VLOOKUP(A115,'SLA Cobr'!E:I,5,FALSE),\"\")","v":""}]
[{"$f":"IFERROR(IF(Trello!E115=\"\",\"\",Trello!E115),\" \")","v":"Madhu - Kebab"},{"$f":"IF($A116=\"\",\"\",IF(Trello!A115=\"\",B115,Trello!A115))","v":"Terminado"},"2022-10-21",{"$f":"IF($A116=\"\",\"\",SUBSTITUTE(SUBSTITUTE(Trello!J115,\" days\",\"\"),\"⌚ \",\"\")*1)","v":327},{"$f":"IFERROR(IF($A116=\"\",\"\",SUBSTITUTE(SUBSTITUTE(SUBSTITUTE(INDIRECT(\"Trello!\"&ADDRESS(ROW()-1, E$1, 4)),\"Foreign: \",\"\"),\" $\",\"\"),\".\",\"\")*1),\"\")","v":300},{"$f":"IF($E116=\"\",IFERROR(IF($A116=\"\",\"\",SUBSTITUTE(SUBSTITUTE(SUBSTITUTE(INDIRECT(\"Trello!\"&ADDRESS(ROW()-1, F$1, 4)),\"MXN: \",\"\"),\" MX$\",\"\"),\".\",\"\")*1),\"\"),E116*F$2)","v":5250},{"$f":"IFERROR(IF($A116=\"\",\"\",SUBSTITUTE(SUBSTITUTE(SUBSTITUTE(INDIRECT(\"Trello!\"&ADDRESS(ROW()-1, G$1, 4)),\"Debt: \",\"\"),\" $\",\"\"),\".\",\"\")*1)*IF(E116=\"\",1,F$2),\"\")","v":""},{"$f":"IFERROR(IF($A116=\"\",\"\",SUBSTITUTE(SUBSTITUTE(SUBSTITUTE(INDIRECT(\"Trello!\"&ADDRESS(ROW()-1, H$1, 4)),\"Cost: \",\"\"),\" $\",\"\"),\".\",\"\")*1*$F$2),\"\")","v":""},5250,{"$f":"IFERROR(SUBSTITUTE(SUBSTITUTE(SUBSTITUTE(RIGHT(INDIRECT(\"Trello!\"&ADDRESS(ROW()-1, L$1, 4)),LEN(INDIRECT(\"Trello!\"&ADDRESS(ROW()-1, L$1, 4)))-15),\". \",\"/\"),\" 20\",\"/20\"),\" \",\"\"),\"\")","v":"26/Okt/2022"},{"$f":"IFERROR(SUBSTITUTE(SUBSTITUTE(SUBSTITUTE(RIGHT(INDIRECT(\"Trello!\"&ADDRESS(ROW()-1, M$1, 4)),LEN(INDIRECT(\"Trello!\"&ADDRESS(ROW()-1, M$1, 4)))-15),\". \",\"/\"),\" 20\",\"/20\"),\" \",\"\"),\"\")","v":""},"2022-10-26","","",{"$f":"IFERROR(SUBSTITUTE(INDIRECT(\"Trello!\"&ADDRESS(ROW()-1, O$1, 4)),\"Estimate hrs: \",\"\")*1,\"\")","v":""},{"$f":"IF(SUMIF(Timecamp!C:C,Reporte!A116,Timecamp!J:J)=0,\"\",SUMIF(Timecamp!C:C,Reporte!A116,Timecamp!J:J))","v":""},"","",{"$f":"IFERROR(VLOOKUP(A116,'SLA Trab'!E:I,5,FALSE),\"\")","v":""},{"$f":"IFERROR(VLOOKUP(A116,'SLA Cobr'!E:I,5,FALSE),\"\")","v":""}]
[{"$f":"IFERROR(IF(Trello!E116=\"\",\"\",Trello!E116),\" \")","v":"Emilio pinturas - crear plataforma"},{"$f":"IF($A117=\"\",\"\",IF(Trello!A116=\"\",B116,Trello!A116))","v":"Terminado"},"2022-09-09",{"$f":"IF($A117=\"\",\"\",SUBSTITUTE(SUBSTITUTE(Trello!J116,\" days\",\"\"),\"⌚ \",\"\")*1)","v":369},{"$f":"IFERROR(IF($A117=\"\",\"\",SUBSTITUTE(SUBSTITUTE(SUBSTITUTE(INDIRECT(\"Trello!\"&ADDRESS(ROW()-1, E$1, 4)),\"Foreign: \",\"\"),\" $\",\"\"),\".\",\"\")*1),\"\")","v":1025},{"$f":"IF($E117=\"\",IFERROR(IF($A117=\"\",\"\",SUBSTITUTE(SUBSTITUTE(SUBSTITUTE(INDIRECT(\"Trello!\"&ADDRESS(ROW()-1, F$1, 4)),\"MXN: \",\"\"),\" MX$\",\"\"),\".\",\"\")*1),\"\"),E117*F$2)","v":17937.5},{"$f":"IFERROR(IF($A117=\"\",\"\",SUBSTITUTE(SUBSTITUTE(SUBSTITUTE(INDIRECT(\"Trello!\"&ADDRESS(ROW()-1, G$1, 4)),\"Debt: \",\"\"),\" $\",\"\"),\".\",\"\")*1)*IF(E117=\"\",1,F$2),\"\")","v":""},{"$f":"IFERROR(IF($A117=\"\",\"\",SUBSTITUTE(SUBSTITUTE(SUBSTITUTE(INDIRECT(\"Trello!\"&ADDRESS(ROW()-1, H$1, 4)),\"Cost: \",\"\"),\" $\",\"\"),\".\",\"\")*1*$F$2),\"\")","v":""},17937.5,{"$f":"IFERROR(SUBSTITUTE(SUBSTITUTE(SUBSTITUTE(RIGHT(INDIRECT(\"Trello!\"&ADDRESS(ROW()-1, L$1, 4)),LEN(INDIRECT(\"Trello!\"&ADDRESS(ROW()-1, L$1, 4)))-15),\". \",\"/\"),\" 20\",\"/20\"),\" \",\"\"),\"\")","v":""},{"$f":"IFERROR(SUBSTITUTE(SUBSTITUTE(SUBSTITUTE(RIGHT(INDIRECT(\"Trello!\"&ADDRESS(ROW()-1, M$1, 4)),LEN(INDIRECT(\"Trello!\"&ADDRESS(ROW()-1, M$1, 4)))-15),\". \",\"/\"),\" 20\",\"/20\"),\" \",\"\"),\"\")","v":"5/Sept/2022"},"","2022-09-05","",{"$f":"IFERROR(SUBSTITUTE(INDIRECT(\"Trello!\"&ADDRESS(ROW()-1, O$1, 4)),\"Estimate hrs: \",\"\")*1,\"\")","v":""},{"$f":"IF(SUMIF(Timecamp!C:C,Reporte!A117,Timecamp!J:J)=0,\"\",SUMIF(Timecamp!C:C,Reporte!A117,Timecamp!J:J))","v":6.6666666666666666E-2},"",269062.5,{"$f":"IFERROR(VLOOKUP(A117,'SLA Trab'!E:I,5,FALSE),\"\")","v":""},{"$f":"IFERROR(VLOOKUP(A117,'SLA Cobr'!E:I,5,FALSE),\"\")","v":""}]
[{"$f":"IFERROR(IF(Trello!E117=\"\",\"\",Trello!E117),\" \")","v":"Papa - Economatica Bkp Services"},{"$f":"IF($A118=\"\",\"\",IF(Trello!A117=\"\",B117,Trello!A117))","v":"Terminado"},"2022-09-12",{"$f":"IF($A118=\"\",\"\",SUBSTITUTE(SUBSTITUTE(Trello!J117,\" days\",\"\"),\"⌚ \",\"\")*1)","v":366},{"$f":"IFERROR(IF($A118=\"\",\"\",SUBSTITUTE(SUBSTITUTE(SUBSTITUTE(INDIRECT(\"Trello!\"&ADDRESS(ROW()-1, E$1, 4)),\"Foreign: \",\"\"),\" $\",\"\"),\".\",\"\")*1),\"\")","v":""},{"$f":"IF($E118=\"\",IFERROR(IF($A118=\"\",\"\",SUBSTITUTE(SUBSTITUTE(SUBSTITUTE(INDIRECT(\"Trello!\"&ADDRESS(ROW()-1, F$1, 4)),\"MXN: \",\"\"),\" MX$\",\"\"),\".\",\"\")*1),\"\"),E118*F$2)","v":15000},{"$f":"IFERROR(IF($A118=\"\",\"\",SUBSTITUTE(SUBSTITUTE(SUBSTITUTE(INDIRECT(\"Trello!\"&ADDRESS(ROW()-1, G$1, 4)),\"Debt: \",\"\"),\" $\",\"\"),\".\",\"\")*1)*IF(E118=\"\",1,F$2),\"\")","v":""},{"$f":"IFERROR(IF($A118=\"\",\"\",SUBSTITUTE(SUBSTITUTE(SUBSTITUTE(INDIRECT(\"Trello!\"&ADDRESS(ROW()-1, H$1, 4)),\"Cost: \",\"\"),\" $\",\"\"),\".\",\"\")*1*$F$2),\"\")","v":""},15000,{"$f":"IFERROR(SUBSTITUTE(SUBSTITUTE(SUBSTITUTE(RIGHT(INDIRECT(\"Trello!\"&ADDRESS(ROW()-1, L$1, 4)),LEN(INDIRECT(\"Trello!\"&ADDRESS(ROW()-1, L$1, 4)))-15),\". \",\"/\"),\" 20\",\"/20\"),\" \",\"\"),\"\")","v":"7/Okt/2022"},{"$f":"IFERROR(SUBSTITUTE(SUBSTITUTE(SUBSTITUTE(RIGHT(INDIRECT(\"Trello!\"&ADDRESS(ROW()-1, M$1, 4)),LEN(INDIRECT(\"Trello!\"&ADDRESS(ROW()-1, M$1, 4)))-15),\". \",\"/\"),\" 20\",\"/20\"),\" \",\"\"),\"\")","v":"21/Okt/2022"},"2022-10-07","2022-10-21",-14,{"$f":"IFERROR(SUBSTITUTE(INDIRECT(\"Trello!\"&ADDRESS(ROW()-1, O$1, 4)),\"Estimate hrs: \",\"\")*1,\"\")","v":""},{"$f":"IF(SUMIF(Timecamp!C:C,Reporte!A118,Timecamp!J:J)=0,\"\",SUMIF(Timecamp!C:C,Reporte!A118,Timecamp!J:J))","v":""},"","",{"$f":"IFERROR(VLOOKUP(A118,'SLA Trab'!E:I,5,FALSE),\"\")","v":""},{"$f":"IFERROR(VLOOKUP(A118,'SLA Cobr'!E:I,5,FALSE),\"\")","v":""}]
[{"$f":"IFERROR(IF(Trello!E118=\"\",\"\",Trello!E118),\" \")","v":"Gustavo Freelancer - Diloconfresas Checkout Horario"},{"$f":"IF($A119=\"\",\"\",IF(Trello!A118=\"\",B118,Trello!A118))","v":"Terminado"},"2022-09-27",{"$f":"IF($A119=\"\",\"\",SUBSTITUTE(SUBSTITUTE(Trello!J118,\" days\",\"\"),\"⌚ \",\"\")*1)","v":351},{"$f":"IFERROR(IF($A119=\"\",\"\",SUBSTITUTE(SUBSTITUTE(SUBSTITUTE(INDIRECT(\"Trello!\"&ADDRESS(ROW()-1, E$1, 4)),\"Foreign: \",\"\"),\" $\",\"\"),\".\",\"\")*1),\"\")","v":""},{"$f":"IF($E119=\"\",IFERROR(IF($A119=\"\",\"\",SUBSTITUTE(SUBSTITUTE(SUBSTITUTE(INDIRECT(\"Trello!\"&ADDRESS(ROW()-1, F$1, 4)),\"MXN: \",\"\"),\" MX$\",\"\"),\".\",\"\")*1),\"\"),E119*F$2)","v":3500},{"$f":"IFERROR(IF($A119=\"\",\"\",SUBSTITUTE(SUBSTITUTE(SUBSTITUTE(INDIRECT(\"Trello!\"&ADDRESS(ROW()-1, G$1, 4)),\"Debt: \",\"\"),\" $\",\"\"),\".\",\"\")*1)*IF(E119=\"\",1,F$2),\"\")","v":""},{"$f":"IFERROR(IF($A119=\"\",\"\",SUBSTITUTE(SUBSTITUTE(SUBSTITUTE(INDIRECT(\"Trello!\"&ADDRESS(ROW()-1, H$1, 4)),\"Cost: \",\"\"),\" $\",\"\"),\".\",\"\")*1*$F$2),\"\")","v":""},3500,{"$f":"IFERROR(SUBSTITUTE(SUBSTITUTE(SUBSTITUTE(RIGHT(INDIRECT(\"Trello!\"&ADDRESS(ROW()-1, L$1, 4)),LEN(INDIRECT(\"Trello!\"&ADDRESS(ROW()-1, L$1, 4)))-15),\". \",\"/\"),\" 20\",\"/20\"),\" \",\"\"),\"\")","v":""},{"$f":"IFERROR(SUBSTITUTE(SUBSTITUTE(SUBSTITUTE(RIGHT(INDIRECT(\"Trello!\"&ADDRESS(ROW()-1, M$1, 4)),LEN(INDIRECT(\"Trello!\"&ADDRESS(ROW()-1, M$1, 4)))-15),\". \",\"/\"),\" 20\",\"/20\"),\" \",\"\"),\"\")","v":"29/Sept/2022"},"","2022-09-29","",{"$f":"IFERROR(SUBSTITUTE(INDIRECT(\"Trello!\"&ADDRESS(ROW()-1, O$1, 4)),\"Estimate hrs: \",\"\")*1,\"\")","v":""},{"$f":"IF(SUMIF(Timecamp!C:C,Reporte!A119,Timecamp!J:J)=0,\"\",SUMIF(Timecamp!C:C,Reporte!A119,Timecamp!J:J))","v":""},"","",{"$f":"IFERROR(VLOOKUP(A119,'SLA Trab'!E:I,5,FALSE),\"\")","v":""},{"$f":"IFERROR(VLOOKUP(A119,'SLA Cobr'!E:I,5,FALSE),\"\")","v":""}]
[{"$f":"IFERROR(IF(Trello!E119=\"\",\"\",Trello!E119),\" \")","v":"JoshNBA - Scrapp BBallRef"},{"$f":"IF($A120=\"\",\"\",IF(Trello!A119=\"\",B119,Trello!A119))","v":"Terminado"},"2022-10-24",{"$f":"IF($A120=\"\",\"\",SUBSTITUTE(SUBSTITUTE(Trello!J119,\" days\",\"\"),\"⌚ \",\"\")*1)","v":324},{"$f":"IFERROR(IF($A120=\"\",\"\",SUBSTITUTE(SUBSTITUTE(SUBSTITUTE(INDIRECT(\"Trello!\"&ADDRESS(ROW()-1, E$1, 4)),\"Foreign: \",\"\"),\" $\",\"\"),\".\",\"\")*1),\"\")","v":100},{"$f":"IF($E120=\"\",IFERROR(IF($A120=\"\",\"\",SUBSTITUTE(SUBSTITUTE(SUBSTITUTE(INDIRECT(\"Trello!\"&ADDRESS(ROW()-1, F$1, 4)),\"MXN: \",\"\"),\" MX$\",\"\"),\".\",\"\")*1),\"\"),E120*F$2)","v":1750},{"$f":"IFERROR(IF($A120=\"\",\"\",SUBSTITUTE(SUBSTITUTE(SUBSTITUTE(INDIRECT(\"Trello!\"&ADDRESS(ROW()-1, G$1, 4)),\"Debt: \",\"\"),\" $\",\"\"),\".\",\"\")*1)*IF(E120=\"\",1,F$2),\"\")","v":""},{"$f":"IFERROR(IF($A120=\"\",\"\",SUBSTITUTE(SUBSTITUTE(SUBSTITUTE(INDIRECT(\"Trello!\"&ADDRESS(ROW()-1, H$1, 4)),\"Cost: \",\"\"),\" $\",\"\"),\".\",\"\")*1*$F$2),\"\")","v":""},1750,{"$f":"IFERROR(SUBSTITUTE(SUBSTITUTE(SUBSTITUTE(RIGHT(INDIRECT(\"Trello!\"&ADDRESS(ROW()-1, L$1, 4)),LEN(INDIRECT(\"Trello!\"&ADDRESS(ROW()-1, L$1, 4)))-15),\". \",\"/\"),\" 20\",\"/20\"),\" \",\"\"),\"\")","v":""},{"$f":"IFERROR(SUBSTITUTE(SUBSTITUTE(SUBSTITUTE(RIGHT(INDIRECT(\"Trello!\"&ADDRESS(ROW()-1, M$1, 4)),LEN(INDIRECT(\"Trello!\"&ADDRESS(ROW()-1, M$1, 4)))-15),\". \",\"/\"),\" 20\",\"/20\"),\" \",\"\"),\"\")","v":"25/Okt/2022"},"","2022-10-25","",{"$f":"IFERROR(SUBSTITUTE(INDIRECT(\"Trello!\"&ADDRESS(ROW()-1, O$1, 4)),\"Estimate hrs: \",\"\")*1,\"\")","v":""},{"$f":"IF(SUMIF(Timecamp!C:C,Reporte!A120,Timecamp!J:J)=0,\"\",SUMIF(Timecamp!C:C,Reporte!A120,Timecamp!J:J))","v":""},"","",{"$f":"IFERROR(VLOOKUP(A120,'SLA Trab'!E:I,5,FALSE),\"\")","v":""},{"$f":"IFERROR(VLOOKUP(A120,'SLA Cobr'!E:I,5,FALSE),\"\")","v":""}]
[{"$f":"IFERROR(IF(Trello!E120=\"\",\"\",Trello!E120),\" \")","v":"Jason Freelancer - Brindabella clonar sitio"},{"$f":"IF($A121=\"\",\"\",IF(Trello!A120=\"\",B120,Trello!A120))","v":"Terminado"},"2022-10-20",{"$f":"IF($A121=\"\",\"\",SUBSTITUTE(SUBSTITUTE(Trello!J120,\" days\",\"\"),\"⌚ \",\"\")*1)","v":328},{"$f":"IFERROR(IF($A121=\"\",\"\",SUBSTITUTE(SUBSTITUTE(SUBSTITUTE(INDIRECT(\"Trello!\"&ADDRESS(ROW()-1, E$1, 4)),\"Foreign: \",\"\"),\" $\",\"\"),\".\",\"\")*1),\"\")","v":250},{"$f":"IF($E121=\"\",IFERROR(IF($A121=\"\",\"\",SUBSTITUTE(SUBSTITUTE(SUBSTITUTE(INDIRECT(\"Trello!\"&ADDRESS(ROW()-1, F$1, 4)),\"MXN: \",\"\"),\" MX$\",\"\"),\".\",\"\")*1),\"\"),E121*F$2)","v":4375},{"$f":"IFERROR(IF($A121=\"\",\"\",SUBSTITUTE(SUBSTITUTE(SUBSTITUTE(INDIRECT(\"Trello!\"&ADDRESS(ROW()-1, G$1, 4)),\"Debt: \",\"\"),\" $\",\"\"),\".\",\"\")*1)*IF(E121=\"\",1,F$2),\"\")","v":""},{"$f":"IFERROR(IF($A121=\"\",\"\",SUBSTITUTE(SUBSTITUTE(SUBSTITUTE(INDIRECT(\"Trello!\"&ADDRESS(ROW()-1, H$1, 4)),\"Cost: \",\"\"),\" $\",\"\"),\".\",\"\")*1*$F$2),\"\")","v":""},4375,{"$f":"IFERROR(SUBSTITUTE(SUBSTITUTE(SUBSTITUTE(RIGHT(INDIRECT(\"Trello!\"&ADDRESS(ROW()-1, L$1, 4)),LEN(INDIRECT(\"Trello!\"&ADDRESS(ROW()-1, L$1, 4)))-15),\". \",\"/\"),\" 20\",\"/20\"),\" \",\"\"),\"\")","v":""},{"$f":"IFERROR(SUBSTITUTE(SUBSTITUTE(SUBSTITUTE(RIGHT(INDIRECT(\"Trello!\"&ADDRESS(ROW()-1, M$1, 4)),LEN(INDIRECT(\"Trello!\"&ADDRESS(ROW()-1, M$1, 4)))-15),\". \",\"/\"),\" 20\",\"/20\"),\" \",\"\"),\"\")","v":"25/Okt/2022"},"","2022-10-25",{"$f":"IF(AND(L121>0,M121>0,L121<>\"\",M121<>\"\"),L121-M121,\"\")","v":""},{"$f":"IFERROR(SUBSTITUTE(INDIRECT(\"Trello!\"&ADDRESS(ROW()-1, O$1, 4)),\"Estimate hrs: \",\"\")*1,\"\")","v":""},{"$f":"IF(SUMIF(Timecamp!C:C,Reporte!A121,Timecamp!J:J)=0,\"\",SUMIF(Timecamp!C:C,Reporte!A121,Timecamp!J:J))","v":""},"","",{"$f":"IFERROR(VLOOKUP(A121,'SLA Trab'!E:I,5,FALSE),\"\")","v":""},{"$f":"IFERROR(VLOOKUP(A121,'SLA Cobr'!E:I,5,FALSE),\"\")","v":""}]
[{"$f":"IFERROR(IF(Trello!E121=\"\",\"\",Trello!E121),\" \")","v":" "},{"$f":"IF($A122=\"\",\"\",IF(Trello!A121=\"\",B121,Trello!A121))","v":"Terminado"},"2021-12-31",{"$f":"IF($A122=\"\",\"\",SUBSTITUTE(SUBSTITUTE(Trello!J121,\" days\",\"\"),\"⌚ \",\"\")*1)","v":621},{"$f":"IFERROR(IF($A122=\"\",\"\",SUBSTITUTE(SUBSTITUTE(SUBSTITUTE(INDIRECT(\"Trello!\"&ADDRESS(ROW()-1, E$1, 4)),\"Foreign: \",\"\"),\" $\",\"\"),\".\",\"\")*1),\"\")","v":""},{"$f":"IF($E122=\"\",IFERROR(IF($A122=\"\",\"\",SUBSTITUTE(SUBSTITUTE(SUBSTITUTE(INDIRECT(\"Trello!\"&ADDRESS(ROW()-1, F$1, 4)),\"MXN: \",\"\"),\" MX$\",\"\"),\".\",\"\")*1),\"\"),E122*F$2)","v":""},{"$f":"IFERROR(IF($A122=\"\",\"\",SUBSTITUTE(SUBSTITUTE(SUBSTITUTE(INDIRECT(\"Trello!\"&ADDRESS(ROW()-1, G$1, 4)),\"Debt: \",\"\"),\" $\",\"\"),\".\",\"\")*1)*IF(E122=\"\",1,F$2),\"\")","v":""},{"$f":"IFERROR(IF($A122=\"\",\"\",SUBSTITUTE(SUBSTITUTE(SUBSTITUTE(INDIRECT(\"Trello!\"&ADDRESS(ROW()-1, H$1, 4)),\"Cost: \",\"\"),\" $\",\"\"),\".\",\"\")*1*$F$2),\"\")","v":""},"",{"$f":"IFERROR(SUBSTITUTE(SUBSTITUTE(SUBSTITUTE(RIGHT(INDIRECT(\"Trello!\"&ADDRESS(ROW()-1, L$1, 4)),LEN(INDIRECT(\"Trello!\"&ADDRESS(ROW()-1, L$1, 4)))-15),\". \",\"/\"),\" 20\",\"/20\"),\" \",\"\"),\"\")","v":""},{"$f":"IFERROR(SUBSTITUTE(SUBSTITUTE(SUBSTITUTE(RIGHT(INDIRECT(\"Trello!\"&ADDRESS(ROW()-1, M$1, 4)),LEN(INDIRECT(\"Trello!\"&ADDRESS(ROW()-1, M$1, 4)))-15),\". \",\"/\"),\" 20\",\"/20\"),\" \",\"\"),\"\")","v":""},"","","",{"$f":"IFERROR(SUBSTITUTE(INDIRECT(\"Trello!\"&ADDRESS(ROW()-1, O$1, 4)),\"Estimate hrs: \",\"\")*1,\"\")","v":""},{"$f":"IF(SUMIF(Timecamp!C:C,Reporte!A122,Timecamp!J:J)=0,\"\",SUMIF(Timecamp!C:C,Reporte!A122,Timecamp!J:J))","v":""},"","",{"$f":"IFERROR(VLOOKUP(A122,'SLA Trab'!E:I,5,FALSE),\"\")","v":""},{"$f":"IFERROR(VLOOKUP(A122,'SLA Cobr'!E:I,5,FALSE),\"\")","v":""}]
[{"$f":"IFERROR(IF(Trello!E122=\"\",\"\",Trello!E122),\" \")","v":"Nick Advizee - aimsfitting.com error DNS"},{"$f":"IF($A123=\"\",\"\",IF(Trello!A122=\"\",B122,Trello!A122))","v":"Terminado"},"2022-10-19",{"$f":"IF($A123=\"\",\"\",SUBSTITUTE(SUBSTITUTE(Trello!J122,\" days\",\"\"),\"⌚ \",\"\")*1)","v":329},{"$f":"IFERROR(IF($A123=\"\",\"\",SUBSTITUTE(SUBSTITUTE(SUBSTITUTE(INDIRECT(\"Trello!\"&ADDRESS(ROW()-1, E$1, 4)),\"Foreign: \",\"\"),\" $\",\"\"),\".\",\"\")*1),\"\")","v":10},{"$f":"IF($E123=\"\",IFERROR(IF($A123=\"\",\"\",SUBSTITUTE(SUBSTITUTE(SUBSTITUTE(INDIRECT(\"Trello!\"&ADDRESS(ROW()-1, F$1, 4)),\"MXN: \",\"\"),\" MX$\",\"\"),\".\",\"\")*1),\"\"),E123*F$2)","v":175},{"$f":"IFERROR(IF($A123=\"\",\"\",SUBSTITUTE(SUBSTITUTE(SUBSTITUTE(INDIRECT(\"Trello!\"&ADDRESS(ROW()-1, G$1, 4)),\"Debt: \",\"\"),\" $\",\"\"),\".\",\"\")*1)*IF(E123=\"\",1,F$2),\"\")","v":""},{"$f":"IFERROR(IF($A123=\"\",\"\",SUBSTITUTE(SUBSTITUTE(SUBSTITUTE(INDIRECT(\"Trello!\"&ADDRESS(ROW()-1, H$1, 4)),\"Cost: \",\"\"),\" $\",\"\"),\".\",\"\")*1*$F$2),\"\")","v":""},175,{"$f":"IFERROR(SUBSTITUTE(SUBSTITUTE(SUBSTITUTE(RIGHT(INDIRECT(\"Trello!\"&ADDRESS(ROW()-1, L$1, 4)),LEN(INDIRECT(\"Trello!\"&ADDRESS(ROW()-1, L$1, 4)))-15),\". \",\"/\"),\" 20\",\"/20\"),\" \",\"\"),\"\")","v":""},{"$f":"IFERROR(SUBSTITUTE(SUBSTITUTE(SUBSTITUTE(RIGHT(INDIRECT(\"Trello!\"&ADDRESS(ROW()-1, M$1, 4)),LEN(INDIRECT(\"Trello!\"&ADDRESS(ROW()-1, M$1, 4)))-15),\". \",\"/\"),\" 20\",\"/20\"),\" \",\"\"),\"\")","v":""},"","","",{"$f":"IFERROR(SUBSTITUTE(INDIRECT(\"Trello!\"&ADDRESS(ROW()-1, O$1, 4)),\"Estimate hrs: \",\"\")*1,\"\")","v":""},{"$f":"IF(SUMIF(Timecamp!C:C,Reporte!A123,Timecamp!J:J)=0,\"\",SUMIF(Timecamp!C:C,Reporte!A123,Timecamp!J:J))","v":""},"","",{"$f":"IFERROR(VLOOKUP(A123,'SLA Trab'!E:I,5,FALSE),\"\")","v":""},{"$f":"IFERROR(VLOOKUP(A123,'SLA Cobr'!E:I,5,FALSE),\"\")","v":""}]
[{"$f":"IFERROR(IF(Trello!E123=\"\",\"\",Trello!E123),\" \")","v":"JoshNBA - Setup nueva temporada"},{"$f":"IF($A124=\"\",\"\",IF(Trello!A123=\"\",B123,Trello!A123))","v":"Terminado"},"2022-10-19",{"$f":"IF($A124=\"\",\"\",SUBSTITUTE(SUBSTITUTE(Trello!J123,\" days\",\"\"),\"⌚ \",\"\")*1)","v":329},{"$f":"IFERROR(IF($A124=\"\",\"\",SUBSTITUTE(SUBSTITUTE(SUBSTITUTE(INDIRECT(\"Trello!\"&ADDRESS(ROW()-1, E$1, 4)),\"Foreign: \",\"\"),\" $\",\"\"),\".\",\"\")*1),\"\")","v":60},{"$f":"IF($E124=\"\",IFERROR(IF($A124=\"\",\"\",SUBSTITUTE(SUBSTITUTE(SUBSTITUTE(INDIRECT(\"Trello!\"&ADDRESS(ROW()-1, F$1, 4)),\"MXN: \",\"\"),\" MX$\",\"\"),\".\",\"\")*1),\"\"),E124*F$2)","v":1050},{"$f":"IFERROR(IF($A124=\"\",\"\",SUBSTITUTE(SUBSTITUTE(SUBSTITUTE(INDIRECT(\"Trello!\"&ADDRESS(ROW()-1, G$1, 4)),\"Debt: \",\"\"),\" $\",\"\"),\".\",\"\")*1)*IF(E124=\"\",1,F$2),\"\")","v":""},{"$f":"IFERROR(IF($A124=\"\",\"\",SUBSTITUTE(SUBSTITUTE(SUBSTITUTE(INDIRECT(\"Trello!\"&ADDRESS(ROW()-1, H$1, 4)),\"Cost: \",\"\"),\" $\",\"\"),\".\",\"\")*1*$F$2),\"\")","v":""},1050,{"$f":"IFERROR(SUBSTITUTE(SUBSTITUTE(SUBSTITUTE(RIGHT(INDIRECT(\"Trello!\"&ADDRESS(ROW()-1, L$1, 4)),LEN(INDIRECT(\"Trello!\"&ADDRESS(ROW()-1, L$1, 4)))-15),\". \",\"/\"),\" 20\",\"/20\"),\" \",\"\"),\"\")","v":""},{"$f":"IFERROR(SUBSTITUTE(SUBSTITUTE(SUBSTITUTE(RIGHT(INDIRECT(\"Trello!\"&ADDRESS(ROW()-1, M$1, 4)),LEN(INDIRECT(\"Trello!\"&ADDRESS(ROW()-1, M$1, 4)))-15),\". \",\"/\"),\" 20\",\"/20\"),\" \",\"\"),\"\")","v":""},"","","",{"$f":"IFERROR(SUBSTITUTE(INDIRECT(\"Trello!\"&ADDRESS(ROW()-1, O$1, 4)),\"Estimate hrs: \",\"\")*1,\"\")","v":""},{"$f":"IF(SUMIF(Timecamp!C:C,Reporte!A124,Timecamp!J:J)=0,\"\",SUMIF(Timecamp!C:C,Reporte!A124,Timecamp!J:J))","v":""},"","",{"$f":"IFERROR(VLOOKUP(A124,'SLA Trab'!E:I,5,FALSE),\"\")","v":""},{"$f":"IFERROR(VLOOKUP(A124,'SLA Cobr'!E:I,5,FALSE),\"\")","v":""}]
[{"$f":"IFERROR(IF(Trello!E124=\"\",\"\",Trello!E124),\" \")","v":"Nick Advizee - Desactivo pago por hora auto"},{"$f":"IF($A125=\"\",\"\",IF(Trello!A124=\"\",B124,Trello!A124))","v":"Terminado"},"2022-10-17",{"$f":"IF($A125=\"\",\"\",SUBSTITUTE(SUBSTITUTE(Trello!J124,\" days\",\"\"),\"⌚ \",\"\")*1)","v":331},{"$f":"IFERROR(IF($A125=\"\",\"\",SUBSTITUTE(SUBSTITUTE(SUBSTITUTE(INDIRECT(\"Trello!\"&ADDRESS(ROW()-1, E$1, 4)),\"Foreign: \",\"\"),\" $\",\"\"),\".\",\"\")*1),\"\")","v":57},{"$f":"IF($E125=\"\",IFERROR(IF($A125=\"\",\"\",SUBSTITUTE(SUBSTITUTE(SUBSTITUTE(INDIRECT(\"Trello!\"&ADDRESS(ROW()-1, F$1, 4)),\"MXN: \",\"\"),\" MX$\",\"\"),\".\",\"\")*1),\"\"),E125*F$2)","v":997.5},{"$f":"IFERROR(IF($A125=\"\",\"\",SUBSTITUTE(SUBSTITUTE(SUBSTITUTE(INDIRECT(\"Trello!\"&ADDRESS(ROW()-1, G$1, 4)),\"Debt: \",\"\"),\" $\",\"\"),\".\",\"\")*1)*IF(E125=\"\",1,F$2),\"\")","v":""},{"$f":"IFERROR(IF($A125=\"\",\"\",SUBSTITUTE(SUBSTITUTE(SUBSTITUTE(INDIRECT(\"Trello!\"&ADDRESS(ROW()-1, H$1, 4)),\"Cost: \",\"\"),\" $\",\"\"),\".\",\"\")*1*$F$2),\"\")","v":""},997.5,{"$f":"IFERROR(SUBSTITUTE(SUBSTITUTE(SUBSTITUTE(RIGHT(INDIRECT(\"Trello!\"&ADDRESS(ROW()-1, L$1, 4)),LEN(INDIRECT(\"Trello!\"&ADDRESS(ROW()-1, L$1, 4)))-15),\". \",\"/\"),\" 20\",\"/20\"),\" \",\"\"),\"\")","v":""},{"$f":"IFERROR(SUBSTITUTE(SUBSTITUTE(SUBSTITUTE(RIGHT(INDIRECT(\"Trello!\"&ADDRESS(ROW()-1, M$1, 4)),LEN(INDIRECT(\"Trello!\"&ADDRESS(ROW()-1, M$1, 4)))-15),\". \",\"/\"),\" 20\",\"/20\"),\" \",\"\"),\"\")","v":"9/Okt/2022"},"","2022-10-09","",{"$f":"IFERROR(SUBSTITUTE(INDIRECT(\"Trello!\"&ADDRESS(ROW()-1, O$1, 4)),\"Estimate hrs: \",\"\")*1,\"\")","v":""},{"$f":"IF(SUMIF(Timecamp!C:C,Reporte!A125,Timecamp!J:J)=0,\"\",SUMIF(Timecamp!C:C,Reporte!A125,Timecamp!J:J))","v":""},"","",{"$f":"IFERROR(VLOOKUP(A125,'SLA Trab'!E:I,5,FALSE),\"\")","v":""},{"$f":"IFERROR(VLOOKUP(A125,'SLA Cobr'!E:I,5,FALSE),\"\")","v":""}]
[{"$f":"IFERROR(IF(Trello!E125=\"\",\"\",Trello!E125),\" \")","v":"Yamel Freelancer - Konditor cambios"},{"$f":"IF($A126=\"\",\"\",IF(Trello!A125=\"\",B125,Trello!A125))","v":"Terminado"},"2022-09-24",{"$f":"IF($A126=\"\",\"\",SUBSTITUTE(SUBSTITUTE(Trello!J125,\" days\",\"\"),\"⌚ \",\"\")*1)","v":354},{"$f":"IFERROR(IF($A126=\"\",\"\",SUBSTITUTE(SUBSTITUTE(SUBSTITUTE(INDIRECT(\"Trello!\"&ADDRESS(ROW()-1, E$1, 4)),\"Foreign: \",\"\"),\" $\",\"\"),\".\",\"\")*1),\"\")","v":60},{"$f":"IF($E126=\"\",IFERROR(IF($A126=\"\",\"\",SUBSTITUTE(SUBSTITUTE(SUBSTITUTE(INDIRECT(\"Trello!\"&ADDRESS(ROW()-1, F$1, 4)),\"MXN: \",\"\"),\" MX$\",\"\"),\".\",\"\")*1),\"\"),E126*F$2)","v":1050},{"$f":"IFERROR(IF($A126=\"\",\"\",SUBSTITUTE(SUBSTITUTE(SUBSTITUTE(INDIRECT(\"Trello!\"&ADDRESS(ROW()-1, G$1, 4)),\"Debt: \",\"\"),\" $\",\"\"),\".\",\"\")*1)*IF(E126=\"\",1,F$2),\"\")","v":""},{"$f":"IFERROR(IF($A126=\"\",\"\",SUBSTITUTE(SUBSTITUTE(SUBSTITUTE(INDIRECT(\"Trello!\"&ADDRESS(ROW()-1, H$1, 4)),\"Cost: \",\"\"),\" $\",\"\"),\".\",\"\")*1*$F$2),\"\")","v":""},1050,{"$f":"IFERROR(SUBSTITUTE(SUBSTITUTE(SUBSTITUTE(RIGHT(INDIRECT(\"Trello!\"&ADDRESS(ROW()-1, L$1, 4)),LEN(INDIRECT(\"Trello!\"&ADDRESS(ROW()-1, L$1, 4)))-15),\". \",\"/\"),\" 20\",\"/20\"),\" \",\"\"),\"\")","v":""},{"$f":"IFERROR(SUBSTITUTE(SUBSTITUTE(SUBSTITUTE(RIGHT(INDIRECT(\"Trello!\"&ADDRESS(ROW()-1, M$1, 4)),LEN(INDIRECT(\"Trello!\"&ADDRESS(ROW()-1, M$1, 4)))-15),\". \",\"/\"),\" 20\",\"/20\"),\" \",\"\"),\"\")","v":""},"","","",{"$f":"IFERROR(SUBSTITUTE(INDIRECT(\"Trello!\"&ADDRESS(ROW()-1, O$1, 4)),\"Estimate hrs: \",\"\")*1,\"\")","v":""},{"$f":"IF(SUMIF(Timecamp!C:C,Reporte!A126,Timecamp!J:J)=0,\"\",SUMIF(Timecamp!C:C,Reporte!A126,Timecamp!J:J))","v":""},"","",{"$f":"IFERROR(VLOOKUP(A126,'SLA Trab'!E:I,5,FALSE),\"\")","v":""},{"$f":"IFERROR(VLOOKUP(A126,'SLA Cobr'!E:I,5,FALSE),\"\")","v":""}]
[{"$f":"IFERROR(IF(Trello!E126=\"\",\"\",Trello!E126),\" \")","v":"Jason Freelancer - Brindabella Mini Ajustes"},{"$f":"IF($A127=\"\",\"\",IF(Trello!A126=\"\",B126,Trello!A126))","v":"Terminado"},"2022-10-14",{"$f":"IF($A127=\"\",\"\",SUBSTITUTE(SUBSTITUTE(Trello!J126,\" days\",\"\"),\"⌚ \",\"\")*1)","v":334},{"$f":"IFERROR(IF($A127=\"\",\"\",SUBSTITUTE(SUBSTITUTE(SUBSTITUTE(INDIRECT(\"Trello!\"&ADDRESS(ROW()-1, E$1, 4)),\"Foreign: \",\"\"),\" $\",\"\"),\".\",\"\")*1),\"\")","v":0},{"$f":"IF($E127=\"\",IFERROR(IF($A127=\"\",\"\",SUBSTITUTE(SUBSTITUTE(SUBSTITUTE(INDIRECT(\"Trello!\"&ADDRESS(ROW()-1, F$1, 4)),\"MXN: \",\"\"),\" MX$\",\"\"),\".\",\"\")*1),\"\"),E127*F$2)","v":0},{"$f":"IFERROR(IF($A127=\"\",\"\",SUBSTITUTE(SUBSTITUTE(SUBSTITUTE(INDIRECT(\"Trello!\"&ADDRESS(ROW()-1, G$1, 4)),\"Debt: \",\"\"),\" $\",\"\"),\".\",\"\")*1)*IF(E127=\"\",1,F$2),\"\")","v":""},{"$f":"IFERROR(IF($A127=\"\",\"\",SUBSTITUTE(SUBSTITUTE(SUBSTITUTE(INDIRECT(\"Trello!\"&ADDRESS(ROW()-1, H$1, 4)),\"Cost: \",\"\"),\" $\",\"\"),\".\",\"\")*1*$F$2),\"\")","v":""},0,{"$f":"IFERROR(SUBSTITUTE(SUBSTITUTE(SUBSTITUTE(RIGHT(INDIRECT(\"Trello!\"&ADDRESS(ROW()-1, L$1, 4)),LEN(INDIRECT(\"Trello!\"&ADDRESS(ROW()-1, L$1, 4)))-15),\". \",\"/\"),\" 20\",\"/20\"),\" \",\"\"),\"\")","v":""},{"$f":"IFERROR(SUBSTITUTE(SUBSTITUTE(SUBSTITUTE(RIGHT(INDIRECT(\"Trello!\"&ADDRESS(ROW()-1, M$1, 4)),LEN(INDIRECT(\"Trello!\"&ADDRESS(ROW()-1, M$1, 4)))-15),\". \",\"/\"),\" 20\",\"/20\"),\" \",\"\"),\"\")","v":""},"","","",{"$f":"IFERROR(SUBSTITUTE(INDIRECT(\"Trello!\"&ADDRESS(ROW()-1, O$1, 4)),\"Estimate hrs: \",\"\")*1,\"\")","v":""},{"$f":"IF(SUMIF(Timecamp!C:C,Reporte!A127,Timecamp!J:J)=0,\"\",SUMIF(Timecamp!C:C,Reporte!A127,Timecamp!J:J))","v":""},"","",{"$f":"IFERROR(VLOOKUP(A127,'SLA Trab'!E:I,5,FALSE),\"\")","v":""},{"$f":"IFERROR(VLOOKUP(A127,'SLA Cobr'!E:I,5,FALSE),\"\")","v":""}]
[{"$f":"IFERROR(IF(Trello!E127=\"\",\"\",Trello!E127),\" \")","v":"varios - Chipre Usability Tests"},{"$f":"IF($A128=\"\",\"\",IF(Trello!A127=\"\",B127,Trello!A127))","v":"Terminado"},"2022-10-11",{"$f":"IF($A128=\"\",\"\",SUBSTITUTE(SUBSTITUTE(Trello!J127,\" days\",\"\"),\"⌚ \",\"\")*1)","v":337},{"$f":"IFERROR(IF($A128=\"\",\"\",SUBSTITUTE(SUBSTITUTE(SUBSTITUTE(INDIRECT(\"Trello!\"&ADDRESS(ROW()-1, E$1, 4)),\"Foreign: \",\"\"),\" $\",\"\"),\".\",\"\")*1),\"\")","v":60},{"$f":"IF($E128=\"\",IFERROR(IF($A128=\"\",\"\",SUBSTITUTE(SUBSTITUTE(SUBSTITUTE(INDIRECT(\"Trello!\"&ADDRESS(ROW()-1, F$1, 4)),\"MXN: \",\"\"),\" MX$\",\"\"),\".\",\"\")*1),\"\"),E128*F$2)","v":1050},{"$f":"IFERROR(IF($A128=\"\",\"\",SUBSTITUTE(SUBSTITUTE(SUBSTITUTE(INDIRECT(\"Trello!\"&ADDRESS(ROW()-1, G$1, 4)),\"Debt: \",\"\"),\" $\",\"\"),\".\",\"\")*1)*IF(E128=\"\",1,F$2),\"\")","v":""},{"$f":"IFERROR(IF($A128=\"\",\"\",SUBSTITUTE(SUBSTITUTE(SUBSTITUTE(INDIRECT(\"Trello!\"&ADDRESS(ROW()-1, H$1, 4)),\"Cost: \",\"\"),\" $\",\"\"),\".\",\"\")*1*$F$2),\"\")","v":""},1050,{"$f":"IFERROR(SUBSTITUTE(SUBSTITUTE(SUBSTITUTE(RIGHT(INDIRECT(\"Trello!\"&ADDRESS(ROW()-1, L$1, 4)),LEN(INDIRECT(\"Trello!\"&ADDRESS(ROW()-1, L$1, 4)))-15),\". \",\"/\"),\" 20\",\"/20\"),\" \",\"\"),\"\")","v":"14/Okt/2022"},{"$f":"IFERROR(SUBSTITUTE(SUBSTITUTE(SUBSTITUTE(RIGHT(INDIRECT(\"Trello!\"&ADDRESS(ROW()-1, M$1, 4)),LEN(INDIRECT(\"Trello!\"&ADDRESS(ROW()-1, M$1, 4)))-15),\". \",\"/\"),\" 20\",\"/20\"),\" \",\"\"),\"\")","v":""},"2022-10-14","","",{"$f":"IFERROR(SUBSTITUTE(INDIRECT(\"Trello!\"&ADDRESS(ROW()-1, O$1, 4)),\"Estimate hrs: \",\"\")*1,\"\")","v":""},{"$f":"IF(SUMIF(Timecamp!C:C,Reporte!A128,Timecamp!J:J)=0,\"\",SUMIF(Timecamp!C:C,Reporte!A128,Timecamp!J:J))","v":""},"","",{"$f":"IFERROR(VLOOKUP(A128,'SLA Trab'!E:I,5,FALSE),\"\")","v":""},{"$f":"IFERROR(VLOOKUP(A128,'SLA Cobr'!E:I,5,FALSE),\"\")","v":""}]
[{"$f":"IFERROR(IF(Trello!E128=\"\",\"\",Trello!E128),\" \")","v":"Buita - Depósito"},{"$f":"IF($A129=\"\",\"\",IF(Trello!A128=\"\",B128,Trello!A128))","v":"Terminado"},"2022-09-29",{"$f":"IF($A129=\"\",\"\",SUBSTITUTE(SUBSTITUTE(Trello!J128,\" days\",\"\"),\"⌚ \",\"\")*1)","v":349},{"$f":"IFERROR(IF($A129=\"\",\"\",SUBSTITUTE(SUBSTITUTE(SUBSTITUTE(INDIRECT(\"Trello!\"&ADDRESS(ROW()-1, E$1, 4)),\"Foreign: \",\"\"),\" $\",\"\"),\".\",\"\")*1),\"\")","v":""},{"$f":"IF($E129=\"\",IFERROR(IF($A129=\"\",\"\",SUBSTITUTE(SUBSTITUTE(SUBSTITUTE(INDIRECT(\"Trello!\"&ADDRESS(ROW()-1, F$1, 4)),\"MXN: \",\"\"),\" MX$\",\"\"),\".\",\"\")*1),\"\"),E129*F$2)","v":-1787},{"$f":"IFERROR(IF($A129=\"\",\"\",SUBSTITUTE(SUBSTITUTE(SUBSTITUTE(INDIRECT(\"Trello!\"&ADDRESS(ROW()-1, G$1, 4)),\"Debt: \",\"\"),\" $\",\"\"),\".\",\"\")*1)*IF(E129=\"\",1,F$2),\"\")","v":0},{"$f":"IFERROR(IF($A129=\"\",\"\",SUBSTITUTE(SUBSTITUTE(SUBSTITUTE(INDIRECT(\"Trello!\"&ADDRESS(ROW()-1, H$1, 4)),\"Cost: \",\"\"),\" $\",\"\"),\".\",\"\")*1*$F$2),\"\")","v":""},-1787,{"$f":"IFERROR(SUBSTITUTE(SUBSTITUTE(SUBSTITUTE(RIGHT(INDIRECT(\"Trello!\"&ADDRESS(ROW()-1, L$1, 4)),LEN(INDIRECT(\"Trello!\"&ADDRESS(ROW()-1, L$1, 4)))-15),\". \",\"/\"),\" 20\",\"/20\"),\" \",\"\"),\"\")","v":""},{"$f":"IFERROR(SUBSTITUTE(SUBSTITUTE(SUBSTITUTE(RIGHT(INDIRECT(\"Trello!\"&ADDRESS(ROW()-1, M$1, 4)),LEN(INDIRECT(\"Trello!\"&ADDRESS(ROW()-1, M$1, 4)))-15),\". \",\"/\"),\" 20\",\"/20\"),\" \",\"\"),\"\")","v":""},"","","",{"$f":"IFERROR(SUBSTITUTE(INDIRECT(\"Trello!\"&ADDRESS(ROW()-1, O$1, 4)),\"Estimate hrs: \",\"\")*1,\"\")","v":""},{"$f":"IF(SUMIF(Timecamp!C:C,Reporte!A129,Timecamp!J:J)=0,\"\",SUMIF(Timecamp!C:C,Reporte!A129,Timecamp!J:J))","v":""},"","",{"$f":"IFERROR(VLOOKUP(A129,'SLA Trab'!E:I,5,FALSE),\"\")","v":""},{"$f":"IFERROR(VLOOKUP(A129,'SLA Cobr'!E:I,5,FALSE),\"\")","v":""}]
[{"$f":"IFERROR(IF(Trello!E129=\"\",\"\",Trello!E129),\" \")","v":"Nick Advizee - Migracion"},{"$f":"IF($A130=\"\",\"\",IF(Trello!A129=\"\",B129,Trello!A129))","v":"Terminado"},"2022-10-07",{"$f":"IF($A130=\"\",\"\",SUBSTITUTE(SUBSTITUTE(Trello!J129,\" days\",\"\"),\"⌚ \",\"\")*1)","v":341},{"$f":"IFERROR(IF($A130=\"\",\"\",SUBSTITUTE(SUBSTITUTE(SUBSTITUTE(INDIRECT(\"Trello!\"&ADDRESS(ROW()-1, E$1, 4)),\"Foreign: \",\"\"),\" $\",\"\"),\".\",\"\")*1),\"\")","v":""},{"$f":"IF($E130=\"\",IFERROR(IF($A130=\"\",\"\",SUBSTITUTE(SUBSTITUTE(SUBSTITUTE(INDIRECT(\"Trello!\"&ADDRESS(ROW()-1, F$1, 4)),\"MXN: \",\"\"),\" MX$\",\"\"),\".\",\"\")*1),\"\"),E130*F$2)","v":""},{"$f":"IFERROR(IF($A130=\"\",\"\",SUBSTITUTE(SUBSTITUTE(SUBSTITUTE(INDIRECT(\"Trello!\"&ADDRESS(ROW()-1, G$1, 4)),\"Debt: \",\"\"),\" $\",\"\"),\".\",\"\")*1)*IF(E130=\"\",1,F$2),\"\")","v":""},{"$f":"IFERROR(IF($A130=\"\",\"\",SUBSTITUTE(SUBSTITUTE(SUBSTITUTE(INDIRECT(\"Trello!\"&ADDRESS(ROW()-1, H$1, 4)),\"Cost: \",\"\"),\" $\",\"\"),\".\",\"\")*1*$F$2),\"\")","v":""},"",{"$f":"IFERROR(SUBSTITUTE(SUBSTITUTE(SUBSTITUTE(RIGHT(INDIRECT(\"Trello!\"&ADDRESS(ROW()-1, L$1, 4)),LEN(INDIRECT(\"Trello!\"&ADDRESS(ROW()-1, L$1, 4)))-15),\". \",\"/\"),\" 20\",\"/20\"),\" \",\"\"),\"\")","v":""},{"$f":"IFERROR(SUBSTITUTE(SUBSTITUTE(SUBSTITUTE(RIGHT(INDIRECT(\"Trello!\"&ADDRESS(ROW()-1, M$1, 4)),LEN(INDIRECT(\"Trello!\"&ADDRESS(ROW()-1, M$1, 4)))-15),\". \",\"/\"),\" 20\",\"/20\"),\" \",\"\"),\"\")","v":""},"","","",{"$f":"IFERROR(SUBSTITUTE(INDIRECT(\"Trello!\"&ADDRESS(ROW()-1, O$1, 4)),\"Estimate hrs: \",\"\")*1,\"\")","v":""},{"$f":"IF(SUMIF(Timecamp!C:C,Reporte!A130,Timecamp!J:J)=0,\"\",SUMIF(Timecamp!C:C,Reporte!A130,Timecamp!J:J))","v":""},"","",{"$f":"IFERROR(VLOOKUP(A130,'SLA Trab'!E:I,5,FALSE),\"\")","v":""},{"$f":"IFERROR(VLOOKUP(A130,'SLA Cobr'!E:I,5,FALSE),\"\")","v":""}]
[{"$f":"IFERROR(IF(Trello!E130=\"\",\"\",Trello!E130),\" \")","v":"Daren freelancer - Precisemd form2"},{"$f":"IF($A131=\"\",\"\",IF(Trello!A130=\"\",B130,Trello!A130))","v":"Terminado"},"2022-09-29",{"$f":"IF($A131=\"\",\"\",SUBSTITUTE(SUBSTITUTE(Trello!J130,\" days\",\"\"),\"⌚ \",\"\")*1)","v":349},{"$f":"IFERROR(IF($A131=\"\",\"\",SUBSTITUTE(SUBSTITUTE(SUBSTITUTE(INDIRECT(\"Trello!\"&ADDRESS(ROW()-1, E$1, 4)),\"Foreign: \",\"\"),\" $\",\"\"),\".\",\"\")*1),\"\")","v":220},{"$f":"IF($E131=\"\",IFERROR(IF($A131=\"\",\"\",SUBSTITUTE(SUBSTITUTE(SUBSTITUTE(INDIRECT(\"Trello!\"&ADDRESS(ROW()-1, F$1, 4)),\"MXN: \",\"\"),\" MX$\",\"\"),\".\",\"\")*1),\"\"),E131*F$2)","v":3850},{"$f":"IFERROR(IF($A131=\"\",\"\",SUBSTITUTE(SUBSTITUTE(SUBSTITUTE(INDIRECT(\"Trello!\"&ADDRESS(ROW()-1, G$1, 4)),\"Debt: \",\"\"),\" $\",\"\"),\".\",\"\")*1)*IF(E131=\"\",1,F$2),\"\")","v":""},{"$f":"IFERROR(IF($A131=\"\",\"\",SUBSTITUTE(SUBSTITUTE(SUBSTITUTE(INDIRECT(\"Trello!\"&ADDRESS(ROW()-1, H$1, 4)),\"Cost: \",\"\"),\" $\",\"\"),\".\",\"\")*1*$F$2),\"\")","v":""},3850,{"$f":"IFERROR(SUBSTITUTE(SUBSTITUTE(SUBSTITUTE(RIGHT(INDIRECT(\"Trello!\"&ADDRESS(ROW()-1, L$1, 4)),LEN(INDIRECT(\"Trello!\"&ADDRESS(ROW()-1, L$1, 4)))-15),\". \",\"/\"),\" 20\",\"/20\"),\" \",\"\"),\"\")","v":""},{"$f":"IFERROR(SUBSTITUTE(SUBSTITUTE(SUBSTITUTE(RIGHT(INDIRECT(\"Trello!\"&ADDRESS(ROW()-1, M$1, 4)),LEN(INDIRECT(\"Trello!\"&ADDRESS(ROW()-1, M$1, 4)))-15),\". \",\"/\"),\" 20\",\"/20\"),\" \",\"\"),\"\")","v":""},"","","",{"$f":"IFERROR(SUBSTITUTE(INDIRECT(\"Trello!\"&ADDRESS(ROW()-1, O$1, 4)),\"Estimate hrs: \",\"\")*1,\"\")","v":""},{"$f":"IF(SUMIF(Timecamp!C:C,Reporte!A131,Timecamp!J:J)=0,\"\",SUMIF(Timecamp!C:C,Reporte!A131,Timecamp!J:J))","v":""},{"$f":"IF(AND(O131>0,P131>0,O131<>\"\",P131<>\"\"),(P131/O131)-1,\"\")","v":""},{"$f":"IF(OR(P131=\"\",F131=\"\"),\"\",F131/P131)","v":""},{"$f":"IFERROR(VLOOKUP(A131,'SLA Trab'!E:I,5,FALSE),\"\")","v":""},{"$f":"IFERROR(VLOOKUP(A131,'SLA Cobr'!E:I,5,FALSE),\"\")","v":""}]
[{"$f":"IFERROR(IF(Trello!E131=\"\",\"\",Trello!E131),\" \")","v":"Norma Nateras - Hosting"},{"$f":"IF($A132=\"\",\"\",IF(Trello!A131=\"\",B131,Trello!A131))","v":"Terminado"},{"$f":"IF($A132=\"\",\"\",TODAY()-D132)","v":"2022-09-30"},{"$f":"IF($A132=\"\",\"\",SUBSTITUTE(SUBSTITUTE(Trello!J131,\" days\",\"\"),\"⌚ \",\"\")*1)","v":348},{"$f":"IFERROR(IF($A132=\"\",\"\",SUBSTITUTE(SUBSTITUTE(SUBSTITUTE(INDIRECT(\"Trello!\"&ADDRESS(ROW()-1, E$1, 4)),\"Foreign: \",\"\"),\" $\",\"\"),\".\",\"\")*1),\"\")","v":""},{"$f":"IF($E132=\"\",IFERROR(IF($A132=\"\",\"\",SUBSTITUTE(SUBSTITUTE(SUBSTITUTE(INDIRECT(\"Trello!\"&ADDRESS(ROW()-1, F$1, 4)),\"MXN: \",\"\"),\" MX$\",\"\"),\".\",\"\")*1),\"\"),E132*F$2)","v":2000},{"$f":"IFERROR(IF($A132=\"\",\"\",SUBSTITUTE(SUBSTITUTE(SUBSTITUTE(INDIRECT(\"Trello!\"&ADDRESS(ROW()-1, G$1, 4)),\"Debt: \",\"\"),\" $\",\"\"),\".\",\"\")*1)*IF(E132=\"\",1,F$2),\"\")","v":""},{"$f":"IFERROR(IF($A132=\"\",\"\",SUBSTITUTE(SUBSTITUTE(SUBSTITUTE(INDIRECT(\"Trello!\"&ADDRESS(ROW()-1, H$1, 4)),\"Cost: \",\"\"),\" $\",\"\"),\".\",\"\")*1*$F$2),\"\")","v":""},2000,{"$f":"IFERROR(SUBSTITUTE(SUBSTITUTE(SUBSTITUTE(RIGHT(INDIRECT(\"Trello!\"&ADDRESS(ROW()-1, L$1, 4)),LEN(INDIRECT(\"Trello!\"&ADDRESS(ROW()-1, L$1, 4)))-15),\". \",\"/\"),\" 20\",\"/20\"),\" \",\"\"),\"\")","v":"3/Okt/2022"},{"$f":"IFERROR(SUBSTITUTE(SUBSTITUTE(SUBSTITUTE(RIGHT(INDIRECT(\"Trello!\"&ADDRESS(ROW()-1, M$1, 4)),LEN(INDIRECT(\"Trello!\"&ADDRESS(ROW()-1, M$1, 4)))-15),\". \",\"/\"),\" 20\",\"/20\"),\" \",\"\"),\"\")","v":""},"2022-10-03","","",{"$f":"IFERROR(SUBSTITUTE(INDIRECT(\"Trello!\"&ADDRESS(ROW()-1, O$1, 4)),\"Estimate hrs: \",\"\")*1,\"\")","v":""},{"$f":"IF(SUMIF(Timecamp!C:C,Reporte!A132,Timecamp!J:J)=0,\"\",SUMIF(Timecamp!C:C,Reporte!A132,Timecamp!J:J))","v":""},"","",{"$f":"IFERROR(VLOOKUP(A132,'SLA Trab'!E:I,5,FALSE),\"\")","v":""},{"$f":"IFERROR(VLOOKUP(A132,'SLA Cobr'!E:I,5,FALSE),\"\")","v":""}]
[{"$f":"IFERROR(IF(Trello!E132=\"\",\"\",Trello!E132),\" \")","v":"Mama Madhu - Préstamo"},{"$f":"IF($A133=\"\",\"\",IF(Trello!A132=\"\",B132,Trello!A132))","v":"Terminado"},"2022-09-22",{"$f":"IF($A133=\"\",\"\",SUBSTITUTE(SUBSTITUTE(Trello!J132,\" days\",\"\"),\"⌚ \",\"\")*1)","v":356},{"$f":"IFERROR(IF($A133=\"\",\"\",SUBSTITUTE(SUBSTITUTE(SUBSTITUTE(INDIRECT(\"Trello!\"&ADDRESS(ROW()-1, E$1, 4)),\"Foreign: \",\"\"),\" $\",\"\"),\".\",\"\")*1),\"\")","v":""},{"$f":"IF($E133=\"\",IFERROR(IF($A133=\"\",\"\",SUBSTITUTE(SUBSTITUTE(SUBSTITUTE(INDIRECT(\"Trello!\"&ADDRESS(ROW()-1, F$1, 4)),\"MXN: \",\"\"),\" MX$\",\"\"),\".\",\"\")*1),\"\"),E133*F$2)","v":7600},{"$f":"IFERROR(IF($A133=\"\",\"\",SUBSTITUTE(SUBSTITUTE(SUBSTITUTE(INDIRECT(\"Trello!\"&ADDRESS(ROW()-1, G$1, 4)),\"Debt: \",\"\"),\" $\",\"\"),\".\",\"\")*1)*IF(E133=\"\",1,F$2),\"\")","v":""},{"$f":"IFERROR(IF($A133=\"\",\"\",SUBSTITUTE(SUBSTITUTE(SUBSTITUTE(INDIRECT(\"Trello!\"&ADDRESS(ROW()-1, H$1, 4)),\"Cost: \",\"\"),\" $\",\"\"),\".\",\"\")*1*$F$2),\"\")","v":""},{"$f":"IF(OR(F133=\"\",H133=\"\"),F133,F133-H133)","v":7600},{"$f":"IFERROR(SUBSTITUTE(SUBSTITUTE(SUBSTITUTE(RIGHT(INDIRECT(\"Trello!\"&ADDRESS(ROW()-1, L$1, 4)),LEN(INDIRECT(\"Trello!\"&ADDRESS(ROW()-1, L$1, 4)))-15),\". \",\"/\"),\" 20\",\"/20\"),\" \",\"\"),\"\")","v":""},{"$f":"IFERROR(SUBSTITUTE(SUBSTITUTE(SUBSTITUTE(RIGHT(INDIRECT(\"Trello!\"&ADDRESS(ROW()-1, M$1, 4)),LEN(INDIRECT(\"Trello!\"&ADDRESS(ROW()-1, M$1, 4)))-15),\". \",\"/\"),\" 20\",\"/20\"),\" \",\"\"),\"\")","v":""},"","","",{"$f":"IFERROR(SUBSTITUTE(INDIRECT(\"Trello!\"&ADDRESS(ROW()-1, O$1, 4)),\"Estimate hrs: \",\"\")*1,\"\")","v":""},{"$f":"IF(SUMIF(Timecamp!C:C,Reporte!A133,Timecamp!J:J)=0,\"\",SUMIF(Timecamp!C:C,Reporte!A133,Timecamp!J:J))","v":""},"","",{"$f":"IFERROR(VLOOKUP(A133,'SLA Trab'!E:I,5,FALSE),\"\")","v":""},{"$f":"IFERROR(VLOOKUP(A133,'SLA Cobr'!E:I,5,FALSE),\"\")","v":""}]
[{"$f":"IFERROR(IF(Trello!E133=\"\",\"\",Trello!E133),\" \")","v":"Carrascosa - Freelancer"},{"$f":"IF($A134=\"\",\"\",IF(Trello!A133=\"\",B133,Trello!A133))","v":"Terminado"},"2022-09-11",{"$f":"IF($A134=\"\",\"\",SUBSTITUTE(SUBSTITUTE(Trello!J133,\" days\",\"\"),\"⌚ \",\"\")*1)","v":367},{"$f":"IFERROR(IF($A134=\"\",\"\",SUBSTITUTE(SUBSTITUTE(SUBSTITUTE(INDIRECT(\"Trello!\"&ADDRESS(ROW()-1, E$1, 4)),\"Foreign: \",\"\"),\" $\",\"\"),\".\",\"\")*1),\"\")","v":100},{"$f":"IF($E134=\"\",IFERROR(IF($A134=\"\",\"\",SUBSTITUTE(SUBSTITUTE(SUBSTITUTE(INDIRECT(\"Trello!\"&ADDRESS(ROW()-1, F$1, 4)),\"MXN: \",\"\"),\" MX$\",\"\"),\".\",\"\")*1),\"\"),E134*F$2)","v":1750},{"$f":"IFERROR(IF($A134=\"\",\"\",SUBSTITUTE(SUBSTITUTE(SUBSTITUTE(INDIRECT(\"Trello!\"&ADDRESS(ROW()-1, G$1, 4)),\"Debt: \",\"\"),\" $\",\"\"),\".\",\"\")*1)*IF(E134=\"\",1,F$2),\"\")","v":""},{"$f":"IFERROR(IF($A134=\"\",\"\",SUBSTITUTE(SUBSTITUTE(SUBSTITUTE(INDIRECT(\"Trello!\"&ADDRESS(ROW()-1, H$1, 4)),\"Cost: \",\"\"),\" $\",\"\"),\".\",\"\")*1*$F$2),\"\")","v":""},1750,{"$f":"IFERROR(SUBSTITUTE(SUBSTITUTE(SUBSTITUTE(RIGHT(INDIRECT(\"Trello!\"&ADDRESS(ROW()-1, L$1, 4)),LEN(INDIRECT(\"Trello!\"&ADDRESS(ROW()-1, L$1, 4)))-15),\". \",\"/\"),\" 20\",\"/20\"),\" \",\"\"),\"\")","v":""},{"$f":"IFERROR(SUBSTITUTE(SUBSTITUTE(SUBSTITUTE(RIGHT(INDIRECT(\"Trello!\"&ADDRESS(ROW()-1, M$1, 4)),LEN(INDIRECT(\"Trello!\"&ADDRESS(ROW()-1, M$1, 4)))-15),\". \",\"/\"),\" 20\",\"/20\"),\" \",\"\"),\"\")","v":"5/Sept/2022"},"","2022-09-05","",{"$f":"IFERROR(SUBSTITUTE(INDIRECT(\"Trello!\"&ADDRESS(ROW()-1, O$1, 4)),\"Estimate hrs: \",\"\")*1,\"\")","v":""},{"$f":"IF(SUMIF(Timecamp!C:C,Reporte!A134,Timecamp!J:J)=0,\"\",SUMIF(Timecamp!C:C,Reporte!A134,Timecamp!J:J))","v":""},"","",{"$f":"IFERROR(VLOOKUP(A134,'SLA Trab'!E:I,5,FALSE),\"\")","v":""},{"$f":"IFERROR(VLOOKUP(A134,'SLA Cobr'!E:I,5,FALSE),\"\")","v":""}]
[{"$f":"IFERROR(IF(Trello!E134=\"\",\"\",Trello!E134),\" \")","v":"Nana - Vuelos"},{"$f":"IF($A135=\"\",\"\",IF(Trello!A134=\"\",B134,Trello!A134))","v":"Terminado"},"2022-09-11",{"$f":"IF($A135=\"\",\"\",SUBSTITUTE(SUBSTITUTE(Trello!J134,\" days\",\"\"),\"⌚ \",\"\")*1)","v":367},{"$f":"IFERROR(IF($A135=\"\",\"\",SUBSTITUTE(SUBSTITUTE(SUBSTITUTE(INDIRECT(\"Trello!\"&ADDRESS(ROW()-1, E$1, 4)),\"Foreign: \",\"\"),\" $\",\"\"),\".\",\"\")*1),\"\")","v":""},{"$f":"IF($E135=\"\",IFERROR(IF($A135=\"\",\"\",SUBSTITUTE(SUBSTITUTE(SUBSTITUTE(INDIRECT(\"Trello!\"&ADDRESS(ROW()-1, F$1, 4)),\"MXN: \",\"\"),\" MX$\",\"\"),\".\",\"\")*1),\"\"),E135*F$2)","v":2279},{"$f":"IFERROR(IF($A135=\"\",\"\",SUBSTITUTE(SUBSTITUTE(SUBSTITUTE(INDIRECT(\"Trello!\"&ADDRESS(ROW()-1, G$1, 4)),\"Debt: \",\"\"),\" $\",\"\"),\".\",\"\")*1)*IF(E135=\"\",1,F$2),\"\")","v":""},{"$f":"IFERROR(IF($A135=\"\",\"\",SUBSTITUTE(SUBSTITUTE(SUBSTITUTE(INDIRECT(\"Trello!\"&ADDRESS(ROW()-1, H$1, 4)),\"Cost: \",\"\"),\" $\",\"\"),\".\",\"\")*1*$F$2),\"\")","v":""},2279,{"$f":"IFERROR(SUBSTITUTE(SUBSTITUTE(SUBSTITUTE(RIGHT(INDIRECT(\"Trello!\"&ADDRESS(ROW()-1, L$1, 4)),LEN(INDIRECT(\"Trello!\"&ADDRESS(ROW()-1, L$1, 4)))-15),\". \",\"/\"),\" 20\",\"/20\"),\" \",\"\"),\"\")","v":""},{"$f":"IFERROR(SUBSTITUTE(SUBSTITUTE(SUBSTITUTE(RIGHT(INDIRECT(\"Trello!\"&ADDRESS(ROW()-1, M$1, 4)),LEN(INDIRECT(\"Trello!\"&ADDRESS(ROW()-1, M$1, 4)))-15),\". \",\"/\"),\" 20\",\"/20\"),\" \",\"\"),\"\")","v":"29/Aug/2022"},"","2022-08-29","",{"$f":"IFERROR(SUBSTITUTE(INDIRECT(\"Trello!\"&ADDRESS(ROW()-1, O$1, 4)),\"Estimate hrs: \",\"\")*1,\"\")","v":""},{"$f":"IF(SUMIF(Timecamp!C:C,Reporte!A135,Timecamp!J:J)=0,\"\",SUMIF(Timecamp!C:C,Reporte!A135,Timecamp!J:J))","v":""},"","",{"$f":"IFERROR(VLOOKUP(A135,'SLA Trab'!E:I,5,FALSE),\"\")","v":""},{"$f":"IFERROR(VLOOKUP(A135,'SLA Cobr'!E:I,5,FALSE),\"\")","v":""}]
[{"$f":"IFERROR(IF(Trello!E135=\"\",\"\",Trello!E135),\" \")","v":"yo - Kavak Reembolso"},{"$f":"IF($A136=\"\",\"\",IF(Trello!A135=\"\",B135,Trello!A135))","v":"Terminado"},"2022-09-11",{"$f":"IF($A136=\"\",\"\",SUBSTITUTE(SUBSTITUTE(Trello!J135,\" days\",\"\"),\"⌚ \",\"\")*1)","v":367},{"$f":"IFERROR(IF($A136=\"\",\"\",SUBSTITUTE(SUBSTITUTE(SUBSTITUTE(INDIRECT(\"Trello!\"&ADDRESS(ROW()-1, E$1, 4)),\"Foreign: \",\"\"),\" $\",\"\"),\".\",\"\")*1),\"\")","v":""},{"$f":"IF($E136=\"\",IFERROR(IF($A136=\"\",\"\",SUBSTITUTE(SUBSTITUTE(SUBSTITUTE(INDIRECT(\"Trello!\"&ADDRESS(ROW()-1, F$1, 4)),\"MXN: \",\"\"),\" MX$\",\"\"),\".\",\"\")*1),\"\"),E136*F$2)","v":1500},{"$f":"IFERROR(IF($A136=\"\",\"\",SUBSTITUTE(SUBSTITUTE(SUBSTITUTE(INDIRECT(\"Trello!\"&ADDRESS(ROW()-1, G$1, 4)),\"Debt: \",\"\"),\" $\",\"\"),\".\",\"\")*1)*IF(E136=\"\",1,F$2),\"\")","v":""},{"$f":"IFERROR(IF($A136=\"\",\"\",SUBSTITUTE(SUBSTITUTE(SUBSTITUTE(INDIRECT(\"Trello!\"&ADDRESS(ROW()-1, H$1, 4)),\"Cost: \",\"\"),\" $\",\"\"),\".\",\"\")*1*$F$2),\"\")","v":""},1500,{"$f":"IFERROR(SUBSTITUTE(SUBSTITUTE(SUBSTITUTE(RIGHT(INDIRECT(\"Trello!\"&ADDRESS(ROW()-1, L$1, 4)),LEN(INDIRECT(\"Trello!\"&ADDRESS(ROW()-1, L$1, 4)))-15),\". \",\"/\"),\" 20\",\"/20\"),\" \",\"\"),\"\")","v":""},{"$f":"IFERROR(SUBSTITUTE(SUBSTITUTE(SUBSTITUTE(RIGHT(INDIRECT(\"Trello!\"&ADDRESS(ROW()-1, M$1, 4)),LEN(INDIRECT(\"Trello!\"&ADDRESS(ROW()-1, M$1, 4)))-15),\". \",\"/\"),\" 20\",\"/20\"),\" \",\"\"),\"\")","v":"7/Aug/2022"},"","2022-08-07","",{"$f":"IFERROR(SUBSTITUTE(INDIRECT(\"Trello!\"&ADDRESS(ROW()-1, O$1, 4)),\"Estimate hrs: \",\"\")*1,\"\")","v":""},{"$f":"IF(SUMIF(Timecamp!C:C,Reporte!A136,Timecamp!J:J)=0,\"\",SUMIF(Timecamp!C:C,Reporte!A136,Timecamp!J:J))","v":""},"","",{"$f":"IFERROR(VLOOKUP(A136,'SLA Trab'!E:I,5,FALSE),\"\")","v":""},{"$f":"IFERROR(VLOOKUP(A136,'SLA Cobr'!E:I,5,FALSE),\"\")","v":""}]
[{"$f":"IFERROR(IF(Trello!E136=\"\",\"\",Trello!E136),\" \")","v":"Nick Advizee - Localbeaty - tags taxonomy filter"},{"$f":"IF($A137=\"\",\"\",IF(Trello!A136=\"\",B136,Trello!A136))","v":"Terminado"},"2022-09-13",{"$f":"IF($A137=\"\",\"\",SUBSTITUTE(SUBSTITUTE(Trello!J136,\" days\",\"\"),\"⌚ \",\"\")*1)","v":365},{"$f":"IFERROR(IF($A137=\"\",\"\",SUBSTITUTE(SUBSTITUTE(SUBSTITUTE(INDIRECT(\"Trello!\"&ADDRESS(ROW()-1, E$1, 4)),\"Foreign: \",\"\"),\" $\",\"\"),\".\",\"\")*1),\"\")","v":""},{"$f":"IF($E137=\"\",IFERROR(IF($A137=\"\",\"\",SUBSTITUTE(SUBSTITUTE(SUBSTITUTE(INDIRECT(\"Trello!\"&ADDRESS(ROW()-1, F$1, 4)),\"MXN: \",\"\"),\" MX$\",\"\"),\".\",\"\")*1),\"\"),E137*F$2)","v":""},{"$f":"IFERROR(IF($A137=\"\",\"\",SUBSTITUTE(SUBSTITUTE(SUBSTITUTE(INDIRECT(\"Trello!\"&ADDRESS(ROW()-1, G$1, 4)),\"Debt: \",\"\"),\" $\",\"\"),\".\",\"\")*1)*IF(E137=\"\",1,F$2),\"\")","v":""},{"$f":"IFERROR(IF($A137=\"\",\"\",SUBSTITUTE(SUBSTITUTE(SUBSTITUTE(INDIRECT(\"Trello!\"&ADDRESS(ROW()-1, H$1, 4)),\"Cost: \",\"\"),\" $\",\"\"),\".\",\"\")*1*$F$2),\"\")","v":""},"",{"$f":"IFERROR(SUBSTITUTE(SUBSTITUTE(SUBSTITUTE(RIGHT(INDIRECT(\"Trello!\"&ADDRESS(ROW()-1, L$1, 4)),LEN(INDIRECT(\"Trello!\"&ADDRESS(ROW()-1, L$1, 4)))-15),\". \",\"/\"),\" 20\",\"/20\"),\" \",\"\"),\"\")","v":"20/Sept/2022"},{"$f":"IFERROR(SUBSTITUTE(SUBSTITUTE(SUBSTITUTE(RIGHT(INDIRECT(\"Trello!\"&ADDRESS(ROW()-1, M$1, 4)),LEN(INDIRECT(\"Trello!\"&ADDRESS(ROW()-1, M$1, 4)))-15),\". \",\"/\"),\" 20\",\"/20\"),\" \",\"\"),\"\")","v":""},"2022-09-20","","",{"$f":"IFERROR(SUBSTITUTE(INDIRECT(\"Trello!\"&ADDRESS(ROW()-1, O$1, 4)),\"Estimate hrs: \",\"\")*1,\"\")","v":""},{"$f":"IF(SUMIF(Timecamp!C:C,Reporte!A137,Timecamp!J:J)=0,\"\",SUMIF(Timecamp!C:C,Reporte!A137,Timecamp!J:J))","v":""},"","",{"$f":"IFERROR(VLOOKUP(A137,'SLA Trab'!E:I,5,FALSE),\"\")","v":""},{"$f":"IFERROR(VLOOKUP(A137,'SLA Cobr'!E:I,5,FALSE),\"\")","v":""}]
[{"$f":"IFERROR(IF(Trello!E137=\"\",\"\",Trello!E137),\" \")","v":"JoshNBA - Josh NBA"},{"$f":"IF($A138=\"\",\"\",IF(Trello!A137=\"\",B137,Trello!A137))","v":"Terminado"},"2022-09-09",{"$f":"IF($A138=\"\",\"\",SUBSTITUTE(SUBSTITUTE(Trello!J137,\" days\",\"\"),\"⌚ \",\"\")*1)","v":369},{"$f":"IFERROR(IF($A138=\"\",\"\",SUBSTITUTE(SUBSTITUTE(SUBSTITUTE(INDIRECT(\"Trello!\"&ADDRESS(ROW()-1, E$1, 4)),\"Foreign: \",\"\"),\" $\",\"\"),\".\",\"\")*1),\"\")","v":400},{"$f":"IF($E138=\"\",IFERROR(IF($A138=\"\",\"\",SUBSTITUTE(SUBSTITUTE(SUBSTITUTE(INDIRECT(\"Trello!\"&ADDRESS(ROW()-1, F$1, 4)),\"MXN: \",\"\"),\" MX$\",\"\"),\".\",\"\")*1),\"\"),E138*F$2)","v":7000},{"$f":"IFERROR(IF($A138=\"\",\"\",SUBSTITUTE(SUBSTITUTE(SUBSTITUTE(INDIRECT(\"Trello!\"&ADDRESS(ROW()-1, G$1, 4)),\"Debt: \",\"\"),\" $\",\"\"),\".\",\"\")*1)*IF(E138=\"\",1,F$2),\"\")","v":""},{"$f":"IFERROR(IF($A138=\"\",\"\",SUBSTITUTE(SUBSTITUTE(SUBSTITUTE(INDIRECT(\"Trello!\"&ADDRESS(ROW()-1, H$1, 4)),\"Cost: \",\"\"),\" $\",\"\"),\".\",\"\")*1*$F$2),\"\")","v":""},7000,{"$f":"IFERROR(SUBSTITUTE(SUBSTITUTE(SUBSTITUTE(RIGHT(INDIRECT(\"Trello!\"&ADDRESS(ROW()-1, L$1, 4)),LEN(INDIRECT(\"Trello!\"&ADDRESS(ROW()-1, L$1, 4)))-15),\". \",\"/\"),\" 20\",\"/20\"),\" \",\"\"),\"\")","v":""},{"$f":"IFERROR(SUBSTITUTE(SUBSTITUTE(SUBSTITUTE(RIGHT(INDIRECT(\"Trello!\"&ADDRESS(ROW()-1, M$1, 4)),LEN(INDIRECT(\"Trello!\"&ADDRESS(ROW()-1, M$1, 4)))-15),\". \",\"/\"),\" 20\",\"/20\"),\" \",\"\"),\"\")","v":"7/Sept/2022"},"","2022-09-07",{"$f":"IF(AND(L138>0,M138>0,L138<>\"\",M138<>\"\"),L138-M138,\"\")","v":""},{"$f":"IFERROR(SUBSTITUTE(INDIRECT(\"Trello!\"&ADDRESS(ROW()-1, O$1, 4)),\"Estimate hrs: \",\"\")*1,\"\")","v":""},{"$f":"IF(SUMIF(Timecamp!C:C,Reporte!A138,Timecamp!J:J)=0,\"\",SUMIF(Timecamp!C:C,Reporte!A138,Timecamp!J:J))","v":""},"","",{"$f":"IFERROR(VLOOKUP(A138,'SLA Trab'!E:I,5,FALSE),\"\")","v":""},{"$f":"IFERROR(VLOOKUP(A138,'SLA Cobr'!E:I,5,FALSE),\"\")","v":""}]
[{"$f":"IFERROR(IF(Trello!E138=\"\",\"\",Trello!E138),\" \")","v":"Gary Hydracheck - Speedup"},{"$f":"IF($A139=\"\",\"\",IF(Trello!A138=\"\",B138,Trello!A138))","v":"Terminado"},"2022-09-09",{"$f":"IF($A139=\"\",\"\",SUBSTITUTE(SUBSTITUTE(Trello!J138,\" days\",\"\"),\"⌚ \",\"\")*1)","v":369},{"$f":"IFERROR(IF($A139=\"\",\"\",SUBSTITUTE(SUBSTITUTE(SUBSTITUTE(INDIRECT(\"Trello!\"&ADDRESS(ROW()-1, E$1, 4)),\"Foreign: \",\"\"),\" $\",\"\"),\".\",\"\")*1),\"\")","v":150},{"$f":"IF($E139=\"\",IFERROR(IF($A139=\"\",\"\",SUBSTITUTE(SUBSTITUTE(SUBSTITUTE(INDIRECT(\"Trello!\"&ADDRESS(ROW()-1, F$1, 4)),\"MXN: \",\"\"),\" MX$\",\"\"),\".\",\"\")*1),\"\"),E139*F$2)","v":2625},{"$f":"IFERROR(IF($A139=\"\",\"\",SUBSTITUTE(SUBSTITUTE(SUBSTITUTE(INDIRECT(\"Trello!\"&ADDRESS(ROW()-1, G$1, 4)),\"Debt: \",\"\"),\" $\",\"\"),\".\",\"\")*1)*IF(E139=\"\",1,F$2),\"\")","v":""},{"$f":"IFERROR(IF($A139=\"\",\"\",SUBSTITUTE(SUBSTITUTE(SUBSTITUTE(INDIRECT(\"Trello!\"&ADDRESS(ROW()-1, H$1, 4)),\"Cost: \",\"\"),\" $\",\"\"),\".\",\"\")*1*$F$2),\"\")","v":""},2625,{"$f":"IFERROR(SUBSTITUTE(SUBSTITUTE(SUBSTITUTE(RIGHT(INDIRECT(\"Trello!\"&ADDRESS(ROW()-1, L$1, 4)),LEN(INDIRECT(\"Trello!\"&ADDRESS(ROW()-1, L$1, 4)))-15),\". \",\"/\"),\" 20\",\"/20\"),\" \",\"\"),\"\")","v":"13/Sept/2022"},{"$f":"IFERROR(SUBSTITUTE(SUBSTITUTE(SUBSTITUTE(RIGHT(INDIRECT(\"Trello!\"&ADDRESS(ROW()-1, M$1, 4)),LEN(INDIRECT(\"Trello!\"&ADDRESS(ROW()-1, M$1, 4)))-15),\". \",\"/\"),\" 20\",\"/20\"),\" \",\"\"),\"\")","v":""},{"$f":"IFERROR(SUBSTITUTE(SUBSTITUTE(SUBSTITUTE(SUBSTITUTE(SUBSTITUTE(SUBSTITUTE(SUBSTITUTE(SUBSTITUTE(SUBSTITUTE(SUBSTITUTE(SUBSTITUTE(SUBSTITUTE(J139,\"Dez\",12),\"Nov\",11),\"Okt\",10),\"Sept\",9),\"Aug\",8),\"Juli\",7),\"Juni\",6),\"Mai\",5),\"Apr\",4),\"März\",3),\"Feb\",2),\"Jan\",1)*1,\"\")","v":"2022-09-13"},"","",{"$f":"IFERROR(SUBSTITUTE(INDIRECT(\"Trello!\"&ADDRESS(ROW()-1, O$1, 4)),\"Estimate hrs: \",\"\")*1,\"\")","v":""},{"$f":"IF(SUMIF(Timecamp!C:C,Reporte!A139,Timecamp!J:J)=0,\"\",SUMIF(Timecamp!C:C,Reporte!A139,Timecamp!J:J))","v":""},"","",{"$f":"IFERROR(VLOOKUP(A139,'SLA Trab'!E:I,5,FALSE),\"\")","v":""},{"$f":"IFERROR(VLOOKUP(A139,'SLA Cobr'!E:I,5,FALSE),\"\")","v":""}]
[{"$f":"IFERROR(IF(Trello!E139=\"\",\"\",Trello!E139),\" \")","v":"Sam Freelancer - PetersWindow Hosting"},{"$f":"IF($A140=\"\",\"\",IF(Trello!A139=\"\",B139,Trello!A139))","v":"Terminado"},"2022-09-09",{"$f":"IF($A140=\"\",\"\",SUBSTITUTE(SUBSTITUTE(Trello!J139,\" days\",\"\"),\"⌚ \",\"\")*1)","v":369},{"$f":"IFERROR(IF($A140=\"\",\"\",SUBSTITUTE(SUBSTITUTE(SUBSTITUTE(INDIRECT(\"Trello!\"&ADDRESS(ROW()-1, E$1, 4)),\"Foreign: \",\"\"),\" $\",\"\"),\".\",\"\")*1),\"\")","v":100},{"$f":"IF($E140=\"\",IFERROR(IF($A140=\"\",\"\",SUBSTITUTE(SUBSTITUTE(SUBSTITUTE(INDIRECT(\"Trello!\"&ADDRESS(ROW()-1, F$1, 4)),\"MXN: \",\"\"),\" MX$\",\"\"),\".\",\"\")*1),\"\"),E140*F$2)","v":1750},{"$f":"IFERROR(IF($A140=\"\",\"\",SUBSTITUTE(SUBSTITUTE(SUBSTITUTE(INDIRECT(\"Trello!\"&ADDRESS(ROW()-1, G$1, 4)),\"Debt: \",\"\"),\" $\",\"\"),\".\",\"\")*1)*IF(E140=\"\",1,F$2),\"\")","v":""},{"$f":"IFERROR(IF($A140=\"\",\"\",SUBSTITUTE(SUBSTITUTE(SUBSTITUTE(INDIRECT(\"Trello!\"&ADDRESS(ROW()-1, H$1, 4)),\"Cost: \",\"\"),\" $\",\"\"),\".\",\"\")*1*$F$2),\"\")","v":""},1750,{"$f":"IFERROR(SUBSTITUTE(SUBSTITUTE(SUBSTITUTE(RIGHT(INDIRECT(\"Trello!\"&ADDRESS(ROW()-1, L$1, 4)),LEN(INDIRECT(\"Trello!\"&ADDRESS(ROW()-1, L$1, 4)))-15),\". \",\"/\"),\" 20\",\"/20\"),\" \",\"\"),\"\")","v":""},{"$f":"IFERROR(SUBSTITUTE(SUBSTITUTE(SUBSTITUTE(RIGHT(INDIRECT(\"Trello!\"&ADDRESS(ROW()-1, M$1, 4)),LEN(INDIRECT(\"Trello!\"&ADDRESS(ROW()-1, M$1, 4)))-15),\". \",\"/\"),\" 20\",\"/20\"),\" \",\"\"),\"\")","v":"30/Aug/2022"},"","2022-08-30","",{"$f":"IFERROR(SUBSTITUTE(INDIRECT(\"Trello!\"&ADDRESS(ROW()-1, O$1, 4)),\"Estimate hrs: \",\"\")*1,\"\")","v":""},{"$f":"IF(SUMIF(Timecamp!C:C,Reporte!A140,Timecamp!J:J)=0,\"\",SUMIF(Timecamp!C:C,Reporte!A140,Timecamp!J:J))","v":""},"","",{"$f":"IFERROR(VLOOKUP(A140,'SLA Trab'!E:I,5,FALSE),\"\")","v":""},{"$f":"IFERROR(VLOOKUP(A140,'SLA Cobr'!E:I,5,FALSE),\"\")","v":""}]
[{"$f":"IFERROR(IF(Trello!E140=\"\",\"\",Trello!E140),\" \")","v":"Jason Freelancer - Speedup Brindabella"},{"$f":"IF($A141=\"\",\"\",IF(Trello!A140=\"\",B140,Trello!A140))","v":"Terminado"},"2022-09-09",{"$f":"IF($A141=\"\",\"\",SUBSTITUTE(SUBSTITUTE(Trello!J140,\" days\",\"\"),\"⌚ \",\"\")*1)","v":369},{"$f":"IFERROR(IF($A141=\"\",\"\",SUBSTITUTE(SUBSTITUTE(SUBSTITUTE(INDIRECT(\"Trello!\"&ADDRESS(ROW()-1, E$1, 4)),\"Foreign: \",\"\"),\" $\",\"\"),\".\",\"\")*1),\"\")","v":460},{"$f":"IF($E141=\"\",IFERROR(IF($A141=\"\",\"\",SUBSTITUTE(SUBSTITUTE(SUBSTITUTE(INDIRECT(\"Trello!\"&ADDRESS(ROW()-1, F$1, 4)),\"MXN: \",\"\"),\" MX$\",\"\"),\".\",\"\")*1),\"\"),E141*F$2)","v":8050},{"$f":"IFERROR(IF($A141=\"\",\"\",SUBSTITUTE(SUBSTITUTE(SUBSTITUTE(INDIRECT(\"Trello!\"&ADDRESS(ROW()-1, G$1, 4)),\"Debt: \",\"\"),\" $\",\"\"),\".\",\"\")*1)*IF(E141=\"\",1,F$2),\"\")","v":""},{"$f":"IFERROR(IF($A141=\"\",\"\",SUBSTITUTE(SUBSTITUTE(SUBSTITUTE(INDIRECT(\"Trello!\"&ADDRESS(ROW()-1, H$1, 4)),\"Cost: \",\"\"),\" $\",\"\"),\".\",\"\")*1*$F$2),\"\")","v":""},8050,{"$f":"IFERROR(SUBSTITUTE(SUBSTITUTE(SUBSTITUTE(RIGHT(INDIRECT(\"Trello!\"&ADDRESS(ROW()-1, L$1, 4)),LEN(INDIRECT(\"Trello!\"&ADDRESS(ROW()-1, L$1, 4)))-15),\". \",\"/\"),\" 20\",\"/20\"),\" \",\"\"),\"\")","v":"15/Sept/2022"},{"$f":"IFERROR(SUBSTITUTE(SUBSTITUTE(SUBSTITUTE(RIGHT(INDIRECT(\"Trello!\"&ADDRESS(ROW()-1, M$1, 4)),LEN(INDIRECT(\"Trello!\"&ADDRESS(ROW()-1, M$1, 4)))-15),\". \",\"/\"),\" 20\",\"/20\"),\" \",\"\"),\"\")","v":""},"2022-09-15","","",{"$f":"IFERROR(SUBSTITUTE(INDIRECT(\"Trello!\"&ADDRESS(ROW()-1, O$1, 4)),\"Estimate hrs: \",\"\")*1,\"\")","v":""},{"$f":"IF(SUMIF(Timecamp!C:C,Reporte!A141,Timecamp!J:J)=0,\"\",SUMIF(Timecamp!C:C,Reporte!A141,Timecamp!J:J))","v":""},"","",{"$f":"IFERROR(VLOOKUP(A141,'SLA Trab'!E:I,5,FALSE),\"\")","v":""},{"$f":"IFERROR(VLOOKUP(A141,'SLA Cobr'!E:I,5,FALSE),\"\")","v":""}]
[{"$f":"IFERROR(IF(Trello!E141=\"\",\"\",Trello!E141),\" \")","v":"Tiempo Libre - ACD"},{"$f":"IF($A142=\"\",\"\",IF(Trello!A141=\"\",B141,Trello!A141))","v":"Fijos"},"2023-07-27",{"$f":"IF($A142=\"\",\"\",SUBSTITUTE(SUBSTITUTE(Trello!J141,\" days\",\"\"),\"⌚ \",\"\")*1)","v":48},{"$f":"IFERROR(IF($A142=\"\",\"\",SUBSTITUTE(SUBSTITUTE(SUBSTITUTE(INDIRECT(\"Trello!\"&ADDRESS(ROW()-1, E$1, 4)),\"Foreign: \",\"\"),\" $\",\"\"),\".\",\"\")*1),\"\")","v":""},{"$f":"IF($E142=\"\",IFERROR(IF($A142=\"\",\"\",SUBSTITUTE(SUBSTITUTE(SUBSTITUTE(INDIRECT(\"Trello!\"&ADDRESS(ROW()-1, F$1, 4)),\"MXN: \",\"\"),\" MX$\",\"\"),\".\",\"\")*1),\"\"),E142*F$2)","v":""},{"$f":"IFERROR(IF($A142=\"\",\"\",SUBSTITUTE(SUBSTITUTE(SUBSTITUTE(INDIRECT(\"Trello!\"&ADDRESS(ROW()-1, G$1, 4)),\"Debt: \",\"\"),\" $\",\"\"),\".\",\"\")*1)*IF(E142=\"\",1,F$2),\"\")","v":""},{"$f":"IFERROR(IF($A142=\"\",\"\",SUBSTITUTE(SUBSTITUTE(SUBSTITUTE(INDIRECT(\"Trello!\"&ADDRESS(ROW()-1, H$1, 4)),\"Cost: \",\"\"),\" $\",\"\"),\".\",\"\")*1*$F$2),\"\")","v":""},"",{"$f":"IFERROR(SUBSTITUTE(SUBSTITUTE(SUBSTITUTE(RIGHT(INDIRECT(\"Trello!\"&ADDRESS(ROW()-1, L$1, 4)),LEN(INDIRECT(\"Trello!\"&ADDRESS(ROW()-1, L$1, 4)))-15),\". \",\"/\"),\" 20\",\"/20\"),\" \",\"\"),\"\")","v":""},{"$f":"IFERROR(SUBSTITUTE(SUBSTITUTE(SUBSTITUTE(RIGHT(INDIRECT(\"Trello!\"&ADDRESS(ROW()-1, M$1, 4)),LEN(INDIRECT(\"Trello!\"&ADDRESS(ROW()-1, M$1, 4)))-15),\". \",\"/\"),\" 20\",\"/20\"),\" \",\"\"),\"\")","v":""},"","","",{"$f":"IFERROR(SUBSTITUTE(INDIRECT(\"Trello!\"&ADDRESS(ROW()-1, O$1, 4)),\"Estimate hrs: \",\"\")*1,\"\")","v":""},{"$f":"IF(SUMIF(Timecamp!C:C,Reporte!A142,Timecamp!J:J)=0,\"\",SUMIF(Timecamp!C:C,Reporte!A142,Timecamp!J:J))","v":17.283333333333339},"","",{"$f":"IFERROR(VLOOKUP(A142,'SLA Trab'!E:I,5,FALSE),\"\")","v":""},{"$f":"IFERROR(VLOOKUP(A142,'SLA Cobr'!E:I,5,FALSE),\"\")","v":""}]
[{"$f":"IFERROR(IF(Trello!E142=\"\",\"\",Trello!E142),\" \")","v":"Administrativo - ACD"},{"$f":"IF($A143=\"\",\"\",IF(Trello!A142=\"\",B142,Trello!A142))","v":"Fijos"},"2023-07-27",{"$f":"IF($A143=\"\",\"\",SUBSTITUTE(SUBSTITUTE(Trello!J142,\" days\",\"\"),\"⌚ \",\"\")*1)","v":48},{"$f":"IFERROR(IF($A143=\"\",\"\",SUBSTITUTE(SUBSTITUTE(SUBSTITUTE(INDIRECT(\"Trello!\"&ADDRESS(ROW()-1, E$1, 4)),\"Foreign: \",\"\"),\" $\",\"\"),\".\",\"\")*1),\"\")","v":""},{"$f":"IF($E143=\"\",IFERROR(IF($A143=\"\",\"\",SUBSTITUTE(SUBSTITUTE(SUBSTITUTE(INDIRECT(\"Trello!\"&ADDRESS(ROW()-1, F$1, 4)),\"MXN: \",\"\"),\" MX$\",\"\"),\".\",\"\")*1),\"\"),E143*F$2)","v":""},{"$f":"IFERROR(IF($A143=\"\",\"\",SUBSTITUTE(SUBSTITUTE(SUBSTITUTE(INDIRECT(\"Trello!\"&ADDRESS(ROW()-1, G$1, 4)),\"Debt: \",\"\"),\" $\",\"\"),\".\",\"\")*1)*IF(E143=\"\",1,F$2),\"\")","v":""},{"$f":"IFERROR(IF($A143=\"\",\"\",SUBSTITUTE(SUBSTITUTE(SUBSTITUTE(INDIRECT(\"Trello!\"&ADDRESS(ROW()-1, H$1, 4)),\"Cost: \",\"\"),\" $\",\"\"),\".\",\"\")*1*$F$2),\"\")","v":""},"",{"$f":"IFERROR(SUBSTITUTE(SUBSTITUTE(SUBSTITUTE(RIGHT(INDIRECT(\"Trello!\"&ADDRESS(ROW()-1, L$1, 4)),LEN(INDIRECT(\"Trello!\"&ADDRESS(ROW()-1, L$1, 4)))-15),\". \",\"/\"),\" 20\",\"/20\"),\" \",\"\"),\"\")","v":""},{"$f":"IFERROR(SUBSTITUTE(SUBSTITUTE(SUBSTITUTE(RIGHT(INDIRECT(\"Trello!\"&ADDRESS(ROW()-1, M$1, 4)),LEN(INDIRECT(\"Trello!\"&ADDRESS(ROW()-1, M$1, 4)))-15),\". \",\"/\"),\" 20\",\"/20\"),\" \",\"\"),\"\")","v":""},"","","",{"$f":"IFERROR(SUBSTITUTE(INDIRECT(\"Trello!\"&ADDRESS(ROW()-1, O$1, 4)),\"Estimate hrs: \",\"\")*1,\"\")","v":""},{"$f":"IF(SUMIF(Timecamp!C:C,Reporte!A143,Timecamp!J:J)=0,\"\",SUMIF(Timecamp!C:C,Reporte!A143,Timecamp!J:J))","v":107.18333333333327},"","",{"$f":"IFERROR(VLOOKUP(A143,'SLA Trab'!E:I,5,FALSE),\"\")","v":""},{"$f":"IFERROR(VLOOKUP(A143,'SLA Cobr'!E:I,5,FALSE),\"\")","v":""}]
[{"$f":"IFERROR(IF(Trello!E143=\"\",\"\",Trello!E143),\" \")","v":"Hostings - ACD"},{"$f":"IF($A144=\"\",\"\",IF(Trello!A143=\"\",B143,Trello!A143))","v":"Fijos"},"2023-08-03",{"$f":"IF($A144=\"\",\"\",SUBSTITUTE(SUBSTITUTE(Trello!J143,\" days\",\"\"),\"⌚ \",\"\")*1)","v":41},{"$f":"IFERROR(IF($A144=\"\",\"\",SUBSTITUTE(SUBSTITUTE(SUBSTITUTE(INDIRECT(\"Trello!\"&ADDRESS(ROW()-1, E$1, 4)),\"Foreign: \",\"\"),\" $\",\"\"),\".\",\"\")*1),\"\")","v":100},{"$f":"IF($E144=\"\",IFERROR(IF($A144=\"\",\"\",SUBSTITUTE(SUBSTITUTE(SUBSTITUTE(INDIRECT(\"Trello!\"&ADDRESS(ROW()-1, F$1, 4)),\"MXN: \",\"\"),\" MX$\",\"\"),\".\",\"\")*1),\"\"),E144*F$2)","v":1750},{"$f":"IFERROR(IF($A144=\"\",\"\",SUBSTITUTE(SUBSTITUTE(SUBSTITUTE(INDIRECT(\"Trello!\"&ADDRESS(ROW()-1, G$1, 4)),\"Debt: \",\"\"),\" $\",\"\"),\".\",\"\")*1)*IF(E144=\"\",1,F$2),\"\")","v":""},{"$f":"IFERROR(IF($A144=\"\",\"\",SUBSTITUTE(SUBSTITUTE(SUBSTITUTE(INDIRECT(\"Trello!\"&ADDRESS(ROW()-1, H$1, 4)),\"Cost: \",\"\"),\" $\",\"\"),\".\",\"\")*1*$F$2),\"\")","v":""},1750,{"$f":"IFERROR(SUBSTITUTE(SUBSTITUTE(SUBSTITUTE(RIGHT(INDIRECT(\"Trello!\"&ADDRESS(ROW()-1, L$1, 4)),LEN(INDIRECT(\"Trello!\"&ADDRESS(ROW()-1, L$1, 4)))-15),\". \",\"/\"),\" 20\",\"/20\"),\" \",\"\"),\"\")","v":"7/Aug/2023"},{"$f":"IFERROR(SUBSTITUTE(SUBSTITUTE(SUBSTITUTE(RIGHT(INDIRECT(\"Trello!\"&ADDRESS(ROW()-1, M$1, 4)),LEN(INDIRECT(\"Trello!\"&ADDRESS(ROW()-1, M$1, 4)))-15),\". \",\"/\"),\" 20\",\"/20\"),\" \",\"\"),\"\")","v":""},"2023-08-07","","",{"$f":"IFERROR(SUBSTITUTE(INDIRECT(\"Trello!\"&ADDRESS(ROW()-1, O$1, 4)),\"Estimate hrs: \",\"\")*1,\"\")","v":""},{"$f":"IF(SUMIF(Timecamp!C:C,Reporte!A144,Timecamp!J:J)=0,\"\",SUMIF(Timecamp!C:C,Reporte!A144,Timecamp!J:J))","v":9.2333333333333378},"",189.53068592057753,{"$f":"IFERROR(VLOOKUP(A144,'SLA Trab'!E:I,5,FALSE),\"\")","v":""},{"$f":"IFERROR(VLOOKUP(A144,'SLA Cobr'!E:I,5,FALSE),\"\")","v":""}]
[{"$f":"IFERROR(IF(Trello!E144=\"\",\"\",Trello!E144),\" \")","v":"Nick Advizee - fijo"},{"$f":"IF($A145=\"\",\"\",IF(Trello!A144=\"\",B144,Trello!A144))","v":"Fijos"},"2023-01-17",{"$f":"IF($A145=\"\",\"\",SUBSTITUTE(SUBSTITUTE(Trello!J144,\" days\",\"\"),\"⌚ \",\"\")*1)","v":239},{"$f":"IFERROR(IF($A145=\"\",\"\",SUBSTITUTE(SUBSTITUTE(SUBSTITUTE(INDIRECT(\"Trello!\"&ADDRESS(ROW()-1, E$1, 4)),\"Foreign: \",\"\"),\" $\",\"\"),\".\",\"\")*1),\"\")","v":25},{"$f":"IF($E145=\"\",IFERROR(IF($A145=\"\",\"\",SUBSTITUTE(SUBSTITUTE(SUBSTITUTE(INDIRECT(\"Trello!\"&ADDRESS(ROW()-1, F$1, 4)),\"MXN: \",\"\"),\" MX$\",\"\"),\".\",\"\")*1),\"\"),E145*F$2)","v":437.5},{"$f":"IFERROR(IF($A145=\"\",\"\",SUBSTITUTE(SUBSTITUTE(SUBSTITUTE(INDIRECT(\"Trello!\"&ADDRESS(ROW()-1, G$1, 4)),\"Debt: \",\"\"),\" $\",\"\"),\".\",\"\")*1)*IF(E145=\"\",1,F$2),\"\")","v":""},{"$f":"IFERROR(IF($A145=\"\",\"\",SUBSTITUTE(SUBSTITUTE(SUBSTITUTE(INDIRECT(\"Trello!\"&ADDRESS(ROW()-1, H$1, 4)),\"Cost: \",\"\"),\" $\",\"\"),\".\",\"\")*1*$F$2),\"\")","v":""},437.5,{"$f":"IFERROR(SUBSTITUTE(SUBSTITUTE(SUBSTITUTE(RIGHT(INDIRECT(\"Trello!\"&ADDRESS(ROW()-1, L$1, 4)),LEN(INDIRECT(\"Trello!\"&ADDRESS(ROW()-1, L$1, 4)))-15),\". \",\"/\"),\" 20\",\"/20\"),\" \",\"\"),\"\")","v":""},{"$f":"IFERROR(SUBSTITUTE(SUBSTITUTE(SUBSTITUTE(RIGHT(INDIRECT(\"Trello!\"&ADDRESS(ROW()-1, M$1, 4)),LEN(INDIRECT(\"Trello!\"&ADDRESS(ROW()-1, M$1, 4)))-15),\". \",\"/\"),\" 20\",\"/20\"),\" \",\"\"),\"\")","v":""},"","","",{"$f":"IFERROR(SUBSTITUTE(INDIRECT(\"Trello!\"&ADDRESS(ROW()-1, O$1, 4)),\"Estimate hrs: \",\"\")*1,\"\")","v":""},{"$f":"IF(SUMIF(Timecamp!C:C,Reporte!A145,Timecamp!J:J)=0,\"\",SUMIF(Timecamp!C:C,Reporte!A145,Timecamp!J:J))","v":71.733333333333292},"",6.0989776951672896,{"$f":"IFERROR(VLOOKUP(A145,'SLA Trab'!E:I,5,FALSE),\"\")","v":4.541666666666667},{"$f":"IFERROR(VLOOKUP(A145,'SLA Cobr'!E:I,5,FALSE),\"\")","v":64.541666666666671}]
[{"$f":"IFERROR(IF(Trello!E145=\"\",\"\",Trello!E145),\" \")","v":"Alejandro Disidentes - Sixbell Mtto"},{"$f":"IF($A146=\"\",\"\",IF(Trello!A145=\"\",B145,Trello!A145))","v":"Fijos"},"2023-09-06",{"$f":"IF($A146=\"\",\"\",SUBSTITUTE(SUBSTITUTE(Trello!J145,\" days\",\"\"),\"⌚ \",\"\")*1)","v":7},{"$f":"IFERROR(IF($A146=\"\",\"\",SUBSTITUTE(SUBSTITUTE(SUBSTITUTE(INDIRECT(\"Trello!\"&ADDRESS(ROW()-1, E$1, 4)),\"Foreign: \",\"\"),\" $\",\"\"),\".\",\"\")*1),\"\")","v":100},{"$f":"IF($E146=\"\",IFERROR(IF($A146=\"\",\"\",SUBSTITUTE(SUBSTITUTE(SUBSTITUTE(INDIRECT(\"Trello!\"&ADDRESS(ROW()-1, F$1, 4)),\"MXN: \",\"\"),\" MX$\",\"\"),\".\",\"\")*1),\"\"),E146*F$2)","v":1750},{"$f":"IFERROR(IF($A146=\"\",\"\",SUBSTITUTE(SUBSTITUTE(SUBSTITUTE(INDIRECT(\"Trello!\"&ADDRESS(ROW()-1, G$1, 4)),\"Debt: \",\"\"),\" $\",\"\"),\".\",\"\")*1)*IF(E146=\"\",1,F$2),\"\")","v":""},{"$f":"IFERROR(IF($A146=\"\",\"\",SUBSTITUTE(SUBSTITUTE(SUBSTITUTE(INDIRECT(\"Trello!\"&ADDRESS(ROW()-1, H$1, 4)),\"Cost: \",\"\"),\" $\",\"\"),\".\",\"\")*1*$F$2),\"\")","v":""},1750,{"$f":"IFERROR(SUBSTITUTE(SUBSTITUTE(SUBSTITUTE(RIGHT(INDIRECT(\"Trello!\"&ADDRESS(ROW()-1, L$1, 4)),LEN(INDIRECT(\"Trello!\"&ADDRESS(ROW()-1, L$1, 4)))-15),\". \",\"/\"),\" 20\",\"/20\"),\" \",\"\"),\"\")","v":""},{"$f":"IFERROR(SUBSTITUTE(SUBSTITUTE(SUBSTITUTE(RIGHT(INDIRECT(\"Trello!\"&ADDRESS(ROW()-1, M$1, 4)),LEN(INDIRECT(\"Trello!\"&ADDRESS(ROW()-1, M$1, 4)))-15),\". \",\"/\"),\" 20\",\"/20\"),\" \",\"\"),\"\")","v":""},"","","",{"$f":"IFERROR(SUBSTITUTE(INDIRECT(\"Trello!\"&ADDRESS(ROW()-1, O$1, 4)),\"Estimate hrs: \",\"\")*1,\"\")","v":""},{"$f":"IF(SUMIF(Timecamp!C:C,Reporte!A146,Timecamp!J:J)=0,\"\",SUMIF(Timecamp!C:C,Reporte!A146,Timecamp!J:J))","v":""},"","",{"$f":"IFERROR(VLOOKUP(A146,'SLA Trab'!E:I,5,FALSE),\"\")","v":""},{"$f":"IFERROR(VLOOKUP(A146,'SLA Cobr'!E:I,5,FALSE),\"\")","v":""}]
[{"$f":"IFERROR(IF(Trello!E146=\"\",\"\",Trello!E146),\" \")","v":"Ricardo Cuerna - Fixum Mtto"},{"$f":"IF($A147=\"\",\"\",IF(Trello!A146=\"\",B146,Trello!A146))","v":"Fijos"},"2023-09-07",{"$f":"IF($A147=\"\",\"\",SUBSTITUTE(SUBSTITUTE(Trello!J146,\" days\",\"\"),\"⌚ \",\"\")*1)","v":6},{"$f":"IFERROR(IF($A147=\"\",\"\",SUBSTITUTE(SUBSTITUTE(SUBSTITUTE(INDIRECT(\"Trello!\"&ADDRESS(ROW()-1, E$1, 4)),\"Foreign: \",\"\"),\" $\",\"\"),\".\",\"\")*1),\"\")","v":""},{"$f":"IF($E147=\"\",IFERROR(IF($A147=\"\",\"\",SUBSTITUTE(SUBSTITUTE(SUBSTITUTE(INDIRECT(\"Trello!\"&ADDRESS(ROW()-1, F$1, 4)),\"MXN: \",\"\"),\" MX$\",\"\"),\".\",\"\")*1),\"\"),E147*F$2)","v":3000},{"$f":"IFERROR(IF($A147=\"\",\"\",SUBSTITUTE(SUBSTITUTE(SUBSTITUTE(INDIRECT(\"Trello!\"&ADDRESS(ROW()-1, G$1, 4)),\"Debt: \",\"\"),\" $\",\"\"),\".\",\"\")*1)*IF(E147=\"\",1,F$2),\"\")","v":""},{"$f":"IFERROR(IF($A147=\"\",\"\",SUBSTITUTE(SUBSTITUTE(SUBSTITUTE(INDIRECT(\"Trello!\"&ADDRESS(ROW()-1, H$1, 4)),\"Cost: \",\"\"),\" $\",\"\"),\".\",\"\")*1*$F$2),\"\")","v":""},3000,{"$f":"IFERROR(SUBSTITUTE(SUBSTITUTE(SUBSTITUTE(RIGHT(INDIRECT(\"Trello!\"&ADDRESS(ROW()-1, L$1, 4)),LEN(INDIRECT(\"Trello!\"&ADDRESS(ROW()-1, L$1, 4)))-15),\". \",\"/\"),\" 20\",\"/20\"),\" \",\"\"),\"\")","v":""},{"$f":"IFERROR(SUBSTITUTE(SUBSTITUTE(SUBSTITUTE(RIGHT(INDIRECT(\"Trello!\"&ADDRESS(ROW()-1, M$1, 4)),LEN(INDIRECT(\"Trello!\"&ADDRESS(ROW()-1, M$1, 4)))-15),\". \",\"/\"),\" 20\",\"/20\"),\" \",\"\"),\"\")","v":""},"","","",{"$f":"IFERROR(SUBSTITUTE(INDIRECT(\"Trello!\"&ADDRESS(ROW()-1, O$1, 4)),\"Estimate hrs: \",\"\")*1,\"\")","v":""},{"$f":"IF(SUMIF(Timecamp!C:C,Reporte!A147,Timecamp!J:J)=0,\"\",SUMIF(Timecamp!C:C,Reporte!A147,Timecamp!J:J))","v":""},"","",{"$f":"IFERROR(VLOOKUP(A147,'SLA Trab'!E:I,5,FALSE),\"\")","v":""},{"$f":"IFERROR(VLOOKUP(A147,'SLA Cobr'!E:I,5,FALSE),\"\")","v":""}]
[{"$f":"IFERROR(IF(Trello!E147=\"\",\"\",Trello!E147),\" \")","v":"Francesco - LearnDash"},{"$f":"IF($A148=\"\",\"\",IF(Trello!A147=\"\",B147,Trello!A147))","v":"Cotizado"},"2023-08-24",{"$f":"IF($A148=\"\",\"\",SUBSTITUTE(SUBSTITUTE(Trello!J147,\" days\",\"\"),\"⌚ \",\"\")*1)","v":20},{"$f":"IFERROR(IF($A148=\"\",\"\",SUBSTITUTE(SUBSTITUTE(SUBSTITUTE(INDIRECT(\"Trello!\"&ADDRESS(ROW()-1, E$1, 4)),\"Foreign: \",\"\"),\" $\",\"\"),\".\",\"\")*1),\"\")","v":150},{"$f":"IF($E148=\"\",IFERROR(IF($A148=\"\",\"\",SUBSTITUTE(SUBSTITUTE(SUBSTITUTE(INDIRECT(\"Trello!\"&ADDRESS(ROW()-1, F$1, 4)),\"MXN: \",\"\"),\" MX$\",\"\"),\".\",\"\")*1),\"\"),E148*F$2)","v":2625},{"$f":"IFERROR(IF($A148=\"\",\"\",SUBSTITUTE(SUBSTITUTE(SUBSTITUTE(INDIRECT(\"Trello!\"&ADDRESS(ROW()-1, G$1, 4)),\"Debt: \",\"\"),\" $\",\"\"),\".\",\"\")*1)*IF(E148=\"\",1,F$2),\"\")","v":""},{"$f":"IFERROR(IF($A148=\"\",\"\",SUBSTITUTE(SUBSTITUTE(SUBSTITUTE(INDIRECT(\"Trello!\"&ADDRESS(ROW()-1, H$1, 4)),\"Cost: \",\"\"),\" $\",\"\"),\".\",\"\")*1*$F$2),\"\")","v":""},2625,{"$f":"IFERROR(SUBSTITUTE(SUBSTITUTE(SUBSTITUTE(RIGHT(INDIRECT(\"Trello!\"&ADDRESS(ROW()-1, L$1, 4)),LEN(INDIRECT(\"Trello!\"&ADDRESS(ROW()-1, L$1, 4)))-15),\". \",\"/\"),\" 20\",\"/20\"),\" \",\"\"),\"\")","v":""},{"$f":"IFERROR(SUBSTITUTE(SUBSTITUTE(SUBSTITUTE(RIGHT(INDIRECT(\"Trello!\"&ADDRESS(ROW()-1, M$1, 4)),LEN(INDIRECT(\"Trello!\"&ADDRESS(ROW()-1, M$1, 4)))-15),\". \",\"/\"),\" 20\",\"/20\"),\" \",\"\"),\"\")","v":""},"","","",{"$f":"IFERROR(SUBSTITUTE(INDIRECT(\"Trello!\"&ADDRESS(ROW()-1, O$1, 4)),\"Estimate hrs: \",\"\")*1,\"\")","v":""},{"$f":"IF(SUMIF(Timecamp!C:C,Reporte!A148,Timecamp!J:J)=0,\"\",SUMIF(Timecamp!C:C,Reporte!A148,Timecamp!J:J))","v":""},"","",{"$f":"IFERROR(VLOOKUP(A148,'SLA Trab'!E:I,5,FALSE),\"\")","v":""},{"$f":"IFERROR(VLOOKUP(A148,'SLA Cobr'!E:I,5,FALSE),\"\")","v":""}]
[{"$f":"IFERROR(IF(Trello!E148=\"\",\"\",Trello!E148),\" \")","v":"Diana Inlat - ecomm + blog estilo figurella"},{"$f":"IF($A149=\"\",\"\",IF(Trello!A148=\"\",B148,Trello!A148))","v":"Cotizado"},"2023-03-30",{"$f":"IF($A149=\"\",\"\",SUBSTITUTE(SUBSTITUTE(Trello!J148,\" days\",\"\"),\"⌚ \",\"\")*1)","v":167},{"$f":"IFERROR(IF($A149=\"\",\"\",SUBSTITUTE(SUBSTITUTE(SUBSTITUTE(INDIRECT(\"Trello!\"&ADDRESS(ROW()-1, E$1, 4)),\"Foreign: \",\"\"),\" $\",\"\"),\".\",\"\")*1),\"\")","v":750},{"$f":"IF($E149=\"\",IFERROR(IF($A149=\"\",\"\",SUBSTITUTE(SUBSTITUTE(SUBSTITUTE(INDIRECT(\"Trello!\"&ADDRESS(ROW()-1, F$1, 4)),\"MXN: \",\"\"),\" MX$\",\"\"),\".\",\"\")*1),\"\"),E149*F$2)","v":13125},{"$f":"IFERROR(IF($A149=\"\",\"\",SUBSTITUTE(SUBSTITUTE(SUBSTITUTE(INDIRECT(\"Trello!\"&ADDRESS(ROW()-1, G$1, 4)),\"Debt: \",\"\"),\" $\",\"\"),\".\",\"\")*1)*IF(E149=\"\",1,F$2),\"\")","v":""},{"$f":"IFERROR(IF($A149=\"\",\"\",SUBSTITUTE(SUBSTITUTE(SUBSTITUTE(INDIRECT(\"Trello!\"&ADDRESS(ROW()-1, H$1, 4)),\"Cost: \",\"\"),\" $\",\"\"),\".\",\"\")*1*$F$2),\"\")","v":""},13125,{"$f":"IFERROR(SUBSTITUTE(SUBSTITUTE(SUBSTITUTE(RIGHT(INDIRECT(\"Trello!\"&ADDRESS(ROW()-1, L$1, 4)),LEN(INDIRECT(\"Trello!\"&ADDRESS(ROW()-1, L$1, 4)))-15),\". \",\"/\"),\" 20\",\"/20\"),\" \",\"\"),\"\")","v":""},{"$f":"IFERROR(SUBSTITUTE(SUBSTITUTE(SUBSTITUTE(RIGHT(INDIRECT(\"Trello!\"&ADDRESS(ROW()-1, M$1, 4)),LEN(INDIRECT(\"Trello!\"&ADDRESS(ROW()-1, M$1, 4)))-15),\". \",\"/\"),\" 20\",\"/20\"),\" \",\"\"),\"\")","v":""},"","","",{"$f":"IFERROR(SUBSTITUTE(INDIRECT(\"Trello!\"&ADDRESS(ROW()-1, O$1, 4)),\"Estimate hrs: \",\"\")*1,\"\")","v":""},{"$f":"IF(SUMIF(Timecamp!C:C,Reporte!A149,Timecamp!J:J)=0,\"\",SUMIF(Timecamp!C:C,Reporte!A149,Timecamp!J:J))","v":""},"","",{"$f":"IFERROR(VLOOKUP(A149,'SLA Trab'!E:I,5,FALSE),\"\")","v":""},{"$f":"IFERROR(VLOOKUP(A149,'SLA Cobr'!E:I,5,FALSE),\"\")","v":""}]
[{"$f":"IFERROR(IF(Trello!E149=\"\",\"\",Trello!E149),\" \")","v":"Ricardo Cuerna - Freelancer Mexa"},{"$f":"IF($A150=\"\",\"\",IF(Trello!A149=\"\",B149,Trello!A149))","v":"Cotizado"},"2023-08-15",{"$f":"IF($A150=\"\",\"\",SUBSTITUTE(SUBSTITUTE(Trello!J149,\" days\",\"\"),\"⌚ \",\"\")*1)","v":29},{"$f":"IFERROR(IF($A150=\"\",\"\",SUBSTITUTE(SUBSTITUTE(SUBSTITUTE(INDIRECT(\"Trello!\"&ADDRESS(ROW()-1, E$1, 4)),\"Foreign: \",\"\"),\" $\",\"\"),\".\",\"\")*1),\"\")","v":800},{"$f":"IF($E150=\"\",IFERROR(IF($A150=\"\",\"\",SUBSTITUTE(SUBSTITUTE(SUBSTITUTE(INDIRECT(\"Trello!\"&ADDRESS(ROW()-1, F$1, 4)),\"MXN: \",\"\"),\" MX$\",\"\"),\".\",\"\")*1),\"\"),E150*F$2)","v":14000},{"$f":"IFERROR(IF($A150=\"\",\"\",SUBSTITUTE(SUBSTITUTE(SUBSTITUTE(INDIRECT(\"Trello!\"&ADDRESS(ROW()-1, G$1, 4)),\"Debt: \",\"\"),\" $\",\"\"),\".\",\"\")*1)*IF(E150=\"\",1,F$2),\"\")","v":""},{"$f":"IFERROR(IF($A150=\"\",\"\",SUBSTITUTE(SUBSTITUTE(SUBSTITUTE(INDIRECT(\"Trello!\"&ADDRESS(ROW()-1, H$1, 4)),\"Cost: \",\"\"),\" $\",\"\"),\".\",\"\")*1*$F$2),\"\")","v":""},14000,{"$f":"IFERROR(SUBSTITUTE(SUBSTITUTE(SUBSTITUTE(RIGHT(INDIRECT(\"Trello!\"&ADDRESS(ROW()-1, L$1, 4)),LEN(INDIRECT(\"Trello!\"&ADDRESS(ROW()-1, L$1, 4)))-15),\". \",\"/\"),\" 20\",\"/20\"),\" \",\"\"),\"\")","v":""},{"$f":"IFERROR(SUBSTITUTE(SUBSTITUTE(SUBSTITUTE(RIGHT(INDIRECT(\"Trello!\"&ADDRESS(ROW()-1, M$1, 4)),LEN(INDIRECT(\"Trello!\"&ADDRESS(ROW()-1, M$1, 4)))-15),\". \",\"/\"),\" 20\",\"/20\"),\" \",\"\"),\"\")","v":""},"","","",{"$f":"IFERROR(SUBSTITUTE(INDIRECT(\"Trello!\"&ADDRESS(ROW()-1, O$1, 4)),\"Estimate hrs: \",\"\")*1,\"\")","v":""},{"$f":"IF(SUMIF(Timecamp!C:C,Reporte!A150,Timecamp!J:J)=0,\"\",SUMIF(Timecamp!C:C,Reporte!A150,Timecamp!J:J))","v":""},"","",{"$f":"IFERROR(VLOOKUP(A150,'SLA Trab'!E:I,5,FALSE),\"\")","v":""},{"$f":"IFERROR(VLOOKUP(A150,'SLA Cobr'!E:I,5,FALSE),\"\")","v":""}]
[{"$f":"IFERROR(IF(Trello!E150=\"\",\"\",Trello!E150),\" \")","v":"Ulises Freelancer - WP Crowdfunding"},{"$f":"IF($A151=\"\",\"\",IF(Trello!A150=\"\",B150,Trello!A150))","v":"Cotizado"},"2023-08-19",{"$f":"IF($A151=\"\",\"\",SUBSTITUTE(SUBSTITUTE(Trello!J150,\" days\",\"\"),\"⌚ \",\"\")*1)","v":25},{"$f":"IFERROR(IF($A151=\"\",\"\",SUBSTITUTE(SUBSTITUTE(SUBSTITUTE(INDIRECT(\"Trello!\"&ADDRESS(ROW()-1, E$1, 4)),\"Foreign: \",\"\"),\" $\",\"\"),\".\",\"\")*1),\"\")","v":800},{"$f":"IF($E151=\"\",IFERROR(IF($A151=\"\",\"\",SUBSTITUTE(SUBSTITUTE(SUBSTITUTE(INDIRECT(\"Trello!\"&ADDRESS(ROW()-1, F$1, 4)),\"MXN: \",\"\"),\" MX$\",\"\"),\".\",\"\")*1),\"\"),E151*F$2)","v":14000},{"$f":"IFERROR(IF($A151=\"\",\"\",SUBSTITUTE(SUBSTITUTE(SUBSTITUTE(INDIRECT(\"Trello!\"&ADDRESS(ROW()-1, G$1, 4)),\"Debt: \",\"\"),\" $\",\"\"),\".\",\"\")*1)*IF(E151=\"\",1,F$2),\"\")","v":""},{"$f":"IFERROR(IF($A151=\"\",\"\",SUBSTITUTE(SUBSTITUTE(SUBSTITUTE(INDIRECT(\"Trello!\"&ADDRESS(ROW()-1, H$1, 4)),\"Cost: \",\"\"),\" $\",\"\"),\".\",\"\")*1*$F$2),\"\")","v":""},14000,{"$f":"IFERROR(SUBSTITUTE(SUBSTITUTE(SUBSTITUTE(RIGHT(INDIRECT(\"Trello!\"&ADDRESS(ROW()-1, L$1, 4)),LEN(INDIRECT(\"Trello!\"&ADDRESS(ROW()-1, L$1, 4)))-15),\". \",\"/\"),\" 20\",\"/20\"),\" \",\"\"),\"\")","v":""},{"$f":"IFERROR(SUBSTITUTE(SUBSTITUTE(SUBSTITUTE(RIGHT(INDIRECT(\"Trello!\"&ADDRESS(ROW()-1, M$1, 4)),LEN(INDIRECT(\"Trello!\"&ADDRESS(ROW()-1, M$1, 4)))-15),\". \",\"/\"),\" 20\",\"/20\"),\" \",\"\"),\"\")","v":""},"","","",{"$f":"IFERROR(SUBSTITUTE(INDIRECT(\"Trello!\"&ADDRESS(ROW()-1, O$1, 4)),\"Estimate hrs: \",\"\")*1,\"\")","v":""},{"$f":"IF(SUMIF(Timecamp!C:C,Reporte!A151,Timecamp!J:J)=0,\"\",SUMIF(Timecamp!C:C,Reporte!A151,Timecamp!J:J))","v":""},"","",{"$f":"IFERROR(VLOOKUP(A151,'SLA Trab'!E:I,5,FALSE),\"\")","v":""},{"$f":"IFERROR(VLOOKUP(A151,'SLA Cobr'!E:I,5,FALSE),\"\")","v":""}]
[{"$f":"IFERROR(IF(Trello!E151=\"\",\"\",Trello!E151),\" \")","v":"Rodrigo Techservices - Formulario medico"},{"$f":"IF($A152=\"\",\"\",IF(Trello!A151=\"\",B151,Trello!A151))","v":"Cotizado"},"2023-07-31",{"$f":"IF($A152=\"\",\"\",SUBSTITUTE(SUBSTITUTE(Trello!J151,\" days\",\"\"),\"⌚ \",\"\")*1)","v":44},{"$f":"IFERROR(IF($A152=\"\",\"\",SUBSTITUTE(SUBSTITUTE(SUBSTITUTE(INDIRECT(\"Trello!\"&ADDRESS(ROW()-1, E$1, 4)),\"Foreign: \",\"\"),\" $\",\"\"),\".\",\"\")*1),\"\")","v":500},{"$f":"IF($E152=\"\",IFERROR(IF($A152=\"\",\"\",SUBSTITUTE(SUBSTITUTE(SUBSTITUTE(INDIRECT(\"Trello!\"&ADDRESS(ROW()-1, F$1, 4)),\"MXN: \",\"\"),\" MX$\",\"\"),\".\",\"\")*1),\"\"),E152*F$2)","v":8750},{"$f":"IFERROR(IF($A152=\"\",\"\",SUBSTITUTE(SUBSTITUTE(SUBSTITUTE(INDIRECT(\"Trello!\"&ADDRESS(ROW()-1, G$1, 4)),\"Debt: \",\"\"),\" $\",\"\"),\".\",\"\")*1)*IF(E152=\"\",1,F$2),\"\")","v":""},{"$f":"IFERROR(IF($A152=\"\",\"\",SUBSTITUTE(SUBSTITUTE(SUBSTITUTE(INDIRECT(\"Trello!\"&ADDRESS(ROW()-1, H$1, 4)),\"Cost: \",\"\"),\" $\",\"\"),\".\",\"\")*1*$F$2),\"\")","v":""},8750,{"$f":"IFERROR(SUBSTITUTE(SUBSTITUTE(SUBSTITUTE(RIGHT(INDIRECT(\"Trello!\"&ADDRESS(ROW()-1, L$1, 4)),LEN(INDIRECT(\"Trello!\"&ADDRESS(ROW()-1, L$1, 4)))-15),\". \",\"/\"),\" 20\",\"/20\"),\" \",\"\"),\"\")","v":""},{"$f":"IFERROR(SUBSTITUTE(SUBSTITUTE(SUBSTITUTE(RIGHT(INDIRECT(\"Trello!\"&ADDRESS(ROW()-1, M$1, 4)),LEN(INDIRECT(\"Trello!\"&ADDRESS(ROW()-1, M$1, 4)))-15),\". \",\"/\"),\" 20\",\"/20\"),\" \",\"\"),\"\")","v":""},"","","",{"$f":"IFERROR(SUBSTITUTE(INDIRECT(\"Trello!\"&ADDRESS(ROW()-1, O$1, 4)),\"Estimate hrs: \",\"\")*1,\"\")","v":""},{"$f":"IF(SUMIF(Timecamp!C:C,Reporte!A152,Timecamp!J:J)=0,\"\",SUMIF(Timecamp!C:C,Reporte!A152,Timecamp!J:J))","v":""},"","",{"$f":"IFERROR(VLOOKUP(A152,'SLA Trab'!E:I,5,FALSE),\"\")","v":""},{"$f":"IFERROR(VLOOKUP(A152,'SLA Cobr'!E:I,5,FALSE),\"\")","v":""}]
[{"$f":"IFERROR(IF(Trello!E152=\"\",\"\",Trello!E152),\" \")","v":"Faby - PMI AxxiPay self install templates"},{"$f":"IF($A153=\"\",\"\",IF(Trello!A152=\"\",B152,Trello!A152))","v":"Cotizado"},"2023-07-10",{"$f":"IF($A153=\"\",\"\",SUBSTITUTE(SUBSTITUTE(Trello!J152,\" days\",\"\"),\"⌚ \",\"\")*1)","v":65},{"$f":"IFERROR(IF($A153=\"\",\"\",SUBSTITUTE(SUBSTITUTE(SUBSTITUTE(INDIRECT(\"Trello!\"&ADDRESS(ROW()-1, E$1, 4)),\"Foreign: \",\"\"),\" $\",\"\"),\".\",\"\")*1),\"\")","v":750},{"$f":"IF($E153=\"\",IFERROR(IF($A153=\"\",\"\",SUBSTITUTE(SUBSTITUTE(SUBSTITUTE(INDIRECT(\"Trello!\"&ADDRESS(ROW()-1, F$1, 4)),\"MXN: \",\"\"),\" MX$\",\"\"),\".\",\"\")*1),\"\"),E153*F$2)","v":13125},{"$f":"IFERROR(IF($A153=\"\",\"\",SUBSTITUTE(SUBSTITUTE(SUBSTITUTE(INDIRECT(\"Trello!\"&ADDRESS(ROW()-1, G$1, 4)),\"Debt: \",\"\"),\" $\",\"\"),\".\",\"\")*1)*IF(E153=\"\",1,F$2),\"\")","v":""},{"$f":"IFERROR(IF($A153=\"\",\"\",SUBSTITUTE(SUBSTITUTE(SUBSTITUTE(INDIRECT(\"Trello!\"&ADDRESS(ROW()-1, H$1, 4)),\"Cost: \",\"\"),\" $\",\"\"),\".\",\"\")*1*$F$2),\"\")","v":""},13125,{"$f":"IFERROR(SUBSTITUTE(SUBSTITUTE(SUBSTITUTE(RIGHT(INDIRECT(\"Trello!\"&ADDRESS(ROW()-1, L$1, 4)),LEN(INDIRECT(\"Trello!\"&ADDRESS(ROW()-1, L$1, 4)))-15),\". \",\"/\"),\" 20\",\"/20\"),\" \",\"\"),\"\")","v":""},{"$f":"IFERROR(SUBSTITUTE(SUBSTITUTE(SUBSTITUTE(RIGHT(INDIRECT(\"Trello!\"&ADDRESS(ROW()-1, M$1, 4)),LEN(INDIRECT(\"Trello!\"&ADDRESS(ROW()-1, M$1, 4)))-15),\". \",\"/\"),\" 20\",\"/20\"),\" \",\"\"),\"\")","v":""},"","","",{"$f":"IFERROR(SUBSTITUTE(INDIRECT(\"Trello!\"&ADDRESS(ROW()-1, O$1, 4)),\"Estimate hrs: \",\"\")*1,\"\")","v":""},{"$f":"IF(SUMIF(Timecamp!C:C,Reporte!A153,Timecamp!J:J)=0,\"\",SUMIF(Timecamp!C:C,Reporte!A153,Timecamp!J:J))","v":""},"","",{"$f":"IFERROR(VLOOKUP(A153,'SLA Trab'!E:I,5,FALSE),\"\")","v":""},{"$f":"IFERROR(VLOOKUP(A153,'SLA Cobr'!E:I,5,FALSE),\"\")","v":""}]
[{"$f":"IFERROR(IF(Trello!E153=\"\",\"\",Trello!E153),\" \")","v":"Ricardo Chile - Carlson Electricos"},{"$f":"IF($A154=\"\",\"\",IF(Trello!A153=\"\",B153,Trello!A153))","v":"Cotizado"},"2023-07-17",{"$f":"IF($A154=\"\",\"\",SUBSTITUTE(SUBSTITUTE(Trello!J153,\" days\",\"\"),\"⌚ \",\"\")*1)","v":58},{"$f":"IFERROR(IF($A154=\"\",\"\",SUBSTITUTE(SUBSTITUTE(SUBSTITUTE(INDIRECT(\"Trello!\"&ADDRESS(ROW()-1, E$1, 4)),\"Foreign: \",\"\"),\" $\",\"\"),\".\",\"\")*1),\"\")","v":500},{"$f":"IF($E154=\"\",IFERROR(IF($A154=\"\",\"\",SUBSTITUTE(SUBSTITUTE(SUBSTITUTE(INDIRECT(\"Trello!\"&ADDRESS(ROW()-1, F$1, 4)),\"MXN: \",\"\"),\" MX$\",\"\"),\".\",\"\")*1),\"\"),E154*F$2)","v":8750},{"$f":"IFERROR(IF($A154=\"\",\"\",SUBSTITUTE(SUBSTITUTE(SUBSTITUTE(INDIRECT(\"Trello!\"&ADDRESS(ROW()-1, G$1, 4)),\"Debt: \",\"\"),\" $\",\"\"),\".\",\"\")*1)*IF(E154=\"\",1,F$2),\"\")","v":""},{"$f":"IFERROR(IF($A154=\"\",\"\",SUBSTITUTE(SUBSTITUTE(SUBSTITUTE(INDIRECT(\"Trello!\"&ADDRESS(ROW()-1, H$1, 4)),\"Cost: \",\"\"),\" $\",\"\"),\".\",\"\")*1*$F$2),\"\")","v":""},8750,{"$f":"IFERROR(SUBSTITUTE(SUBSTITUTE(SUBSTITUTE(RIGHT(INDIRECT(\"Trello!\"&ADDRESS(ROW()-1, L$1, 4)),LEN(INDIRECT(\"Trello!\"&ADDRESS(ROW()-1, L$1, 4)))-15),\". \",\"/\"),\" 20\",\"/20\"),\" \",\"\"),\"\")","v":""},{"$f":"IFERROR(SUBSTITUTE(SUBSTITUTE(SUBSTITUTE(RIGHT(INDIRECT(\"Trello!\"&ADDRESS(ROW()-1, M$1, 4)),LEN(INDIRECT(\"Trello!\"&ADDRESS(ROW()-1, M$1, 4)))-15),\". \",\"/\"),\" 20\",\"/20\"),\" \",\"\"),\"\")","v":""},"","","",{"$f":"IFERROR(SUBSTITUTE(INDIRECT(\"Trello!\"&ADDRESS(ROW()-1, O$1, 4)),\"Estimate hrs: \",\"\")*1,\"\")","v":""},{"$f":"IF(SUMIF(Timecamp!C:C,Reporte!A154,Timecamp!J:J)=0,\"\",SUMIF(Timecamp!C:C,Reporte!A154,Timecamp!J:J))","v":""},"","",{"$f":"IFERROR(VLOOKUP(A154,'SLA Trab'!E:I,5,FALSE),\"\")","v":""},{"$f":"IFERROR(VLOOKUP(A154,'SLA Cobr'!E:I,5,FALSE),\"\")","v":""}]
[{"$f":"IFERROR(IF(Trello!E154=\"\",\"\",Trello!E154),\" \")","v":"Ricardo Cuerna - Eventos ecuestres"},{"$f":"IF($A155=\"\",\"\",IF(Trello!A154=\"\",B154,Trello!A154))","v":"Cotizado"},"2023-07-21",{"$f":"IF($A155=\"\",\"\",SUBSTITUTE(SUBSTITUTE(Trello!J154,\" days\",\"\"),\"⌚ \",\"\")*1)","v":54},{"$f":"IFERROR(IF($A155=\"\",\"\",SUBSTITUTE(SUBSTITUTE(SUBSTITUTE(INDIRECT(\"Trello!\"&ADDRESS(ROW()-1, E$1, 4)),\"Foreign: \",\"\"),\" $\",\"\"),\".\",\"\")*1),\"\")","v":""},{"$f":"IF($E155=\"\",IFERROR(IF($A155=\"\",\"\",SUBSTITUTE(SUBSTITUTE(SUBSTITUTE(INDIRECT(\"Trello!\"&ADDRESS(ROW()-1, F$1, 4)),\"MXN: \",\"\"),\" MX$\",\"\"),\".\",\"\")*1),\"\"),E155*F$2)","v":19000},{"$f":"IFERROR(IF($A155=\"\",\"\",SUBSTITUTE(SUBSTITUTE(SUBSTITUTE(INDIRECT(\"Trello!\"&ADDRESS(ROW()-1, G$1, 4)),\"Debt: \",\"\"),\" $\",\"\"),\".\",\"\")*1)*IF(E155=\"\",1,F$2),\"\")","v":""},{"$f":"IFERROR(IF($A155=\"\",\"\",SUBSTITUTE(SUBSTITUTE(SUBSTITUTE(INDIRECT(\"Trello!\"&ADDRESS(ROW()-1, H$1, 4)),\"Cost: \",\"\"),\" $\",\"\"),\".\",\"\")*1*$F$2),\"\")","v":""},19000,{"$f":"IFERROR(SUBSTITUTE(SUBSTITUTE(SUBSTITUTE(RIGHT(INDIRECT(\"Trello!\"&ADDRESS(ROW()-1, L$1, 4)),LEN(INDIRECT(\"Trello!\"&ADDRESS(ROW()-1, L$1, 4)))-15),\". \",\"/\"),\" 20\",\"/20\"),\" \",\"\"),\"\")","v":""},{"$f":"IFERROR(SUBSTITUTE(SUBSTITUTE(SUBSTITUTE(RIGHT(INDIRECT(\"Trello!\"&ADDRESS(ROW()-1, M$1, 4)),LEN(INDIRECT(\"Trello!\"&ADDRESS(ROW()-1, M$1, 4)))-15),\". \",\"/\"),\" 20\",\"/20\"),\" \",\"\"),\"\")","v":""},"","","",{"$f":"IFERROR(SUBSTITUTE(INDIRECT(\"Trello!\"&ADDRESS(ROW()-1, O$1, 4)),\"Estimate hrs: \",\"\")*1,\"\")","v":""},{"$f":"IF(SUMIF(Timecamp!C:C,Reporte!A155,Timecamp!J:J)=0,\"\",SUMIF(Timecamp!C:C,Reporte!A155,Timecamp!J:J))","v":""},"","",{"$f":"IFERROR(VLOOKUP(A155,'SLA Trab'!E:I,5,FALSE),\"\")","v":""},{"$f":"IFERROR(VLOOKUP(A155,'SLA Cobr'!E:I,5,FALSE),\"\")","v":""}]
[{"$f":"IFERROR(IF(Trello!E155=\"\",\"\",Trello!E155),\" \")","v":"Paloma Freelancer - cambios tcandiani"},{"$f":"IF($A156=\"\",\"\",IF(Trello!A155=\"\",B155,Trello!A155))","v":"Cotizado"},"2023-06-14",{"$f":"IF($A156=\"\",\"\",SUBSTITUTE(SUBSTITUTE(Trello!J155,\" days\",\"\"),\"⌚ \",\"\")*1)","v":91},{"$f":"IFERROR(IF($A156=\"\",\"\",SUBSTITUTE(SUBSTITUTE(SUBSTITUTE(INDIRECT(\"Trello!\"&ADDRESS(ROW()-1, E$1, 4)),\"Foreign: \",\"\"),\" $\",\"\"),\".\",\"\")*1),\"\")","v":""},{"$f":"IF($E156=\"\",IFERROR(IF($A156=\"\",\"\",SUBSTITUTE(SUBSTITUTE(SUBSTITUTE(INDIRECT(\"Trello!\"&ADDRESS(ROW()-1, F$1, 4)),\"MXN: \",\"\"),\" MX$\",\"\"),\".\",\"\")*1),\"\"),E156*F$2)","v":8000},{"$f":"IFERROR(IF($A156=\"\",\"\",SUBSTITUTE(SUBSTITUTE(SUBSTITUTE(INDIRECT(\"Trello!\"&ADDRESS(ROW()-1, G$1, 4)),\"Debt: \",\"\"),\" $\",\"\"),\".\",\"\")*1)*IF(E156=\"\",1,F$2),\"\")","v":""},{"$f":"IFERROR(IF($A156=\"\",\"\",SUBSTITUTE(SUBSTITUTE(SUBSTITUTE(INDIRECT(\"Trello!\"&ADDRESS(ROW()-1, H$1, 4)),\"Cost: \",\"\"),\" $\",\"\"),\".\",\"\")*1*$F$2),\"\")","v":""},8000,{"$f":"IFERROR(SUBSTITUTE(SUBSTITUTE(SUBSTITUTE(RIGHT(INDIRECT(\"Trello!\"&ADDRESS(ROW()-1, L$1, 4)),LEN(INDIRECT(\"Trello!\"&ADDRESS(ROW()-1, L$1, 4)))-15),\". \",\"/\"),\" 20\",\"/20\"),\" \",\"\"),\"\")","v":""},{"$f":"IFERROR(SUBSTITUTE(SUBSTITUTE(SUBSTITUTE(RIGHT(INDIRECT(\"Trello!\"&ADDRESS(ROW()-1, M$1, 4)),LEN(INDIRECT(\"Trello!\"&ADDRESS(ROW()-1, M$1, 4)))-15),\". \",\"/\"),\" 20\",\"/20\"),\" \",\"\"),\"\")","v":""},"","","",{"$f":"IFERROR(SUBSTITUTE(INDIRECT(\"Trello!\"&ADDRESS(ROW()-1, O$1, 4)),\"Estimate hrs: \",\"\")*1,\"\")","v":""},{"$f":"IF(SUMIF(Timecamp!C:C,Reporte!A156,Timecamp!J:J)=0,\"\",SUMIF(Timecamp!C:C,Reporte!A156,Timecamp!J:J))","v":""},"","",{"$f":"IFERROR(VLOOKUP(A156,'SLA Trab'!E:I,5,FALSE),\"\")","v":""},{"$f":"IFERROR(VLOOKUP(A156,'SLA Cobr'!E:I,5,FALSE),\"\")","v":""}]
[{"$f":"IFERROR(IF(Trello!E156=\"\",\"\",Trello!E156),\" \")","v":"Faby - Suscr. super semanal"},{"$f":"IF($A157=\"\",\"\",IF(Trello!A156=\"\",B156,Trello!A156))","v":"Cotizado"},"2023-05-25",{"$f":"IF($A157=\"\",\"\",SUBSTITUTE(SUBSTITUTE(Trello!J156,\" days\",\"\"),\"⌚ \",\"\")*1)","v":111},{"$f":"IFERROR(IF($A157=\"\",\"\",SUBSTITUTE(SUBSTITUTE(SUBSTITUTE(INDIRECT(\"Trello!\"&ADDRESS(ROW()-1, E$1, 4)),\"Foreign: \",\"\"),\" $\",\"\"),\".\",\"\")*1),\"\")","v":""},{"$f":"IF($E157=\"\",IFERROR(IF($A157=\"\",\"\",SUBSTITUTE(SUBSTITUTE(SUBSTITUTE(INDIRECT(\"Trello!\"&ADDRESS(ROW()-1, F$1, 4)),\"MXN: \",\"\"),\" MX$\",\"\"),\".\",\"\")*1),\"\"),E157*F$2)","v":17000},{"$f":"IFERROR(IF($A157=\"\",\"\",SUBSTITUTE(SUBSTITUTE(SUBSTITUTE(INDIRECT(\"Trello!\"&ADDRESS(ROW()-1, G$1, 4)),\"Debt: \",\"\"),\" $\",\"\"),\".\",\"\")*1)*IF(E157=\"\",1,F$2),\"\")","v":""},{"$f":"IFERROR(IF($A157=\"\",\"\",SUBSTITUTE(SUBSTITUTE(SUBSTITUTE(INDIRECT(\"Trello!\"&ADDRESS(ROW()-1, H$1, 4)),\"Cost: \",\"\"),\" $\",\"\"),\".\",\"\")*1*$F$2),\"\")","v":""},17000,{"$f":"IFERROR(SUBSTITUTE(SUBSTITUTE(SUBSTITUTE(RIGHT(INDIRECT(\"Trello!\"&ADDRESS(ROW()-1, L$1, 4)),LEN(INDIRECT(\"Trello!\"&ADDRESS(ROW()-1, L$1, 4)))-15),\". \",\"/\"),\" 20\",\"/20\"),\" \",\"\"),\"\")","v":""},{"$f":"IFERROR(SUBSTITUTE(SUBSTITUTE(SUBSTITUTE(RIGHT(INDIRECT(\"Trello!\"&ADDRESS(ROW()-1, M$1, 4)),LEN(INDIRECT(\"Trello!\"&ADDRESS(ROW()-1, M$1, 4)))-15),\". \",\"/\"),\" 20\",\"/20\"),\" \",\"\"),\"\")","v":""},"","","",{"$f":"IFERROR(SUBSTITUTE(INDIRECT(\"Trello!\"&ADDRESS(ROW()-1, O$1, 4)),\"Estimate hrs: \",\"\")*1,\"\")","v":""},{"$f":"IF(SUMIF(Timecamp!C:C,Reporte!A157,Timecamp!J:J)=0,\"\",SUMIF(Timecamp!C:C,Reporte!A157,Timecamp!J:J))","v":1.6666666666666666E-2},"",1020000,{"$f":"IFERROR(VLOOKUP(A157,'SLA Trab'!E:I,5,FALSE),\"\")","v":""},{"$f":"IFERROR(VLOOKUP(A157,'SLA Cobr'!E:I,5,FALSE),\"\")","v":""}]
[{"$f":"IFERROR(IF(Trello!E157=\"\",\"\",Trello!E157),\" \")","v":"yo - FIRE Business online"},{"$f":"IF($A158=\"\",\"\",IF(Trello!A157=\"\",B157,Trello!A157))","v":"Cotizado"},"2022-12-24",{"$f":"IF($A158=\"\",\"\",SUBSTITUTE(SUBSTITUTE(Trello!J157,\" days\",\"\"),\"⌚ \",\"\")*1)","v":263},{"$f":"IFERROR(IF($A158=\"\",\"\",SUBSTITUTE(SUBSTITUTE(SUBSTITUTE(INDIRECT(\"Trello!\"&ADDRESS(ROW()-1, E$1, 4)),\"Foreign: \",\"\"),\" $\",\"\"),\".\",\"\")*1),\"\")","v":""},{"$f":"IF($E158=\"\",IFERROR(IF($A158=\"\",\"\",SUBSTITUTE(SUBSTITUTE(SUBSTITUTE(INDIRECT(\"Trello!\"&ADDRESS(ROW()-1, F$1, 4)),\"MXN: \",\"\"),\" MX$\",\"\"),\".\",\"\")*1),\"\"),E158*F$2)","v":""},{"$f":"IFERROR(IF($A158=\"\",\"\",SUBSTITUTE(SUBSTITUTE(SUBSTITUTE(INDIRECT(\"Trello!\"&ADDRESS(ROW()-1, G$1, 4)),\"Debt: \",\"\"),\" $\",\"\"),\".\",\"\")*1)*IF(E158=\"\",1,F$2),\"\")","v":""},{"$f":"IFERROR(IF($A158=\"\",\"\",SUBSTITUTE(SUBSTITUTE(SUBSTITUTE(INDIRECT(\"Trello!\"&ADDRESS(ROW()-1, H$1, 4)),\"Cost: \",\"\"),\" $\",\"\"),\".\",\"\")*1*$F$2),\"\")","v":""},"",{"$f":"IFERROR(SUBSTITUTE(SUBSTITUTE(SUBSTITUTE(RIGHT(INDIRECT(\"Trello!\"&ADDRESS(ROW()-1, L$1, 4)),LEN(INDIRECT(\"Trello!\"&ADDRESS(ROW()-1, L$1, 4)))-15),\". \",\"/\"),\" 20\",\"/20\"),\" \",\"\"),\"\")","v":"31/Okt/2023"},{"$f":"IFERROR(SUBSTITUTE(SUBSTITUTE(SUBSTITUTE(RIGHT(INDIRECT(\"Trello!\"&ADDRESS(ROW()-1, M$1, 4)),LEN(INDIRECT(\"Trello!\"&ADDRESS(ROW()-1, M$1, 4)))-15),\". \",\"/\"),\" 20\",\"/20\"),\" \",\"\"),\"\")","v":""},"2023-10-31","","",{"$f":"IFERROR(SUBSTITUTE(INDIRECT(\"Trello!\"&ADDRESS(ROW()-1, O$1, 4)),\"Estimate hrs: \",\"\")*1,\"\")","v":""},{"$f":"IF(SUMIF(Timecamp!C:C,Reporte!A158,Timecamp!J:J)=0,\"\",SUMIF(Timecamp!C:C,Reporte!A158,Timecamp!J:J))","v":0.56666666666666665},"","",{"$f":"IFERROR(VLOOKUP(A158,'SLA Trab'!E:I,5,FALSE),\"\")","v":30.458333333333332},{"$f":"IFERROR(VLOOKUP(A158,'SLA Cobr'!E:I,5,FALSE),\"\")","v":""}]
[{"$f":"IFERROR(IF(Trello!E158=\"\",\"\",Trello!E158),\" \")","v":"Xavier Bobby - Itel Speedup"},{"$f":"IF($A159=\"\",\"\",IF(Trello!A158=\"\",B158,Trello!A158))","v":"Cotizado"},"2023-04-14",{"$f":"IF($A159=\"\",\"\",SUBSTITUTE(SUBSTITUTE(Trello!J158,\" days\",\"\"),\"⌚ \",\"\")*1)","v":152},{"$f":"IFERROR(IF($A159=\"\",\"\",SUBSTITUTE(SUBSTITUTE(SUBSTITUTE(INDIRECT(\"Trello!\"&ADDRESS(ROW()-1, E$1, 4)),\"Foreign: \",\"\"),\" $\",\"\"),\".\",\"\")*1),\"\")","v":150},{"$f":"IF($E159=\"\",IFERROR(IF($A159=\"\",\"\",SUBSTITUTE(SUBSTITUTE(SUBSTITUTE(INDIRECT(\"Trello!\"&ADDRESS(ROW()-1, F$1, 4)),\"MXN: \",\"\"),\" MX$\",\"\"),\".\",\"\")*1),\"\"),E159*F$2)","v":2625},{"$f":"IFERROR(IF($A159=\"\",\"\",SUBSTITUTE(SUBSTITUTE(SUBSTITUTE(INDIRECT(\"Trello!\"&ADDRESS(ROW()-1, G$1, 4)),\"Debt: \",\"\"),\" $\",\"\"),\".\",\"\")*1)*IF(E159=\"\",1,F$2),\"\")","v":""},{"$f":"IFERROR(IF($A159=\"\",\"\",SUBSTITUTE(SUBSTITUTE(SUBSTITUTE(INDIRECT(\"Trello!\"&ADDRESS(ROW()-1, H$1, 4)),\"Cost: \",\"\"),\" $\",\"\"),\".\",\"\")*1*$F$2),\"\")","v":""},2625,{"$f":"IFERROR(SUBSTITUTE(SUBSTITUTE(SUBSTITUTE(RIGHT(INDIRECT(\"Trello!\"&ADDRESS(ROW()-1, L$1, 4)),LEN(INDIRECT(\"Trello!\"&ADDRESS(ROW()-1, L$1, 4)))-15),\". \",\"/\"),\" 20\",\"/20\"),\" \",\"\"),\"\")","v":""},{"$f":"IFERROR(SUBSTITUTE(SUBSTITUTE(SUBSTITUTE(RIGHT(INDIRECT(\"Trello!\"&ADDRESS(ROW()-1, M$1, 4)),LEN(INDIRECT(\"Trello!\"&ADDRESS(ROW()-1, M$1, 4)))-15),\". \",\"/\"),\" 20\",\"/20\"),\" \",\"\"),\"\")","v":""},"","","",{"$f":"IFERROR(SUBSTITUTE(INDIRECT(\"Trello!\"&ADDRESS(ROW()-1, O$1, 4)),\"Estimate hrs: \",\"\")*1,\"\")","v":""},{"$f":"IF(SUMIF(Timecamp!C:C,Reporte!A159,Timecamp!J:J)=0,\"\",SUMIF(Timecamp!C:C,Reporte!A159,Timecamp!J:J))","v":0.25},"",10500,{"$f":"IFERROR(VLOOKUP(A159,'SLA Trab'!E:I,5,FALSE),\"\")","v":""},{"$f":"IFERROR(VLOOKUP(A159,'SLA Cobr'!E:I,5,FALSE),\"\")","v":""}]
[{"$f":"IFERROR(IF(Trello!E159=\"\",\"\",Trello!E159),\" \")","v":"yo - Hacer robot de trades de acciones gringas, super diversificarlo y listo..."},{"$f":"IF($A160=\"\",\"\",IF(Trello!A159=\"\",B159,Trello!A159))","v":"Cotizado"},"2023-02-01",{"$f":"IF($A160=\"\",\"\",SUBSTITUTE(SUBSTITUTE(Trello!J159,\" days\",\"\"),\"⌚ \",\"\")*1)","v":224},{"$f":"IFERROR(IF($A160=\"\",\"\",SUBSTITUTE(SUBSTITUTE(SUBSTITUTE(INDIRECT(\"Trello!\"&ADDRESS(ROW()-1, E$1, 4)),\"Foreign: \",\"\"),\" $\",\"\"),\".\",\"\")*1),\"\")","v":""},{"$f":"IF($E160=\"\",IFERROR(IF($A160=\"\",\"\",SUBSTITUTE(SUBSTITUTE(SUBSTITUTE(INDIRECT(\"Trello!\"&ADDRESS(ROW()-1, F$1, 4)),\"MXN: \",\"\"),\" MX$\",\"\"),\".\",\"\")*1),\"\"),E160*F$2)","v":""},{"$f":"IFERROR(IF($A160=\"\",\"\",SUBSTITUTE(SUBSTITUTE(SUBSTITUTE(INDIRECT(\"Trello!\"&ADDRESS(ROW()-1, G$1, 4)),\"Debt: \",\"\"),\" $\",\"\"),\".\",\"\")*1)*IF(E160=\"\",1,F$2),\"\")","v":""},{"$f":"IFERROR(IF($A160=\"\",\"\",SUBSTITUTE(SUBSTITUTE(SUBSTITUTE(INDIRECT(\"Trello!\"&ADDRESS(ROW()-1, H$1, 4)),\"Cost: \",\"\"),\" $\",\"\"),\".\",\"\")*1*$F$2),\"\")","v":""},"",{"$f":"IFERROR(SUBSTITUTE(SUBSTITUTE(SUBSTITUTE(RIGHT(INDIRECT(\"Trello!\"&ADDRESS(ROW()-1, L$1, 4)),LEN(INDIRECT(\"Trello!\"&ADDRESS(ROW()-1, L$1, 4)))-15),\". \",\"/\"),\" 20\",\"/20\"),\" \",\"\"),\"\")","v":"28/Apr/2023"},{"$f":"IFERROR(SUBSTITUTE(SUBSTITUTE(SUBSTITUTE(RIGHT(INDIRECT(\"Trello!\"&ADDRESS(ROW()-1, M$1, 4)),LEN(INDIRECT(\"Trello!\"&ADDRESS(ROW()-1, M$1, 4)))-15),\". \",\"/\"),\" 20\",\"/20\"),\" \",\"\"),\"\")","v":""},"2023-04-28","","",{"$f":"IFERROR(SUBSTITUTE(INDIRECT(\"Trello!\"&ADDRESS(ROW()-1, O$1, 4)),\"Estimate hrs: \",\"\")*1,\"\")","v":""},{"$f":"IF(SUMIF(Timecamp!C:C,Reporte!A160,Timecamp!J:J)=0,\"\",SUMIF(Timecamp!C:C,Reporte!A160,Timecamp!J:J))","v":""},"","",{"$f":"IFERROR(VLOOKUP(A160,'SLA Trab'!E:I,5,FALSE),\"\")","v":""},{"$f":"IFERROR(VLOOKUP(A160,'SLA Cobr'!E:I,5,FALSE),\"\")","v":""}]
[{"$f":"IFERROR(IF(Trello!E160=\"\",\"\",Trello!E160),\" \")","v":"Carrascosa AC - Página de Contratos"},{"$f":"IF($A161=\"\",\"\",IF(Trello!A160=\"\",B160,Trello!A160))","v":"Cotizado"},"2022-10-11",{"$f":"IF($A161=\"\",\"\",SUBSTITUTE(SUBSTITUTE(Trello!J160,\" days\",\"\"),\"⌚ \",\"\")*1)","v":337},{"$f":"IFERROR(IF($A161=\"\",\"\",SUBSTITUTE(SUBSTITUTE(SUBSTITUTE(INDIRECT(\"Trello!\"&ADDRESS(ROW()-1, E$1, 4)),\"Foreign: \",\"\"),\" $\",\"\"),\".\",\"\")*1),\"\")","v":""},{"$f":"IF($E161=\"\",IFERROR(IF($A161=\"\",\"\",SUBSTITUTE(SUBSTITUTE(SUBSTITUTE(INDIRECT(\"Trello!\"&ADDRESS(ROW()-1, F$1, 4)),\"MXN: \",\"\"),\" MX$\",\"\"),\".\",\"\")*1),\"\"),E161*F$2)","v":0},{"$f":"IFERROR(IF($A161=\"\",\"\",SUBSTITUTE(SUBSTITUTE(SUBSTITUTE(INDIRECT(\"Trello!\"&ADDRESS(ROW()-1, G$1, 4)),\"Debt: \",\"\"),\" $\",\"\"),\".\",\"\")*1)*IF(E161=\"\",1,F$2),\"\")","v":""},{"$f":"IFERROR(IF($A161=\"\",\"\",SUBSTITUTE(SUBSTITUTE(SUBSTITUTE(INDIRECT(\"Trello!\"&ADDRESS(ROW()-1, H$1, 4)),\"Cost: \",\"\"),\" $\",\"\"),\".\",\"\")*1*$F$2),\"\")","v":""},0,{"$f":"IFERROR(SUBSTITUTE(SUBSTITUTE(SUBSTITUTE(RIGHT(INDIRECT(\"Trello!\"&ADDRESS(ROW()-1, L$1, 4)),LEN(INDIRECT(\"Trello!\"&ADDRESS(ROW()-1, L$1, 4)))-15),\". \",\"/\"),\" 20\",\"/20\"),\" \",\"\"),\"\")","v":"31/Dez/2022"},{"$f":"IFERROR(SUBSTITUTE(SUBSTITUTE(SUBSTITUTE(RIGHT(INDIRECT(\"Trello!\"&ADDRESS(ROW()-1, M$1, 4)),LEN(INDIRECT(\"Trello!\"&ADDRESS(ROW()-1, M$1, 4)))-15),\". \",\"/\"),\" 20\",\"/20\"),\" \",\"\"),\"\")","v":""},"2022-12-31","","",{"$f":"IFERROR(SUBSTITUTE(INDIRECT(\"Trello!\"&ADDRESS(ROW()-1, O$1, 4)),\"Estimate hrs: \",\"\")*1,\"\")","v":""},{"$f":"IF(SUMIF(Timecamp!C:C,Reporte!A161,Timecamp!J:J)=0,\"\",SUMIF(Timecamp!C:C,Reporte!A161,Timecamp!J:J))","v":""},"","",{"$f":"IFERROR(VLOOKUP(A161,'SLA Trab'!E:I,5,FALSE),\"\")","v":""},{"$f":"IFERROR(VLOOKUP(A161,'SLA Cobr'!E:I,5,FALSE),\"\")","v":""}]
[{"$f":"IFERROR(IF(Trello!E161=\"\",\"\",Trello!E161),\" \")","v":"Carrascosa AC - Asociación Civil"},{"$f":"IF($A162=\"\",\"\",IF(Trello!A161=\"\",B161,Trello!A161))","v":"Cotizado"},"2022-12-02",{"$f":"IF($A162=\"\",\"\",SUBSTITUTE(SUBSTITUTE(Trello!J161,\" days\",\"\"),\"⌚ \",\"\")*1)","v":285},{"$f":"IFERROR(IF($A162=\"\",\"\",SUBSTITUTE(SUBSTITUTE(SUBSTITUTE(INDIRECT(\"Trello!\"&ADDRESS(ROW()-1, E$1, 4)),\"Foreign: \",\"\"),\" $\",\"\"),\".\",\"\")*1),\"\")","v":""},{"$f":"IF($E162=\"\",IFERROR(IF($A162=\"\",\"\",SUBSTITUTE(SUBSTITUTE(SUBSTITUTE(INDIRECT(\"Trello!\"&ADDRESS(ROW()-1, F$1, 4)),\"MXN: \",\"\"),\" MX$\",\"\"),\".\",\"\")*1),\"\"),E162*F$2)","v":-18000},{"$f":"IFERROR(IF($A162=\"\",\"\",SUBSTITUTE(SUBSTITUTE(SUBSTITUTE(INDIRECT(\"Trello!\"&ADDRESS(ROW()-1, G$1, 4)),\"Debt: \",\"\"),\" $\",\"\"),\".\",\"\")*1)*IF(E162=\"\",1,F$2),\"\")","v":""},{"$f":"IFERROR(IF($A162=\"\",\"\",SUBSTITUTE(SUBSTITUTE(SUBSTITUTE(INDIRECT(\"Trello!\"&ADDRESS(ROW()-1, H$1, 4)),\"Cost: \",\"\"),\" $\",\"\"),\".\",\"\")*1*$F$2),\"\")","v":""},-18000,{"$f":"IFERROR(SUBSTITUTE(SUBSTITUTE(SUBSTITUTE(RIGHT(INDIRECT(\"Trello!\"&ADDRESS(ROW()-1, L$1, 4)),LEN(INDIRECT(\"Trello!\"&ADDRESS(ROW()-1, L$1, 4)))-15),\". \",\"/\"),\" 20\",\"/20\"),\" \",\"\"),\"\")","v":""},{"$f":"IFERROR(SUBSTITUTE(SUBSTITUTE(SUBSTITUTE(RIGHT(INDIRECT(\"Trello!\"&ADDRESS(ROW()-1, M$1, 4)),LEN(INDIRECT(\"Trello!\"&ADDRESS(ROW()-1, M$1, 4)))-15),\". \",\"/\"),\" 20\",\"/20\"),\" \",\"\"),\"\")","v":""},"","","",{"$f":"IFERROR(SUBSTITUTE(INDIRECT(\"Trello!\"&ADDRESS(ROW()-1, O$1, 4)),\"Estimate hrs: \",\"\")*1,\"\")","v":""},{"$f":"IF(SUMIF(Timecamp!C:C,Reporte!A162,Timecamp!J:J)=0,\"\",SUMIF(Timecamp!C:C,Reporte!A162,Timecamp!J:J))","v":0.1},"",-180000,{"$f":"IFERROR(VLOOKUP(A162,'SLA Trab'!E:I,5,FALSE),\"\")","v":30.583333333333332},{"$f":"IFERROR(VLOOKUP(A162,'SLA Cobr'!E:I,5,FALSE),\"\")","v":""}]
[{"$f":"IFERROR(IF(Trello!E162=\"\",\"\",Trello!E162),\" \")","v":"Faby - Sportsworld rehacer"},{"$f":"IF($A163=\"\",\"\",IF(Trello!A162=\"\",B162,Trello!A162))","v":"Cotizado"},"2023-03-28",{"$f":"IF($A163=\"\",\"\",SUBSTITUTE(SUBSTITUTE(Trello!J162,\" days\",\"\"),\"⌚ \",\"\")*1)","v":169},{"$f":"IFERROR(IF($A163=\"\",\"\",SUBSTITUTE(SUBSTITUTE(SUBSTITUTE(INDIRECT(\"Trello!\"&ADDRESS(ROW()-1, E$1, 4)),\"Foreign: \",\"\"),\" $\",\"\"),\".\",\"\")*1),\"\")","v":""},{"$f":"IF($E163=\"\",IFERROR(IF($A163=\"\",\"\",SUBSTITUTE(SUBSTITUTE(SUBSTITUTE(INDIRECT(\"Trello!\"&ADDRESS(ROW()-1, F$1, 4)),\"MXN: \",\"\"),\" MX$\",\"\"),\".\",\"\")*1),\"\"),E163*F$2)","v":""},{"$f":"IFERROR(IF($A163=\"\",\"\",SUBSTITUTE(SUBSTITUTE(SUBSTITUTE(INDIRECT(\"Trello!\"&ADDRESS(ROW()-1, G$1, 4)),\"Debt: \",\"\"),\" $\",\"\"),\".\",\"\")*1)*IF(E163=\"\",1,F$2),\"\")","v":""},{"$f":"IFERROR(IF($A163=\"\",\"\",SUBSTITUTE(SUBSTITUTE(SUBSTITUTE(INDIRECT(\"Trello!\"&ADDRESS(ROW()-1, H$1, 4)),\"Cost: \",\"\"),\" $\",\"\"),\".\",\"\")*1*$F$2),\"\")","v":""},"",{"$f":"IFERROR(SUBSTITUTE(SUBSTITUTE(SUBSTITUTE(RIGHT(INDIRECT(\"Trello!\"&ADDRESS(ROW()-1, L$1, 4)),LEN(INDIRECT(\"Trello!\"&ADDRESS(ROW()-1, L$1, 4)))-15),\". \",\"/\"),\" 20\",\"/20\"),\" \",\"\"),\"\")","v":""},{"$f":"IFERROR(SUBSTITUTE(SUBSTITUTE(SUBSTITUTE(RIGHT(INDIRECT(\"Trello!\"&ADDRESS(ROW()-1, M$1, 4)),LEN(INDIRECT(\"Trello!\"&ADDRESS(ROW()-1, M$1, 4)))-15),\". \",\"/\"),\" 20\",\"/20\"),\" \",\"\"),\"\")","v":""},"","","",{"$f":"IFERROR(SUBSTITUTE(INDIRECT(\"Trello!\"&ADDRESS(ROW()-1, O$1, 4)),\"Estimate hrs: \",\"\")*1,\"\")","v":""},{"$f":"IF(SUMIF(Timecamp!C:C,Reporte!A163,Timecamp!J:J)=0,\"\",SUMIF(Timecamp!C:C,Reporte!A163,Timecamp!J:J))","v":""},"","",{"$f":"IFERROR(VLOOKUP(A163,'SLA Trab'!E:I,5,FALSE),\"\")","v":""},{"$f":"IFERROR(VLOOKUP(A163,'SLA Cobr'!E:I,5,FALSE),\"\")","v":""}]
[{"$f":"IFERROR(IF(Trello!E163=\"\",\"\",Trello!E163),\" \")","v":"Emilio Pinturas - Stock dentista"},{"$f":"IF($A164=\"\",\"\",IF(Trello!A163=\"\",B163,Trello!A163))","v":"Cotizado"},"2023-04-01",{"$f":"IF($A164=\"\",\"\",SUBSTITUTE(SUBSTITUTE(Trello!J163,\" days\",\"\"),\"⌚ \",\"\")*1)","v":165},{"$f":"IFERROR(IF($A164=\"\",\"\",SUBSTITUTE(SUBSTITUTE(SUBSTITUTE(INDIRECT(\"Trello!\"&ADDRESS(ROW()-1, E$1, 4)),\"Foreign: \",\"\"),\" $\",\"\"),\".\",\"\")*1),\"\")","v":500},{"$f":"IF($E164=\"\",IFERROR(IF($A164=\"\",\"\",SUBSTITUTE(SUBSTITUTE(SUBSTITUTE(INDIRECT(\"Trello!\"&ADDRESS(ROW()-1, F$1, 4)),\"MXN: \",\"\"),\" MX$\",\"\"),\".\",\"\")*1),\"\"),E164*F$2)","v":8750},{"$f":"IFERROR(IF($A164=\"\",\"\",SUBSTITUTE(SUBSTITUTE(SUBSTITUTE(INDIRECT(\"Trello!\"&ADDRESS(ROW()-1, G$1, 4)),\"Debt: \",\"\"),\" $\",\"\"),\".\",\"\")*1)*IF(E164=\"\",1,F$2),\"\")","v":""},{"$f":"IFERROR(IF($A164=\"\",\"\",SUBSTITUTE(SUBSTITUTE(SUBSTITUTE(INDIRECT(\"Trello!\"&ADDRESS(ROW()-1, H$1, 4)),\"Cost: \",\"\"),\" $\",\"\"),\".\",\"\")*1*$F$2),\"\")","v":""},8750,{"$f":"IFERROR(SUBSTITUTE(SUBSTITUTE(SUBSTITUTE(RIGHT(INDIRECT(\"Trello!\"&ADDRESS(ROW()-1, L$1, 4)),LEN(INDIRECT(\"Trello!\"&ADDRESS(ROW()-1, L$1, 4)))-15),\". \",\"/\"),\" 20\",\"/20\"),\" \",\"\"),\"\")","v":""},{"$f":"IFERROR(SUBSTITUTE(SUBSTITUTE(SUBSTITUTE(RIGHT(INDIRECT(\"Trello!\"&ADDRESS(ROW()-1, M$1, 4)),LEN(INDIRECT(\"Trello!\"&ADDRESS(ROW()-1, M$1, 4)))-15),\". \",\"/\"),\" 20\",\"/20\"),\" \",\"\"),\"\")","v":""},"","","",{"$f":"IFERROR(SUBSTITUTE(INDIRECT(\"Trello!\"&ADDRESS(ROW()-1, O$1, 4)),\"Estimate hrs: \",\"\")*1,\"\")","v":""},{"$f":"IF(SUMIF(Timecamp!C:C,Reporte!A164,Timecamp!J:J)=0,\"\",SUMIF(Timecamp!C:C,Reporte!A164,Timecamp!J:J))","v":""},"","",{"$f":"IFERROR(VLOOKUP(A164,'SLA Trab'!E:I,5,FALSE),\"\")","v":""},{"$f":"IFERROR(VLOOKUP(A164,'SLA Cobr'!E:I,5,FALSE),\"\")","v":""}]
[{"$f":"IFERROR(IF(Trello!E164=\"\",\"\",Trello!E164),\" \")","v":"Faby - Axxipay nuevo sitio"},{"$f":"IF($A165=\"\",\"\",IF(Trello!A164=\"\",B164,Trello!A164))","v":"Cotizado"},"2023-03-17",{"$f":"IF($A165=\"\",\"\",SUBSTITUTE(SUBSTITUTE(Trello!J164,\" days\",\"\"),\"⌚ \",\"\")*1)","v":180},{"$f":"IFERROR(IF($A165=\"\",\"\",SUBSTITUTE(SUBSTITUTE(SUBSTITUTE(INDIRECT(\"Trello!\"&ADDRESS(ROW()-1, E$1, 4)),\"Foreign: \",\"\"),\" $\",\"\"),\".\",\"\")*1),\"\")","v":""},{"$f":"IF($E165=\"\",IFERROR(IF($A165=\"\",\"\",SUBSTITUTE(SUBSTITUTE(SUBSTITUTE(INDIRECT(\"Trello!\"&ADDRESS(ROW()-1, F$1, 4)),\"MXN: \",\"\"),\" MX$\",\"\"),\".\",\"\")*1),\"\"),E165*F$2)","v":10000},{"$f":"IFERROR(IF($A165=\"\",\"\",SUBSTITUTE(SUBSTITUTE(SUBSTITUTE(INDIRECT(\"Trello!\"&ADDRESS(ROW()-1, G$1, 4)),\"Debt: \",\"\"),\" $\",\"\"),\".\",\"\")*1)*IF(E165=\"\",1,F$2),\"\")","v":""},{"$f":"IFERROR(IF($A165=\"\",\"\",SUBSTITUTE(SUBSTITUTE(SUBSTITUTE(INDIRECT(\"Trello!\"&ADDRESS(ROW()-1, H$1, 4)),\"Cost: \",\"\"),\" $\",\"\"),\".\",\"\")*1*$F$2),\"\")","v":""},10000,{"$f":"IFERROR(SUBSTITUTE(SUBSTITUTE(SUBSTITUTE(RIGHT(INDIRECT(\"Trello!\"&ADDRESS(ROW()-1, L$1, 4)),LEN(INDIRECT(\"Trello!\"&ADDRESS(ROW()-1, L$1, 4)))-15),\". \",\"/\"),\" 20\",\"/20\"),\" \",\"\"),\"\")","v":""},{"$f":"IFERROR(SUBSTITUTE(SUBSTITUTE(SUBSTITUTE(RIGHT(INDIRECT(\"Trello!\"&ADDRESS(ROW()-1, M$1, 4)),LEN(INDIRECT(\"Trello!\"&ADDRESS(ROW()-1, M$1, 4)))-15),\". \",\"/\"),\" 20\",\"/20\"),\" \",\"\"),\"\")","v":""},"","","",{"$f":"IFERROR(SUBSTITUTE(INDIRECT(\"Trello!\"&ADDRESS(ROW()-1, O$1, 4)),\"Estimate hrs: \",\"\")*1,\"\")","v":""},{"$f":"IF(SUMIF(Timecamp!C:C,Reporte!A165,Timecamp!J:J)=0,\"\",SUMIF(Timecamp!C:C,Reporte!A165,Timecamp!J:J))","v":""},"","",{"$f":"IFERROR(VLOOKUP(A165,'SLA Trab'!E:I,5,FALSE),\"\")","v":""},{"$f":"IFERROR(VLOOKUP(A165,'SLA Cobr'!E:I,5,FALSE),\"\")","v":""}]
[{"$f":"IFERROR(IF(Trello!E165=\"\",\"\",Trello!E165),\" \")","v":"Jason Freelancer - Speedup Brindabella de nuevo"},{"$f":"IF($A166=\"\",\"\",IF(Trello!A165=\"\",B165,Trello!A165))","v":"Cotizado"},"2023-03-24",{"$f":"IF($A166=\"\",\"\",SUBSTITUTE(SUBSTITUTE(Trello!J165,\" days\",\"\"),\"⌚ \",\"\")*1)","v":173},{"$f":"IFERROR(IF($A166=\"\",\"\",SUBSTITUTE(SUBSTITUTE(SUBSTITUTE(INDIRECT(\"Trello!\"&ADDRESS(ROW()-1, E$1, 4)),\"Foreign: \",\"\"),\" $\",\"\"),\".\",\"\")*1),\"\")","v":80},{"$f":"IF($E166=\"\",IFERROR(IF($A166=\"\",\"\",SUBSTITUTE(SUBSTITUTE(SUBSTITUTE(INDIRECT(\"Trello!\"&ADDRESS(ROW()-1, F$1, 4)),\"MXN: \",\"\"),\" MX$\",\"\"),\".\",\"\")*1),\"\"),E166*F$2)","v":1400},{"$f":"IFERROR(IF($A166=\"\",\"\",SUBSTITUTE(SUBSTITUTE(SUBSTITUTE(INDIRECT(\"Trello!\"&ADDRESS(ROW()-1, G$1, 4)),\"Debt: \",\"\"),\" $\",\"\"),\".\",\"\")*1)*IF(E166=\"\",1,F$2),\"\")","v":""},{"$f":"IFERROR(IF($A166=\"\",\"\",SUBSTITUTE(SUBSTITUTE(SUBSTITUTE(INDIRECT(\"Trello!\"&ADDRESS(ROW()-1, H$1, 4)),\"Cost: \",\"\"),\" $\",\"\"),\".\",\"\")*1*$F$2),\"\")","v":""},1400,{"$f":"IFERROR(SUBSTITUTE(SUBSTITUTE(SUBSTITUTE(RIGHT(INDIRECT(\"Trello!\"&ADDRESS(ROW()-1, L$1, 4)),LEN(INDIRECT(\"Trello!\"&ADDRESS(ROW()-1, L$1, 4)))-15),\". \",\"/\"),\" 20\",\"/20\"),\" \",\"\"),\"\")","v":""},{"$f":"IFERROR(SUBSTITUTE(SUBSTITUTE(SUBSTITUTE(RIGHT(INDIRECT(\"Trello!\"&ADDRESS(ROW()-1, M$1, 4)),LEN(INDIRECT(\"Trello!\"&ADDRESS(ROW()-1, M$1, 4)))-15),\". \",\"/\"),\" 20\",\"/20\"),\" \",\"\"),\"\")","v":""},"","","",{"$f":"IFERROR(SUBSTITUTE(INDIRECT(\"Trello!\"&ADDRESS(ROW()-1, O$1, 4)),\"Estimate hrs: \",\"\")*1,\"\")","v":""},{"$f":"IF(SUMIF(Timecamp!C:C,Reporte!A166,Timecamp!J:J)=0,\"\",SUMIF(Timecamp!C:C,Reporte!A166,Timecamp!J:J))","v":""},"","",{"$f":"IFERROR(VLOOKUP(A166,'SLA Trab'!E:I,5,FALSE),\"\")","v":""},{"$f":"IFERROR(VLOOKUP(A166,'SLA Cobr'!E:I,5,FALSE),\"\")","v":""}]
[{"$f":"IFERROR(IF(Trello!E166=\"\",\"\",Trello!E166),\" \")","v":"yo - Clonar facturación goteo aprovechando nanofactura"},{"$f":"IF($A167=\"\",\"\",IF(Trello!A166=\"\",B166,Trello!A166))","v":"Cotizado"},"2023-02-09",{"$f":"IF($A167=\"\",\"\",SUBSTITUTE(SUBSTITUTE(Trello!J166,\" days\",\"\"),\"⌚ \",\"\")*1)","v":216},{"$f":"IFERROR(IF($A167=\"\",\"\",SUBSTITUTE(SUBSTITUTE(SUBSTITUTE(INDIRECT(\"Trello!\"&ADDRESS(ROW()-1, E$1, 4)),\"Foreign: \",\"\"),\" $\",\"\"),\".\",\"\")*1),\"\")","v":""},{"$f":"IF($E167=\"\",IFERROR(IF($A167=\"\",\"\",SUBSTITUTE(SUBSTITUTE(SUBSTITUTE(INDIRECT(\"Trello!\"&ADDRESS(ROW()-1, F$1, 4)),\"MXN: \",\"\"),\" MX$\",\"\"),\".\",\"\")*1),\"\"),E167*F$2)","v":""},{"$f":"IFERROR(IF($A167=\"\",\"\",SUBSTITUTE(SUBSTITUTE(SUBSTITUTE(INDIRECT(\"Trello!\"&ADDRESS(ROW()-1, G$1, 4)),\"Debt: \",\"\"),\" $\",\"\"),\".\",\"\")*1)*IF(E167=\"\",1,F$2),\"\")","v":""},{"$f":"IFERROR(IF($A167=\"\",\"\",SUBSTITUTE(SUBSTITUTE(SUBSTITUTE(INDIRECT(\"Trello!\"&ADDRESS(ROW()-1, H$1, 4)),\"Cost: \",\"\"),\" $\",\"\"),\".\",\"\")*1*$F$2),\"\")","v":""},"",{"$f":"IFERROR(SUBSTITUTE(SUBSTITUTE(SUBSTITUTE(RIGHT(INDIRECT(\"Trello!\"&ADDRESS(ROW()-1, L$1, 4)),LEN(INDIRECT(\"Trello!\"&ADDRESS(ROW()-1, L$1, 4)))-15),\". \",\"/\"),\" 20\",\"/20\"),\" \",\"\"),\"\")","v":""},{"$f":"IFERROR(SUBSTITUTE(SUBSTITUTE(SUBSTITUTE(RIGHT(INDIRECT(\"Trello!\"&ADDRESS(ROW()-1, M$1, 4)),LEN(INDIRECT(\"Trello!\"&ADDRESS(ROW()-1, M$1, 4)))-15),\". \",\"/\"),\" 20\",\"/20\"),\" \",\"\"),\"\")","v":""},"","","",{"$f":"IFERROR(SUBSTITUTE(INDIRECT(\"Trello!\"&ADDRESS(ROW()-1, O$1, 4)),\"Estimate hrs: \",\"\")*1,\"\")","v":""},{"$f":"IF(SUMIF(Timecamp!C:C,Reporte!A167,Timecamp!J:J)=0,\"\",SUMIF(Timecamp!C:C,Reporte!A167,Timecamp!J:J))","v":""},"","",{"$f":"IFERROR(VLOOKUP(A167,'SLA Trab'!E:I,5,FALSE),\"\")","v":""},{"$f":"IFERROR(VLOOKUP(A167,'SLA Cobr'!E:I,5,FALSE),\"\")","v":""}]
[{"$f":"IFERROR(IF(Trello!E167=\"\",\"\",Trello!E167),\" \")","v":"Miguel Bullkens - Bulkens NFT"},{"$f":"IF($A168=\"\",\"\",IF(Trello!A167=\"\",B167,Trello!A167))","v":"Cotizado"},"2023-02-08",{"$f":"IF($A168=\"\",\"\",SUBSTITUTE(SUBSTITUTE(Trello!J167,\" days\",\"\"),\"⌚ \",\"\")*1)","v":217},{"$f":"IFERROR(IF($A168=\"\",\"\",SUBSTITUTE(SUBSTITUTE(SUBSTITUTE(INDIRECT(\"Trello!\"&ADDRESS(ROW()-1, E$1, 4)),\"Foreign: \",\"\"),\" $\",\"\"),\".\",\"\")*1),\"\")","v":900},{"$f":"IF($E168=\"\",IFERROR(IF($A168=\"\",\"\",SUBSTITUTE(SUBSTITUTE(SUBSTITUTE(INDIRECT(\"Trello!\"&ADDRESS(ROW()-1, F$1, 4)),\"MXN: \",\"\"),\" MX$\",\"\"),\".\",\"\")*1),\"\"),E168*F$2)","v":15750},{"$f":"IFERROR(IF($A168=\"\",\"\",SUBSTITUTE(SUBSTITUTE(SUBSTITUTE(INDIRECT(\"Trello!\"&ADDRESS(ROW()-1, G$1, 4)),\"Debt: \",\"\"),\" $\",\"\"),\".\",\"\")*1)*IF(E168=\"\",1,F$2),\"\")","v":""},{"$f":"IFERROR(IF($A168=\"\",\"\",SUBSTITUTE(SUBSTITUTE(SUBSTITUTE(INDIRECT(\"Trello!\"&ADDRESS(ROW()-1, H$1, 4)),\"Cost: \",\"\"),\" $\",\"\"),\".\",\"\")*1*$F$2),\"\")","v":""},15750,{"$f":"IFERROR(SUBSTITUTE(SUBSTITUTE(SUBSTITUTE(RIGHT(INDIRECT(\"Trello!\"&ADDRESS(ROW()-1, L$1, 4)),LEN(INDIRECT(\"Trello!\"&ADDRESS(ROW()-1, L$1, 4)))-15),\". \",\"/\"),\" 20\",\"/20\"),\" \",\"\"),\"\")","v":""},{"$f":"IFERROR(SUBSTITUTE(SUBSTITUTE(SUBSTITUTE(RIGHT(INDIRECT(\"Trello!\"&ADDRESS(ROW()-1, M$1, 4)),LEN(INDIRECT(\"Trello!\"&ADDRESS(ROW()-1, M$1, 4)))-15),\". \",\"/\"),\" 20\",\"/20\"),\" \",\"\"),\"\")","v":""},"","","",{"$f":"IFERROR(SUBSTITUTE(INDIRECT(\"Trello!\"&ADDRESS(ROW()-1, O$1, 4)),\"Estimate hrs: \",\"\")*1,\"\")","v":""},{"$f":"IF(SUMIF(Timecamp!C:C,Reporte!A168,Timecamp!J:J)=0,\"\",SUMIF(Timecamp!C:C,Reporte!A168,Timecamp!J:J))","v":""},"","",{"$f":"IFERROR(VLOOKUP(A168,'SLA Trab'!E:I,5,FALSE),\"\")","v":""},{"$f":"IFERROR(VLOOKUP(A168,'SLA Cobr'!E:I,5,FALSE),\"\")","v":""}]
[{"$f":"IFERROR(IF(Trello!E168=\"\",\"\",Trello!E168),\" \")","v":"Gustavo Freelancer - Formularios en pagina"},{"$f":"IF($A169=\"\",\"\",IF(Trello!A168=\"\",B168,Trello!A168))","v":"Cotizado"},"2023-02-16",{"$f":"IF($A169=\"\",\"\",SUBSTITUTE(SUBSTITUTE(Trello!J168,\" days\",\"\"),\"⌚ \",\"\")*1)","v":209},{"$f":"IFERROR(IF($A169=\"\",\"\",SUBSTITUTE(SUBSTITUTE(SUBSTITUTE(INDIRECT(\"Trello!\"&ADDRESS(ROW()-1, E$1, 4)),\"Foreign: \",\"\"),\" $\",\"\"),\".\",\"\")*1),\"\")","v":50},{"$f":"IF($E169=\"\",IFERROR(IF($A169=\"\",\"\",SUBSTITUTE(SUBSTITUTE(SUBSTITUTE(INDIRECT(\"Trello!\"&ADDRESS(ROW()-1, F$1, 4)),\"MXN: \",\"\"),\" MX$\",\"\"),\".\",\"\")*1),\"\"),E169*F$2)","v":875},{"$f":"IFERROR(IF($A169=\"\",\"\",SUBSTITUTE(SUBSTITUTE(SUBSTITUTE(INDIRECT(\"Trello!\"&ADDRESS(ROW()-1, G$1, 4)),\"Debt: \",\"\"),\" $\",\"\"),\".\",\"\")*1)*IF(E169=\"\",1,F$2),\"\")","v":""},{"$f":"IFERROR(IF($A169=\"\",\"\",SUBSTITUTE(SUBSTITUTE(SUBSTITUTE(INDIRECT(\"Trello!\"&ADDRESS(ROW()-1, H$1, 4)),\"Cost: \",\"\"),\" $\",\"\"),\".\",\"\")*1*$F$2),\"\")","v":""},875,{"$f":"IFERROR(SUBSTITUTE(SUBSTITUTE(SUBSTITUTE(RIGHT(INDIRECT(\"Trello!\"&ADDRESS(ROW()-1, L$1, 4)),LEN(INDIRECT(\"Trello!\"&ADDRESS(ROW()-1, L$1, 4)))-15),\". \",\"/\"),\" 20\",\"/20\"),\" \",\"\"),\"\")","v":""},{"$f":"IFERROR(SUBSTITUTE(SUBSTITUTE(SUBSTITUTE(RIGHT(INDIRECT(\"Trello!\"&ADDRESS(ROW()-1, M$1, 4)),LEN(INDIRECT(\"Trello!\"&ADDRESS(ROW()-1, M$1, 4)))-15),\". \",\"/\"),\" 20\",\"/20\"),\" \",\"\"),\"\")","v":""},"","","",{"$f":"IFERROR(SUBSTITUTE(INDIRECT(\"Trello!\"&ADDRESS(ROW()-1, O$1, 4)),\"Estimate hrs: \",\"\")*1,\"\")","v":""},{"$f":"IF(SUMIF(Timecamp!C:C,Reporte!A169,Timecamp!J:J)=0,\"\",SUMIF(Timecamp!C:C,Reporte!A169,Timecamp!J:J))","v":""},"","",{"$f":"IFERROR(VLOOKUP(A169,'SLA Trab'!E:I,5,FALSE),\"\")","v":""},{"$f":"IFERROR(VLOOKUP(A169,'SLA Cobr'!E:I,5,FALSE),\"\")","v":""}]
[{"$f":"IFERROR(IF(Trello!E169=\"\",\"\",Trello!E169),\" \")","v":"Gustavo Freelancer - Ootness Twilio"},{"$f":"IF($A170=\"\",\"\",IF(Trello!A169=\"\",B169,Trello!A169))","v":"Cotizado"},"2023-02-14",{"$f":"IF($A170=\"\",\"\",SUBSTITUTE(SUBSTITUTE(Trello!J169,\" days\",\"\"),\"⌚ \",\"\")*1)","v":211},{"$f":"IFERROR(IF($A170=\"\",\"\",SUBSTITUTE(SUBSTITUTE(SUBSTITUTE(INDIRECT(\"Trello!\"&ADDRESS(ROW()-1, E$1, 4)),\"Foreign: \",\"\"),\" $\",\"\"),\".\",\"\")*1),\"\")","v":500},{"$f":"IF($E170=\"\",IFERROR(IF($A170=\"\",\"\",SUBSTITUTE(SUBSTITUTE(SUBSTITUTE(INDIRECT(\"Trello!\"&ADDRESS(ROW()-1, F$1, 4)),\"MXN: \",\"\"),\" MX$\",\"\"),\".\",\"\")*1),\"\"),E170*F$2)","v":8750},{"$f":"IFERROR(IF($A170=\"\",\"\",SUBSTITUTE(SUBSTITUTE(SUBSTITUTE(INDIRECT(\"Trello!\"&ADDRESS(ROW()-1, G$1, 4)),\"Debt: \",\"\"),\" $\",\"\"),\".\",\"\")*1)*IF(E170=\"\",1,F$2),\"\")","v":""},{"$f":"IFERROR(IF($A170=\"\",\"\",SUBSTITUTE(SUBSTITUTE(SUBSTITUTE(INDIRECT(\"Trello!\"&ADDRESS(ROW()-1, H$1, 4)),\"Cost: \",\"\"),\" $\",\"\"),\".\",\"\")*1*$F$2),\"\")","v":""},8750,{"$f":"IFERROR(SUBSTITUTE(SUBSTITUTE(SUBSTITUTE(RIGHT(INDIRECT(\"Trello!\"&ADDRESS(ROW()-1, L$1, 4)),LEN(INDIRECT(\"Trello!\"&ADDRESS(ROW()-1, L$1, 4)))-15),\". \",\"/\"),\" 20\",\"/20\"),\" \",\"\"),\"\")","v":""},{"$f":"IFERROR(SUBSTITUTE(SUBSTITUTE(SUBSTITUTE(RIGHT(INDIRECT(\"Trello!\"&ADDRESS(ROW()-1, M$1, 4)),LEN(INDIRECT(\"Trello!\"&ADDRESS(ROW()-1, M$1, 4)))-15),\". \",\"/\"),\" 20\",\"/20\"),\" \",\"\"),\"\")","v":""},"","","",{"$f":"IFERROR(SUBSTITUTE(INDIRECT(\"Trello!\"&ADDRESS(ROW()-1, O$1, 4)),\"Estimate hrs: \",\"\")*1,\"\")","v":""},{"$f":"IF(SUMIF(Timecamp!C:C,Reporte!A170,Timecamp!J:J)=0,\"\",SUMIF(Timecamp!C:C,Reporte!A170,Timecamp!J:J))","v":""},"","",{"$f":"IFERROR(VLOOKUP(A170,'SLA Trab'!E:I,5,FALSE),\"\")","v":""},{"$f":"IFERROR(VLOOKUP(A170,'SLA Cobr'!E:I,5,FALSE),\"\")","v":""}]
[{"$f":"IFERROR(IF(Trello!E170=\"\",\"\",Trello!E170),\" \")","v":"Fernando Freelancer - Funeraria"},{"$f":"IF($A171=\"\",\"\",IF(Trello!A170=\"\",B170,Trello!A170))","v":"Cotizado"},"2023-02-03",{"$f":"IF($A171=\"\",\"\",SUBSTITUTE(SUBSTITUTE(Trello!J170,\" days\",\"\"),\"⌚ \",\"\")*1)","v":222},{"$f":"IFERROR(IF($A171=\"\",\"\",SUBSTITUTE(SUBSTITUTE(SUBSTITUTE(INDIRECT(\"Trello!\"&ADDRESS(ROW()-1, E$1, 4)),\"Foreign: \",\"\"),\" $\",\"\"),\".\",\"\")*1),\"\")","v":1500},{"$f":"IF($E171=\"\",IFERROR(IF($A171=\"\",\"\",SUBSTITUTE(SUBSTITUTE(SUBSTITUTE(INDIRECT(\"Trello!\"&ADDRESS(ROW()-1, F$1, 4)),\"MXN: \",\"\"),\" MX$\",\"\"),\".\",\"\")*1),\"\"),E171*F$2)","v":26250},{"$f":"IFERROR(IF($A171=\"\",\"\",SUBSTITUTE(SUBSTITUTE(SUBSTITUTE(INDIRECT(\"Trello!\"&ADDRESS(ROW()-1, G$1, 4)),\"Debt: \",\"\"),\" $\",\"\"),\".\",\"\")*1)*IF(E171=\"\",1,F$2),\"\")","v":""},{"$f":"IFERROR(IF($A171=\"\",\"\",SUBSTITUTE(SUBSTITUTE(SUBSTITUTE(INDIRECT(\"Trello!\"&ADDRESS(ROW()-1, H$1, 4)),\"Cost: \",\"\"),\" $\",\"\"),\".\",\"\")*1*$F$2),\"\")","v":""},26250,{"$f":"IFERROR(SUBSTITUTE(SUBSTITUTE(SUBSTITUTE(RIGHT(INDIRECT(\"Trello!\"&ADDRESS(ROW()-1, L$1, 4)),LEN(INDIRECT(\"Trello!\"&ADDRESS(ROW()-1, L$1, 4)))-15),\". \",\"/\"),\" 20\",\"/20\"),\" \",\"\"),\"\")","v":""},{"$f":"IFERROR(SUBSTITUTE(SUBSTITUTE(SUBSTITUTE(RIGHT(INDIRECT(\"Trello!\"&ADDRESS(ROW()-1, M$1, 4)),LEN(INDIRECT(\"Trello!\"&ADDRESS(ROW()-1, M$1, 4)))-15),\". \",\"/\"),\" 20\",\"/20\"),\" \",\"\"),\"\")","v":""},"","","",{"$f":"IFERROR(SUBSTITUTE(INDIRECT(\"Trello!\"&ADDRESS(ROW()-1, O$1, 4)),\"Estimate hrs: \",\"\")*1,\"\")","v":""},{"$f":"IF(SUMIF(Timecamp!C:C,Reporte!A171,Timecamp!J:J)=0,\"\",SUMIF(Timecamp!C:C,Reporte!A171,Timecamp!J:J))","v":""},"","",{"$f":"IFERROR(VLOOKUP(A171,'SLA Trab'!E:I,5,FALSE),\"\")","v":""},{"$f":"IFERROR(VLOOKUP(A171,'SLA Cobr'!E:I,5,FALSE),\"\")","v":""}]
[{"$f":"IFERROR(IF(Trello!E171=\"\",\"\",Trello!E171),\" \")","v":"Gustavo Freelancer - Filtro estrellas inmobiliaria Arg"},{"$f":"IF($A172=\"\",\"\",IF(Trello!A171=\"\",B171,Trello!A171))","v":"Cotizado"},"2023-02-07",{"$f":"IF($A172=\"\",\"\",SUBSTITUTE(SUBSTITUTE(Trello!J171,\" days\",\"\"),\"⌚ \",\"\")*1)","v":218},{"$f":"IFERROR(IF($A172=\"\",\"\",SUBSTITUTE(SUBSTITUTE(SUBSTITUTE(INDIRECT(\"Trello!\"&ADDRESS(ROW()-1, E$1, 4)),\"Foreign: \",\"\"),\" $\",\"\"),\".\",\"\")*1),\"\")","v":""},{"$f":"IF($E172=\"\",IFERROR(IF($A172=\"\",\"\",SUBSTITUTE(SUBSTITUTE(SUBSTITUTE(INDIRECT(\"Trello!\"&ADDRESS(ROW()-1, F$1, 4)),\"MXN: \",\"\"),\" MX$\",\"\"),\".\",\"\")*1),\"\"),E172*F$2)","v":1500},{"$f":"IFERROR(IF($A172=\"\",\"\",SUBSTITUTE(SUBSTITUTE(SUBSTITUTE(INDIRECT(\"Trello!\"&ADDRESS(ROW()-1, G$1, 4)),\"Debt: \",\"\"),\" $\",\"\"),\".\",\"\")*1)*IF(E172=\"\",1,F$2),\"\")","v":""},{"$f":"IFERROR(IF($A172=\"\",\"\",SUBSTITUTE(SUBSTITUTE(SUBSTITUTE(INDIRECT(\"Trello!\"&ADDRESS(ROW()-1, H$1, 4)),\"Cost: \",\"\"),\" $\",\"\"),\".\",\"\")*1*$F$2),\"\")","v":""},1500,{"$f":"IFERROR(SUBSTITUTE(SUBSTITUTE(SUBSTITUTE(RIGHT(INDIRECT(\"Trello!\"&ADDRESS(ROW()-1, L$1, 4)),LEN(INDIRECT(\"Trello!\"&ADDRESS(ROW()-1, L$1, 4)))-15),\". \",\"/\"),\" 20\",\"/20\"),\" \",\"\"),\"\")","v":""},{"$f":"IFERROR(SUBSTITUTE(SUBSTITUTE(SUBSTITUTE(RIGHT(INDIRECT(\"Trello!\"&ADDRESS(ROW()-1, M$1, 4)),LEN(INDIRECT(\"Trello!\"&ADDRESS(ROW()-1, M$1, 4)))-15),\". \",\"/\"),\" 20\",\"/20\"),\" \",\"\"),\"\")","v":""},"","","",{"$f":"IFERROR(SUBSTITUTE(INDIRECT(\"Trello!\"&ADDRESS(ROW()-1, O$1, 4)),\"Estimate hrs: \",\"\")*1,\"\")","v":""},{"$f":"IF(SUMIF(Timecamp!C:C,Reporte!A172,Timecamp!J:J)=0,\"\",SUMIF(Timecamp!C:C,Reporte!A172,Timecamp!J:J))","v":""},"","",{"$f":"IFERROR(VLOOKUP(A172,'SLA Trab'!E:I,5,FALSE),\"\")","v":""},{"$f":"IFERROR(VLOOKUP(A172,'SLA Cobr'!E:I,5,FALSE),\"\")","v":""}]
[{"$f":"IFERROR(IF(Trello!E172=\"\",\"\",Trello!E172),\" \")","v":"Ruva - Motos copia encuentra tu moto"},{"$f":"IF($A173=\"\",\"\",IF(Trello!A172=\"\",B172,Trello!A172))","v":"Cotizado"},"2023-01-19",{"$f":"IF($A173=\"\",\"\",SUBSTITUTE(SUBSTITUTE(Trello!J172,\" days\",\"\"),\"⌚ \",\"\")*1)","v":237},{"$f":"IFERROR(IF($A173=\"\",\"\",SUBSTITUTE(SUBSTITUTE(SUBSTITUTE(INDIRECT(\"Trello!\"&ADDRESS(ROW()-1, E$1, 4)),\"Foreign: \",\"\"),\" $\",\"\"),\".\",\"\")*1),\"\")","v":700},{"$f":"IF($E173=\"\",IFERROR(IF($A173=\"\",\"\",SUBSTITUTE(SUBSTITUTE(SUBSTITUTE(INDIRECT(\"Trello!\"&ADDRESS(ROW()-1, F$1, 4)),\"MXN: \",\"\"),\" MX$\",\"\"),\".\",\"\")*1),\"\"),E173*F$2)","v":12250},{"$f":"IFERROR(IF($A173=\"\",\"\",SUBSTITUTE(SUBSTITUTE(SUBSTITUTE(INDIRECT(\"Trello!\"&ADDRESS(ROW()-1, G$1, 4)),\"Debt: \",\"\"),\" $\",\"\"),\".\",\"\")*1)*IF(E173=\"\",1,F$2),\"\")","v":""},{"$f":"IFERROR(IF($A173=\"\",\"\",SUBSTITUTE(SUBSTITUTE(SUBSTITUTE(INDIRECT(\"Trello!\"&ADDRESS(ROW()-1, H$1, 4)),\"Cost: \",\"\"),\" $\",\"\"),\".\",\"\")*1*$F$2),\"\")","v":""},12250,{"$f":"IFERROR(SUBSTITUTE(SUBSTITUTE(SUBSTITUTE(RIGHT(INDIRECT(\"Trello!\"&ADDRESS(ROW()-1, L$1, 4)),LEN(INDIRECT(\"Trello!\"&ADDRESS(ROW()-1, L$1, 4)))-15),\". \",\"/\"),\" 20\",\"/20\"),\" \",\"\"),\"\")","v":""},{"$f":"IFERROR(SUBSTITUTE(SUBSTITUTE(SUBSTITUTE(RIGHT(INDIRECT(\"Trello!\"&ADDRESS(ROW()-1, M$1, 4)),LEN(INDIRECT(\"Trello!\"&ADDRESS(ROW()-1, M$1, 4)))-15),\". \",\"/\"),\" 20\",\"/20\"),\" \",\"\"),\"\")","v":""},"","","",{"$f":"IFERROR(SUBSTITUTE(INDIRECT(\"Trello!\"&ADDRESS(ROW()-1, O$1, 4)),\"Estimate hrs: \",\"\")*1,\"\")","v":""},{"$f":"IF(SUMIF(Timecamp!C:C,Reporte!A173,Timecamp!J:J)=0,\"\",SUMIF(Timecamp!C:C,Reporte!A173,Timecamp!J:J))","v":""},"","",{"$f":"IFERROR(VLOOKUP(A173,'SLA Trab'!E:I,5,FALSE),\"\")","v":""},{"$f":"IFERROR(VLOOKUP(A173,'SLA Cobr'!E:I,5,FALSE),\"\")","v":""}]
[{"$f":"IFERROR(IF(Trello!E173=\"\",\"\",Trello!E173),\" \")","v":"Santiago Freelancer - EncuentraTuMoto a WP"},{"$f":"IF($A174=\"\",\"\",IF(Trello!A173=\"\",B173,Trello!A173))","v":"Cotizado"},"2023-01-26",{"$f":"IF($A174=\"\",\"\",SUBSTITUTE(SUBSTITUTE(Trello!J173,\" days\",\"\"),\"⌚ \",\"\")*1)","v":230},{"$f":"IFERROR(IF($A174=\"\",\"\",SUBSTITUTE(SUBSTITUTE(SUBSTITUTE(INDIRECT(\"Trello!\"&ADDRESS(ROW()-1, E$1, 4)),\"Foreign: \",\"\"),\" $\",\"\"),\".\",\"\")*1),\"\")","v":600},{"$f":"IF($E174=\"\",IFERROR(IF($A174=\"\",\"\",SUBSTITUTE(SUBSTITUTE(SUBSTITUTE(INDIRECT(\"Trello!\"&ADDRESS(ROW()-1, F$1, 4)),\"MXN: \",\"\"),\" MX$\",\"\"),\".\",\"\")*1),\"\"),E174*F$2)","v":10500},{"$f":"IFERROR(IF($A174=\"\",\"\",SUBSTITUTE(SUBSTITUTE(SUBSTITUTE(INDIRECT(\"Trello!\"&ADDRESS(ROW()-1, G$1, 4)),\"Debt: \",\"\"),\" $\",\"\"),\".\",\"\")*1)*IF(E174=\"\",1,F$2),\"\")","v":""},{"$f":"IFERROR(IF($A174=\"\",\"\",SUBSTITUTE(SUBSTITUTE(SUBSTITUTE(INDIRECT(\"Trello!\"&ADDRESS(ROW()-1, H$1, 4)),\"Cost: \",\"\"),\" $\",\"\"),\".\",\"\")*1*$F$2),\"\")","v":""},10500,{"$f":"IFERROR(SUBSTITUTE(SUBSTITUTE(SUBSTITUTE(RIGHT(INDIRECT(\"Trello!\"&ADDRESS(ROW()-1, L$1, 4)),LEN(INDIRECT(\"Trello!\"&ADDRESS(ROW()-1, L$1, 4)))-15),\". \",\"/\"),\" 20\",\"/20\"),\" \",\"\"),\"\")","v":""},{"$f":"IFERROR(SUBSTITUTE(SUBSTITUTE(SUBSTITUTE(RIGHT(INDIRECT(\"Trello!\"&ADDRESS(ROW()-1, M$1, 4)),LEN(INDIRECT(\"Trello!\"&ADDRESS(ROW()-1, M$1, 4)))-15),\". \",\"/\"),\" 20\",\"/20\"),\" \",\"\"),\"\")","v":""},"","","",{"$f":"IFERROR(SUBSTITUTE(INDIRECT(\"Trello!\"&ADDRESS(ROW()-1, O$1, 4)),\"Estimate hrs: \",\"\")*1,\"\")","v":""},{"$f":"IF(SUMIF(Timecamp!C:C,Reporte!A174,Timecamp!J:J)=0,\"\",SUMIF(Timecamp!C:C,Reporte!A174,Timecamp!J:J))","v":""},"","",{"$f":"IFERROR(VLOOKUP(A174,'SLA Trab'!E:I,5,FALSE),\"\")","v":""},{"$f":"IFERROR(VLOOKUP(A174,'SLA Cobr'!E:I,5,FALSE),\"\")","v":""}]
[{"$f":"IFERROR(IF(Trello!E174=\"\",\"\",Trello!E174),\" \")","v":"Rigoberto Freelancer - Alertas Ajax"},{"$f":"IF($A175=\"\",\"\",IF(Trello!A174=\"\",B174,Trello!A174))","v":"Cotizado"},"2023-01-28",{"$f":"IF($A175=\"\",\"\",SUBSTITUTE(SUBSTITUTE(Trello!J174,\" days\",\"\"),\"⌚ \",\"\")*1)","v":228},{"$f":"IFERROR(IF($A175=\"\",\"\",SUBSTITUTE(SUBSTITUTE(SUBSTITUTE(INDIRECT(\"Trello!\"&ADDRESS(ROW()-1, E$1, 4)),\"Foreign: \",\"\"),\" $\",\"\"),\".\",\"\")*1),\"\")","v":125},{"$f":"IF($E175=\"\",IFERROR(IF($A175=\"\",\"\",SUBSTITUTE(SUBSTITUTE(SUBSTITUTE(INDIRECT(\"Trello!\"&ADDRESS(ROW()-1, F$1, 4)),\"MXN: \",\"\"),\" MX$\",\"\"),\".\",\"\")*1),\"\"),E175*F$2)","v":2187.5},{"$f":"IFERROR(IF($A175=\"\",\"\",SUBSTITUTE(SUBSTITUTE(SUBSTITUTE(INDIRECT(\"Trello!\"&ADDRESS(ROW()-1, G$1, 4)),\"Debt: \",\"\"),\" $\",\"\"),\".\",\"\")*1)*IF(E175=\"\",1,F$2),\"\")","v":""},{"$f":"IFERROR(IF($A175=\"\",\"\",SUBSTITUTE(SUBSTITUTE(SUBSTITUTE(INDIRECT(\"Trello!\"&ADDRESS(ROW()-1, H$1, 4)),\"Cost: \",\"\"),\" $\",\"\"),\".\",\"\")*1*$F$2),\"\")","v":""},2187.5,{"$f":"IFERROR(SUBSTITUTE(SUBSTITUTE(SUBSTITUTE(RIGHT(INDIRECT(\"Trello!\"&ADDRESS(ROW()-1, L$1, 4)),LEN(INDIRECT(\"Trello!\"&ADDRESS(ROW()-1, L$1, 4)))-15),\". \",\"/\"),\" 20\",\"/20\"),\" \",\"\"),\"\")","v":""},{"$f":"IFERROR(SUBSTITUTE(SUBSTITUTE(SUBSTITUTE(RIGHT(INDIRECT(\"Trello!\"&ADDRESS(ROW()-1, M$1, 4)),LEN(INDIRECT(\"Trello!\"&ADDRESS(ROW()-1, M$1, 4)))-15),\". \",\"/\"),\" 20\",\"/20\"),\" \",\"\"),\"\")","v":""},"","","",{"$f":"IFERROR(SUBSTITUTE(INDIRECT(\"Trello!\"&ADDRESS(ROW()-1, O$1, 4)),\"Estimate hrs: \",\"\")*1,\"\")","v":""},{"$f":"IF(SUMIF(Timecamp!C:C,Reporte!A175,Timecamp!J:J)=0,\"\",SUMIF(Timecamp!C:C,Reporte!A175,Timecamp!J:J))","v":""},"","",{"$f":"IFERROR(VLOOKUP(A175,'SLA Trab'!E:I,5,FALSE),\"\")","v":""},{"$f":"IFERROR(VLOOKUP(A175,'SLA Cobr'!E:I,5,FALSE),\"\")","v":""}]
[{"$f":"IFERROR(IF(Trello!E175=\"\",\"\",Trello!E175),\" \")","v":"Caba - ERP Casanova rent copia edimex"},{"$f":"IF($A176=\"\",\"\",IF(Trello!A175=\"\",B175,Trello!A175))","v":"Cotizado"},"2022-12-09",{"$f":"IF($A176=\"\",\"\",SUBSTITUTE(SUBSTITUTE(Trello!J175,\" days\",\"\"),\"⌚ \",\"\")*1)","v":278},{"$f":"IFERROR(IF($A176=\"\",\"\",SUBSTITUTE(SUBSTITUTE(SUBSTITUTE(INDIRECT(\"Trello!\"&ADDRESS(ROW()-1, E$1, 4)),\"Foreign: \",\"\"),\" $\",\"\"),\".\",\"\")*1),\"\")","v":""},{"$f":"IF($E176=\"\",IFERROR(IF($A176=\"\",\"\",SUBSTITUTE(SUBSTITUTE(SUBSTITUTE(INDIRECT(\"Trello!\"&ADDRESS(ROW()-1, F$1, 4)),\"MXN: \",\"\"),\" MX$\",\"\"),\".\",\"\")*1),\"\"),E176*F$2)","v":10000},{"$f":"IFERROR(IF($A176=\"\",\"\",SUBSTITUTE(SUBSTITUTE(SUBSTITUTE(INDIRECT(\"Trello!\"&ADDRESS(ROW()-1, G$1, 4)),\"Debt: \",\"\"),\" $\",\"\"),\".\",\"\")*1)*IF(E176=\"\",1,F$2),\"\")","v":""},{"$f":"IFERROR(IF($A176=\"\",\"\",SUBSTITUTE(SUBSTITUTE(SUBSTITUTE(INDIRECT(\"Trello!\"&ADDRESS(ROW()-1, H$1, 4)),\"Cost: \",\"\"),\" $\",\"\"),\".\",\"\")*1*$F$2),\"\")","v":""},10000,{"$f":"IFERROR(SUBSTITUTE(SUBSTITUTE(SUBSTITUTE(RIGHT(INDIRECT(\"Trello!\"&ADDRESS(ROW()-1, L$1, 4)),LEN(INDIRECT(\"Trello!\"&ADDRESS(ROW()-1, L$1, 4)))-15),\". \",\"/\"),\" 20\",\"/20\"),\" \",\"\"),\"\")","v":""},{"$f":"IFERROR(SUBSTITUTE(SUBSTITUTE(SUBSTITUTE(RIGHT(INDIRECT(\"Trello!\"&ADDRESS(ROW()-1, M$1, 4)),LEN(INDIRECT(\"Trello!\"&ADDRESS(ROW()-1, M$1, 4)))-15),\". \",\"/\"),\" 20\",\"/20\"),\" \",\"\"),\"\")","v":""},"","","",{"$f":"IFERROR(SUBSTITUTE(INDIRECT(\"Trello!\"&ADDRESS(ROW()-1, O$1, 4)),\"Estimate hrs: \",\"\")*1,\"\")","v":""},{"$f":"IF(SUMIF(Timecamp!C:C,Reporte!A176,Timecamp!J:J)=0,\"\",SUMIF(Timecamp!C:C,Reporte!A176,Timecamp!J:J))","v":""},"","",{"$f":"IFERROR(VLOOKUP(A176,'SLA Trab'!E:I,5,FALSE),\"\")","v":""},{"$f":"IFERROR(VLOOKUP(A176,'SLA Cobr'!E:I,5,FALSE),\"\")","v":""}]
[{"$f":"IFERROR(IF(Trello!E176=\"\",\"\",Trello!E176),\" \")","v":"Fidel Samantha - E-learning Cursos Financieros"},{"$f":"IF($A177=\"\",\"\",IF(Trello!A176=\"\",B176,Trello!A176))","v":"Cotizado"},"2023-01-06",{"$f":"IF($A177=\"\",\"\",SUBSTITUTE(SUBSTITUTE(Trello!J176,\" days\",\"\"),\"⌚ \",\"\")*1)","v":250},{"$f":"IFERROR(IF($A177=\"\",\"\",SUBSTITUTE(SUBSTITUTE(SUBSTITUTE(INDIRECT(\"Trello!\"&ADDRESS(ROW()-1, E$1, 4)),\"Foreign: \",\"\"),\" $\",\"\"),\".\",\"\")*1),\"\")","v":900},{"$f":"IF($E177=\"\",IFERROR(IF($A177=\"\",\"\",SUBSTITUTE(SUBSTITUTE(SUBSTITUTE(INDIRECT(\"Trello!\"&ADDRESS(ROW()-1, F$1, 4)),\"MXN: \",\"\"),\" MX$\",\"\"),\".\",\"\")*1),\"\"),E177*F$2)","v":15750},{"$f":"IFERROR(IF($A177=\"\",\"\",SUBSTITUTE(SUBSTITUTE(SUBSTITUTE(INDIRECT(\"Trello!\"&ADDRESS(ROW()-1, G$1, 4)),\"Debt: \",\"\"),\" $\",\"\"),\".\",\"\")*1)*IF(E177=\"\",1,F$2),\"\")","v":""},{"$f":"IFERROR(IF($A177=\"\",\"\",SUBSTITUTE(SUBSTITUTE(SUBSTITUTE(INDIRECT(\"Trello!\"&ADDRESS(ROW()-1, H$1, 4)),\"Cost: \",\"\"),\" $\",\"\"),\".\",\"\")*1*$F$2),\"\")","v":""},15750,{"$f":"IFERROR(SUBSTITUTE(SUBSTITUTE(SUBSTITUTE(RIGHT(INDIRECT(\"Trello!\"&ADDRESS(ROW()-1, L$1, 4)),LEN(INDIRECT(\"Trello!\"&ADDRESS(ROW()-1, L$1, 4)))-15),\". \",\"/\"),\" 20\",\"/20\"),\" \",\"\"),\"\")","v":""},{"$f":"IFERROR(SUBSTITUTE(SUBSTITUTE(SUBSTITUTE(RIGHT(INDIRECT(\"Trello!\"&ADDRESS(ROW()-1, M$1, 4)),LEN(INDIRECT(\"Trello!\"&ADDRESS(ROW()-1, M$1, 4)))-15),\". \",\"/\"),\" 20\",\"/20\"),\" \",\"\"),\"\")","v":""},"","","",{"$f":"IFERROR(SUBSTITUTE(INDIRECT(\"Trello!\"&ADDRESS(ROW()-1, O$1, 4)),\"Estimate hrs: \",\"\")*1,\"\")","v":""},{"$f":"IF(SUMIF(Timecamp!C:C,Reporte!A177,Timecamp!J:J)=0,\"\",SUMIF(Timecamp!C:C,Reporte!A177,Timecamp!J:J))","v":""},"","",{"$f":"IFERROR(VLOOKUP(A177,'SLA Trab'!E:I,5,FALSE),\"\")","v":""},{"$f":"IFERROR(VLOOKUP(A177,'SLA Cobr'!E:I,5,FALSE),\"\")","v":""}]
[{"$f":"IFERROR(IF(Trello!E177=\"\",\"\",Trello!E177),\" \")","v":"Gustavo Freelancer - Viajes act. posts/productos"},{"$f":"IF($A178=\"\",\"\",IF(Trello!A177=\"\",B177,Trello!A177))","v":"Cotizado"},"2023-01-06",{"$f":"IF($A178=\"\",\"\",SUBSTITUTE(SUBSTITUTE(Trello!J177,\" days\",\"\"),\"⌚ \",\"\")*1)","v":250},{"$f":"IFERROR(IF($A178=\"\",\"\",SUBSTITUTE(SUBSTITUTE(SUBSTITUTE(INDIRECT(\"Trello!\"&ADDRESS(ROW()-1, E$1, 4)),\"Foreign: \",\"\"),\" $\",\"\"),\".\",\"\")*1),\"\")","v":""},{"$f":"IF($E178=\"\",IFERROR(IF($A178=\"\",\"\",SUBSTITUTE(SUBSTITUTE(SUBSTITUTE(INDIRECT(\"Trello!\"&ADDRESS(ROW()-1, F$1, 4)),\"MXN: \",\"\"),\" MX$\",\"\"),\".\",\"\")*1),\"\"),E178*F$2)","v":3000},{"$f":"IFERROR(IF($A178=\"\",\"\",SUBSTITUTE(SUBSTITUTE(SUBSTITUTE(INDIRECT(\"Trello!\"&ADDRESS(ROW()-1, G$1, 4)),\"Debt: \",\"\"),\" $\",\"\"),\".\",\"\")*1)*IF(E178=\"\",1,F$2),\"\")","v":""},{"$f":"IFERROR(IF($A178=\"\",\"\",SUBSTITUTE(SUBSTITUTE(SUBSTITUTE(INDIRECT(\"Trello!\"&ADDRESS(ROW()-1, H$1, 4)),\"Cost: \",\"\"),\" $\",\"\"),\".\",\"\")*1*$F$2),\"\")","v":""},3000,{"$f":"IFERROR(SUBSTITUTE(SUBSTITUTE(SUBSTITUTE(RIGHT(INDIRECT(\"Trello!\"&ADDRESS(ROW()-1, L$1, 4)),LEN(INDIRECT(\"Trello!\"&ADDRESS(ROW()-1, L$1, 4)))-15),\". \",\"/\"),\" 20\",\"/20\"),\" \",\"\"),\"\")","v":""},{"$f":"IFERROR(SUBSTITUTE(SUBSTITUTE(SUBSTITUTE(RIGHT(INDIRECT(\"Trello!\"&ADDRESS(ROW()-1, M$1, 4)),LEN(INDIRECT(\"Trello!\"&ADDRESS(ROW()-1, M$1, 4)))-15),\". \",\"/\"),\" 20\",\"/20\"),\" \",\"\"),\"\")","v":""},"","","",{"$f":"IFERROR(SUBSTITUTE(INDIRECT(\"Trello!\"&ADDRESS(ROW()-1, O$1, 4)),\"Estimate hrs: \",\"\")*1,\"\")","v":""},{"$f":"IF(SUMIF(Timecamp!C:C,Reporte!A178,Timecamp!J:J)=0,\"\",SUMIF(Timecamp!C:C,Reporte!A178,Timecamp!J:J))","v":""},"","",{"$f":"IFERROR(VLOOKUP(A178,'SLA Trab'!E:I,5,FALSE),\"\")","v":""},{"$f":"IFERROR(VLOOKUP(A178,'SLA Cobr'!E:I,5,FALSE),\"\")","v":""}]
[{"$f":"IFERROR(IF(Trello!E178=\"\",\"\",Trello!E178),\" \")","v":"Faby - Racelab Reservas Tailored"},{"$f":"IF($A179=\"\",\"\",IF(Trello!A178=\"\",B178,Trello!A178))","v":"Cotizado"},"2023-01-04",{"$f":"IF($A179=\"\",\"\",SUBSTITUTE(SUBSTITUTE(Trello!J178,\" days\",\"\"),\"⌚ \",\"\")*1)","v":252},{"$f":"IFERROR(IF($A179=\"\",\"\",SUBSTITUTE(SUBSTITUTE(SUBSTITUTE(INDIRECT(\"Trello!\"&ADDRESS(ROW()-1, E$1, 4)),\"Foreign: \",\"\"),\" $\",\"\"),\".\",\"\")*1),\"\")","v":350},{"$f":"IF($E179=\"\",IFERROR(IF($A179=\"\",\"\",SUBSTITUTE(SUBSTITUTE(SUBSTITUTE(INDIRECT(\"Trello!\"&ADDRESS(ROW()-1, F$1, 4)),\"MXN: \",\"\"),\" MX$\",\"\"),\".\",\"\")*1),\"\"),E179*F$2)","v":6125},{"$f":"IFERROR(IF($A179=\"\",\"\",SUBSTITUTE(SUBSTITUTE(SUBSTITUTE(INDIRECT(\"Trello!\"&ADDRESS(ROW()-1, G$1, 4)),\"Debt: \",\"\"),\" $\",\"\"),\".\",\"\")*1)*IF(E179=\"\",1,F$2),\"\")","v":""},{"$f":"IFERROR(IF($A179=\"\",\"\",SUBSTITUTE(SUBSTITUTE(SUBSTITUTE(INDIRECT(\"Trello!\"&ADDRESS(ROW()-1, H$1, 4)),\"Cost: \",\"\"),\" $\",\"\"),\".\",\"\")*1*$F$2),\"\")","v":""},6125,{"$f":"IFERROR(SUBSTITUTE(SUBSTITUTE(SUBSTITUTE(RIGHT(INDIRECT(\"Trello!\"&ADDRESS(ROW()-1, L$1, 4)),LEN(INDIRECT(\"Trello!\"&ADDRESS(ROW()-1, L$1, 4)))-15),\". \",\"/\"),\" 20\",\"/20\"),\" \",\"\"),\"\")","v":""},{"$f":"IFERROR(SUBSTITUTE(SUBSTITUTE(SUBSTITUTE(RIGHT(INDIRECT(\"Trello!\"&ADDRESS(ROW()-1, M$1, 4)),LEN(INDIRECT(\"Trello!\"&ADDRESS(ROW()-1, M$1, 4)))-15),\". \",\"/\"),\" 20\",\"/20\"),\" \",\"\"),\"\")","v":""},"","","",{"$f":"IFERROR(SUBSTITUTE(INDIRECT(\"Trello!\"&ADDRESS(ROW()-1, O$1, 4)),\"Estimate hrs: \",\"\")*1,\"\")","v":""},{"$f":"IF(SUMIF(Timecamp!C:C,Reporte!A179,Timecamp!J:J)=0,\"\",SUMIF(Timecamp!C:C,Reporte!A179,Timecamp!J:J))","v":""},"","",{"$f":"IFERROR(VLOOKUP(A179,'SLA Trab'!E:I,5,FALSE),\"\")","v":""},{"$f":"IFERROR(VLOOKUP(A179,'SLA Cobr'!E:I,5,FALSE),\"\")","v":""}]
[{"$f":"IFERROR(IF(Trello!E179=\"\",\"\",Trello!E179),\" \")","v":"Diana Inlat - Farmacia"},{"$f":"IF($A180=\"\",\"\",IF(Trello!A179=\"\",B179,Trello!A179))","v":"Cotizado"},"2023-01-06",{"$f":"IF($A180=\"\",\"\",SUBSTITUTE(SUBSTITUTE(Trello!J179,\" days\",\"\"),\"⌚ \",\"\")*1)","v":250},{"$f":"IFERROR(IF($A180=\"\",\"\",SUBSTITUTE(SUBSTITUTE(SUBSTITUTE(INDIRECT(\"Trello!\"&ADDRESS(ROW()-1, E$1, 4)),\"Foreign: \",\"\"),\" $\",\"\"),\".\",\"\")*1),\"\")","v":1220},{"$f":"IF($E180=\"\",IFERROR(IF($A180=\"\",\"\",SUBSTITUTE(SUBSTITUTE(SUBSTITUTE(INDIRECT(\"Trello!\"&ADDRESS(ROW()-1, F$1, 4)),\"MXN: \",\"\"),\" MX$\",\"\"),\".\",\"\")*1),\"\"),E180*F$2)","v":21350},{"$f":"IFERROR(IF($A180=\"\",\"\",SUBSTITUTE(SUBSTITUTE(SUBSTITUTE(INDIRECT(\"Trello!\"&ADDRESS(ROW()-1, G$1, 4)),\"Debt: \",\"\"),\" $\",\"\"),\".\",\"\")*1)*IF(E180=\"\",1,F$2),\"\")","v":""},{"$f":"IFERROR(IF($A180=\"\",\"\",SUBSTITUTE(SUBSTITUTE(SUBSTITUTE(INDIRECT(\"Trello!\"&ADDRESS(ROW()-1, H$1, 4)),\"Cost: \",\"\"),\" $\",\"\"),\".\",\"\")*1*$F$2),\"\")","v":""},21350,{"$f":"IFERROR(SUBSTITUTE(SUBSTITUTE(SUBSTITUTE(RIGHT(INDIRECT(\"Trello!\"&ADDRESS(ROW()-1, L$1, 4)),LEN(INDIRECT(\"Trello!\"&ADDRESS(ROW()-1, L$1, 4)))-15),\". \",\"/\"),\" 20\",\"/20\"),\" \",\"\"),\"\")","v":""},{"$f":"IFERROR(SUBSTITUTE(SUBSTITUTE(SUBSTITUTE(RIGHT(INDIRECT(\"Trello!\"&ADDRESS(ROW()-1, M$1, 4)),LEN(INDIRECT(\"Trello!\"&ADDRESS(ROW()-1, M$1, 4)))-15),\". \",\"/\"),\" 20\",\"/20\"),\" \",\"\"),\"\")","v":""},"","","",{"$f":"IFERROR(SUBSTITUTE(INDIRECT(\"Trello!\"&ADDRESS(ROW()-1, O$1, 4)),\"Estimate hrs: \",\"\")*1,\"\")","v":""},{"$f":"IF(SUMIF(Timecamp!C:C,Reporte!A180,Timecamp!J:J)=0,\"\",SUMIF(Timecamp!C:C,Reporte!A180,Timecamp!J:J))","v":""},"","",{"$f":"IFERROR(VLOOKUP(A180,'SLA Trab'!E:I,5,FALSE),\"\")","v":""},{"$f":"IFERROR(VLOOKUP(A180,'SLA Cobr'!E:I,5,FALSE),\"\")","v":""}]
[{"$f":"IFERROR(IF(Trello!E180=\"\",\"\",Trello!E180),\" \")","v":"Miguel Bullkens - Bot 2Fa"},{"$f":"IF($A181=\"\",\"\",IF(Trello!A180=\"\",B180,Trello!A180))","v":"Cotizado"},"2022-12-07",{"$f":"IF($A181=\"\",\"\",SUBSTITUTE(SUBSTITUTE(Trello!J180,\" days\",\"\"),\"⌚ \",\"\")*1)","v":280},{"$f":"IFERROR(IF($A181=\"\",\"\",SUBSTITUTE(SUBSTITUTE(SUBSTITUTE(INDIRECT(\"Trello!\"&ADDRESS(ROW()-1, E$1, 4)),\"Foreign: \",\"\"),\" $\",\"\"),\".\",\"\")*1),\"\")","v":250},{"$f":"IF($E181=\"\",IFERROR(IF($A181=\"\",\"\",SUBSTITUTE(SUBSTITUTE(SUBSTITUTE(INDIRECT(\"Trello!\"&ADDRESS(ROW()-1, F$1, 4)),\"MXN: \",\"\"),\" MX$\",\"\"),\".\",\"\")*1),\"\"),E181*F$2)","v":4375},{"$f":"IFERROR(IF($A181=\"\",\"\",SUBSTITUTE(SUBSTITUTE(SUBSTITUTE(INDIRECT(\"Trello!\"&ADDRESS(ROW()-1, G$1, 4)),\"Debt: \",\"\"),\" $\",\"\"),\".\",\"\")*1)*IF(E181=\"\",1,F$2),\"\")","v":""},{"$f":"IFERROR(IF($A181=\"\",\"\",SUBSTITUTE(SUBSTITUTE(SUBSTITUTE(INDIRECT(\"Trello!\"&ADDRESS(ROW()-1, H$1, 4)),\"Cost: \",\"\"),\" $\",\"\"),\".\",\"\")*1*$F$2),\"\")","v":""},4375,{"$f":"IFERROR(SUBSTITUTE(SUBSTITUTE(SUBSTITUTE(RIGHT(INDIRECT(\"Trello!\"&ADDRESS(ROW()-1, L$1, 4)),LEN(INDIRECT(\"Trello!\"&ADDRESS(ROW()-1, L$1, 4)))-15),\". \",\"/\"),\" 20\",\"/20\"),\" \",\"\"),\"\")","v":""},{"$f":"IFERROR(SUBSTITUTE(SUBSTITUTE(SUBSTITUTE(RIGHT(INDIRECT(\"Trello!\"&ADDRESS(ROW()-1, M$1, 4)),LEN(INDIRECT(\"Trello!\"&ADDRESS(ROW()-1, M$1, 4)))-15),\". \",\"/\"),\" 20\",\"/20\"),\" \",\"\"),\"\")","v":""},"","","",{"$f":"IFERROR(SUBSTITUTE(INDIRECT(\"Trello!\"&ADDRESS(ROW()-1, O$1, 4)),\"Estimate hrs: \",\"\")*1,\"\")","v":""},{"$f":"IF(SUMIF(Timecamp!C:C,Reporte!A181,Timecamp!J:J)=0,\"\",SUMIF(Timecamp!C:C,Reporte!A181,Timecamp!J:J))","v":""},"","",{"$f":"IFERROR(VLOOKUP(A181,'SLA Trab'!E:I,5,FALSE),\"\")","v":""},{"$f":"IFERROR(VLOOKUP(A181,'SLA Cobr'!E:I,5,FALSE),\"\")","v":""}]
[{"$f":"IFERROR(IF(Trello!E181=\"\",\"\",Trello!E181),\" \")","v":"Rodrigo Techservices - Hotel Casa Ballena"},{"$f":"IF($A182=\"\",\"\",IF(Trello!A181=\"\",B181,Trello!A181))","v":"Cotizado"},"2022-11-29",{"$f":"IF($A182=\"\",\"\",SUBSTITUTE(SUBSTITUTE(Trello!J181,\" days\",\"\"),\"⌚ \",\"\")*1)","v":288},{"$f":"IFERROR(IF($A182=\"\",\"\",SUBSTITUTE(SUBSTITUTE(SUBSTITUTE(INDIRECT(\"Trello!\"&ADDRESS(ROW()-1, E$1, 4)),\"Foreign: \",\"\"),\" $\",\"\"),\".\",\"\")*1),\"\")","v":""},{"$f":"IF($E182=\"\",IFERROR(IF($A182=\"\",\"\",SUBSTITUTE(SUBSTITUTE(SUBSTITUTE(INDIRECT(\"Trello!\"&ADDRESS(ROW()-1, F$1, 4)),\"MXN: \",\"\"),\" MX$\",\"\"),\".\",\"\")*1),\"\"),E182*F$2)","v":18000},{"$f":"IFERROR(IF($A182=\"\",\"\",SUBSTITUTE(SUBSTITUTE(SUBSTITUTE(INDIRECT(\"Trello!\"&ADDRESS(ROW()-1, G$1, 4)),\"Debt: \",\"\"),\" $\",\"\"),\".\",\"\")*1)*IF(E182=\"\",1,F$2),\"\")","v":""},{"$f":"IFERROR(IF($A182=\"\",\"\",SUBSTITUTE(SUBSTITUTE(SUBSTITUTE(INDIRECT(\"Trello!\"&ADDRESS(ROW()-1, H$1, 4)),\"Cost: \",\"\"),\" $\",\"\"),\".\",\"\")*1*$F$2),\"\")","v":""},18000,{"$f":"IFERROR(SUBSTITUTE(SUBSTITUTE(SUBSTITUTE(RIGHT(INDIRECT(\"Trello!\"&ADDRESS(ROW()-1, L$1, 4)),LEN(INDIRECT(\"Trello!\"&ADDRESS(ROW()-1, L$1, 4)))-15),\". \",\"/\"),\" 20\",\"/20\"),\" \",\"\"),\"\")","v":""},{"$f":"IFERROR(SUBSTITUTE(SUBSTITUTE(SUBSTITUTE(RIGHT(INDIRECT(\"Trello!\"&ADDRESS(ROW()-1, M$1, 4)),LEN(INDIRECT(\"Trello!\"&ADDRESS(ROW()-1, M$1, 4)))-15),\". \",\"/\"),\" 20\",\"/20\"),\" \",\"\"),\"\")","v":""},"","","",{"$f":"IFERROR(SUBSTITUTE(INDIRECT(\"Trello!\"&ADDRESS(ROW()-1, O$1, 4)),\"Estimate hrs: \",\"\")*1,\"\")","v":""},{"$f":"IF(SUMIF(Timecamp!C:C,Reporte!A182,Timecamp!J:J)=0,\"\",SUMIF(Timecamp!C:C,Reporte!A182,Timecamp!J:J))","v":""},"","",{"$f":"IFERROR(VLOOKUP(A182,'SLA Trab'!E:I,5,FALSE),\"\")","v":""},{"$f":"IFERROR(VLOOKUP(A182,'SLA Cobr'!E:I,5,FALSE),\"\")","v":""}]
[{"$f":"IFERROR(IF(Trello!E182=\"\",\"\",Trello!E182),\" \")","v":"Rodrigo Techservices - Inmuebles"},{"$f":"IF($A183=\"\",\"\",IF(Trello!A182=\"\",B182,Trello!A182))","v":"Cotizado"},"2022-11-29",{"$f":"IF($A183=\"\",\"\",SUBSTITUTE(SUBSTITUTE(Trello!J182,\" days\",\"\"),\"⌚ \",\"\")*1)","v":288},{"$f":"IFERROR(IF($A183=\"\",\"\",SUBSTITUTE(SUBSTITUTE(SUBSTITUTE(INDIRECT(\"Trello!\"&ADDRESS(ROW()-1, E$1, 4)),\"Foreign: \",\"\"),\" $\",\"\"),\".\",\"\")*1),\"\")","v":""},{"$f":"IF($E183=\"\",IFERROR(IF($A183=\"\",\"\",SUBSTITUTE(SUBSTITUTE(SUBSTITUTE(INDIRECT(\"Trello!\"&ADDRESS(ROW()-1, F$1, 4)),\"MXN: \",\"\"),\" MX$\",\"\"),\".\",\"\")*1),\"\"),E183*F$2)","v":22000},{"$f":"IFERROR(IF($A183=\"\",\"\",SUBSTITUTE(SUBSTITUTE(SUBSTITUTE(INDIRECT(\"Trello!\"&ADDRESS(ROW()-1, G$1, 4)),\"Debt: \",\"\"),\" $\",\"\"),\".\",\"\")*1)*IF(E183=\"\",1,F$2),\"\")","v":""},{"$f":"IFERROR(IF($A183=\"\",\"\",SUBSTITUTE(SUBSTITUTE(SUBSTITUTE(INDIRECT(\"Trello!\"&ADDRESS(ROW()-1, H$1, 4)),\"Cost: \",\"\"),\" $\",\"\"),\".\",\"\")*1*$F$2),\"\")","v":""},22000,{"$f":"IFERROR(SUBSTITUTE(SUBSTITUTE(SUBSTITUTE(RIGHT(INDIRECT(\"Trello!\"&ADDRESS(ROW()-1, L$1, 4)),LEN(INDIRECT(\"Trello!\"&ADDRESS(ROW()-1, L$1, 4)))-15),\". \",\"/\"),\" 20\",\"/20\"),\" \",\"\"),\"\")","v":""},{"$f":"IFERROR(SUBSTITUTE(SUBSTITUTE(SUBSTITUTE(RIGHT(INDIRECT(\"Trello!\"&ADDRESS(ROW()-1, M$1, 4)),LEN(INDIRECT(\"Trello!\"&ADDRESS(ROW()-1, M$1, 4)))-15),\". \",\"/\"),\" 20\",\"/20\"),\" \",\"\"),\"\")","v":""},"","","",{"$f":"IFERROR(SUBSTITUTE(INDIRECT(\"Trello!\"&ADDRESS(ROW()-1, O$1, 4)),\"Estimate hrs: \",\"\")*1,\"\")","v":""},{"$f":"IF(SUMIF(Timecamp!C:C,Reporte!A183,Timecamp!J:J)=0,\"\",SUMIF(Timecamp!C:C,Reporte!A183,Timecamp!J:J))","v":""},"","",{"$f":"IFERROR(VLOOKUP(A183,'SLA Trab'!E:I,5,FALSE),\"\")","v":""},{"$f":"IFERROR(VLOOKUP(A183,'SLA Cobr'!E:I,5,FALSE),\"\")","v":""}]
[{"$f":"IFERROR(IF(Trello!E183=\"\",\"\",Trello!E183),\" \")","v":"Sam Freelancer - Horse Ranch"},{"$f":"IF($A184=\"\",\"\",IF(Trello!A183=\"\",B183,Trello!A183))","v":"Cotizado"},"2022-10-27",{"$f":"IF($A184=\"\",\"\",SUBSTITUTE(SUBSTITUTE(Trello!J183,\" days\",\"\"),\"⌚ \",\"\")*1)","v":321},{"$f":"IFERROR(IF($A184=\"\",\"\",SUBSTITUTE(SUBSTITUTE(SUBSTITUTE(INDIRECT(\"Trello!\"&ADDRESS(ROW()-1, E$1, 4)),\"Foreign: \",\"\"),\" $\",\"\"),\".\",\"\")*1),\"\")","v":1300},{"$f":"IF($E184=\"\",IFERROR(IF($A184=\"\",\"\",SUBSTITUTE(SUBSTITUTE(SUBSTITUTE(INDIRECT(\"Trello!\"&ADDRESS(ROW()-1, F$1, 4)),\"MXN: \",\"\"),\" MX$\",\"\"),\".\",\"\")*1),\"\"),E184*F$2)","v":22750},{"$f":"IFERROR(IF($A184=\"\",\"\",SUBSTITUTE(SUBSTITUTE(SUBSTITUTE(INDIRECT(\"Trello!\"&ADDRESS(ROW()-1, G$1, 4)),\"Debt: \",\"\"),\" $\",\"\"),\".\",\"\")*1)*IF(E184=\"\",1,F$2),\"\")","v":""},{"$f":"IFERROR(IF($A184=\"\",\"\",SUBSTITUTE(SUBSTITUTE(SUBSTITUTE(INDIRECT(\"Trello!\"&ADDRESS(ROW()-1, H$1, 4)),\"Cost: \",\"\"),\" $\",\"\"),\".\",\"\")*1*$F$2),\"\")","v":""},22750,{"$f":"IFERROR(SUBSTITUTE(SUBSTITUTE(SUBSTITUTE(RIGHT(INDIRECT(\"Trello!\"&ADDRESS(ROW()-1, L$1, 4)),LEN(INDIRECT(\"Trello!\"&ADDRESS(ROW()-1, L$1, 4)))-15),\". \",\"/\"),\" 20\",\"/20\"),\" \",\"\"),\"\")","v":""},{"$f":"IFERROR(SUBSTITUTE(SUBSTITUTE(SUBSTITUTE(RIGHT(INDIRECT(\"Trello!\"&ADDRESS(ROW()-1, M$1, 4)),LEN(INDIRECT(\"Trello!\"&ADDRESS(ROW()-1, M$1, 4)))-15),\". \",\"/\"),\" 20\",\"/20\"),\" \",\"\"),\"\")","v":""},"","","",{"$f":"IFERROR(SUBSTITUTE(INDIRECT(\"Trello!\"&ADDRESS(ROW()-1, O$1, 4)),\"Estimate hrs: \",\"\")*1,\"\")","v":""},{"$f":"IF(SUMIF(Timecamp!C:C,Reporte!A184,Timecamp!J:J)=0,\"\",SUMIF(Timecamp!C:C,Reporte!A184,Timecamp!J:J))","v":""},"","",{"$f":"IFERROR(VLOOKUP(A184,'SLA Trab'!E:I,5,FALSE),\"\")","v":""},{"$f":"IFERROR(VLOOKUP(A184,'SLA Cobr'!E:I,5,FALSE),\"\")","v":""}]
[{"$f":"IFERROR(IF(Trello!E184=\"\",\"\",Trello!E184),\" \")","v":"JoshNBA - Bet scrapper"},{"$f":"IF($A185=\"\",\"\",IF(Trello!A184=\"\",B184,Trello!A184))","v":"Cotizado"},"2022-09-09",{"$f":"IF($A185=\"\",\"\",SUBSTITUTE(SUBSTITUTE(Trello!J184,\" days\",\"\"),\"⌚ \",\"\")*1)","v":369},{"$f":"IFERROR(IF($A185=\"\",\"\",SUBSTITUTE(SUBSTITUTE(SUBSTITUTE(INDIRECT(\"Trello!\"&ADDRESS(ROW()-1, E$1, 4)),\"Foreign: \",\"\"),\" $\",\"\"),\".\",\"\")*1),\"\")","v":1450},{"$f":"IF($E185=\"\",IFERROR(IF($A185=\"\",\"\",SUBSTITUTE(SUBSTITUTE(SUBSTITUTE(INDIRECT(\"Trello!\"&ADDRESS(ROW()-1, F$1, 4)),\"MXN: \",\"\"),\" MX$\",\"\"),\".\",\"\")*1),\"\"),E185*F$2)","v":25375},{"$f":"IFERROR(IF($A185=\"\",\"\",SUBSTITUTE(SUBSTITUTE(SUBSTITUTE(INDIRECT(\"Trello!\"&ADDRESS(ROW()-1, G$1, 4)),\"Debt: \",\"\"),\" $\",\"\"),\".\",\"\")*1)*IF(E185=\"\",1,F$2),\"\")","v":""},{"$f":"IFERROR(IF($A185=\"\",\"\",SUBSTITUTE(SUBSTITUTE(SUBSTITUTE(INDIRECT(\"Trello!\"&ADDRESS(ROW()-1, H$1, 4)),\"Cost: \",\"\"),\" $\",\"\"),\".\",\"\")*1*$F$2),\"\")","v":""},25375,{"$f":"IFERROR(SUBSTITUTE(SUBSTITUTE(SUBSTITUTE(RIGHT(INDIRECT(\"Trello!\"&ADDRESS(ROW()-1, L$1, 4)),LEN(INDIRECT(\"Trello!\"&ADDRESS(ROW()-1, L$1, 4)))-15),\". \",\"/\"),\" 20\",\"/20\"),\" \",\"\"),\"\")","v":""},{"$f":"IFERROR(SUBSTITUTE(SUBSTITUTE(SUBSTITUTE(RIGHT(INDIRECT(\"Trello!\"&ADDRESS(ROW()-1, M$1, 4)),LEN(INDIRECT(\"Trello!\"&ADDRESS(ROW()-1, M$1, 4)))-15),\". \",\"/\"),\" 20\",\"/20\"),\" \",\"\"),\"\")","v":""},"","","",{"$f":"IFERROR(SUBSTITUTE(INDIRECT(\"Trello!\"&ADDRESS(ROW()-1, O$1, 4)),\"Estimate hrs: \",\"\")*1,\"\")","v":""},{"$f":"IF(SUMIF(Timecamp!C:C,Reporte!A185,Timecamp!J:J)=0,\"\",SUMIF(Timecamp!C:C,Reporte!A185,Timecamp!J:J))","v":""},"","",{"$f":"IFERROR(VLOOKUP(A185,'SLA Trab'!E:I,5,FALSE),\"\")","v":""},{"$f":"IFERROR(VLOOKUP(A185,'SLA Cobr'!E:I,5,FALSE),\"\")","v":""}]
[{"$f":"IFERROR(IF(Trello!E185=\"\",\"\",Trello!E185),\" \")","v":"Madhu - Ammar Construction"},{"$f":"IF($A186=\"\",\"\",IF(Trello!A185=\"\",B185,Trello!A185))","v":"Cotizado"},"2022-10-20",{"$f":"IF($A186=\"\",\"\",SUBSTITUTE(SUBSTITUTE(Trello!J185,\" days\",\"\"),\"⌚ \",\"\")*1)","v":328},{"$f":"IFERROR(IF($A186=\"\",\"\",SUBSTITUTE(SUBSTITUTE(SUBSTITUTE(INDIRECT(\"Trello!\"&ADDRESS(ROW()-1, E$1, 4)),\"Foreign: \",\"\"),\" $\",\"\"),\".\",\"\")*1),\"\")","v":300},{"$f":"IF($E186=\"\",IFERROR(IF($A186=\"\",\"\",SUBSTITUTE(SUBSTITUTE(SUBSTITUTE(INDIRECT(\"Trello!\"&ADDRESS(ROW()-1, F$1, 4)),\"MXN: \",\"\"),\" MX$\",\"\"),\".\",\"\")*1),\"\"),E186*F$2)","v":5250},{"$f":"IFERROR(IF($A186=\"\",\"\",SUBSTITUTE(SUBSTITUTE(SUBSTITUTE(INDIRECT(\"Trello!\"&ADDRESS(ROW()-1, G$1, 4)),\"Debt: \",\"\"),\" $\",\"\"),\".\",\"\")*1)*IF(E186=\"\",1,F$2),\"\")","v":""},{"$f":"IFERROR(IF($A186=\"\",\"\",SUBSTITUTE(SUBSTITUTE(SUBSTITUTE(INDIRECT(\"Trello!\"&ADDRESS(ROW()-1, H$1, 4)),\"Cost: \",\"\"),\" $\",\"\"),\".\",\"\")*1*$F$2),\"\")","v":""},5250,{"$f":"IFERROR(SUBSTITUTE(SUBSTITUTE(SUBSTITUTE(RIGHT(INDIRECT(\"Trello!\"&ADDRESS(ROW()-1, L$1, 4)),LEN(INDIRECT(\"Trello!\"&ADDRESS(ROW()-1, L$1, 4)))-15),\". \",\"/\"),\" 20\",\"/20\"),\" \",\"\"),\"\")","v":""},{"$f":"IFERROR(SUBSTITUTE(SUBSTITUTE(SUBSTITUTE(RIGHT(INDIRECT(\"Trello!\"&ADDRESS(ROW()-1, M$1, 4)),LEN(INDIRECT(\"Trello!\"&ADDRESS(ROW()-1, M$1, 4)))-15),\". \",\"/\"),\" 20\",\"/20\"),\" \",\"\"),\"\")","v":""},"","","",{"$f":"IFERROR(SUBSTITUTE(INDIRECT(\"Trello!\"&ADDRESS(ROW()-1, O$1, 4)),\"Estimate hrs: \",\"\")*1,\"\")","v":""},{"$f":"IF(SUMIF(Timecamp!C:C,Reporte!A186,Timecamp!J:J)=0,\"\",SUMIF(Timecamp!C:C,Reporte!A186,Timecamp!J:J))","v":""},"","",{"$f":"IFERROR(VLOOKUP(A186,'SLA Trab'!E:I,5,FALSE),\"\")","v":""},{"$f":"IFERROR(VLOOKUP(A186,'SLA Cobr'!E:I,5,FALSE),\"\")","v":""}]
[{"$f":"IFERROR(IF(Trello!E186=\"\",\"\",Trello!E186),\" \")","v":"Jason Inlat - MPago Subscripcion"},{"$f":"IF($A187=\"\",\"\",IF(Trello!A186=\"\",B186,Trello!A186))","v":"Cotizado"},"2022-09-09",{"$f":"IF($A187=\"\",\"\",SUBSTITUTE(SUBSTITUTE(Trello!J186,\" days\",\"\"),\"⌚ \",\"\")*1)","v":369},{"$f":"IFERROR(IF($A187=\"\",\"\",SUBSTITUTE(SUBSTITUTE(SUBSTITUTE(INDIRECT(\"Trello!\"&ADDRESS(ROW()-1, E$1, 4)),\"Foreign: \",\"\"),\" $\",\"\"),\".\",\"\")*1),\"\")","v":""},{"$f":"IF($E187=\"\",IFERROR(IF($A187=\"\",\"\",SUBSTITUTE(SUBSTITUTE(SUBSTITUTE(INDIRECT(\"Trello!\"&ADDRESS(ROW()-1, F$1, 4)),\"MXN: \",\"\"),\" MX$\",\"\"),\".\",\"\")*1),\"\"),E187*F$2)","v":7000},{"$f":"IFERROR(IF($A187=\"\",\"\",SUBSTITUTE(SUBSTITUTE(SUBSTITUTE(INDIRECT(\"Trello!\"&ADDRESS(ROW()-1, G$1, 4)),\"Debt: \",\"\"),\" $\",\"\"),\".\",\"\")*1)*IF(E187=\"\",1,F$2),\"\")","v":""},{"$f":"IFERROR(IF($A187=\"\",\"\",SUBSTITUTE(SUBSTITUTE(SUBSTITUTE(INDIRECT(\"Trello!\"&ADDRESS(ROW()-1, H$1, 4)),\"Cost: \",\"\"),\" $\",\"\"),\".\",\"\")*1*$F$2),\"\")","v":""},7000,{"$f":"IFERROR(SUBSTITUTE(SUBSTITUTE(SUBSTITUTE(RIGHT(INDIRECT(\"Trello!\"&ADDRESS(ROW()-1, L$1, 4)),LEN(INDIRECT(\"Trello!\"&ADDRESS(ROW()-1, L$1, 4)))-15),\". \",\"/\"),\" 20\",\"/20\"),\" \",\"\"),\"\")","v":""},{"$f":"IFERROR(SUBSTITUTE(SUBSTITUTE(SUBSTITUTE(RIGHT(INDIRECT(\"Trello!\"&ADDRESS(ROW()-1, M$1, 4)),LEN(INDIRECT(\"Trello!\"&ADDRESS(ROW()-1, M$1, 4)))-15),\". \",\"/\"),\" 20\",\"/20\"),\" \",\"\"),\"\")","v":""},"","","",{"$f":"IFERROR(SUBSTITUTE(INDIRECT(\"Trello!\"&ADDRESS(ROW()-1, O$1, 4)),\"Estimate hrs: \",\"\")*1,\"\")","v":""},{"$f":"IF(SUMIF(Timecamp!C:C,Reporte!A187,Timecamp!J:J)=0,\"\",SUMIF(Timecamp!C:C,Reporte!A187,Timecamp!J:J))","v":""},"","",{"$f":"IFERROR(VLOOKUP(A187,'SLA Trab'!E:I,5,FALSE),\"\")","v":""},{"$f":"IFERROR(VLOOKUP(A187,'SLA Cobr'!E:I,5,FALSE),\"\")","v":""}]
[{"$f":"IFERROR(IF(Trello!E187=\"\",\"\",Trello!E187),\" \")","v":"varios - Disque pospone"},{"$f":"IF($A188=\"\",\"\",IF(Trello!A187=\"\",B187,Trello!A187))","v":"Cotizado"},"2022-10-10",{"$f":"IF($A188=\"\",\"\",SUBSTITUTE(SUBSTITUTE(Trello!J187,\" days\",\"\"),\"⌚ \",\"\")*1)","v":338},{"$f":"IFERROR(IF($A188=\"\",\"\",SUBSTITUTE(SUBSTITUTE(SUBSTITUTE(INDIRECT(\"Trello!\"&ADDRESS(ROW()-1, E$1, 4)),\"Foreign: \",\"\"),\" $\",\"\"),\".\",\"\")*1),\"\")","v":1200},{"$f":"IF($E188=\"\",IFERROR(IF($A188=\"\",\"\",SUBSTITUTE(SUBSTITUTE(SUBSTITUTE(INDIRECT(\"Trello!\"&ADDRESS(ROW()-1, F$1, 4)),\"MXN: \",\"\"),\" MX$\",\"\"),\".\",\"\")*1),\"\"),E188*F$2)","v":21000},{"$f":"IFERROR(IF($A188=\"\",\"\",SUBSTITUTE(SUBSTITUTE(SUBSTITUTE(INDIRECT(\"Trello!\"&ADDRESS(ROW()-1, G$1, 4)),\"Debt: \",\"\"),\" $\",\"\"),\".\",\"\")*1)*IF(E188=\"\",1,F$2),\"\")","v":20125},{"$f":"IFERROR(IF($A188=\"\",\"\",SUBSTITUTE(SUBSTITUTE(SUBSTITUTE(INDIRECT(\"Trello!\"&ADDRESS(ROW()-1, H$1, 4)),\"Cost: \",\"\"),\" $\",\"\"),\".\",\"\")*1*$F$2),\"\")","v":""},21000,{"$f":"IFERROR(SUBSTITUTE(SUBSTITUTE(SUBSTITUTE(RIGHT(INDIRECT(\"Trello!\"&ADDRESS(ROW()-1, L$1, 4)),LEN(INDIRECT(\"Trello!\"&ADDRESS(ROW()-1, L$1, 4)))-15),\". \",\"/\"),\" 20\",\"/20\"),\" \",\"\"),\"\")","v":"21/Okt/2022"},{"$f":"IFERROR(SUBSTITUTE(SUBSTITUTE(SUBSTITUTE(RIGHT(INDIRECT(\"Trello!\"&ADDRESS(ROW()-1, M$1, 4)),LEN(INDIRECT(\"Trello!\"&ADDRESS(ROW()-1, M$1, 4)))-15),\". \",\"/\"),\" 20\",\"/20\"),\" \",\"\"),\"\")","v":""},"2022-10-21","","",{"$f":"IFERROR(SUBSTITUTE(INDIRECT(\"Trello!\"&ADDRESS(ROW()-1, O$1, 4)),\"Estimate hrs: \",\"\")*1,\"\")","v":""},{"$f":"IF(SUMIF(Timecamp!C:C,Reporte!A188,Timecamp!J:J)=0,\"\",SUMIF(Timecamp!C:C,Reporte!A188,Timecamp!J:J))","v":""},"","",{"$f":"IFERROR(VLOOKUP(A188,'SLA Trab'!E:I,5,FALSE),\"\")","v":""},{"$f":"IFERROR(VLOOKUP(A188,'SLA Cobr'!E:I,5,FALSE),\"\")","v":""}]
[{"$f":"IFERROR(IF(Trello!E188=\"\",\"\",Trello!E188),\" \")","v":"Luis Axo - 100 hosting"},{"$f":"IF($A189=\"\",\"\",IF(Trello!A188=\"\",B188,Trello!A188))","v":"Cotizado"},"2022-09-13",{"$f":"IF($A189=\"\",\"\",SUBSTITUTE(SUBSTITUTE(Trello!J188,\" days\",\"\"),\"⌚ \",\"\")*1)","v":365},{"$f":"IFERROR(IF($A189=\"\",\"\",SUBSTITUTE(SUBSTITUTE(SUBSTITUTE(INDIRECT(\"Trello!\"&ADDRESS(ROW()-1, E$1, 4)),\"Foreign: \",\"\"),\" $\",\"\"),\".\",\"\")*1),\"\")","v":100},{"$f":"IF($E189=\"\",IFERROR(IF($A189=\"\",\"\",SUBSTITUTE(SUBSTITUTE(SUBSTITUTE(INDIRECT(\"Trello!\"&ADDRESS(ROW()-1, F$1, 4)),\"MXN: \",\"\"),\" MX$\",\"\"),\".\",\"\")*1),\"\"),E189*F$2)","v":1750},{"$f":"IFERROR(IF($A189=\"\",\"\",SUBSTITUTE(SUBSTITUTE(SUBSTITUTE(INDIRECT(\"Trello!\"&ADDRESS(ROW()-1, G$1, 4)),\"Debt: \",\"\"),\" $\",\"\"),\".\",\"\")*1)*IF(E189=\"\",1,F$2),\"\")","v":""},{"$f":"IFERROR(IF($A189=\"\",\"\",SUBSTITUTE(SUBSTITUTE(SUBSTITUTE(INDIRECT(\"Trello!\"&ADDRESS(ROW()-1, H$1, 4)),\"Cost: \",\"\"),\" $\",\"\"),\".\",\"\")*1*$F$2),\"\")","v":""},1750,{"$f":"IFERROR(SUBSTITUTE(SUBSTITUTE(SUBSTITUTE(RIGHT(INDIRECT(\"Trello!\"&ADDRESS(ROW()-1, L$1, 4)),LEN(INDIRECT(\"Trello!\"&ADDRESS(ROW()-1, L$1, 4)))-15),\". \",\"/\"),\" 20\",\"/20\"),\" \",\"\"),\"\")","v":""},{"$f":"IFERROR(SUBSTITUTE(SUBSTITUTE(SUBSTITUTE(RIGHT(INDIRECT(\"Trello!\"&ADDRESS(ROW()-1, M$1, 4)),LEN(INDIRECT(\"Trello!\"&ADDRESS(ROW()-1, M$1, 4)))-15),\". \",\"/\"),\" 20\",\"/20\"),\" \",\"\"),\"\")","v":""},"","","",{"$f":"IFERROR(SUBSTITUTE(INDIRECT(\"Trello!\"&ADDRESS(ROW()-1, O$1, 4)),\"Estimate hrs: \",\"\")*1,\"\")","v":""},{"$f":"IF(SUMIF(Timecamp!C:C,Reporte!A189,Timecamp!J:J)=0,\"\",SUMIF(Timecamp!C:C,Reporte!A189,Timecamp!J:J))","v":""},"","",{"$f":"IFERROR(VLOOKUP(A189,'SLA Trab'!E:I,5,FALSE),\"\")","v":""},{"$f":"IFERROR(VLOOKUP(A189,'SLA Cobr'!E:I,5,FALSE),\"\")","v":""}]
[{"$f":"IFERROR(IF(Trello!E189=\"\",\"\",Trello!E189),\" \")","v":"Lisandro - JO Shipnow + Maoar destacados"},{"$f":"IF($A190=\"\",\"\",IF(Trello!A189=\"\",B189,Trello!A189))","v":"Cotizado"},"2022-09-09",{"$f":"IF($A190=\"\",\"\",SUBSTITUTE(SUBSTITUTE(Trello!J189,\" days\",\"\"),\"⌚ \",\"\")*1)","v":369},{"$f":"IFERROR(IF($A190=\"\",\"\",SUBSTITUTE(SUBSTITUTE(SUBSTITUTE(INDIRECT(\"Trello!\"&ADDRESS(ROW()-1, E$1, 4)),\"Foreign: \",\"\"),\" $\",\"\"),\".\",\"\")*1),\"\")","v":480},{"$f":"IF($E190=\"\",IFERROR(IF($A190=\"\",\"\",SUBSTITUTE(SUBSTITUTE(SUBSTITUTE(INDIRECT(\"Trello!\"&ADDRESS(ROW()-1, F$1, 4)),\"MXN: \",\"\"),\" MX$\",\"\"),\".\",\"\")*1),\"\"),E190*F$2)","v":8400},{"$f":"IFERROR(IF($A190=\"\",\"\",SUBSTITUTE(SUBSTITUTE(SUBSTITUTE(INDIRECT(\"Trello!\"&ADDRESS(ROW()-1, G$1, 4)),\"Debt: \",\"\"),\" $\",\"\"),\".\",\"\")*1)*IF(E190=\"\",1,F$2),\"\")","v":""},{"$f":"IFERROR(IF($A190=\"\",\"\",SUBSTITUTE(SUBSTITUTE(SUBSTITUTE(INDIRECT(\"Trello!\"&ADDRESS(ROW()-1, H$1, 4)),\"Cost: \",\"\"),\" $\",\"\"),\".\",\"\")*1*$F$2),\"\")","v":""},8400,{"$f":"IFERROR(SUBSTITUTE(SUBSTITUTE(SUBSTITUTE(RIGHT(INDIRECT(\"Trello!\"&ADDRESS(ROW()-1, L$1, 4)),LEN(INDIRECT(\"Trello!\"&ADDRESS(ROW()-1, L$1, 4)))-15),\". \",\"/\"),\" 20\",\"/20\"),\" \",\"\"),\"\")","v":""},{"$f":"IFERROR(SUBSTITUTE(SUBSTITUTE(SUBSTITUTE(RIGHT(INDIRECT(\"Trello!\"&ADDRESS(ROW()-1, M$1, 4)),LEN(INDIRECT(\"Trello!\"&ADDRESS(ROW()-1, M$1, 4)))-15),\". \",\"/\"),\" 20\",\"/20\"),\" \",\"\"),\"\")","v":""},"","","",{"$f":"IFERROR(SUBSTITUTE(INDIRECT(\"Trello!\"&ADDRESS(ROW()-1, O$1, 4)),\"Estimate hrs: \",\"\")*1,\"\")","v":""},{"$f":"IF(SUMIF(Timecamp!C:C,Reporte!A190,Timecamp!J:J)=0,\"\",SUMIF(Timecamp!C:C,Reporte!A190,Timecamp!J:J))","v":""},"","",{"$f":"IFERROR(VLOOKUP(A190,'SLA Trab'!E:I,5,FALSE),\"\")","v":""},{"$f":"IFERROR(VLOOKUP(A190,'SLA Cobr'!E:I,5,FALSE),\"\")","v":""}]
[{"$f":"IFERROR(IF(Trello!E190=\"\",\"\",Trello!E190),\" \")","v":"Rodrigo Techservices - Proepta"},{"$f":"IF($A191=\"\",\"\",IF(Trello!A190=\"\",B190,Trello!A190))","v":"Cotizado"},"2022-09-09",{"$f":"IF($A191=\"\",\"\",SUBSTITUTE(SUBSTITUTE(Trello!J190,\" days\",\"\"),\"⌚ \",\"\")*1)","v":369},{"$f":"IFERROR(IF($A191=\"\",\"\",SUBSTITUTE(SUBSTITUTE(SUBSTITUTE(INDIRECT(\"Trello!\"&ADDRESS(ROW()-1, E$1, 4)),\"Foreign: \",\"\"),\" $\",\"\"),\".\",\"\")*1),\"\")","v":""},{"$f":"IF($E191=\"\",IFERROR(IF($A191=\"\",\"\",SUBSTITUTE(SUBSTITUTE(SUBSTITUTE(INDIRECT(\"Trello!\"&ADDRESS(ROW()-1, F$1, 4)),\"MXN: \",\"\"),\" MX$\",\"\"),\".\",\"\")*1),\"\"),E191*F$2)","v":27000},{"$f":"IFERROR(IF($A191=\"\",\"\",SUBSTITUTE(SUBSTITUTE(SUBSTITUTE(INDIRECT(\"Trello!\"&ADDRESS(ROW()-1, G$1, 4)),\"Debt: \",\"\"),\" $\",\"\"),\".\",\"\")*1)*IF(E191=\"\",1,F$2),\"\")","v":""},{"$f":"IFERROR(IF($A191=\"\",\"\",SUBSTITUTE(SUBSTITUTE(SUBSTITUTE(INDIRECT(\"Trello!\"&ADDRESS(ROW()-1, H$1, 4)),\"Cost: \",\"\"),\" $\",\"\"),\".\",\"\")*1*$F$2),\"\")","v":""},27000,{"$f":"IFERROR(SUBSTITUTE(SUBSTITUTE(SUBSTITUTE(RIGHT(INDIRECT(\"Trello!\"&ADDRESS(ROW()-1, L$1, 4)),LEN(INDIRECT(\"Trello!\"&ADDRESS(ROW()-1, L$1, 4)))-15),\". \",\"/\"),\" 20\",\"/20\"),\" \",\"\"),\"\")","v":""},{"$f":"IFERROR(SUBSTITUTE(SUBSTITUTE(SUBSTITUTE(RIGHT(INDIRECT(\"Trello!\"&ADDRESS(ROW()-1, M$1, 4)),LEN(INDIRECT(\"Trello!\"&ADDRESS(ROW()-1, M$1, 4)))-15),\". \",\"/\"),\" 20\",\"/20\"),\" \",\"\"),\"\")","v":""},"","","",{"$f":"IFERROR(SUBSTITUTE(INDIRECT(\"Trello!\"&ADDRESS(ROW()-1, O$1, 4)),\"Estimate hrs: \",\"\")*1,\"\")","v":""},{"$f":"IF(SUMIF(Timecamp!C:C,Reporte!A191,Timecamp!J:J)=0,\"\",SUMIF(Timecamp!C:C,Reporte!A191,Timecamp!J:J))","v":""},"","",{"$f":"IFERROR(VLOOKUP(A191,'SLA Trab'!E:I,5,FALSE),\"\")","v":""},{"$f":"IFERROR(VLOOKUP(A191,'SLA Cobr'!E:I,5,FALSE),\"\")","v":""}]
[{"$f":"IFERROR(IF(Trello!E191=\"\",\"\",Trello!E191),\" \")","v":"Olga Freelancer - SportsMaster Mx"},{"$f":"IF($A192=\"\",\"\",IF(Trello!A191=\"\",B191,Trello!A191))","v":"Cotizado"},"2022-09-09",{"$f":"IF($A192=\"\",\"\",SUBSTITUTE(SUBSTITUTE(Trello!J191,\" days\",\"\"),\"⌚ \",\"\")*1)","v":369},{"$f":"IFERROR(IF($A192=\"\",\"\",SUBSTITUTE(SUBSTITUTE(SUBSTITUTE(INDIRECT(\"Trello!\"&ADDRESS(ROW()-1, E$1, 4)),\"Foreign: \",\"\"),\" $\",\"\"),\".\",\"\")*1),\"\")","v":300},{"$f":"IF($E192=\"\",IFERROR(IF($A192=\"\",\"\",SUBSTITUTE(SUBSTITUTE(SUBSTITUTE(INDIRECT(\"Trello!\"&ADDRESS(ROW()-1, F$1, 4)),\"MXN: \",\"\"),\" MX$\",\"\"),\".\",\"\")*1),\"\"),E192*F$2)","v":5250},{"$f":"IFERROR(IF($A192=\"\",\"\",SUBSTITUTE(SUBSTITUTE(SUBSTITUTE(INDIRECT(\"Trello!\"&ADDRESS(ROW()-1, G$1, 4)),\"Debt: \",\"\"),\" $\",\"\"),\".\",\"\")*1)*IF(E192=\"\",1,F$2),\"\")","v":""},{"$f":"IFERROR(IF($A192=\"\",\"\",SUBSTITUTE(SUBSTITUTE(SUBSTITUTE(INDIRECT(\"Trello!\"&ADDRESS(ROW()-1, H$1, 4)),\"Cost: \",\"\"),\" $\",\"\"),\".\",\"\")*1*$F$2),\"\")","v":""},5250,{"$f":"IFERROR(SUBSTITUTE(SUBSTITUTE(SUBSTITUTE(RIGHT(INDIRECT(\"Trello!\"&ADDRESS(ROW()-1, L$1, 4)),LEN(INDIRECT(\"Trello!\"&ADDRESS(ROW()-1, L$1, 4)))-15),\". \",\"/\"),\" 20\",\"/20\"),\" \",\"\"),\"\")","v":""},{"$f":"IFERROR(SUBSTITUTE(SUBSTITUTE(SUBSTITUTE(RIGHT(INDIRECT(\"Trello!\"&ADDRESS(ROW()-1, M$1, 4)),LEN(INDIRECT(\"Trello!\"&ADDRESS(ROW()-1, M$1, 4)))-15),\". \",\"/\"),\" 20\",\"/20\"),\" \",\"\"),\"\")","v":""},"","","",{"$f":"IFERROR(SUBSTITUTE(INDIRECT(\"Trello!\"&ADDRESS(ROW()-1, O$1, 4)),\"Estimate hrs: \",\"\")*1,\"\")","v":""},{"$f":"IF(SUMIF(Timecamp!C:C,Reporte!A192,Timecamp!J:J)=0,\"\",SUMIF(Timecamp!C:C,Reporte!A192,Timecamp!J:J))","v":""},"","",{"$f":"IFERROR(VLOOKUP(A192,'SLA Trab'!E:I,5,FALSE),\"\")","v":""},{"$f":"IFERROR(VLOOKUP(A192,'SLA Cobr'!E:I,5,FALSE),\"\")","v":""}]
[{"$f":"IFERROR(IF(Trello!E192=\"\",\"\",Trello!E192),\" \")","v":"Bea Axo Fea - Pagina su chamba"},{"$f":"IF($A193=\"\",\"\",IF(Trello!A192=\"\",B192,Trello!A192))","v":"Cotizado"},"2022-09-09",{"$f":"IF($A193=\"\",\"\",SUBSTITUTE(SUBSTITUTE(Trello!J192,\" days\",\"\"),\"⌚ \",\"\")*1)","v":369},{"$f":"IFERROR(IF($A193=\"\",\"\",SUBSTITUTE(SUBSTITUTE(SUBSTITUTE(INDIRECT(\"Trello!\"&ADDRESS(ROW()-1, E$1, 4)),\"Foreign: \",\"\"),\" $\",\"\"),\".\",\"\")*1),\"\")","v":300},{"$f":"IF($E193=\"\",IFERROR(IF($A193=\"\",\"\",SUBSTITUTE(SUBSTITUTE(SUBSTITUTE(INDIRECT(\"Trello!\"&ADDRESS(ROW()-1, F$1, 4)),\"MXN: \",\"\"),\" MX$\",\"\"),\".\",\"\")*1),\"\"),E193*F$2)","v":5250},{"$f":"IFERROR(IF($A193=\"\",\"\",SUBSTITUTE(SUBSTITUTE(SUBSTITUTE(INDIRECT(\"Trello!\"&ADDRESS(ROW()-1, G$1, 4)),\"Debt: \",\"\"),\" $\",\"\"),\".\",\"\")*1)*IF(E193=\"\",1,F$2),\"\")","v":""},{"$f":"IFERROR(IF($A193=\"\",\"\",SUBSTITUTE(SUBSTITUTE(SUBSTITUTE(INDIRECT(\"Trello!\"&ADDRESS(ROW()-1, H$1, 4)),\"Cost: \",\"\"),\" $\",\"\"),\".\",\"\")*1*$F$2),\"\")","v":""},5250,{"$f":"IFERROR(SUBSTITUTE(SUBSTITUTE(SUBSTITUTE(RIGHT(INDIRECT(\"Trello!\"&ADDRESS(ROW()-1, L$1, 4)),LEN(INDIRECT(\"Trello!\"&ADDRESS(ROW()-1, L$1, 4)))-15),\". \",\"/\"),\" 20\",\"/20\"),\" \",\"\"),\"\")","v":""},{"$f":"IFERROR(SUBSTITUTE(SUBSTITUTE(SUBSTITUTE(RIGHT(INDIRECT(\"Trello!\"&ADDRESS(ROW()-1, M$1, 4)),LEN(INDIRECT(\"Trello!\"&ADDRESS(ROW()-1, M$1, 4)))-15),\". \",\"/\"),\" 20\",\"/20\"),\" \",\"\"),\"\")","v":""},"","","",{"$f":"IFERROR(SUBSTITUTE(INDIRECT(\"Trello!\"&ADDRESS(ROW()-1, O$1, 4)),\"Estimate hrs: \",\"\")*1,\"\")","v":""},{"$f":"IF(SUMIF(Timecamp!C:C,Reporte!A193,Timecamp!J:J)=0,\"\",SUMIF(Timecamp!C:C,Reporte!A193,Timecamp!J:J))","v":""},"","",{"$f":"IFERROR(VLOOKUP(A193,'SLA Trab'!E:I,5,FALSE),\"\")","v":""},{"$f":"IFERROR(VLOOKUP(A193,'SLA Cobr'!E:I,5,FALSE),\"\")","v":""}]
[{"$f":"IFERROR(IF(Trello!E193=\"\",\"\",Trello!E193),\" \")","v":""},{"$f":"IF($A194=\"\",\"\",IF(Trello!A193=\"\",B193,Trello!A193))","v":""},"",{"$f":"IF($A194=\"\",\"\",SUBSTITUTE(SUBSTITUTE(Trello!J193,\" days\",\"\"),\"⌚ \",\"\")*1)","v":""},{"$f":"IFERROR(IF($A194=\"\",\"\",SUBSTITUTE(SUBSTITUTE(SUBSTITUTE(INDIRECT(\"Trello!\"&ADDRESS(ROW()-1, E$1, 4)),\"Foreign: \",\"\"),\" $\",\"\"),\".\",\"\")*1),\"\")","v":""},{"$f":"IF($E194=\"\",IFERROR(IF($A194=\"\",\"\",SUBSTITUTE(SUBSTITUTE(SUBSTITUTE(INDIRECT(\"Trello!\"&ADDRESS(ROW()-1, F$1, 4)),\"MXN: \",\"\"),\" MX$\",\"\"),\".\",\"\")*1),\"\"),E194*F$2)","v":""},{"$f":"IFERROR(IF($A194=\"\",\"\",SUBSTITUTE(SUBSTITUTE(SUBSTITUTE(INDIRECT(\"Trello!\"&ADDRESS(ROW()-1, G$1, 4)),\"Debt: \",\"\"),\" $\",\"\"),\".\",\"\")*1)*IF(E194=\"\",1,F$2),\"\")","v":""},{"$f":"IFERROR(IF($A194=\"\",\"\",SUBSTITUTE(SUBSTITUTE(SUBSTITUTE(INDIRECT(\"Trello!\"&ADDRESS(ROW()-1, H$1, 4)),\"Cost: \",\"\"),\" $\",\"\"),\".\",\"\")*1*$F$2),\"\")","v":""},"",{"$f":"IFERROR(SUBSTITUTE(SUBSTITUTE(SUBSTITUTE(RIGHT(INDIRECT(\"Trello!\"&ADDRESS(ROW()-1, L$1, 4)),LEN(INDIRECT(\"Trello!\"&ADDRESS(ROW()-1, L$1, 4)))-15),\". \",\"/\"),\" 20\",\"/20\"),\" \",\"\"),\"\")","v":""},{"$f":"IFERROR(SUBSTITUTE(SUBSTITUTE(SUBSTITUTE(RIGHT(INDIRECT(\"Trello!\"&ADDRESS(ROW()-1, M$1, 4)),LEN(INDIRECT(\"Trello!\"&ADDRESS(ROW()-1, M$1, 4)))-15),\". \",\"/\"),\" 20\",\"/20\"),\" \",\"\"),\"\")","v":""},"","","",{"$f":"IFERROR(SUBSTITUTE(INDIRECT(\"Trello!\"&ADDRESS(ROW()-1, O$1, 4)),\"Estimate hrs: \",\"\")*1,\"\")","v":""},{"$f":"IF(SUMIF(Timecamp!C:C,Reporte!A194,Timecamp!J:J)=0,\"\",SUMIF(Timecamp!C:C,Reporte!A194,Timecamp!J:J))","v":""},"","",{"$f":"IFERROR(VLOOKUP(A194,'SLA Trab'!E:I,5,FALSE),\"\")","v":""},{"$f":"IFERROR(VLOOKUP(A194,'SLA Cobr'!E:I,5,FALSE),\"\")","v":""}]
[{"$f":"IFERROR(IF(Trello!E194=\"\",\"\",Trello!E194),\" \")","v":""},{"$f":"IF($A195=\"\",\"\",IF(Trello!A194=\"\",B194,Trello!A194))","v":""},"",{"$f":"IF($A195=\"\",\"\",SUBSTITUTE(SUBSTITUTE(Trello!J194,\" days\",\"\"),\"⌚ \",\"\")*1)","v":""},{"$f":"IFERROR(IF($A195=\"\",\"\",SUBSTITUTE(SUBSTITUTE(SUBSTITUTE(INDIRECT(\"Trello!\"&ADDRESS(ROW()-1, E$1, 4)),\"Foreign: \",\"\"),\" $\",\"\"),\".\",\"\")*1),\"\")","v":""},{"$f":"IF($E195=\"\",IFERROR(IF($A195=\"\",\"\",SUBSTITUTE(SUBSTITUTE(SUBSTITUTE(INDIRECT(\"Trello!\"&ADDRESS(ROW()-1, F$1, 4)),\"MXN: \",\"\"),\" MX$\",\"\"),\".\",\"\")*1),\"\"),E195*F$2)","v":""},{"$f":"IFERROR(IF($A195=\"\",\"\",SUBSTITUTE(SUBSTITUTE(SUBSTITUTE(INDIRECT(\"Trello!\"&ADDRESS(ROW()-1, G$1, 4)),\"Debt: \",\"\"),\" $\",\"\"),\".\",\"\")*1)*IF(E195=\"\",1,F$2),\"\")","v":""},{"$f":"IFERROR(IF($A195=\"\",\"\",SUBSTITUTE(SUBSTITUTE(SUBSTITUTE(INDIRECT(\"Trello!\"&ADDRESS(ROW()-1, H$1, 4)),\"Cost: \",\"\"),\" $\",\"\"),\".\",\"\")*1*$F$2),\"\")","v":""},"",{"$f":"IFERROR(SUBSTITUTE(SUBSTITUTE(SUBSTITUTE(RIGHT(INDIRECT(\"Trello!\"&ADDRESS(ROW()-1, L$1, 4)),LEN(INDIRECT(\"Trello!\"&ADDRESS(ROW()-1, L$1, 4)))-15),\". \",\"/\"),\" 20\",\"/20\"),\" \",\"\"),\"\")","v":""},{"$f":"IFERROR(SUBSTITUTE(SUBSTITUTE(SUBSTITUTE(RIGHT(INDIRECT(\"Trello!\"&ADDRESS(ROW()-1, M$1, 4)),LEN(INDIRECT(\"Trello!\"&ADDRESS(ROW()-1, M$1, 4)))-15),\". \",\"/\"),\" 20\",\"/20\"),\" \",\"\"),\"\")","v":""},"","","",{"$f":"IFERROR(SUBSTITUTE(INDIRECT(\"Trello!\"&ADDRESS(ROW()-1, O$1, 4)),\"Estimate hrs: \",\"\")*1,\"\")","v":""},{"$f":"IF(SUMIF(Timecamp!C:C,Reporte!A195,Timecamp!J:J)=0,\"\",SUMIF(Timecamp!C:C,Reporte!A195,Timecamp!J:J))","v":""},{"$f":"IF(AND(O195>0,P195>0,O195<>\"\",P195<>\"\"),(P195/O195)-1,\"\")","v":""},{"$f":"IF(OR(P195=\"\",F195=\"\"),\"\",F195/P195)","v":""},{"$f":"IFERROR(VLOOKUP(A195,'SLA Trab'!E:I,5,FALSE),\"\")","v":""},{"$f":"IFERROR(VLOOKUP(A195,'SLA Cobr'!E:I,5,FALSE),\"\")","v":""}]
[{"$f":"IFERROR(IF(Trello!E195=\"\",\"\",Trello!E195),\" \")","v":""},{"$f":"IF($A196=\"\",\"\",IF(Trello!A195=\"\",B195,Trello!A195))","v":""},{"$f":"IF($A196=\"\",\"\",TODAY()-D196)","v":""},{"$f":"IF($A196=\"\",\"\",SUBSTITUTE(SUBSTITUTE(Trello!J195,\" days\",\"\"),\"⌚ \",\"\")*1)","v":""},{"$f":"IFERROR(IF($A196=\"\",\"\",SUBSTITUTE(SUBSTITUTE(SUBSTITUTE(INDIRECT(\"Trello!\"&ADDRESS(ROW()-1, E$1, 4)),\"Foreign: \",\"\"),\" $\",\"\"),\".\",\"\")*1),\"\")","v":""},{"$f":"IF($E196=\"\",IFERROR(IF($A196=\"\",\"\",SUBSTITUTE(SUBSTITUTE(SUBSTITUTE(INDIRECT(\"Trello!\"&ADDRESS(ROW()-1, F$1, 4)),\"MXN: \",\"\"),\" MX$\",\"\"),\".\",\"\")*1),\"\"),E196*F$2)","v":""},{"$f":"IFERROR(IF($A196=\"\",\"\",SUBSTITUTE(SUBSTITUTE(SUBSTITUTE(INDIRECT(\"Trello!\"&ADDRESS(ROW()-1, G$1, 4)),\"Debt: \",\"\"),\" $\",\"\"),\".\",\"\")*1)*IF(E196=\"\",1,F$2),\"\")","v":""},{"$f":"IFERROR(IF($A196=\"\",\"\",SUBSTITUTE(SUBSTITUTE(SUBSTITUTE(INDIRECT(\"Trello!\"&ADDRESS(ROW()-1, H$1, 4)),\"Cost: \",\"\"),\" $\",\"\"),\".\",\"\")*1*$F$2),\"\")","v":""},"",{"$f":"IFERROR(SUBSTITUTE(SUBSTITUTE(SUBSTITUTE(RIGHT(INDIRECT(\"Trello!\"&ADDRESS(ROW()-1, L$1, 4)),LEN(INDIRECT(\"Trello!\"&ADDRESS(ROW()-1, L$1, 4)))-15),\". \",\"/\"),\" 20\",\"/20\"),\" \",\"\"),\"\")","v":""},{"$f":"IFERROR(SUBSTITUTE(SUBSTITUTE(SUBSTITUTE(RIGHT(INDIRECT(\"Trello!\"&ADDRESS(ROW()-1, M$1, 4)),LEN(INDIRECT(\"Trello!\"&ADDRESS(ROW()-1, M$1, 4)))-15),\". \",\"/\"),\" 20\",\"/20\"),\" \",\"\"),\"\")","v":""},"","","",{"$f":"IFERROR(SUBSTITUTE(INDIRECT(\"Trello!\"&ADDRESS(ROW()-1, O$1, 4)),\"Estimate hrs: \",\"\")*1,\"\")","v":""},{"$f":"IF(SUMIF(Timecamp!C:C,Reporte!A196,Timecamp!J:J)=0,\"\",SUMIF(Timecamp!C:C,Reporte!A196,Timecamp!J:J))","v":""},"","",{"$f":"IFERROR(VLOOKUP(A196,'SLA Trab'!E:I,5,FALSE),\"\")","v":""},{"$f":"IFERROR(VLOOKUP(A196,'SLA Cobr'!E:I,5,FALSE),\"\")","v":""}]
[{"$f":"IFERROR(IF(Trello!E196=\"\",\"\",Trello!E196),\" \")","v":""},{"$f":"IF($A197=\"\",\"\",IF(Trello!A196=\"\",B196,Trello!A196))","v":""},"",{"$f":"IF($A197=\"\",\"\",SUBSTITUTE(SUBSTITUTE(Trello!J196,\" days\",\"\"),\"⌚ \",\"\")*1)","v":""},{"$f":"IFERROR(IF($A197=\"\",\"\",SUBSTITUTE(SUBSTITUTE(SUBSTITUTE(INDIRECT(\"Trello!\"&ADDRESS(ROW()-1, E$1, 4)),\"Foreign: \",\"\"),\" $\",\"\"),\".\",\"\")*1),\"\")","v":""},{"$f":"IF($E197=\"\",IFERROR(IF($A197=\"\",\"\",SUBSTITUTE(SUBSTITUTE(SUBSTITUTE(INDIRECT(\"Trello!\"&ADDRESS(ROW()-1, F$1, 4)),\"MXN: \",\"\"),\" MX$\",\"\"),\".\",\"\")*1),\"\"),E197*F$2)","v":""},{"$f":"IFERROR(IF($A197=\"\",\"\",SUBSTITUTE(SUBSTITUTE(SUBSTITUTE(INDIRECT(\"Trello!\"&ADDRESS(ROW()-1, G$1, 4)),\"Debt: \",\"\"),\" $\",\"\"),\".\",\"\")*1)*IF(E197=\"\",1,F$2),\"\")","v":""},{"$f":"IFERROR(IF($A197=\"\",\"\",SUBSTITUTE(SUBSTITUTE(SUBSTITUTE(INDIRECT(\"Trello!\"&ADDRESS(ROW()-1, H$1, 4)),\"Cost: \",\"\"),\" $\",\"\"),\".\",\"\")*1*$F$2),\"\")","v":""},{"$f":"IF(OR(F197=\"\",H197=\"\"),F197,F197-H197)","v":""},{"$f":"IFERROR(SUBSTITUTE(SUBSTITUTE(SUBSTITUTE(RIGHT(INDIRECT(\"Trello!\"&ADDRESS(ROW()-1, L$1, 4)),LEN(INDIRECT(\"Trello!\"&ADDRESS(ROW()-1, L$1, 4)))-15),\". \",\"/\"),\" 20\",\"/20\"),\" \",\"\"),\"\")","v":""},{"$f":"IFERROR(SUBSTITUTE(SUBSTITUTE(SUBSTITUTE(RIGHT(INDIRECT(\"Trello!\"&ADDRESS(ROW()-1, M$1, 4)),LEN(INDIRECT(\"Trello!\"&ADDRESS(ROW()-1, M$1, 4)))-15),\". \",\"/\"),\" 20\",\"/20\"),\" \",\"\"),\"\")","v":""},"","","",{"$f":"IFERROR(SUBSTITUTE(INDIRECT(\"Trello!\"&ADDRESS(ROW()-1, O$1, 4)),\"Estimate hrs: \",\"\")*1,\"\")","v":""},{"$f":"IF(SUMIF(Timecamp!C:C,Reporte!A197,Timecamp!J:J)=0,\"\",SUMIF(Timecamp!C:C,Reporte!A197,Timecamp!J:J))","v":""},"","",{"$f":"IFERROR(VLOOKUP(A197,'SLA Trab'!E:I,5,FALSE),\"\")","v":""},{"$f":"IFERROR(VLOOKUP(A197,'SLA Cobr'!E:I,5,FALSE),\"\")","v":""}]
[{"$f":"IFERROR(IF(Trello!E197=\"\",\"\",Trello!E197),\" \")","v":""},{"$f":"IF($A198=\"\",\"\",IF(Trello!A197=\"\",B197,Trello!A197))","v":""},"",{"$f":"IF($A198=\"\",\"\",SUBSTITUTE(SUBSTITUTE(Trello!J197,\" days\",\"\"),\"⌚ \",\"\")*1)","v":""},{"$f":"IFERROR(IF($A198=\"\",\"\",SUBSTITUTE(SUBSTITUTE(SUBSTITUTE(INDIRECT(\"Trello!\"&ADDRESS(ROW()-1, E$1, 4)),\"Foreign: \",\"\"),\" $\",\"\"),\".\",\"\")*1),\"\")","v":""},{"$f":"IF($E198=\"\",IFERROR(IF($A198=\"\",\"\",SUBSTITUTE(SUBSTITUTE(SUBSTITUTE(INDIRECT(\"Trello!\"&ADDRESS(ROW()-1, F$1, 4)),\"MXN: \",\"\"),\" MX$\",\"\"),\".\",\"\")*1),\"\"),E198*F$2)","v":""},{"$f":"IFERROR(IF($A198=\"\",\"\",SUBSTITUTE(SUBSTITUTE(SUBSTITUTE(INDIRECT(\"Trello!\"&ADDRESS(ROW()-1, G$1, 4)),\"Debt: \",\"\"),\" $\",\"\"),\".\",\"\")*1)*IF(E198=\"\",1,F$2),\"\")","v":""},{"$f":"IFERROR(IF($A198=\"\",\"\",SUBSTITUTE(SUBSTITUTE(SUBSTITUTE(INDIRECT(\"Trello!\"&ADDRESS(ROW()-1, H$1, 4)),\"Cost: \",\"\"),\" $\",\"\"),\".\",\"\")*1*$F$2),\"\")","v":""},"",{"$f":"IFERROR(SUBSTITUTE(SUBSTITUTE(SUBSTITUTE(RIGHT(INDIRECT(\"Trello!\"&ADDRESS(ROW()-1, L$1, 4)),LEN(INDIRECT(\"Trello!\"&ADDRESS(ROW()-1, L$1, 4)))-15),\". \",\"/\"),\" 20\",\"/20\"),\" \",\"\"),\"\")","v":""},{"$f":"IFERROR(SUBSTITUTE(SUBSTITUTE(SUBSTITUTE(RIGHT(INDIRECT(\"Trello!\"&ADDRESS(ROW()-1, M$1, 4)),LEN(INDIRECT(\"Trello!\"&ADDRESS(ROW()-1, M$1, 4)))-15),\". \",\"/\"),\" 20\",\"/20\"),\" \",\"\"),\"\")","v":""},"","","",{"$f":"IFERROR(SUBSTITUTE(INDIRECT(\"Trello!\"&ADDRESS(ROW()-1, O$1, 4)),\"Estimate hrs: \",\"\")*1,\"\")","v":""},{"$f":"IF(SUMIF(Timecamp!C:C,Reporte!A198,Timecamp!J:J)=0,\"\",SUMIF(Timecamp!C:C,Reporte!A198,Timecamp!J:J))","v":""},"","",{"$f":"IFERROR(VLOOKUP(A198,'SLA Trab'!E:I,5,FALSE),\"\")","v":""},{"$f":"IFERROR(VLOOKUP(A198,'SLA Cobr'!E:I,5,FALSE),\"\")","v":""}]
[{"$f":"IFERROR(IF(Trello!E198=\"\",\"\",Trello!E198),\" \")","v":""},{"$f":"IF($A199=\"\",\"\",IF(Trello!A198=\"\",B198,Trello!A198))","v":""},"",{"$f":"IF($A199=\"\",\"\",SUBSTITUTE(SUBSTITUTE(Trello!J198,\" days\",\"\"),\"⌚ \",\"\")*1)","v":""},{"$f":"IFERROR(IF($A199=\"\",\"\",SUBSTITUTE(SUBSTITUTE(SUBSTITUTE(INDIRECT(\"Trello!\"&ADDRESS(ROW()-1, E$1, 4)),\"Foreign: \",\"\"),\" $\",\"\"),\".\",\"\")*1),\"\")","v":""},{"$f":"IF($E199=\"\",IFERROR(IF($A199=\"\",\"\",SUBSTITUTE(SUBSTITUTE(SUBSTITUTE(INDIRECT(\"Trello!\"&ADDRESS(ROW()-1, F$1, 4)),\"MXN: \",\"\"),\" MX$\",\"\"),\".\",\"\")*1),\"\"),E199*F$2)","v":""},{"$f":"IFERROR(IF($A199=\"\",\"\",SUBSTITUTE(SUBSTITUTE(SUBSTITUTE(INDIRECT(\"Trello!\"&ADDRESS(ROW()-1, G$1, 4)),\"Debt: \",\"\"),\" $\",\"\"),\".\",\"\")*1)*IF(E199=\"\",1,F$2),\"\")","v":""},{"$f":"IFERROR(IF($A199=\"\",\"\",SUBSTITUTE(SUBSTITUTE(SUBSTITUTE(INDIRECT(\"Trello!\"&ADDRESS(ROW()-1, H$1, 4)),\"Cost: \",\"\"),\" $\",\"\"),\".\",\"\")*1*$F$2),\"\")","v":""},"",{"$f":"IFERROR(SUBSTITUTE(SUBSTITUTE(SUBSTITUTE(RIGHT(INDIRECT(\"Trello!\"&ADDRESS(ROW()-1, L$1, 4)),LEN(INDIRECT(\"Trello!\"&ADDRESS(ROW()-1, L$1, 4)))-15),\". \",\"/\"),\" 20\",\"/20\"),\" \",\"\"),\"\")","v":""},{"$f":"IFERROR(SUBSTITUTE(SUBSTITUTE(SUBSTITUTE(RIGHT(INDIRECT(\"Trello!\"&ADDRESS(ROW()-1, M$1, 4)),LEN(INDIRECT(\"Trello!\"&ADDRESS(ROW()-1, M$1, 4)))-15),\". \",\"/\"),\" 20\",\"/20\"),\" \",\"\"),\"\")","v":""},"","","",{"$f":"IFERROR(SUBSTITUTE(INDIRECT(\"Trello!\"&ADDRESS(ROW()-1, O$1, 4)),\"Estimate hrs: \",\"\")*1,\"\")","v":""},{"$f":"IF(SUMIF(Timecamp!C:C,Reporte!A199,Timecamp!J:J)=0,\"\",SUMIF(Timecamp!C:C,Reporte!A199,Timecamp!J:J))","v":""},"","",{"$f":"IFERROR(VLOOKUP(A199,'SLA Trab'!E:I,5,FALSE),\"\")","v":""},{"$f":"IFERROR(VLOOKUP(A199,'SLA Cobr'!E:I,5,FALSE),\"\")","v":""}]
[{"$f":"IFERROR(IF(Trello!E199=\"\",\"\",Trello!E199),\" \")","v":""},{"$f":"IF($A200=\"\",\"\",IF(Trello!A199=\"\",B199,Trello!A199))","v":""},"",{"$f":"IF($A200=\"\",\"\",SUBSTITUTE(SUBSTITUTE(Trello!J199,\" days\",\"\"),\"⌚ \",\"\")*1)","v":""},{"$f":"IFERROR(IF($A200=\"\",\"\",SUBSTITUTE(SUBSTITUTE(SUBSTITUTE(INDIRECT(\"Trello!\"&ADDRESS(ROW()-1, E$1, 4)),\"Foreign: \",\"\"),\" $\",\"\"),\".\",\"\")*1),\"\")","v":""},{"$f":"IF($E200=\"\",IFERROR(IF($A200=\"\",\"\",SUBSTITUTE(SUBSTITUTE(SUBSTITUTE(INDIRECT(\"Trello!\"&ADDRESS(ROW()-1, F$1, 4)),\"MXN: \",\"\"),\" MX$\",\"\"),\".\",\"\")*1),\"\"),E200*F$2)","v":""},{"$f":"IFERROR(IF($A200=\"\",\"\",SUBSTITUTE(SUBSTITUTE(SUBSTITUTE(INDIRECT(\"Trello!\"&ADDRESS(ROW()-1, G$1, 4)),\"Debt: \",\"\"),\" $\",\"\"),\".\",\"\")*1)*IF(E200=\"\",1,F$2),\"\")","v":""},{"$f":"IFERROR(IF($A200=\"\",\"\",SUBSTITUTE(SUBSTITUTE(SUBSTITUTE(INDIRECT(\"Trello!\"&ADDRESS(ROW()-1, H$1, 4)),\"Cost: \",\"\"),\" $\",\"\"),\".\",\"\")*1*$F$2),\"\")","v":""},"",{"$f":"IFERROR(SUBSTITUTE(SUBSTITUTE(SUBSTITUTE(RIGHT(INDIRECT(\"Trello!\"&ADDRESS(ROW()-1, L$1, 4)),LEN(INDIRECT(\"Trello!\"&ADDRESS(ROW()-1, L$1, 4)))-15),\". \",\"/\"),\" 20\",\"/20\"),\" \",\"\"),\"\")","v":""},{"$f":"IFERROR(SUBSTITUTE(SUBSTITUTE(SUBSTITUTE(RIGHT(INDIRECT(\"Trello!\"&ADDRESS(ROW()-1, M$1, 4)),LEN(INDIRECT(\"Trello!\"&ADDRESS(ROW()-1, M$1, 4)))-15),\". \",\"/\"),\" 20\",\"/20\"),\" \",\"\"),\"\")","v":""},"","","",{"$f":"IFERROR(SUBSTITUTE(INDIRECT(\"Trello!\"&ADDRESS(ROW()-1, O$1, 4)),\"Estimate hrs: \",\"\")*1,\"\")","v":""},{"$f":"IF(SUMIF(Timecamp!C:C,Reporte!A200,Timecamp!J:J)=0,\"\",SUMIF(Timecamp!C:C,Reporte!A200,Timecamp!J:J))","v":""},"","",{"$f":"IFERROR(VLOOKUP(A200,'SLA Trab'!E:I,5,FALSE),\"\")","v":""},{"$f":"IFERROR(VLOOKUP(A200,'SLA Cobr'!E:I,5,FALSE),\"\")","v":""}]
[{"$f":"IFERROR(IF(Trello!E200=\"\",\"\",Trello!E200),\" \")","v":""},{"$f":"IF($A201=\"\",\"\",IF(Trello!A200=\"\",B200,Trello!A200))","v":""},"",{"$f":"IF($A201=\"\",\"\",SUBSTITUTE(SUBSTITUTE(Trello!J200,\" days\",\"\"),\"⌚ \",\"\")*1)","v":""},{"$f":"IFERROR(IF($A201=\"\",\"\",SUBSTITUTE(SUBSTITUTE(SUBSTITUTE(INDIRECT(\"Trello!\"&ADDRESS(ROW()-1, E$1, 4)),\"Foreign: \",\"\"),\" $\",\"\"),\".\",\"\")*1),\"\")","v":""},{"$f":"IF($E201=\"\",IFERROR(IF($A201=\"\",\"\",SUBSTITUTE(SUBSTITUTE(SUBSTITUTE(INDIRECT(\"Trello!\"&ADDRESS(ROW()-1, F$1, 4)),\"MXN: \",\"\"),\" MX$\",\"\"),\".\",\"\")*1),\"\"),E201*F$2)","v":""},{"$f":"IFERROR(IF($A201=\"\",\"\",SUBSTITUTE(SUBSTITUTE(SUBSTITUTE(INDIRECT(\"Trello!\"&ADDRESS(ROW()-1, G$1, 4)),\"Debt: \",\"\"),\" $\",\"\"),\".\",\"\")*1)*IF(E201=\"\",1,F$2),\"\")","v":""},{"$f":"IFERROR(IF($A201=\"\",\"\",SUBSTITUTE(SUBSTITUTE(SUBSTITUTE(INDIRECT(\"Trello!\"&ADDRESS(ROW()-1, H$1, 4)),\"Cost: \",\"\"),\" $\",\"\"),\".\",\"\")*1*$F$2),\"\")","v":""},"",{"$f":"IFERROR(SUBSTITUTE(SUBSTITUTE(SUBSTITUTE(RIGHT(INDIRECT(\"Trello!\"&ADDRESS(ROW()-1, L$1, 4)),LEN(INDIRECT(\"Trello!\"&ADDRESS(ROW()-1, L$1, 4)))-15),\". \",\"/\"),\" 20\",\"/20\"),\" \",\"\"),\"\")","v":""},{"$f":"IFERROR(SUBSTITUTE(SUBSTITUTE(SUBSTITUTE(RIGHT(INDIRECT(\"Trello!\"&ADDRESS(ROW()-1, M$1, 4)),LEN(INDIRECT(\"Trello!\"&ADDRESS(ROW()-1, M$1, 4)))-15),\". \",\"/\"),\" 20\",\"/20\"),\" \",\"\"),\"\")","v":""},"","","",{"$f":"IFERROR(SUBSTITUTE(INDIRECT(\"Trello!\"&ADDRESS(ROW()-1, O$1, 4)),\"Estimate hrs: \",\"\")*1,\"\")","v":""},{"$f":"IF(SUMIF(Timecamp!C:C,Reporte!A201,Timecamp!J:J)=0,\"\",SUMIF(Timecamp!C:C,Reporte!A201,Timecamp!J:J))","v":""},"","",{"$f":"IFERROR(VLOOKUP(A201,'SLA Trab'!E:I,5,FALSE),\"\")","v":""},{"$f":"IFERROR(VLOOKUP(A201,'SLA Cobr'!E:I,5,FALSE),\"\")","v":""}]
[{"$f":"IFERROR(IF(Trello!E201=\"\",\"\",Trello!E201),\" \")","v":""},{"$f":"IF($A202=\"\",\"\",IF(Trello!A201=\"\",B201,Trello!A201))","v":""},"",{"$f":"IF($A202=\"\",\"\",SUBSTITUTE(SUBSTITUTE(Trello!J201,\" days\",\"\"),\"⌚ \",\"\")*1)","v":""},{"$f":"IFERROR(IF($A202=\"\",\"\",SUBSTITUTE(SUBSTITUTE(SUBSTITUTE(INDIRECT(\"Trello!\"&ADDRESS(ROW()-1, E$1, 4)),\"Foreign: \",\"\"),\" $\",\"\"),\".\",\"\")*1),\"\")","v":""},{"$f":"IF($E202=\"\",IFERROR(IF($A202=\"\",\"\",SUBSTITUTE(SUBSTITUTE(SUBSTITUTE(INDIRECT(\"Trello!\"&ADDRESS(ROW()-1, F$1, 4)),\"MXN: \",\"\"),\" MX$\",\"\"),\".\",\"\")*1),\"\"),E202*F$2)","v":""},{"$f":"IFERROR(IF($A202=\"\",\"\",SUBSTITUTE(SUBSTITUTE(SUBSTITUTE(INDIRECT(\"Trello!\"&ADDRESS(ROW()-1, G$1, 4)),\"Debt: \",\"\"),\" $\",\"\"),\".\",\"\")*1)*IF(E202=\"\",1,F$2),\"\")","v":""},{"$f":"IFERROR(IF($A202=\"\",\"\",SUBSTITUTE(SUBSTITUTE(SUBSTITUTE(INDIRECT(\"Trello!\"&ADDRESS(ROW()-1, H$1, 4)),\"Cost: \",\"\"),\" $\",\"\"),\".\",\"\")*1*$F$2),\"\")","v":""},"",{"$f":"IFERROR(SUBSTITUTE(SUBSTITUTE(SUBSTITUTE(RIGHT(INDIRECT(\"Trello!\"&ADDRESS(ROW()-1, L$1, 4)),LEN(INDIRECT(\"Trello!\"&ADDRESS(ROW()-1, L$1, 4)))-15),\". \",\"/\"),\" 20\",\"/20\"),\" \",\"\"),\"\")","v":""},{"$f":"IFERROR(SUBSTITUTE(SUBSTITUTE(SUBSTITUTE(RIGHT(INDIRECT(\"Trello!\"&ADDRESS(ROW()-1, M$1, 4)),LEN(INDIRECT(\"Trello!\"&ADDRESS(ROW()-1, M$1, 4)))-15),\". \",\"/\"),\" 20\",\"/20\"),\" \",\"\"),\"\")","v":""},"","",{"$f":"IF(AND(L202>0,M202>0,L202<>\"\",M202<>\"\"),L202-M202,\"\")","v":""},{"$f":"IFERROR(SUBSTITUTE(INDIRECT(\"Trello!\"&ADDRESS(ROW()-1, O$1, 4)),\"Estimate hrs: \",\"\")*1,\"\")","v":""},{"$f":"IF(SUMIF(Timecamp!C:C,Reporte!A202,Timecamp!J:J)=0,\"\",SUMIF(Timecamp!C:C,Reporte!A202,Timecamp!J:J))","v":""},"","",{"$f":"IFERROR(VLOOKUP(A202,'SLA Trab'!E:I,5,FALSE),\"\")","v":""},{"$f":"IFERROR(VLOOKUP(A202,'SLA Cobr'!E:I,5,FALSE),\"\")","v":""}]
[{"$f":"IFERROR(IF(Trello!E202=\"\",\"\",Trello!E202),\" \")","v":""},{"$f":"IF($A203=\"\",\"\",IF(Trello!A202=\"\",B202,Trello!A202))","v":""},"",{"$f":"IF($A203=\"\",\"\",SUBSTITUTE(SUBSTITUTE(Trello!J202,\" days\",\"\"),\"⌚ \",\"\")*1)","v":""},{"$f":"IFERROR(IF($A203=\"\",\"\",SUBSTITUTE(SUBSTITUTE(SUBSTITUTE(INDIRECT(\"Trello!\"&ADDRESS(ROW()-1, E$1, 4)),\"Foreign: \",\"\"),\" $\",\"\"),\".\",\"\")*1),\"\")","v":""},{"$f":"IF($E203=\"\",IFERROR(IF($A203=\"\",\"\",SUBSTITUTE(SUBSTITUTE(SUBSTITUTE(INDIRECT(\"Trello!\"&ADDRESS(ROW()-1, F$1, 4)),\"MXN: \",\"\"),\" MX$\",\"\"),\".\",\"\")*1),\"\"),E203*F$2)","v":""},{"$f":"IFERROR(IF($A203=\"\",\"\",SUBSTITUTE(SUBSTITUTE(SUBSTITUTE(INDIRECT(\"Trello!\"&ADDRESS(ROW()-1, G$1, 4)),\"Debt: \",\"\"),\" $\",\"\"),\".\",\"\")*1)*IF(E203=\"\",1,F$2),\"\")","v":""},{"$f":"IFERROR(IF($A203=\"\",\"\",SUBSTITUTE(SUBSTITUTE(SUBSTITUTE(INDIRECT(\"Trello!\"&ADDRESS(ROW()-1, H$1, 4)),\"Cost: \",\"\"),\" $\",\"\"),\".\",\"\")*1*$F$2),\"\")","v":""},"",{"$f":"IFERROR(SUBSTITUTE(SUBSTITUTE(SUBSTITUTE(RIGHT(INDIRECT(\"Trello!\"&ADDRESS(ROW()-1, L$1, 4)),LEN(INDIRECT(\"Trello!\"&ADDRESS(ROW()-1, L$1, 4)))-15),\". \",\"/\"),\" 20\",\"/20\"),\" \",\"\"),\"\")","v":""},{"$f":"IFERROR(SUBSTITUTE(SUBSTITUTE(SUBSTITUTE(RIGHT(INDIRECT(\"Trello!\"&ADDRESS(ROW()-1, M$1, 4)),LEN(INDIRECT(\"Trello!\"&ADDRESS(ROW()-1, M$1, 4)))-15),\". \",\"/\"),\" 20\",\"/20\"),\" \",\"\"),\"\")","v":""},{"$f":"IFERROR(SUBSTITUTE(SUBSTITUTE(SUBSTITUTE(SUBSTITUTE(SUBSTITUTE(SUBSTITUTE(SUBSTITUTE(SUBSTITUTE(SUBSTITUTE(SUBSTITUTE(SUBSTITUTE(SUBSTITUTE(J203,\"Dez\",12),\"Nov\",11),\"Okt\",10),\"Sept\",9),\"Aug\",8),\"Juli\",7),\"Juni\",6),\"Mai\",5),\"Apr\",4),\"März\",3),\"Feb\",2),\"Jan\",1)*1,\"\")","v":""},"","",{"$f":"IFERROR(SUBSTITUTE(INDIRECT(\"Trello!\"&ADDRESS(ROW()-1, O$1, 4)),\"Estimate hrs: \",\"\")*1,\"\")","v":""},{"$f":"IF(SUMIF(Timecamp!C:C,Reporte!A203,Timecamp!J:J)=0,\"\",SUMIF(Timecamp!C:C,Reporte!A203,Timecamp!J:J))","v":""},"","",{"$f":"IFERROR(VLOOKUP(A203,'SLA Trab'!E:I,5,FALSE),\"\")","v":""},{"$f":"IFERROR(VLOOKUP(A203,'SLA Cobr'!E:I,5,FALSE),\"\")","v":""}]
[{"$f":"IFERROR(IF(Trello!E203=\"\",\"\",Trello!E203),\" \")","v":""},{"$f":"IF($A204=\"\",\"\",IF(Trello!A203=\"\",B203,Trello!A203))","v":""},"",{"$f":"IF($A204=\"\",\"\",SUBSTITUTE(SUBSTITUTE(Trello!J203,\" days\",\"\"),\"⌚ \",\"\")*1)","v":""},{"$f":"IFERROR(IF($A204=\"\",\"\",SUBSTITUTE(SUBSTITUTE(SUBSTITUTE(INDIRECT(\"Trello!\"&ADDRESS(ROW()-1, E$1, 4)),\"Foreign: \",\"\"),\" $\",\"\"),\".\",\"\")*1),\"\")","v":""},{"$f":"IF($E204=\"\",IFERROR(IF($A204=\"\",\"\",SUBSTITUTE(SUBSTITUTE(SUBSTITUTE(INDIRECT(\"Trello!\"&ADDRESS(ROW()-1, F$1, 4)),\"MXN: \",\"\"),\" MX$\",\"\"),\".\",\"\")*1),\"\"),E204*F$2)","v":""},{"$f":"IFERROR(IF($A204=\"\",\"\",SUBSTITUTE(SUBSTITUTE(SUBSTITUTE(INDIRECT(\"Trello!\"&ADDRESS(ROW()-1, G$1, 4)),\"Debt: \",\"\"),\" $\",\"\"),\".\",\"\")*1)*IF(E204=\"\",1,F$2),\"\")","v":""},{"$f":"IFERROR(IF($A204=\"\",\"\",SUBSTITUTE(SUBSTITUTE(SUBSTITUTE(INDIRECT(\"Trello!\"&ADDRESS(ROW()-1, H$1, 4)),\"Cost: \",\"\"),\" $\",\"\"),\".\",\"\")*1*$F$2),\"\")","v":""},"",{"$f":"IFERROR(SUBSTITUTE(SUBSTITUTE(SUBSTITUTE(RIGHT(INDIRECT(\"Trello!\"&ADDRESS(ROW()-1, L$1, 4)),LEN(INDIRECT(\"Trello!\"&ADDRESS(ROW()-1, L$1, 4)))-15),\". \",\"/\"),\" 20\",\"/20\"),\" \",\"\"),\"\")","v":""},{"$f":"IFERROR(SUBSTITUTE(SUBSTITUTE(SUBSTITUTE(RIGHT(INDIRECT(\"Trello!\"&ADDRESS(ROW()-1, M$1, 4)),LEN(INDIRECT(\"Trello!\"&ADDRESS(ROW()-1, M$1, 4)))-15),\". \",\"/\"),\" 20\",\"/20\"),\" \",\"\"),\"\")","v":""},"","","",{"$f":"IFERROR(SUBSTITUTE(INDIRECT(\"Trello!\"&ADDRESS(ROW()-1, O$1, 4)),\"Estimate hrs: \",\"\")*1,\"\")","v":""},{"$f":"IF(SUMIF(Timecamp!C:C,Reporte!A204,Timecamp!J:J)=0,\"\",SUMIF(Timecamp!C:C,Reporte!A204,Timecamp!J:J))","v":""},"","",{"$f":"IFERROR(VLOOKUP(A204,'SLA Trab'!E:I,5,FALSE),\"\")","v":""},{"$f":"IFERROR(VLOOKUP(A204,'SLA Cobr'!E:I,5,FALSE),\"\")","v":""}]
[{"$f":"IFERROR(IF(Trello!E204=\"\",\"\",Trello!E204),\" \")","v":""},{"$f":"IF($A205=\"\",\"\",IF(Trello!A204=\"\",B204,Trello!A204))","v":""},"",{"$f":"IF($A205=\"\",\"\",SUBSTITUTE(SUBSTITUTE(Trello!J204,\" days\",\"\"),\"⌚ \",\"\")*1)","v":""},{"$f":"IFERROR(IF($A205=\"\",\"\",SUBSTITUTE(SUBSTITUTE(SUBSTITUTE(INDIRECT(\"Trello!\"&ADDRESS(ROW()-1, E$1, 4)),\"Foreign: \",\"\"),\" $\",\"\"),\".\",\"\")*1),\"\")","v":""},{"$f":"IF($E205=\"\",IFERROR(IF($A205=\"\",\"\",SUBSTITUTE(SUBSTITUTE(SUBSTITUTE(INDIRECT(\"Trello!\"&ADDRESS(ROW()-1, F$1, 4)),\"MXN: \",\"\"),\" MX$\",\"\"),\".\",\"\")*1),\"\"),E205*F$2)","v":""},{"$f":"IFERROR(IF($A205=\"\",\"\",SUBSTITUTE(SUBSTITUTE(SUBSTITUTE(INDIRECT(\"Trello!\"&ADDRESS(ROW()-1, G$1, 4)),\"Debt: \",\"\"),\" $\",\"\"),\".\",\"\")*1)*IF(E205=\"\",1,F$2),\"\")","v":""},{"$f":"IFERROR(IF($A205=\"\",\"\",SUBSTITUTE(SUBSTITUTE(SUBSTITUTE(INDIRECT(\"Trello!\"&ADDRESS(ROW()-1, H$1, 4)),\"Cost: \",\"\"),\" $\",\"\"),\".\",\"\")*1*$F$2),\"\")","v":""},"",{"$f":"IFERROR(SUBSTITUTE(SUBSTITUTE(SUBSTITUTE(RIGHT(INDIRECT(\"Trello!\"&ADDRESS(ROW()-1, L$1, 4)),LEN(INDIRECT(\"Trello!\"&ADDRESS(ROW()-1, L$1, 4)))-15),\". \",\"/\"),\" 20\",\"/20\"),\" \",\"\"),\"\")","v":""},{"$f":"IFERROR(SUBSTITUTE(SUBSTITUTE(SUBSTITUTE(RIGHT(INDIRECT(\"Trello!\"&ADDRESS(ROW()-1, M$1, 4)),LEN(INDIRECT(\"Trello!\"&ADDRESS(ROW()-1, M$1, 4)))-15),\". \",\"/\"),\" 20\",\"/20\"),\" \",\"\"),\"\")","v":""},"","","",{"$f":"IFERROR(SUBSTITUTE(INDIRECT(\"Trello!\"&ADDRESS(ROW()-1, O$1, 4)),\"Estimate hrs: \",\"\")*1,\"\")","v":""},{"$f":"IF(SUMIF(Timecamp!C:C,Reporte!A205,Timecamp!J:J)=0,\"\",SUMIF(Timecamp!C:C,Reporte!A205,Timecamp!J:J))","v":""},"","",{"$f":"IFERROR(VLOOKUP(A205,'SLA Trab'!E:I,5,FALSE),\"\")","v":""},{"$f":"IFERROR(VLOOKUP(A205,'SLA Cobr'!E:I,5,FALSE),\"\")","v":""}]
[{"$f":"IFERROR(IF(Trello!E205=\"\",\"\",Trello!E205),\" \")","v":""},{"$f":"IF($A206=\"\",\"\",IF(Trello!A205=\"\",B205,Trello!A205))","v":""},"",{"$f":"IF($A206=\"\",\"\",SUBSTITUTE(SUBSTITUTE(Trello!J205,\" days\",\"\"),\"⌚ \",\"\")*1)","v":""},{"$f":"IFERROR(IF($A206=\"\",\"\",SUBSTITUTE(SUBSTITUTE(SUBSTITUTE(INDIRECT(\"Trello!\"&ADDRESS(ROW()-1, E$1, 4)),\"Foreign: \",\"\"),\" $\",\"\"),\".\",\"\")*1),\"\")","v":""},{"$f":"IF($E206=\"\",IFERROR(IF($A206=\"\",\"\",SUBSTITUTE(SUBSTITUTE(SUBSTITUTE(INDIRECT(\"Trello!\"&ADDRESS(ROW()-1, F$1, 4)),\"MXN: \",\"\"),\" MX$\",\"\"),\".\",\"\")*1),\"\"),E206*F$2)","v":""},{"$f":"IFERROR(IF($A206=\"\",\"\",SUBSTITUTE(SUBSTITUTE(SUBSTITUTE(INDIRECT(\"Trello!\"&ADDRESS(ROW()-1, G$1, 4)),\"Debt: \",\"\"),\" $\",\"\"),\".\",\"\")*1)*IF(E206=\"\",1,F$2),\"\")","v":""},{"$f":"IFERROR(IF($A206=\"\",\"\",SUBSTITUTE(SUBSTITUTE(SUBSTITUTE(INDIRECT(\"Trello!\"&ADDRESS(ROW()-1, H$1, 4)),\"Cost: \",\"\"),\" $\",\"\"),\".\",\"\")*1*$F$2),\"\")","v":""},"",{"$f":"IFERROR(SUBSTITUTE(SUBSTITUTE(SUBSTITUTE(RIGHT(INDIRECT(\"Trello!\"&ADDRESS(ROW()-1, L$1, 4)),LEN(INDIRECT(\"Trello!\"&ADDRESS(ROW()-1, L$1, 4)))-15),\". \",\"/\"),\" 20\",\"/20\"),\" \",\"\"),\"\")","v":""},{"$f":"IFERROR(SUBSTITUTE(SUBSTITUTE(SUBSTITUTE(RIGHT(INDIRECT(\"Trello!\"&ADDRESS(ROW()-1, M$1, 4)),LEN(INDIRECT(\"Trello!\"&ADDRESS(ROW()-1, M$1, 4)))-15),\". \",\"/\"),\" 20\",\"/20\"),\" \",\"\"),\"\")","v":""},"","","",{"$f":"IFERROR(SUBSTITUTE(INDIRECT(\"Trello!\"&ADDRESS(ROW()-1, O$1, 4)),\"Estimate hrs: \",\"\")*1,\"\")","v":""},{"$f":"IF(SUMIF(Timecamp!C:C,Reporte!A206,Timecamp!J:J)=0,\"\",SUMIF(Timecamp!C:C,Reporte!A206,Timecamp!J:J))","v":""},"","",{"$f":"IFERROR(VLOOKUP(A206,'SLA Trab'!E:I,5,FALSE),\"\")","v":""},{"$f":"IFERROR(VLOOKUP(A206,'SLA Cobr'!E:I,5,FALSE),\"\")","v":""}]
[{"$f":"IFERROR(IF(Trello!E206=\"\",\"\",Trello!E206),\" \")","v":""},{"$f":"IF($A207=\"\",\"\",IF(Trello!A206=\"\",B206,Trello!A206))","v":""},"",{"$f":"IF($A207=\"\",\"\",SUBSTITUTE(SUBSTITUTE(Trello!J206,\" days\",\"\"),\"⌚ \",\"\")*1)","v":""},{"$f":"IFERROR(IF($A207=\"\",\"\",SUBSTITUTE(SUBSTITUTE(SUBSTITUTE(INDIRECT(\"Trello!\"&ADDRESS(ROW()-1, E$1, 4)),\"Foreign: \",\"\"),\" $\",\"\"),\".\",\"\")*1),\"\")","v":""},{"$f":"IF($E207=\"\",IFERROR(IF($A207=\"\",\"\",SUBSTITUTE(SUBSTITUTE(SUBSTITUTE(INDIRECT(\"Trello!\"&ADDRESS(ROW()-1, F$1, 4)),\"MXN: \",\"\"),\" MX$\",\"\"),\".\",\"\")*1),\"\"),E207*F$2)","v":""},{"$f":"IFERROR(IF($A207=\"\",\"\",SUBSTITUTE(SUBSTITUTE(SUBSTITUTE(INDIRECT(\"Trello!\"&ADDRESS(ROW()-1, G$1, 4)),\"Debt: \",\"\"),\" $\",\"\"),\".\",\"\")*1)*IF(E207=\"\",1,F$2),\"\")","v":""},{"$f":"IFERROR(IF($A207=\"\",\"\",SUBSTITUTE(SUBSTITUTE(SUBSTITUTE(INDIRECT(\"Trello!\"&ADDRESS(ROW()-1, H$1, 4)),\"Cost: \",\"\"),\" $\",\"\"),\".\",\"\")*1*$F$2),\"\")","v":""},"",{"$f":"IFERROR(SUBSTITUTE(SUBSTITUTE(SUBSTITUTE(RIGHT(INDIRECT(\"Trello!\"&ADDRESS(ROW()-1, L$1, 4)),LEN(INDIRECT(\"Trello!\"&ADDRESS(ROW()-1, L$1, 4)))-15),\". \",\"/\"),\" 20\",\"/20\"),\" \",\"\"),\"\")","v":""},{"$f":"IFERROR(SUBSTITUTE(SUBSTITUTE(SUBSTITUTE(RIGHT(INDIRECT(\"Trello!\"&ADDRESS(ROW()-1, M$1, 4)),LEN(INDIRECT(\"Trello!\"&ADDRESS(ROW()-1, M$1, 4)))-15),\". \",\"/\"),\" 20\",\"/20\"),\" \",\"\"),\"\")","v":""},"","","",{"$f":"IFERROR(SUBSTITUTE(INDIRECT(\"Trello!\"&ADDRESS(ROW()-1, O$1, 4)),\"Estimate hrs: \",\"\")*1,\"\")","v":""},{"$f":"IF(SUMIF(Timecamp!C:C,Reporte!A207,Timecamp!J:J)=0,\"\",SUMIF(Timecamp!C:C,Reporte!A207,Timecamp!J:J))","v":""},"","",{"$f":"IFERROR(VLOOKUP(A207,'SLA Trab'!E:I,5,FALSE),\"\")","v":""},{"$f":"IFERROR(VLOOKUP(A207,'SLA Cobr'!E:I,5,FALSE),\"\")","v":""}]
[{"$f":"IFERROR(IF(Trello!E207=\"\",\"\",Trello!E207),\" \")","v":""},{"$f":"IF($A208=\"\",\"\",IF(Trello!A207=\"\",B207,Trello!A207))","v":""},"",{"$f":"IF($A208=\"\",\"\",SUBSTITUTE(SUBSTITUTE(Trello!J207,\" days\",\"\"),\"⌚ \",\"\")*1)","v":""},{"$f":"IFERROR(IF($A208=\"\",\"\",SUBSTITUTE(SUBSTITUTE(SUBSTITUTE(INDIRECT(\"Trello!\"&ADDRESS(ROW()-1, E$1, 4)),\"Foreign: \",\"\"),\" $\",\"\"),\".\",\"\")*1),\"\")","v":""},{"$f":"IF($E208=\"\",IFERROR(IF($A208=\"\",\"\",SUBSTITUTE(SUBSTITUTE(SUBSTITUTE(INDIRECT(\"Trello!\"&ADDRESS(ROW()-1, F$1, 4)),\"MXN: \",\"\"),\" MX$\",\"\"),\".\",\"\")*1),\"\"),E208*F$2)","v":""},{"$f":"IFERROR(IF($A208=\"\",\"\",SUBSTITUTE(SUBSTITUTE(SUBSTITUTE(INDIRECT(\"Trello!\"&ADDRESS(ROW()-1, G$1, 4)),\"Debt: \",\"\"),\" $\",\"\"),\".\",\"\")*1)*IF(E208=\"\",1,F$2),\"\")","v":""},{"$f":"IFERROR(IF($A208=\"\",\"\",SUBSTITUTE(SUBSTITUTE(SUBSTITUTE(INDIRECT(\"Trello!\"&ADDRESS(ROW()-1, H$1, 4)),\"Cost: \",\"\"),\" $\",\"\"),\".\",\"\")*1*$F$2),\"\")","v":""},"",{"$f":"IFERROR(SUBSTITUTE(SUBSTITUTE(SUBSTITUTE(RIGHT(INDIRECT(\"Trello!\"&ADDRESS(ROW()-1, L$1, 4)),LEN(INDIRECT(\"Trello!\"&ADDRESS(ROW()-1, L$1, 4)))-15),\". \",\"/\"),\" 20\",\"/20\"),\" \",\"\"),\"\")","v":""},{"$f":"IFERROR(SUBSTITUTE(SUBSTITUTE(SUBSTITUTE(RIGHT(INDIRECT(\"Trello!\"&ADDRESS(ROW()-1, M$1, 4)),LEN(INDIRECT(\"Trello!\"&ADDRESS(ROW()-1, M$1, 4)))-15),\". \",\"/\"),\" 20\",\"/20\"),\" \",\"\"),\"\")","v":""},"","","",{"$f":"IFERROR(SUBSTITUTE(INDIRECT(\"Trello!\"&ADDRESS(ROW()-1, O$1, 4)),\"Estimate hrs: \",\"\")*1,\"\")","v":""},{"$f":"IF(SUMIF(Timecamp!C:C,Reporte!A208,Timecamp!J:J)=0,\"\",SUMIF(Timecamp!C:C,Reporte!A208,Timecamp!J:J))","v":""},"","",{"$f":"IFERROR(VLOOKUP(A208,'SLA Trab'!E:I,5,FALSE),\"\")","v":""},{"$f":"IFERROR(VLOOKUP(A208,'SLA Cobr'!E:I,5,FALSE),\"\")","v":""}]
[{"$f":"IFERROR(IF(Trello!E208=\"\",\"\",Trello!E208),\" \")","v":""},{"$f":"IF($A209=\"\",\"\",IF(Trello!A208=\"\",B208,Trello!A208))","v":""},"",{"$f":"IF($A209=\"\",\"\",SUBSTITUTE(SUBSTITUTE(Trello!J208,\" days\",\"\"),\"⌚ \",\"\")*1)","v":""},{"$f":"IFERROR(IF($A209=\"\",\"\",SUBSTITUTE(SUBSTITUTE(SUBSTITUTE(INDIRECT(\"Trello!\"&ADDRESS(ROW()-1, E$1, 4)),\"Foreign: \",\"\"),\" $\",\"\"),\".\",\"\")*1),\"\")","v":""},{"$f":"IF($E209=\"\",IFERROR(IF($A209=\"\",\"\",SUBSTITUTE(SUBSTITUTE(SUBSTITUTE(INDIRECT(\"Trello!\"&ADDRESS(ROW()-1, F$1, 4)),\"MXN: \",\"\"),\" MX$\",\"\"),\".\",\"\")*1),\"\"),E209*F$2)","v":""},{"$f":"IFERROR(IF($A209=\"\",\"\",SUBSTITUTE(SUBSTITUTE(SUBSTITUTE(INDIRECT(\"Trello!\"&ADDRESS(ROW()-1, G$1, 4)),\"Debt: \",\"\"),\" $\",\"\"),\".\",\"\")*1)*IF(E209=\"\",1,F$2),\"\")","v":""},{"$f":"IFERROR(IF($A209=\"\",\"\",SUBSTITUTE(SUBSTITUTE(SUBSTITUTE(INDIRECT(\"Trello!\"&ADDRESS(ROW()-1, H$1, 4)),\"Cost: \",\"\"),\" $\",\"\"),\".\",\"\")*1*$F$2),\"\")","v":""},"",{"$f":"IFERROR(SUBSTITUTE(SUBSTITUTE(SUBSTITUTE(RIGHT(INDIRECT(\"Trello!\"&ADDRESS(ROW()-1, L$1, 4)),LEN(INDIRECT(\"Trello!\"&ADDRESS(ROW()-1, L$1, 4)))-15),\". \",\"/\"),\" 20\",\"/20\"),\" \",\"\"),\"\")","v":""},{"$f":"IFERROR(SUBSTITUTE(SUBSTITUTE(SUBSTITUTE(RIGHT(INDIRECT(\"Trello!\"&ADDRESS(ROW()-1, M$1, 4)),LEN(INDIRECT(\"Trello!\"&ADDRESS(ROW()-1, M$1, 4)))-15),\". \",\"/\"),\" 20\",\"/20\"),\" \",\"\"),\"\")","v":""},"","","",{"$f":"IFERROR(SUBSTITUTE(INDIRECT(\"Trello!\"&ADDRESS(ROW()-1, O$1, 4)),\"Estimate hrs: \",\"\")*1,\"\")","v":""},{"$f":"IF(SUMIF(Timecamp!C:C,Reporte!A209,Timecamp!J:J)=0,\"\",SUMIF(Timecamp!C:C,Reporte!A209,Timecamp!J:J))","v":""},"","",{"$f":"IFERROR(VLOOKUP(A209,'SLA Trab'!E:I,5,FALSE),\"\")","v":""},{"$f":"IFERROR(VLOOKUP(A209,'SLA Cobr'!E:I,5,FALSE),\"\")","v":""}]
[{"$f":"IFERROR(IF(Trello!E209=\"\",\"\",Trello!E209),\" \")","v":""},{"$f":"IF($A210=\"\",\"\",IF(Trello!A209=\"\",B209,Trello!A209))","v":""},"",{"$f":"IF($A210=\"\",\"\",SUBSTITUTE(SUBSTITUTE(Trello!J209,\" days\",\"\"),\"⌚ \",\"\")*1)","v":""},{"$f":"IFERROR(IF($A210=\"\",\"\",SUBSTITUTE(SUBSTITUTE(SUBSTITUTE(INDIRECT(\"Trello!\"&ADDRESS(ROW()-1, E$1, 4)),\"Foreign: \",\"\"),\" $\",\"\"),\".\",\"\")*1),\"\")","v":""},{"$f":"IF($E210=\"\",IFERROR(IF($A210=\"\",\"\",SUBSTITUTE(SUBSTITUTE(SUBSTITUTE(INDIRECT(\"Trello!\"&ADDRESS(ROW()-1, F$1, 4)),\"MXN: \",\"\"),\" MX$\",\"\"),\".\",\"\")*1),\"\"),E210*F$2)","v":""},{"$f":"IFERROR(IF($A210=\"\",\"\",SUBSTITUTE(SUBSTITUTE(SUBSTITUTE(INDIRECT(\"Trello!\"&ADDRESS(ROW()-1, G$1, 4)),\"Debt: \",\"\"),\" $\",\"\"),\".\",\"\")*1)*IF(E210=\"\",1,F$2),\"\")","v":""},{"$f":"IFERROR(IF($A210=\"\",\"\",SUBSTITUTE(SUBSTITUTE(SUBSTITUTE(INDIRECT(\"Trello!\"&ADDRESS(ROW()-1, H$1, 4)),\"Cost: \",\"\"),\" $\",\"\"),\".\",\"\")*1*$F$2),\"\")","v":""},"",{"$f":"IFERROR(SUBSTITUTE(SUBSTITUTE(SUBSTITUTE(RIGHT(INDIRECT(\"Trello!\"&ADDRESS(ROW()-1, L$1, 4)),LEN(INDIRECT(\"Trello!\"&ADDRESS(ROW()-1, L$1, 4)))-15),\". \",\"/\"),\" 20\",\"/20\"),\" \",\"\"),\"\")","v":""},{"$f":"IFERROR(SUBSTITUTE(SUBSTITUTE(SUBSTITUTE(RIGHT(INDIRECT(\"Trello!\"&ADDRESS(ROW()-1, M$1, 4)),LEN(INDIRECT(\"Trello!\"&ADDRESS(ROW()-1, M$1, 4)))-15),\". \",\"/\"),\" 20\",\"/20\"),\" \",\"\"),\"\")","v":""},"","","",{"$f":"IFERROR(SUBSTITUTE(INDIRECT(\"Trello!\"&ADDRESS(ROW()-1, O$1, 4)),\"Estimate hrs: \",\"\")*1,\"\")","v":""},{"$f":"IF(SUMIF(Timecamp!C:C,Reporte!A210,Timecamp!J:J)=0,\"\",SUMIF(Timecamp!C:C,Reporte!A210,Timecamp!J:J))","v":""},"","",{"$f":"IFERROR(VLOOKUP(A210,'SLA Trab'!E:I,5,FALSE),\"\")","v":""},{"$f":"IFERROR(VLOOKUP(A210,'SLA Cobr'!E:I,5,FALSE),\"\")","v":""}]
[{"$f":"IFERROR(IF(Trello!E210=\"\",\"\",Trello!E210),\" \")","v":""},{"$f":"IF($A211=\"\",\"\",IF(Trello!A210=\"\",B210,Trello!A210))","v":""},"",{"$f":"IF($A211=\"\",\"\",SUBSTITUTE(SUBSTITUTE(Trello!J210,\" days\",\"\"),\"⌚ \",\"\")*1)","v":""},{"$f":"IFERROR(IF($A211=\"\",\"\",SUBSTITUTE(SUBSTITUTE(SUBSTITUTE(INDIRECT(\"Trello!\"&ADDRESS(ROW()-1, E$1, 4)),\"Foreign: \",\"\"),\" $\",\"\"),\".\",\"\")*1),\"\")","v":""},{"$f":"IF($E211=\"\",IFERROR(IF($A211=\"\",\"\",SUBSTITUTE(SUBSTITUTE(SUBSTITUTE(INDIRECT(\"Trello!\"&ADDRESS(ROW()-1, F$1, 4)),\"MXN: \",\"\"),\" MX$\",\"\"),\".\",\"\")*1),\"\"),E211*F$2)","v":""},{"$f":"IFERROR(IF($A211=\"\",\"\",SUBSTITUTE(SUBSTITUTE(SUBSTITUTE(INDIRECT(\"Trello!\"&ADDRESS(ROW()-1, G$1, 4)),\"Debt: \",\"\"),\" $\",\"\"),\".\",\"\")*1)*IF(E211=\"\",1,F$2),\"\")","v":""},{"$f":"IFERROR(IF($A211=\"\",\"\",SUBSTITUTE(SUBSTITUTE(SUBSTITUTE(INDIRECT(\"Trello!\"&ADDRESS(ROW()-1, H$1, 4)),\"Cost: \",\"\"),\" $\",\"\"),\".\",\"\")*1*$F$2),\"\")","v":""},"",{"$f":"IFERROR(SUBSTITUTE(SUBSTITUTE(SUBSTITUTE(RIGHT(INDIRECT(\"Trello!\"&ADDRESS(ROW()-1, L$1, 4)),LEN(INDIRECT(\"Trello!\"&ADDRESS(ROW()-1, L$1, 4)))-15),\". \",\"/\"),\" 20\",\"/20\"),\" \",\"\"),\"\")","v":""},{"$f":"IFERROR(SUBSTITUTE(SUBSTITUTE(SUBSTITUTE(RIGHT(INDIRECT(\"Trello!\"&ADDRESS(ROW()-1, M$1, 4)),LEN(INDIRECT(\"Trello!\"&ADDRESS(ROW()-1, M$1, 4)))-15),\". \",\"/\"),\" 20\",\"/20\"),\" \",\"\"),\"\")","v":""},"","","",{"$f":"IFERROR(SUBSTITUTE(INDIRECT(\"Trello!\"&ADDRESS(ROW()-1, O$1, 4)),\"Estimate hrs: \",\"\")*1,\"\")","v":""},{"$f":"IF(SUMIF(Timecamp!C:C,Reporte!A211,Timecamp!J:J)=0,\"\",SUMIF(Timecamp!C:C,Reporte!A211,Timecamp!J:J))","v":""},"","",{"$f":"IFERROR(VLOOKUP(A211,'SLA Trab'!E:I,5,FALSE),\"\")","v":""},{"$f":"IFERROR(VLOOKUP(A211,'SLA Cobr'!E:I,5,FALSE),\"\")","v":""}]
[{"$f":"IFERROR(IF(Trello!E211=\"\",\"\",Trello!E211),\" \")","v":""},{"$f":"IF($A212=\"\",\"\",IF(Trello!A211=\"\",B211,Trello!A211))","v":""},"",{"$f":"IF($A212=\"\",\"\",SUBSTITUTE(SUBSTITUTE(Trello!J211,\" days\",\"\"),\"⌚ \",\"\")*1)","v":""},{"$f":"IFERROR(IF($A212=\"\",\"\",SUBSTITUTE(SUBSTITUTE(SUBSTITUTE(INDIRECT(\"Trello!\"&ADDRESS(ROW()-1, E$1, 4)),\"Foreign: \",\"\"),\" $\",\"\"),\".\",\"\")*1),\"\")","v":""},{"$f":"IF($E212=\"\",IFERROR(IF($A212=\"\",\"\",SUBSTITUTE(SUBSTITUTE(SUBSTITUTE(INDIRECT(\"Trello!\"&ADDRESS(ROW()-1, F$1, 4)),\"MXN: \",\"\"),\" MX$\",\"\"),\".\",\"\")*1),\"\"),E212*F$2)","v":""},{"$f":"IFERROR(IF($A212=\"\",\"\",SUBSTITUTE(SUBSTITUTE(SUBSTITUTE(INDIRECT(\"Trello!\"&ADDRESS(ROW()-1, G$1, 4)),\"Debt: \",\"\"),\" $\",\"\"),\".\",\"\")*1)*IF(E212=\"\",1,F$2),\"\")","v":""},{"$f":"IFERROR(IF($A212=\"\",\"\",SUBSTITUTE(SUBSTITUTE(SUBSTITUTE(INDIRECT(\"Trello!\"&ADDRESS(ROW()-1, H$1, 4)),\"Cost: \",\"\"),\" $\",\"\"),\".\",\"\")*1*$F$2),\"\")","v":""},"",{"$f":"IFERROR(SUBSTITUTE(SUBSTITUTE(SUBSTITUTE(RIGHT(INDIRECT(\"Trello!\"&ADDRESS(ROW()-1, L$1, 4)),LEN(INDIRECT(\"Trello!\"&ADDRESS(ROW()-1, L$1, 4)))-15),\". \",\"/\"),\" 20\",\"/20\"),\" \",\"\"),\"\")","v":""},{"$f":"IFERROR(SUBSTITUTE(SUBSTITUTE(SUBSTITUTE(RIGHT(INDIRECT(\"Trello!\"&ADDRESS(ROW()-1, M$1, 4)),LEN(INDIRECT(\"Trello!\"&ADDRESS(ROW()-1, M$1, 4)))-15),\". \",\"/\"),\" 20\",\"/20\"),\" \",\"\"),\"\")","v":""},"","","",{"$f":"IFERROR(SUBSTITUTE(INDIRECT(\"Trello!\"&ADDRESS(ROW()-1, O$1, 4)),\"Estimate hrs: \",\"\")*1,\"\")","v":""},{"$f":"IF(SUMIF(Timecamp!C:C,Reporte!A212,Timecamp!J:J)=0,\"\",SUMIF(Timecamp!C:C,Reporte!A212,Timecamp!J:J))","v":""},"","",{"$f":"IFERROR(VLOOKUP(A212,'SLA Trab'!E:I,5,FALSE),\"\")","v":""},{"$f":"IFERROR(VLOOKUP(A212,'SLA Cobr'!E:I,5,FALSE),\"\")","v":""}]
[{"$f":"IFERROR(IF(Trello!E212=\"\",\"\",Trello!E212),\" \")","v":""},{"$f":"IF($A213=\"\",\"\",IF(Trello!A212=\"\",B212,Trello!A212))","v":""},"",{"$f":"IF($A213=\"\",\"\",SUBSTITUTE(SUBSTITUTE(Trello!J212,\" days\",\"\"),\"⌚ \",\"\")*1)","v":""},{"$f":"IFERROR(IF($A213=\"\",\"\",SUBSTITUTE(SUBSTITUTE(SUBSTITUTE(INDIRECT(\"Trello!\"&ADDRESS(ROW()-1, E$1, 4)),\"Foreign: \",\"\"),\" $\",\"\"),\".\",\"\")*1),\"\")","v":""},{"$f":"IF($E213=\"\",IFERROR(IF($A213=\"\",\"\",SUBSTITUTE(SUBSTITUTE(SUBSTITUTE(INDIRECT(\"Trello!\"&ADDRESS(ROW()-1, F$1, 4)),\"MXN: \",\"\"),\" MX$\",\"\"),\".\",\"\")*1),\"\"),E213*F$2)","v":""},{"$f":"IFERROR(IF($A213=\"\",\"\",SUBSTITUTE(SUBSTITUTE(SUBSTITUTE(INDIRECT(\"Trello!\"&ADDRESS(ROW()-1, G$1, 4)),\"Debt: \",\"\"),\" $\",\"\"),\".\",\"\")*1)*IF(E213=\"\",1,F$2),\"\")","v":""},{"$f":"IFERROR(IF($A213=\"\",\"\",SUBSTITUTE(SUBSTITUTE(SUBSTITUTE(INDIRECT(\"Trello!\"&ADDRESS(ROW()-1, H$1, 4)),\"Cost: \",\"\"),\" $\",\"\"),\".\",\"\")*1*$F$2),\"\")","v":""},"",{"$f":"IFERROR(SUBSTITUTE(SUBSTITUTE(SUBSTITUTE(RIGHT(INDIRECT(\"Trello!\"&ADDRESS(ROW()-1, L$1, 4)),LEN(INDIRECT(\"Trello!\"&ADDRESS(ROW()-1, L$1, 4)))-15),\". \",\"/\"),\" 20\",\"/20\"),\" \",\"\"),\"\")","v":""},{"$f":"IFERROR(SUBSTITUTE(SUBSTITUTE(SUBSTITUTE(RIGHT(INDIRECT(\"Trello!\"&ADDRESS(ROW()-1, M$1, 4)),LEN(INDIRECT(\"Trello!\"&ADDRESS(ROW()-1, M$1, 4)))-15),\". \",\"/\"),\" 20\",\"/20\"),\" \",\"\"),\"\")","v":""},"","","",{"$f":"IFERROR(SUBSTITUTE(INDIRECT(\"Trello!\"&ADDRESS(ROW()-1, O$1, 4)),\"Estimate hrs: \",\"\")*1,\"\")","v":""},{"$f":"IF(SUMIF(Timecamp!C:C,Reporte!A213,Timecamp!J:J)=0,\"\",SUMIF(Timecamp!C:C,Reporte!A213,Timecamp!J:J))","v":""},"","",{"$f":"IFERROR(VLOOKUP(A213,'SLA Trab'!E:I,5,FALSE),\"\")","v":""},{"$f":"IFERROR(VLOOKUP(A213,'SLA Cobr'!E:I,5,FALSE),\"\")","v":""}]
[{"$f":"IFERROR(IF(Trello!E213=\"\",\"\",Trello!E213),\" \")","v":""},{"$f":"IF($A214=\"\",\"\",IF(Trello!A213=\"\",B213,Trello!A213))","v":""},"",{"$f":"IF($A214=\"\",\"\",SUBSTITUTE(SUBSTITUTE(Trello!J213,\" days\",\"\"),\"⌚ \",\"\")*1)","v":""},{"$f":"IFERROR(IF($A214=\"\",\"\",SUBSTITUTE(SUBSTITUTE(SUBSTITUTE(INDIRECT(\"Trello!\"&ADDRESS(ROW()-1, E$1, 4)),\"Foreign: \",\"\"),\" $\",\"\"),\".\",\"\")*1),\"\")","v":""},{"$f":"IF($E214=\"\",IFERROR(IF($A214=\"\",\"\",SUBSTITUTE(SUBSTITUTE(SUBSTITUTE(INDIRECT(\"Trello!\"&ADDRESS(ROW()-1, F$1, 4)),\"MXN: \",\"\"),\" MX$\",\"\"),\".\",\"\")*1),\"\"),E214*F$2)","v":""},{"$f":"IFERROR(IF($A214=\"\",\"\",SUBSTITUTE(SUBSTITUTE(SUBSTITUTE(INDIRECT(\"Trello!\"&ADDRESS(ROW()-1, G$1, 4)),\"Debt: \",\"\"),\" $\",\"\"),\".\",\"\")*1)*IF(E214=\"\",1,F$2),\"\")","v":""},{"$f":"IFERROR(IF($A214=\"\",\"\",SUBSTITUTE(SUBSTITUTE(SUBSTITUTE(INDIRECT(\"Trello!\"&ADDRESS(ROW()-1, H$1, 4)),\"Cost: \",\"\"),\" $\",\"\"),\".\",\"\")*1*$F$2),\"\")","v":""},"",{"$f":"IFERROR(SUBSTITUTE(SUBSTITUTE(SUBSTITUTE(RIGHT(INDIRECT(\"Trello!\"&ADDRESS(ROW()-1, L$1, 4)),LEN(INDIRECT(\"Trello!\"&ADDRESS(ROW()-1, L$1, 4)))-15),\". \",\"/\"),\" 20\",\"/20\"),\" \",\"\"),\"\")","v":""},{"$f":"IFERROR(SUBSTITUTE(SUBSTITUTE(SUBSTITUTE(RIGHT(INDIRECT(\"Trello!\"&ADDRESS(ROW()-1, M$1, 4)),LEN(INDIRECT(\"Trello!\"&ADDRESS(ROW()-1, M$1, 4)))-15),\". \",\"/\"),\" 20\",\"/20\"),\" \",\"\"),\"\")","v":""},"","","",{"$f":"IFERROR(SUBSTITUTE(INDIRECT(\"Trello!\"&ADDRESS(ROW()-1, O$1, 4)),\"Estimate hrs: \",\"\")*1,\"\")","v":""},{"$f":"IF(SUMIF(Timecamp!C:C,Reporte!A214,Timecamp!J:J)=0,\"\",SUMIF(Timecamp!C:C,Reporte!A214,Timecamp!J:J))","v":""},"","",{"$f":"IFERROR(VLOOKUP(A214,'SLA Trab'!E:I,5,FALSE),\"\")","v":""},{"$f":"IFERROR(VLOOKUP(A214,'SLA Cobr'!E:I,5,FALSE),\"\")","v":""}]
[{"$f":"IFERROR(IF(Trello!E214=\"\",\"\",Trello!E214),\" \")","v":""},{"$f":"IF($A215=\"\",\"\",IF(Trello!A214=\"\",B214,Trello!A214))","v":""},"",{"$f":"IF($A215=\"\",\"\",SUBSTITUTE(SUBSTITUTE(Trello!J214,\" days\",\"\"),\"⌚ \",\"\")*1)","v":""},{"$f":"IFERROR(IF($A215=\"\",\"\",SUBSTITUTE(SUBSTITUTE(SUBSTITUTE(INDIRECT(\"Trello!\"&ADDRESS(ROW()-1, E$1, 4)),\"Foreign: \",\"\"),\" $\",\"\"),\".\",\"\")*1),\"\")","v":""},{"$f":"IF($E215=\"\",IFERROR(IF($A215=\"\",\"\",SUBSTITUTE(SUBSTITUTE(SUBSTITUTE(INDIRECT(\"Trello!\"&ADDRESS(ROW()-1, F$1, 4)),\"MXN: \",\"\"),\" MX$\",\"\"),\".\",\"\")*1),\"\"),E215*F$2)","v":""},{"$f":"IFERROR(IF($A215=\"\",\"\",SUBSTITUTE(SUBSTITUTE(SUBSTITUTE(INDIRECT(\"Trello!\"&ADDRESS(ROW()-1, G$1, 4)),\"Debt: \",\"\"),\" $\",\"\"),\".\",\"\")*1)*IF(E215=\"\",1,F$2),\"\")","v":""},{"$f":"IFERROR(IF($A215=\"\",\"\",SUBSTITUTE(SUBSTITUTE(SUBSTITUTE(INDIRECT(\"Trello!\"&ADDRESS(ROW()-1, H$1, 4)),\"Cost: \",\"\"),\" $\",\"\"),\".\",\"\")*1*$F$2),\"\")","v":""},"",{"$f":"IFERROR(SUBSTITUTE(SUBSTITUTE(SUBSTITUTE(RIGHT(INDIRECT(\"Trello!\"&ADDRESS(ROW()-1, L$1, 4)),LEN(INDIRECT(\"Trello!\"&ADDRESS(ROW()-1, L$1, 4)))-15),\". \",\"/\"),\" 20\",\"/20\"),\" \",\"\"),\"\")","v":""},{"$f":"IFERROR(SUBSTITUTE(SUBSTITUTE(SUBSTITUTE(RIGHT(INDIRECT(\"Trello!\"&ADDRESS(ROW()-1, M$1, 4)),LEN(INDIRECT(\"Trello!\"&ADDRESS(ROW()-1, M$1, 4)))-15),\". \",\"/\"),\" 20\",\"/20\"),\" \",\"\"),\"\")","v":""},"","","",{"$f":"IFERROR(SUBSTITUTE(INDIRECT(\"Trello!\"&ADDRESS(ROW()-1, O$1, 4)),\"Estimate hrs: \",\"\")*1,\"\")","v":""},{"$f":"IF(SUMIF(Timecamp!C:C,Reporte!A215,Timecamp!J:J)=0,\"\",SUMIF(Timecamp!C:C,Reporte!A215,Timecamp!J:J))","v":""},"","",{"$f":"IFERROR(VLOOKUP(A215,'SLA Trab'!E:I,5,FALSE),\"\")","v":""},{"$f":"IFERROR(VLOOKUP(A215,'SLA Cobr'!E:I,5,FALSE),\"\")","v":""}]
[{"$f":"IFERROR(IF(Trello!E215=\"\",\"\",Trello!E215),\" \")","v":""},{"$f":"IF($A216=\"\",\"\",IF(Trello!A215=\"\",B215,Trello!A215))","v":""},"",{"$f":"IF($A216=\"\",\"\",SUBSTITUTE(SUBSTITUTE(Trello!J215,\" days\",\"\"),\"⌚ \",\"\")*1)","v":""},{"$f":"IFERROR(IF($A216=\"\",\"\",SUBSTITUTE(SUBSTITUTE(SUBSTITUTE(INDIRECT(\"Trello!\"&ADDRESS(ROW()-1, E$1, 4)),\"Foreign: \",\"\"),\" $\",\"\"),\".\",\"\")*1),\"\")","v":""},{"$f":"IF($E216=\"\",IFERROR(IF($A216=\"\",\"\",SUBSTITUTE(SUBSTITUTE(SUBSTITUTE(INDIRECT(\"Trello!\"&ADDRESS(ROW()-1, F$1, 4)),\"MXN: \",\"\"),\" MX$\",\"\"),\".\",\"\")*1),\"\"),E216*F$2)","v":""},{"$f":"IFERROR(IF($A216=\"\",\"\",SUBSTITUTE(SUBSTITUTE(SUBSTITUTE(INDIRECT(\"Trello!\"&ADDRESS(ROW()-1, G$1, 4)),\"Debt: \",\"\"),\" $\",\"\"),\".\",\"\")*1)*IF(E216=\"\",1,F$2),\"\")","v":""},{"$f":"IFERROR(IF($A216=\"\",\"\",SUBSTITUTE(SUBSTITUTE(SUBSTITUTE(INDIRECT(\"Trello!\"&ADDRESS(ROW()-1, H$1, 4)),\"Cost: \",\"\"),\" $\",\"\"),\".\",\"\")*1*$F$2),\"\")","v":""},"",{"$f":"IFERROR(SUBSTITUTE(SUBSTITUTE(SUBSTITUTE(RIGHT(INDIRECT(\"Trello!\"&ADDRESS(ROW()-1, L$1, 4)),LEN(INDIRECT(\"Trello!\"&ADDRESS(ROW()-1, L$1, 4)))-15),\". \",\"/\"),\" 20\",\"/20\"),\" \",\"\"),\"\")","v":""},{"$f":"IFERROR(SUBSTITUTE(SUBSTITUTE(SUBSTITUTE(RIGHT(INDIRECT(\"Trello!\"&ADDRESS(ROW()-1, M$1, 4)),LEN(INDIRECT(\"Trello!\"&ADDRESS(ROW()-1, M$1, 4)))-15),\". \",\"/\"),\" 20\",\"/20\"),\" \",\"\"),\"\")","v":""},"","","",{"$f":"IFERROR(SUBSTITUTE(INDIRECT(\"Trello!\"&ADDRESS(ROW()-1, O$1, 4)),\"Estimate hrs: \",\"\")*1,\"\")","v":""},{"$f":"IF(SUMIF(Timecamp!C:C,Reporte!A216,Timecamp!J:J)=0,\"\",SUMIF(Timecamp!C:C,Reporte!A216,Timecamp!J:J))","v":""},"","",{"$f":"IFERROR(VLOOKUP(A216,'SLA Trab'!E:I,5,FALSE),\"\")","v":""},{"$f":"IFERROR(VLOOKUP(A216,'SLA Cobr'!E:I,5,FALSE),\"\")","v":""}]
[{"$f":"IFERROR(IF(Trello!E216=\"\",\"\",Trello!E216),\" \")","v":""},{"$f":"IF($A217=\"\",\"\",IF(Trello!A216=\"\",B216,Trello!A216))","v":""},"",{"$f":"IF($A217=\"\",\"\",SUBSTITUTE(SUBSTITUTE(Trello!J216,\" days\",\"\"),\"⌚ \",\"\")*1)","v":""},{"$f":"IFERROR(IF($A217=\"\",\"\",SUBSTITUTE(SUBSTITUTE(SUBSTITUTE(INDIRECT(\"Trello!\"&ADDRESS(ROW()-1, E$1, 4)),\"Foreign: \",\"\"),\" $\",\"\"),\".\",\"\")*1),\"\")","v":""},{"$f":"IF($E217=\"\",IFERROR(IF($A217=\"\",\"\",SUBSTITUTE(SUBSTITUTE(SUBSTITUTE(INDIRECT(\"Trello!\"&ADDRESS(ROW()-1, F$1, 4)),\"MXN: \",\"\"),\" MX$\",\"\"),\".\",\"\")*1),\"\"),E217*F$2)","v":""},{"$f":"IFERROR(IF($A217=\"\",\"\",SUBSTITUTE(SUBSTITUTE(SUBSTITUTE(INDIRECT(\"Trello!\"&ADDRESS(ROW()-1, G$1, 4)),\"Debt: \",\"\"),\" $\",\"\"),\".\",\"\")*1)*IF(E217=\"\",1,F$2),\"\")","v":""},{"$f":"IFERROR(IF($A217=\"\",\"\",SUBSTITUTE(SUBSTITUTE(SUBSTITUTE(INDIRECT(\"Trello!\"&ADDRESS(ROW()-1, H$1, 4)),\"Cost: \",\"\"),\" $\",\"\"),\".\",\"\")*1*$F$2),\"\")","v":""},"",{"$f":"IFERROR(SUBSTITUTE(SUBSTITUTE(SUBSTITUTE(RIGHT(INDIRECT(\"Trello!\"&ADDRESS(ROW()-1, L$1, 4)),LEN(INDIRECT(\"Trello!\"&ADDRESS(ROW()-1, L$1, 4)))-15),\". \",\"/\"),\" 20\",\"/20\"),\" \",\"\"),\"\")","v":""},{"$f":"IFERROR(SUBSTITUTE(SUBSTITUTE(SUBSTITUTE(RIGHT(INDIRECT(\"Trello!\"&ADDRESS(ROW()-1, M$1, 4)),LEN(INDIRECT(\"Trello!\"&ADDRESS(ROW()-1, M$1, 4)))-15),\". \",\"/\"),\" 20\",\"/20\"),\" \",\"\"),\"\")","v":""},"","","",{"$f":"IFERROR(SUBSTITUTE(INDIRECT(\"Trello!\"&ADDRESS(ROW()-1, O$1, 4)),\"Estimate hrs: \",\"\")*1,\"\")","v":""},{"$f":"IF(SUMIF(Timecamp!C:C,Reporte!A217,Timecamp!J:J)=0,\"\",SUMIF(Timecamp!C:C,Reporte!A217,Timecamp!J:J))","v":""},"","",{"$f":"IFERROR(VLOOKUP(A217,'SLA Trab'!E:I,5,FALSE),\"\")","v":""},{"$f":"IFERROR(VLOOKUP(A217,'SLA Cobr'!E:I,5,FALSE),\"\")","v":""}]
[{"$f":"IFERROR(IF(Trello!E217=\"\",\"\",Trello!E217),\" \")","v":""},{"$f":"IF($A218=\"\",\"\",IF(Trello!A217=\"\",B217,Trello!A217))","v":""},"",{"$f":"IF($A218=\"\",\"\",SUBSTITUTE(SUBSTITUTE(Trello!J217,\" days\",\"\"),\"⌚ \",\"\")*1)","v":""},{"$f":"IFERROR(IF($A218=\"\",\"\",SUBSTITUTE(SUBSTITUTE(SUBSTITUTE(INDIRECT(\"Trello!\"&ADDRESS(ROW()-1, E$1, 4)),\"Foreign: \",\"\"),\" $\",\"\"),\".\",\"\")*1),\"\")","v":""},{"$f":"IF($E218=\"\",IFERROR(IF($A218=\"\",\"\",SUBSTITUTE(SUBSTITUTE(SUBSTITUTE(INDIRECT(\"Trello!\"&ADDRESS(ROW()-1, F$1, 4)),\"MXN: \",\"\"),\" MX$\",\"\"),\".\",\"\")*1),\"\"),E218*F$2)","v":""},{"$f":"IFERROR(IF($A218=\"\",\"\",SUBSTITUTE(SUBSTITUTE(SUBSTITUTE(INDIRECT(\"Trello!\"&ADDRESS(ROW()-1, G$1, 4)),\"Debt: \",\"\"),\" $\",\"\"),\".\",\"\")*1)*IF(E218=\"\",1,F$2),\"\")","v":""},{"$f":"IFERROR(IF($A218=\"\",\"\",SUBSTITUTE(SUBSTITUTE(SUBSTITUTE(INDIRECT(\"Trello!\"&ADDRESS(ROW()-1, H$1, 4)),\"Cost: \",\"\"),\" $\",\"\"),\".\",\"\")*1*$F$2),\"\")","v":""},"",{"$f":"IFERROR(SUBSTITUTE(SUBSTITUTE(SUBSTITUTE(RIGHT(INDIRECT(\"Trello!\"&ADDRESS(ROW()-1, L$1, 4)),LEN(INDIRECT(\"Trello!\"&ADDRESS(ROW()-1, L$1, 4)))-15),\". \",\"/\"),\" 20\",\"/20\"),\" \",\"\"),\"\")","v":""},{"$f":"IFERROR(SUBSTITUTE(SUBSTITUTE(SUBSTITUTE(RIGHT(INDIRECT(\"Trello!\"&ADDRESS(ROW()-1, M$1, 4)),LEN(INDIRECT(\"Trello!\"&ADDRESS(ROW()-1, M$1, 4)))-15),\". \",\"/\"),\" 20\",\"/20\"),\" \",\"\"),\"\")","v":""},"","","",{"$f":"IFERROR(SUBSTITUTE(INDIRECT(\"Trello!\"&ADDRESS(ROW()-1, O$1, 4)),\"Estimate hrs: \",\"\")*1,\"\")","v":""},{"$f":"IF(SUMIF(Timecamp!C:C,Reporte!A218,Timecamp!J:J)=0,\"\",SUMIF(Timecamp!C:C,Reporte!A218,Timecamp!J:J))","v":""},"","",{"$f":"IFERROR(VLOOKUP(A218,'SLA Trab'!E:I,5,FALSE),\"\")","v":""},{"$f":"IFERROR(VLOOKUP(A218,'SLA Cobr'!E:I,5,FALSE),\"\")","v":""}]
[{"$f":"IFERROR(IF(Trello!E218=\"\",\"\",Trello!E218),\" \")","v":""},{"$f":"IF($A219=\"\",\"\",IF(Trello!A218=\"\",B218,Trello!A218))","v":""},"",{"$f":"IF($A219=\"\",\"\",SUBSTITUTE(SUBSTITUTE(Trello!J218,\" days\",\"\"),\"⌚ \",\"\")*1)","v":""},{"$f":"IFERROR(IF($A219=\"\",\"\",SUBSTITUTE(SUBSTITUTE(SUBSTITUTE(INDIRECT(\"Trello!\"&ADDRESS(ROW()-1, E$1, 4)),\"Foreign: \",\"\"),\" $\",\"\"),\".\",\"\")*1),\"\")","v":""},{"$f":"IF($E219=\"\",IFERROR(IF($A219=\"\",\"\",SUBSTITUTE(SUBSTITUTE(SUBSTITUTE(INDIRECT(\"Trello!\"&ADDRESS(ROW()-1, F$1, 4)),\"MXN: \",\"\"),\" MX$\",\"\"),\".\",\"\")*1),\"\"),E219*F$2)","v":""},{"$f":"IFERROR(IF($A219=\"\",\"\",SUBSTITUTE(SUBSTITUTE(SUBSTITUTE(INDIRECT(\"Trello!\"&ADDRESS(ROW()-1, G$1, 4)),\"Debt: \",\"\"),\" $\",\"\"),\".\",\"\")*1)*IF(E219=\"\",1,F$2),\"\")","v":""},{"$f":"IFERROR(IF($A219=\"\",\"\",SUBSTITUTE(SUBSTITUTE(SUBSTITUTE(INDIRECT(\"Trello!\"&ADDRESS(ROW()-1, H$1, 4)),\"Cost: \",\"\"),\" $\",\"\"),\".\",\"\")*1*$F$2),\"\")","v":""},"",{"$f":"IFERROR(SUBSTITUTE(SUBSTITUTE(SUBSTITUTE(RIGHT(INDIRECT(\"Trello!\"&ADDRESS(ROW()-1, L$1, 4)),LEN(INDIRECT(\"Trello!\"&ADDRESS(ROW()-1, L$1, 4)))-15),\". \",\"/\"),\" 20\",\"/20\"),\" \",\"\"),\"\")","v":""},{"$f":"IFERROR(SUBSTITUTE(SUBSTITUTE(SUBSTITUTE(RIGHT(INDIRECT(\"Trello!\"&ADDRESS(ROW()-1, M$1, 4)),LEN(INDIRECT(\"Trello!\"&ADDRESS(ROW()-1, M$1, 4)))-15),\". \",\"/\"),\" 20\",\"/20\"),\" \",\"\"),\"\")","v":""},"","","",{"$f":"IFERROR(SUBSTITUTE(INDIRECT(\"Trello!\"&ADDRESS(ROW()-1, O$1, 4)),\"Estimate hrs: \",\"\")*1,\"\")","v":""},{"$f":"IF(SUMIF(Timecamp!C:C,Reporte!A219,Timecamp!J:J)=0,\"\",SUMIF(Timecamp!C:C,Reporte!A219,Timecamp!J:J))","v":""},"","",{"$f":"IFERROR(VLOOKUP(A219,'SLA Trab'!E:I,5,FALSE),\"\")","v":""},{"$f":"IFERROR(VLOOKUP(A219,'SLA Cobr'!E:I,5,FALSE),\"\")","v":""}]
[{"$f":"IFERROR(IF(Trello!E219=\"\",\"\",Trello!E219),\" \")","v":""},{"$f":"IF($A220=\"\",\"\",IF(Trello!A219=\"\",B219,Trello!A219))","v":""},"",{"$f":"IF($A220=\"\",\"\",SUBSTITUTE(SUBSTITUTE(Trello!J219,\" days\",\"\"),\"⌚ \",\"\")*1)","v":""},{"$f":"IFERROR(IF($A220=\"\",\"\",SUBSTITUTE(SUBSTITUTE(SUBSTITUTE(INDIRECT(\"Trello!\"&ADDRESS(ROW()-1, E$1, 4)),\"Foreign: \",\"\"),\" $\",\"\"),\".\",\"\")*1),\"\")","v":""},{"$f":"IF($E220=\"\",IFERROR(IF($A220=\"\",\"\",SUBSTITUTE(SUBSTITUTE(SUBSTITUTE(INDIRECT(\"Trello!\"&ADDRESS(ROW()-1, F$1, 4)),\"MXN: \",\"\"),\" MX$\",\"\"),\".\",\"\")*1),\"\"),E220*F$2)","v":""},{"$f":"IFERROR(IF($A220=\"\",\"\",SUBSTITUTE(SUBSTITUTE(SUBSTITUTE(INDIRECT(\"Trello!\"&ADDRESS(ROW()-1, G$1, 4)),\"Debt: \",\"\"),\" $\",\"\"),\".\",\"\")*1)*IF(E220=\"\",1,F$2),\"\")","v":""},{"$f":"IFERROR(IF($A220=\"\",\"\",SUBSTITUTE(SUBSTITUTE(SUBSTITUTE(INDIRECT(\"Trello!\"&ADDRESS(ROW()-1, H$1, 4)),\"Cost: \",\"\"),\" $\",\"\"),\".\",\"\")*1*$F$2),\"\")","v":""},"",{"$f":"IFERROR(SUBSTITUTE(SUBSTITUTE(SUBSTITUTE(RIGHT(INDIRECT(\"Trello!\"&ADDRESS(ROW()-1, L$1, 4)),LEN(INDIRECT(\"Trello!\"&ADDRESS(ROW()-1, L$1, 4)))-15),\". \",\"/\"),\" 20\",\"/20\"),\" \",\"\"),\"\")","v":""},{"$f":"IFERROR(SUBSTITUTE(SUBSTITUTE(SUBSTITUTE(RIGHT(INDIRECT(\"Trello!\"&ADDRESS(ROW()-1, M$1, 4)),LEN(INDIRECT(\"Trello!\"&ADDRESS(ROW()-1, M$1, 4)))-15),\". \",\"/\"),\" 20\",\"/20\"),\" \",\"\"),\"\")","v":""},"","","",{"$f":"IFERROR(SUBSTITUTE(INDIRECT(\"Trello!\"&ADDRESS(ROW()-1, O$1, 4)),\"Estimate hrs: \",\"\")*1,\"\")","v":""},{"$f":"IF(SUMIF(Timecamp!C:C,Reporte!A220,Timecamp!J:J)=0,\"\",SUMIF(Timecamp!C:C,Reporte!A220,Timecamp!J:J))","v":""},"","",{"$f":"IFERROR(VLOOKUP(A220,'SLA Trab'!E:I,5,FALSE),\"\")","v":""},{"$f":"IFERROR(VLOOKUP(A220,'SLA Cobr'!E:I,5,FALSE),\"\")","v":""}]
[{"$f":"IFERROR(IF(Trello!E220=\"\",\"\",Trello!E220),\" \")","v":""},{"$f":"IF($A221=\"\",\"\",IF(Trello!A220=\"\",B220,Trello!A220))","v":""},"",{"$f":"IF($A221=\"\",\"\",SUBSTITUTE(SUBSTITUTE(Trello!J220,\" days\",\"\"),\"⌚ \",\"\")*1)","v":""},{"$f":"IFERROR(IF($A221=\"\",\"\",SUBSTITUTE(SUBSTITUTE(SUBSTITUTE(INDIRECT(\"Trello!\"&ADDRESS(ROW()-1, E$1, 4)),\"Foreign: \",\"\"),\" $\",\"\"),\".\",\"\")*1),\"\")","v":""},{"$f":"IF($E221=\"\",IFERROR(IF($A221=\"\",\"\",SUBSTITUTE(SUBSTITUTE(SUBSTITUTE(INDIRECT(\"Trello!\"&ADDRESS(ROW()-1, F$1, 4)),\"MXN: \",\"\"),\" MX$\",\"\"),\".\",\"\")*1),\"\"),E221*F$2)","v":""},{"$f":"IFERROR(IF($A221=\"\",\"\",SUBSTITUTE(SUBSTITUTE(SUBSTITUTE(INDIRECT(\"Trello!\"&ADDRESS(ROW()-1, G$1, 4)),\"Debt: \",\"\"),\" $\",\"\"),\".\",\"\")*1)*IF(E221=\"\",1,F$2),\"\")","v":""},{"$f":"IFERROR(IF($A221=\"\",\"\",SUBSTITUTE(SUBSTITUTE(SUBSTITUTE(INDIRECT(\"Trello!\"&ADDRESS(ROW()-1, H$1, 4)),\"Cost: \",\"\"),\" $\",\"\"),\".\",\"\")*1*$F$2),\"\")","v":""},"",{"$f":"IFERROR(SUBSTITUTE(SUBSTITUTE(SUBSTITUTE(RIGHT(INDIRECT(\"Trello!\"&ADDRESS(ROW()-1, L$1, 4)),LEN(INDIRECT(\"Trello!\"&ADDRESS(ROW()-1, L$1, 4)))-15),\". \",\"/\"),\" 20\",\"/20\"),\" \",\"\"),\"\")","v":""},{"$f":"IFERROR(SUBSTITUTE(SUBSTITUTE(SUBSTITUTE(RIGHT(INDIRECT(\"Trello!\"&ADDRESS(ROW()-1, M$1, 4)),LEN(INDIRECT(\"Trello!\"&ADDRESS(ROW()-1, M$1, 4)))-15),\". \",\"/\"),\" 20\",\"/20\"),\" \",\"\"),\"\")","v":""},"","","",{"$f":"IFERROR(SUBSTITUTE(INDIRECT(\"Trello!\"&ADDRESS(ROW()-1, O$1, 4)),\"Estimate hrs: \",\"\")*1,\"\")","v":""},{"$f":"IF(SUMIF(Timecamp!C:C,Reporte!A221,Timecamp!J:J)=0,\"\",SUMIF(Timecamp!C:C,Reporte!A221,Timecamp!J:J))","v":""},"","",{"$f":"IFERROR(VLOOKUP(A221,'SLA Trab'!E:I,5,FALSE),\"\")","v":""},{"$f":"IFERROR(VLOOKUP(A221,'SLA Cobr'!E:I,5,FALSE),\"\")","v":""}]
[{"$f":"IFERROR(IF(Trello!E221=\"\",\"\",Trello!E221),\" \")","v":""},{"$f":"IF($A222=\"\",\"\",IF(Trello!A221=\"\",B221,Trello!A221))","v":""},"",{"$f":"IF($A222=\"\",\"\",SUBSTITUTE(SUBSTITUTE(Trello!J221,\" days\",\"\"),\"⌚ \",\"\")*1)","v":""},{"$f":"IFERROR(IF($A222=\"\",\"\",SUBSTITUTE(SUBSTITUTE(SUBSTITUTE(INDIRECT(\"Trello!\"&ADDRESS(ROW()-1, E$1, 4)),\"Foreign: \",\"\"),\" $\",\"\"),\".\",\"\")*1),\"\")","v":""},{"$f":"IF($E222=\"\",IFERROR(IF($A222=\"\",\"\",SUBSTITUTE(SUBSTITUTE(SUBSTITUTE(INDIRECT(\"Trello!\"&ADDRESS(ROW()-1, F$1, 4)),\"MXN: \",\"\"),\" MX$\",\"\"),\".\",\"\")*1),\"\"),E222*F$2)","v":""},{"$f":"IFERROR(IF($A222=\"\",\"\",SUBSTITUTE(SUBSTITUTE(SUBSTITUTE(INDIRECT(\"Trello!\"&ADDRESS(ROW()-1, G$1, 4)),\"Debt: \",\"\"),\" $\",\"\"),\".\",\"\")*1)*IF(E222=\"\",1,F$2),\"\")","v":""},{"$f":"IFERROR(IF($A222=\"\",\"\",SUBSTITUTE(SUBSTITUTE(SUBSTITUTE(INDIRECT(\"Trello!\"&ADDRESS(ROW()-1, H$1, 4)),\"Cost: \",\"\"),\" $\",\"\"),\".\",\"\")*1*$F$2),\"\")","v":""},"",{"$f":"IFERROR(SUBSTITUTE(SUBSTITUTE(SUBSTITUTE(RIGHT(INDIRECT(\"Trello!\"&ADDRESS(ROW()-1, L$1, 4)),LEN(INDIRECT(\"Trello!\"&ADDRESS(ROW()-1, L$1, 4)))-15),\". \",\"/\"),\" 20\",\"/20\"),\" \",\"\"),\"\")","v":""},{"$f":"IFERROR(SUBSTITUTE(SUBSTITUTE(SUBSTITUTE(RIGHT(INDIRECT(\"Trello!\"&ADDRESS(ROW()-1, M$1, 4)),LEN(INDIRECT(\"Trello!\"&ADDRESS(ROW()-1, M$1, 4)))-15),\". \",\"/\"),\" 20\",\"/20\"),\" \",\"\"),\"\")","v":""},"","","",{"$f":"IFERROR(SUBSTITUTE(INDIRECT(\"Trello!\"&ADDRESS(ROW()-1, O$1, 4)),\"Estimate hrs: \",\"\")*1,\"\")","v":""},{"$f":"IF(SUMIF(Timecamp!C:C,Reporte!A222,Timecamp!J:J)=0,\"\",SUMIF(Timecamp!C:C,Reporte!A222,Timecamp!J:J))","v":""},"","",{"$f":"IFERROR(VLOOKUP(A222,'SLA Trab'!E:I,5,FALSE),\"\")","v":""},{"$f":"IFERROR(VLOOKUP(A222,'SLA Cobr'!E:I,5,FALSE),\"\")","v":""}]
[{"$f":"IFERROR(IF(Trello!E222=\"\",\"\",Trello!E222),\" \")","v":""},{"$f":"IF($A223=\"\",\"\",IF(Trello!A222=\"\",B222,Trello!A222))","v":""},"",{"$f":"IF($A223=\"\",\"\",SUBSTITUTE(SUBSTITUTE(Trello!J222,\" days\",\"\"),\"⌚ \",\"\")*1)","v":""},{"$f":"IFERROR(IF($A223=\"\",\"\",SUBSTITUTE(SUBSTITUTE(SUBSTITUTE(INDIRECT(\"Trello!\"&ADDRESS(ROW()-1, E$1, 4)),\"Foreign: \",\"\"),\" $\",\"\"),\".\",\"\")*1),\"\")","v":""},{"$f":"IF($E223=\"\",IFERROR(IF($A223=\"\",\"\",SUBSTITUTE(SUBSTITUTE(SUBSTITUTE(INDIRECT(\"Trello!\"&ADDRESS(ROW()-1, F$1, 4)),\"MXN: \",\"\"),\" MX$\",\"\"),\".\",\"\")*1),\"\"),E223*F$2)","v":""},{"$f":"IFERROR(IF($A223=\"\",\"\",SUBSTITUTE(SUBSTITUTE(SUBSTITUTE(INDIRECT(\"Trello!\"&ADDRESS(ROW()-1, G$1, 4)),\"Debt: \",\"\"),\" $\",\"\"),\".\",\"\")*1)*IF(E223=\"\",1,F$2),\"\")","v":""},{"$f":"IFERROR(IF($A223=\"\",\"\",SUBSTITUTE(SUBSTITUTE(SUBSTITUTE(INDIRECT(\"Trello!\"&ADDRESS(ROW()-1, H$1, 4)),\"Cost: \",\"\"),\" $\",\"\"),\".\",\"\")*1*$F$2),\"\")","v":""},"",{"$f":"IFERROR(SUBSTITUTE(SUBSTITUTE(SUBSTITUTE(RIGHT(INDIRECT(\"Trello!\"&ADDRESS(ROW()-1, L$1, 4)),LEN(INDIRECT(\"Trello!\"&ADDRESS(ROW()-1, L$1, 4)))-15),\". \",\"/\"),\" 20\",\"/20\"),\" \",\"\"),\"\")","v":""},{"$f":"IFERROR(SUBSTITUTE(SUBSTITUTE(SUBSTITUTE(RIGHT(INDIRECT(\"Trello!\"&ADDRESS(ROW()-1, M$1, 4)),LEN(INDIRECT(\"Trello!\"&ADDRESS(ROW()-1, M$1, 4)))-15),\". \",\"/\"),\" 20\",\"/20\"),\" \",\"\"),\"\")","v":""},"","","",{"$f":"IFERROR(SUBSTITUTE(INDIRECT(\"Trello!\"&ADDRESS(ROW()-1, O$1, 4)),\"Estimate hrs: \",\"\")*1,\"\")","v":""},{"$f":"IF(SUMIF(Timecamp!C:C,Reporte!A223,Timecamp!J:J)=0,\"\",SUMIF(Timecamp!C:C,Reporte!A223,Timecamp!J:J))","v":""},"","",{"$f":"IFERROR(VLOOKUP(A223,'SLA Trab'!E:I,5,FALSE),\"\")","v":""},{"$f":"IFERROR(VLOOKUP(A223,'SLA Cobr'!E:I,5,FALSE),\"\")","v":""}]
[{"$f":"IFERROR(IF(Trello!E223=\"\",\"\",Trello!E223),\" \")","v":""},{"$f":"IF($A224=\"\",\"\",IF(Trello!A223=\"\",B223,Trello!A223))","v":""},"",{"$f":"IF($A224=\"\",\"\",SUBSTITUTE(SUBSTITUTE(Trello!J223,\" days\",\"\"),\"⌚ \",\"\")*1)","v":""},{"$f":"IFERROR(IF($A224=\"\",\"\",SUBSTITUTE(SUBSTITUTE(SUBSTITUTE(INDIRECT(\"Trello!\"&ADDRESS(ROW()-1, E$1, 4)),\"Foreign: \",\"\"),\" $\",\"\"),\".\",\"\")*1),\"\")","v":""},{"$f":"IF($E224=\"\",IFERROR(IF($A224=\"\",\"\",SUBSTITUTE(SUBSTITUTE(SUBSTITUTE(INDIRECT(\"Trello!\"&ADDRESS(ROW()-1, F$1, 4)),\"MXN: \",\"\"),\" MX$\",\"\"),\".\",\"\")*1),\"\"),E224*F$2)","v":""},{"$f":"IFERROR(IF($A224=\"\",\"\",SUBSTITUTE(SUBSTITUTE(SUBSTITUTE(INDIRECT(\"Trello!\"&ADDRESS(ROW()-1, G$1, 4)),\"Debt: \",\"\"),\" $\",\"\"),\".\",\"\")*1)*IF(E224=\"\",1,F$2),\"\")","v":""},{"$f":"IFERROR(IF($A224=\"\",\"\",SUBSTITUTE(SUBSTITUTE(SUBSTITUTE(INDIRECT(\"Trello!\"&ADDRESS(ROW()-1, H$1, 4)),\"Cost: \",\"\"),\" $\",\"\"),\".\",\"\")*1*$F$2),\"\")","v":""},"",{"$f":"IFERROR(SUBSTITUTE(SUBSTITUTE(SUBSTITUTE(RIGHT(INDIRECT(\"Trello!\"&ADDRESS(ROW()-1, L$1, 4)),LEN(INDIRECT(\"Trello!\"&ADDRESS(ROW()-1, L$1, 4)))-15),\". \",\"/\"),\" 20\",\"/20\"),\" \",\"\"),\"\")","v":""},{"$f":"IFERROR(SUBSTITUTE(SUBSTITUTE(SUBSTITUTE(RIGHT(INDIRECT(\"Trello!\"&ADDRESS(ROW()-1, M$1, 4)),LEN(INDIRECT(\"Trello!\"&ADDRESS(ROW()-1, M$1, 4)))-15),\". \",\"/\"),\" 20\",\"/20\"),\" \",\"\"),\"\")","v":""},"","","",{"$f":"IFERROR(SUBSTITUTE(INDIRECT(\"Trello!\"&ADDRESS(ROW()-1, O$1, 4)),\"Estimate hrs: \",\"\")*1,\"\")","v":""},{"$f":"IF(SUMIF(Timecamp!C:C,Reporte!A224,Timecamp!J:J)=0,\"\",SUMIF(Timecamp!C:C,Reporte!A224,Timecamp!J:J))","v":""},"","",{"$f":"IFERROR(VLOOKUP(A224,'SLA Trab'!E:I,5,FALSE),\"\")","v":""},{"$f":"IFERROR(VLOOKUP(A224,'SLA Cobr'!E:I,5,FALSE),\"\")","v":""}]
[{"$f":"IFERROR(IF(Trello!E224=\"\",\"\",Trello!E224),\" \")","v":""},{"$f":"IF($A225=\"\",\"\",IF(Trello!A224=\"\",B224,Trello!A224))","v":""},"",{"$f":"IF($A225=\"\",\"\",SUBSTITUTE(SUBSTITUTE(Trello!J224,\" days\",\"\"),\"⌚ \",\"\")*1)","v":""},{"$f":"IFERROR(IF($A225=\"\",\"\",SUBSTITUTE(SUBSTITUTE(SUBSTITUTE(INDIRECT(\"Trello!\"&ADDRESS(ROW()-1, E$1, 4)),\"Foreign: \",\"\"),\" $\",\"\"),\".\",\"\")*1),\"\")","v":""},{"$f":"IF($E225=\"\",IFERROR(IF($A225=\"\",\"\",SUBSTITUTE(SUBSTITUTE(SUBSTITUTE(INDIRECT(\"Trello!\"&ADDRESS(ROW()-1, F$1, 4)),\"MXN: \",\"\"),\" MX$\",\"\"),\".\",\"\")*1),\"\"),E225*F$2)","v":""},{"$f":"IFERROR(IF($A225=\"\",\"\",SUBSTITUTE(SUBSTITUTE(SUBSTITUTE(INDIRECT(\"Trello!\"&ADDRESS(ROW()-1, G$1, 4)),\"Debt: \",\"\"),\" $\",\"\"),\".\",\"\")*1)*IF(E225=\"\",1,F$2),\"\")","v":""},{"$f":"IFERROR(IF($A225=\"\",\"\",SUBSTITUTE(SUBSTITUTE(SUBSTITUTE(INDIRECT(\"Trello!\"&ADDRESS(ROW()-1, H$1, 4)),\"Cost: \",\"\"),\" $\",\"\"),\".\",\"\")*1*$F$2),\"\")","v":""},"",{"$f":"IFERROR(SUBSTITUTE(SUBSTITUTE(SUBSTITUTE(RIGHT(INDIRECT(\"Trello!\"&ADDRESS(ROW()-1, L$1, 4)),LEN(INDIRECT(\"Trello!\"&ADDRESS(ROW()-1, L$1, 4)))-15),\". \",\"/\"),\" 20\",\"/20\"),\" \",\"\"),\"\")","v":""},{"$f":"IFERROR(SUBSTITUTE(SUBSTITUTE(SUBSTITUTE(RIGHT(INDIRECT(\"Trello!\"&ADDRESS(ROW()-1, M$1, 4)),LEN(INDIRECT(\"Trello!\"&ADDRESS(ROW()-1, M$1, 4)))-15),\". \",\"/\"),\" 20\",\"/20\"),\" \",\"\"),\"\")","v":""},"","","",{"$f":"IFERROR(SUBSTITUTE(INDIRECT(\"Trello!\"&ADDRESS(ROW()-1, O$1, 4)),\"Estimate hrs: \",\"\")*1,\"\")","v":""},{"$f":"IF(SUMIF(Timecamp!C:C,Reporte!A225,Timecamp!J:J)=0,\"\",SUMIF(Timecamp!C:C,Reporte!A225,Timecamp!J:J))","v":""},"","",{"$f":"IFERROR(VLOOKUP(A225,'SLA Trab'!E:I,5,FALSE),\"\")","v":""},{"$f":"IFERROR(VLOOKUP(A225,'SLA Cobr'!E:I,5,FALSE),\"\")","v":""}]
[{"$f":"IFERROR(IF(Trello!E225=\"\",\"\",Trello!E225),\" \")","v":""},{"$f":"IF($A226=\"\",\"\",IF(Trello!A225=\"\",B225,Trello!A225))","v":""},"",{"$f":"IF($A226=\"\",\"\",SUBSTITUTE(SUBSTITUTE(Trello!J225,\" days\",\"\"),\"⌚ \",\"\")*1)","v":""},{"$f":"IFERROR(IF($A226=\"\",\"\",SUBSTITUTE(SUBSTITUTE(SUBSTITUTE(INDIRECT(\"Trello!\"&ADDRESS(ROW()-1, E$1, 4)),\"Foreign: \",\"\"),\" $\",\"\"),\".\",\"\")*1),\"\")","v":""},{"$f":"IF($E226=\"\",IFERROR(IF($A226=\"\",\"\",SUBSTITUTE(SUBSTITUTE(SUBSTITUTE(INDIRECT(\"Trello!\"&ADDRESS(ROW()-1, F$1, 4)),\"MXN: \",\"\"),\" MX$\",\"\"),\".\",\"\")*1),\"\"),E226*F$2)","v":""},{"$f":"IFERROR(IF($A226=\"\",\"\",SUBSTITUTE(SUBSTITUTE(SUBSTITUTE(INDIRECT(\"Trello!\"&ADDRESS(ROW()-1, G$1, 4)),\"Debt: \",\"\"),\" $\",\"\"),\".\",\"\")*1)*IF(E226=\"\",1,F$2),\"\")","v":""},{"$f":"IFERROR(IF($A226=\"\",\"\",SUBSTITUTE(SUBSTITUTE(SUBSTITUTE(INDIRECT(\"Trello!\"&ADDRESS(ROW()-1, H$1, 4)),\"Cost: \",\"\"),\" $\",\"\"),\".\",\"\")*1*$F$2),\"\")","v":""},"",{"$f":"IFERROR(SUBSTITUTE(SUBSTITUTE(SUBSTITUTE(RIGHT(INDIRECT(\"Trello!\"&ADDRESS(ROW()-1, L$1, 4)),LEN(INDIRECT(\"Trello!\"&ADDRESS(ROW()-1, L$1, 4)))-15),\". \",\"/\"),\" 20\",\"/20\"),\" \",\"\"),\"\")","v":""},{"$f":"IFERROR(SUBSTITUTE(SUBSTITUTE(SUBSTITUTE(RIGHT(INDIRECT(\"Trello!\"&ADDRESS(ROW()-1, M$1, 4)),LEN(INDIRECT(\"Trello!\"&ADDRESS(ROW()-1, M$1, 4)))-15),\". \",\"/\"),\" 20\",\"/20\"),\" \",\"\"),\"\")","v":""},"","","",{"$f":"IFERROR(SUBSTITUTE(INDIRECT(\"Trello!\"&ADDRESS(ROW()-1, O$1, 4)),\"Estimate hrs: \",\"\")*1,\"\")","v":""},{"$f":"IF(SUMIF(Timecamp!C:C,Reporte!A226,Timecamp!J:J)=0,\"\",SUMIF(Timecamp!C:C,Reporte!A226,Timecamp!J:J))","v":""},"","",{"$f":"IFERROR(VLOOKUP(A226,'SLA Trab'!E:I,5,FALSE),\"\")","v":""},{"$f":"IFERROR(VLOOKUP(A226,'SLA Cobr'!E:I,5,FALSE),\"\")","v":""}]
[{"$f":"IFERROR(IF(Trello!E226=\"\",\"\",Trello!E226),\" \")","v":""},{"$f":"IF($A227=\"\",\"\",IF(Trello!A226=\"\",B226,Trello!A226))","v":""},"",{"$f":"IF($A227=\"\",\"\",SUBSTITUTE(SUBSTITUTE(Trello!J226,\" days\",\"\"),\"⌚ \",\"\")*1)","v":""},{"$f":"IFERROR(IF($A227=\"\",\"\",SUBSTITUTE(SUBSTITUTE(SUBSTITUTE(INDIRECT(\"Trello!\"&ADDRESS(ROW()-1, E$1, 4)),\"Foreign: \",\"\"),\" $\",\"\"),\".\",\"\")*1),\"\")","v":""},{"$f":"IF($E227=\"\",IFERROR(IF($A227=\"\",\"\",SUBSTITUTE(SUBSTITUTE(SUBSTITUTE(INDIRECT(\"Trello!\"&ADDRESS(ROW()-1, F$1, 4)),\"MXN: \",\"\"),\" MX$\",\"\"),\".\",\"\")*1),\"\"),E227*F$2)","v":""},{"$f":"IFERROR(IF($A227=\"\",\"\",SUBSTITUTE(SUBSTITUTE(SUBSTITUTE(INDIRECT(\"Trello!\"&ADDRESS(ROW()-1, G$1, 4)),\"Debt: \",\"\"),\" $\",\"\"),\".\",\"\")*1)*IF(E227=\"\",1,F$2),\"\")","v":""},{"$f":"IFERROR(IF($A227=\"\",\"\",SUBSTITUTE(SUBSTITUTE(SUBSTITUTE(INDIRECT(\"Trello!\"&ADDRESS(ROW()-1, H$1, 4)),\"Cost: \",\"\"),\" $\",\"\"),\".\",\"\")*1*$F$2),\"\")","v":""},"",{"$f":"IFERROR(SUBSTITUTE(SUBSTITUTE(SUBSTITUTE(RIGHT(INDIRECT(\"Trello!\"&ADDRESS(ROW()-1, L$1, 4)),LEN(INDIRECT(\"Trello!\"&ADDRESS(ROW()-1, L$1, 4)))-15),\". \",\"/\"),\" 20\",\"/20\"),\" \",\"\"),\"\")","v":""},{"$f":"IFERROR(SUBSTITUTE(SUBSTITUTE(SUBSTITUTE(RIGHT(INDIRECT(\"Trello!\"&ADDRESS(ROW()-1, M$1, 4)),LEN(INDIRECT(\"Trello!\"&ADDRESS(ROW()-1, M$1, 4)))-15),\". \",\"/\"),\" 20\",\"/20\"),\" \",\"\"),\"\")","v":""},"","","",{"$f":"IFERROR(SUBSTITUTE(INDIRECT(\"Trello!\"&ADDRESS(ROW()-1, O$1, 4)),\"Estimate hrs: \",\"\")*1,\"\")","v":""},{"$f":"IF(SUMIF(Timecamp!C:C,Reporte!A227,Timecamp!J:J)=0,\"\",SUMIF(Timecamp!C:C,Reporte!A227,Timecamp!J:J))","v":""},"","",{"$f":"IFERROR(VLOOKUP(A227,'SLA Trab'!E:I,5,FALSE),\"\")","v":""},{"$f":"IFERROR(VLOOKUP(A227,'SLA Cobr'!E:I,5,FALSE),\"\")","v":""}]
[{"$f":"IFERROR(IF(Trello!E227=\"\",\"\",Trello!E227),\" \")","v":""},{"$f":"IF($A228=\"\",\"\",IF(Trello!A227=\"\",B227,Trello!A227))","v":""},"",{"$f":"IF($A228=\"\",\"\",SUBSTITUTE(SUBSTITUTE(Trello!J227,\" days\",\"\"),\"⌚ \",\"\")*1)","v":""},{"$f":"IFERROR(IF($A228=\"\",\"\",SUBSTITUTE(SUBSTITUTE(SUBSTITUTE(INDIRECT(\"Trello!\"&ADDRESS(ROW()-1, E$1, 4)),\"Foreign: \",\"\"),\" $\",\"\"),\".\",\"\")*1),\"\")","v":""},{"$f":"IF($E228=\"\",IFERROR(IF($A228=\"\",\"\",SUBSTITUTE(SUBSTITUTE(SUBSTITUTE(INDIRECT(\"Trello!\"&ADDRESS(ROW()-1, F$1, 4)),\"MXN: \",\"\"),\" MX$\",\"\"),\".\",\"\")*1),\"\"),E228*F$2)","v":""},{"$f":"IFERROR(IF($A228=\"\",\"\",SUBSTITUTE(SUBSTITUTE(SUBSTITUTE(INDIRECT(\"Trello!\"&ADDRESS(ROW()-1, G$1, 4)),\"Debt: \",\"\"),\" $\",\"\"),\".\",\"\")*1)*IF(E228=\"\",1,F$2),\"\")","v":""},{"$f":"IFERROR(IF($A228=\"\",\"\",SUBSTITUTE(SUBSTITUTE(SUBSTITUTE(INDIRECT(\"Trello!\"&ADDRESS(ROW()-1, H$1, 4)),\"Cost: \",\"\"),\" $\",\"\"),\".\",\"\")*1*$F$2),\"\")","v":""},"",{"$f":"IFERROR(SUBSTITUTE(SUBSTITUTE(SUBSTITUTE(RIGHT(INDIRECT(\"Trello!\"&ADDRESS(ROW()-1, L$1, 4)),LEN(INDIRECT(\"Trello!\"&ADDRESS(ROW()-1, L$1, 4)))-15),\". \",\"/\"),\" 20\",\"/20\"),\" \",\"\"),\"\")","v":""},{"$f":"IFERROR(SUBSTITUTE(SUBSTITUTE(SUBSTITUTE(RIGHT(INDIRECT(\"Trello!\"&ADDRESS(ROW()-1, M$1, 4)),LEN(INDIRECT(\"Trello!\"&ADDRESS(ROW()-1, M$1, 4)))-15),\". \",\"/\"),\" 20\",\"/20\"),\" \",\"\"),\"\")","v":""},"","","",{"$f":"IFERROR(SUBSTITUTE(INDIRECT(\"Trello!\"&ADDRESS(ROW()-1, O$1, 4)),\"Estimate hrs: \",\"\")*1,\"\")","v":""},{"$f":"IF(SUMIF(Timecamp!C:C,Reporte!A228,Timecamp!J:J)=0,\"\",SUMIF(Timecamp!C:C,Reporte!A228,Timecamp!J:J))","v":""},"","",{"$f":"IFERROR(VLOOKUP(A228,'SLA Trab'!E:I,5,FALSE),\"\")","v":""},{"$f":"IFERROR(VLOOKUP(A228,'SLA Cobr'!E:I,5,FALSE),\"\")","v":""}]
[{"$f":"IFERROR(IF(Trello!E228=\"\",\"\",Trello!E228),\" \")","v":""},{"$f":"IF($A229=\"\",\"\",IF(Trello!A228=\"\",B228,Trello!A228))","v":""},"",{"$f":"IF($A229=\"\",\"\",SUBSTITUTE(SUBSTITUTE(Trello!J228,\" days\",\"\"),\"⌚ \",\"\")*1)","v":""},{"$f":"IFERROR(IF($A229=\"\",\"\",SUBSTITUTE(SUBSTITUTE(SUBSTITUTE(INDIRECT(\"Trello!\"&ADDRESS(ROW()-1, E$1, 4)),\"Foreign: \",\"\"),\" $\",\"\"),\".\",\"\")*1),\"\")","v":""},{"$f":"IF($E229=\"\",IFERROR(IF($A229=\"\",\"\",SUBSTITUTE(SUBSTITUTE(SUBSTITUTE(INDIRECT(\"Trello!\"&ADDRESS(ROW()-1, F$1, 4)),\"MXN: \",\"\"),\" MX$\",\"\"),\".\",\"\")*1),\"\"),E229*F$2)","v":""},{"$f":"IFERROR(IF($A229=\"\",\"\",SUBSTITUTE(SUBSTITUTE(SUBSTITUTE(INDIRECT(\"Trello!\"&ADDRESS(ROW()-1, G$1, 4)),\"Debt: \",\"\"),\" $\",\"\"),\".\",\"\")*1)*IF(E229=\"\",1,F$2),\"\")","v":""},{"$f":"IFERROR(IF($A229=\"\",\"\",SUBSTITUTE(SUBSTITUTE(SUBSTITUTE(INDIRECT(\"Trello!\"&ADDRESS(ROW()-1, H$1, 4)),\"Cost: \",\"\"),\" $\",\"\"),\".\",\"\")*1*$F$2),\"\")","v":""},"",{"$f":"IFERROR(SUBSTITUTE(SUBSTITUTE(SUBSTITUTE(RIGHT(INDIRECT(\"Trello!\"&ADDRESS(ROW()-1, L$1, 4)),LEN(INDIRECT(\"Trello!\"&ADDRESS(ROW()-1, L$1, 4)))-15),\". \",\"/\"),\" 20\",\"/20\"),\" \",\"\"),\"\")","v":""},{"$f":"IFERROR(SUBSTITUTE(SUBSTITUTE(SUBSTITUTE(RIGHT(INDIRECT(\"Trello!\"&ADDRESS(ROW()-1, M$1, 4)),LEN(INDIRECT(\"Trello!\"&ADDRESS(ROW()-1, M$1, 4)))-15),\". \",\"/\"),\" 20\",\"/20\"),\" \",\"\"),\"\")","v":""},"","","",{"$f":"IFERROR(SUBSTITUTE(INDIRECT(\"Trello!\"&ADDRESS(ROW()-1, O$1, 4)),\"Estimate hrs: \",\"\")*1,\"\")","v":""},{"$f":"IF(SUMIF(Timecamp!C:C,Reporte!A229,Timecamp!J:J)=0,\"\",SUMIF(Timecamp!C:C,Reporte!A229,Timecamp!J:J))","v":""},"","",{"$f":"IFERROR(VLOOKUP(A229,'SLA Trab'!E:I,5,FALSE),\"\")","v":""},{"$f":"IFERROR(VLOOKUP(A229,'SLA Cobr'!E:I,5,FALSE),\"\")","v":""}]
[{"$f":"IFERROR(IF(Trello!E229=\"\",\"\",Trello!E229),\" \")","v":""},{"$f":"IF($A230=\"\",\"\",IF(Trello!A229=\"\",B229,Trello!A229))","v":""},"",{"$f":"IF($A230=\"\",\"\",SUBSTITUTE(SUBSTITUTE(Trello!J229,\" days\",\"\"),\"⌚ \",\"\")*1)","v":""},{"$f":"IFERROR(IF($A230=\"\",\"\",SUBSTITUTE(SUBSTITUTE(SUBSTITUTE(INDIRECT(\"Trello!\"&ADDRESS(ROW()-1, E$1, 4)),\"Foreign: \",\"\"),\" $\",\"\"),\".\",\"\")*1),\"\")","v":""},{"$f":"IF($E230=\"\",IFERROR(IF($A230=\"\",\"\",SUBSTITUTE(SUBSTITUTE(SUBSTITUTE(INDIRECT(\"Trello!\"&ADDRESS(ROW()-1, F$1, 4)),\"MXN: \",\"\"),\" MX$\",\"\"),\".\",\"\")*1),\"\"),E230*F$2)","v":""},{"$f":"IFERROR(IF($A230=\"\",\"\",SUBSTITUTE(SUBSTITUTE(SUBSTITUTE(INDIRECT(\"Trello!\"&ADDRESS(ROW()-1, G$1, 4)),\"Debt: \",\"\"),\" $\",\"\"),\".\",\"\")*1)*IF(E230=\"\",1,F$2),\"\")","v":""},{"$f":"IFERROR(IF($A230=\"\",\"\",SUBSTITUTE(SUBSTITUTE(SUBSTITUTE(INDIRECT(\"Trello!\"&ADDRESS(ROW()-1, H$1, 4)),\"Cost: \",\"\"),\" $\",\"\"),\".\",\"\")*1*$F$2),\"\")","v":""},"",{"$f":"IFERROR(SUBSTITUTE(SUBSTITUTE(SUBSTITUTE(RIGHT(INDIRECT(\"Trello!\"&ADDRESS(ROW()-1, L$1, 4)),LEN(INDIRECT(\"Trello!\"&ADDRESS(ROW()-1, L$1, 4)))-15),\". \",\"/\"),\" 20\",\"/20\"),\" \",\"\"),\"\")","v":""},{"$f":"IFERROR(SUBSTITUTE(SUBSTITUTE(SUBSTITUTE(RIGHT(INDIRECT(\"Trello!\"&ADDRESS(ROW()-1, M$1, 4)),LEN(INDIRECT(\"Trello!\"&ADDRESS(ROW()-1, M$1, 4)))-15),\". \",\"/\"),\" 20\",\"/20\"),\" \",\"\"),\"\")","v":""},"","","",{"$f":"IFERROR(SUBSTITUTE(INDIRECT(\"Trello!\"&ADDRESS(ROW()-1, O$1, 4)),\"Estimate hrs: \",\"\")*1,\"\")","v":""},{"$f":"IF(SUMIF(Timecamp!C:C,Reporte!A230,Timecamp!J:J)=0,\"\",SUMIF(Timecamp!C:C,Reporte!A230,Timecamp!J:J))","v":""},"","",{"$f":"IFERROR(VLOOKUP(A230,'SLA Trab'!E:I,5,FALSE),\"\")","v":""},{"$f":"IFERROR(VLOOKUP(A230,'SLA Cobr'!E:I,5,FALSE),\"\")","v":""}]
[{"$f":"IFERROR(IF(Trello!E230=\"\",\"\",Trello!E230),\" \")","v":""},{"$f":"IF($A231=\"\",\"\",IF(Trello!A230=\"\",B230,Trello!A230))","v":""},"",{"$f":"IF($A231=\"\",\"\",SUBSTITUTE(SUBSTITUTE(Trello!J230,\" days\",\"\"),\"⌚ \",\"\")*1)","v":""},{"$f":"IFERROR(IF($A231=\"\",\"\",SUBSTITUTE(SUBSTITUTE(SUBSTITUTE(INDIRECT(\"Trello!\"&ADDRESS(ROW()-1, E$1, 4)),\"Foreign: \",\"\"),\" $\",\"\"),\".\",\"\")*1),\"\")","v":""},{"$f":"IF($E231=\"\",IFERROR(IF($A231=\"\",\"\",SUBSTITUTE(SUBSTITUTE(SUBSTITUTE(INDIRECT(\"Trello!\"&ADDRESS(ROW()-1, F$1, 4)),\"MXN: \",\"\"),\" MX$\",\"\"),\".\",\"\")*1),\"\"),E231*F$2)","v":""},{"$f":"IFERROR(IF($A231=\"\",\"\",SUBSTITUTE(SUBSTITUTE(SUBSTITUTE(INDIRECT(\"Trello!\"&ADDRESS(ROW()-1, G$1, 4)),\"Debt: \",\"\"),\" $\",\"\"),\".\",\"\")*1)*IF(E231=\"\",1,F$2),\"\")","v":""},{"$f":"IFERROR(IF($A231=\"\",\"\",SUBSTITUTE(SUBSTITUTE(SUBSTITUTE(INDIRECT(\"Trello!\"&ADDRESS(ROW()-1, H$1, 4)),\"Cost: \",\"\"),\" $\",\"\"),\".\",\"\")*1*$F$2),\"\")","v":""},"",{"$f":"IFERROR(SUBSTITUTE(SUBSTITUTE(SUBSTITUTE(RIGHT(INDIRECT(\"Trello!\"&ADDRESS(ROW()-1, L$1, 4)),LEN(INDIRECT(\"Trello!\"&ADDRESS(ROW()-1, L$1, 4)))-15),\". \",\"/\"),\" 20\",\"/20\"),\" \",\"\"),\"\")","v":""},{"$f":"IFERROR(SUBSTITUTE(SUBSTITUTE(SUBSTITUTE(RIGHT(INDIRECT(\"Trello!\"&ADDRESS(ROW()-1, M$1, 4)),LEN(INDIRECT(\"Trello!\"&ADDRESS(ROW()-1, M$1, 4)))-15),\". \",\"/\"),\" 20\",\"/20\"),\" \",\"\"),\"\")","v":""},"","","",{"$f":"IFERROR(SUBSTITUTE(INDIRECT(\"Trello!\"&ADDRESS(ROW()-1, O$1, 4)),\"Estimate hrs: \",\"\")*1,\"\")","v":""},{"$f":"IF(SUMIF(Timecamp!C:C,Reporte!A231,Timecamp!J:J)=0,\"\",SUMIF(Timecamp!C:C,Reporte!A231,Timecamp!J:J))","v":""},"","",{"$f":"IFERROR(VLOOKUP(A231,'SLA Trab'!E:I,5,FALSE),\"\")","v":""},{"$f":"IFERROR(VLOOKUP(A231,'SLA Cobr'!E:I,5,FALSE),\"\")","v":""}]
[{"$f":"IFERROR(IF(Trello!E231=\"\",\"\",Trello!E231),\" \")","v":""},{"$f":"IF($A232=\"\",\"\",IF(Trello!A231=\"\",B231,Trello!A231))","v":""},"",{"$f":"IF($A232=\"\",\"\",SUBSTITUTE(SUBSTITUTE(Trello!J231,\" days\",\"\"),\"⌚ \",\"\")*1)","v":""},{"$f":"IFERROR(IF($A232=\"\",\"\",SUBSTITUTE(SUBSTITUTE(SUBSTITUTE(INDIRECT(\"Trello!\"&ADDRESS(ROW()-1, E$1, 4)),\"Foreign: \",\"\"),\" $\",\"\"),\".\",\"\")*1),\"\")","v":""},{"$f":"IF($E232=\"\",IFERROR(IF($A232=\"\",\"\",SUBSTITUTE(SUBSTITUTE(SUBSTITUTE(INDIRECT(\"Trello!\"&ADDRESS(ROW()-1, F$1, 4)),\"MXN: \",\"\"),\" MX$\",\"\"),\".\",\"\")*1),\"\"),E232*F$2)","v":""},{"$f":"IFERROR(IF($A232=\"\",\"\",SUBSTITUTE(SUBSTITUTE(SUBSTITUTE(INDIRECT(\"Trello!\"&ADDRESS(ROW()-1, G$1, 4)),\"Debt: \",\"\"),\" $\",\"\"),\".\",\"\")*1)*IF(E232=\"\",1,F$2),\"\")","v":""},{"$f":"IFERROR(IF($A232=\"\",\"\",SUBSTITUTE(SUBSTITUTE(SUBSTITUTE(INDIRECT(\"Trello!\"&ADDRESS(ROW()-1, H$1, 4)),\"Cost: \",\"\"),\" $\",\"\"),\".\",\"\")*1*$F$2),\"\")","v":""},"",{"$f":"IFERROR(SUBSTITUTE(SUBSTITUTE(SUBSTITUTE(RIGHT(INDIRECT(\"Trello!\"&ADDRESS(ROW()-1, L$1, 4)),LEN(INDIRECT(\"Trello!\"&ADDRESS(ROW()-1, L$1, 4)))-15),\". \",\"/\"),\" 20\",\"/20\"),\" \",\"\"),\"\")","v":""},{"$f":"IFERROR(SUBSTITUTE(SUBSTITUTE(SUBSTITUTE(RIGHT(INDIRECT(\"Trello!\"&ADDRESS(ROW()-1, M$1, 4)),LEN(INDIRECT(\"Trello!\"&ADDRESS(ROW()-1, M$1, 4)))-15),\". \",\"/\"),\" 20\",\"/20\"),\" \",\"\"),\"\")","v":""},"","","",{"$f":"IFERROR(SUBSTITUTE(INDIRECT(\"Trello!\"&ADDRESS(ROW()-1, O$1, 4)),\"Estimate hrs: \",\"\")*1,\"\")","v":""},{"$f":"IF(SUMIF(Timecamp!C:C,Reporte!A232,Timecamp!J:J)=0,\"\",SUMIF(Timecamp!C:C,Reporte!A232,Timecamp!J:J))","v":""},"","",{"$f":"IFERROR(VLOOKUP(A232,'SLA Trab'!E:I,5,FALSE),\"\")","v":""},{"$f":"IFERROR(VLOOKUP(A232,'SLA Cobr'!E:I,5,FALSE),\"\")","v":""}]
[{"$f":"IFERROR(IF(Trello!E232=\"\",\"\",Trello!E232),\" \")","v":""},{"$f":"IF($A233=\"\",\"\",IF(Trello!A232=\"\",B232,Trello!A232))","v":""},"",{"$f":"IF($A233=\"\",\"\",SUBSTITUTE(SUBSTITUTE(Trello!J232,\" days\",\"\"),\"⌚ \",\"\")*1)","v":""},{"$f":"IFERROR(IF($A233=\"\",\"\",SUBSTITUTE(SUBSTITUTE(SUBSTITUTE(INDIRECT(\"Trello!\"&ADDRESS(ROW()-1, E$1, 4)),\"Foreign: \",\"\"),\" $\",\"\"),\".\",\"\")*1),\"\")","v":""},{"$f":"IF($E233=\"\",IFERROR(IF($A233=\"\",\"\",SUBSTITUTE(SUBSTITUTE(SUBSTITUTE(INDIRECT(\"Trello!\"&ADDRESS(ROW()-1, F$1, 4)),\"MXN: \",\"\"),\" MX$\",\"\"),\".\",\"\")*1),\"\"),E233*F$2)","v":""},{"$f":"IFERROR(IF($A233=\"\",\"\",SUBSTITUTE(SUBSTITUTE(SUBSTITUTE(INDIRECT(\"Trello!\"&ADDRESS(ROW()-1, G$1, 4)),\"Debt: \",\"\"),\" $\",\"\"),\".\",\"\")*1)*IF(E233=\"\",1,F$2),\"\")","v":""},{"$f":"IFERROR(IF($A233=\"\",\"\",SUBSTITUTE(SUBSTITUTE(SUBSTITUTE(INDIRECT(\"Trello!\"&ADDRESS(ROW()-1, H$1, 4)),\"Cost: \",\"\"),\" $\",\"\"),\".\",\"\")*1*$F$2),\"\")","v":""},"",{"$f":"IFERROR(SUBSTITUTE(SUBSTITUTE(SUBSTITUTE(RIGHT(INDIRECT(\"Trello!\"&ADDRESS(ROW()-1, L$1, 4)),LEN(INDIRECT(\"Trello!\"&ADDRESS(ROW()-1, L$1, 4)))-15),\". \",\"/\"),\" 20\",\"/20\"),\" \",\"\"),\"\")","v":""},{"$f":"IFERROR(SUBSTITUTE(SUBSTITUTE(SUBSTITUTE(RIGHT(INDIRECT(\"Trello!\"&ADDRESS(ROW()-1, M$1, 4)),LEN(INDIRECT(\"Trello!\"&ADDRESS(ROW()-1, M$1, 4)))-15),\". \",\"/\"),\" 20\",\"/20\"),\" \",\"\"),\"\")","v":""},"","","",{"$f":"IFERROR(SUBSTITUTE(INDIRECT(\"Trello!\"&ADDRESS(ROW()-1, O$1, 4)),\"Estimate hrs: \",\"\")*1,\"\")","v":""},{"$f":"IF(SUMIF(Timecamp!C:C,Reporte!A233,Timecamp!J:J)=0,\"\",SUMIF(Timecamp!C:C,Reporte!A233,Timecamp!J:J))","v":""},"","",{"$f":"IFERROR(VLOOKUP(A233,'SLA Trab'!E:I,5,FALSE),\"\")","v":""},{"$f":"IFERROR(VLOOKUP(A233,'SLA Cobr'!E:I,5,FALSE),\"\")","v":""}]
[{"$f":"IFERROR(IF(Trello!E233=\"\",\"\",Trello!E233),\" \")","v":""},{"$f":"IF($A234=\"\",\"\",IF(Trello!A233=\"\",B233,Trello!A233))","v":""},"",{"$f":"IF($A234=\"\",\"\",SUBSTITUTE(SUBSTITUTE(Trello!J233,\" days\",\"\"),\"⌚ \",\"\")*1)","v":""},{"$f":"IFERROR(IF($A234=\"\",\"\",SUBSTITUTE(SUBSTITUTE(SUBSTITUTE(INDIRECT(\"Trello!\"&ADDRESS(ROW()-1, E$1, 4)),\"Foreign: \",\"\"),\" $\",\"\"),\".\",\"\")*1),\"\")","v":""},{"$f":"IF($E234=\"\",IFERROR(IF($A234=\"\",\"\",SUBSTITUTE(SUBSTITUTE(SUBSTITUTE(INDIRECT(\"Trello!\"&ADDRESS(ROW()-1, F$1, 4)),\"MXN: \",\"\"),\" MX$\",\"\"),\".\",\"\")*1),\"\"),E234*F$2)","v":""},{"$f":"IFERROR(IF($A234=\"\",\"\",SUBSTITUTE(SUBSTITUTE(SUBSTITUTE(INDIRECT(\"Trello!\"&ADDRESS(ROW()-1, G$1, 4)),\"Debt: \",\"\"),\" $\",\"\"),\".\",\"\")*1)*IF(E234=\"\",1,F$2),\"\")","v":""},{"$f":"IFERROR(IF($A234=\"\",\"\",SUBSTITUTE(SUBSTITUTE(SUBSTITUTE(INDIRECT(\"Trello!\"&ADDRESS(ROW()-1, H$1, 4)),\"Cost: \",\"\"),\" $\",\"\"),\".\",\"\")*1*$F$2),\"\")","v":""},"",{"$f":"IFERROR(SUBSTITUTE(SUBSTITUTE(SUBSTITUTE(RIGHT(INDIRECT(\"Trello!\"&ADDRESS(ROW()-1, L$1, 4)),LEN(INDIRECT(\"Trello!\"&ADDRESS(ROW()-1, L$1, 4)))-15),\". \",\"/\"),\" 20\",\"/20\"),\" \",\"\"),\"\")","v":""},{"$f":"IFERROR(SUBSTITUTE(SUBSTITUTE(SUBSTITUTE(RIGHT(INDIRECT(\"Trello!\"&ADDRESS(ROW()-1, M$1, 4)),LEN(INDIRECT(\"Trello!\"&ADDRESS(ROW()-1, M$1, 4)))-15),\". \",\"/\"),\" 20\",\"/20\"),\" \",\"\"),\"\")","v":""},"","","",{"$f":"IFERROR(SUBSTITUTE(INDIRECT(\"Trello!\"&ADDRESS(ROW()-1, O$1, 4)),\"Estimate hrs: \",\"\")*1,\"\")","v":""},{"$f":"IF(SUMIF(Timecamp!C:C,Reporte!A234,Timecamp!J:J)=0,\"\",SUMIF(Timecamp!C:C,Reporte!A234,Timecamp!J:J))","v":""},"","",{"$f":"IFERROR(VLOOKUP(A234,'SLA Trab'!E:I,5,FALSE),\"\")","v":""},{"$f":"IFERROR(VLOOKUP(A234,'SLA Cobr'!E:I,5,FALSE),\"\")","v":""}]
[{"$f":"IFERROR(IF(Trello!E234=\"\",\"\",Trello!E234),\" \")","v":""},{"$f":"IF($A235=\"\",\"\",IF(Trello!A234=\"\",B234,Trello!A234))","v":""},"",{"$f":"IF($A235=\"\",\"\",SUBSTITUTE(SUBSTITUTE(Trello!J234,\" days\",\"\"),\"⌚ \",\"\")*1)","v":""},{"$f":"IFERROR(IF($A235=\"\",\"\",SUBSTITUTE(SUBSTITUTE(SUBSTITUTE(INDIRECT(\"Trello!\"&ADDRESS(ROW()-1, E$1, 4)),\"Foreign: \",\"\"),\" $\",\"\"),\".\",\"\")*1),\"\")","v":""},{"$f":"IF($E235=\"\",IFERROR(IF($A235=\"\",\"\",SUBSTITUTE(SUBSTITUTE(SUBSTITUTE(INDIRECT(\"Trello!\"&ADDRESS(ROW()-1, F$1, 4)),\"MXN: \",\"\"),\" MX$\",\"\"),\".\",\"\")*1),\"\"),E235*F$2)","v":""},{"$f":"IFERROR(IF($A235=\"\",\"\",SUBSTITUTE(SUBSTITUTE(SUBSTITUTE(INDIRECT(\"Trello!\"&ADDRESS(ROW()-1, G$1, 4)),\"Debt: \",\"\"),\" $\",\"\"),\".\",\"\")*1)*IF(E235=\"\",1,F$2),\"\")","v":""},{"$f":"IFERROR(IF($A235=\"\",\"\",SUBSTITUTE(SUBSTITUTE(SUBSTITUTE(INDIRECT(\"Trello!\"&ADDRESS(ROW()-1, H$1, 4)),\"Cost: \",\"\"),\" $\",\"\"),\".\",\"\")*1*$F$2),\"\")","v":""},"",{"$f":"IFERROR(SUBSTITUTE(SUBSTITUTE(SUBSTITUTE(RIGHT(INDIRECT(\"Trello!\"&ADDRESS(ROW()-1, L$1, 4)),LEN(INDIRECT(\"Trello!\"&ADDRESS(ROW()-1, L$1, 4)))-15),\". \",\"/\"),\" 20\",\"/20\"),\" \",\"\"),\"\")","v":""},{"$f":"IFERROR(SUBSTITUTE(SUBSTITUTE(SUBSTITUTE(RIGHT(INDIRECT(\"Trello!\"&ADDRESS(ROW()-1, M$1, 4)),LEN(INDIRECT(\"Trello!\"&ADDRESS(ROW()-1, M$1, 4)))-15),\". \",\"/\"),\" 20\",\"/20\"),\" \",\"\"),\"\")","v":""},"","","",{"$f":"IFERROR(SUBSTITUTE(INDIRECT(\"Trello!\"&ADDRESS(ROW()-1, O$1, 4)),\"Estimate hrs: \",\"\")*1,\"\")","v":""},{"$f":"IF(SUMIF(Timecamp!C:C,Reporte!A235,Timecamp!J:J)=0,\"\",SUMIF(Timecamp!C:C,Reporte!A235,Timecamp!J:J))","v":""},"","",{"$f":"IFERROR(VLOOKUP(A235,'SLA Trab'!E:I,5,FALSE),\"\")","v":""},{"$f":"IFERROR(VLOOKUP(A235,'SLA Cobr'!E:I,5,FALSE),\"\")","v":""}]
[{"$f":"IFERROR(IF(Trello!E235=\"\",\"\",Trello!E235),\" \")","v":""},{"$f":"IF($A236=\"\",\"\",IF(Trello!A235=\"\",B235,Trello!A235))","v":""},"",{"$f":"IF($A236=\"\",\"\",SUBSTITUTE(SUBSTITUTE(Trello!J235,\" days\",\"\"),\"⌚ \",\"\")*1)","v":""},{"$f":"IFERROR(IF($A236=\"\",\"\",SUBSTITUTE(SUBSTITUTE(SUBSTITUTE(INDIRECT(\"Trello!\"&ADDRESS(ROW()-1, E$1, 4)),\"Foreign: \",\"\"),\" $\",\"\"),\".\",\"\")*1),\"\")","v":""},{"$f":"IF($E236=\"\",IFERROR(IF($A236=\"\",\"\",SUBSTITUTE(SUBSTITUTE(SUBSTITUTE(INDIRECT(\"Trello!\"&ADDRESS(ROW()-1, F$1, 4)),\"MXN: \",\"\"),\" MX$\",\"\"),\".\",\"\")*1),\"\"),E236*F$2)","v":""},{"$f":"IFERROR(IF($A236=\"\",\"\",SUBSTITUTE(SUBSTITUTE(SUBSTITUTE(INDIRECT(\"Trello!\"&ADDRESS(ROW()-1, G$1, 4)),\"Debt: \",\"\"),\" $\",\"\"),\".\",\"\")*1)*IF(E236=\"\",1,F$2),\"\")","v":""},{"$f":"IFERROR(IF($A236=\"\",\"\",SUBSTITUTE(SUBSTITUTE(SUBSTITUTE(INDIRECT(\"Trello!\"&ADDRESS(ROW()-1, H$1, 4)),\"Cost: \",\"\"),\" $\",\"\"),\".\",\"\")*1*$F$2),\"\")","v":""},"",{"$f":"IFERROR(SUBSTITUTE(SUBSTITUTE(SUBSTITUTE(RIGHT(INDIRECT(\"Trello!\"&ADDRESS(ROW()-1, L$1, 4)),LEN(INDIRECT(\"Trello!\"&ADDRESS(ROW()-1, L$1, 4)))-15),\". \",\"/\"),\" 20\",\"/20\"),\" \",\"\"),\"\")","v":""},{"$f":"IFERROR(SUBSTITUTE(SUBSTITUTE(SUBSTITUTE(RIGHT(INDIRECT(\"Trello!\"&ADDRESS(ROW()-1, M$1, 4)),LEN(INDIRECT(\"Trello!\"&ADDRESS(ROW()-1, M$1, 4)))-15),\". \",\"/\"),\" 20\",\"/20\"),\" \",\"\"),\"\")","v":""},"","","",{"$f":"IFERROR(SUBSTITUTE(INDIRECT(\"Trello!\"&ADDRESS(ROW()-1, O$1, 4)),\"Estimate hrs: \",\"\")*1,\"\")","v":""},{"$f":"IF(SUMIF(Timecamp!C:C,Reporte!A236,Timecamp!J:J)=0,\"\",SUMIF(Timecamp!C:C,Reporte!A236,Timecamp!J:J))","v":""},"","",{"$f":"IFERROR(VLOOKUP(A236,'SLA Trab'!E:I,5,FALSE),\"\")","v":""},{"$f":"IFERROR(VLOOKUP(A236,'SLA Cobr'!E:I,5,FALSE),\"\")","v":""}]
[{"$f":"IFERROR(IF(Trello!E236=\"\",\"\",Trello!E236),\" \")","v":""},{"$f":"IF($A237=\"\",\"\",IF(Trello!A236=\"\",B236,Trello!A236))","v":""},"",{"$f":"IF($A237=\"\",\"\",SUBSTITUTE(SUBSTITUTE(Trello!J236,\" days\",\"\"),\"⌚ \",\"\")*1)","v":""},{"$f":"IFERROR(IF($A237=\"\",\"\",SUBSTITUTE(SUBSTITUTE(SUBSTITUTE(INDIRECT(\"Trello!\"&ADDRESS(ROW()-1, E$1, 4)),\"Foreign: \",\"\"),\" $\",\"\"),\".\",\"\")*1),\"\")","v":""},{"$f":"IF($E237=\"\",IFERROR(IF($A237=\"\",\"\",SUBSTITUTE(SUBSTITUTE(SUBSTITUTE(INDIRECT(\"Trello!\"&ADDRESS(ROW()-1, F$1, 4)),\"MXN: \",\"\"),\" MX$\",\"\"),\".\",\"\")*1),\"\"),E237*F$2)","v":""},{"$f":"IFERROR(IF($A237=\"\",\"\",SUBSTITUTE(SUBSTITUTE(SUBSTITUTE(INDIRECT(\"Trello!\"&ADDRESS(ROW()-1, G$1, 4)),\"Debt: \",\"\"),\" $\",\"\"),\".\",\"\")*1)*IF(E237=\"\",1,F$2),\"\")","v":""},{"$f":"IFERROR(IF($A237=\"\",\"\",SUBSTITUTE(SUBSTITUTE(SUBSTITUTE(INDIRECT(\"Trello!\"&ADDRESS(ROW()-1, H$1, 4)),\"Cost: \",\"\"),\" $\",\"\"),\".\",\"\")*1*$F$2),\"\")","v":""},"",{"$f":"IFERROR(SUBSTITUTE(SUBSTITUTE(SUBSTITUTE(RIGHT(INDIRECT(\"Trello!\"&ADDRESS(ROW()-1, L$1, 4)),LEN(INDIRECT(\"Trello!\"&ADDRESS(ROW()-1, L$1, 4)))-15),\". \",\"/\"),\" 20\",\"/20\"),\" \",\"\"),\"\")","v":""},{"$f":"IFERROR(SUBSTITUTE(SUBSTITUTE(SUBSTITUTE(RIGHT(INDIRECT(\"Trello!\"&ADDRESS(ROW()-1, M$1, 4)),LEN(INDIRECT(\"Trello!\"&ADDRESS(ROW()-1, M$1, 4)))-15),\". \",\"/\"),\" 20\",\"/20\"),\" \",\"\"),\"\")","v":""},"","","",{"$f":"IFERROR(SUBSTITUTE(INDIRECT(\"Trello!\"&ADDRESS(ROW()-1, O$1, 4)),\"Estimate hrs: \",\"\")*1,\"\")","v":""},{"$f":"IF(SUMIF(Timecamp!C:C,Reporte!A237,Timecamp!J:J)=0,\"\",SUMIF(Timecamp!C:C,Reporte!A237,Timecamp!J:J))","v":""},"","",{"$f":"IFERROR(VLOOKUP(A237,'SLA Trab'!E:I,5,FALSE),\"\")","v":""},{"$f":"IFERROR(VLOOKUP(A237,'SLA Cobr'!E:I,5,FALSE),\"\")","v":""}]
[{"$f":"IFERROR(IF(Trello!E237=\"\",\"\",Trello!E237),\" \")","v":""},{"$f":"IF($A238=\"\",\"\",IF(Trello!A237=\"\",B237,Trello!A237))","v":""},"",{"$f":"IF($A238=\"\",\"\",SUBSTITUTE(SUBSTITUTE(Trello!J237,\" days\",\"\"),\"⌚ \",\"\")*1)","v":""},{"$f":"IFERROR(IF($A238=\"\",\"\",SUBSTITUTE(SUBSTITUTE(SUBSTITUTE(INDIRECT(\"Trello!\"&ADDRESS(ROW()-1, E$1, 4)),\"Foreign: \",\"\"),\" $\",\"\"),\".\",\"\")*1),\"\")","v":""},{"$f":"IF($E238=\"\",IFERROR(IF($A238=\"\",\"\",SUBSTITUTE(SUBSTITUTE(SUBSTITUTE(INDIRECT(\"Trello!\"&ADDRESS(ROW()-1, F$1, 4)),\"MXN: \",\"\"),\" MX$\",\"\"),\".\",\"\")*1),\"\"),E238*F$2)","v":""},{"$f":"IFERROR(IF($A238=\"\",\"\",SUBSTITUTE(SUBSTITUTE(SUBSTITUTE(INDIRECT(\"Trello!\"&ADDRESS(ROW()-1, G$1, 4)),\"Debt: \",\"\"),\" $\",\"\"),\".\",\"\")*1)*IF(E238=\"\",1,F$2),\"\")","v":""},{"$f":"IFERROR(IF($A238=\"\",\"\",SUBSTITUTE(SUBSTITUTE(SUBSTITUTE(INDIRECT(\"Trello!\"&ADDRESS(ROW()-1, H$1, 4)),\"Cost: \",\"\"),\" $\",\"\"),\".\",\"\")*1*$F$2),\"\")","v":""},"",{"$f":"IFERROR(SUBSTITUTE(SUBSTITUTE(SUBSTITUTE(RIGHT(INDIRECT(\"Trello!\"&ADDRESS(ROW()-1, L$1, 4)),LEN(INDIRECT(\"Trello!\"&ADDRESS(ROW()-1, L$1, 4)))-15),\". \",\"/\"),\" 20\",\"/20\"),\" \",\"\"),\"\")","v":""},{"$f":"IFERROR(SUBSTITUTE(SUBSTITUTE(SUBSTITUTE(RIGHT(INDIRECT(\"Trello!\"&ADDRESS(ROW()-1, M$1, 4)),LEN(INDIRECT(\"Trello!\"&ADDRESS(ROW()-1, M$1, 4)))-15),\". \",\"/\"),\" 20\",\"/20\"),\" \",\"\"),\"\")","v":""},"","","",{"$f":"IFERROR(SUBSTITUTE(INDIRECT(\"Trello!\"&ADDRESS(ROW()-1, O$1, 4)),\"Estimate hrs: \",\"\")*1,\"\")","v":""},{"$f":"IF(SUMIF(Timecamp!C:C,Reporte!A238,Timecamp!J:J)=0,\"\",SUMIF(Timecamp!C:C,Reporte!A238,Timecamp!J:J))","v":""},"","",{"$f":"IFERROR(VLOOKUP(A238,'SLA Trab'!E:I,5,FALSE),\"\")","v":""},{"$f":"IFERROR(VLOOKUP(A238,'SLA Cobr'!E:I,5,FALSE),\"\")","v":""}]
[{"$f":"IFERROR(IF(Trello!E238=\"\",\"\",Trello!E238),\" \")","v":""},{"$f":"IF($A239=\"\",\"\",IF(Trello!A238=\"\",B238,Trello!A238))","v":""},"",{"$f":"IF($A239=\"\",\"\",SUBSTITUTE(SUBSTITUTE(Trello!J238,\" days\",\"\"),\"⌚ \",\"\")*1)","v":""},{"$f":"IFERROR(IF($A239=\"\",\"\",SUBSTITUTE(SUBSTITUTE(SUBSTITUTE(INDIRECT(\"Trello!\"&ADDRESS(ROW()-1, E$1, 4)),\"Foreign: \",\"\"),\" $\",\"\"),\".\",\"\")*1),\"\")","v":""},{"$f":"IF($E239=\"\",IFERROR(IF($A239=\"\",\"\",SUBSTITUTE(SUBSTITUTE(SUBSTITUTE(INDIRECT(\"Trello!\"&ADDRESS(ROW()-1, F$1, 4)),\"MXN: \",\"\"),\" MX$\",\"\"),\".\",\"\")*1),\"\"),E239*F$2)","v":""},{"$f":"IFERROR(IF($A239=\"\",\"\",SUBSTITUTE(SUBSTITUTE(SUBSTITUTE(INDIRECT(\"Trello!\"&ADDRESS(ROW()-1, G$1, 4)),\"Debt: \",\"\"),\" $\",\"\"),\".\",\"\")*1)*IF(E239=\"\",1,F$2),\"\")","v":""},{"$f":"IFERROR(IF($A239=\"\",\"\",SUBSTITUTE(SUBSTITUTE(SUBSTITUTE(INDIRECT(\"Trello!\"&ADDRESS(ROW()-1, H$1, 4)),\"Cost: \",\"\"),\" $\",\"\"),\".\",\"\")*1*$F$2),\"\")","v":""},"",{"$f":"IFERROR(SUBSTITUTE(SUBSTITUTE(SUBSTITUTE(RIGHT(INDIRECT(\"Trello!\"&ADDRESS(ROW()-1, L$1, 4)),LEN(INDIRECT(\"Trello!\"&ADDRESS(ROW()-1, L$1, 4)))-15),\". \",\"/\"),\" 20\",\"/20\"),\" \",\"\"),\"\")","v":""},{"$f":"IFERROR(SUBSTITUTE(SUBSTITUTE(SUBSTITUTE(RIGHT(INDIRECT(\"Trello!\"&ADDRESS(ROW()-1, M$1, 4)),LEN(INDIRECT(\"Trello!\"&ADDRESS(ROW()-1, M$1, 4)))-15),\". \",\"/\"),\" 20\",\"/20\"),\" \",\"\"),\"\")","v":""},"","","",{"$f":"IFERROR(SUBSTITUTE(INDIRECT(\"Trello!\"&ADDRESS(ROW()-1, O$1, 4)),\"Estimate hrs: \",\"\")*1,\"\")","v":""},{"$f":"IF(SUMIF(Timecamp!C:C,Reporte!A239,Timecamp!J:J)=0,\"\",SUMIF(Timecamp!C:C,Reporte!A239,Timecamp!J:J))","v":""},"","",{"$f":"IFERROR(VLOOKUP(A239,'SLA Trab'!E:I,5,FALSE),\"\")","v":""},{"$f":"IFERROR(VLOOKUP(A239,'SLA Cobr'!E:I,5,FALSE),\"\")","v":""}]
[{"$f":"IFERROR(IF(Trello!E239=\"\",\"\",Trello!E239),\" \")","v":""},{"$f":"IF($A240=\"\",\"\",IF(Trello!A239=\"\",B239,Trello!A239))","v":""},"",{"$f":"IF($A240=\"\",\"\",SUBSTITUTE(SUBSTITUTE(Trello!J239,\" days\",\"\"),\"⌚ \",\"\")*1)","v":""},{"$f":"IFERROR(IF($A240=\"\",\"\",SUBSTITUTE(SUBSTITUTE(SUBSTITUTE(INDIRECT(\"Trello!\"&ADDRESS(ROW()-1, E$1, 4)),\"Foreign: \",\"\"),\" $\",\"\"),\".\",\"\")*1),\"\")","v":""},{"$f":"IF($E240=\"\",IFERROR(IF($A240=\"\",\"\",SUBSTITUTE(SUBSTITUTE(SUBSTITUTE(INDIRECT(\"Trello!\"&ADDRESS(ROW()-1, F$1, 4)),\"MXN: \",\"\"),\" MX$\",\"\"),\".\",\"\")*1),\"\"),E240*F$2)","v":""},{"$f":"IFERROR(IF($A240=\"\",\"\",SUBSTITUTE(SUBSTITUTE(SUBSTITUTE(INDIRECT(\"Trello!\"&ADDRESS(ROW()-1, G$1, 4)),\"Debt: \",\"\"),\" $\",\"\"),\".\",\"\")*1)*IF(E240=\"\",1,F$2),\"\")","v":""},{"$f":"IFERROR(IF($A240=\"\",\"\",SUBSTITUTE(SUBSTITUTE(SUBSTITUTE(INDIRECT(\"Trello!\"&ADDRESS(ROW()-1, H$1, 4)),\"Cost: \",\"\"),\" $\",\"\"),\".\",\"\")*1*$F$2),\"\")","v":""},"",{"$f":"IFERROR(SUBSTITUTE(SUBSTITUTE(SUBSTITUTE(RIGHT(INDIRECT(\"Trello!\"&ADDRESS(ROW()-1, L$1, 4)),LEN(INDIRECT(\"Trello!\"&ADDRESS(ROW()-1, L$1, 4)))-15),\". \",\"/\"),\" 20\",\"/20\"),\" \",\"\"),\"\")","v":""},{"$f":"IFERROR(SUBSTITUTE(SUBSTITUTE(SUBSTITUTE(RIGHT(INDIRECT(\"Trello!\"&ADDRESS(ROW()-1, M$1, 4)),LEN(INDIRECT(\"Trello!\"&ADDRESS(ROW()-1, M$1, 4)))-15),\". \",\"/\"),\" 20\",\"/20\"),\" \",\"\"),\"\")","v":""},"","","",{"$f":"IFERROR(SUBSTITUTE(INDIRECT(\"Trello!\"&ADDRESS(ROW()-1, O$1, 4)),\"Estimate hrs: \",\"\")*1,\"\")","v":""},{"$f":"IF(SUMIF(Timecamp!C:C,Reporte!A240,Timecamp!J:J)=0,\"\",SUMIF(Timecamp!C:C,Reporte!A240,Timecamp!J:J))","v":""},"","",{"$f":"IFERROR(VLOOKUP(A240,'SLA Trab'!E:I,5,FALSE),\"\")","v":""},{"$f":"IFERROR(VLOOKUP(A240,'SLA Cobr'!E:I,5,FALSE),\"\")","v":""}]
[{"$f":"IFERROR(IF(Trello!E240=\"\",\"\",Trello!E240),\" \")","v":""},{"$f":"IF($A241=\"\",\"\",IF(Trello!A240=\"\",B240,Trello!A240))","v":""},"",{"$f":"IF($A241=\"\",\"\",SUBSTITUTE(SUBSTITUTE(Trello!J240,\" days\",\"\"),\"⌚ \",\"\")*1)","v":""},{"$f":"IFERROR(IF($A241=\"\",\"\",SUBSTITUTE(SUBSTITUTE(SUBSTITUTE(INDIRECT(\"Trello!\"&ADDRESS(ROW()-1, E$1, 4)),\"Foreign: \",\"\"),\" $\",\"\"),\".\",\"\")*1),\"\")","v":""},{"$f":"IF($E241=\"\",IFERROR(IF($A241=\"\",\"\",SUBSTITUTE(SUBSTITUTE(SUBSTITUTE(INDIRECT(\"Trello!\"&ADDRESS(ROW()-1, F$1, 4)),\"MXN: \",\"\"),\" MX$\",\"\"),\".\",\"\")*1),\"\"),E241*F$2)","v":""},{"$f":"IFERROR(IF($A241=\"\",\"\",SUBSTITUTE(SUBSTITUTE(SUBSTITUTE(INDIRECT(\"Trello!\"&ADDRESS(ROW()-1, G$1, 4)),\"Debt: \",\"\"),\" $\",\"\"),\".\",\"\")*1)*IF(E241=\"\",1,F$2),\"\")","v":""},{"$f":"IFERROR(IF($A241=\"\",\"\",SUBSTITUTE(SUBSTITUTE(SUBSTITUTE(INDIRECT(\"Trello!\"&ADDRESS(ROW()-1, H$1, 4)),\"Cost: \",\"\"),\" $\",\"\"),\".\",\"\")*1*$F$2),\"\")","v":""},"",{"$f":"IFERROR(SUBSTITUTE(SUBSTITUTE(SUBSTITUTE(RIGHT(INDIRECT(\"Trello!\"&ADDRESS(ROW()-1, L$1, 4)),LEN(INDIRECT(\"Trello!\"&ADDRESS(ROW()-1, L$1, 4)))-15),\". \",\"/\"),\" 20\",\"/20\"),\" \",\"\"),\"\")","v":""},{"$f":"IFERROR(SUBSTITUTE(SUBSTITUTE(SUBSTITUTE(RIGHT(INDIRECT(\"Trello!\"&ADDRESS(ROW()-1, M$1, 4)),LEN(INDIRECT(\"Trello!\"&ADDRESS(ROW()-1, M$1, 4)))-15),\". \",\"/\"),\" 20\",\"/20\"),\" \",\"\"),\"\")","v":""},"","","",{"$f":"IFERROR(SUBSTITUTE(INDIRECT(\"Trello!\"&ADDRESS(ROW()-1, O$1, 4)),\"Estimate hrs: \",\"\")*1,\"\")","v":""},{"$f":"IF(SUMIF(Timecamp!C:C,Reporte!A241,Timecamp!J:J)=0,\"\",SUMIF(Timecamp!C:C,Reporte!A241,Timecamp!J:J))","v":""},"","",{"$f":"IFERROR(VLOOKUP(A241,'SLA Trab'!E:I,5,FALSE),\"\")","v":""},{"$f":"IFERROR(VLOOKUP(A241,'SLA Cobr'!E:I,5,FALSE),\"\")","v":""}]
[{"$f":"IFERROR(IF(Trello!E241=\"\",\"\",Trello!E241),\" \")","v":""},{"$f":"IF($A242=\"\",\"\",IF(Trello!A241=\"\",B241,Trello!A241))","v":""},"",{"$f":"IF($A242=\"\",\"\",SUBSTITUTE(SUBSTITUTE(Trello!J241,\" days\",\"\"),\"⌚ \",\"\")*1)","v":""},{"$f":"IFERROR(IF($A242=\"\",\"\",SUBSTITUTE(SUBSTITUTE(SUBSTITUTE(INDIRECT(\"Trello!\"&ADDRESS(ROW()-1, E$1, 4)),\"Foreign: \",\"\"),\" $\",\"\"),\".\",\"\")*1),\"\")","v":""},{"$f":"IF($E242=\"\",IFERROR(IF($A242=\"\",\"\",SUBSTITUTE(SUBSTITUTE(SUBSTITUTE(INDIRECT(\"Trello!\"&ADDRESS(ROW()-1, F$1, 4)),\"MXN: \",\"\"),\" MX$\",\"\"),\".\",\"\")*1),\"\"),E242*F$2)","v":""},{"$f":"IFERROR(IF($A242=\"\",\"\",SUBSTITUTE(SUBSTITUTE(SUBSTITUTE(INDIRECT(\"Trello!\"&ADDRESS(ROW()-1, G$1, 4)),\"Debt: \",\"\"),\" $\",\"\"),\".\",\"\")*1)*IF(E242=\"\",1,F$2),\"\")","v":""},{"$f":"IFERROR(IF($A242=\"\",\"\",SUBSTITUTE(SUBSTITUTE(SUBSTITUTE(INDIRECT(\"Trello!\"&ADDRESS(ROW()-1, H$1, 4)),\"Cost: \",\"\"),\" $\",\"\"),\".\",\"\")*1*$F$2),\"\")","v":""},"",{"$f":"IFERROR(SUBSTITUTE(SUBSTITUTE(SUBSTITUTE(RIGHT(INDIRECT(\"Trello!\"&ADDRESS(ROW()-1, L$1, 4)),LEN(INDIRECT(\"Trello!\"&ADDRESS(ROW()-1, L$1, 4)))-15),\". \",\"/\"),\" 20\",\"/20\"),\" \",\"\"),\"\")","v":""},{"$f":"IFERROR(SUBSTITUTE(SUBSTITUTE(SUBSTITUTE(RIGHT(INDIRECT(\"Trello!\"&ADDRESS(ROW()-1, M$1, 4)),LEN(INDIRECT(\"Trello!\"&ADDRESS(ROW()-1, M$1, 4)))-15),\". \",\"/\"),\" 20\",\"/20\"),\" \",\"\"),\"\")","v":""},"","","",{"$f":"IFERROR(SUBSTITUTE(INDIRECT(\"Trello!\"&ADDRESS(ROW()-1, O$1, 4)),\"Estimate hrs: \",\"\")*1,\"\")","v":""},{"$f":"IF(SUMIF(Timecamp!C:C,Reporte!A242,Timecamp!J:J)=0,\"\",SUMIF(Timecamp!C:C,Reporte!A242,Timecamp!J:J))","v":""},"","",{"$f":"IFERROR(VLOOKUP(A242,'SLA Trab'!E:I,5,FALSE),\"\")","v":""},{"$f":"IFERROR(VLOOKUP(A242,'SLA Cobr'!E:I,5,FALSE),\"\")","v":""}]
[{"$f":"IFERROR(IF(Trello!E242=\"\",\"\",Trello!E242),\" \")","v":""},{"$f":"IF($A243=\"\",\"\",IF(Trello!A242=\"\",B242,Trello!A242))","v":""},"",{"$f":"IF($A243=\"\",\"\",SUBSTITUTE(SUBSTITUTE(Trello!J242,\" days\",\"\"),\"⌚ \",\"\")*1)","v":""},{"$f":"IFERROR(IF($A243=\"\",\"\",SUBSTITUTE(SUBSTITUTE(SUBSTITUTE(INDIRECT(\"Trello!\"&ADDRESS(ROW()-1, E$1, 4)),\"Foreign: \",\"\"),\" $\",\"\"),\".\",\"\")*1),\"\")","v":""},{"$f":"IF($E243=\"\",IFERROR(IF($A243=\"\",\"\",SUBSTITUTE(SUBSTITUTE(SUBSTITUTE(INDIRECT(\"Trello!\"&ADDRESS(ROW()-1, F$1, 4)),\"MXN: \",\"\"),\" MX$\",\"\"),\".\",\"\")*1),\"\"),E243*F$2)","v":""},{"$f":"IFERROR(IF($A243=\"\",\"\",SUBSTITUTE(SUBSTITUTE(SUBSTITUTE(INDIRECT(\"Trello!\"&ADDRESS(ROW()-1, G$1, 4)),\"Debt: \",\"\"),\" $\",\"\"),\".\",\"\")*1)*IF(E243=\"\",1,F$2),\"\")","v":""},{"$f":"IFERROR(IF($A243=\"\",\"\",SUBSTITUTE(SUBSTITUTE(SUBSTITUTE(INDIRECT(\"Trello!\"&ADDRESS(ROW()-1, H$1, 4)),\"Cost: \",\"\"),\" $\",\"\"),\".\",\"\")*1*$F$2),\"\")","v":""},"",{"$f":"IFERROR(SUBSTITUTE(SUBSTITUTE(SUBSTITUTE(RIGHT(INDIRECT(\"Trello!\"&ADDRESS(ROW()-1, L$1, 4)),LEN(INDIRECT(\"Trello!\"&ADDRESS(ROW()-1, L$1, 4)))-15),\". \",\"/\"),\" 20\",\"/20\"),\" \",\"\"),\"\")","v":""},{"$f":"IFERROR(SUBSTITUTE(SUBSTITUTE(SUBSTITUTE(RIGHT(INDIRECT(\"Trello!\"&ADDRESS(ROW()-1, M$1, 4)),LEN(INDIRECT(\"Trello!\"&ADDRESS(ROW()-1, M$1, 4)))-15),\". \",\"/\"),\" 20\",\"/20\"),\" \",\"\"),\"\")","v":""},"","","",{"$f":"IFERROR(SUBSTITUTE(INDIRECT(\"Trello!\"&ADDRESS(ROW()-1, O$1, 4)),\"Estimate hrs: \",\"\")*1,\"\")","v":""},{"$f":"IF(SUMIF(Timecamp!C:C,Reporte!A243,Timecamp!J:J)=0,\"\",SUMIF(Timecamp!C:C,Reporte!A243,Timecamp!J:J))","v":""},"","",{"$f":"IFERROR(VLOOKUP(A243,'SLA Trab'!E:I,5,FALSE),\"\")","v":""},{"$f":"IFERROR(VLOOKUP(A243,'SLA Cobr'!E:I,5,FALSE),\"\")","v":""}]
[{"$f":"IFERROR(IF(Trello!E243=\"\",\"\",Trello!E243),\" \")","v":""},{"$f":"IF($A244=\"\",\"\",IF(Trello!A243=\"\",B243,Trello!A243))","v":""},"",{"$f":"IF($A244=\"\",\"\",SUBSTITUTE(SUBSTITUTE(Trello!J243,\" days\",\"\"),\"⌚ \",\"\")*1)","v":""},{"$f":"IFERROR(IF($A244=\"\",\"\",SUBSTITUTE(SUBSTITUTE(SUBSTITUTE(INDIRECT(\"Trello!\"&ADDRESS(ROW()-1, E$1, 4)),\"Foreign: \",\"\"),\" $\",\"\"),\".\",\"\")*1),\"\")","v":""},{"$f":"IF($E244=\"\",IFERROR(IF($A244=\"\",\"\",SUBSTITUTE(SUBSTITUTE(SUBSTITUTE(INDIRECT(\"Trello!\"&ADDRESS(ROW()-1, F$1, 4)),\"MXN: \",\"\"),\" MX$\",\"\"),\".\",\"\")*1),\"\"),E244*F$2)","v":""},{"$f":"IFERROR(IF($A244=\"\",\"\",SUBSTITUTE(SUBSTITUTE(SUBSTITUTE(INDIRECT(\"Trello!\"&ADDRESS(ROW()-1, G$1, 4)),\"Debt: \",\"\"),\" $\",\"\"),\".\",\"\")*1)*IF(E244=\"\",1,F$2),\"\")","v":""},{"$f":"IFERROR(IF($A244=\"\",\"\",SUBSTITUTE(SUBSTITUTE(SUBSTITUTE(INDIRECT(\"Trello!\"&ADDRESS(ROW()-1, H$1, 4)),\"Cost: \",\"\"),\" $\",\"\"),\".\",\"\")*1*$F$2),\"\")","v":""},"",{"$f":"IFERROR(SUBSTITUTE(SUBSTITUTE(SUBSTITUTE(RIGHT(INDIRECT(\"Trello!\"&ADDRESS(ROW()-1, L$1, 4)),LEN(INDIRECT(\"Trello!\"&ADDRESS(ROW()-1, L$1, 4)))-15),\". \",\"/\"),\" 20\",\"/20\"),\" \",\"\"),\"\")","v":""},{"$f":"IFERROR(SUBSTITUTE(SUBSTITUTE(SUBSTITUTE(RIGHT(INDIRECT(\"Trello!\"&ADDRESS(ROW()-1, M$1, 4)),LEN(INDIRECT(\"Trello!\"&ADDRESS(ROW()-1, M$1, 4)))-15),\". \",\"/\"),\" 20\",\"/20\"),\" \",\"\"),\"\")","v":""},"","","",{"$f":"IFERROR(SUBSTITUTE(INDIRECT(\"Trello!\"&ADDRESS(ROW()-1, O$1, 4)),\"Estimate hrs: \",\"\")*1,\"\")","v":""},{"$f":"IF(SUMIF(Timecamp!C:C,Reporte!A244,Timecamp!J:J)=0,\"\",SUMIF(Timecamp!C:C,Reporte!A244,Timecamp!J:J))","v":""},"","",{"$f":"IFERROR(VLOOKUP(A244,'SLA Trab'!E:I,5,FALSE),\"\")","v":""},{"$f":"IFERROR(VLOOKUP(A244,'SLA Cobr'!E:I,5,FALSE),\"\")","v":""}]
[{"$f":"IFERROR(IF(Trello!E244=\"\",\"\",Trello!E244),\" \")","v":""},{"$f":"IF($A245=\"\",\"\",IF(Trello!A244=\"\",B244,Trello!A244))","v":""},"",{"$f":"IF($A245=\"\",\"\",SUBSTITUTE(SUBSTITUTE(Trello!J244,\" days\",\"\"),\"⌚ \",\"\")*1)","v":""},{"$f":"IFERROR(IF($A245=\"\",\"\",SUBSTITUTE(SUBSTITUTE(SUBSTITUTE(INDIRECT(\"Trello!\"&ADDRESS(ROW()-1, E$1, 4)),\"Foreign: \",\"\"),\" $\",\"\"),\".\",\"\")*1),\"\")","v":""},{"$f":"IF($E245=\"\",IFERROR(IF($A245=\"\",\"\",SUBSTITUTE(SUBSTITUTE(SUBSTITUTE(INDIRECT(\"Trello!\"&ADDRESS(ROW()-1, F$1, 4)),\"MXN: \",\"\"),\" MX$\",\"\"),\".\",\"\")*1),\"\"),E245*F$2)","v":""},{"$f":"IFERROR(IF($A245=\"\",\"\",SUBSTITUTE(SUBSTITUTE(SUBSTITUTE(INDIRECT(\"Trello!\"&ADDRESS(ROW()-1, G$1, 4)),\"Debt: \",\"\"),\" $\",\"\"),\".\",\"\")*1)*IF(E245=\"\",1,F$2),\"\")","v":""},{"$f":"IFERROR(IF($A245=\"\",\"\",SUBSTITUTE(SUBSTITUTE(SUBSTITUTE(INDIRECT(\"Trello!\"&ADDRESS(ROW()-1, H$1, 4)),\"Cost: \",\"\"),\" $\",\"\"),\".\",\"\")*1*$F$2),\"\")","v":""},"",{"$f":"IFERROR(SUBSTITUTE(SUBSTITUTE(SUBSTITUTE(RIGHT(INDIRECT(\"Trello!\"&ADDRESS(ROW()-1, L$1, 4)),LEN(INDIRECT(\"Trello!\"&ADDRESS(ROW()-1, L$1, 4)))-15),\". \",\"/\"),\" 20\",\"/20\"),\" \",\"\"),\"\")","v":""},{"$f":"IFERROR(SUBSTITUTE(SUBSTITUTE(SUBSTITUTE(RIGHT(INDIRECT(\"Trello!\"&ADDRESS(ROW()-1, M$1, 4)),LEN(INDIRECT(\"Trello!\"&ADDRESS(ROW()-1, M$1, 4)))-15),\". \",\"/\"),\" 20\",\"/20\"),\" \",\"\"),\"\")","v":""},"","","",{"$f":"IFERROR(SUBSTITUTE(INDIRECT(\"Trello!\"&ADDRESS(ROW()-1, O$1, 4)),\"Estimate hrs: \",\"\")*1,\"\")","v":""},{"$f":"IF(SUMIF(Timecamp!C:C,Reporte!A245,Timecamp!J:J)=0,\"\",SUMIF(Timecamp!C:C,Reporte!A245,Timecamp!J:J))","v":""},"","",{"$f":"IFERROR(VLOOKUP(A245,'SLA Trab'!E:I,5,FALSE),\"\")","v":""},{"$f":"IFERROR(VLOOKUP(A245,'SLA Cobr'!E:I,5,FALSE),\"\")","v":""}]
[{"$f":"IFERROR(IF(Trello!E245=\"\",\"\",Trello!E245),\" \")","v":""},{"$f":"IF($A246=\"\",\"\",IF(Trello!A245=\"\",B245,Trello!A245))","v":""},"",{"$f":"IF($A246=\"\",\"\",SUBSTITUTE(SUBSTITUTE(Trello!J245,\" days\",\"\"),\"⌚ \",\"\")*1)","v":""},{"$f":"IFERROR(IF($A246=\"\",\"\",SUBSTITUTE(SUBSTITUTE(SUBSTITUTE(INDIRECT(\"Trello!\"&ADDRESS(ROW()-1, E$1, 4)),\"Foreign: \",\"\"),\" $\",\"\"),\".\",\"\")*1),\"\")","v":""},{"$f":"IF($E246=\"\",IFERROR(IF($A246=\"\",\"\",SUBSTITUTE(SUBSTITUTE(SUBSTITUTE(INDIRECT(\"Trello!\"&ADDRESS(ROW()-1, F$1, 4)),\"MXN: \",\"\"),\" MX$\",\"\"),\".\",\"\")*1),\"\"),E246*F$2)","v":""},{"$f":"IFERROR(IF($A246=\"\",\"\",SUBSTITUTE(SUBSTITUTE(SUBSTITUTE(INDIRECT(\"Trello!\"&ADDRESS(ROW()-1, G$1, 4)),\"Debt: \",\"\"),\" $\",\"\"),\".\",\"\")*1)*IF(E246=\"\",1,F$2),\"\")","v":""},{"$f":"IFERROR(IF($A246=\"\",\"\",SUBSTITUTE(SUBSTITUTE(SUBSTITUTE(INDIRECT(\"Trello!\"&ADDRESS(ROW()-1, H$1, 4)),\"Cost: \",\"\"),\" $\",\"\"),\".\",\"\")*1*$F$2),\"\")","v":""},"",{"$f":"IFERROR(SUBSTITUTE(SUBSTITUTE(SUBSTITUTE(RIGHT(INDIRECT(\"Trello!\"&ADDRESS(ROW()-1, L$1, 4)),LEN(INDIRECT(\"Trello!\"&ADDRESS(ROW()-1, L$1, 4)))-15),\". \",\"/\"),\" 20\",\"/20\"),\" \",\"\"),\"\")","v":""},{"$f":"IFERROR(SUBSTITUTE(SUBSTITUTE(SUBSTITUTE(RIGHT(INDIRECT(\"Trello!\"&ADDRESS(ROW()-1, M$1, 4)),LEN(INDIRECT(\"Trello!\"&ADDRESS(ROW()-1, M$1, 4)))-15),\". \",\"/\"),\" 20\",\"/20\"),\" \",\"\"),\"\")","v":""},"","","",{"$f":"IFERROR(SUBSTITUTE(INDIRECT(\"Trello!\"&ADDRESS(ROW()-1, O$1, 4)),\"Estimate hrs: \",\"\")*1,\"\")","v":""},{"$f":"IF(SUMIF(Timecamp!C:C,Reporte!A246,Timecamp!J:J)=0,\"\",SUMIF(Timecamp!C:C,Reporte!A246,Timecamp!J:J))","v":""},"","",{"$f":"IFERROR(VLOOKUP(A246,'SLA Trab'!E:I,5,FALSE),\"\")","v":""},{"$f":"IFERROR(VLOOKUP(A246,'SLA Cobr'!E:I,5,FALSE),\"\")","v":""}]
[{"$f":"IFERROR(IF(Trello!E246=\"\",\"\",Trello!E246),\" \")","v":""},{"$f":"IF($A247=\"\",\"\",IF(Trello!A246=\"\",B246,Trello!A246))","v":""},"",{"$f":"IF($A247=\"\",\"\",SUBSTITUTE(SUBSTITUTE(Trello!J246,\" days\",\"\"),\"⌚ \",\"\")*1)","v":""},{"$f":"IFERROR(IF($A247=\"\",\"\",SUBSTITUTE(SUBSTITUTE(SUBSTITUTE(INDIRECT(\"Trello!\"&ADDRESS(ROW()-1, E$1, 4)),\"Foreign: \",\"\"),\" $\",\"\"),\".\",\"\")*1),\"\")","v":""},{"$f":"IF($E247=\"\",IFERROR(IF($A247=\"\",\"\",SUBSTITUTE(SUBSTITUTE(SUBSTITUTE(INDIRECT(\"Trello!\"&ADDRESS(ROW()-1, F$1, 4)),\"MXN: \",\"\"),\" MX$\",\"\"),\".\",\"\")*1),\"\"),E247*F$2)","v":""},{"$f":"IFERROR(IF($A247=\"\",\"\",SUBSTITUTE(SUBSTITUTE(SUBSTITUTE(INDIRECT(\"Trello!\"&ADDRESS(ROW()-1, G$1, 4)),\"Debt: \",\"\"),\" $\",\"\"),\".\",\"\")*1)*IF(E247=\"\",1,F$2),\"\")","v":""},{"$f":"IFERROR(IF($A247=\"\",\"\",SUBSTITUTE(SUBSTITUTE(SUBSTITUTE(INDIRECT(\"Trello!\"&ADDRESS(ROW()-1, H$1, 4)),\"Cost: \",\"\"),\" $\",\"\"),\".\",\"\")*1*$F$2),\"\")","v":""},"",{"$f":"IFERROR(SUBSTITUTE(SUBSTITUTE(SUBSTITUTE(RIGHT(INDIRECT(\"Trello!\"&ADDRESS(ROW()-1, L$1, 4)),LEN(INDIRECT(\"Trello!\"&ADDRESS(ROW()-1, L$1, 4)))-15),\". \",\"/\"),\" 20\",\"/20\"),\" \",\"\"),\"\")","v":""},{"$f":"IFERROR(SUBSTITUTE(SUBSTITUTE(SUBSTITUTE(RIGHT(INDIRECT(\"Trello!\"&ADDRESS(ROW()-1, M$1, 4)),LEN(INDIRECT(\"Trello!\"&ADDRESS(ROW()-1, M$1, 4)))-15),\". \",\"/\"),\" 20\",\"/20\"),\" \",\"\"),\"\")","v":""},"","","",{"$f":"IFERROR(SUBSTITUTE(INDIRECT(\"Trello!\"&ADDRESS(ROW()-1, O$1, 4)),\"Estimate hrs: \",\"\")*1,\"\")","v":""},{"$f":"IF(SUMIF(Timecamp!C:C,Reporte!A247,Timecamp!J:J)=0,\"\",SUMIF(Timecamp!C:C,Reporte!A247,Timecamp!J:J))","v":""},"","",{"$f":"IFERROR(VLOOKUP(A247,'SLA Trab'!E:I,5,FALSE),\"\")","v":""},{"$f":"IFERROR(VLOOKUP(A247,'SLA Cobr'!E:I,5,FALSE),\"\")","v":""}]
[{"$f":"IFERROR(IF(Trello!E247=\"\",\"\",Trello!E247),\" \")","v":""},{"$f":"IF($A248=\"\",\"\",IF(Trello!A247=\"\",B247,Trello!A247))","v":""},"",{"$f":"IF($A248=\"\",\"\",SUBSTITUTE(SUBSTITUTE(Trello!J247,\" days\",\"\"),\"⌚ \",\"\")*1)","v":""},{"$f":"IFERROR(IF($A248=\"\",\"\",SUBSTITUTE(SUBSTITUTE(SUBSTITUTE(INDIRECT(\"Trello!\"&ADDRESS(ROW()-1, E$1, 4)),\"Foreign: \",\"\"),\" $\",\"\"),\".\",\"\")*1),\"\")","v":""},{"$f":"IF($E248=\"\",IFERROR(IF($A248=\"\",\"\",SUBSTITUTE(SUBSTITUTE(SUBSTITUTE(INDIRECT(\"Trello!\"&ADDRESS(ROW()-1, F$1, 4)),\"MXN: \",\"\"),\" MX$\",\"\"),\".\",\"\")*1),\"\"),E248*F$2)","v":""},{"$f":"IFERROR(IF($A248=\"\",\"\",SUBSTITUTE(SUBSTITUTE(SUBSTITUTE(INDIRECT(\"Trello!\"&ADDRESS(ROW()-1, G$1, 4)),\"Debt: \",\"\"),\" $\",\"\"),\".\",\"\")*1)*IF(E248=\"\",1,F$2),\"\")","v":""},{"$f":"IFERROR(IF($A248=\"\",\"\",SUBSTITUTE(SUBSTITUTE(SUBSTITUTE(INDIRECT(\"Trello!\"&ADDRESS(ROW()-1, H$1, 4)),\"Cost: \",\"\"),\" $\",\"\"),\".\",\"\")*1*$F$2),\"\")","v":""},"",{"$f":"IFERROR(SUBSTITUTE(SUBSTITUTE(SUBSTITUTE(RIGHT(INDIRECT(\"Trello!\"&ADDRESS(ROW()-1, L$1, 4)),LEN(INDIRECT(\"Trello!\"&ADDRESS(ROW()-1, L$1, 4)))-15),\". \",\"/\"),\" 20\",\"/20\"),\" \",\"\"),\"\")","v":""},{"$f":"IFERROR(SUBSTITUTE(SUBSTITUTE(SUBSTITUTE(RIGHT(INDIRECT(\"Trello!\"&ADDRESS(ROW()-1, M$1, 4)),LEN(INDIRECT(\"Trello!\"&ADDRESS(ROW()-1, M$1, 4)))-15),\". \",\"/\"),\" 20\",\"/20\"),\" \",\"\"),\"\")","v":""},"","","",{"$f":"IFERROR(SUBSTITUTE(INDIRECT(\"Trello!\"&ADDRESS(ROW()-1, O$1, 4)),\"Estimate hrs: \",\"\")*1,\"\")","v":""},{"$f":"IF(SUMIF(Timecamp!C:C,Reporte!A248,Timecamp!J:J)=0,\"\",SUMIF(Timecamp!C:C,Reporte!A248,Timecamp!J:J))","v":""},"","",{"$f":"IFERROR(VLOOKUP(A248,'SLA Trab'!E:I,5,FALSE),\"\")","v":""},{"$f":"IFERROR(VLOOKUP(A248,'SLA Cobr'!E:I,5,FALSE),\"\")","v":""}]
[{"$f":"IFERROR(IF(Trello!E248=\"\",\"\",Trello!E248),\" \")","v":""},{"$f":"IF($A249=\"\",\"\",IF(Trello!A248=\"\",B248,Trello!A248))","v":""},"",{"$f":"IF($A249=\"\",\"\",SUBSTITUTE(SUBSTITUTE(Trello!J248,\" days\",\"\"),\"⌚ \",\"\")*1)","v":""},{"$f":"IFERROR(IF($A249=\"\",\"\",SUBSTITUTE(SUBSTITUTE(SUBSTITUTE(INDIRECT(\"Trello!\"&ADDRESS(ROW()-1, E$1, 4)),\"Foreign: \",\"\"),\" $\",\"\"),\".\",\"\")*1),\"\")","v":""},{"$f":"IF($E249=\"\",IFERROR(IF($A249=\"\",\"\",SUBSTITUTE(SUBSTITUTE(SUBSTITUTE(INDIRECT(\"Trello!\"&ADDRESS(ROW()-1, F$1, 4)),\"MXN: \",\"\"),\" MX$\",\"\"),\".\",\"\")*1),\"\"),E249*F$2)","v":""},{"$f":"IFERROR(IF($A249=\"\",\"\",SUBSTITUTE(SUBSTITUTE(SUBSTITUTE(INDIRECT(\"Trello!\"&ADDRESS(ROW()-1, G$1, 4)),\"Debt: \",\"\"),\" $\",\"\"),\".\",\"\")*1)*IF(E249=\"\",1,F$2),\"\")","v":""},{"$f":"IFERROR(IF($A249=\"\",\"\",SUBSTITUTE(SUBSTITUTE(SUBSTITUTE(INDIRECT(\"Trello!\"&ADDRESS(ROW()-1, H$1, 4)),\"Cost: \",\"\"),\" $\",\"\"),\".\",\"\")*1*$F$2),\"\")","v":""},"",{"$f":"IFERROR(SUBSTITUTE(SUBSTITUTE(SUBSTITUTE(RIGHT(INDIRECT(\"Trello!\"&ADDRESS(ROW()-1, L$1, 4)),LEN(INDIRECT(\"Trello!\"&ADDRESS(ROW()-1, L$1, 4)))-15),\". \",\"/\"),\" 20\",\"/20\"),\" \",\"\"),\"\")","v":""},{"$f":"IFERROR(SUBSTITUTE(SUBSTITUTE(SUBSTITUTE(RIGHT(INDIRECT(\"Trello!\"&ADDRESS(ROW()-1, M$1, 4)),LEN(INDIRECT(\"Trello!\"&ADDRESS(ROW()-1, M$1, 4)))-15),\". \",\"/\"),\" 20\",\"/20\"),\" \",\"\"),\"\")","v":""},"","","",{"$f":"IFERROR(SUBSTITUTE(INDIRECT(\"Trello!\"&ADDRESS(ROW()-1, O$1, 4)),\"Estimate hrs: \",\"\")*1,\"\")","v":""},{"$f":"IF(SUMIF(Timecamp!C:C,Reporte!A249,Timecamp!J:J)=0,\"\",SUMIF(Timecamp!C:C,Reporte!A249,Timecamp!J:J))","v":""},"","",{"$f":"IFERROR(VLOOKUP(A249,'SLA Trab'!E:I,5,FALSE),\"\")","v":""},{"$f":"IFERROR(VLOOKUP(A249,'SLA Cobr'!E:I,5,FALSE),\"\")","v":""}]
[{"$f":"IFERROR(IF(Trello!E249=\"\",\"\",Trello!E249),\" \")","v":""},{"$f":"IF($A250=\"\",\"\",IF(Trello!A249=\"\",B249,Trello!A249))","v":""},"",{"$f":"IF($A250=\"\",\"\",SUBSTITUTE(SUBSTITUTE(Trello!J249,\" days\",\"\"),\"⌚ \",\"\")*1)","v":""},{"$f":"IFERROR(IF($A250=\"\",\"\",SUBSTITUTE(SUBSTITUTE(SUBSTITUTE(INDIRECT(\"Trello!\"&ADDRESS(ROW()-1, E$1, 4)),\"Foreign: \",\"\"),\" $\",\"\"),\".\",\"\")*1),\"\")","v":""},{"$f":"IF($E250=\"\",IFERROR(IF($A250=\"\",\"\",SUBSTITUTE(SUBSTITUTE(SUBSTITUTE(INDIRECT(\"Trello!\"&ADDRESS(ROW()-1, F$1, 4)),\"MXN: \",\"\"),\" MX$\",\"\"),\".\",\"\")*1),\"\"),E250*F$2)","v":""},{"$f":"IFERROR(IF($A250=\"\",\"\",SUBSTITUTE(SUBSTITUTE(SUBSTITUTE(INDIRECT(\"Trello!\"&ADDRESS(ROW()-1, G$1, 4)),\"Debt: \",\"\"),\" $\",\"\"),\".\",\"\")*1)*IF(E250=\"\",1,F$2),\"\")","v":""},{"$f":"IFERROR(IF($A250=\"\",\"\",SUBSTITUTE(SUBSTITUTE(SUBSTITUTE(INDIRECT(\"Trello!\"&ADDRESS(ROW()-1, H$1, 4)),\"Cost: \",\"\"),\" $\",\"\"),\".\",\"\")*1*$F$2),\"\")","v":""},"",{"$f":"IFERROR(SUBSTITUTE(SUBSTITUTE(SUBSTITUTE(RIGHT(INDIRECT(\"Trello!\"&ADDRESS(ROW()-1, L$1, 4)),LEN(INDIRECT(\"Trello!\"&ADDRESS(ROW()-1, L$1, 4)))-15),\". \",\"/\"),\" 20\",\"/20\"),\" \",\"\"),\"\")","v":""},{"$f":"IFERROR(SUBSTITUTE(SUBSTITUTE(SUBSTITUTE(RIGHT(INDIRECT(\"Trello!\"&ADDRESS(ROW()-1, M$1, 4)),LEN(INDIRECT(\"Trello!\"&ADDRESS(ROW()-1, M$1, 4)))-15),\". \",\"/\"),\" 20\",\"/20\"),\" \",\"\"),\"\")","v":""},"","","",{"$f":"IFERROR(SUBSTITUTE(INDIRECT(\"Trello!\"&ADDRESS(ROW()-1, O$1, 4)),\"Estimate hrs: \",\"\")*1,\"\")","v":""},{"$f":"IF(SUMIF(Timecamp!C:C,Reporte!A250,Timecamp!J:J)=0,\"\",SUMIF(Timecamp!C:C,Reporte!A250,Timecamp!J:J))","v":""},"","",{"$f":"IFERROR(VLOOKUP(A250,'SLA Trab'!E:I,5,FALSE),\"\")","v":""},{"$f":"IFERROR(VLOOKUP(A250,'SLA Cobr'!E:I,5,FALSE),\"\")","v":""}]
[{"$f":"IFERROR(IF(Trello!E250=\"\",\"\",Trello!E250),\" \")","v":""},{"$f":"IF($A251=\"\",\"\",IF(Trello!A250=\"\",B250,Trello!A250))","v":""},"",{"$f":"IF($A251=\"\",\"\",SUBSTITUTE(SUBSTITUTE(Trello!J250,\" days\",\"\"),\"⌚ \",\"\")*1)","v":""},{"$f":"IFERROR(IF($A251=\"\",\"\",SUBSTITUTE(SUBSTITUTE(SUBSTITUTE(INDIRECT(\"Trello!\"&ADDRESS(ROW()-1, E$1, 4)),\"Foreign: \",\"\"),\" $\",\"\"),\".\",\"\")*1),\"\")","v":""},{"$f":"IF($E251=\"\",IFERROR(IF($A251=\"\",\"\",SUBSTITUTE(SUBSTITUTE(SUBSTITUTE(INDIRECT(\"Trello!\"&ADDRESS(ROW()-1, F$1, 4)),\"MXN: \",\"\"),\" MX$\",\"\"),\".\",\"\")*1),\"\"),E251*F$2)","v":""},{"$f":"IFERROR(IF($A251=\"\",\"\",SUBSTITUTE(SUBSTITUTE(SUBSTITUTE(INDIRECT(\"Trello!\"&ADDRESS(ROW()-1, G$1, 4)),\"Debt: \",\"\"),\" $\",\"\"),\".\",\"\")*1)*IF(E251=\"\",1,F$2),\"\")","v":""},{"$f":"IFERROR(IF($A251=\"\",\"\",SUBSTITUTE(SUBSTITUTE(SUBSTITUTE(INDIRECT(\"Trello!\"&ADDRESS(ROW()-1, H$1, 4)),\"Cost: \",\"\"),\" $\",\"\"),\".\",\"\")*1*$F$2),\"\")","v":""},"",{"$f":"IFERROR(SUBSTITUTE(SUBSTITUTE(SUBSTITUTE(RIGHT(INDIRECT(\"Trello!\"&ADDRESS(ROW()-1, L$1, 4)),LEN(INDIRECT(\"Trello!\"&ADDRESS(ROW()-1, L$1, 4)))-15),\". \",\"/\"),\" 20\",\"/20\"),\" \",\"\"),\"\")","v":""},{"$f":"IFERROR(SUBSTITUTE(SUBSTITUTE(SUBSTITUTE(RIGHT(INDIRECT(\"Trello!\"&ADDRESS(ROW()-1, M$1, 4)),LEN(INDIRECT(\"Trello!\"&ADDRESS(ROW()-1, M$1, 4)))-15),\". \",\"/\"),\" 20\",\"/20\"),\" \",\"\"),\"\")","v":""},"","","",{"$f":"IFERROR(SUBSTITUTE(INDIRECT(\"Trello!\"&ADDRESS(ROW()-1, O$1, 4)),\"Estimate hrs: \",\"\")*1,\"\")","v":""},{"$f":"IF(SUMIF(Timecamp!C:C,Reporte!A251,Timecamp!J:J)=0,\"\",SUMIF(Timecamp!C:C,Reporte!A251,Timecamp!J:J))","v":""},"","",{"$f":"IFERROR(VLOOKUP(A251,'SLA Trab'!E:I,5,FALSE),\"\")","v":""},{"$f":"IFERROR(VLOOKUP(A251,'SLA Cobr'!E:I,5,FALSE),\"\")","v":""}]
[{"$f":"IFERROR(IF(Trello!E251=\"\",\"\",Trello!E251),\" \")","v":""},{"$f":"IF($A252=\"\",\"\",IF(Trello!A251=\"\",B251,Trello!A251))","v":""},"",{"$f":"IF($A252=\"\",\"\",SUBSTITUTE(SUBSTITUTE(Trello!J251,\" days\",\"\"),\"⌚ \",\"\")*1)","v":""},{"$f":"IFERROR(IF($A252=\"\",\"\",SUBSTITUTE(SUBSTITUTE(SUBSTITUTE(INDIRECT(\"Trello!\"&ADDRESS(ROW()-1, E$1, 4)),\"Foreign: \",\"\"),\" $\",\"\"),\".\",\"\")*1),\"\")","v":""},{"$f":"IF($E252=\"\",IFERROR(IF($A252=\"\",\"\",SUBSTITUTE(SUBSTITUTE(SUBSTITUTE(INDIRECT(\"Trello!\"&ADDRESS(ROW()-1, F$1, 4)),\"MXN: \",\"\"),\" MX$\",\"\"),\".\",\"\")*1),\"\"),E252*F$2)","v":""},{"$f":"IFERROR(IF($A252=\"\",\"\",SUBSTITUTE(SUBSTITUTE(SUBSTITUTE(INDIRECT(\"Trello!\"&ADDRESS(ROW()-1, G$1, 4)),\"Debt: \",\"\"),\" $\",\"\"),\".\",\"\")*1)*IF(E252=\"\",1,F$2),\"\")","v":""},{"$f":"IFERROR(IF($A252=\"\",\"\",SUBSTITUTE(SUBSTITUTE(SUBSTITUTE(INDIRECT(\"Trello!\"&ADDRESS(ROW()-1, H$1, 4)),\"Cost: \",\"\"),\" $\",\"\"),\".\",\"\")*1*$F$2),\"\")","v":""},"",{"$f":"IFERROR(SUBSTITUTE(SUBSTITUTE(SUBSTITUTE(RIGHT(INDIRECT(\"Trello!\"&ADDRESS(ROW()-1, L$1, 4)),LEN(INDIRECT(\"Trello!\"&ADDRESS(ROW()-1, L$1, 4)))-15),\". \",\"/\"),\" 20\",\"/20\"),\" \",\"\"),\"\")","v":""},{"$f":"IFERROR(SUBSTITUTE(SUBSTITUTE(SUBSTITUTE(RIGHT(INDIRECT(\"Trello!\"&ADDRESS(ROW()-1, M$1, 4)),LEN(INDIRECT(\"Trello!\"&ADDRESS(ROW()-1, M$1, 4)))-15),\". \",\"/\"),\" 20\",\"/20\"),\" \",\"\"),\"\")","v":""},"","","",{"$f":"IFERROR(SUBSTITUTE(INDIRECT(\"Trello!\"&ADDRESS(ROW()-1, O$1, 4)),\"Estimate hrs: \",\"\")*1,\"\")","v":""},{"$f":"IF(SUMIF(Timecamp!C:C,Reporte!A252,Timecamp!J:J)=0,\"\",SUMIF(Timecamp!C:C,Reporte!A252,Timecamp!J:J))","v":""},"","",{"$f":"IFERROR(VLOOKUP(A252,'SLA Trab'!E:I,5,FALSE),\"\")","v":""},{"$f":"IFERROR(VLOOKUP(A252,'SLA Cobr'!E:I,5,FALSE),\"\")","v":""}]
[{"$f":"IFERROR(IF(Trello!E252=\"\",\"\",Trello!E252),\" \")","v":""},{"$f":"IF($A253=\"\",\"\",IF(Trello!A252=\"\",B252,Trello!A252))","v":""},"",{"$f":"IF($A253=\"\",\"\",SUBSTITUTE(SUBSTITUTE(Trello!J252,\" days\",\"\"),\"⌚ \",\"\")*1)","v":""},{"$f":"IFERROR(IF($A253=\"\",\"\",SUBSTITUTE(SUBSTITUTE(SUBSTITUTE(INDIRECT(\"Trello!\"&ADDRESS(ROW()-1, E$1, 4)),\"Foreign: \",\"\"),\" $\",\"\"),\".\",\"\")*1),\"\")","v":""},{"$f":"IF($E253=\"\",IFERROR(IF($A253=\"\",\"\",SUBSTITUTE(SUBSTITUTE(SUBSTITUTE(INDIRECT(\"Trello!\"&ADDRESS(ROW()-1, F$1, 4)),\"MXN: \",\"\"),\" MX$\",\"\"),\".\",\"\")*1),\"\"),E253*F$2)","v":""},{"$f":"IFERROR(IF($A253=\"\",\"\",SUBSTITUTE(SUBSTITUTE(SUBSTITUTE(INDIRECT(\"Trello!\"&ADDRESS(ROW()-1, G$1, 4)),\"Debt: \",\"\"),\" $\",\"\"),\".\",\"\")*1)*IF(E253=\"\",1,F$2),\"\")","v":""},{"$f":"IFERROR(IF($A253=\"\",\"\",SUBSTITUTE(SUBSTITUTE(SUBSTITUTE(INDIRECT(\"Trello!\"&ADDRESS(ROW()-1, H$1, 4)),\"Cost: \",\"\"),\" $\",\"\"),\".\",\"\")*1*$F$2),\"\")","v":""},"",{"$f":"IFERROR(SUBSTITUTE(SUBSTITUTE(SUBSTITUTE(RIGHT(INDIRECT(\"Trello!\"&ADDRESS(ROW()-1, L$1, 4)),LEN(INDIRECT(\"Trello!\"&ADDRESS(ROW()-1, L$1, 4)))-15),\". \",\"/\"),\" 20\",\"/20\"),\" \",\"\"),\"\")","v":""},{"$f":"IFERROR(SUBSTITUTE(SUBSTITUTE(SUBSTITUTE(RIGHT(INDIRECT(\"Trello!\"&ADDRESS(ROW()-1, M$1, 4)),LEN(INDIRECT(\"Trello!\"&ADDRESS(ROW()-1, M$1, 4)))-15),\". \",\"/\"),\" 20\",\"/20\"),\" \",\"\"),\"\")","v":""},"","","",{"$f":"IFERROR(SUBSTITUTE(INDIRECT(\"Trello!\"&ADDRESS(ROW()-1, O$1, 4)),\"Estimate hrs: \",\"\")*1,\"\")","v":""},{"$f":"IF(SUMIF(Timecamp!C:C,Reporte!A253,Timecamp!J:J)=0,\"\",SUMIF(Timecamp!C:C,Reporte!A253,Timecamp!J:J))","v":""},"","",{"$f":"IFERROR(VLOOKUP(A253,'SLA Trab'!E:I,5,FALSE),\"\")","v":""},{"$f":"IFERROR(VLOOKUP(A253,'SLA Cobr'!E:I,5,FALSE),\"\")","v":""}]
[{"$f":"IFERROR(IF(Trello!E253=\"\",\"\",Trello!E253),\" \")","v":""},{"$f":"IF($A254=\"\",\"\",IF(Trello!A253=\"\",B253,Trello!A253))","v":""},"",{"$f":"IF($A254=\"\",\"\",SUBSTITUTE(SUBSTITUTE(Trello!J253,\" days\",\"\"),\"⌚ \",\"\")*1)","v":""},{"$f":"IFERROR(IF($A254=\"\",\"\",SUBSTITUTE(SUBSTITUTE(SUBSTITUTE(INDIRECT(\"Trello!\"&ADDRESS(ROW()-1, E$1, 4)),\"Foreign: \",\"\"),\" $\",\"\"),\".\",\"\")*1),\"\")","v":""},{"$f":"IF($E254=\"\",IFERROR(IF($A254=\"\",\"\",SUBSTITUTE(SUBSTITUTE(SUBSTITUTE(INDIRECT(\"Trello!\"&ADDRESS(ROW()-1, F$1, 4)),\"MXN: \",\"\"),\" MX$\",\"\"),\".\",\"\")*1),\"\"),E254*F$2)","v":""},{"$f":"IFERROR(IF($A254=\"\",\"\",SUBSTITUTE(SUBSTITUTE(SUBSTITUTE(INDIRECT(\"Trello!\"&ADDRESS(ROW()-1, G$1, 4)),\"Debt: \",\"\"),\" $\",\"\"),\".\",\"\")*1)*IF(E254=\"\",1,F$2),\"\")","v":""},{"$f":"IFERROR(IF($A254=\"\",\"\",SUBSTITUTE(SUBSTITUTE(SUBSTITUTE(INDIRECT(\"Trello!\"&ADDRESS(ROW()-1, H$1, 4)),\"Cost: \",\"\"),\" $\",\"\"),\".\",\"\")*1*$F$2),\"\")","v":""},"",{"$f":"IFERROR(SUBSTITUTE(SUBSTITUTE(SUBSTITUTE(RIGHT(INDIRECT(\"Trello!\"&ADDRESS(ROW()-1, L$1, 4)),LEN(INDIRECT(\"Trello!\"&ADDRESS(ROW()-1, L$1, 4)))-15),\". \",\"/\"),\" 20\",\"/20\"),\" \",\"\"),\"\")","v":""},{"$f":"IFERROR(SUBSTITUTE(SUBSTITUTE(SUBSTITUTE(RIGHT(INDIRECT(\"Trello!\"&ADDRESS(ROW()-1, M$1, 4)),LEN(INDIRECT(\"Trello!\"&ADDRESS(ROW()-1, M$1, 4)))-15),\". \",\"/\"),\" 20\",\"/20\"),\" \",\"\"),\"\")","v":""},"","","",{"$f":"IFERROR(SUBSTITUTE(INDIRECT(\"Trello!\"&ADDRESS(ROW()-1, O$1, 4)),\"Estimate hrs: \",\"\")*1,\"\")","v":""},{"$f":"IF(SUMIF(Timecamp!C:C,Reporte!A254,Timecamp!J:J)=0,\"\",SUMIF(Timecamp!C:C,Reporte!A254,Timecamp!J:J))","v":""},"","",{"$f":"IFERROR(VLOOKUP(A254,'SLA Trab'!E:I,5,FALSE),\"\")","v":""},{"$f":"IFERROR(VLOOKUP(A254,'SLA Cobr'!E:I,5,FALSE),\"\")","v":""}]
[{"$f":"IFERROR(IF(Trello!E254=\"\",\"\",Trello!E254),\" \")","v":""},{"$f":"IF($A255=\"\",\"\",IF(Trello!A254=\"\",B254,Trello!A254))","v":""},"",{"$f":"IF($A255=\"\",\"\",SUBSTITUTE(SUBSTITUTE(Trello!J254,\" days\",\"\"),\"⌚ \",\"\")*1)","v":""},{"$f":"IFERROR(IF($A255=\"\",\"\",SUBSTITUTE(SUBSTITUTE(SUBSTITUTE(INDIRECT(\"Trello!\"&ADDRESS(ROW()-1, E$1, 4)),\"Foreign: \",\"\"),\" $\",\"\"),\".\",\"\")*1),\"\")","v":""},{"$f":"IF($E255=\"\",IFERROR(IF($A255=\"\",\"\",SUBSTITUTE(SUBSTITUTE(SUBSTITUTE(INDIRECT(\"Trello!\"&ADDRESS(ROW()-1, F$1, 4)),\"MXN: \",\"\"),\" MX$\",\"\"),\".\",\"\")*1),\"\"),E255*F$2)","v":""},{"$f":"IFERROR(IF($A255=\"\",\"\",SUBSTITUTE(SUBSTITUTE(SUBSTITUTE(INDIRECT(\"Trello!\"&ADDRESS(ROW()-1, G$1, 4)),\"Debt: \",\"\"),\" $\",\"\"),\".\",\"\")*1)*IF(E255=\"\",1,F$2),\"\")","v":""},{"$f":"IFERROR(IF($A255=\"\",\"\",SUBSTITUTE(SUBSTITUTE(SUBSTITUTE(INDIRECT(\"Trello!\"&ADDRESS(ROW()-1, H$1, 4)),\"Cost: \",\"\"),\" $\",\"\"),\".\",\"\")*1*$F$2),\"\")","v":""},"",{"$f":"IFERROR(SUBSTITUTE(SUBSTITUTE(SUBSTITUTE(RIGHT(INDIRECT(\"Trello!\"&ADDRESS(ROW()-1, L$1, 4)),LEN(INDIRECT(\"Trello!\"&ADDRESS(ROW()-1, L$1, 4)))-15),\". \",\"/\"),\" 20\",\"/20\"),\" \",\"\"),\"\")","v":""},{"$f":"IFERROR(SUBSTITUTE(SUBSTITUTE(SUBSTITUTE(RIGHT(INDIRECT(\"Trello!\"&ADDRESS(ROW()-1, M$1, 4)),LEN(INDIRECT(\"Trello!\"&ADDRESS(ROW()-1, M$1, 4)))-15),\". \",\"/\"),\" 20\",\"/20\"),\" \",\"\"),\"\")","v":""},"","","",{"$f":"IFERROR(SUBSTITUTE(INDIRECT(\"Trello!\"&ADDRESS(ROW()-1, O$1, 4)),\"Estimate hrs: \",\"\")*1,\"\")","v":""},{"$f":"IF(SUMIF(Timecamp!C:C,Reporte!A255,Timecamp!J:J)=0,\"\",SUMIF(Timecamp!C:C,Reporte!A255,Timecamp!J:J))","v":""},"","",{"$f":"IFERROR(VLOOKUP(A255,'SLA Trab'!E:I,5,FALSE),\"\")","v":""},{"$f":"IFERROR(VLOOKUP(A255,'SLA Cobr'!E:I,5,FALSE),\"\")","v":""}]
[{"$f":"IFERROR(IF(Trello!E255=\"\",\"\",Trello!E255),\" \")","v":""},{"$f":"IF($A256=\"\",\"\",IF(Trello!A255=\"\",B255,Trello!A255))","v":""},"",{"$f":"IF($A256=\"\",\"\",SUBSTITUTE(SUBSTITUTE(Trello!J255,\" days\",\"\"),\"⌚ \",\"\")*1)","v":""},{"$f":"IFERROR(IF($A256=\"\",\"\",SUBSTITUTE(SUBSTITUTE(SUBSTITUTE(INDIRECT(\"Trello!\"&ADDRESS(ROW()-1, E$1, 4)),\"Foreign: \",\"\"),\" $\",\"\"),\".\",\"\")*1),\"\")","v":""},{"$f":"IF($E256=\"\",IFERROR(IF($A256=\"\",\"\",SUBSTITUTE(SUBSTITUTE(SUBSTITUTE(INDIRECT(\"Trello!\"&ADDRESS(ROW()-1, F$1, 4)),\"MXN: \",\"\"),\" MX$\",\"\"),\".\",\"\")*1),\"\"),E256*F$2)","v":""},{"$f":"IFERROR(IF($A256=\"\",\"\",SUBSTITUTE(SUBSTITUTE(SUBSTITUTE(INDIRECT(\"Trello!\"&ADDRESS(ROW()-1, G$1, 4)),\"Debt: \",\"\"),\" $\",\"\"),\".\",\"\")*1)*IF(E256=\"\",1,F$2),\"\")","v":""},{"$f":"IFERROR(IF($A256=\"\",\"\",SUBSTITUTE(SUBSTITUTE(SUBSTITUTE(INDIRECT(\"Trello!\"&ADDRESS(ROW()-1, H$1, 4)),\"Cost: \",\"\"),\" $\",\"\"),\".\",\"\")*1*$F$2),\"\")","v":""},"",{"$f":"IFERROR(SUBSTITUTE(SUBSTITUTE(SUBSTITUTE(RIGHT(INDIRECT(\"Trello!\"&ADDRESS(ROW()-1, L$1, 4)),LEN(INDIRECT(\"Trello!\"&ADDRESS(ROW()-1, L$1, 4)))-15),\". \",\"/\"),\" 20\",\"/20\"),\" \",\"\"),\"\")","v":""},{"$f":"IFERROR(SUBSTITUTE(SUBSTITUTE(SUBSTITUTE(RIGHT(INDIRECT(\"Trello!\"&ADDRESS(ROW()-1, M$1, 4)),LEN(INDIRECT(\"Trello!\"&ADDRESS(ROW()-1, M$1, 4)))-15),\". \",\"/\"),\" 20\",\"/20\"),\" \",\"\"),\"\")","v":""},"","","",{"$f":"IFERROR(SUBSTITUTE(INDIRECT(\"Trello!\"&ADDRESS(ROW()-1, O$1, 4)),\"Estimate hrs: \",\"\")*1,\"\")","v":""},{"$f":"IF(SUMIF(Timecamp!C:C,Reporte!A256,Timecamp!J:J)=0,\"\",SUMIF(Timecamp!C:C,Reporte!A256,Timecamp!J:J))","v":""},"","",{"$f":"IFERROR(VLOOKUP(A256,'SLA Trab'!E:I,5,FALSE),\"\")","v":""},{"$f":"IFERROR(VLOOKUP(A256,'SLA Cobr'!E:I,5,FALSE),\"\")","v":""}]
[{"$f":"IFERROR(IF(Trello!E256=\"\",\"\",Trello!E256),\" \")","v":""},{"$f":"IF($A257=\"\",\"\",IF(Trello!A256=\"\",B256,Trello!A256))","v":""},"",{"$f":"IF($A257=\"\",\"\",SUBSTITUTE(SUBSTITUTE(Trello!J256,\" days\",\"\"),\"⌚ \",\"\")*1)","v":""},{"$f":"IFERROR(IF($A257=\"\",\"\",SUBSTITUTE(SUBSTITUTE(SUBSTITUTE(INDIRECT(\"Trello!\"&ADDRESS(ROW()-1, E$1, 4)),\"Foreign: \",\"\"),\" $\",\"\"),\".\",\"\")*1),\"\")","v":""},{"$f":"IF($E257=\"\",IFERROR(IF($A257=\"\",\"\",SUBSTITUTE(SUBSTITUTE(SUBSTITUTE(INDIRECT(\"Trello!\"&ADDRESS(ROW()-1, F$1, 4)),\"MXN: \",\"\"),\" MX$\",\"\"),\".\",\"\")*1),\"\"),E257*F$2)","v":""},{"$f":"IFERROR(IF($A257=\"\",\"\",SUBSTITUTE(SUBSTITUTE(SUBSTITUTE(INDIRECT(\"Trello!\"&ADDRESS(ROW()-1, G$1, 4)),\"Debt: \",\"\"),\" $\",\"\"),\".\",\"\")*1)*IF(E257=\"\",1,F$2),\"\")","v":""},{"$f":"IFERROR(IF($A257=\"\",\"\",SUBSTITUTE(SUBSTITUTE(SUBSTITUTE(INDIRECT(\"Trello!\"&ADDRESS(ROW()-1, H$1, 4)),\"Cost: \",\"\"),\" $\",\"\"),\".\",\"\")*1*$F$2),\"\")","v":""},"",{"$f":"IFERROR(SUBSTITUTE(SUBSTITUTE(SUBSTITUTE(RIGHT(INDIRECT(\"Trello!\"&ADDRESS(ROW()-1, L$1, 4)),LEN(INDIRECT(\"Trello!\"&ADDRESS(ROW()-1, L$1, 4)))-15),\". \",\"/\"),\" 20\",\"/20\"),\" \",\"\"),\"\")","v":""},{"$f":"IFERROR(SUBSTITUTE(SUBSTITUTE(SUBSTITUTE(RIGHT(INDIRECT(\"Trello!\"&ADDRESS(ROW()-1, M$1, 4)),LEN(INDIRECT(\"Trello!\"&ADDRESS(ROW()-1, M$1, 4)))-15),\". \",\"/\"),\" 20\",\"/20\"),\" \",\"\"),\"\")","v":""},"","","",{"$f":"IFERROR(SUBSTITUTE(INDIRECT(\"Trello!\"&ADDRESS(ROW()-1, O$1, 4)),\"Estimate hrs: \",\"\")*1,\"\")","v":""},{"$f":"IF(SUMIF(Timecamp!C:C,Reporte!A257,Timecamp!J:J)=0,\"\",SUMIF(Timecamp!C:C,Reporte!A257,Timecamp!J:J))","v":""},"","",{"$f":"IFERROR(VLOOKUP(A257,'SLA Trab'!E:I,5,FALSE),\"\")","v":""},{"$f":"IFERROR(VLOOKUP(A257,'SLA Cobr'!E:I,5,FALSE),\"\")","v":""}]
[{"$f":"IFERROR(IF(Trello!E257=\"\",\"\",Trello!E257),\" \")","v":""},{"$f":"IF($A258=\"\",\"\",IF(Trello!A257=\"\",B257,Trello!A257))","v":""},"",{"$f":"IF($A258=\"\",\"\",SUBSTITUTE(SUBSTITUTE(Trello!J257,\" days\",\"\"),\"⌚ \",\"\")*1)","v":""},{"$f":"IFERROR(IF($A258=\"\",\"\",SUBSTITUTE(SUBSTITUTE(SUBSTITUTE(INDIRECT(\"Trello!\"&ADDRESS(ROW()-1, E$1, 4)),\"Foreign: \",\"\"),\" $\",\"\"),\".\",\"\")*1),\"\")","v":""},{"$f":"IF($E258=\"\",IFERROR(IF($A258=\"\",\"\",SUBSTITUTE(SUBSTITUTE(SUBSTITUTE(INDIRECT(\"Trello!\"&ADDRESS(ROW()-1, F$1, 4)),\"MXN: \",\"\"),\" MX$\",\"\"),\".\",\"\")*1),\"\"),E258*F$2)","v":""},{"$f":"IFERROR(IF($A258=\"\",\"\",SUBSTITUTE(SUBSTITUTE(SUBSTITUTE(INDIRECT(\"Trello!\"&ADDRESS(ROW()-1, G$1, 4)),\"Debt: \",\"\"),\" $\",\"\"),\".\",\"\")*1)*IF(E258=\"\",1,F$2),\"\")","v":""},{"$f":"IFERROR(IF($A258=\"\",\"\",SUBSTITUTE(SUBSTITUTE(SUBSTITUTE(INDIRECT(\"Trello!\"&ADDRESS(ROW()-1, H$1, 4)),\"Cost: \",\"\"),\" $\",\"\"),\".\",\"\")*1*$F$2),\"\")","v":""},"",{"$f":"IFERROR(SUBSTITUTE(SUBSTITUTE(SUBSTITUTE(RIGHT(INDIRECT(\"Trello!\"&ADDRESS(ROW()-1, L$1, 4)),LEN(INDIRECT(\"Trello!\"&ADDRESS(ROW()-1, L$1, 4)))-15),\". \",\"/\"),\" 20\",\"/20\"),\" \",\"\"),\"\")","v":""},{"$f":"IFERROR(SUBSTITUTE(SUBSTITUTE(SUBSTITUTE(RIGHT(INDIRECT(\"Trello!\"&ADDRESS(ROW()-1, M$1, 4)),LEN(INDIRECT(\"Trello!\"&ADDRESS(ROW()-1, M$1, 4)))-15),\". \",\"/\"),\" 20\",\"/20\"),\" \",\"\"),\"\")","v":""},"","","",{"$f":"IFERROR(SUBSTITUTE(INDIRECT(\"Trello!\"&ADDRESS(ROW()-1, O$1, 4)),\"Estimate hrs: \",\"\")*1,\"\")","v":""},{"$f":"IF(SUMIF(Timecamp!C:C,Reporte!A258,Timecamp!J:J)=0,\"\",SUMIF(Timecamp!C:C,Reporte!A258,Timecamp!J:J))","v":""},"","",{"$f":"IFERROR(VLOOKUP(A258,'SLA Trab'!E:I,5,FALSE),\"\")","v":""},{"$f":"IFERROR(VLOOKUP(A258,'SLA Cobr'!E:I,5,FALSE),\"\")","v":""}]
[{"$f":"IFERROR(IF(Trello!E258=\"\",\"\",Trello!E258),\" \")","v":""},{"$f":"IF($A259=\"\",\"\",IF(Trello!A258=\"\",B258,Trello!A258))","v":""},"",{"$f":"IF($A259=\"\",\"\",SUBSTITUTE(SUBSTITUTE(Trello!J258,\" days\",\"\"),\"⌚ \",\"\")*1)","v":""},{"$f":"IFERROR(IF($A259=\"\",\"\",SUBSTITUTE(SUBSTITUTE(SUBSTITUTE(INDIRECT(\"Trello!\"&ADDRESS(ROW()-1, E$1, 4)),\"Foreign: \",\"\"),\" $\",\"\"),\".\",\"\")*1),\"\")","v":""},{"$f":"IF($E259=\"\",IFERROR(IF($A259=\"\",\"\",SUBSTITUTE(SUBSTITUTE(SUBSTITUTE(INDIRECT(\"Trello!\"&ADDRESS(ROW()-1, F$1, 4)),\"MXN: \",\"\"),\" MX$\",\"\"),\".\",\"\")*1),\"\"),E259*F$2)","v":""},{"$f":"IFERROR(IF($A259=\"\",\"\",SUBSTITUTE(SUBSTITUTE(SUBSTITUTE(INDIRECT(\"Trello!\"&ADDRESS(ROW()-1, G$1, 4)),\"Debt: \",\"\"),\" $\",\"\"),\".\",\"\")*1)*IF(E259=\"\",1,F$2),\"\")","v":""},{"$f":"IFERROR(IF($A259=\"\",\"\",SUBSTITUTE(SUBSTITUTE(SUBSTITUTE(INDIRECT(\"Trello!\"&ADDRESS(ROW()-1, H$1, 4)),\"Cost: \",\"\"),\" $\",\"\"),\".\",\"\")*1*$F$2),\"\")","v":""},"",{"$f":"IFERROR(SUBSTITUTE(SUBSTITUTE(SUBSTITUTE(RIGHT(INDIRECT(\"Trello!\"&ADDRESS(ROW()-1, L$1, 4)),LEN(INDIRECT(\"Trello!\"&ADDRESS(ROW()-1, L$1, 4)))-15),\". \",\"/\"),\" 20\",\"/20\"),\" \",\"\"),\"\")","v":""},{"$f":"IFERROR(SUBSTITUTE(SUBSTITUTE(SUBSTITUTE(RIGHT(INDIRECT(\"Trello!\"&ADDRESS(ROW()-1, M$1, 4)),LEN(INDIRECT(\"Trello!\"&ADDRESS(ROW()-1, M$1, 4)))-15),\". \",\"/\"),\" 20\",\"/20\"),\" \",\"\"),\"\")","v":""},"","","",{"$f":"IFERROR(SUBSTITUTE(INDIRECT(\"Trello!\"&ADDRESS(ROW()-1, O$1, 4)),\"Estimate hrs: \",\"\")*1,\"\")","v":""},{"$f":"IF(SUMIF(Timecamp!C:C,Reporte!A259,Timecamp!J:J)=0,\"\",SUMIF(Timecamp!C:C,Reporte!A259,Timecamp!J:J))","v":""},{"$f":"IF(AND(O259>0,P259>0,O259<>\"\",P259<>\"\"),(P259/O259)-1,\"\")","v":""},{"$f":"IF(OR(P259=\"\",F259=\"\"),\"\",F259/P259)","v":""},{"$f":"IFERROR(VLOOKUP(A259,'SLA Trab'!E:I,5,FALSE),\"\")","v":""},{"$f":"IFERROR(VLOOKUP(A259,'SLA Cobr'!E:I,5,FALSE),\"\")","v":""}]
[{"$f":"IFERROR(IF(Trello!E259=\"\",\"\",Trello!E259),\" \")","v":""},{"$f":"IF($A260=\"\",\"\",IF(Trello!A259=\"\",B259,Trello!A259))","v":""},{"$f":"IF($A260=\"\",\"\",TODAY()-D260)","v":""},{"$f":"IF($A260=\"\",\"\",SUBSTITUTE(SUBSTITUTE(Trello!J259,\" days\",\"\"),\"⌚ \",\"\")*1)","v":""},{"$f":"IFERROR(IF($A260=\"\",\"\",SUBSTITUTE(SUBSTITUTE(SUBSTITUTE(INDIRECT(\"Trello!\"&ADDRESS(ROW()-1, E$1, 4)),\"Foreign: \",\"\"),\" $\",\"\"),\".\",\"\")*1),\"\")","v":""},{"$f":"IF($E260=\"\",IFERROR(IF($A260=\"\",\"\",SUBSTITUTE(SUBSTITUTE(SUBSTITUTE(INDIRECT(\"Trello!\"&ADDRESS(ROW()-1, F$1, 4)),\"MXN: \",\"\"),\" MX$\",\"\"),\".\",\"\")*1),\"\"),E260*F$2)","v":""},{"$f":"IFERROR(IF($A260=\"\",\"\",SUBSTITUTE(SUBSTITUTE(SUBSTITUTE(INDIRECT(\"Trello!\"&ADDRESS(ROW()-1, G$1, 4)),\"Debt: \",\"\"),\" $\",\"\"),\".\",\"\")*1)*IF(E260=\"\",1,F$2),\"\")","v":""},{"$f":"IFERROR(IF($A260=\"\",\"\",SUBSTITUTE(SUBSTITUTE(SUBSTITUTE(INDIRECT(\"Trello!\"&ADDRESS(ROW()-1, H$1, 4)),\"Cost: \",\"\"),\" $\",\"\"),\".\",\"\")*1*$F$2),\"\")","v":""},"",{"$f":"IFERROR(SUBSTITUTE(SUBSTITUTE(SUBSTITUTE(RIGHT(INDIRECT(\"Trello!\"&ADDRESS(ROW()-1, L$1, 4)),LEN(INDIRECT(\"Trello!\"&ADDRESS(ROW()-1, L$1, 4)))-15),\". \",\"/\"),\" 20\",\"/20\"),\" \",\"\"),\"\")","v":""},{"$f":"IFERROR(SUBSTITUTE(SUBSTITUTE(SUBSTITUTE(RIGHT(INDIRECT(\"Trello!\"&ADDRESS(ROW()-1, M$1, 4)),LEN(INDIRECT(\"Trello!\"&ADDRESS(ROW()-1, M$1, 4)))-15),\". \",\"/\"),\" 20\",\"/20\"),\" \",\"\"),\"\")","v":""},"","","",{"$f":"IFERROR(SUBSTITUTE(INDIRECT(\"Trello!\"&ADDRESS(ROW()-1, O$1, 4)),\"Estimate hrs: \",\"\")*1,\"\")","v":""},{"$f":"IF(SUMIF(Timecamp!C:C,Reporte!A260,Timecamp!J:J)=0,\"\",SUMIF(Timecamp!C:C,Reporte!A260,Timecamp!J:J))","v":""},"","",{"$f":"IFERROR(VLOOKUP(A260,'SLA Trab'!E:I,5,FALSE),\"\")","v":""},{"$f":"IFERROR(VLOOKUP(A260,'SLA Cobr'!E:I,5,FALSE),\"\")","v":""}]
[{"$f":"IFERROR(IF(Trello!E260=\"\",\"\",Trello!E260),\" \")","v":""},{"$f":"IF($A261=\"\",\"\",IF(Trello!A260=\"\",B260,Trello!A260))","v":""},"",{"$f":"IF($A261=\"\",\"\",SUBSTITUTE(SUBSTITUTE(Trello!J260,\" days\",\"\"),\"⌚ \",\"\")*1)","v":""},{"$f":"IFERROR(IF($A261=\"\",\"\",SUBSTITUTE(SUBSTITUTE(SUBSTITUTE(INDIRECT(\"Trello!\"&ADDRESS(ROW()-1, E$1, 4)),\"Foreign: \",\"\"),\" $\",\"\"),\".\",\"\")*1),\"\")","v":""},{"$f":"IF($E261=\"\",IFERROR(IF($A261=\"\",\"\",SUBSTITUTE(SUBSTITUTE(SUBSTITUTE(INDIRECT(\"Trello!\"&ADDRESS(ROW()-1, F$1, 4)),\"MXN: \",\"\"),\" MX$\",\"\"),\".\",\"\")*1),\"\"),E261*F$2)","v":""},{"$f":"IFERROR(IF($A261=\"\",\"\",SUBSTITUTE(SUBSTITUTE(SUBSTITUTE(INDIRECT(\"Trello!\"&ADDRESS(ROW()-1, G$1, 4)),\"Debt: \",\"\"),\" $\",\"\"),\".\",\"\")*1)*IF(E261=\"\",1,F$2),\"\")","v":""},{"$f":"IFERROR(IF($A261=\"\",\"\",SUBSTITUTE(SUBSTITUTE(SUBSTITUTE(INDIRECT(\"Trello!\"&ADDRESS(ROW()-1, H$1, 4)),\"Cost: \",\"\"),\" $\",\"\"),\".\",\"\")*1*$F$2),\"\")","v":""},{"$f":"IF(OR(F261=\"\",H261=\"\"),F261,F261-H261)","v":""},{"$f":"IFERROR(SUBSTITUTE(SUBSTITUTE(SUBSTITUTE(RIGHT(INDIRECT(\"Trello!\"&ADDRESS(ROW()-1, L$1, 4)),LEN(INDIRECT(\"Trello!\"&ADDRESS(ROW()-1, L$1, 4)))-15),\". \",\"/\"),\" 20\",\"/20\"),\" \",\"\"),\"\")","v":""},{"$f":"IFERROR(SUBSTITUTE(SUBSTITUTE(SUBSTITUTE(RIGHT(INDIRECT(\"Trello!\"&ADDRESS(ROW()-1, M$1, 4)),LEN(INDIRECT(\"Trello!\"&ADDRESS(ROW()-1, M$1, 4)))-15),\". \",\"/\"),\" 20\",\"/20\"),\" \",\"\"),\"\")","v":""},"","","",{"$f":"IFERROR(SUBSTITUTE(INDIRECT(\"Trello!\"&ADDRESS(ROW()-1, O$1, 4)),\"Estimate hrs: \",\"\")*1,\"\")","v":""},{"$f":"IF(SUMIF(Timecamp!C:C,Reporte!A261,Timecamp!J:J)=0,\"\",SUMIF(Timecamp!C:C,Reporte!A261,Timecamp!J:J))","v":""},"","",{"$f":"IFERROR(VLOOKUP(A261,'SLA Trab'!E:I,5,FALSE),\"\")","v":""},{"$f":"IFERROR(VLOOKUP(A261,'SLA Cobr'!E:I,5,FALSE),\"\")","v":""}]
[{"$f":"IFERROR(IF(Trello!E261=\"\",\"\",Trello!E261),\" \")","v":""},{"$f":"IF($A262=\"\",\"\",IF(Trello!A261=\"\",B261,Trello!A261))","v":""},"",{"$f":"IF($A262=\"\",\"\",SUBSTITUTE(SUBSTITUTE(Trello!J261,\" days\",\"\"),\"⌚ \",\"\")*1)","v":""},{"$f":"IFERROR(IF($A262=\"\",\"\",SUBSTITUTE(SUBSTITUTE(SUBSTITUTE(INDIRECT(\"Trello!\"&ADDRESS(ROW()-1, E$1, 4)),\"Foreign: \",\"\"),\" $\",\"\"),\".\",\"\")*1),\"\")","v":""},{"$f":"IF($E262=\"\",IFERROR(IF($A262=\"\",\"\",SUBSTITUTE(SUBSTITUTE(SUBSTITUTE(INDIRECT(\"Trello!\"&ADDRESS(ROW()-1, F$1, 4)),\"MXN: \",\"\"),\" MX$\",\"\"),\".\",\"\")*1),\"\"),E262*F$2)","v":""},{"$f":"IFERROR(IF($A262=\"\",\"\",SUBSTITUTE(SUBSTITUTE(SUBSTITUTE(INDIRECT(\"Trello!\"&ADDRESS(ROW()-1, G$1, 4)),\"Debt: \",\"\"),\" $\",\"\"),\".\",\"\")*1)*IF(E262=\"\",1,F$2),\"\")","v":""},{"$f":"IFERROR(IF($A262=\"\",\"\",SUBSTITUTE(SUBSTITUTE(SUBSTITUTE(INDIRECT(\"Trello!\"&ADDRESS(ROW()-1, H$1, 4)),\"Cost: \",\"\"),\" $\",\"\"),\".\",\"\")*1*$F$2),\"\")","v":""},"",{"$f":"IFERROR(SUBSTITUTE(SUBSTITUTE(SUBSTITUTE(RIGHT(INDIRECT(\"Trello!\"&ADDRESS(ROW()-1, L$1, 4)),LEN(INDIRECT(\"Trello!\"&ADDRESS(ROW()-1, L$1, 4)))-15),\". \",\"/\"),\" 20\",\"/20\"),\" \",\"\"),\"\")","v":""},{"$f":"IFERROR(SUBSTITUTE(SUBSTITUTE(SUBSTITUTE(RIGHT(INDIRECT(\"Trello!\"&ADDRESS(ROW()-1, M$1, 4)),LEN(INDIRECT(\"Trello!\"&ADDRESS(ROW()-1, M$1, 4)))-15),\". \",\"/\"),\" 20\",\"/20\"),\" \",\"\"),\"\")","v":""},"","","",{"$f":"IFERROR(SUBSTITUTE(INDIRECT(\"Trello!\"&ADDRESS(ROW()-1, O$1, 4)),\"Estimate hrs: \",\"\")*1,\"\")","v":""},{"$f":"IF(SUMIF(Timecamp!C:C,Reporte!A262,Timecamp!J:J)=0,\"\",SUMIF(Timecamp!C:C,Reporte!A262,Timecamp!J:J))","v":""},"","",{"$f":"IFERROR(VLOOKUP(A262,'SLA Trab'!E:I,5,FALSE),\"\")","v":""},{"$f":"IFERROR(VLOOKUP(A262,'SLA Cobr'!E:I,5,FALSE),\"\")","v":""}]
[{"$f":"IFERROR(IF(Trello!E262=\"\",\"\",Trello!E262),\" \")","v":""},{"$f":"IF($A263=\"\",\"\",IF(Trello!A262=\"\",B262,Trello!A262))","v":""},"",{"$f":"IF($A263=\"\",\"\",SUBSTITUTE(SUBSTITUTE(Trello!J262,\" days\",\"\"),\"⌚ \",\"\")*1)","v":""},{"$f":"IFERROR(IF($A263=\"\",\"\",SUBSTITUTE(SUBSTITUTE(SUBSTITUTE(INDIRECT(\"Trello!\"&ADDRESS(ROW()-1, E$1, 4)),\"Foreign: \",\"\"),\" $\",\"\"),\".\",\"\")*1),\"\")","v":""},{"$f":"IF($E263=\"\",IFERROR(IF($A263=\"\",\"\",SUBSTITUTE(SUBSTITUTE(SUBSTITUTE(INDIRECT(\"Trello!\"&ADDRESS(ROW()-1, F$1, 4)),\"MXN: \",\"\"),\" MX$\",\"\"),\".\",\"\")*1),\"\"),E263*F$2)","v":""},{"$f":"IFERROR(IF($A263=\"\",\"\",SUBSTITUTE(SUBSTITUTE(SUBSTITUTE(INDIRECT(\"Trello!\"&ADDRESS(ROW()-1, G$1, 4)),\"Debt: \",\"\"),\" $\",\"\"),\".\",\"\")*1)*IF(E263=\"\",1,F$2),\"\")","v":""},{"$f":"IFERROR(IF($A263=\"\",\"\",SUBSTITUTE(SUBSTITUTE(SUBSTITUTE(INDIRECT(\"Trello!\"&ADDRESS(ROW()-1, H$1, 4)),\"Cost: \",\"\"),\" $\",\"\"),\".\",\"\")*1*$F$2),\"\")","v":""},"",{"$f":"IFERROR(SUBSTITUTE(SUBSTITUTE(SUBSTITUTE(RIGHT(INDIRECT(\"Trello!\"&ADDRESS(ROW()-1, L$1, 4)),LEN(INDIRECT(\"Trello!\"&ADDRESS(ROW()-1, L$1, 4)))-15),\". \",\"/\"),\" 20\",\"/20\"),\" \",\"\"),\"\")","v":""},{"$f":"IFERROR(SUBSTITUTE(SUBSTITUTE(SUBSTITUTE(RIGHT(INDIRECT(\"Trello!\"&ADDRESS(ROW()-1, M$1, 4)),LEN(INDIRECT(\"Trello!\"&ADDRESS(ROW()-1, M$1, 4)))-15),\". \",\"/\"),\" 20\",\"/20\"),\" \",\"\"),\"\")","v":""},"","","",{"$f":"IFERROR(SUBSTITUTE(INDIRECT(\"Trello!\"&ADDRESS(ROW()-1, O$1, 4)),\"Estimate hrs: \",\"\")*1,\"\")","v":""},{"$f":"IF(SUMIF(Timecamp!C:C,Reporte!A263,Timecamp!J:J)=0,\"\",SUMIF(Timecamp!C:C,Reporte!A263,Timecamp!J:J))","v":""},"","",{"$f":"IFERROR(VLOOKUP(A263,'SLA Trab'!E:I,5,FALSE),\"\")","v":""},{"$f":"IFERROR(VLOOKUP(A263,'SLA Cobr'!E:I,5,FALSE),\"\")","v":""}]
[{"$f":"IFERROR(IF(Trello!E263=\"\",\"\",Trello!E263),\" \")","v":""},{"$f":"IF($A264=\"\",\"\",IF(Trello!A263=\"\",B263,Trello!A263))","v":""},"",{"$f":"IF($A264=\"\",\"\",SUBSTITUTE(SUBSTITUTE(Trello!J263,\" days\",\"\"),\"⌚ \",\"\")*1)","v":""},{"$f":"IFERROR(IF($A264=\"\",\"\",SUBSTITUTE(SUBSTITUTE(SUBSTITUTE(INDIRECT(\"Trello!\"&ADDRESS(ROW()-1, E$1, 4)),\"Foreign: \",\"\"),\" $\",\"\"),\".\",\"\")*1),\"\")","v":""},{"$f":"IF($E264=\"\",IFERROR(IF($A264=\"\",\"\",SUBSTITUTE(SUBSTITUTE(SUBSTITUTE(INDIRECT(\"Trello!\"&ADDRESS(ROW()-1, F$1, 4)),\"MXN: \",\"\"),\" MX$\",\"\"),\".\",\"\")*1),\"\"),E264*F$2)","v":""},{"$f":"IFERROR(IF($A264=\"\",\"\",SUBSTITUTE(SUBSTITUTE(SUBSTITUTE(INDIRECT(\"Trello!\"&ADDRESS(ROW()-1, G$1, 4)),\"Debt: \",\"\"),\" $\",\"\"),\".\",\"\")*1)*IF(E264=\"\",1,F$2),\"\")","v":""},{"$f":"IFERROR(IF($A264=\"\",\"\",SUBSTITUTE(SUBSTITUTE(SUBSTITUTE(INDIRECT(\"Trello!\"&ADDRESS(ROW()-1, H$1, 4)),\"Cost: \",\"\"),\" $\",\"\"),\".\",\"\")*1*$F$2),\"\")","v":""},"",{"$f":"IFERROR(SUBSTITUTE(SUBSTITUTE(SUBSTITUTE(RIGHT(INDIRECT(\"Trello!\"&ADDRESS(ROW()-1, L$1, 4)),LEN(INDIRECT(\"Trello!\"&ADDRESS(ROW()-1, L$1, 4)))-15),\". \",\"/\"),\" 20\",\"/20\"),\" \",\"\"),\"\")","v":""},{"$f":"IFERROR(SUBSTITUTE(SUBSTITUTE(SUBSTITUTE(RIGHT(INDIRECT(\"Trello!\"&ADDRESS(ROW()-1, M$1, 4)),LEN(INDIRECT(\"Trello!\"&ADDRESS(ROW()-1, M$1, 4)))-15),\". \",\"/\"),\" 20\",\"/20\"),\" \",\"\"),\"\")","v":""},"","","",{"$f":"IFERROR(SUBSTITUTE(INDIRECT(\"Trello!\"&ADDRESS(ROW()-1, O$1, 4)),\"Estimate hrs: \",\"\")*1,\"\")","v":""},{"$f":"IF(SUMIF(Timecamp!C:C,Reporte!A264,Timecamp!J:J)=0,\"\",SUMIF(Timecamp!C:C,Reporte!A264,Timecamp!J:J))","v":""},"","",{"$f":"IFERROR(VLOOKUP(A264,'SLA Trab'!E:I,5,FALSE),\"\")","v":""},{"$f":"IFERROR(VLOOKUP(A264,'SLA Cobr'!E:I,5,FALSE),\"\")","v":""}]
[{"$f":"IFERROR(IF(Trello!E264=\"\",\"\",Trello!E264),\" \")","v":""},{"$f":"IF($A265=\"\",\"\",IF(Trello!A264=\"\",B264,Trello!A264))","v":""},"",{"$f":"IF($A265=\"\",\"\",SUBSTITUTE(SUBSTITUTE(Trello!J264,\" days\",\"\"),\"⌚ \",\"\")*1)","v":""},{"$f":"IFERROR(IF($A265=\"\",\"\",SUBSTITUTE(SUBSTITUTE(SUBSTITUTE(INDIRECT(\"Trello!\"&ADDRESS(ROW()-1, E$1, 4)),\"Foreign: \",\"\"),\" $\",\"\"),\".\",\"\")*1),\"\")","v":""},{"$f":"IF($E265=\"\",IFERROR(IF($A265=\"\",\"\",SUBSTITUTE(SUBSTITUTE(SUBSTITUTE(INDIRECT(\"Trello!\"&ADDRESS(ROW()-1, F$1, 4)),\"MXN: \",\"\"),\" MX$\",\"\"),\".\",\"\")*1),\"\"),E265*F$2)","v":""},{"$f":"IFERROR(IF($A265=\"\",\"\",SUBSTITUTE(SUBSTITUTE(SUBSTITUTE(INDIRECT(\"Trello!\"&ADDRESS(ROW()-1, G$1, 4)),\"Debt: \",\"\"),\" $\",\"\"),\".\",\"\")*1)*IF(E265=\"\",1,F$2),\"\")","v":""},{"$f":"IFERROR(IF($A265=\"\",\"\",SUBSTITUTE(SUBSTITUTE(SUBSTITUTE(INDIRECT(\"Trello!\"&ADDRESS(ROW()-1, H$1, 4)),\"Cost: \",\"\"),\" $\",\"\"),\".\",\"\")*1*$F$2),\"\")","v":""},"",{"$f":"IFERROR(SUBSTITUTE(SUBSTITUTE(SUBSTITUTE(RIGHT(INDIRECT(\"Trello!\"&ADDRESS(ROW()-1, L$1, 4)),LEN(INDIRECT(\"Trello!\"&ADDRESS(ROW()-1, L$1, 4)))-15),\". \",\"/\"),\" 20\",\"/20\"),\" \",\"\"),\"\")","v":""},{"$f":"IFERROR(SUBSTITUTE(SUBSTITUTE(SUBSTITUTE(RIGHT(INDIRECT(\"Trello!\"&ADDRESS(ROW()-1, M$1, 4)),LEN(INDIRECT(\"Trello!\"&ADDRESS(ROW()-1, M$1, 4)))-15),\". \",\"/\"),\" 20\",\"/20\"),\" \",\"\"),\"\")","v":""},"","","",{"$f":"IFERROR(SUBSTITUTE(INDIRECT(\"Trello!\"&ADDRESS(ROW()-1, O$1, 4)),\"Estimate hrs: \",\"\")*1,\"\")","v":""},{"$f":"IF(SUMIF(Timecamp!C:C,Reporte!A265,Timecamp!J:J)=0,\"\",SUMIF(Timecamp!C:C,Reporte!A265,Timecamp!J:J))","v":""},"","",{"$f":"IFERROR(VLOOKUP(A265,'SLA Trab'!E:I,5,FALSE),\"\")","v":""},{"$f":"IFERROR(VLOOKUP(A265,'SLA Cobr'!E:I,5,FALSE),\"\")","v":""}]
[{"$f":"IFERROR(IF(Trello!E265=\"\",\"\",Trello!E265),\" \")","v":""},{"$f":"IF($A266=\"\",\"\",IF(Trello!A265=\"\",B265,Trello!A265))","v":""},"",{"$f":"IF($A266=\"\",\"\",SUBSTITUTE(SUBSTITUTE(Trello!J265,\" days\",\"\"),\"⌚ \",\"\")*1)","v":""},{"$f":"IFERROR(IF($A266=\"\",\"\",SUBSTITUTE(SUBSTITUTE(SUBSTITUTE(INDIRECT(\"Trello!\"&ADDRESS(ROW()-1, E$1, 4)),\"Foreign: \",\"\"),\" $\",\"\"),\".\",\"\")*1),\"\")","v":""},{"$f":"IF($E266=\"\",IFERROR(IF($A266=\"\",\"\",SUBSTITUTE(SUBSTITUTE(SUBSTITUTE(INDIRECT(\"Trello!\"&ADDRESS(ROW()-1, F$1, 4)),\"MXN: \",\"\"),\" MX$\",\"\"),\".\",\"\")*1),\"\"),E266*F$2)","v":""},{"$f":"IFERROR(IF($A266=\"\",\"\",SUBSTITUTE(SUBSTITUTE(SUBSTITUTE(INDIRECT(\"Trello!\"&ADDRESS(ROW()-1, G$1, 4)),\"Debt: \",\"\"),\" $\",\"\"),\".\",\"\")*1)*IF(E266=\"\",1,F$2),\"\")","v":""},{"$f":"IFERROR(IF($A266=\"\",\"\",SUBSTITUTE(SUBSTITUTE(SUBSTITUTE(INDIRECT(\"Trello!\"&ADDRESS(ROW()-1, H$1, 4)),\"Cost: \",\"\"),\" $\",\"\"),\".\",\"\")*1*$F$2),\"\")","v":""},"",{"$f":"IFERROR(SUBSTITUTE(SUBSTITUTE(SUBSTITUTE(RIGHT(INDIRECT(\"Trello!\"&ADDRESS(ROW()-1, L$1, 4)),LEN(INDIRECT(\"Trello!\"&ADDRESS(ROW()-1, L$1, 4)))-15),\". \",\"/\"),\" 20\",\"/20\"),\" \",\"\"),\"\")","v":""},{"$f":"IFERROR(SUBSTITUTE(SUBSTITUTE(SUBSTITUTE(RIGHT(INDIRECT(\"Trello!\"&ADDRESS(ROW()-1, M$1, 4)),LEN(INDIRECT(\"Trello!\"&ADDRESS(ROW()-1, M$1, 4)))-15),\". \",\"/\"),\" 20\",\"/20\"),\" \",\"\"),\"\")","v":""},"","",{"$f":"IF(AND(L266>0,M266>0,L266<>\"\",M266<>\"\"),L266-M266,\"\")","v":""},{"$f":"IFERROR(SUBSTITUTE(INDIRECT(\"Trello!\"&ADDRESS(ROW()-1, O$1, 4)),\"Estimate hrs: \",\"\")*1,\"\")","v":""},{"$f":"IF(SUMIF(Timecamp!C:C,Reporte!A266,Timecamp!J:J)=0,\"\",SUMIF(Timecamp!C:C,Reporte!A266,Timecamp!J:J))","v":""},"","",{"$f":"IFERROR(VLOOKUP(A266,'SLA Trab'!E:I,5,FALSE),\"\")","v":""},{"$f":"IFERROR(VLOOKUP(A266,'SLA Cobr'!E:I,5,FALSE),\"\")","v":""}]
[{"$f":"IFERROR(IF(Trello!E266=\"\",\"\",Trello!E266),\" \")","v":""},{"$f":"IF($A267=\"\",\"\",IF(Trello!A266=\"\",B266,Trello!A266))","v":""},"",{"$f":"IF($A267=\"\",\"\",SUBSTITUTE(SUBSTITUTE(Trello!J266,\" days\",\"\"),\"⌚ \",\"\")*1)","v":""},{"$f":"IFERROR(IF($A267=\"\",\"\",SUBSTITUTE(SUBSTITUTE(SUBSTITUTE(INDIRECT(\"Trello!\"&ADDRESS(ROW()-1, E$1, 4)),\"Foreign: \",\"\"),\" $\",\"\"),\".\",\"\")*1),\"\")","v":""},{"$f":"IF($E267=\"\",IFERROR(IF($A267=\"\",\"\",SUBSTITUTE(SUBSTITUTE(SUBSTITUTE(INDIRECT(\"Trello!\"&ADDRESS(ROW()-1, F$1, 4)),\"MXN: \",\"\"),\" MX$\",\"\"),\".\",\"\")*1),\"\"),E267*F$2)","v":""},{"$f":"IFERROR(IF($A267=\"\",\"\",SUBSTITUTE(SUBSTITUTE(SUBSTITUTE(INDIRECT(\"Trello!\"&ADDRESS(ROW()-1, G$1, 4)),\"Debt: \",\"\"),\" $\",\"\"),\".\",\"\")*1)*IF(E267=\"\",1,F$2),\"\")","v":""},{"$f":"IFERROR(IF($A267=\"\",\"\",SUBSTITUTE(SUBSTITUTE(SUBSTITUTE(INDIRECT(\"Trello!\"&ADDRESS(ROW()-1, H$1, 4)),\"Cost: \",\"\"),\" $\",\"\"),\".\",\"\")*1*$F$2),\"\")","v":""},"",{"$f":"IFERROR(SUBSTITUTE(SUBSTITUTE(SUBSTITUTE(RIGHT(INDIRECT(\"Trello!\"&ADDRESS(ROW()-1, L$1, 4)),LEN(INDIRECT(\"Trello!\"&ADDRESS(ROW()-1, L$1, 4)))-15),\". \",\"/\"),\" 20\",\"/20\"),\" \",\"\"),\"\")","v":""},{"$f":"IFERROR(SUBSTITUTE(SUBSTITUTE(SUBSTITUTE(RIGHT(INDIRECT(\"Trello!\"&ADDRESS(ROW()-1, M$1, 4)),LEN(INDIRECT(\"Trello!\"&ADDRESS(ROW()-1, M$1, 4)))-15),\". \",\"/\"),\" 20\",\"/20\"),\" \",\"\"),\"\")","v":""},{"$f":"IFERROR(SUBSTITUTE(SUBSTITUTE(SUBSTITUTE(SUBSTITUTE(SUBSTITUTE(SUBSTITUTE(SUBSTITUTE(SUBSTITUTE(SUBSTITUTE(SUBSTITUTE(SUBSTITUTE(SUBSTITUTE(J267,\"Dez\",12),\"Nov\",11),\"Okt\",10),\"Sept\",9),\"Aug\",8),\"Juli\",7),\"Juni\",6),\"Mai\",5),\"Apr\",4),\"März\",3),\"Feb\",2),\"Jan\",1)*1,\"\")","v":""},"","",{"$f":"IFERROR(SUBSTITUTE(INDIRECT(\"Trello!\"&ADDRESS(ROW()-1, O$1, 4)),\"Estimate hrs: \",\"\")*1,\"\")","v":""},{"$f":"IF(SUMIF(Timecamp!C:C,Reporte!A267,Timecamp!J:J)=0,\"\",SUMIF(Timecamp!C:C,Reporte!A267,Timecamp!J:J))","v":""},"","",{"$f":"IFERROR(VLOOKUP(A267,'SLA Trab'!E:I,5,FALSE),\"\")","v":""},{"$f":"IFERROR(VLOOKUP(A267,'SLA Cobr'!E:I,5,FALSE),\"\")","v":""}]
[{"$f":"IFERROR(IF(Trello!E267=\"\",\"\",Trello!E267),\" \")","v":""},{"$f":"IF($A268=\"\",\"\",IF(Trello!A267=\"\",B267,Trello!A267))","v":""},"",{"$f":"IF($A268=\"\",\"\",SUBSTITUTE(SUBSTITUTE(Trello!J267,\" days\",\"\"),\"⌚ \",\"\")*1)","v":""},{"$f":"IFERROR(IF($A268=\"\",\"\",SUBSTITUTE(SUBSTITUTE(SUBSTITUTE(INDIRECT(\"Trello!\"&ADDRESS(ROW()-1, E$1, 4)),\"Foreign: \",\"\"),\" $\",\"\"),\".\",\"\")*1),\"\")","v":""},{"$f":"IF($E268=\"\",IFERROR(IF($A268=\"\",\"\",SUBSTITUTE(SUBSTITUTE(SUBSTITUTE(INDIRECT(\"Trello!\"&ADDRESS(ROW()-1, F$1, 4)),\"MXN: \",\"\"),\" MX$\",\"\"),\".\",\"\")*1),\"\"),E268*F$2)","v":""},{"$f":"IFERROR(IF($A268=\"\",\"\",SUBSTITUTE(SUBSTITUTE(SUBSTITUTE(INDIRECT(\"Trello!\"&ADDRESS(ROW()-1, G$1, 4)),\"Debt: \",\"\"),\" $\",\"\"),\".\",\"\")*1)*IF(E268=\"\",1,F$2),\"\")","v":""},{"$f":"IFERROR(IF($A268=\"\",\"\",SUBSTITUTE(SUBSTITUTE(SUBSTITUTE(INDIRECT(\"Trello!\"&ADDRESS(ROW()-1, H$1, 4)),\"Cost: \",\"\"),\" $\",\"\"),\".\",\"\")*1*$F$2),\"\")","v":""},"",{"$f":"IFERROR(SUBSTITUTE(SUBSTITUTE(SUBSTITUTE(RIGHT(INDIRECT(\"Trello!\"&ADDRESS(ROW()-1, L$1, 4)),LEN(INDIRECT(\"Trello!\"&ADDRESS(ROW()-1, L$1, 4)))-15),\". \",\"/\"),\" 20\",\"/20\"),\" \",\"\"),\"\")","v":""},{"$f":"IFERROR(SUBSTITUTE(SUBSTITUTE(SUBSTITUTE(RIGHT(INDIRECT(\"Trello!\"&ADDRESS(ROW()-1, M$1, 4)),LEN(INDIRECT(\"Trello!\"&ADDRESS(ROW()-1, M$1, 4)))-15),\". \",\"/\"),\" 20\",\"/20\"),\" \",\"\"),\"\")","v":""},"","","",{"$f":"IFERROR(SUBSTITUTE(INDIRECT(\"Trello!\"&ADDRESS(ROW()-1, O$1, 4)),\"Estimate hrs: \",\"\")*1,\"\")","v":""},{"$f":"IF(SUMIF(Timecamp!C:C,Reporte!A268,Timecamp!J:J)=0,\"\",SUMIF(Timecamp!C:C,Reporte!A268,Timecamp!J:J))","v":""},"","",{"$f":"IFERROR(VLOOKUP(A268,'SLA Trab'!E:I,5,FALSE),\"\")","v":""},{"$f":"IFERROR(VLOOKUP(A268,'SLA Cobr'!E:I,5,FALSE),\"\")","v":""}]
[{"$f":"IFERROR(IF(Trello!E268=\"\",\"\",Trello!E268),\" \")","v":""},{"$f":"IF($A269=\"\",\"\",IF(Trello!A268=\"\",B268,Trello!A268))","v":""},"",{"$f":"IF($A269=\"\",\"\",SUBSTITUTE(SUBSTITUTE(Trello!J268,\" days\",\"\"),\"⌚ \",\"\")*1)","v":""},{"$f":"IFERROR(IF($A269=\"\",\"\",SUBSTITUTE(SUBSTITUTE(SUBSTITUTE(INDIRECT(\"Trello!\"&ADDRESS(ROW()-1, E$1, 4)),\"Foreign: \",\"\"),\" $\",\"\"),\".\",\"\")*1),\"\")","v":""},{"$f":"IF($E269=\"\",IFERROR(IF($A269=\"\",\"\",SUBSTITUTE(SUBSTITUTE(SUBSTITUTE(INDIRECT(\"Trello!\"&ADDRESS(ROW()-1, F$1, 4)),\"MXN: \",\"\"),\" MX$\",\"\"),\".\",\"\")*1),\"\"),E269*F$2)","v":""},{"$f":"IFERROR(IF($A269=\"\",\"\",SUBSTITUTE(SUBSTITUTE(SUBSTITUTE(INDIRECT(\"Trello!\"&ADDRESS(ROW()-1, G$1, 4)),\"Debt: \",\"\"),\" $\",\"\"),\".\",\"\")*1)*IF(E269=\"\",1,F$2),\"\")","v":""},{"$f":"IFERROR(IF($A269=\"\",\"\",SUBSTITUTE(SUBSTITUTE(SUBSTITUTE(INDIRECT(\"Trello!\"&ADDRESS(ROW()-1, H$1, 4)),\"Cost: \",\"\"),\" $\",\"\"),\".\",\"\")*1*$F$2),\"\")","v":""},"",{"$f":"IFERROR(SUBSTITUTE(SUBSTITUTE(SUBSTITUTE(RIGHT(INDIRECT(\"Trello!\"&ADDRESS(ROW()-1, L$1, 4)),LEN(INDIRECT(\"Trello!\"&ADDRESS(ROW()-1, L$1, 4)))-15),\". \",\"/\"),\" 20\",\"/20\"),\" \",\"\"),\"\")","v":""},{"$f":"IFERROR(SUBSTITUTE(SUBSTITUTE(SUBSTITUTE(RIGHT(INDIRECT(\"Trello!\"&ADDRESS(ROW()-1, M$1, 4)),LEN(INDIRECT(\"Trello!\"&ADDRESS(ROW()-1, M$1, 4)))-15),\". \",\"/\"),\" 20\",\"/20\"),\" \",\"\"),\"\")","v":""},"","","",{"$f":"IFERROR(SUBSTITUTE(INDIRECT(\"Trello!\"&ADDRESS(ROW()-1, O$1, 4)),\"Estimate hrs: \",\"\")*1,\"\")","v":""},{"$f":"IF(SUMIF(Timecamp!C:C,Reporte!A269,Timecamp!J:J)=0,\"\",SUMIF(Timecamp!C:C,Reporte!A269,Timecamp!J:J))","v":""},"","",{"$f":"IFERROR(VLOOKUP(A269,'SLA Trab'!E:I,5,FALSE),\"\")","v":""},{"$f":"IFERROR(VLOOKUP(A269,'SLA Cobr'!E:I,5,FALSE),\"\")","v":""}]
[{"$f":"IFERROR(IF(Trello!E269=\"\",\"\",Trello!E269),\" \")","v":""},{"$f":"IF($A270=\"\",\"\",IF(Trello!A269=\"\",B269,Trello!A269))","v":""},"",{"$f":"IF($A270=\"\",\"\",SUBSTITUTE(SUBSTITUTE(Trello!J269,\" days\",\"\"),\"⌚ \",\"\")*1)","v":""},{"$f":"IFERROR(IF($A270=\"\",\"\",SUBSTITUTE(SUBSTITUTE(SUBSTITUTE(INDIRECT(\"Trello!\"&ADDRESS(ROW()-1, E$1, 4)),\"Foreign: \",\"\"),\" $\",\"\"),\".\",\"\")*1),\"\")","v":""},{"$f":"IF($E270=\"\",IFERROR(IF($A270=\"\",\"\",SUBSTITUTE(SUBSTITUTE(SUBSTITUTE(INDIRECT(\"Trello!\"&ADDRESS(ROW()-1, F$1, 4)),\"MXN: \",\"\"),\" MX$\",\"\"),\".\",\"\")*1),\"\"),E270*F$2)","v":""},{"$f":"IFERROR(IF($A270=\"\",\"\",SUBSTITUTE(SUBSTITUTE(SUBSTITUTE(INDIRECT(\"Trello!\"&ADDRESS(ROW()-1, G$1, 4)),\"Debt: \",\"\"),\" $\",\"\"),\".\",\"\")*1)*IF(E270=\"\",1,F$2),\"\")","v":""},{"$f":"IFERROR(IF($A270=\"\",\"\",SUBSTITUTE(SUBSTITUTE(SUBSTITUTE(INDIRECT(\"Trello!\"&ADDRESS(ROW()-1, H$1, 4)),\"Cost: \",\"\"),\" $\",\"\"),\".\",\"\")*1*$F$2),\"\")","v":""},"",{"$f":"IFERROR(SUBSTITUTE(SUBSTITUTE(SUBSTITUTE(RIGHT(INDIRECT(\"Trello!\"&ADDRESS(ROW()-1, L$1, 4)),LEN(INDIRECT(\"Trello!\"&ADDRESS(ROW()-1, L$1, 4)))-15),\". \",\"/\"),\" 20\",\"/20\"),\" \",\"\"),\"\")","v":""},{"$f":"IFERROR(SUBSTITUTE(SUBSTITUTE(SUBSTITUTE(RIGHT(INDIRECT(\"Trello!\"&ADDRESS(ROW()-1, M$1, 4)),LEN(INDIRECT(\"Trello!\"&ADDRESS(ROW()-1, M$1, 4)))-15),\". \",\"/\"),\" 20\",\"/20\"),\" \",\"\"),\"\")","v":""},"","","",{"$f":"IFERROR(SUBSTITUTE(INDIRECT(\"Trello!\"&ADDRESS(ROW()-1, O$1, 4)),\"Estimate hrs: \",\"\")*1,\"\")","v":""},{"$f":"IF(SUMIF(Timecamp!C:C,Reporte!A270,Timecamp!J:J)=0,\"\",SUMIF(Timecamp!C:C,Reporte!A270,Timecamp!J:J))","v":""},"","",{"$f":"IFERROR(VLOOKUP(A270,'SLA Trab'!E:I,5,FALSE),\"\")","v":""},{"$f":"IFERROR(VLOOKUP(A270,'SLA Cobr'!E:I,5,FALSE),\"\")","v":""}]
[{"$f":"IFERROR(IF(Trello!E270=\"\",\"\",Trello!E270),\" \")","v":""},{"$f":"IF($A271=\"\",\"\",IF(Trello!A270=\"\",B270,Trello!A270))","v":""},"",{"$f":"IF($A271=\"\",\"\",SUBSTITUTE(SUBSTITUTE(Trello!J270,\" days\",\"\"),\"⌚ \",\"\")*1)","v":""},{"$f":"IFERROR(IF($A271=\"\",\"\",SUBSTITUTE(SUBSTITUTE(SUBSTITUTE(INDIRECT(\"Trello!\"&ADDRESS(ROW()-1, E$1, 4)),\"Foreign: \",\"\"),\" $\",\"\"),\".\",\"\")*1),\"\")","v":""},{"$f":"IF($E271=\"\",IFERROR(IF($A271=\"\",\"\",SUBSTITUTE(SUBSTITUTE(SUBSTITUTE(INDIRECT(\"Trello!\"&ADDRESS(ROW()-1, F$1, 4)),\"MXN: \",\"\"),\" MX$\",\"\"),\".\",\"\")*1),\"\"),E271*F$2)","v":""},{"$f":"IFERROR(IF($A271=\"\",\"\",SUBSTITUTE(SUBSTITUTE(SUBSTITUTE(INDIRECT(\"Trello!\"&ADDRESS(ROW()-1, G$1, 4)),\"Debt: \",\"\"),\" $\",\"\"),\".\",\"\")*1)*IF(E271=\"\",1,F$2),\"\")","v":""},{"$f":"IFERROR(IF($A271=\"\",\"\",SUBSTITUTE(SUBSTITUTE(SUBSTITUTE(INDIRECT(\"Trello!\"&ADDRESS(ROW()-1, H$1, 4)),\"Cost: \",\"\"),\" $\",\"\"),\".\",\"\")*1*$F$2),\"\")","v":""},"",{"$f":"IFERROR(SUBSTITUTE(SUBSTITUTE(SUBSTITUTE(RIGHT(INDIRECT(\"Trello!\"&ADDRESS(ROW()-1, L$1, 4)),LEN(INDIRECT(\"Trello!\"&ADDRESS(ROW()-1, L$1, 4)))-15),\". \",\"/\"),\" 20\",\"/20\"),\" \",\"\"),\"\")","v":""},{"$f":"IFERROR(SUBSTITUTE(SUBSTITUTE(SUBSTITUTE(RIGHT(INDIRECT(\"Trello!\"&ADDRESS(ROW()-1, M$1, 4)),LEN(INDIRECT(\"Trello!\"&ADDRESS(ROW()-1, M$1, 4)))-15),\". \",\"/\"),\" 20\",\"/20\"),\" \",\"\"),\"\")","v":""},"","","",{"$f":"IFERROR(SUBSTITUTE(INDIRECT(\"Trello!\"&ADDRESS(ROW()-1, O$1, 4)),\"Estimate hrs: \",\"\")*1,\"\")","v":""},{"$f":"IF(SUMIF(Timecamp!C:C,Reporte!A271,Timecamp!J:J)=0,\"\",SUMIF(Timecamp!C:C,Reporte!A271,Timecamp!J:J))","v":""},"","",{"$f":"IFERROR(VLOOKUP(A271,'SLA Trab'!E:I,5,FALSE),\"\")","v":""},{"$f":"IFERROR(VLOOKUP(A271,'SLA Cobr'!E:I,5,FALSE),\"\")","v":""}]
[{"$f":"IFERROR(IF(Trello!E271=\"\",\"\",Trello!E271),\" \")","v":""},{"$f":"IF($A272=\"\",\"\",IF(Trello!A271=\"\",B271,Trello!A271))","v":""},"",{"$f":"IF($A272=\"\",\"\",SUBSTITUTE(SUBSTITUTE(Trello!J271,\" days\",\"\"),\"⌚ \",\"\")*1)","v":""},{"$f":"IFERROR(IF($A272=\"\",\"\",SUBSTITUTE(SUBSTITUTE(SUBSTITUTE(INDIRECT(\"Trello!\"&ADDRESS(ROW()-1, E$1, 4)),\"Foreign: \",\"\"),\" $\",\"\"),\".\",\"\")*1),\"\")","v":""},{"$f":"IF($E272=\"\",IFERROR(IF($A272=\"\",\"\",SUBSTITUTE(SUBSTITUTE(SUBSTITUTE(INDIRECT(\"Trello!\"&ADDRESS(ROW()-1, F$1, 4)),\"MXN: \",\"\"),\" MX$\",\"\"),\".\",\"\")*1),\"\"),E272*F$2)","v":""},{"$f":"IFERROR(IF($A272=\"\",\"\",SUBSTITUTE(SUBSTITUTE(SUBSTITUTE(INDIRECT(\"Trello!\"&ADDRESS(ROW()-1, G$1, 4)),\"Debt: \",\"\"),\" $\",\"\"),\".\",\"\")*1)*IF(E272=\"\",1,F$2),\"\")","v":""},{"$f":"IFERROR(IF($A272=\"\",\"\",SUBSTITUTE(SUBSTITUTE(SUBSTITUTE(INDIRECT(\"Trello!\"&ADDRESS(ROW()-1, H$1, 4)),\"Cost: \",\"\"),\" $\",\"\"),\".\",\"\")*1*$F$2),\"\")","v":""},"",{"$f":"IFERROR(SUBSTITUTE(SUBSTITUTE(SUBSTITUTE(RIGHT(INDIRECT(\"Trello!\"&ADDRESS(ROW()-1, L$1, 4)),LEN(INDIRECT(\"Trello!\"&ADDRESS(ROW()-1, L$1, 4)))-15),\". \",\"/\"),\" 20\",\"/20\"),\" \",\"\"),\"\")","v":""},{"$f":"IFERROR(SUBSTITUTE(SUBSTITUTE(SUBSTITUTE(RIGHT(INDIRECT(\"Trello!\"&ADDRESS(ROW()-1, M$1, 4)),LEN(INDIRECT(\"Trello!\"&ADDRESS(ROW()-1, M$1, 4)))-15),\". \",\"/\"),\" 20\",\"/20\"),\" \",\"\"),\"\")","v":""},"","","",{"$f":"IFERROR(SUBSTITUTE(INDIRECT(\"Trello!\"&ADDRESS(ROW()-1, O$1, 4)),\"Estimate hrs: \",\"\")*1,\"\")","v":""},{"$f":"IF(SUMIF(Timecamp!C:C,Reporte!A272,Timecamp!J:J)=0,\"\",SUMIF(Timecamp!C:C,Reporte!A272,Timecamp!J:J))","v":""},"","",{"$f":"IFERROR(VLOOKUP(A272,'SLA Trab'!E:I,5,FALSE),\"\")","v":""},{"$f":"IFERROR(VLOOKUP(A272,'SLA Cobr'!E:I,5,FALSE),\"\")","v":""}]
[{"$f":"IFERROR(IF(Trello!E272=\"\",\"\",Trello!E272),\" \")","v":""},{"$f":"IF($A273=\"\",\"\",IF(Trello!A272=\"\",B272,Trello!A272))","v":""},"",{"$f":"IF($A273=\"\",\"\",SUBSTITUTE(SUBSTITUTE(Trello!J272,\" days\",\"\"),\"⌚ \",\"\")*1)","v":""},{"$f":"IFERROR(IF($A273=\"\",\"\",SUBSTITUTE(SUBSTITUTE(SUBSTITUTE(INDIRECT(\"Trello!\"&ADDRESS(ROW()-1, E$1, 4)),\"Foreign: \",\"\"),\" $\",\"\"),\".\",\"\")*1),\"\")","v":""},{"$f":"IF($E273=\"\",IFERROR(IF($A273=\"\",\"\",SUBSTITUTE(SUBSTITUTE(SUBSTITUTE(INDIRECT(\"Trello!\"&ADDRESS(ROW()-1, F$1, 4)),\"MXN: \",\"\"),\" MX$\",\"\"),\".\",\"\")*1),\"\"),E273*F$2)","v":""},{"$f":"IFERROR(IF($A273=\"\",\"\",SUBSTITUTE(SUBSTITUTE(SUBSTITUTE(INDIRECT(\"Trello!\"&ADDRESS(ROW()-1, G$1, 4)),\"Debt: \",\"\"),\" $\",\"\"),\".\",\"\")*1)*IF(E273=\"\",1,F$2),\"\")","v":""},{"$f":"IFERROR(IF($A273=\"\",\"\",SUBSTITUTE(SUBSTITUTE(SUBSTITUTE(INDIRECT(\"Trello!\"&ADDRESS(ROW()-1, H$1, 4)),\"Cost: \",\"\"),\" $\",\"\"),\".\",\"\")*1*$F$2),\"\")","v":""},"",{"$f":"IFERROR(SUBSTITUTE(SUBSTITUTE(SUBSTITUTE(RIGHT(INDIRECT(\"Trello!\"&ADDRESS(ROW()-1, L$1, 4)),LEN(INDIRECT(\"Trello!\"&ADDRESS(ROW()-1, L$1, 4)))-15),\". \",\"/\"),\" 20\",\"/20\"),\" \",\"\"),\"\")","v":""},{"$f":"IFERROR(SUBSTITUTE(SUBSTITUTE(SUBSTITUTE(RIGHT(INDIRECT(\"Trello!\"&ADDRESS(ROW()-1, M$1, 4)),LEN(INDIRECT(\"Trello!\"&ADDRESS(ROW()-1, M$1, 4)))-15),\". \",\"/\"),\" 20\",\"/20\"),\" \",\"\"),\"\")","v":""},"","","",{"$f":"IFERROR(SUBSTITUTE(INDIRECT(\"Trello!\"&ADDRESS(ROW()-1, O$1, 4)),\"Estimate hrs: \",\"\")*1,\"\")","v":""},{"$f":"IF(SUMIF(Timecamp!C:C,Reporte!A273,Timecamp!J:J)=0,\"\",SUMIF(Timecamp!C:C,Reporte!A273,Timecamp!J:J))","v":""},"","",{"$f":"IFERROR(VLOOKUP(A273,'SLA Trab'!E:I,5,FALSE),\"\")","v":""},{"$f":"IFERROR(VLOOKUP(A273,'SLA Cobr'!E:I,5,FALSE),\"\")","v":""}]
[{"$f":"IFERROR(IF(Trello!E273=\"\",\"\",Trello!E273),\" \")","v":""},{"$f":"IF($A274=\"\",\"\",IF(Trello!A273=\"\",B273,Trello!A273))","v":""},"",{"$f":"IF($A274=\"\",\"\",SUBSTITUTE(SUBSTITUTE(Trello!J273,\" days\",\"\"),\"⌚ \",\"\")*1)","v":""},{"$f":"IFERROR(IF($A274=\"\",\"\",SUBSTITUTE(SUBSTITUTE(SUBSTITUTE(INDIRECT(\"Trello!\"&ADDRESS(ROW()-1, E$1, 4)),\"Foreign: \",\"\"),\" $\",\"\"),\".\",\"\")*1),\"\")","v":""},{"$f":"IF($E274=\"\",IFERROR(IF($A274=\"\",\"\",SUBSTITUTE(SUBSTITUTE(SUBSTITUTE(INDIRECT(\"Trello!\"&ADDRESS(ROW()-1, F$1, 4)),\"MXN: \",\"\"),\" MX$\",\"\"),\".\",\"\")*1),\"\"),E274*F$2)","v":""},{"$f":"IFERROR(IF($A274=\"\",\"\",SUBSTITUTE(SUBSTITUTE(SUBSTITUTE(INDIRECT(\"Trello!\"&ADDRESS(ROW()-1, G$1, 4)),\"Debt: \",\"\"),\" $\",\"\"),\".\",\"\")*1)*IF(E274=\"\",1,F$2),\"\")","v":""},{"$f":"IFERROR(IF($A274=\"\",\"\",SUBSTITUTE(SUBSTITUTE(SUBSTITUTE(INDIRECT(\"Trello!\"&ADDRESS(ROW()-1, H$1, 4)),\"Cost: \",\"\"),\" $\",\"\"),\".\",\"\")*1*$F$2),\"\")","v":""},"",{"$f":"IFERROR(SUBSTITUTE(SUBSTITUTE(SUBSTITUTE(RIGHT(INDIRECT(\"Trello!\"&ADDRESS(ROW()-1, L$1, 4)),LEN(INDIRECT(\"Trello!\"&ADDRESS(ROW()-1, L$1, 4)))-15),\". \",\"/\"),\" 20\",\"/20\"),\" \",\"\"),\"\")","v":""},{"$f":"IFERROR(SUBSTITUTE(SUBSTITUTE(SUBSTITUTE(RIGHT(INDIRECT(\"Trello!\"&ADDRESS(ROW()-1, M$1, 4)),LEN(INDIRECT(\"Trello!\"&ADDRESS(ROW()-1, M$1, 4)))-15),\". \",\"/\"),\" 20\",\"/20\"),\" \",\"\"),\"\")","v":""},"","","",{"$f":"IFERROR(SUBSTITUTE(INDIRECT(\"Trello!\"&ADDRESS(ROW()-1, O$1, 4)),\"Estimate hrs: \",\"\")*1,\"\")","v":""},{"$f":"IF(SUMIF(Timecamp!C:C,Reporte!A274,Timecamp!J:J)=0,\"\",SUMIF(Timecamp!C:C,Reporte!A274,Timecamp!J:J))","v":""},"","",{"$f":"IFERROR(VLOOKUP(A274,'SLA Trab'!E:I,5,FALSE),\"\")","v":""},{"$f":"IFERROR(VLOOKUP(A274,'SLA Cobr'!E:I,5,FALSE),\"\")","v":""}]
[{"$f":"IFERROR(IF(Trello!E274=\"\",\"\",Trello!E274),\" \")","v":""},{"$f":"IF($A275=\"\",\"\",IF(Trello!A274=\"\",B274,Trello!A274))","v":""},"",{"$f":"IF($A275=\"\",\"\",SUBSTITUTE(SUBSTITUTE(Trello!J274,\" days\",\"\"),\"⌚ \",\"\")*1)","v":""},{"$f":"IFERROR(IF($A275=\"\",\"\",SUBSTITUTE(SUBSTITUTE(SUBSTITUTE(INDIRECT(\"Trello!\"&ADDRESS(ROW()-1, E$1, 4)),\"Foreign: \",\"\"),\" $\",\"\"),\".\",\"\")*1),\"\")","v":""},{"$f":"IF($E275=\"\",IFERROR(IF($A275=\"\",\"\",SUBSTITUTE(SUBSTITUTE(SUBSTITUTE(INDIRECT(\"Trello!\"&ADDRESS(ROW()-1, F$1, 4)),\"MXN: \",\"\"),\" MX$\",\"\"),\".\",\"\")*1),\"\"),E275*F$2)","v":""},{"$f":"IFERROR(IF($A275=\"\",\"\",SUBSTITUTE(SUBSTITUTE(SUBSTITUTE(INDIRECT(\"Trello!\"&ADDRESS(ROW()-1, G$1, 4)),\"Debt: \",\"\"),\" $\",\"\"),\".\",\"\")*1)*IF(E275=\"\",1,F$2),\"\")","v":""},{"$f":"IFERROR(IF($A275=\"\",\"\",SUBSTITUTE(SUBSTITUTE(SUBSTITUTE(INDIRECT(\"Trello!\"&ADDRESS(ROW()-1, H$1, 4)),\"Cost: \",\"\"),\" $\",\"\"),\".\",\"\")*1*$F$2),\"\")","v":""},"",{"$f":"IFERROR(SUBSTITUTE(SUBSTITUTE(SUBSTITUTE(RIGHT(INDIRECT(\"Trello!\"&ADDRESS(ROW()-1, L$1, 4)),LEN(INDIRECT(\"Trello!\"&ADDRESS(ROW()-1, L$1, 4)))-15),\". \",\"/\"),\" 20\",\"/20\"),\" \",\"\"),\"\")","v":""},{"$f":"IFERROR(SUBSTITUTE(SUBSTITUTE(SUBSTITUTE(RIGHT(INDIRECT(\"Trello!\"&ADDRESS(ROW()-1, M$1, 4)),LEN(INDIRECT(\"Trello!\"&ADDRESS(ROW()-1, M$1, 4)))-15),\". \",\"/\"),\" 20\",\"/20\"),\" \",\"\"),\"\")","v":""},"","","",{"$f":"IFERROR(SUBSTITUTE(INDIRECT(\"Trello!\"&ADDRESS(ROW()-1, O$1, 4)),\"Estimate hrs: \",\"\")*1,\"\")","v":""},{"$f":"IF(SUMIF(Timecamp!C:C,Reporte!A275,Timecamp!J:J)=0,\"\",SUMIF(Timecamp!C:C,Reporte!A275,Timecamp!J:J))","v":""},"","",{"$f":"IFERROR(VLOOKUP(A275,'SLA Trab'!E:I,5,FALSE),\"\")","v":""},{"$f":"IFERROR(VLOOKUP(A275,'SLA Cobr'!E:I,5,FALSE),\"\")","v":""}]
[{"$f":"IFERROR(IF(Trello!E275=\"\",\"\",Trello!E275),\" \")","v":""},{"$f":"IF($A276=\"\",\"\",IF(Trello!A275=\"\",B275,Trello!A275))","v":""},"",{"$f":"IF($A276=\"\",\"\",SUBSTITUTE(SUBSTITUTE(Trello!J275,\" days\",\"\"),\"⌚ \",\"\")*1)","v":""},{"$f":"IFERROR(IF($A276=\"\",\"\",SUBSTITUTE(SUBSTITUTE(SUBSTITUTE(INDIRECT(\"Trello!\"&ADDRESS(ROW()-1, E$1, 4)),\"Foreign: \",\"\"),\" $\",\"\"),\".\",\"\")*1),\"\")","v":""},{"$f":"IF($E276=\"\",IFERROR(IF($A276=\"\",\"\",SUBSTITUTE(SUBSTITUTE(SUBSTITUTE(INDIRECT(\"Trello!\"&ADDRESS(ROW()-1, F$1, 4)),\"MXN: \",\"\"),\" MX$\",\"\"),\".\",\"\")*1),\"\"),E276*F$2)","v":""},{"$f":"IFERROR(IF($A276=\"\",\"\",SUBSTITUTE(SUBSTITUTE(SUBSTITUTE(INDIRECT(\"Trello!\"&ADDRESS(ROW()-1, G$1, 4)),\"Debt: \",\"\"),\" $\",\"\"),\".\",\"\")*1)*IF(E276=\"\",1,F$2),\"\")","v":""},{"$f":"IFERROR(IF($A276=\"\",\"\",SUBSTITUTE(SUBSTITUTE(SUBSTITUTE(INDIRECT(\"Trello!\"&ADDRESS(ROW()-1, H$1, 4)),\"Cost: \",\"\"),\" $\",\"\"),\".\",\"\")*1*$F$2),\"\")","v":""},"",{"$f":"IFERROR(SUBSTITUTE(SUBSTITUTE(SUBSTITUTE(RIGHT(INDIRECT(\"Trello!\"&ADDRESS(ROW()-1, L$1, 4)),LEN(INDIRECT(\"Trello!\"&ADDRESS(ROW()-1, L$1, 4)))-15),\". \",\"/\"),\" 20\",\"/20\"),\" \",\"\"),\"\")","v":""},{"$f":"IFERROR(SUBSTITUTE(SUBSTITUTE(SUBSTITUTE(RIGHT(INDIRECT(\"Trello!\"&ADDRESS(ROW()-1, M$1, 4)),LEN(INDIRECT(\"Trello!\"&ADDRESS(ROW()-1, M$1, 4)))-15),\". \",\"/\"),\" 20\",\"/20\"),\" \",\"\"),\"\")","v":""},"","","",{"$f":"IFERROR(SUBSTITUTE(INDIRECT(\"Trello!\"&ADDRESS(ROW()-1, O$1, 4)),\"Estimate hrs: \",\"\")*1,\"\")","v":""},{"$f":"IF(SUMIF(Timecamp!C:C,Reporte!A276,Timecamp!J:J)=0,\"\",SUMIF(Timecamp!C:C,Reporte!A276,Timecamp!J:J))","v":""},"","",{"$f":"IFERROR(VLOOKUP(A276,'SLA Trab'!E:I,5,FALSE),\"\")","v":""},{"$f":"IFERROR(VLOOKUP(A276,'SLA Cobr'!E:I,5,FALSE),\"\")","v":""}]
[{"$f":"IFERROR(IF(Trello!E276=\"\",\"\",Trello!E276),\" \")","v":""},{"$f":"IF($A277=\"\",\"\",IF(Trello!A276=\"\",B276,Trello!A276))","v":""},"",{"$f":"IF($A277=\"\",\"\",SUBSTITUTE(SUBSTITUTE(Trello!J276,\" days\",\"\"),\"⌚ \",\"\")*1)","v":""},{"$f":"IFERROR(IF($A277=\"\",\"\",SUBSTITUTE(SUBSTITUTE(SUBSTITUTE(INDIRECT(\"Trello!\"&ADDRESS(ROW()-1, E$1, 4)),\"Foreign: \",\"\"),\" $\",\"\"),\".\",\"\")*1),\"\")","v":""},{"$f":"IF($E277=\"\",IFERROR(IF($A277=\"\",\"\",SUBSTITUTE(SUBSTITUTE(SUBSTITUTE(INDIRECT(\"Trello!\"&ADDRESS(ROW()-1, F$1, 4)),\"MXN: \",\"\"),\" MX$\",\"\"),\".\",\"\")*1),\"\"),E277*F$2)","v":""},{"$f":"IFERROR(IF($A277=\"\",\"\",SUBSTITUTE(SUBSTITUTE(SUBSTITUTE(INDIRECT(\"Trello!\"&ADDRESS(ROW()-1, G$1, 4)),\"Debt: \",\"\"),\" $\",\"\"),\".\",\"\")*1)*IF(E277=\"\",1,F$2),\"\")","v":""},{"$f":"IFERROR(IF($A277=\"\",\"\",SUBSTITUTE(SUBSTITUTE(SUBSTITUTE(INDIRECT(\"Trello!\"&ADDRESS(ROW()-1, H$1, 4)),\"Cost: \",\"\"),\" $\",\"\"),\".\",\"\")*1*$F$2),\"\")","v":""},"",{"$f":"IFERROR(SUBSTITUTE(SUBSTITUTE(SUBSTITUTE(RIGHT(INDIRECT(\"Trello!\"&ADDRESS(ROW()-1, L$1, 4)),LEN(INDIRECT(\"Trello!\"&ADDRESS(ROW()-1, L$1, 4)))-15),\". \",\"/\"),\" 20\",\"/20\"),\" \",\"\"),\"\")","v":""},{"$f":"IFERROR(SUBSTITUTE(SUBSTITUTE(SUBSTITUTE(RIGHT(INDIRECT(\"Trello!\"&ADDRESS(ROW()-1, M$1, 4)),LEN(INDIRECT(\"Trello!\"&ADDRESS(ROW()-1, M$1, 4)))-15),\". \",\"/\"),\" 20\",\"/20\"),\" \",\"\"),\"\")","v":""},"","","",{"$f":"IFERROR(SUBSTITUTE(INDIRECT(\"Trello!\"&ADDRESS(ROW()-1, O$1, 4)),\"Estimate hrs: \",\"\")*1,\"\")","v":""},{"$f":"IF(SUMIF(Timecamp!C:C,Reporte!A277,Timecamp!J:J)=0,\"\",SUMIF(Timecamp!C:C,Reporte!A277,Timecamp!J:J))","v":""},"","",{"$f":"IFERROR(VLOOKUP(A277,'SLA Trab'!E:I,5,FALSE),\"\")","v":""},{"$f":"IFERROR(VLOOKUP(A277,'SLA Cobr'!E:I,5,FALSE),\"\")","v":""}]
[{"$f":"IFERROR(IF(Trello!E277=\"\",\"\",Trello!E277),\" \")","v":""},{"$f":"IF($A278=\"\",\"\",IF(Trello!A277=\"\",B277,Trello!A277))","v":""},"",{"$f":"IF($A278=\"\",\"\",SUBSTITUTE(SUBSTITUTE(Trello!J277,\" days\",\"\"),\"⌚ \",\"\")*1)","v":""},{"$f":"IFERROR(IF($A278=\"\",\"\",SUBSTITUTE(SUBSTITUTE(SUBSTITUTE(INDIRECT(\"Trello!\"&ADDRESS(ROW()-1, E$1, 4)),\"Foreign: \",\"\"),\" $\",\"\"),\".\",\"\")*1),\"\")","v":""},{"$f":"IF($E278=\"\",IFERROR(IF($A278=\"\",\"\",SUBSTITUTE(SUBSTITUTE(SUBSTITUTE(INDIRECT(\"Trello!\"&ADDRESS(ROW()-1, F$1, 4)),\"MXN: \",\"\"),\" MX$\",\"\"),\".\",\"\")*1),\"\"),E278*F$2)","v":""},{"$f":"IFERROR(IF($A278=\"\",\"\",SUBSTITUTE(SUBSTITUTE(SUBSTITUTE(INDIRECT(\"Trello!\"&ADDRESS(ROW()-1, G$1, 4)),\"Debt: \",\"\"),\" $\",\"\"),\".\",\"\")*1)*IF(E278=\"\",1,F$2),\"\")","v":""},{"$f":"IFERROR(IF($A278=\"\",\"\",SUBSTITUTE(SUBSTITUTE(SUBSTITUTE(INDIRECT(\"Trello!\"&ADDRESS(ROW()-1, H$1, 4)),\"Cost: \",\"\"),\" $\",\"\"),\".\",\"\")*1*$F$2),\"\")","v":""},"",{"$f":"IFERROR(SUBSTITUTE(SUBSTITUTE(SUBSTITUTE(RIGHT(INDIRECT(\"Trello!\"&ADDRESS(ROW()-1, L$1, 4)),LEN(INDIRECT(\"Trello!\"&ADDRESS(ROW()-1, L$1, 4)))-15),\". \",\"/\"),\" 20\",\"/20\"),\" \",\"\"),\"\")","v":""},{"$f":"IFERROR(SUBSTITUTE(SUBSTITUTE(SUBSTITUTE(RIGHT(INDIRECT(\"Trello!\"&ADDRESS(ROW()-1, M$1, 4)),LEN(INDIRECT(\"Trello!\"&ADDRESS(ROW()-1, M$1, 4)))-15),\". \",\"/\"),\" 20\",\"/20\"),\" \",\"\"),\"\")","v":""},"","","",{"$f":"IFERROR(SUBSTITUTE(INDIRECT(\"Trello!\"&ADDRESS(ROW()-1, O$1, 4)),\"Estimate hrs: \",\"\")*1,\"\")","v":""},{"$f":"IF(SUMIF(Timecamp!C:C,Reporte!A278,Timecamp!J:J)=0,\"\",SUMIF(Timecamp!C:C,Reporte!A278,Timecamp!J:J))","v":""},"","",{"$f":"IFERROR(VLOOKUP(A278,'SLA Trab'!E:I,5,FALSE),\"\")","v":""},{"$f":"IFERROR(VLOOKUP(A278,'SLA Cobr'!E:I,5,FALSE),\"\")","v":""}]
[{"$f":"IFERROR(IF(Trello!E278=\"\",\"\",Trello!E278),\" \")","v":""},{"$f":"IF($A279=\"\",\"\",IF(Trello!A278=\"\",B278,Trello!A278))","v":""},"",{"$f":"IF($A279=\"\",\"\",SUBSTITUTE(SUBSTITUTE(Trello!J278,\" days\",\"\"),\"⌚ \",\"\")*1)","v":""},{"$f":"IFERROR(IF($A279=\"\",\"\",SUBSTITUTE(SUBSTITUTE(SUBSTITUTE(INDIRECT(\"Trello!\"&ADDRESS(ROW()-1, E$1, 4)),\"Foreign: \",\"\"),\" $\",\"\"),\".\",\"\")*1),\"\")","v":""},{"$f":"IF($E279=\"\",IFERROR(IF($A279=\"\",\"\",SUBSTITUTE(SUBSTITUTE(SUBSTITUTE(INDIRECT(\"Trello!\"&ADDRESS(ROW()-1, F$1, 4)),\"MXN: \",\"\"),\" MX$\",\"\"),\".\",\"\")*1),\"\"),E279*F$2)","v":""},{"$f":"IFERROR(IF($A279=\"\",\"\",SUBSTITUTE(SUBSTITUTE(SUBSTITUTE(INDIRECT(\"Trello!\"&ADDRESS(ROW()-1, G$1, 4)),\"Debt: \",\"\"),\" $\",\"\"),\".\",\"\")*1)*IF(E279=\"\",1,F$2),\"\")","v":""},{"$f":"IFERROR(IF($A279=\"\",\"\",SUBSTITUTE(SUBSTITUTE(SUBSTITUTE(INDIRECT(\"Trello!\"&ADDRESS(ROW()-1, H$1, 4)),\"Cost: \",\"\"),\" $\",\"\"),\".\",\"\")*1*$F$2),\"\")","v":""},"",{"$f":"IFERROR(SUBSTITUTE(SUBSTITUTE(SUBSTITUTE(RIGHT(INDIRECT(\"Trello!\"&ADDRESS(ROW()-1, L$1, 4)),LEN(INDIRECT(\"Trello!\"&ADDRESS(ROW()-1, L$1, 4)))-15),\". \",\"/\"),\" 20\",\"/20\"),\" \",\"\"),\"\")","v":""},{"$f":"IFERROR(SUBSTITUTE(SUBSTITUTE(SUBSTITUTE(RIGHT(INDIRECT(\"Trello!\"&ADDRESS(ROW()-1, M$1, 4)),LEN(INDIRECT(\"Trello!\"&ADDRESS(ROW()-1, M$1, 4)))-15),\". \",\"/\"),\" 20\",\"/20\"),\" \",\"\"),\"\")","v":""},"","","",{"$f":"IFERROR(SUBSTITUTE(INDIRECT(\"Trello!\"&ADDRESS(ROW()-1, O$1, 4)),\"Estimate hrs: \",\"\")*1,\"\")","v":""},{"$f":"IF(SUMIF(Timecamp!C:C,Reporte!A279,Timecamp!J:J)=0,\"\",SUMIF(Timecamp!C:C,Reporte!A279,Timecamp!J:J))","v":""},"","",{"$f":"IFERROR(VLOOKUP(A279,'SLA Trab'!E:I,5,FALSE),\"\")","v":""},{"$f":"IFERROR(VLOOKUP(A279,'SLA Cobr'!E:I,5,FALSE),\"\")","v":""}]
[{"$f":"IFERROR(IF(Trello!E279=\"\",\"\",Trello!E279),\" \")","v":""},{"$f":"IF($A280=\"\",\"\",IF(Trello!A279=\"\",B279,Trello!A279))","v":""},"",{"$f":"IF($A280=\"\",\"\",SUBSTITUTE(SUBSTITUTE(Trello!J279,\" days\",\"\"),\"⌚ \",\"\")*1)","v":""},{"$f":"IFERROR(IF($A280=\"\",\"\",SUBSTITUTE(SUBSTITUTE(SUBSTITUTE(INDIRECT(\"Trello!\"&ADDRESS(ROW()-1, E$1, 4)),\"Foreign: \",\"\"),\" $\",\"\"),\".\",\"\")*1),\"\")","v":""},{"$f":"IF($E280=\"\",IFERROR(IF($A280=\"\",\"\",SUBSTITUTE(SUBSTITUTE(SUBSTITUTE(INDIRECT(\"Trello!\"&ADDRESS(ROW()-1, F$1, 4)),\"MXN: \",\"\"),\" MX$\",\"\"),\".\",\"\")*1),\"\"),E280*F$2)","v":""},{"$f":"IFERROR(IF($A280=\"\",\"\",SUBSTITUTE(SUBSTITUTE(SUBSTITUTE(INDIRECT(\"Trello!\"&ADDRESS(ROW()-1, G$1, 4)),\"Debt: \",\"\"),\" $\",\"\"),\".\",\"\")*1)*IF(E280=\"\",1,F$2),\"\")","v":""},{"$f":"IFERROR(IF($A280=\"\",\"\",SUBSTITUTE(SUBSTITUTE(SUBSTITUTE(INDIRECT(\"Trello!\"&ADDRESS(ROW()-1, H$1, 4)),\"Cost: \",\"\"),\" $\",\"\"),\".\",\"\")*1*$F$2),\"\")","v":""},"",{"$f":"IFERROR(SUBSTITUTE(SUBSTITUTE(SUBSTITUTE(RIGHT(INDIRECT(\"Trello!\"&ADDRESS(ROW()-1, L$1, 4)),LEN(INDIRECT(\"Trello!\"&ADDRESS(ROW()-1, L$1, 4)))-15),\". \",\"/\"),\" 20\",\"/20\"),\" \",\"\"),\"\")","v":""},{"$f":"IFERROR(SUBSTITUTE(SUBSTITUTE(SUBSTITUTE(RIGHT(INDIRECT(\"Trello!\"&ADDRESS(ROW()-1, M$1, 4)),LEN(INDIRECT(\"Trello!\"&ADDRESS(ROW()-1, M$1, 4)))-15),\". \",\"/\"),\" 20\",\"/20\"),\" \",\"\"),\"\")","v":""},"","","",{"$f":"IFERROR(SUBSTITUTE(INDIRECT(\"Trello!\"&ADDRESS(ROW()-1, O$1, 4)),\"Estimate hrs: \",\"\")*1,\"\")","v":""},{"$f":"IF(SUMIF(Timecamp!C:C,Reporte!A280,Timecamp!J:J)=0,\"\",SUMIF(Timecamp!C:C,Reporte!A280,Timecamp!J:J))","v":""},"","",{"$f":"IFERROR(VLOOKUP(A280,'SLA Trab'!E:I,5,FALSE),\"\")","v":""},{"$f":"IFERROR(VLOOKUP(A280,'SLA Cobr'!E:I,5,FALSE),\"\")","v":""}]
[{"$f":"IFERROR(IF(Trello!E280=\"\",\"\",Trello!E280),\" \")","v":""},{"$f":"IF($A281=\"\",\"\",IF(Trello!A280=\"\",B280,Trello!A280))","v":""},"",{"$f":"IF($A281=\"\",\"\",SUBSTITUTE(SUBSTITUTE(Trello!J280,\" days\",\"\"),\"⌚ \",\"\")*1)","v":""},{"$f":"IFERROR(IF($A281=\"\",\"\",SUBSTITUTE(SUBSTITUTE(SUBSTITUTE(INDIRECT(\"Trello!\"&ADDRESS(ROW()-1, E$1, 4)),\"Foreign: \",\"\"),\" $\",\"\"),\".\",\"\")*1),\"\")","v":""},{"$f":"IF($E281=\"\",IFERROR(IF($A281=\"\",\"\",SUBSTITUTE(SUBSTITUTE(SUBSTITUTE(INDIRECT(\"Trello!\"&ADDRESS(ROW()-1, F$1, 4)),\"MXN: \",\"\"),\" MX$\",\"\"),\".\",\"\")*1),\"\"),E281*F$2)","v":""},{"$f":"IFERROR(IF($A281=\"\",\"\",SUBSTITUTE(SUBSTITUTE(SUBSTITUTE(INDIRECT(\"Trello!\"&ADDRESS(ROW()-1, G$1, 4)),\"Debt: \",\"\"),\" $\",\"\"),\".\",\"\")*1)*IF(E281=\"\",1,F$2),\"\")","v":""},{"$f":"IFERROR(IF($A281=\"\",\"\",SUBSTITUTE(SUBSTITUTE(SUBSTITUTE(INDIRECT(\"Trello!\"&ADDRESS(ROW()-1, H$1, 4)),\"Cost: \",\"\"),\" $\",\"\"),\".\",\"\")*1*$F$2),\"\")","v":""},"",{"$f":"IFERROR(SUBSTITUTE(SUBSTITUTE(SUBSTITUTE(RIGHT(INDIRECT(\"Trello!\"&ADDRESS(ROW()-1, L$1, 4)),LEN(INDIRECT(\"Trello!\"&ADDRESS(ROW()-1, L$1, 4)))-15),\". \",\"/\"),\" 20\",\"/20\"),\" \",\"\"),\"\")","v":""},{"$f":"IFERROR(SUBSTITUTE(SUBSTITUTE(SUBSTITUTE(RIGHT(INDIRECT(\"Trello!\"&ADDRESS(ROW()-1, M$1, 4)),LEN(INDIRECT(\"Trello!\"&ADDRESS(ROW()-1, M$1, 4)))-15),\". \",\"/\"),\" 20\",\"/20\"),\" \",\"\"),\"\")","v":""},"","","",{"$f":"IFERROR(SUBSTITUTE(INDIRECT(\"Trello!\"&ADDRESS(ROW()-1, O$1, 4)),\"Estimate hrs: \",\"\")*1,\"\")","v":""},{"$f":"IF(SUMIF(Timecamp!C:C,Reporte!A281,Timecamp!J:J)=0,\"\",SUMIF(Timecamp!C:C,Reporte!A281,Timecamp!J:J))","v":""},"","",{"$f":"IFERROR(VLOOKUP(A281,'SLA Trab'!E:I,5,FALSE),\"\")","v":""},{"$f":"IFERROR(VLOOKUP(A281,'SLA Cobr'!E:I,5,FALSE),\"\")","v":""}]
[{"$f":"IFERROR(IF(Trello!E281=\"\",\"\",Trello!E281),\" \")","v":""},{"$f":"IF($A282=\"\",\"\",IF(Trello!A281=\"\",B281,Trello!A281))","v":""},"",{"$f":"IF($A282=\"\",\"\",SUBSTITUTE(SUBSTITUTE(Trello!J281,\" days\",\"\"),\"⌚ \",\"\")*1)","v":""},{"$f":"IFERROR(IF($A282=\"\",\"\",SUBSTITUTE(SUBSTITUTE(SUBSTITUTE(INDIRECT(\"Trello!\"&ADDRESS(ROW()-1, E$1, 4)),\"Foreign: \",\"\"),\" $\",\"\"),\".\",\"\")*1),\"\")","v":""},{"$f":"IF($E282=\"\",IFERROR(IF($A282=\"\",\"\",SUBSTITUTE(SUBSTITUTE(SUBSTITUTE(INDIRECT(\"Trello!\"&ADDRESS(ROW()-1, F$1, 4)),\"MXN: \",\"\"),\" MX$\",\"\"),\".\",\"\")*1),\"\"),E282*F$2)","v":""},{"$f":"IFERROR(IF($A282=\"\",\"\",SUBSTITUTE(SUBSTITUTE(SUBSTITUTE(INDIRECT(\"Trello!\"&ADDRESS(ROW()-1, G$1, 4)),\"Debt: \",\"\"),\" $\",\"\"),\".\",\"\")*1)*IF(E282=\"\",1,F$2),\"\")","v":""},{"$f":"IFERROR(IF($A282=\"\",\"\",SUBSTITUTE(SUBSTITUTE(SUBSTITUTE(INDIRECT(\"Trello!\"&ADDRESS(ROW()-1, H$1, 4)),\"Cost: \",\"\"),\" $\",\"\"),\".\",\"\")*1*$F$2),\"\")","v":""},"",{"$f":"IFERROR(SUBSTITUTE(SUBSTITUTE(SUBSTITUTE(RIGHT(INDIRECT(\"Trello!\"&ADDRESS(ROW()-1, L$1, 4)),LEN(INDIRECT(\"Trello!\"&ADDRESS(ROW()-1, L$1, 4)))-15),\". \",\"/\"),\" 20\",\"/20\"),\" \",\"\"),\"\")","v":""},{"$f":"IFERROR(SUBSTITUTE(SUBSTITUTE(SUBSTITUTE(RIGHT(INDIRECT(\"Trello!\"&ADDRESS(ROW()-1, M$1, 4)),LEN(INDIRECT(\"Trello!\"&ADDRESS(ROW()-1, M$1, 4)))-15),\". \",\"/\"),\" 20\",\"/20\"),\" \",\"\"),\"\")","v":""},"","","",{"$f":"IFERROR(SUBSTITUTE(INDIRECT(\"Trello!\"&ADDRESS(ROW()-1, O$1, 4)),\"Estimate hrs: \",\"\")*1,\"\")","v":""},{"$f":"IF(SUMIF(Timecamp!C:C,Reporte!A282,Timecamp!J:J)=0,\"\",SUMIF(Timecamp!C:C,Reporte!A282,Timecamp!J:J))","v":""},"","",{"$f":"IFERROR(VLOOKUP(A282,'SLA Trab'!E:I,5,FALSE),\"\")","v":""},{"$f":"IFERROR(VLOOKUP(A282,'SLA Cobr'!E:I,5,FALSE),\"\")","v":""}]
[{"$f":"IFERROR(IF(Trello!E282=\"\",\"\",Trello!E282),\" \")","v":""},{"$f":"IF($A283=\"\",\"\",IF(Trello!A282=\"\",B282,Trello!A282))","v":""},"",{"$f":"IF($A283=\"\",\"\",SUBSTITUTE(SUBSTITUTE(Trello!J282,\" days\",\"\"),\"⌚ \",\"\")*1)","v":""},{"$f":"IFERROR(IF($A283=\"\",\"\",SUBSTITUTE(SUBSTITUTE(SUBSTITUTE(INDIRECT(\"Trello!\"&ADDRESS(ROW()-1, E$1, 4)),\"Foreign: \",\"\"),\" $\",\"\"),\".\",\"\")*1),\"\")","v":""},{"$f":"IF($E283=\"\",IFERROR(IF($A283=\"\",\"\",SUBSTITUTE(SUBSTITUTE(SUBSTITUTE(INDIRECT(\"Trello!\"&ADDRESS(ROW()-1, F$1, 4)),\"MXN: \",\"\"),\" MX$\",\"\"),\".\",\"\")*1),\"\"),E283*F$2)","v":""},{"$f":"IFERROR(IF($A283=\"\",\"\",SUBSTITUTE(SUBSTITUTE(SUBSTITUTE(INDIRECT(\"Trello!\"&ADDRESS(ROW()-1, G$1, 4)),\"Debt: \",\"\"),\" $\",\"\"),\".\",\"\")*1)*IF(E283=\"\",1,F$2),\"\")","v":""},{"$f":"IFERROR(IF($A283=\"\",\"\",SUBSTITUTE(SUBSTITUTE(SUBSTITUTE(INDIRECT(\"Trello!\"&ADDRESS(ROW()-1, H$1, 4)),\"Cost: \",\"\"),\" $\",\"\"),\".\",\"\")*1*$F$2),\"\")","v":""},"",{"$f":"IFERROR(SUBSTITUTE(SUBSTITUTE(SUBSTITUTE(RIGHT(INDIRECT(\"Trello!\"&ADDRESS(ROW()-1, L$1, 4)),LEN(INDIRECT(\"Trello!\"&ADDRESS(ROW()-1, L$1, 4)))-15),\". \",\"/\"),\" 20\",\"/20\"),\" \",\"\"),\"\")","v":""},{"$f":"IFERROR(SUBSTITUTE(SUBSTITUTE(SUBSTITUTE(RIGHT(INDIRECT(\"Trello!\"&ADDRESS(ROW()-1, M$1, 4)),LEN(INDIRECT(\"Trello!\"&ADDRESS(ROW()-1, M$1, 4)))-15),\". \",\"/\"),\" 20\",\"/20\"),\" \",\"\"),\"\")","v":""},"","","",{"$f":"IFERROR(SUBSTITUTE(INDIRECT(\"Trello!\"&ADDRESS(ROW()-1, O$1, 4)),\"Estimate hrs: \",\"\")*1,\"\")","v":""},{"$f":"IF(SUMIF(Timecamp!C:C,Reporte!A283,Timecamp!J:J)=0,\"\",SUMIF(Timecamp!C:C,Reporte!A283,Timecamp!J:J))","v":""},"","",{"$f":"IFERROR(VLOOKUP(A283,'SLA Trab'!E:I,5,FALSE),\"\")","v":""},{"$f":"IFERROR(VLOOKUP(A283,'SLA Cobr'!E:I,5,FALSE),\"\")","v":""}]
[{"$f":"IFERROR(IF(Trello!E283=\"\",\"\",Trello!E283),\" \")","v":""},{"$f":"IF($A284=\"\",\"\",IF(Trello!A283=\"\",B283,Trello!A283))","v":""},"",{"$f":"IF($A284=\"\",\"\",SUBSTITUTE(SUBSTITUTE(Trello!J283,\" days\",\"\"),\"⌚ \",\"\")*1)","v":""},{"$f":"IFERROR(IF($A284=\"\",\"\",SUBSTITUTE(SUBSTITUTE(SUBSTITUTE(INDIRECT(\"Trello!\"&ADDRESS(ROW()-1, E$1, 4)),\"Foreign: \",\"\"),\" $\",\"\"),\".\",\"\")*1),\"\")","v":""},{"$f":"IF($E284=\"\",IFERROR(IF($A284=\"\",\"\",SUBSTITUTE(SUBSTITUTE(SUBSTITUTE(INDIRECT(\"Trello!\"&ADDRESS(ROW()-1, F$1, 4)),\"MXN: \",\"\"),\" MX$\",\"\"),\".\",\"\")*1),\"\"),E284*F$2)","v":""},{"$f":"IFERROR(IF($A284=\"\",\"\",SUBSTITUTE(SUBSTITUTE(SUBSTITUTE(INDIRECT(\"Trello!\"&ADDRESS(ROW()-1, G$1, 4)),\"Debt: \",\"\"),\" $\",\"\"),\".\",\"\")*1)*IF(E284=\"\",1,F$2),\"\")","v":""},{"$f":"IFERROR(IF($A284=\"\",\"\",SUBSTITUTE(SUBSTITUTE(SUBSTITUTE(INDIRECT(\"Trello!\"&ADDRESS(ROW()-1, H$1, 4)),\"Cost: \",\"\"),\" $\",\"\"),\".\",\"\")*1*$F$2),\"\")","v":""},"",{"$f":"IFERROR(SUBSTITUTE(SUBSTITUTE(SUBSTITUTE(RIGHT(INDIRECT(\"Trello!\"&ADDRESS(ROW()-1, L$1, 4)),LEN(INDIRECT(\"Trello!\"&ADDRESS(ROW()-1, L$1, 4)))-15),\". \",\"/\"),\" 20\",\"/20\"),\" \",\"\"),\"\")","v":""},{"$f":"IFERROR(SUBSTITUTE(SUBSTITUTE(SUBSTITUTE(RIGHT(INDIRECT(\"Trello!\"&ADDRESS(ROW()-1, M$1, 4)),LEN(INDIRECT(\"Trello!\"&ADDRESS(ROW()-1, M$1, 4)))-15),\". \",\"/\"),\" 20\",\"/20\"),\" \",\"\"),\"\")","v":""},"","","",{"$f":"IFERROR(SUBSTITUTE(INDIRECT(\"Trello!\"&ADDRESS(ROW()-1, O$1, 4)),\"Estimate hrs: \",\"\")*1,\"\")","v":""},{"$f":"IF(SUMIF(Timecamp!C:C,Reporte!A284,Timecamp!J:J)=0,\"\",SUMIF(Timecamp!C:C,Reporte!A284,Timecamp!J:J))","v":""},"","",{"$f":"IFERROR(VLOOKUP(A284,'SLA Trab'!E:I,5,FALSE),\"\")","v":""},{"$f":"IFERROR(VLOOKUP(A284,'SLA Cobr'!E:I,5,FALSE),\"\")","v":""}]
[{"$f":"IFERROR(IF(Trello!E284=\"\",\"\",Trello!E284),\" \")","v":""},{"$f":"IF($A285=\"\",\"\",IF(Trello!A284=\"\",B284,Trello!A284))","v":""},"",{"$f":"IF($A285=\"\",\"\",SUBSTITUTE(SUBSTITUTE(Trello!J284,\" days\",\"\"),\"⌚ \",\"\")*1)","v":""},{"$f":"IFERROR(IF($A285=\"\",\"\",SUBSTITUTE(SUBSTITUTE(SUBSTITUTE(INDIRECT(\"Trello!\"&ADDRESS(ROW()-1, E$1, 4)),\"Foreign: \",\"\"),\" $\",\"\"),\".\",\"\")*1),\"\")","v":""},{"$f":"IF($E285=\"\",IFERROR(IF($A285=\"\",\"\",SUBSTITUTE(SUBSTITUTE(SUBSTITUTE(INDIRECT(\"Trello!\"&ADDRESS(ROW()-1, F$1, 4)),\"MXN: \",\"\"),\" MX$\",\"\"),\".\",\"\")*1),\"\"),E285*F$2)","v":""},{"$f":"IFERROR(IF($A285=\"\",\"\",SUBSTITUTE(SUBSTITUTE(SUBSTITUTE(INDIRECT(\"Trello!\"&ADDRESS(ROW()-1, G$1, 4)),\"Debt: \",\"\"),\" $\",\"\"),\".\",\"\")*1)*IF(E285=\"\",1,F$2),\"\")","v":""},{"$f":"IFERROR(IF($A285=\"\",\"\",SUBSTITUTE(SUBSTITUTE(SUBSTITUTE(INDIRECT(\"Trello!\"&ADDRESS(ROW()-1, H$1, 4)),\"Cost: \",\"\"),\" $\",\"\"),\".\",\"\")*1*$F$2),\"\")","v":""},"",{"$f":"IFERROR(SUBSTITUTE(SUBSTITUTE(SUBSTITUTE(RIGHT(INDIRECT(\"Trello!\"&ADDRESS(ROW()-1, L$1, 4)),LEN(INDIRECT(\"Trello!\"&ADDRESS(ROW()-1, L$1, 4)))-15),\". \",\"/\"),\" 20\",\"/20\"),\" \",\"\"),\"\")","v":""},{"$f":"IFERROR(SUBSTITUTE(SUBSTITUTE(SUBSTITUTE(RIGHT(INDIRECT(\"Trello!\"&ADDRESS(ROW()-1, M$1, 4)),LEN(INDIRECT(\"Trello!\"&ADDRESS(ROW()-1, M$1, 4)))-15),\". \",\"/\"),\" 20\",\"/20\"),\" \",\"\"),\"\")","v":""},"","","",{"$f":"IFERROR(SUBSTITUTE(INDIRECT(\"Trello!\"&ADDRESS(ROW()-1, O$1, 4)),\"Estimate hrs: \",\"\")*1,\"\")","v":""},{"$f":"IF(SUMIF(Timecamp!C:C,Reporte!A285,Timecamp!J:J)=0,\"\",SUMIF(Timecamp!C:C,Reporte!A285,Timecamp!J:J))","v":""},"","",{"$f":"IFERROR(VLOOKUP(A285,'SLA Trab'!E:I,5,FALSE),\"\")","v":""},{"$f":"IFERROR(VLOOKUP(A285,'SLA Cobr'!E:I,5,FALSE),\"\")","v":""}]
[{"$f":"IFERROR(IF(Trello!E285=\"\",\"\",Trello!E285),\" \")","v":""},{"$f":"IF($A286=\"\",\"\",IF(Trello!A285=\"\",B285,Trello!A285))","v":""},"",{"$f":"IF($A286=\"\",\"\",SUBSTITUTE(SUBSTITUTE(Trello!J285,\" days\",\"\"),\"⌚ \",\"\")*1)","v":""},{"$f":"IFERROR(IF($A286=\"\",\"\",SUBSTITUTE(SUBSTITUTE(SUBSTITUTE(INDIRECT(\"Trello!\"&ADDRESS(ROW()-1, E$1, 4)),\"Foreign: \",\"\"),\" $\",\"\"),\".\",\"\")*1),\"\")","v":""},{"$f":"IF($E286=\"\",IFERROR(IF($A286=\"\",\"\",SUBSTITUTE(SUBSTITUTE(SUBSTITUTE(INDIRECT(\"Trello!\"&ADDRESS(ROW()-1, F$1, 4)),\"MXN: \",\"\"),\" MX$\",\"\"),\".\",\"\")*1),\"\"),E286*F$2)","v":""},{"$f":"IFERROR(IF($A286=\"\",\"\",SUBSTITUTE(SUBSTITUTE(SUBSTITUTE(INDIRECT(\"Trello!\"&ADDRESS(ROW()-1, G$1, 4)),\"Debt: \",\"\"),\" $\",\"\"),\".\",\"\")*1)*IF(E286=\"\",1,F$2),\"\")","v":""},{"$f":"IFERROR(IF($A286=\"\",\"\",SUBSTITUTE(SUBSTITUTE(SUBSTITUTE(INDIRECT(\"Trello!\"&ADDRESS(ROW()-1, H$1, 4)),\"Cost: \",\"\"),\" $\",\"\"),\".\",\"\")*1*$F$2),\"\")","v":""},"",{"$f":"IFERROR(SUBSTITUTE(SUBSTITUTE(SUBSTITUTE(RIGHT(INDIRECT(\"Trello!\"&ADDRESS(ROW()-1, L$1, 4)),LEN(INDIRECT(\"Trello!\"&ADDRESS(ROW()-1, L$1, 4)))-15),\". \",\"/\"),\" 20\",\"/20\"),\" \",\"\"),\"\")","v":""},{"$f":"IFERROR(SUBSTITUTE(SUBSTITUTE(SUBSTITUTE(RIGHT(INDIRECT(\"Trello!\"&ADDRESS(ROW()-1, M$1, 4)),LEN(INDIRECT(\"Trello!\"&ADDRESS(ROW()-1, M$1, 4)))-15),\". \",\"/\"),\" 20\",\"/20\"),\" \",\"\"),\"\")","v":""},"","","",{"$f":"IFERROR(SUBSTITUTE(INDIRECT(\"Trello!\"&ADDRESS(ROW()-1, O$1, 4)),\"Estimate hrs: \",\"\")*1,\"\")","v":""},{"$f":"IF(SUMIF(Timecamp!C:C,Reporte!A286,Timecamp!J:J)=0,\"\",SUMIF(Timecamp!C:C,Reporte!A286,Timecamp!J:J))","v":""},"","",{"$f":"IFERROR(VLOOKUP(A286,'SLA Trab'!E:I,5,FALSE),\"\")","v":""},{"$f":"IFERROR(VLOOKUP(A286,'SLA Cobr'!E:I,5,FALSE),\"\")","v":""}]
[{"$f":"IFERROR(IF(Trello!E286=\"\",\"\",Trello!E286),\" \")","v":""},{"$f":"IF($A287=\"\",\"\",IF(Trello!A286=\"\",B286,Trello!A286))","v":""},"",{"$f":"IF($A287=\"\",\"\",SUBSTITUTE(SUBSTITUTE(Trello!J286,\" days\",\"\"),\"⌚ \",\"\")*1)","v":""},{"$f":"IFERROR(IF($A287=\"\",\"\",SUBSTITUTE(SUBSTITUTE(SUBSTITUTE(INDIRECT(\"Trello!\"&ADDRESS(ROW()-1, E$1, 4)),\"Foreign: \",\"\"),\" $\",\"\"),\".\",\"\")*1),\"\")","v":""},{"$f":"IF($E287=\"\",IFERROR(IF($A287=\"\",\"\",SUBSTITUTE(SUBSTITUTE(SUBSTITUTE(INDIRECT(\"Trello!\"&ADDRESS(ROW()-1, F$1, 4)),\"MXN: \",\"\"),\" MX$\",\"\"),\".\",\"\")*1),\"\"),E287*F$2)","v":""},{"$f":"IFERROR(IF($A287=\"\",\"\",SUBSTITUTE(SUBSTITUTE(SUBSTITUTE(INDIRECT(\"Trello!\"&ADDRESS(ROW()-1, G$1, 4)),\"Debt: \",\"\"),\" $\",\"\"),\".\",\"\")*1)*IF(E287=\"\",1,F$2),\"\")","v":""},{"$f":"IFERROR(IF($A287=\"\",\"\",SUBSTITUTE(SUBSTITUTE(SUBSTITUTE(INDIRECT(\"Trello!\"&ADDRESS(ROW()-1, H$1, 4)),\"Cost: \",\"\"),\" $\",\"\"),\".\",\"\")*1*$F$2),\"\")","v":""},"",{"$f":"IFERROR(SUBSTITUTE(SUBSTITUTE(SUBSTITUTE(RIGHT(INDIRECT(\"Trello!\"&ADDRESS(ROW()-1, L$1, 4)),LEN(INDIRECT(\"Trello!\"&ADDRESS(ROW()-1, L$1, 4)))-15),\". \",\"/\"),\" 20\",\"/20\"),\" \",\"\"),\"\")","v":""},{"$f":"IFERROR(SUBSTITUTE(SUBSTITUTE(SUBSTITUTE(RIGHT(INDIRECT(\"Trello!\"&ADDRESS(ROW()-1, M$1, 4)),LEN(INDIRECT(\"Trello!\"&ADDRESS(ROW()-1, M$1, 4)))-15),\". \",\"/\"),\" 20\",\"/20\"),\" \",\"\"),\"\")","v":""},"","","",{"$f":"IFERROR(SUBSTITUTE(INDIRECT(\"Trello!\"&ADDRESS(ROW()-1, O$1, 4)),\"Estimate hrs: \",\"\")*1,\"\")","v":""},{"$f":"IF(SUMIF(Timecamp!C:C,Reporte!A287,Timecamp!J:J)=0,\"\",SUMIF(Timecamp!C:C,Reporte!A287,Timecamp!J:J))","v":""},"","",{"$f":"IFERROR(VLOOKUP(A287,'SLA Trab'!E:I,5,FALSE),\"\")","v":""},{"$f":"IFERROR(VLOOKUP(A287,'SLA Cobr'!E:I,5,FALSE),\"\")","v":""}]
[{"$f":"IFERROR(IF(Trello!E287=\"\",\"\",Trello!E287),\" \")","v":""},{"$f":"IF($A288=\"\",\"\",IF(Trello!A287=\"\",B287,Trello!A287))","v":""},"",{"$f":"IF($A288=\"\",\"\",SUBSTITUTE(SUBSTITUTE(Trello!J287,\" days\",\"\"),\"⌚ \",\"\")*1)","v":""},{"$f":"IFERROR(IF($A288=\"\",\"\",SUBSTITUTE(SUBSTITUTE(SUBSTITUTE(INDIRECT(\"Trello!\"&ADDRESS(ROW()-1, E$1, 4)),\"Foreign: \",\"\"),\" $\",\"\"),\".\",\"\")*1),\"\")","v":""},{"$f":"IF($E288=\"\",IFERROR(IF($A288=\"\",\"\",SUBSTITUTE(SUBSTITUTE(SUBSTITUTE(INDIRECT(\"Trello!\"&ADDRESS(ROW()-1, F$1, 4)),\"MXN: \",\"\"),\" MX$\",\"\"),\".\",\"\")*1),\"\"),E288*F$2)","v":""},{"$f":"IFERROR(IF($A288=\"\",\"\",SUBSTITUTE(SUBSTITUTE(SUBSTITUTE(INDIRECT(\"Trello!\"&ADDRESS(ROW()-1, G$1, 4)),\"Debt: \",\"\"),\" $\",\"\"),\".\",\"\")*1)*IF(E288=\"\",1,F$2),\"\")","v":""},{"$f":"IFERROR(IF($A288=\"\",\"\",SUBSTITUTE(SUBSTITUTE(SUBSTITUTE(INDIRECT(\"Trello!\"&ADDRESS(ROW()-1, H$1, 4)),\"Cost: \",\"\"),\" $\",\"\"),\".\",\"\")*1*$F$2),\"\")","v":""},"",{"$f":"IFERROR(SUBSTITUTE(SUBSTITUTE(SUBSTITUTE(RIGHT(INDIRECT(\"Trello!\"&ADDRESS(ROW()-1, L$1, 4)),LEN(INDIRECT(\"Trello!\"&ADDRESS(ROW()-1, L$1, 4)))-15),\". \",\"/\"),\" 20\",\"/20\"),\" \",\"\"),\"\")","v":""},{"$f":"IFERROR(SUBSTITUTE(SUBSTITUTE(SUBSTITUTE(RIGHT(INDIRECT(\"Trello!\"&ADDRESS(ROW()-1, M$1, 4)),LEN(INDIRECT(\"Trello!\"&ADDRESS(ROW()-1, M$1, 4)))-15),\". \",\"/\"),\" 20\",\"/20\"),\" \",\"\"),\"\")","v":""},"","","",{"$f":"IFERROR(SUBSTITUTE(INDIRECT(\"Trello!\"&ADDRESS(ROW()-1, O$1, 4)),\"Estimate hrs: \",\"\")*1,\"\")","v":""},{"$f":"IF(SUMIF(Timecamp!C:C,Reporte!A288,Timecamp!J:J)=0,\"\",SUMIF(Timecamp!C:C,Reporte!A288,Timecamp!J:J))","v":""},"","",{"$f":"IFERROR(VLOOKUP(A288,'SLA Trab'!E:I,5,FALSE),\"\")","v":""},{"$f":"IFERROR(VLOOKUP(A288,'SLA Cobr'!E:I,5,FALSE),\"\")","v":""}]
[{"$f":"IFERROR(IF(Trello!E288=\"\",\"\",Trello!E288),\" \")","v":""},{"$f":"IF($A289=\"\",\"\",IF(Trello!A288=\"\",B288,Trello!A288))","v":""},"",{"$f":"IF($A289=\"\",\"\",SUBSTITUTE(SUBSTITUTE(Trello!J288,\" days\",\"\"),\"⌚ \",\"\")*1)","v":""},{"$f":"IFERROR(IF($A289=\"\",\"\",SUBSTITUTE(SUBSTITUTE(SUBSTITUTE(INDIRECT(\"Trello!\"&ADDRESS(ROW()-1, E$1, 4)),\"Foreign: \",\"\"),\" $\",\"\"),\".\",\"\")*1),\"\")","v":""},{"$f":"IF($E289=\"\",IFERROR(IF($A289=\"\",\"\",SUBSTITUTE(SUBSTITUTE(SUBSTITUTE(INDIRECT(\"Trello!\"&ADDRESS(ROW()-1, F$1, 4)),\"MXN: \",\"\"),\" MX$\",\"\"),\".\",\"\")*1),\"\"),E289*F$2)","v":""},{"$f":"IFERROR(IF($A289=\"\",\"\",SUBSTITUTE(SUBSTITUTE(SUBSTITUTE(INDIRECT(\"Trello!\"&ADDRESS(ROW()-1, G$1, 4)),\"Debt: \",\"\"),\" $\",\"\"),\".\",\"\")*1)*IF(E289=\"\",1,F$2),\"\")","v":""},{"$f":"IFERROR(IF($A289=\"\",\"\",SUBSTITUTE(SUBSTITUTE(SUBSTITUTE(INDIRECT(\"Trello!\"&ADDRESS(ROW()-1, H$1, 4)),\"Cost: \",\"\"),\" $\",\"\"),\".\",\"\")*1*$F$2),\"\")","v":""},"",{"$f":"IFERROR(SUBSTITUTE(SUBSTITUTE(SUBSTITUTE(RIGHT(INDIRECT(\"Trello!\"&ADDRESS(ROW()-1, L$1, 4)),LEN(INDIRECT(\"Trello!\"&ADDRESS(ROW()-1, L$1, 4)))-15),\". \",\"/\"),\" 20\",\"/20\"),\" \",\"\"),\"\")","v":""},{"$f":"IFERROR(SUBSTITUTE(SUBSTITUTE(SUBSTITUTE(RIGHT(INDIRECT(\"Trello!\"&ADDRESS(ROW()-1, M$1, 4)),LEN(INDIRECT(\"Trello!\"&ADDRESS(ROW()-1, M$1, 4)))-15),\". \",\"/\"),\" 20\",\"/20\"),\" \",\"\"),\"\")","v":""},"","","",{"$f":"IFERROR(SUBSTITUTE(INDIRECT(\"Trello!\"&ADDRESS(ROW()-1, O$1, 4)),\"Estimate hrs: \",\"\")*1,\"\")","v":""},{"$f":"IF(SUMIF(Timecamp!C:C,Reporte!A289,Timecamp!J:J)=0,\"\",SUMIF(Timecamp!C:C,Reporte!A289,Timecamp!J:J))","v":""},"","",{"$f":"IFERROR(VLOOKUP(A289,'SLA Trab'!E:I,5,FALSE),\"\")","v":""},{"$f":"IFERROR(VLOOKUP(A289,'SLA Cobr'!E:I,5,FALSE),\"\")","v":""}]
[{"$f":"IFERROR(IF(Trello!E289=\"\",\"\",Trello!E289),\" \")","v":""},{"$f":"IF($A290=\"\",\"\",IF(Trello!A289=\"\",B289,Trello!A289))","v":""},"",{"$f":"IF($A290=\"\",\"\",SUBSTITUTE(SUBSTITUTE(Trello!J289,\" days\",\"\"),\"⌚ \",\"\")*1)","v":""},{"$f":"IFERROR(IF($A290=\"\",\"\",SUBSTITUTE(SUBSTITUTE(SUBSTITUTE(INDIRECT(\"Trello!\"&ADDRESS(ROW()-1, E$1, 4)),\"Foreign: \",\"\"),\" $\",\"\"),\".\",\"\")*1),\"\")","v":""},{"$f":"IF($E290=\"\",IFERROR(IF($A290=\"\",\"\",SUBSTITUTE(SUBSTITUTE(SUBSTITUTE(INDIRECT(\"Trello!\"&ADDRESS(ROW()-1, F$1, 4)),\"MXN: \",\"\"),\" MX$\",\"\"),\".\",\"\")*1),\"\"),E290*F$2)","v":""},{"$f":"IFERROR(IF($A290=\"\",\"\",SUBSTITUTE(SUBSTITUTE(SUBSTITUTE(INDIRECT(\"Trello!\"&ADDRESS(ROW()-1, G$1, 4)),\"Debt: \",\"\"),\" $\",\"\"),\".\",\"\")*1)*IF(E290=\"\",1,F$2),\"\")","v":""},{"$f":"IFERROR(IF($A290=\"\",\"\",SUBSTITUTE(SUBSTITUTE(SUBSTITUTE(INDIRECT(\"Trello!\"&ADDRESS(ROW()-1, H$1, 4)),\"Cost: \",\"\"),\" $\",\"\"),\".\",\"\")*1*$F$2),\"\")","v":""},"",{"$f":"IFERROR(SUBSTITUTE(SUBSTITUTE(SUBSTITUTE(RIGHT(INDIRECT(\"Trello!\"&ADDRESS(ROW()-1, L$1, 4)),LEN(INDIRECT(\"Trello!\"&ADDRESS(ROW()-1, L$1, 4)))-15),\". \",\"/\"),\" 20\",\"/20\"),\" \",\"\"),\"\")","v":""},{"$f":"IFERROR(SUBSTITUTE(SUBSTITUTE(SUBSTITUTE(RIGHT(INDIRECT(\"Trello!\"&ADDRESS(ROW()-1, M$1, 4)),LEN(INDIRECT(\"Trello!\"&ADDRESS(ROW()-1, M$1, 4)))-15),\". \",\"/\"),\" 20\",\"/20\"),\" \",\"\"),\"\")","v":""},"","","",{"$f":"IFERROR(SUBSTITUTE(INDIRECT(\"Trello!\"&ADDRESS(ROW()-1, O$1, 4)),\"Estimate hrs: \",\"\")*1,\"\")","v":""},{"$f":"IF(SUMIF(Timecamp!C:C,Reporte!A290,Timecamp!J:J)=0,\"\",SUMIF(Timecamp!C:C,Reporte!A290,Timecamp!J:J))","v":""},"","",{"$f":"IFERROR(VLOOKUP(A290,'SLA Trab'!E:I,5,FALSE),\"\")","v":""},{"$f":"IFERROR(VLOOKUP(A290,'SLA Cobr'!E:I,5,FALSE),\"\")","v":""}]
[{"$f":"IFERROR(IF(Trello!E290=\"\",\"\",Trello!E290),\" \")","v":""},{"$f":"IF($A291=\"\",\"\",IF(Trello!A290=\"\",B290,Trello!A290))","v":""},"",{"$f":"IF($A291=\"\",\"\",SUBSTITUTE(SUBSTITUTE(Trello!J290,\" days\",\"\"),\"⌚ \",\"\")*1)","v":""},{"$f":"IFERROR(IF($A291=\"\",\"\",SUBSTITUTE(SUBSTITUTE(SUBSTITUTE(INDIRECT(\"Trello!\"&ADDRESS(ROW()-1, E$1, 4)),\"Foreign: \",\"\"),\" $\",\"\"),\".\",\"\")*1),\"\")","v":""},{"$f":"IF($E291=\"\",IFERROR(IF($A291=\"\",\"\",SUBSTITUTE(SUBSTITUTE(SUBSTITUTE(INDIRECT(\"Trello!\"&ADDRESS(ROW()-1, F$1, 4)),\"MXN: \",\"\"),\" MX$\",\"\"),\".\",\"\")*1),\"\"),E291*F$2)","v":""},{"$f":"IFERROR(IF($A291=\"\",\"\",SUBSTITUTE(SUBSTITUTE(SUBSTITUTE(INDIRECT(\"Trello!\"&ADDRESS(ROW()-1, G$1, 4)),\"Debt: \",\"\"),\" $\",\"\"),\".\",\"\")*1)*IF(E291=\"\",1,F$2),\"\")","v":""},{"$f":"IFERROR(IF($A291=\"\",\"\",SUBSTITUTE(SUBSTITUTE(SUBSTITUTE(INDIRECT(\"Trello!\"&ADDRESS(ROW()-1, H$1, 4)),\"Cost: \",\"\"),\" $\",\"\"),\".\",\"\")*1*$F$2),\"\")","v":""},"",{"$f":"IFERROR(SUBSTITUTE(SUBSTITUTE(SUBSTITUTE(RIGHT(INDIRECT(\"Trello!\"&ADDRESS(ROW()-1, L$1, 4)),LEN(INDIRECT(\"Trello!\"&ADDRESS(ROW()-1, L$1, 4)))-15),\". \",\"/\"),\" 20\",\"/20\"),\" \",\"\"),\"\")","v":""},{"$f":"IFERROR(SUBSTITUTE(SUBSTITUTE(SUBSTITUTE(RIGHT(INDIRECT(\"Trello!\"&ADDRESS(ROW()-1, M$1, 4)),LEN(INDIRECT(\"Trello!\"&ADDRESS(ROW()-1, M$1, 4)))-15),\". \",\"/\"),\" 20\",\"/20\"),\" \",\"\"),\"\")","v":""},"","","",{"$f":"IFERROR(SUBSTITUTE(INDIRECT(\"Trello!\"&ADDRESS(ROW()-1, O$1, 4)),\"Estimate hrs: \",\"\")*1,\"\")","v":""},{"$f":"IF(SUMIF(Timecamp!C:C,Reporte!A291,Timecamp!J:J)=0,\"\",SUMIF(Timecamp!C:C,Reporte!A291,Timecamp!J:J))","v":""},"","",{"$f":"IFERROR(VLOOKUP(A291,'SLA Trab'!E:I,5,FALSE),\"\")","v":""},{"$f":"IFERROR(VLOOKUP(A291,'SLA Cobr'!E:I,5,FALSE),\"\")","v":""}]
[{"$f":"IFERROR(IF(Trello!E291=\"\",\"\",Trello!E291),\" \")","v":""},{"$f":"IF($A292=\"\",\"\",IF(Trello!A291=\"\",B291,Trello!A291))","v":""},"",{"$f":"IF($A292=\"\",\"\",SUBSTITUTE(SUBSTITUTE(Trello!J291,\" days\",\"\"),\"⌚ \",\"\")*1)","v":""},{"$f":"IFERROR(IF($A292=\"\",\"\",SUBSTITUTE(SUBSTITUTE(SUBSTITUTE(INDIRECT(\"Trello!\"&ADDRESS(ROW()-1, E$1, 4)),\"Foreign: \",\"\"),\" $\",\"\"),\".\",\"\")*1),\"\")","v":""},{"$f":"IF($E292=\"\",IFERROR(IF($A292=\"\",\"\",SUBSTITUTE(SUBSTITUTE(SUBSTITUTE(INDIRECT(\"Trello!\"&ADDRESS(ROW()-1, F$1, 4)),\"MXN: \",\"\"),\" MX$\",\"\"),\".\",\"\")*1),\"\"),E292*F$2)","v":""},{"$f":"IFERROR(IF($A292=\"\",\"\",SUBSTITUTE(SUBSTITUTE(SUBSTITUTE(INDIRECT(\"Trello!\"&ADDRESS(ROW()-1, G$1, 4)),\"Debt: \",\"\"),\" $\",\"\"),\".\",\"\")*1)*IF(E292=\"\",1,F$2),\"\")","v":""},{"$f":"IFERROR(IF($A292=\"\",\"\",SUBSTITUTE(SUBSTITUTE(SUBSTITUTE(INDIRECT(\"Trello!\"&ADDRESS(ROW()-1, H$1, 4)),\"Cost: \",\"\"),\" $\",\"\"),\".\",\"\")*1*$F$2),\"\")","v":""},"",{"$f":"IFERROR(SUBSTITUTE(SUBSTITUTE(SUBSTITUTE(RIGHT(INDIRECT(\"Trello!\"&ADDRESS(ROW()-1, L$1, 4)),LEN(INDIRECT(\"Trello!\"&ADDRESS(ROW()-1, L$1, 4)))-15),\". \",\"/\"),\" 20\",\"/20\"),\" \",\"\"),\"\")","v":""},{"$f":"IFERROR(SUBSTITUTE(SUBSTITUTE(SUBSTITUTE(RIGHT(INDIRECT(\"Trello!\"&ADDRESS(ROW()-1, M$1, 4)),LEN(INDIRECT(\"Trello!\"&ADDRESS(ROW()-1, M$1, 4)))-15),\". \",\"/\"),\" 20\",\"/20\"),\" \",\"\"),\"\")","v":""},"","","",{"$f":"IFERROR(SUBSTITUTE(INDIRECT(\"Trello!\"&ADDRESS(ROW()-1, O$1, 4)),\"Estimate hrs: \",\"\")*1,\"\")","v":""},{"$f":"IF(SUMIF(Timecamp!C:C,Reporte!A292,Timecamp!J:J)=0,\"\",SUMIF(Timecamp!C:C,Reporte!A292,Timecamp!J:J))","v":""},"","",{"$f":"IFERROR(VLOOKUP(A292,'SLA Trab'!E:I,5,FALSE),\"\")","v":""},{"$f":"IFERROR(VLOOKUP(A292,'SLA Cobr'!E:I,5,FALSE),\"\")","v":""}]
[{"$f":"IFERROR(IF(Trello!E292=\"\",\"\",Trello!E292),\" \")","v":""},{"$f":"IF($A293=\"\",\"\",IF(Trello!A292=\"\",B292,Trello!A292))","v":""},"",{"$f":"IF($A293=\"\",\"\",SUBSTITUTE(SUBSTITUTE(Trello!J292,\" days\",\"\"),\"⌚ \",\"\")*1)","v":""},{"$f":"IFERROR(IF($A293=\"\",\"\",SUBSTITUTE(SUBSTITUTE(SUBSTITUTE(INDIRECT(\"Trello!\"&ADDRESS(ROW()-1, E$1, 4)),\"Foreign: \",\"\"),\" $\",\"\"),\".\",\"\")*1),\"\")","v":""},{"$f":"IF($E293=\"\",IFERROR(IF($A293=\"\",\"\",SUBSTITUTE(SUBSTITUTE(SUBSTITUTE(INDIRECT(\"Trello!\"&ADDRESS(ROW()-1, F$1, 4)),\"MXN: \",\"\"),\" MX$\",\"\"),\".\",\"\")*1),\"\"),E293*F$2)","v":""},{"$f":"IFERROR(IF($A293=\"\",\"\",SUBSTITUTE(SUBSTITUTE(SUBSTITUTE(INDIRECT(\"Trello!\"&ADDRESS(ROW()-1, G$1, 4)),\"Debt: \",\"\"),\" $\",\"\"),\".\",\"\")*1)*IF(E293=\"\",1,F$2),\"\")","v":""},{"$f":"IFERROR(IF($A293=\"\",\"\",SUBSTITUTE(SUBSTITUTE(SUBSTITUTE(INDIRECT(\"Trello!\"&ADDRESS(ROW()-1, H$1, 4)),\"Cost: \",\"\"),\" $\",\"\"),\".\",\"\")*1*$F$2),\"\")","v":""},"",{"$f":"IFERROR(SUBSTITUTE(SUBSTITUTE(SUBSTITUTE(RIGHT(INDIRECT(\"Trello!\"&ADDRESS(ROW()-1, L$1, 4)),LEN(INDIRECT(\"Trello!\"&ADDRESS(ROW()-1, L$1, 4)))-15),\". \",\"/\"),\" 20\",\"/20\"),\" \",\"\"),\"\")","v":""},{"$f":"IFERROR(SUBSTITUTE(SUBSTITUTE(SUBSTITUTE(RIGHT(INDIRECT(\"Trello!\"&ADDRESS(ROW()-1, M$1, 4)),LEN(INDIRECT(\"Trello!\"&ADDRESS(ROW()-1, M$1, 4)))-15),\". \",\"/\"),\" 20\",\"/20\"),\" \",\"\"),\"\")","v":""},"","","",{"$f":"IFERROR(SUBSTITUTE(INDIRECT(\"Trello!\"&ADDRESS(ROW()-1, O$1, 4)),\"Estimate hrs: \",\"\")*1,\"\")","v":""},{"$f":"IF(SUMIF(Timecamp!C:C,Reporte!A293,Timecamp!J:J)=0,\"\",SUMIF(Timecamp!C:C,Reporte!A293,Timecamp!J:J))","v":""},"","",{"$f":"IFERROR(VLOOKUP(A293,'SLA Trab'!E:I,5,FALSE),\"\")","v":""},{"$f":"IFERROR(VLOOKUP(A293,'SLA Cobr'!E:I,5,FALSE),\"\")","v":""}]
[{"$f":"IFERROR(IF(Trello!E293=\"\",\"\",Trello!E293),\" \")","v":""},{"$f":"IF($A294=\"\",\"\",IF(Trello!A293=\"\",B293,Trello!A293))","v":""},"",{"$f":"IF($A294=\"\",\"\",SUBSTITUTE(SUBSTITUTE(Trello!J293,\" days\",\"\"),\"⌚ \",\"\")*1)","v":""},{"$f":"IFERROR(IF($A294=\"\",\"\",SUBSTITUTE(SUBSTITUTE(SUBSTITUTE(INDIRECT(\"Trello!\"&ADDRESS(ROW()-1, E$1, 4)),\"Foreign: \",\"\"),\" $\",\"\"),\".\",\"\")*1),\"\")","v":""},{"$f":"IF($E294=\"\",IFERROR(IF($A294=\"\",\"\",SUBSTITUTE(SUBSTITUTE(SUBSTITUTE(INDIRECT(\"Trello!\"&ADDRESS(ROW()-1, F$1, 4)),\"MXN: \",\"\"),\" MX$\",\"\"),\".\",\"\")*1),\"\"),E294*F$2)","v":""},{"$f":"IFERROR(IF($A294=\"\",\"\",SUBSTITUTE(SUBSTITUTE(SUBSTITUTE(INDIRECT(\"Trello!\"&ADDRESS(ROW()-1, G$1, 4)),\"Debt: \",\"\"),\" $\",\"\"),\".\",\"\")*1)*IF(E294=\"\",1,F$2),\"\")","v":""},{"$f":"IFERROR(IF($A294=\"\",\"\",SUBSTITUTE(SUBSTITUTE(SUBSTITUTE(INDIRECT(\"Trello!\"&ADDRESS(ROW()-1, H$1, 4)),\"Cost: \",\"\"),\" $\",\"\"),\".\",\"\")*1*$F$2),\"\")","v":""},"",{"$f":"IFERROR(SUBSTITUTE(SUBSTITUTE(SUBSTITUTE(RIGHT(INDIRECT(\"Trello!\"&ADDRESS(ROW()-1, L$1, 4)),LEN(INDIRECT(\"Trello!\"&ADDRESS(ROW()-1, L$1, 4)))-15),\". \",\"/\"),\" 20\",\"/20\"),\" \",\"\"),\"\")","v":""},{"$f":"IFERROR(SUBSTITUTE(SUBSTITUTE(SUBSTITUTE(RIGHT(INDIRECT(\"Trello!\"&ADDRESS(ROW()-1, M$1, 4)),LEN(INDIRECT(\"Trello!\"&ADDRESS(ROW()-1, M$1, 4)))-15),\". \",\"/\"),\" 20\",\"/20\"),\" \",\"\"),\"\")","v":""},"","","",{"$f":"IFERROR(SUBSTITUTE(INDIRECT(\"Trello!\"&ADDRESS(ROW()-1, O$1, 4)),\"Estimate hrs: \",\"\")*1,\"\")","v":""},{"$f":"IF(SUMIF(Timecamp!C:C,Reporte!A294,Timecamp!J:J)=0,\"\",SUMIF(Timecamp!C:C,Reporte!A294,Timecamp!J:J))","v":""},"","",{"$f":"IFERROR(VLOOKUP(A294,'SLA Trab'!E:I,5,FALSE),\"\")","v":""},{"$f":"IFERROR(VLOOKUP(A294,'SLA Cobr'!E:I,5,FALSE),\"\")","v":""}]
[{"$f":"IFERROR(IF(Trello!E294=\"\",\"\",Trello!E294),\" \")","v":""},{"$f":"IF($A295=\"\",\"\",IF(Trello!A294=\"\",B294,Trello!A294))","v":""},"",{"$f":"IF($A295=\"\",\"\",SUBSTITUTE(SUBSTITUTE(Trello!J294,\" days\",\"\"),\"⌚ \",\"\")*1)","v":""},{"$f":"IFERROR(IF($A295=\"\",\"\",SUBSTITUTE(SUBSTITUTE(SUBSTITUTE(INDIRECT(\"Trello!\"&ADDRESS(ROW()-1, E$1, 4)),\"Foreign: \",\"\"),\" $\",\"\"),\".\",\"\")*1),\"\")","v":""},{"$f":"IF($E295=\"\",IFERROR(IF($A295=\"\",\"\",SUBSTITUTE(SUBSTITUTE(SUBSTITUTE(INDIRECT(\"Trello!\"&ADDRESS(ROW()-1, F$1, 4)),\"MXN: \",\"\"),\" MX$\",\"\"),\".\",\"\")*1),\"\"),E295*F$2)","v":""},{"$f":"IFERROR(IF($A295=\"\",\"\",SUBSTITUTE(SUBSTITUTE(SUBSTITUTE(INDIRECT(\"Trello!\"&ADDRESS(ROW()-1, G$1, 4)),\"Debt: \",\"\"),\" $\",\"\"),\".\",\"\")*1)*IF(E295=\"\",1,F$2),\"\")","v":""},{"$f":"IFERROR(IF($A295=\"\",\"\",SUBSTITUTE(SUBSTITUTE(SUBSTITUTE(INDIRECT(\"Trello!\"&ADDRESS(ROW()-1, H$1, 4)),\"Cost: \",\"\"),\" $\",\"\"),\".\",\"\")*1*$F$2),\"\")","v":""},"",{"$f":"IFERROR(SUBSTITUTE(SUBSTITUTE(SUBSTITUTE(RIGHT(INDIRECT(\"Trello!\"&ADDRESS(ROW()-1, L$1, 4)),LEN(INDIRECT(\"Trello!\"&ADDRESS(ROW()-1, L$1, 4)))-15),\". \",\"/\"),\" 20\",\"/20\"),\" \",\"\"),\"\")","v":""},{"$f":"IFERROR(SUBSTITUTE(SUBSTITUTE(SUBSTITUTE(RIGHT(INDIRECT(\"Trello!\"&ADDRESS(ROW()-1, M$1, 4)),LEN(INDIRECT(\"Trello!\"&ADDRESS(ROW()-1, M$1, 4)))-15),\". \",\"/\"),\" 20\",\"/20\"),\" \",\"\"),\"\")","v":""},"","","",{"$f":"IFERROR(SUBSTITUTE(INDIRECT(\"Trello!\"&ADDRESS(ROW()-1, O$1, 4)),\"Estimate hrs: \",\"\")*1,\"\")","v":""},{"$f":"IF(SUMIF(Timecamp!C:C,Reporte!A295,Timecamp!J:J)=0,\"\",SUMIF(Timecamp!C:C,Reporte!A295,Timecamp!J:J))","v":""},"","",{"$f":"IFERROR(VLOOKUP(A295,'SLA Trab'!E:I,5,FALSE),\"\")","v":""},{"$f":"IFERROR(VLOOKUP(A295,'SLA Cobr'!E:I,5,FALSE),\"\")","v":""}]
[{"$f":"IFERROR(IF(Trello!E295=\"\",\"\",Trello!E295),\" \")","v":""},{"$f":"IF($A296=\"\",\"\",IF(Trello!A295=\"\",B295,Trello!A295))","v":""},"",{"$f":"IF($A296=\"\",\"\",SUBSTITUTE(SUBSTITUTE(Trello!J295,\" days\",\"\"),\"⌚ \",\"\")*1)","v":""},{"$f":"IFERROR(IF($A296=\"\",\"\",SUBSTITUTE(SUBSTITUTE(SUBSTITUTE(INDIRECT(\"Trello!\"&ADDRESS(ROW()-1, E$1, 4)),\"Foreign: \",\"\"),\" $\",\"\"),\".\",\"\")*1),\"\")","v":""},{"$f":"IF($E296=\"\",IFERROR(IF($A296=\"\",\"\",SUBSTITUTE(SUBSTITUTE(SUBSTITUTE(INDIRECT(\"Trello!\"&ADDRESS(ROW()-1, F$1, 4)),\"MXN: \",\"\"),\" MX$\",\"\"),\".\",\"\")*1),\"\"),E296*F$2)","v":""},{"$f":"IFERROR(IF($A296=\"\",\"\",SUBSTITUTE(SUBSTITUTE(SUBSTITUTE(INDIRECT(\"Trello!\"&ADDRESS(ROW()-1, G$1, 4)),\"Debt: \",\"\"),\" $\",\"\"),\".\",\"\")*1)*IF(E296=\"\",1,F$2),\"\")","v":""},{"$f":"IFERROR(IF($A296=\"\",\"\",SUBSTITUTE(SUBSTITUTE(SUBSTITUTE(INDIRECT(\"Trello!\"&ADDRESS(ROW()-1, H$1, 4)),\"Cost: \",\"\"),\" $\",\"\"),\".\",\"\")*1*$F$2),\"\")","v":""},"",{"$f":"IFERROR(SUBSTITUTE(SUBSTITUTE(SUBSTITUTE(RIGHT(INDIRECT(\"Trello!\"&ADDRESS(ROW()-1, L$1, 4)),LEN(INDIRECT(\"Trello!\"&ADDRESS(ROW()-1, L$1, 4)))-15),\". \",\"/\"),\" 20\",\"/20\"),\" \",\"\"),\"\")","v":""},{"$f":"IFERROR(SUBSTITUTE(SUBSTITUTE(SUBSTITUTE(RIGHT(INDIRECT(\"Trello!\"&ADDRESS(ROW()-1, M$1, 4)),LEN(INDIRECT(\"Trello!\"&ADDRESS(ROW()-1, M$1, 4)))-15),\". \",\"/\"),\" 20\",\"/20\"),\" \",\"\"),\"\")","v":""},"","","",{"$f":"IFERROR(SUBSTITUTE(INDIRECT(\"Trello!\"&ADDRESS(ROW()-1, O$1, 4)),\"Estimate hrs: \",\"\")*1,\"\")","v":""},{"$f":"IF(SUMIF(Timecamp!C:C,Reporte!A296,Timecamp!J:J)=0,\"\",SUMIF(Timecamp!C:C,Reporte!A296,Timecamp!J:J))","v":""},"","",{"$f":"IFERROR(VLOOKUP(A296,'SLA Trab'!E:I,5,FALSE),\"\")","v":""},{"$f":"IFERROR(VLOOKUP(A296,'SLA Cobr'!E:I,5,FALSE),\"\")","v":""}]
[{"$f":"IFERROR(IF(Trello!E296=\"\",\"\",Trello!E296),\" \")","v":""},{"$f":"IF($A297=\"\",\"\",IF(Trello!A296=\"\",B296,Trello!A296))","v":""},"",{"$f":"IF($A297=\"\",\"\",SUBSTITUTE(SUBSTITUTE(Trello!J296,\" days\",\"\"),\"⌚ \",\"\")*1)","v":""},{"$f":"IFERROR(IF($A297=\"\",\"\",SUBSTITUTE(SUBSTITUTE(SUBSTITUTE(INDIRECT(\"Trello!\"&ADDRESS(ROW()-1, E$1, 4)),\"Foreign: \",\"\"),\" $\",\"\"),\".\",\"\")*1),\"\")","v":""},{"$f":"IF($E297=\"\",IFERROR(IF($A297=\"\",\"\",SUBSTITUTE(SUBSTITUTE(SUBSTITUTE(INDIRECT(\"Trello!\"&ADDRESS(ROW()-1, F$1, 4)),\"MXN: \",\"\"),\" MX$\",\"\"),\".\",\"\")*1),\"\"),E297*F$2)","v":""},{"$f":"IFERROR(IF($A297=\"\",\"\",SUBSTITUTE(SUBSTITUTE(SUBSTITUTE(INDIRECT(\"Trello!\"&ADDRESS(ROW()-1, G$1, 4)),\"Debt: \",\"\"),\" $\",\"\"),\".\",\"\")*1)*IF(E297=\"\",1,F$2),\"\")","v":""},{"$f":"IFERROR(IF($A297=\"\",\"\",SUBSTITUTE(SUBSTITUTE(SUBSTITUTE(INDIRECT(\"Trello!\"&ADDRESS(ROW()-1, H$1, 4)),\"Cost: \",\"\"),\" $\",\"\"),\".\",\"\")*1*$F$2),\"\")","v":""},"",{"$f":"IFERROR(SUBSTITUTE(SUBSTITUTE(SUBSTITUTE(RIGHT(INDIRECT(\"Trello!\"&ADDRESS(ROW()-1, L$1, 4)),LEN(INDIRECT(\"Trello!\"&ADDRESS(ROW()-1, L$1, 4)))-15),\". \",\"/\"),\" 20\",\"/20\"),\" \",\"\"),\"\")","v":""},{"$f":"IFERROR(SUBSTITUTE(SUBSTITUTE(SUBSTITUTE(RIGHT(INDIRECT(\"Trello!\"&ADDRESS(ROW()-1, M$1, 4)),LEN(INDIRECT(\"Trello!\"&ADDRESS(ROW()-1, M$1, 4)))-15),\". \",\"/\"),\" 20\",\"/20\"),\" \",\"\"),\"\")","v":""},"","","",{"$f":"IFERROR(SUBSTITUTE(INDIRECT(\"Trello!\"&ADDRESS(ROW()-1, O$1, 4)),\"Estimate hrs: \",\"\")*1,\"\")","v":""},{"$f":"IF(SUMIF(Timecamp!C:C,Reporte!A297,Timecamp!J:J)=0,\"\",SUMIF(Timecamp!C:C,Reporte!A297,Timecamp!J:J))","v":""},"","",{"$f":"IFERROR(VLOOKUP(A297,'SLA Trab'!E:I,5,FALSE),\"\")","v":""},{"$f":"IFERROR(VLOOKUP(A297,'SLA Cobr'!E:I,5,FALSE),\"\")","v":""}]
[{"$f":"IFERROR(IF(Trello!E297=\"\",\"\",Trello!E297),\" \")","v":""},{"$f":"IF($A298=\"\",\"\",IF(Trello!A297=\"\",B297,Trello!A297))","v":""},"",{"$f":"IF($A298=\"\",\"\",SUBSTITUTE(SUBSTITUTE(Trello!J297,\" days\",\"\"),\"⌚ \",\"\")*1)","v":""},{"$f":"IFERROR(IF($A298=\"\",\"\",SUBSTITUTE(SUBSTITUTE(SUBSTITUTE(INDIRECT(\"Trello!\"&ADDRESS(ROW()-1, E$1, 4)),\"Foreign: \",\"\"),\" $\",\"\"),\".\",\"\")*1),\"\")","v":""},{"$f":"IF($E298=\"\",IFERROR(IF($A298=\"\",\"\",SUBSTITUTE(SUBSTITUTE(SUBSTITUTE(INDIRECT(\"Trello!\"&ADDRESS(ROW()-1, F$1, 4)),\"MXN: \",\"\"),\" MX$\",\"\"),\".\",\"\")*1),\"\"),E298*F$2)","v":""},{"$f":"IFERROR(IF($A298=\"\",\"\",SUBSTITUTE(SUBSTITUTE(SUBSTITUTE(INDIRECT(\"Trello!\"&ADDRESS(ROW()-1, G$1, 4)),\"Debt: \",\"\"),\" $\",\"\"),\".\",\"\")*1)*IF(E298=\"\",1,F$2),\"\")","v":""},{"$f":"IFERROR(IF($A298=\"\",\"\",SUBSTITUTE(SUBSTITUTE(SUBSTITUTE(INDIRECT(\"Trello!\"&ADDRESS(ROW()-1, H$1, 4)),\"Cost: \",\"\"),\" $\",\"\"),\".\",\"\")*1*$F$2),\"\")","v":""},"",{"$f":"IFERROR(SUBSTITUTE(SUBSTITUTE(SUBSTITUTE(RIGHT(INDIRECT(\"Trello!\"&ADDRESS(ROW()-1, L$1, 4)),LEN(INDIRECT(\"Trello!\"&ADDRESS(ROW()-1, L$1, 4)))-15),\". \",\"/\"),\" 20\",\"/20\"),\" \",\"\"),\"\")","v":""},{"$f":"IFERROR(SUBSTITUTE(SUBSTITUTE(SUBSTITUTE(RIGHT(INDIRECT(\"Trello!\"&ADDRESS(ROW()-1, M$1, 4)),LEN(INDIRECT(\"Trello!\"&ADDRESS(ROW()-1, M$1, 4)))-15),\". \",\"/\"),\" 20\",\"/20\"),\" \",\"\"),\"\")","v":""},"","","",{"$f":"IFERROR(SUBSTITUTE(INDIRECT(\"Trello!\"&ADDRESS(ROW()-1, O$1, 4)),\"Estimate hrs: \",\"\")*1,\"\")","v":""},{"$f":"IF(SUMIF(Timecamp!C:C,Reporte!A298,Timecamp!J:J)=0,\"\",SUMIF(Timecamp!C:C,Reporte!A298,Timecamp!J:J))","v":""},"","",{"$f":"IFERROR(VLOOKUP(A298,'SLA Trab'!E:I,5,FALSE),\"\")","v":""},{"$f":"IFERROR(VLOOKUP(A298,'SLA Cobr'!E:I,5,FALSE),\"\")","v":""}]
[{"$f":"IFERROR(IF(Trello!E298=\"\",\"\",Trello!E298),\" \")","v":""},{"$f":"IF($A299=\"\",\"\",IF(Trello!A298=\"\",B298,Trello!A298))","v":""},"",{"$f":"IF($A299=\"\",\"\",SUBSTITUTE(SUBSTITUTE(Trello!J298,\" days\",\"\"),\"⌚ \",\"\")*1)","v":""},{"$f":"IFERROR(IF($A299=\"\",\"\",SUBSTITUTE(SUBSTITUTE(SUBSTITUTE(INDIRECT(\"Trello!\"&ADDRESS(ROW()-1, E$1, 4)),\"Foreign: \",\"\"),\" $\",\"\"),\".\",\"\")*1),\"\")","v":""},{"$f":"IF($E299=\"\",IFERROR(IF($A299=\"\",\"\",SUBSTITUTE(SUBSTITUTE(SUBSTITUTE(INDIRECT(\"Trello!\"&ADDRESS(ROW()-1, F$1, 4)),\"MXN: \",\"\"),\" MX$\",\"\"),\".\",\"\")*1),\"\"),E299*F$2)","v":""},{"$f":"IFERROR(IF($A299=\"\",\"\",SUBSTITUTE(SUBSTITUTE(SUBSTITUTE(INDIRECT(\"Trello!\"&ADDRESS(ROW()-1, G$1, 4)),\"Debt: \",\"\"),\" $\",\"\"),\".\",\"\")*1)*IF(E299=\"\",1,F$2),\"\")","v":""},{"$f":"IFERROR(IF($A299=\"\",\"\",SUBSTITUTE(SUBSTITUTE(SUBSTITUTE(INDIRECT(\"Trello!\"&ADDRESS(ROW()-1, H$1, 4)),\"Cost: \",\"\"),\" $\",\"\"),\".\",\"\")*1*$F$2),\"\")","v":""},"",{"$f":"IFERROR(SUBSTITUTE(SUBSTITUTE(SUBSTITUTE(RIGHT(INDIRECT(\"Trello!\"&ADDRESS(ROW()-1, L$1, 4)),LEN(INDIRECT(\"Trello!\"&ADDRESS(ROW()-1, L$1, 4)))-15),\". \",\"/\"),\" 20\",\"/20\"),\" \",\"\"),\"\")","v":""},{"$f":"IFERROR(SUBSTITUTE(SUBSTITUTE(SUBSTITUTE(RIGHT(INDIRECT(\"Trello!\"&ADDRESS(ROW()-1, M$1, 4)),LEN(INDIRECT(\"Trello!\"&ADDRESS(ROW()-1, M$1, 4)))-15),\". \",\"/\"),\" 20\",\"/20\"),\" \",\"\"),\"\")","v":""},"","","",{"$f":"IFERROR(SUBSTITUTE(INDIRECT(\"Trello!\"&ADDRESS(ROW()-1, O$1, 4)),\"Estimate hrs: \",\"\")*1,\"\")","v":""},{"$f":"IF(SUMIF(Timecamp!C:C,Reporte!A299,Timecamp!J:J)=0,\"\",SUMIF(Timecamp!C:C,Reporte!A299,Timecamp!J:J))","v":""},"","",{"$f":"IFERROR(VLOOKUP(A299,'SLA Trab'!E:I,5,FALSE),\"\")","v":""},{"$f":"IFERROR(VLOOKUP(A299,'SLA Cobr'!E:I,5,FALSE),\"\")","v":""}]
[{"$f":"IFERROR(IF(Trello!E299=\"\",\"\",Trello!E299),\" \")","v":""},{"$f":"IF($A300=\"\",\"\",IF(Trello!A299=\"\",B299,Trello!A299))","v":""},"",{"$f":"IF($A300=\"\",\"\",SUBSTITUTE(SUBSTITUTE(Trello!J299,\" days\",\"\"),\"⌚ \",\"\")*1)","v":""},{"$f":"IFERROR(IF($A300=\"\",\"\",SUBSTITUTE(SUBSTITUTE(SUBSTITUTE(INDIRECT(\"Trello!\"&ADDRESS(ROW()-1, E$1, 4)),\"Foreign: \",\"\"),\" $\",\"\"),\".\",\"\")*1),\"\")","v":""},{"$f":"IF($E300=\"\",IFERROR(IF($A300=\"\",\"\",SUBSTITUTE(SUBSTITUTE(SUBSTITUTE(INDIRECT(\"Trello!\"&ADDRESS(ROW()-1, F$1, 4)),\"MXN: \",\"\"),\" MX$\",\"\"),\".\",\"\")*1),\"\"),E300*F$2)","v":""},{"$f":"IFERROR(IF($A300=\"\",\"\",SUBSTITUTE(SUBSTITUTE(SUBSTITUTE(INDIRECT(\"Trello!\"&ADDRESS(ROW()-1, G$1, 4)),\"Debt: \",\"\"),\" $\",\"\"),\".\",\"\")*1)*IF(E300=\"\",1,F$2),\"\")","v":""},{"$f":"IFERROR(IF($A300=\"\",\"\",SUBSTITUTE(SUBSTITUTE(SUBSTITUTE(INDIRECT(\"Trello!\"&ADDRESS(ROW()-1, H$1, 4)),\"Cost: \",\"\"),\" $\",\"\"),\".\",\"\")*1*$F$2),\"\")","v":""},"",{"$f":"IFERROR(SUBSTITUTE(SUBSTITUTE(SUBSTITUTE(RIGHT(INDIRECT(\"Trello!\"&ADDRESS(ROW()-1, L$1, 4)),LEN(INDIRECT(\"Trello!\"&ADDRESS(ROW()-1, L$1, 4)))-15),\". \",\"/\"),\" 20\",\"/20\"),\" \",\"\"),\"\")","v":""},{"$f":"IFERROR(SUBSTITUTE(SUBSTITUTE(SUBSTITUTE(RIGHT(INDIRECT(\"Trello!\"&ADDRESS(ROW()-1, M$1, 4)),LEN(INDIRECT(\"Trello!\"&ADDRESS(ROW()-1, M$1, 4)))-15),\". \",\"/\"),\" 20\",\"/20\"),\" \",\"\"),\"\")","v":""},"","","",{"$f":"IFERROR(SUBSTITUTE(INDIRECT(\"Trello!\"&ADDRESS(ROW()-1, O$1, 4)),\"Estimate hrs: \",\"\")*1,\"\")","v":""},{"$f":"IF(SUMIF(Timecamp!C:C,Reporte!A300,Timecamp!J:J)=0,\"\",SUMIF(Timecamp!C:C,Reporte!A300,Timecamp!J:J))","v":""},"","",{"$f":"IFERROR(VLOOKUP(A300,'SLA Trab'!E:I,5,FALSE),\"\")","v":""},{"$f":"IFERROR(VLOOKUP(A300,'SLA Cobr'!E:I,5,FALSE),\"\")","v":""}]
[{"$f":"IFERROR(IF(Trello!E300=\"\",\"\",Trello!E300),\" \")","v":""},{"$f":"IF($A301=\"\",\"\",IF(Trello!A300=\"\",B300,Trello!A300))","v":""},"",{"$f":"IF($A301=\"\",\"\",SUBSTITUTE(SUBSTITUTE(Trello!J300,\" days\",\"\"),\"⌚ \",\"\")*1)","v":""},{"$f":"IFERROR(IF($A301=\"\",\"\",SUBSTITUTE(SUBSTITUTE(SUBSTITUTE(INDIRECT(\"Trello!\"&ADDRESS(ROW()-1, E$1, 4)),\"Foreign: \",\"\"),\" $\",\"\"),\".\",\"\")*1),\"\")","v":""},{"$f":"IF($E301=\"\",IFERROR(IF($A301=\"\",\"\",SUBSTITUTE(SUBSTITUTE(SUBSTITUTE(INDIRECT(\"Trello!\"&ADDRESS(ROW()-1, F$1, 4)),\"MXN: \",\"\"),\" MX$\",\"\"),\".\",\"\")*1),\"\"),E301*F$2)","v":""},{"$f":"IFERROR(IF($A301=\"\",\"\",SUBSTITUTE(SUBSTITUTE(SUBSTITUTE(INDIRECT(\"Trello!\"&ADDRESS(ROW()-1, G$1, 4)),\"Debt: \",\"\"),\" $\",\"\"),\".\",\"\")*1)*IF(E301=\"\",1,F$2),\"\")","v":""},{"$f":"IFERROR(IF($A301=\"\",\"\",SUBSTITUTE(SUBSTITUTE(SUBSTITUTE(INDIRECT(\"Trello!\"&ADDRESS(ROW()-1, H$1, 4)),\"Cost: \",\"\"),\" $\",\"\"),\".\",\"\")*1*$F$2),\"\")","v":""},"",{"$f":"IFERROR(SUBSTITUTE(SUBSTITUTE(SUBSTITUTE(RIGHT(INDIRECT(\"Trello!\"&ADDRESS(ROW()-1, L$1, 4)),LEN(INDIRECT(\"Trello!\"&ADDRESS(ROW()-1, L$1, 4)))-15),\". \",\"/\"),\" 20\",\"/20\"),\" \",\"\"),\"\")","v":""},{"$f":"IFERROR(SUBSTITUTE(SUBSTITUTE(SUBSTITUTE(RIGHT(INDIRECT(\"Trello!\"&ADDRESS(ROW()-1, M$1, 4)),LEN(INDIRECT(\"Trello!\"&ADDRESS(ROW()-1, M$1, 4)))-15),\". \",\"/\"),\" 20\",\"/20\"),\" \",\"\"),\"\")","v":""},"","","",{"$f":"IFERROR(SUBSTITUTE(INDIRECT(\"Trello!\"&ADDRESS(ROW()-1, O$1, 4)),\"Estimate hrs: \",\"\")*1,\"\")","v":""},{"$f":"IF(SUMIF(Timecamp!C:C,Reporte!A301,Timecamp!J:J)=0,\"\",SUMIF(Timecamp!C:C,Reporte!A301,Timecamp!J:J))","v":""},"","",{"$f":"IFERROR(VLOOKUP(A301,'SLA Trab'!E:I,5,FALSE),\"\")","v":""},{"$f":"IFERROR(VLOOKUP(A301,'SLA Cobr'!E:I,5,FALSE),\"\")","v":""}]
[{"$f":"IFERROR(IF(Trello!E301=\"\",\"\",Trello!E301),\" \")","v":""},{"$f":"IF($A302=\"\",\"\",IF(Trello!A301=\"\",B301,Trello!A301))","v":""},"",{"$f":"IF($A302=\"\",\"\",SUBSTITUTE(SUBSTITUTE(Trello!J301,\" days\",\"\"),\"⌚ \",\"\")*1)","v":""},{"$f":"IFERROR(IF($A302=\"\",\"\",SUBSTITUTE(SUBSTITUTE(SUBSTITUTE(INDIRECT(\"Trello!\"&ADDRESS(ROW()-1, E$1, 4)),\"Foreign: \",\"\"),\" $\",\"\"),\".\",\"\")*1),\"\")","v":""},{"$f":"IF($E302=\"\",IFERROR(IF($A302=\"\",\"\",SUBSTITUTE(SUBSTITUTE(SUBSTITUTE(INDIRECT(\"Trello!\"&ADDRESS(ROW()-1, F$1, 4)),\"MXN: \",\"\"),\" MX$\",\"\"),\".\",\"\")*1),\"\"),E302*F$2)","v":""},{"$f":"IFERROR(IF($A302=\"\",\"\",SUBSTITUTE(SUBSTITUTE(SUBSTITUTE(INDIRECT(\"Trello!\"&ADDRESS(ROW()-1, G$1, 4)),\"Debt: \",\"\"),\" $\",\"\"),\".\",\"\")*1)*IF(E302=\"\",1,F$2),\"\")","v":""},{"$f":"IFERROR(IF($A302=\"\",\"\",SUBSTITUTE(SUBSTITUTE(SUBSTITUTE(INDIRECT(\"Trello!\"&ADDRESS(ROW()-1, H$1, 4)),\"Cost: \",\"\"),\" $\",\"\"),\".\",\"\")*1*$F$2),\"\")","v":""},"",{"$f":"IFERROR(SUBSTITUTE(SUBSTITUTE(SUBSTITUTE(RIGHT(INDIRECT(\"Trello!\"&ADDRESS(ROW()-1, L$1, 4)),LEN(INDIRECT(\"Trello!\"&ADDRESS(ROW()-1, L$1, 4)))-15),\". \",\"/\"),\" 20\",\"/20\"),\" \",\"\"),\"\")","v":""},{"$f":"IFERROR(SUBSTITUTE(SUBSTITUTE(SUBSTITUTE(RIGHT(INDIRECT(\"Trello!\"&ADDRESS(ROW()-1, M$1, 4)),LEN(INDIRECT(\"Trello!\"&ADDRESS(ROW()-1, M$1, 4)))-15),\". \",\"/\"),\" 20\",\"/20\"),\" \",\"\"),\"\")","v":""},"","","",{"$f":"IFERROR(SUBSTITUTE(INDIRECT(\"Trello!\"&ADDRESS(ROW()-1, O$1, 4)),\"Estimate hrs: \",\"\")*1,\"\")","v":""},{"$f":"IF(SUMIF(Timecamp!C:C,Reporte!A302,Timecamp!J:J)=0,\"\",SUMIF(Timecamp!C:C,Reporte!A302,Timecamp!J:J))","v":""},"","",{"$f":"IFERROR(VLOOKUP(A302,'SLA Trab'!E:I,5,FALSE),\"\")","v":""},{"$f":"IFERROR(VLOOKUP(A302,'SLA Cobr'!E:I,5,FALSE),\"\")","v":""}]
[{"$f":"IFERROR(IF(Trello!E302=\"\",\"\",Trello!E302),\" \")","v":""},{"$f":"IF($A303=\"\",\"\",IF(Trello!A302=\"\",B302,Trello!A302))","v":""},"",{"$f":"IF($A303=\"\",\"\",SUBSTITUTE(SUBSTITUTE(Trello!J302,\" days\",\"\"),\"⌚ \",\"\")*1)","v":""},{"$f":"IFERROR(IF($A303=\"\",\"\",SUBSTITUTE(SUBSTITUTE(SUBSTITUTE(INDIRECT(\"Trello!\"&ADDRESS(ROW()-1, E$1, 4)),\"Foreign: \",\"\"),\" $\",\"\"),\".\",\"\")*1),\"\")","v":""},{"$f":"IF($E303=\"\",IFERROR(IF($A303=\"\",\"\",SUBSTITUTE(SUBSTITUTE(SUBSTITUTE(INDIRECT(\"Trello!\"&ADDRESS(ROW()-1, F$1, 4)),\"MXN: \",\"\"),\" MX$\",\"\"),\".\",\"\")*1),\"\"),E303*F$2)","v":""},{"$f":"IFERROR(IF($A303=\"\",\"\",SUBSTITUTE(SUBSTITUTE(SUBSTITUTE(INDIRECT(\"Trello!\"&ADDRESS(ROW()-1, G$1, 4)),\"Debt: \",\"\"),\" $\",\"\"),\".\",\"\")*1)*IF(E303=\"\",1,F$2),\"\")","v":""},{"$f":"IFERROR(IF($A303=\"\",\"\",SUBSTITUTE(SUBSTITUTE(SUBSTITUTE(INDIRECT(\"Trello!\"&ADDRESS(ROW()-1, H$1, 4)),\"Cost: \",\"\"),\" $\",\"\"),\".\",\"\")*1*$F$2),\"\")","v":""},"",{"$f":"IFERROR(SUBSTITUTE(SUBSTITUTE(SUBSTITUTE(RIGHT(INDIRECT(\"Trello!\"&ADDRESS(ROW()-1, L$1, 4)),LEN(INDIRECT(\"Trello!\"&ADDRESS(ROW()-1, L$1, 4)))-15),\". \",\"/\"),\" 20\",\"/20\"),\" \",\"\"),\"\")","v":""},{"$f":"IFERROR(SUBSTITUTE(SUBSTITUTE(SUBSTITUTE(RIGHT(INDIRECT(\"Trello!\"&ADDRESS(ROW()-1, M$1, 4)),LEN(INDIRECT(\"Trello!\"&ADDRESS(ROW()-1, M$1, 4)))-15),\". \",\"/\"),\" 20\",\"/20\"),\" \",\"\"),\"\")","v":""},"","","",{"$f":"IFERROR(SUBSTITUTE(INDIRECT(\"Trello!\"&ADDRESS(ROW()-1, O$1, 4)),\"Estimate hrs: \",\"\")*1,\"\")","v":""},{"$f":"IF(SUMIF(Timecamp!C:C,Reporte!A303,Timecamp!J:J)=0,\"\",SUMIF(Timecamp!C:C,Reporte!A303,Timecamp!J:J))","v":""},"","",{"$f":"IFERROR(VLOOKUP(A303,'SLA Trab'!E:I,5,FALSE),\"\")","v":""},{"$f":"IFERROR(VLOOKUP(A303,'SLA Cobr'!E:I,5,FALSE),\"\")","v":""}]
[{"$f":"IFERROR(IF(Trello!E303=\"\",\"\",Trello!E303),\" \")","v":""},{"$f":"IF($A304=\"\",\"\",IF(Trello!A303=\"\",B303,Trello!A303))","v":""},"",{"$f":"IF($A304=\"\",\"\",SUBSTITUTE(SUBSTITUTE(Trello!J303,\" days\",\"\"),\"⌚ \",\"\")*1)","v":""},{"$f":"IFERROR(IF($A304=\"\",\"\",SUBSTITUTE(SUBSTITUTE(SUBSTITUTE(INDIRECT(\"Trello!\"&ADDRESS(ROW()-1, E$1, 4)),\"Foreign: \",\"\"),\" $\",\"\"),\".\",\"\")*1),\"\")","v":""},{"$f":"IF($E304=\"\",IFERROR(IF($A304=\"\",\"\",SUBSTITUTE(SUBSTITUTE(SUBSTITUTE(INDIRECT(\"Trello!\"&ADDRESS(ROW()-1, F$1, 4)),\"MXN: \",\"\"),\" MX$\",\"\"),\".\",\"\")*1),\"\"),E304*F$2)","v":""},{"$f":"IFERROR(IF($A304=\"\",\"\",SUBSTITUTE(SUBSTITUTE(SUBSTITUTE(INDIRECT(\"Trello!\"&ADDRESS(ROW()-1, G$1, 4)),\"Debt: \",\"\"),\" $\",\"\"),\".\",\"\")*1)*IF(E304=\"\",1,F$2),\"\")","v":""},{"$f":"IFERROR(IF($A304=\"\",\"\",SUBSTITUTE(SUBSTITUTE(SUBSTITUTE(INDIRECT(\"Trello!\"&ADDRESS(ROW()-1, H$1, 4)),\"Cost: \",\"\"),\" $\",\"\"),\".\",\"\")*1*$F$2),\"\")","v":""},"",{"$f":"IFERROR(SUBSTITUTE(SUBSTITUTE(SUBSTITUTE(RIGHT(INDIRECT(\"Trello!\"&ADDRESS(ROW()-1, L$1, 4)),LEN(INDIRECT(\"Trello!\"&ADDRESS(ROW()-1, L$1, 4)))-15),\". \",\"/\"),\" 20\",\"/20\"),\" \",\"\"),\"\")","v":""},{"$f":"IFERROR(SUBSTITUTE(SUBSTITUTE(SUBSTITUTE(RIGHT(INDIRECT(\"Trello!\"&ADDRESS(ROW()-1, M$1, 4)),LEN(INDIRECT(\"Trello!\"&ADDRESS(ROW()-1, M$1, 4)))-15),\". \",\"/\"),\" 20\",\"/20\"),\" \",\"\"),\"\")","v":""},"","","",{"$f":"IFERROR(SUBSTITUTE(INDIRECT(\"Trello!\"&ADDRESS(ROW()-1, O$1, 4)),\"Estimate hrs: \",\"\")*1,\"\")","v":""},{"$f":"IF(SUMIF(Timecamp!C:C,Reporte!A304,Timecamp!J:J)=0,\"\",SUMIF(Timecamp!C:C,Reporte!A304,Timecamp!J:J))","v":""},"","",{"$f":"IFERROR(VLOOKUP(A304,'SLA Trab'!E:I,5,FALSE),\"\")","v":""},{"$f":"IFERROR(VLOOKUP(A304,'SLA Cobr'!E:I,5,FALSE),\"\")","v":""}]
[{"$f":"IFERROR(IF(Trello!E304=\"\",\"\",Trello!E304),\" \")","v":""},{"$f":"IF($A305=\"\",\"\",IF(Trello!A304=\"\",B304,Trello!A304))","v":""},"",{"$f":"IF($A305=\"\",\"\",SUBSTITUTE(SUBSTITUTE(Trello!J304,\" days\",\"\"),\"⌚ \",\"\")*1)","v":""},{"$f":"IFERROR(IF($A305=\"\",\"\",SUBSTITUTE(SUBSTITUTE(SUBSTITUTE(INDIRECT(\"Trello!\"&ADDRESS(ROW()-1, E$1, 4)),\"Foreign: \",\"\"),\" $\",\"\"),\".\",\"\")*1),\"\")","v":""},{"$f":"IF($E305=\"\",IFERROR(IF($A305=\"\",\"\",SUBSTITUTE(SUBSTITUTE(SUBSTITUTE(INDIRECT(\"Trello!\"&ADDRESS(ROW()-1, F$1, 4)),\"MXN: \",\"\"),\" MX$\",\"\"),\".\",\"\")*1),\"\"),E305*F$2)","v":""},{"$f":"IFERROR(IF($A305=\"\",\"\",SUBSTITUTE(SUBSTITUTE(SUBSTITUTE(INDIRECT(\"Trello!\"&ADDRESS(ROW()-1, G$1, 4)),\"Debt: \",\"\"),\" $\",\"\"),\".\",\"\")*1)*IF(E305=\"\",1,F$2),\"\")","v":""},{"$f":"IFERROR(IF($A305=\"\",\"\",SUBSTITUTE(SUBSTITUTE(SUBSTITUTE(INDIRECT(\"Trello!\"&ADDRESS(ROW()-1, H$1, 4)),\"Cost: \",\"\"),\" $\",\"\"),\".\",\"\")*1*$F$2),\"\")","v":""},"",{"$f":"IFERROR(SUBSTITUTE(SUBSTITUTE(SUBSTITUTE(RIGHT(INDIRECT(\"Trello!\"&ADDRESS(ROW()-1, L$1, 4)),LEN(INDIRECT(\"Trello!\"&ADDRESS(ROW()-1, L$1, 4)))-15),\". \",\"/\"),\" 20\",\"/20\"),\" \",\"\"),\"\")","v":""},{"$f":"IFERROR(SUBSTITUTE(SUBSTITUTE(SUBSTITUTE(RIGHT(INDIRECT(\"Trello!\"&ADDRESS(ROW()-1, M$1, 4)),LEN(INDIRECT(\"Trello!\"&ADDRESS(ROW()-1, M$1, 4)))-15),\". \",\"/\"),\" 20\",\"/20\"),\" \",\"\"),\"\")","v":""},"","","",{"$f":"IFERROR(SUBSTITUTE(INDIRECT(\"Trello!\"&ADDRESS(ROW()-1, O$1, 4)),\"Estimate hrs: \",\"\")*1,\"\")","v":""},{"$f":"IF(SUMIF(Timecamp!C:C,Reporte!A305,Timecamp!J:J)=0,\"\",SUMIF(Timecamp!C:C,Reporte!A305,Timecamp!J:J))","v":""},"","",{"$f":"IFERROR(VLOOKUP(A305,'SLA Trab'!E:I,5,FALSE),\"\")","v":""},{"$f":"IFERROR(VLOOKUP(A305,'SLA Cobr'!E:I,5,FALSE),\"\")","v":""}]
[{"$f":"IFERROR(IF(Trello!E305=\"\",\"\",Trello!E305),\" \")","v":""},{"$f":"IF($A306=\"\",\"\",IF(Trello!A305=\"\",B305,Trello!A305))","v":""},"",{"$f":"IF($A306=\"\",\"\",SUBSTITUTE(SUBSTITUTE(Trello!J305,\" days\",\"\"),\"⌚ \",\"\")*1)","v":""},{"$f":"IFERROR(IF($A306=\"\",\"\",SUBSTITUTE(SUBSTITUTE(SUBSTITUTE(INDIRECT(\"Trello!\"&ADDRESS(ROW()-1, E$1, 4)),\"Foreign: \",\"\"),\" $\",\"\"),\".\",\"\")*1),\"\")","v":""},{"$f":"IF($E306=\"\",IFERROR(IF($A306=\"\",\"\",SUBSTITUTE(SUBSTITUTE(SUBSTITUTE(INDIRECT(\"Trello!\"&ADDRESS(ROW()-1, F$1, 4)),\"MXN: \",\"\"),\" MX$\",\"\"),\".\",\"\")*1),\"\"),E306*F$2)","v":""},{"$f":"IFERROR(IF($A306=\"\",\"\",SUBSTITUTE(SUBSTITUTE(SUBSTITUTE(INDIRECT(\"Trello!\"&ADDRESS(ROW()-1, G$1, 4)),\"Debt: \",\"\"),\" $\",\"\"),\".\",\"\")*1)*IF(E306=\"\",1,F$2),\"\")","v":""},{"$f":"IFERROR(IF($A306=\"\",\"\",SUBSTITUTE(SUBSTITUTE(SUBSTITUTE(INDIRECT(\"Trello!\"&ADDRESS(ROW()-1, H$1, 4)),\"Cost: \",\"\"),\" $\",\"\"),\".\",\"\")*1*$F$2),\"\")","v":""},"",{"$f":"IFERROR(SUBSTITUTE(SUBSTITUTE(SUBSTITUTE(RIGHT(INDIRECT(\"Trello!\"&ADDRESS(ROW()-1, L$1, 4)),LEN(INDIRECT(\"Trello!\"&ADDRESS(ROW()-1, L$1, 4)))-15),\". \",\"/\"),\" 20\",\"/20\"),\" \",\"\"),\"\")","v":""},{"$f":"IFERROR(SUBSTITUTE(SUBSTITUTE(SUBSTITUTE(RIGHT(INDIRECT(\"Trello!\"&ADDRESS(ROW()-1, M$1, 4)),LEN(INDIRECT(\"Trello!\"&ADDRESS(ROW()-1, M$1, 4)))-15),\". \",\"/\"),\" 20\",\"/20\"),\" \",\"\"),\"\")","v":""},"","","",{"$f":"IFERROR(SUBSTITUTE(INDIRECT(\"Trello!\"&ADDRESS(ROW()-1, O$1, 4)),\"Estimate hrs: \",\"\")*1,\"\")","v":""},{"$f":"IF(SUMIF(Timecamp!C:C,Reporte!A306,Timecamp!J:J)=0,\"\",SUMIF(Timecamp!C:C,Reporte!A306,Timecamp!J:J))","v":""},"","",{"$f":"IFERROR(VLOOKUP(A306,'SLA Trab'!E:I,5,FALSE),\"\")","v":""},{"$f":"IFERROR(VLOOKUP(A306,'SLA Cobr'!E:I,5,FALSE),\"\")","v":""}]
[{"$f":"IFERROR(IF(Trello!E306=\"\",\"\",Trello!E306),\" \")","v":""},{"$f":"IF($A307=\"\",\"\",IF(Trello!A306=\"\",B306,Trello!A306))","v":""},"",{"$f":"IF($A307=\"\",\"\",SUBSTITUTE(SUBSTITUTE(Trello!J306,\" days\",\"\"),\"⌚ \",\"\")*1)","v":""},{"$f":"IFERROR(IF($A307=\"\",\"\",SUBSTITUTE(SUBSTITUTE(SUBSTITUTE(INDIRECT(\"Trello!\"&ADDRESS(ROW()-1, E$1, 4)),\"Foreign: \",\"\"),\" $\",\"\"),\".\",\"\")*1),\"\")","v":""},{"$f":"IF($E307=\"\",IFERROR(IF($A307=\"\",\"\",SUBSTITUTE(SUBSTITUTE(SUBSTITUTE(INDIRECT(\"Trello!\"&ADDRESS(ROW()-1, F$1, 4)),\"MXN: \",\"\"),\" MX$\",\"\"),\".\",\"\")*1),\"\"),E307*F$2)","v":""},{"$f":"IFERROR(IF($A307=\"\",\"\",SUBSTITUTE(SUBSTITUTE(SUBSTITUTE(INDIRECT(\"Trello!\"&ADDRESS(ROW()-1, G$1, 4)),\"Debt: \",\"\"),\" $\",\"\"),\".\",\"\")*1)*IF(E307=\"\",1,F$2),\"\")","v":""},{"$f":"IFERROR(IF($A307=\"\",\"\",SUBSTITUTE(SUBSTITUTE(SUBSTITUTE(INDIRECT(\"Trello!\"&ADDRESS(ROW()-1, H$1, 4)),\"Cost: \",\"\"),\" $\",\"\"),\".\",\"\")*1*$F$2),\"\")","v":""},"",{"$f":"IFERROR(SUBSTITUTE(SUBSTITUTE(SUBSTITUTE(RIGHT(INDIRECT(\"Trello!\"&ADDRESS(ROW()-1, L$1, 4)),LEN(INDIRECT(\"Trello!\"&ADDRESS(ROW()-1, L$1, 4)))-15),\". \",\"/\"),\" 20\",\"/20\"),\" \",\"\"),\"\")","v":""},{"$f":"IFERROR(SUBSTITUTE(SUBSTITUTE(SUBSTITUTE(RIGHT(INDIRECT(\"Trello!\"&ADDRESS(ROW()-1, M$1, 4)),LEN(INDIRECT(\"Trello!\"&ADDRESS(ROW()-1, M$1, 4)))-15),\". \",\"/\"),\" 20\",\"/20\"),\" \",\"\"),\"\")","v":""},"","","",{"$f":"IFERROR(SUBSTITUTE(INDIRECT(\"Trello!\"&ADDRESS(ROW()-1, O$1, 4)),\"Estimate hrs: \",\"\")*1,\"\")","v":""},{"$f":"IF(SUMIF(Timecamp!C:C,Reporte!A307,Timecamp!J:J)=0,\"\",SUMIF(Timecamp!C:C,Reporte!A307,Timecamp!J:J))","v":""},"","",{"$f":"IFERROR(VLOOKUP(A307,'SLA Trab'!E:I,5,FALSE),\"\")","v":""},{"$f":"IFERROR(VLOOKUP(A307,'SLA Cobr'!E:I,5,FALSE),\"\")","v":""}]
[{"$f":"IFERROR(IF(Trello!E307=\"\",\"\",Trello!E307),\" \")","v":""},{"$f":"IF($A308=\"\",\"\",IF(Trello!A307=\"\",B307,Trello!A307))","v":""},"",{"$f":"IF($A308=\"\",\"\",SUBSTITUTE(SUBSTITUTE(Trello!J307,\" days\",\"\"),\"⌚ \",\"\")*1)","v":""},{"$f":"IFERROR(IF($A308=\"\",\"\",SUBSTITUTE(SUBSTITUTE(SUBSTITUTE(INDIRECT(\"Trello!\"&ADDRESS(ROW()-1, E$1, 4)),\"Foreign: \",\"\"),\" $\",\"\"),\".\",\"\")*1),\"\")","v":""},{"$f":"IF($E308=\"\",IFERROR(IF($A308=\"\",\"\",SUBSTITUTE(SUBSTITUTE(SUBSTITUTE(INDIRECT(\"Trello!\"&ADDRESS(ROW()-1, F$1, 4)),\"MXN: \",\"\"),\" MX$\",\"\"),\".\",\"\")*1),\"\"),E308*F$2)","v":""},{"$f":"IFERROR(IF($A308=\"\",\"\",SUBSTITUTE(SUBSTITUTE(SUBSTITUTE(INDIRECT(\"Trello!\"&ADDRESS(ROW()-1, G$1, 4)),\"Debt: \",\"\"),\" $\",\"\"),\".\",\"\")*1)*IF(E308=\"\",1,F$2),\"\")","v":""},{"$f":"IFERROR(IF($A308=\"\",\"\",SUBSTITUTE(SUBSTITUTE(SUBSTITUTE(INDIRECT(\"Trello!\"&ADDRESS(ROW()-1, H$1, 4)),\"Cost: \",\"\"),\" $\",\"\"),\".\",\"\")*1*$F$2),\"\")","v":""},"",{"$f":"IFERROR(SUBSTITUTE(SUBSTITUTE(SUBSTITUTE(RIGHT(INDIRECT(\"Trello!\"&ADDRESS(ROW()-1, L$1, 4)),LEN(INDIRECT(\"Trello!\"&ADDRESS(ROW()-1, L$1, 4)))-15),\". \",\"/\"),\" 20\",\"/20\"),\" \",\"\"),\"\")","v":""},{"$f":"IFERROR(SUBSTITUTE(SUBSTITUTE(SUBSTITUTE(RIGHT(INDIRECT(\"Trello!\"&ADDRESS(ROW()-1, M$1, 4)),LEN(INDIRECT(\"Trello!\"&ADDRESS(ROW()-1, M$1, 4)))-15),\". \",\"/\"),\" 20\",\"/20\"),\" \",\"\"),\"\")","v":""},"","","",{"$f":"IFERROR(SUBSTITUTE(INDIRECT(\"Trello!\"&ADDRESS(ROW()-1, O$1, 4)),\"Estimate hrs: \",\"\")*1,\"\")","v":""},{"$f":"IF(SUMIF(Timecamp!C:C,Reporte!A308,Timecamp!J:J)=0,\"\",SUMIF(Timecamp!C:C,Reporte!A308,Timecamp!J:J))","v":""},"","",{"$f":"IFERROR(VLOOKUP(A308,'SLA Trab'!E:I,5,FALSE),\"\")","v":""},{"$f":"IFERROR(VLOOKUP(A308,'SLA Cobr'!E:I,5,FALSE),\"\")","v":""}]
[{"$f":"IFERROR(IF(Trello!E308=\"\",\"\",Trello!E308),\" \")","v":""},{"$f":"IF($A309=\"\",\"\",IF(Trello!A308=\"\",B308,Trello!A308))","v":""},"",{"$f":"IF($A309=\"\",\"\",SUBSTITUTE(SUBSTITUTE(Trello!J308,\" days\",\"\"),\"⌚ \",\"\")*1)","v":""},{"$f":"IFERROR(IF($A309=\"\",\"\",SUBSTITUTE(SUBSTITUTE(SUBSTITUTE(INDIRECT(\"Trello!\"&ADDRESS(ROW()-1, E$1, 4)),\"Foreign: \",\"\"),\" $\",\"\"),\".\",\"\")*1),\"\")","v":""},{"$f":"IF($E309=\"\",IFERROR(IF($A309=\"\",\"\",SUBSTITUTE(SUBSTITUTE(SUBSTITUTE(INDIRECT(\"Trello!\"&ADDRESS(ROW()-1, F$1, 4)),\"MXN: \",\"\"),\" MX$\",\"\"),\".\",\"\")*1),\"\"),E309*F$2)","v":""},{"$f":"IFERROR(IF($A309=\"\",\"\",SUBSTITUTE(SUBSTITUTE(SUBSTITUTE(INDIRECT(\"Trello!\"&ADDRESS(ROW()-1, G$1, 4)),\"Debt: \",\"\"),\" $\",\"\"),\".\",\"\")*1)*IF(E309=\"\",1,F$2),\"\")","v":""},{"$f":"IFERROR(IF($A309=\"\",\"\",SUBSTITUTE(SUBSTITUTE(SUBSTITUTE(INDIRECT(\"Trello!\"&ADDRESS(ROW()-1, H$1, 4)),\"Cost: \",\"\"),\" $\",\"\"),\".\",\"\")*1*$F$2),\"\")","v":""},"",{"$f":"IFERROR(SUBSTITUTE(SUBSTITUTE(SUBSTITUTE(RIGHT(INDIRECT(\"Trello!\"&ADDRESS(ROW()-1, L$1, 4)),LEN(INDIRECT(\"Trello!\"&ADDRESS(ROW()-1, L$1, 4)))-15),\". \",\"/\"),\" 20\",\"/20\"),\" \",\"\"),\"\")","v":""},{"$f":"IFERROR(SUBSTITUTE(SUBSTITUTE(SUBSTITUTE(RIGHT(INDIRECT(\"Trello!\"&ADDRESS(ROW()-1, M$1, 4)),LEN(INDIRECT(\"Trello!\"&ADDRESS(ROW()-1, M$1, 4)))-15),\". \",\"/\"),\" 20\",\"/20\"),\" \",\"\"),\"\")","v":""},"","","",{"$f":"IFERROR(SUBSTITUTE(INDIRECT(\"Trello!\"&ADDRESS(ROW()-1, O$1, 4)),\"Estimate hrs: \",\"\")*1,\"\")","v":""},{"$f":"IF(SUMIF(Timecamp!C:C,Reporte!A309,Timecamp!J:J)=0,\"\",SUMIF(Timecamp!C:C,Reporte!A309,Timecamp!J:J))","v":""},"","",{"$f":"IFERROR(VLOOKUP(A309,'SLA Trab'!E:I,5,FALSE),\"\")","v":""},{"$f":"IFERROR(VLOOKUP(A309,'SLA Cobr'!E:I,5,FALSE),\"\")","v":""}]
[{"$f":"IFERROR(IF(Trello!E309=\"\",\"\",Trello!E309),\" \")","v":""},{"$f":"IF($A310=\"\",\"\",IF(Trello!A309=\"\",B309,Trello!A309))","v":""},"",{"$f":"IF($A310=\"\",\"\",SUBSTITUTE(SUBSTITUTE(Trello!J309,\" days\",\"\"),\"⌚ \",\"\")*1)","v":""},{"$f":"IFERROR(IF($A310=\"\",\"\",SUBSTITUTE(SUBSTITUTE(SUBSTITUTE(INDIRECT(\"Trello!\"&ADDRESS(ROW()-1, E$1, 4)),\"Foreign: \",\"\"),\" $\",\"\"),\".\",\"\")*1),\"\")","v":""},{"$f":"IF($E310=\"\",IFERROR(IF($A310=\"\",\"\",SUBSTITUTE(SUBSTITUTE(SUBSTITUTE(INDIRECT(\"Trello!\"&ADDRESS(ROW()-1, F$1, 4)),\"MXN: \",\"\"),\" MX$\",\"\"),\".\",\"\")*1),\"\"),E310*F$2)","v":""},{"$f":"IFERROR(IF($A310=\"\",\"\",SUBSTITUTE(SUBSTITUTE(SUBSTITUTE(INDIRECT(\"Trello!\"&ADDRESS(ROW()-1, G$1, 4)),\"Debt: \",\"\"),\" $\",\"\"),\".\",\"\")*1)*IF(E310=\"\",1,F$2),\"\")","v":""},{"$f":"IFERROR(IF($A310=\"\",\"\",SUBSTITUTE(SUBSTITUTE(SUBSTITUTE(INDIRECT(\"Trello!\"&ADDRESS(ROW()-1, H$1, 4)),\"Cost: \",\"\"),\" $\",\"\"),\".\",\"\")*1*$F$2),\"\")","v":""},"",{"$f":"IFERROR(SUBSTITUTE(SUBSTITUTE(SUBSTITUTE(RIGHT(INDIRECT(\"Trello!\"&ADDRESS(ROW()-1, L$1, 4)),LEN(INDIRECT(\"Trello!\"&ADDRESS(ROW()-1, L$1, 4)))-15),\". \",\"/\"),\" 20\",\"/20\"),\" \",\"\"),\"\")","v":""},{"$f":"IFERROR(SUBSTITUTE(SUBSTITUTE(SUBSTITUTE(RIGHT(INDIRECT(\"Trello!\"&ADDRESS(ROW()-1, M$1, 4)),LEN(INDIRECT(\"Trello!\"&ADDRESS(ROW()-1, M$1, 4)))-15),\". \",\"/\"),\" 20\",\"/20\"),\" \",\"\"),\"\")","v":""},"","","",{"$f":"IFERROR(SUBSTITUTE(INDIRECT(\"Trello!\"&ADDRESS(ROW()-1, O$1, 4)),\"Estimate hrs: \",\"\")*1,\"\")","v":""},{"$f":"IF(SUMIF(Timecamp!C:C,Reporte!A310,Timecamp!J:J)=0,\"\",SUMIF(Timecamp!C:C,Reporte!A310,Timecamp!J:J))","v":""},"","",{"$f":"IFERROR(VLOOKUP(A310,'SLA Trab'!E:I,5,FALSE),\"\")","v":""},{"$f":"IFERROR(VLOOKUP(A310,'SLA Cobr'!E:I,5,FALSE),\"\")","v":""}]
[{"$f":"IFERROR(IF(Trello!E310=\"\",\"\",Trello!E310),\" \")","v":""},{"$f":"IF($A311=\"\",\"\",IF(Trello!A310=\"\",B310,Trello!A310))","v":""},"",{"$f":"IF($A311=\"\",\"\",SUBSTITUTE(SUBSTITUTE(Trello!J310,\" days\",\"\"),\"⌚ \",\"\")*1)","v":""},{"$f":"IFERROR(IF($A311=\"\",\"\",SUBSTITUTE(SUBSTITUTE(SUBSTITUTE(INDIRECT(\"Trello!\"&ADDRESS(ROW()-1, E$1, 4)),\"Foreign: \",\"\"),\" $\",\"\"),\".\",\"\")*1),\"\")","v":""},{"$f":"IF($E311=\"\",IFERROR(IF($A311=\"\",\"\",SUBSTITUTE(SUBSTITUTE(SUBSTITUTE(INDIRECT(\"Trello!\"&ADDRESS(ROW()-1, F$1, 4)),\"MXN: \",\"\"),\" MX$\",\"\"),\".\",\"\")*1),\"\"),E311*F$2)","v":""},{"$f":"IFERROR(IF($A311=\"\",\"\",SUBSTITUTE(SUBSTITUTE(SUBSTITUTE(INDIRECT(\"Trello!\"&ADDRESS(ROW()-1, G$1, 4)),\"Debt: \",\"\"),\" $\",\"\"),\".\",\"\")*1)*IF(E311=\"\",1,F$2),\"\")","v":""},{"$f":"IFERROR(IF($A311=\"\",\"\",SUBSTITUTE(SUBSTITUTE(SUBSTITUTE(INDIRECT(\"Trello!\"&ADDRESS(ROW()-1, H$1, 4)),\"Cost: \",\"\"),\" $\",\"\"),\".\",\"\")*1*$F$2),\"\")","v":""},"",{"$f":"IFERROR(SUBSTITUTE(SUBSTITUTE(SUBSTITUTE(RIGHT(INDIRECT(\"Trello!\"&ADDRESS(ROW()-1, L$1, 4)),LEN(INDIRECT(\"Trello!\"&ADDRESS(ROW()-1, L$1, 4)))-15),\". \",\"/\"),\" 20\",\"/20\"),\" \",\"\"),\"\")","v":""},{"$f":"IFERROR(SUBSTITUTE(SUBSTITUTE(SUBSTITUTE(RIGHT(INDIRECT(\"Trello!\"&ADDRESS(ROW()-1, M$1, 4)),LEN(INDIRECT(\"Trello!\"&ADDRESS(ROW()-1, M$1, 4)))-15),\". \",\"/\"),\" 20\",\"/20\"),\" \",\"\"),\"\")","v":""},"","","",{"$f":"IFERROR(SUBSTITUTE(INDIRECT(\"Trello!\"&ADDRESS(ROW()-1, O$1, 4)),\"Estimate hrs: \",\"\")*1,\"\")","v":""},{"$f":"IF(SUMIF(Timecamp!C:C,Reporte!A311,Timecamp!J:J)=0,\"\",SUMIF(Timecamp!C:C,Reporte!A311,Timecamp!J:J))","v":""},"","",{"$f":"IFERROR(VLOOKUP(A311,'SLA Trab'!E:I,5,FALSE),\"\")","v":""},{"$f":"IFERROR(VLOOKUP(A311,'SLA Cobr'!E:I,5,FALSE),\"\")","v":""}]
[{"$f":"IFERROR(IF(Trello!E311=\"\",\"\",Trello!E311),\" \")","v":""},{"$f":"IF($A312=\"\",\"\",IF(Trello!A311=\"\",B311,Trello!A311))","v":""},"",{"$f":"IF($A312=\"\",\"\",SUBSTITUTE(SUBSTITUTE(Trello!J311,\" days\",\"\"),\"⌚ \",\"\")*1)","v":""},{"$f":"IFERROR(IF($A312=\"\",\"\",SUBSTITUTE(SUBSTITUTE(SUBSTITUTE(INDIRECT(\"Trello!\"&ADDRESS(ROW()-1, E$1, 4)),\"Foreign: \",\"\"),\" $\",\"\"),\".\",\"\")*1),\"\")","v":""},{"$f":"IF($E312=\"\",IFERROR(IF($A312=\"\",\"\",SUBSTITUTE(SUBSTITUTE(SUBSTITUTE(INDIRECT(\"Trello!\"&ADDRESS(ROW()-1, F$1, 4)),\"MXN: \",\"\"),\" MX$\",\"\"),\".\",\"\")*1),\"\"),E312*F$2)","v":""},{"$f":"IFERROR(IF($A312=\"\",\"\",SUBSTITUTE(SUBSTITUTE(SUBSTITUTE(INDIRECT(\"Trello!\"&ADDRESS(ROW()-1, G$1, 4)),\"Debt: \",\"\"),\" $\",\"\"),\".\",\"\")*1)*IF(E312=\"\",1,F$2),\"\")","v":""},{"$f":"IFERROR(IF($A312=\"\",\"\",SUBSTITUTE(SUBSTITUTE(SUBSTITUTE(INDIRECT(\"Trello!\"&ADDRESS(ROW()-1, H$1, 4)),\"Cost: \",\"\"),\" $\",\"\"),\".\",\"\")*1*$F$2),\"\")","v":""},"",{"$f":"IFERROR(SUBSTITUTE(SUBSTITUTE(SUBSTITUTE(RIGHT(INDIRECT(\"Trello!\"&ADDRESS(ROW()-1, L$1, 4)),LEN(INDIRECT(\"Trello!\"&ADDRESS(ROW()-1, L$1, 4)))-15),\". \",\"/\"),\" 20\",\"/20\"),\" \",\"\"),\"\")","v":""},{"$f":"IFERROR(SUBSTITUTE(SUBSTITUTE(SUBSTITUTE(RIGHT(INDIRECT(\"Trello!\"&ADDRESS(ROW()-1, M$1, 4)),LEN(INDIRECT(\"Trello!\"&ADDRESS(ROW()-1, M$1, 4)))-15),\". \",\"/\"),\" 20\",\"/20\"),\" \",\"\"),\"\")","v":""},"","","",{"$f":"IFERROR(SUBSTITUTE(INDIRECT(\"Trello!\"&ADDRESS(ROW()-1, O$1, 4)),\"Estimate hrs: \",\"\")*1,\"\")","v":""},{"$f":"IF(SUMIF(Timecamp!C:C,Reporte!A312,Timecamp!J:J)=0,\"\",SUMIF(Timecamp!C:C,Reporte!A312,Timecamp!J:J))","v":""},"","",{"$f":"IFERROR(VLOOKUP(A312,'SLA Trab'!E:I,5,FALSE),\"\")","v":""},{"$f":"IFERROR(VLOOKUP(A312,'SLA Cobr'!E:I,5,FALSE),\"\")","v":""}]
[{"$f":"IFERROR(IF(Trello!E312=\"\",\"\",Trello!E312),\" \")","v":""},{"$f":"IF($A313=\"\",\"\",IF(Trello!A312=\"\",B312,Trello!A312))","v":""},"",{"$f":"IF($A313=\"\",\"\",SUBSTITUTE(SUBSTITUTE(Trello!J312,\" days\",\"\"),\"⌚ \",\"\")*1)","v":""},{"$f":"IFERROR(IF($A313=\"\",\"\",SUBSTITUTE(SUBSTITUTE(SUBSTITUTE(INDIRECT(\"Trello!\"&ADDRESS(ROW()-1, E$1, 4)),\"Foreign: \",\"\"),\" $\",\"\"),\".\",\"\")*1),\"\")","v":""},{"$f":"IF($E313=\"\",IFERROR(IF($A313=\"\",\"\",SUBSTITUTE(SUBSTITUTE(SUBSTITUTE(INDIRECT(\"Trello!\"&ADDRESS(ROW()-1, F$1, 4)),\"MXN: \",\"\"),\" MX$\",\"\"),\".\",\"\")*1),\"\"),E313*F$2)","v":""},{"$f":"IFERROR(IF($A313=\"\",\"\",SUBSTITUTE(SUBSTITUTE(SUBSTITUTE(INDIRECT(\"Trello!\"&ADDRESS(ROW()-1, G$1, 4)),\"Debt: \",\"\"),\" $\",\"\"),\".\",\"\")*1)*IF(E313=\"\",1,F$2),\"\")","v":""},{"$f":"IFERROR(IF($A313=\"\",\"\",SUBSTITUTE(SUBSTITUTE(SUBSTITUTE(INDIRECT(\"Trello!\"&ADDRESS(ROW()-1, H$1, 4)),\"Cost: \",\"\"),\" $\",\"\"),\".\",\"\")*1*$F$2),\"\")","v":""},"",{"$f":"IFERROR(SUBSTITUTE(SUBSTITUTE(SUBSTITUTE(RIGHT(INDIRECT(\"Trello!\"&ADDRESS(ROW()-1, L$1, 4)),LEN(INDIRECT(\"Trello!\"&ADDRESS(ROW()-1, L$1, 4)))-15),\". \",\"/\"),\" 20\",\"/20\"),\" \",\"\"),\"\")","v":""},{"$f":"IFERROR(SUBSTITUTE(SUBSTITUTE(SUBSTITUTE(RIGHT(INDIRECT(\"Trello!\"&ADDRESS(ROW()-1, M$1, 4)),LEN(INDIRECT(\"Trello!\"&ADDRESS(ROW()-1, M$1, 4)))-15),\". \",\"/\"),\" 20\",\"/20\"),\" \",\"\"),\"\")","v":""},"","","",{"$f":"IFERROR(SUBSTITUTE(INDIRECT(\"Trello!\"&ADDRESS(ROW()-1, O$1, 4)),\"Estimate hrs: \",\"\")*1,\"\")","v":""},{"$f":"IF(SUMIF(Timecamp!C:C,Reporte!A313,Timecamp!J:J)=0,\"\",SUMIF(Timecamp!C:C,Reporte!A313,Timecamp!J:J))","v":""},"","",{"$f":"IFERROR(VLOOKUP(A313,'SLA Trab'!E:I,5,FALSE),\"\")","v":""},{"$f":"IFERROR(VLOOKUP(A313,'SLA Cobr'!E:I,5,FALSE),\"\")","v":""}]
[{"$f":"IFERROR(IF(Trello!E313=\"\",\"\",Trello!E313),\" \")","v":""},{"$f":"IF($A314=\"\",\"\",IF(Trello!A313=\"\",B313,Trello!A313))","v":""},"",{"$f":"IF($A314=\"\",\"\",SUBSTITUTE(SUBSTITUTE(Trello!J313,\" days\",\"\"),\"⌚ \",\"\")*1)","v":""},{"$f":"IFERROR(IF($A314=\"\",\"\",SUBSTITUTE(SUBSTITUTE(SUBSTITUTE(INDIRECT(\"Trello!\"&ADDRESS(ROW()-1, E$1, 4)),\"Foreign: \",\"\"),\" $\",\"\"),\".\",\"\")*1),\"\")","v":""},{"$f":"IF($E314=\"\",IFERROR(IF($A314=\"\",\"\",SUBSTITUTE(SUBSTITUTE(SUBSTITUTE(INDIRECT(\"Trello!\"&ADDRESS(ROW()-1, F$1, 4)),\"MXN: \",\"\"),\" MX$\",\"\"),\".\",\"\")*1),\"\"),E314*F$2)","v":""},{"$f":"IFERROR(IF($A314=\"\",\"\",SUBSTITUTE(SUBSTITUTE(SUBSTITUTE(INDIRECT(\"Trello!\"&ADDRESS(ROW()-1, G$1, 4)),\"Debt: \",\"\"),\" $\",\"\"),\".\",\"\")*1)*IF(E314=\"\",1,F$2),\"\")","v":""},{"$f":"IFERROR(IF($A314=\"\",\"\",SUBSTITUTE(SUBSTITUTE(SUBSTITUTE(INDIRECT(\"Trello!\"&ADDRESS(ROW()-1, H$1, 4)),\"Cost: \",\"\"),\" $\",\"\"),\".\",\"\")*1*$F$2),\"\")","v":""},"",{"$f":"IFERROR(SUBSTITUTE(SUBSTITUTE(SUBSTITUTE(RIGHT(INDIRECT(\"Trello!\"&ADDRESS(ROW()-1, L$1, 4)),LEN(INDIRECT(\"Trello!\"&ADDRESS(ROW()-1, L$1, 4)))-15),\". \",\"/\"),\" 20\",\"/20\"),\" \",\"\"),\"\")","v":""},{"$f":"IFERROR(SUBSTITUTE(SUBSTITUTE(SUBSTITUTE(RIGHT(INDIRECT(\"Trello!\"&ADDRESS(ROW()-1, M$1, 4)),LEN(INDIRECT(\"Trello!\"&ADDRESS(ROW()-1, M$1, 4)))-15),\". \",\"/\"),\" 20\",\"/20\"),\" \",\"\"),\"\")","v":""},"","","",{"$f":"IFERROR(SUBSTITUTE(INDIRECT(\"Trello!\"&ADDRESS(ROW()-1, O$1, 4)),\"Estimate hrs: \",\"\")*1,\"\")","v":""},{"$f":"IF(SUMIF(Timecamp!C:C,Reporte!A314,Timecamp!J:J)=0,\"\",SUMIF(Timecamp!C:C,Reporte!A314,Timecamp!J:J))","v":""},"","",{"$f":"IFERROR(VLOOKUP(A314,'SLA Trab'!E:I,5,FALSE),\"\")","v":""},{"$f":"IFERROR(VLOOKUP(A314,'SLA Cobr'!E:I,5,FALSE),\"\")","v":""}]
[{"$f":"IFERROR(IF(Trello!E314=\"\",\"\",Trello!E314),\" \")","v":""},{"$f":"IF($A315=\"\",\"\",IF(Trello!A314=\"\",B314,Trello!A314))","v":""},"",{"$f":"IF($A315=\"\",\"\",SUBSTITUTE(SUBSTITUTE(Trello!J314,\" days\",\"\"),\"⌚ \",\"\")*1)","v":""},{"$f":"IFERROR(IF($A315=\"\",\"\",SUBSTITUTE(SUBSTITUTE(SUBSTITUTE(INDIRECT(\"Trello!\"&ADDRESS(ROW()-1, E$1, 4)),\"Foreign: \",\"\"),\" $\",\"\"),\".\",\"\")*1),\"\")","v":""},{"$f":"IF($E315=\"\",IFERROR(IF($A315=\"\",\"\",SUBSTITUTE(SUBSTITUTE(SUBSTITUTE(INDIRECT(\"Trello!\"&ADDRESS(ROW()-1, F$1, 4)),\"MXN: \",\"\"),\" MX$\",\"\"),\".\",\"\")*1),\"\"),E315*F$2)","v":""},{"$f":"IFERROR(IF($A315=\"\",\"\",SUBSTITUTE(SUBSTITUTE(SUBSTITUTE(INDIRECT(\"Trello!\"&ADDRESS(ROW()-1, G$1, 4)),\"Debt: \",\"\"),\" $\",\"\"),\".\",\"\")*1)*IF(E315=\"\",1,F$2),\"\")","v":""},{"$f":"IFERROR(IF($A315=\"\",\"\",SUBSTITUTE(SUBSTITUTE(SUBSTITUTE(INDIRECT(\"Trello!\"&ADDRESS(ROW()-1, H$1, 4)),\"Cost: \",\"\"),\" $\",\"\"),\".\",\"\")*1*$F$2),\"\")","v":""},"",{"$f":"IFERROR(SUBSTITUTE(SUBSTITUTE(SUBSTITUTE(RIGHT(INDIRECT(\"Trello!\"&ADDRESS(ROW()-1, L$1, 4)),LEN(INDIRECT(\"Trello!\"&ADDRESS(ROW()-1, L$1, 4)))-15),\". \",\"/\"),\" 20\",\"/20\"),\" \",\"\"),\"\")","v":""},{"$f":"IFERROR(SUBSTITUTE(SUBSTITUTE(SUBSTITUTE(RIGHT(INDIRECT(\"Trello!\"&ADDRESS(ROW()-1, M$1, 4)),LEN(INDIRECT(\"Trello!\"&ADDRESS(ROW()-1, M$1, 4)))-15),\". \",\"/\"),\" 20\",\"/20\"),\" \",\"\"),\"\")","v":""},"","","",{"$f":"IFERROR(SUBSTITUTE(INDIRECT(\"Trello!\"&ADDRESS(ROW()-1, O$1, 4)),\"Estimate hrs: \",\"\")*1,\"\")","v":""},{"$f":"IF(SUMIF(Timecamp!C:C,Reporte!A315,Timecamp!J:J)=0,\"\",SUMIF(Timecamp!C:C,Reporte!A315,Timecamp!J:J))","v":""},"","",{"$f":"IFERROR(VLOOKUP(A315,'SLA Trab'!E:I,5,FALSE),\"\")","v":""},{"$f":"IFERROR(VLOOKUP(A315,'SLA Cobr'!E:I,5,FALSE),\"\")","v":""}]
[{"$f":"IFERROR(IF(Trello!E315=\"\",\"\",Trello!E315),\" \")","v":""},{"$f":"IF($A316=\"\",\"\",IF(Trello!A315=\"\",B315,Trello!A315))","v":""},"",{"$f":"IF($A316=\"\",\"\",SUBSTITUTE(SUBSTITUTE(Trello!J315,\" days\",\"\"),\"⌚ \",\"\")*1)","v":""},{"$f":"IFERROR(IF($A316=\"\",\"\",SUBSTITUTE(SUBSTITUTE(SUBSTITUTE(INDIRECT(\"Trello!\"&ADDRESS(ROW()-1, E$1, 4)),\"Foreign: \",\"\"),\" $\",\"\"),\".\",\"\")*1),\"\")","v":""},{"$f":"IF($E316=\"\",IFERROR(IF($A316=\"\",\"\",SUBSTITUTE(SUBSTITUTE(SUBSTITUTE(INDIRECT(\"Trello!\"&ADDRESS(ROW()-1, F$1, 4)),\"MXN: \",\"\"),\" MX$\",\"\"),\".\",\"\")*1),\"\"),E316*F$2)","v":""},{"$f":"IFERROR(IF($A316=\"\",\"\",SUBSTITUTE(SUBSTITUTE(SUBSTITUTE(INDIRECT(\"Trello!\"&ADDRESS(ROW()-1, G$1, 4)),\"Debt: \",\"\"),\" $\",\"\"),\".\",\"\")*1)*IF(E316=\"\",1,F$2),\"\")","v":""},{"$f":"IFERROR(IF($A316=\"\",\"\",SUBSTITUTE(SUBSTITUTE(SUBSTITUTE(INDIRECT(\"Trello!\"&ADDRESS(ROW()-1, H$1, 4)),\"Cost: \",\"\"),\" $\",\"\"),\".\",\"\")*1*$F$2),\"\")","v":""},"",{"$f":"IFERROR(SUBSTITUTE(SUBSTITUTE(SUBSTITUTE(RIGHT(INDIRECT(\"Trello!\"&ADDRESS(ROW()-1, L$1, 4)),LEN(INDIRECT(\"Trello!\"&ADDRESS(ROW()-1, L$1, 4)))-15),\". \",\"/\"),\" 20\",\"/20\"),\" \",\"\"),\"\")","v":""},{"$f":"IFERROR(SUBSTITUTE(SUBSTITUTE(SUBSTITUTE(RIGHT(INDIRECT(\"Trello!\"&ADDRESS(ROW()-1, M$1, 4)),LEN(INDIRECT(\"Trello!\"&ADDRESS(ROW()-1, M$1, 4)))-15),\". \",\"/\"),\" 20\",\"/20\"),\" \",\"\"),\"\")","v":""},"","","",{"$f":"IFERROR(SUBSTITUTE(INDIRECT(\"Trello!\"&ADDRESS(ROW()-1, O$1, 4)),\"Estimate hrs: \",\"\")*1,\"\")","v":""},{"$f":"IF(SUMIF(Timecamp!C:C,Reporte!A316,Timecamp!J:J)=0,\"\",SUMIF(Timecamp!C:C,Reporte!A316,Timecamp!J:J))","v":""},"","",{"$f":"IFERROR(VLOOKUP(A316,'SLA Trab'!E:I,5,FALSE),\"\")","v":""},{"$f":"IFERROR(VLOOKUP(A316,'SLA Cobr'!E:I,5,FALSE),\"\")","v":""}]
[{"$f":"IFERROR(IF(Trello!E316=\"\",\"\",Trello!E316),\" \")","v":""},{"$f":"IF($A317=\"\",\"\",IF(Trello!A316=\"\",B316,Trello!A316))","v":""},"",{"$f":"IF($A317=\"\",\"\",SUBSTITUTE(SUBSTITUTE(Trello!J316,\" days\",\"\"),\"⌚ \",\"\")*1)","v":""},{"$f":"IFERROR(IF($A317=\"\",\"\",SUBSTITUTE(SUBSTITUTE(SUBSTITUTE(INDIRECT(\"Trello!\"&ADDRESS(ROW()-1, E$1, 4)),\"Foreign: \",\"\"),\" $\",\"\"),\".\",\"\")*1),\"\")","v":""},{"$f":"IF($E317=\"\",IFERROR(IF($A317=\"\",\"\",SUBSTITUTE(SUBSTITUTE(SUBSTITUTE(INDIRECT(\"Trello!\"&ADDRESS(ROW()-1, F$1, 4)),\"MXN: \",\"\"),\" MX$\",\"\"),\".\",\"\")*1),\"\"),E317*F$2)","v":""},{"$f":"IFERROR(IF($A317=\"\",\"\",SUBSTITUTE(SUBSTITUTE(SUBSTITUTE(INDIRECT(\"Trello!\"&ADDRESS(ROW()-1, G$1, 4)),\"Debt: \",\"\"),\" $\",\"\"),\".\",\"\")*1)*IF(E317=\"\",1,F$2),\"\")","v":""},{"$f":"IFERROR(IF($A317=\"\",\"\",SUBSTITUTE(SUBSTITUTE(SUBSTITUTE(INDIRECT(\"Trello!\"&ADDRESS(ROW()-1, H$1, 4)),\"Cost: \",\"\"),\" $\",\"\"),\".\",\"\")*1*$F$2),\"\")","v":""},"",{"$f":"IFERROR(SUBSTITUTE(SUBSTITUTE(SUBSTITUTE(RIGHT(INDIRECT(\"Trello!\"&ADDRESS(ROW()-1, L$1, 4)),LEN(INDIRECT(\"Trello!\"&ADDRESS(ROW()-1, L$1, 4)))-15),\". \",\"/\"),\" 20\",\"/20\"),\" \",\"\"),\"\")","v":""},{"$f":"IFERROR(SUBSTITUTE(SUBSTITUTE(SUBSTITUTE(RIGHT(INDIRECT(\"Trello!\"&ADDRESS(ROW()-1, M$1, 4)),LEN(INDIRECT(\"Trello!\"&ADDRESS(ROW()-1, M$1, 4)))-15),\". \",\"/\"),\" 20\",\"/20\"),\" \",\"\"),\"\")","v":""},"","","",{"$f":"IFERROR(SUBSTITUTE(INDIRECT(\"Trello!\"&ADDRESS(ROW()-1, O$1, 4)),\"Estimate hrs: \",\"\")*1,\"\")","v":""},{"$f":"IF(SUMIF(Timecamp!C:C,Reporte!A317,Timecamp!J:J)=0,\"\",SUMIF(Timecamp!C:C,Reporte!A317,Timecamp!J:J))","v":""},"","",{"$f":"IFERROR(VLOOKUP(A317,'SLA Trab'!E:I,5,FALSE),\"\")","v":""},{"$f":"IFERROR(VLOOKUP(A317,'SLA Cobr'!E:I,5,FALSE),\"\")","v":""}]
[{"$f":"IFERROR(IF(Trello!E317=\"\",\"\",Trello!E317),\" \")","v":""},{"$f":"IF($A318=\"\",\"\",IF(Trello!A317=\"\",B317,Trello!A317))","v":""},"",{"$f":"IF($A318=\"\",\"\",SUBSTITUTE(SUBSTITUTE(Trello!J317,\" days\",\"\"),\"⌚ \",\"\")*1)","v":""},{"$f":"IFERROR(IF($A318=\"\",\"\",SUBSTITUTE(SUBSTITUTE(SUBSTITUTE(INDIRECT(\"Trello!\"&ADDRESS(ROW()-1, E$1, 4)),\"Foreign: \",\"\"),\" $\",\"\"),\".\",\"\")*1),\"\")","v":""},{"$f":"IF($E318=\"\",IFERROR(IF($A318=\"\",\"\",SUBSTITUTE(SUBSTITUTE(SUBSTITUTE(INDIRECT(\"Trello!\"&ADDRESS(ROW()-1, F$1, 4)),\"MXN: \",\"\"),\" MX$\",\"\"),\".\",\"\")*1),\"\"),E318*F$2)","v":""},{"$f":"IFERROR(IF($A318=\"\",\"\",SUBSTITUTE(SUBSTITUTE(SUBSTITUTE(INDIRECT(\"Trello!\"&ADDRESS(ROW()-1, G$1, 4)),\"Debt: \",\"\"),\" $\",\"\"),\".\",\"\")*1)*IF(E318=\"\",1,F$2),\"\")","v":""},{"$f":"IFERROR(IF($A318=\"\",\"\",SUBSTITUTE(SUBSTITUTE(SUBSTITUTE(INDIRECT(\"Trello!\"&ADDRESS(ROW()-1, H$1, 4)),\"Cost: \",\"\"),\" $\",\"\"),\".\",\"\")*1*$F$2),\"\")","v":""},"",{"$f":"IFERROR(SUBSTITUTE(SUBSTITUTE(SUBSTITUTE(RIGHT(INDIRECT(\"Trello!\"&ADDRESS(ROW()-1, L$1, 4)),LEN(INDIRECT(\"Trello!\"&ADDRESS(ROW()-1, L$1, 4)))-15),\". \",\"/\"),\" 20\",\"/20\"),\" \",\"\"),\"\")","v":""},{"$f":"IFERROR(SUBSTITUTE(SUBSTITUTE(SUBSTITUTE(RIGHT(INDIRECT(\"Trello!\"&ADDRESS(ROW()-1, M$1, 4)),LEN(INDIRECT(\"Trello!\"&ADDRESS(ROW()-1, M$1, 4)))-15),\". \",\"/\"),\" 20\",\"/20\"),\" \",\"\"),\"\")","v":""},"","","",{"$f":"IFERROR(SUBSTITUTE(INDIRECT(\"Trello!\"&ADDRESS(ROW()-1, O$1, 4)),\"Estimate hrs: \",\"\")*1,\"\")","v":""},{"$f":"IF(SUMIF(Timecamp!C:C,Reporte!A318,Timecamp!J:J)=0,\"\",SUMIF(Timecamp!C:C,Reporte!A318,Timecamp!J:J))","v":""},"","",{"$f":"IFERROR(VLOOKUP(A318,'SLA Trab'!E:I,5,FALSE),\"\")","v":""},{"$f":"IFERROR(VLOOKUP(A318,'SLA Cobr'!E:I,5,FALSE),\"\")","v":""}]
[{"$f":"IFERROR(IF(Trello!E318=\"\",\"\",Trello!E318),\" \")","v":""},{"$f":"IF($A319=\"\",\"\",IF(Trello!A318=\"\",B318,Trello!A318))","v":""},"",{"$f":"IF($A319=\"\",\"\",SUBSTITUTE(SUBSTITUTE(Trello!J318,\" days\",\"\"),\"⌚ \",\"\")*1)","v":""},{"$f":"IFERROR(IF($A319=\"\",\"\",SUBSTITUTE(SUBSTITUTE(SUBSTITUTE(INDIRECT(\"Trello!\"&ADDRESS(ROW()-1, E$1, 4)),\"Foreign: \",\"\"),\" $\",\"\"),\".\",\"\")*1),\"\")","v":""},{"$f":"IF($E319=\"\",IFERROR(IF($A319=\"\",\"\",SUBSTITUTE(SUBSTITUTE(SUBSTITUTE(INDIRECT(\"Trello!\"&ADDRESS(ROW()-1, F$1, 4)),\"MXN: \",\"\"),\" MX$\",\"\"),\".\",\"\")*1),\"\"),E319*F$2)","v":""},{"$f":"IFERROR(IF($A319=\"\",\"\",SUBSTITUTE(SUBSTITUTE(SUBSTITUTE(INDIRECT(\"Trello!\"&ADDRESS(ROW()-1, G$1, 4)),\"Debt: \",\"\"),\" $\",\"\"),\".\",\"\")*1)*IF(E319=\"\",1,F$2),\"\")","v":""},{"$f":"IFERROR(IF($A319=\"\",\"\",SUBSTITUTE(SUBSTITUTE(SUBSTITUTE(INDIRECT(\"Trello!\"&ADDRESS(ROW()-1, H$1, 4)),\"Cost: \",\"\"),\" $\",\"\"),\".\",\"\")*1*$F$2),\"\")","v":""},"",{"$f":"IFERROR(SUBSTITUTE(SUBSTITUTE(SUBSTITUTE(RIGHT(INDIRECT(\"Trello!\"&ADDRESS(ROW()-1, L$1, 4)),LEN(INDIRECT(\"Trello!\"&ADDRESS(ROW()-1, L$1, 4)))-15),\". \",\"/\"),\" 20\",\"/20\"),\" \",\"\"),\"\")","v":""},{"$f":"IFERROR(SUBSTITUTE(SUBSTITUTE(SUBSTITUTE(RIGHT(INDIRECT(\"Trello!\"&ADDRESS(ROW()-1, M$1, 4)),LEN(INDIRECT(\"Trello!\"&ADDRESS(ROW()-1, M$1, 4)))-15),\". \",\"/\"),\" 20\",\"/20\"),\" \",\"\"),\"\")","v":""},"","","",{"$f":"IFERROR(SUBSTITUTE(INDIRECT(\"Trello!\"&ADDRESS(ROW()-1, O$1, 4)),\"Estimate hrs: \",\"\")*1,\"\")","v":""},{"$f":"IF(SUMIF(Timecamp!C:C,Reporte!A319,Timecamp!J:J)=0,\"\",SUMIF(Timecamp!C:C,Reporte!A319,Timecamp!J:J))","v":""},"","",{"$f":"IFERROR(VLOOKUP(A319,'SLA Trab'!E:I,5,FALSE),\"\")","v":""},{"$f":"IFERROR(VLOOKUP(A319,'SLA Cobr'!E:I,5,FALSE),\"\")","v":""}]
[{"$f":"IFERROR(IF(Trello!E319=\"\",\"\",Trello!E319),\" \")","v":""},{"$f":"IF($A320=\"\",\"\",IF(Trello!A319=\"\",B319,Trello!A319))","v":""},"",{"$f":"IF($A320=\"\",\"\",SUBSTITUTE(SUBSTITUTE(Trello!J319,\" days\",\"\"),\"⌚ \",\"\")*1)","v":""},{"$f":"IFERROR(IF($A320=\"\",\"\",SUBSTITUTE(SUBSTITUTE(SUBSTITUTE(INDIRECT(\"Trello!\"&ADDRESS(ROW()-1, E$1, 4)),\"Foreign: \",\"\"),\" $\",\"\"),\".\",\"\")*1),\"\")","v":""},{"$f":"IF($E320=\"\",IFERROR(IF($A320=\"\",\"\",SUBSTITUTE(SUBSTITUTE(SUBSTITUTE(INDIRECT(\"Trello!\"&ADDRESS(ROW()-1, F$1, 4)),\"MXN: \",\"\"),\" MX$\",\"\"),\".\",\"\")*1),\"\"),E320*F$2)","v":""},{"$f":"IFERROR(IF($A320=\"\",\"\",SUBSTITUTE(SUBSTITUTE(SUBSTITUTE(INDIRECT(\"Trello!\"&ADDRESS(ROW()-1, G$1, 4)),\"Debt: \",\"\"),\" $\",\"\"),\".\",\"\")*1)*IF(E320=\"\",1,F$2),\"\")","v":""},{"$f":"IFERROR(IF($A320=\"\",\"\",SUBSTITUTE(SUBSTITUTE(SUBSTITUTE(INDIRECT(\"Trello!\"&ADDRESS(ROW()-1, H$1, 4)),\"Cost: \",\"\"),\" $\",\"\"),\".\",\"\")*1*$F$2),\"\")","v":""},"",{"$f":"IFERROR(SUBSTITUTE(SUBSTITUTE(SUBSTITUTE(RIGHT(INDIRECT(\"Trello!\"&ADDRESS(ROW()-1, L$1, 4)),LEN(INDIRECT(\"Trello!\"&ADDRESS(ROW()-1, L$1, 4)))-15),\". \",\"/\"),\" 20\",\"/20\"),\" \",\"\"),\"\")","v":""},{"$f":"IFERROR(SUBSTITUTE(SUBSTITUTE(SUBSTITUTE(RIGHT(INDIRECT(\"Trello!\"&ADDRESS(ROW()-1, M$1, 4)),LEN(INDIRECT(\"Trello!\"&ADDRESS(ROW()-1, M$1, 4)))-15),\". \",\"/\"),\" 20\",\"/20\"),\" \",\"\"),\"\")","v":""},"","","",{"$f":"IFERROR(SUBSTITUTE(INDIRECT(\"Trello!\"&ADDRESS(ROW()-1, O$1, 4)),\"Estimate hrs: \",\"\")*1,\"\")","v":""},{"$f":"IF(SUMIF(Timecamp!C:C,Reporte!A320,Timecamp!J:J)=0,\"\",SUMIF(Timecamp!C:C,Reporte!A320,Timecamp!J:J))","v":""},"","",{"$f":"IFERROR(VLOOKUP(A320,'SLA Trab'!E:I,5,FALSE),\"\")","v":""},{"$f":"IFERROR(VLOOKUP(A320,'SLA Cobr'!E:I,5,FALSE),\"\")","v":""}]
[{"$f":"IFERROR(IF(Trello!E320=\"\",\"\",Trello!E320),\" \")","v":""},{"$f":"IF($A321=\"\",\"\",IF(Trello!A320=\"\",B320,Trello!A320))","v":""},"",{"$f":"IF($A321=\"\",\"\",SUBSTITUTE(SUBSTITUTE(Trello!J320,\" days\",\"\"),\"⌚ \",\"\")*1)","v":""},{"$f":"IFERROR(IF($A321=\"\",\"\",SUBSTITUTE(SUBSTITUTE(SUBSTITUTE(INDIRECT(\"Trello!\"&ADDRESS(ROW()-1, E$1, 4)),\"Foreign: \",\"\"),\" $\",\"\"),\".\",\"\")*1),\"\")","v":""},{"$f":"IF($E321=\"\",IFERROR(IF($A321=\"\",\"\",SUBSTITUTE(SUBSTITUTE(SUBSTITUTE(INDIRECT(\"Trello!\"&ADDRESS(ROW()-1, F$1, 4)),\"MXN: \",\"\"),\" MX$\",\"\"),\".\",\"\")*1),\"\"),E321*F$2)","v":""},{"$f":"IFERROR(IF($A321=\"\",\"\",SUBSTITUTE(SUBSTITUTE(SUBSTITUTE(INDIRECT(\"Trello!\"&ADDRESS(ROW()-1, G$1, 4)),\"Debt: \",\"\"),\" $\",\"\"),\".\",\"\")*1)*IF(E321=\"\",1,F$2),\"\")","v":""},{"$f":"IFERROR(IF($A321=\"\",\"\",SUBSTITUTE(SUBSTITUTE(SUBSTITUTE(INDIRECT(\"Trello!\"&ADDRESS(ROW()-1, H$1, 4)),\"Cost: \",\"\"),\" $\",\"\"),\".\",\"\")*1*$F$2),\"\")","v":""},"",{"$f":"IFERROR(SUBSTITUTE(SUBSTITUTE(SUBSTITUTE(RIGHT(INDIRECT(\"Trello!\"&ADDRESS(ROW()-1, L$1, 4)),LEN(INDIRECT(\"Trello!\"&ADDRESS(ROW()-1, L$1, 4)))-15),\". \",\"/\"),\" 20\",\"/20\"),\" \",\"\"),\"\")","v":""},{"$f":"IFERROR(SUBSTITUTE(SUBSTITUTE(SUBSTITUTE(RIGHT(INDIRECT(\"Trello!\"&ADDRESS(ROW()-1, M$1, 4)),LEN(INDIRECT(\"Trello!\"&ADDRESS(ROW()-1, M$1, 4)))-15),\". \",\"/\"),\" 20\",\"/20\"),\" \",\"\"),\"\")","v":""},"","","",{"$f":"IFERROR(SUBSTITUTE(INDIRECT(\"Trello!\"&ADDRESS(ROW()-1, O$1, 4)),\"Estimate hrs: \",\"\")*1,\"\")","v":""},{"$f":"IF(SUMIF(Timecamp!C:C,Reporte!A321,Timecamp!J:J)=0,\"\",SUMIF(Timecamp!C:C,Reporte!A321,Timecamp!J:J))","v":""},"","",{"$f":"IFERROR(VLOOKUP(A321,'SLA Trab'!E:I,5,FALSE),\"\")","v":""},{"$f":"IFERROR(VLOOKUP(A321,'SLA Cobr'!E:I,5,FALSE),\"\")","v":""}]
[{"$f":"IFERROR(IF(Trello!E321=\"\",\"\",Trello!E321),\" \")","v":""},{"$f":"IF($A322=\"\",\"\",IF(Trello!A321=\"\",B321,Trello!A321))","v":""},"",{"$f":"IF($A322=\"\",\"\",SUBSTITUTE(SUBSTITUTE(Trello!J321,\" days\",\"\"),\"⌚ \",\"\")*1)","v":""},{"$f":"IFERROR(IF($A322=\"\",\"\",SUBSTITUTE(SUBSTITUTE(SUBSTITUTE(INDIRECT(\"Trello!\"&ADDRESS(ROW()-1, E$1, 4)),\"Foreign: \",\"\"),\" $\",\"\"),\".\",\"\")*1),\"\")","v":""},{"$f":"IF($E322=\"\",IFERROR(IF($A322=\"\",\"\",SUBSTITUTE(SUBSTITUTE(SUBSTITUTE(INDIRECT(\"Trello!\"&ADDRESS(ROW()-1, F$1, 4)),\"MXN: \",\"\"),\" MX$\",\"\"),\".\",\"\")*1),\"\"),E322*F$2)","v":""},{"$f":"IFERROR(IF($A322=\"\",\"\",SUBSTITUTE(SUBSTITUTE(SUBSTITUTE(INDIRECT(\"Trello!\"&ADDRESS(ROW()-1, G$1, 4)),\"Debt: \",\"\"),\" $\",\"\"),\".\",\"\")*1)*IF(E322=\"\",1,F$2),\"\")","v":""},{"$f":"IFERROR(IF($A322=\"\",\"\",SUBSTITUTE(SUBSTITUTE(SUBSTITUTE(INDIRECT(\"Trello!\"&ADDRESS(ROW()-1, H$1, 4)),\"Cost: \",\"\"),\" $\",\"\"),\".\",\"\")*1*$F$2),\"\")","v":""},"",{"$f":"IFERROR(SUBSTITUTE(SUBSTITUTE(SUBSTITUTE(RIGHT(INDIRECT(\"Trello!\"&ADDRESS(ROW()-1, L$1, 4)),LEN(INDIRECT(\"Trello!\"&ADDRESS(ROW()-1, L$1, 4)))-15),\". \",\"/\"),\" 20\",\"/20\"),\" \",\"\"),\"\")","v":""},{"$f":"IFERROR(SUBSTITUTE(SUBSTITUTE(SUBSTITUTE(RIGHT(INDIRECT(\"Trello!\"&ADDRESS(ROW()-1, M$1, 4)),LEN(INDIRECT(\"Trello!\"&ADDRESS(ROW()-1, M$1, 4)))-15),\". \",\"/\"),\" 20\",\"/20\"),\" \",\"\"),\"\")","v":""},"","","",{"$f":"IFERROR(SUBSTITUTE(INDIRECT(\"Trello!\"&ADDRESS(ROW()-1, O$1, 4)),\"Estimate hrs: \",\"\")*1,\"\")","v":""},{"$f":"IF(SUMIF(Timecamp!C:C,Reporte!A322,Timecamp!J:J)=0,\"\",SUMIF(Timecamp!C:C,Reporte!A322,Timecamp!J:J))","v":""},"","",{"$f":"IFERROR(VLOOKUP(A322,'SLA Trab'!E:I,5,FALSE),\"\")","v":""},{"$f":"IFERROR(VLOOKUP(A322,'SLA Cobr'!E:I,5,FALSE),\"\")","v":""}]
[{"$f":"IFERROR(IF(Trello!E322=\"\",\"\",Trello!E322),\" \")","v":""},{"$f":"IF($A323=\"\",\"\",IF(Trello!A322=\"\",B322,Trello!A322))","v":""},"",{"$f":"IF($A323=\"\",\"\",SUBSTITUTE(SUBSTITUTE(Trello!J322,\" days\",\"\"),\"⌚ \",\"\")*1)","v":""},{"$f":"IFERROR(IF($A323=\"\",\"\",SUBSTITUTE(SUBSTITUTE(SUBSTITUTE(INDIRECT(\"Trello!\"&ADDRESS(ROW()-1, E$1, 4)),\"Foreign: \",\"\"),\" $\",\"\"),\".\",\"\")*1),\"\")","v":""},{"$f":"IF($E323=\"\",IFERROR(IF($A323=\"\",\"\",SUBSTITUTE(SUBSTITUTE(SUBSTITUTE(INDIRECT(\"Trello!\"&ADDRESS(ROW()-1, F$1, 4)),\"MXN: \",\"\"),\" MX$\",\"\"),\".\",\"\")*1),\"\"),E323*F$2)","v":""},{"$f":"IFERROR(IF($A323=\"\",\"\",SUBSTITUTE(SUBSTITUTE(SUBSTITUTE(INDIRECT(\"Trello!\"&ADDRESS(ROW()-1, G$1, 4)),\"Debt: \",\"\"),\" $\",\"\"),\".\",\"\")*1)*IF(E323=\"\",1,F$2),\"\")","v":""},{"$f":"IFERROR(IF($A323=\"\",\"\",SUBSTITUTE(SUBSTITUTE(SUBSTITUTE(INDIRECT(\"Trello!\"&ADDRESS(ROW()-1, H$1, 4)),\"Cost: \",\"\"),\" $\",\"\"),\".\",\"\")*1*$F$2),\"\")","v":""},"",{"$f":"IFERROR(SUBSTITUTE(SUBSTITUTE(SUBSTITUTE(RIGHT(INDIRECT(\"Trello!\"&ADDRESS(ROW()-1, L$1, 4)),LEN(INDIRECT(\"Trello!\"&ADDRESS(ROW()-1, L$1, 4)))-15),\". \",\"/\"),\" 20\",\"/20\"),\" \",\"\"),\"\")","v":""},{"$f":"IFERROR(SUBSTITUTE(SUBSTITUTE(SUBSTITUTE(RIGHT(INDIRECT(\"Trello!\"&ADDRESS(ROW()-1, M$1, 4)),LEN(INDIRECT(\"Trello!\"&ADDRESS(ROW()-1, M$1, 4)))-15),\". \",\"/\"),\" 20\",\"/20\"),\" \",\"\"),\"\")","v":""},"","","",{"$f":"IFERROR(SUBSTITUTE(INDIRECT(\"Trello!\"&ADDRESS(ROW()-1, O$1, 4)),\"Estimate hrs: \",\"\")*1,\"\")","v":""},{"$f":"IF(SUMIF(Timecamp!C:C,Reporte!A323,Timecamp!J:J)=0,\"\",SUMIF(Timecamp!C:C,Reporte!A323,Timecamp!J:J))","v":""},{"$f":"IF(AND(O323>0,P323>0,O323<>\"\",P323<>\"\"),(P323/O323)-1,\"\")","v":""},{"$f":"IF(OR(P323=\"\",F323=\"\"),\"\",F323/P323)","v":""},{"$f":"IFERROR(VLOOKUP(A323,'SLA Trab'!E:I,5,FALSE),\"\")","v":""},{"$f":"IFERROR(VLOOKUP(A323,'SLA Cobr'!E:I,5,FALSE),\"\")","v":""}]
[{"$f":"IFERROR(IF(Trello!E323=\"\",\"\",Trello!E323),\" \")","v":""},{"$f":"IF($A324=\"\",\"\",IF(Trello!A323=\"\",B323,Trello!A323))","v":""},{"$f":"IF($A324=\"\",\"\",TODAY()-D324)","v":""},{"$f":"IF($A324=\"\",\"\",SUBSTITUTE(SUBSTITUTE(Trello!J323,\" days\",\"\"),\"⌚ \",\"\")*1)","v":""},{"$f":"IFERROR(IF($A324=\"\",\"\",SUBSTITUTE(SUBSTITUTE(SUBSTITUTE(INDIRECT(\"Trello!\"&ADDRESS(ROW()-1, E$1, 4)),\"Foreign: \",\"\"),\" $\",\"\"),\".\",\"\")*1),\"\")","v":""},{"$f":"IF($E324=\"\",IFERROR(IF($A324=\"\",\"\",SUBSTITUTE(SUBSTITUTE(SUBSTITUTE(INDIRECT(\"Trello!\"&ADDRESS(ROW()-1, F$1, 4)),\"MXN: \",\"\"),\" MX$\",\"\"),\".\",\"\")*1),\"\"),E324*F$2)","v":""},{"$f":"IFERROR(IF($A324=\"\",\"\",SUBSTITUTE(SUBSTITUTE(SUBSTITUTE(INDIRECT(\"Trello!\"&ADDRESS(ROW()-1, G$1, 4)),\"Debt: \",\"\"),\" $\",\"\"),\".\",\"\")*1)*IF(E324=\"\",1,F$2),\"\")","v":""},{"$f":"IFERROR(IF($A324=\"\",\"\",SUBSTITUTE(SUBSTITUTE(SUBSTITUTE(INDIRECT(\"Trello!\"&ADDRESS(ROW()-1, H$1, 4)),\"Cost: \",\"\"),\" $\",\"\"),\".\",\"\")*1*$F$2),\"\")","v":""},"",{"$f":"IFERROR(SUBSTITUTE(SUBSTITUTE(SUBSTITUTE(RIGHT(INDIRECT(\"Trello!\"&ADDRESS(ROW()-1, L$1, 4)),LEN(INDIRECT(\"Trello!\"&ADDRESS(ROW()-1, L$1, 4)))-15),\". \",\"/\"),\" 20\",\"/20\"),\" \",\"\"),\"\")","v":""},{"$f":"IFERROR(SUBSTITUTE(SUBSTITUTE(SUBSTITUTE(RIGHT(INDIRECT(\"Trello!\"&ADDRESS(ROW()-1, M$1, 4)),LEN(INDIRECT(\"Trello!\"&ADDRESS(ROW()-1, M$1, 4)))-15),\". \",\"/\"),\" 20\",\"/20\"),\" \",\"\"),\"\")","v":""},"","","",{"$f":"IFERROR(SUBSTITUTE(INDIRECT(\"Trello!\"&ADDRESS(ROW()-1, O$1, 4)),\"Estimate hrs: \",\"\")*1,\"\")","v":""},{"$f":"IF(SUMIF(Timecamp!C:C,Reporte!A324,Timecamp!J:J)=0,\"\",SUMIF(Timecamp!C:C,Reporte!A324,Timecamp!J:J))","v":""},"","",{"$f":"IFERROR(VLOOKUP(A324,'SLA Trab'!E:I,5,FALSE),\"\")","v":""},{"$f":"IFERROR(VLOOKUP(A324,'SLA Cobr'!E:I,5,FALSE),\"\")","v":""}]
[{"$f":"IFERROR(IF(Trello!E324=\"\",\"\",Trello!E324),\" \")","v":""},{"$f":"IF($A325=\"\",\"\",IF(Trello!A324=\"\",B324,Trello!A324))","v":""},"",{"$f":"IF($A325=\"\",\"\",SUBSTITUTE(SUBSTITUTE(Trello!J324,\" days\",\"\"),\"⌚ \",\"\")*1)","v":""},{"$f":"IFERROR(IF($A325=\"\",\"\",SUBSTITUTE(SUBSTITUTE(SUBSTITUTE(INDIRECT(\"Trello!\"&ADDRESS(ROW()-1, E$1, 4)),\"Foreign: \",\"\"),\" $\",\"\"),\".\",\"\")*1),\"\")","v":""},{"$f":"IF($E325=\"\",IFERROR(IF($A325=\"\",\"\",SUBSTITUTE(SUBSTITUTE(SUBSTITUTE(INDIRECT(\"Trello!\"&ADDRESS(ROW()-1, F$1, 4)),\"MXN: \",\"\"),\" MX$\",\"\"),\".\",\"\")*1),\"\"),E325*F$2)","v":""},{"$f":"IFERROR(IF($A325=\"\",\"\",SUBSTITUTE(SUBSTITUTE(SUBSTITUTE(INDIRECT(\"Trello!\"&ADDRESS(ROW()-1, G$1, 4)),\"Debt: \",\"\"),\" $\",\"\"),\".\",\"\")*1)*IF(E325=\"\",1,F$2),\"\")","v":""},{"$f":"IFERROR(IF($A325=\"\",\"\",SUBSTITUTE(SUBSTITUTE(SUBSTITUTE(INDIRECT(\"Trello!\"&ADDRESS(ROW()-1, H$1, 4)),\"Cost: \",\"\"),\" $\",\"\"),\".\",\"\")*1*$F$2),\"\")","v":""},{"$f":"IF(OR(F325=\"\",H325=\"\"),F325,F325-H325)","v":""},{"$f":"IFERROR(SUBSTITUTE(SUBSTITUTE(SUBSTITUTE(RIGHT(INDIRECT(\"Trello!\"&ADDRESS(ROW()-1, L$1, 4)),LEN(INDIRECT(\"Trello!\"&ADDRESS(ROW()-1, L$1, 4)))-15),\". \",\"/\"),\" 20\",\"/20\"),\" \",\"\"),\"\")","v":""},{"$f":"IFERROR(SUBSTITUTE(SUBSTITUTE(SUBSTITUTE(RIGHT(INDIRECT(\"Trello!\"&ADDRESS(ROW()-1, M$1, 4)),LEN(INDIRECT(\"Trello!\"&ADDRESS(ROW()-1, M$1, 4)))-15),\". \",\"/\"),\" 20\",\"/20\"),\" \",\"\"),\"\")","v":""},"","","",{"$f":"IFERROR(SUBSTITUTE(INDIRECT(\"Trello!\"&ADDRESS(ROW()-1, O$1, 4)),\"Estimate hrs: \",\"\")*1,\"\")","v":""},{"$f":"IF(SUMIF(Timecamp!C:C,Reporte!A325,Timecamp!J:J)=0,\"\",SUMIF(Timecamp!C:C,Reporte!A325,Timecamp!J:J))","v":""},"","",{"$f":"IFERROR(VLOOKUP(A325,'SLA Trab'!E:I,5,FALSE),\"\")","v":""},{"$f":"IFERROR(VLOOKUP(A325,'SLA Cobr'!E:I,5,FALSE),\"\")","v":""}]
[{"$f":"IFERROR(IF(Trello!E325=\"\",\"\",Trello!E325),\" \")","v":""},{"$f":"IF($A326=\"\",\"\",IF(Trello!A325=\"\",B325,Trello!A325))","v":""},"",{"$f":"IF($A326=\"\",\"\",SUBSTITUTE(SUBSTITUTE(Trello!J325,\" days\",\"\"),\"⌚ \",\"\")*1)","v":""},{"$f":"IFERROR(IF($A326=\"\",\"\",SUBSTITUTE(SUBSTITUTE(SUBSTITUTE(INDIRECT(\"Trello!\"&ADDRESS(ROW()-1, E$1, 4)),\"Foreign: \",\"\"),\" $\",\"\"),\".\",\"\")*1),\"\")","v":""},{"$f":"IF($E326=\"\",IFERROR(IF($A326=\"\",\"\",SUBSTITUTE(SUBSTITUTE(SUBSTITUTE(INDIRECT(\"Trello!\"&ADDRESS(ROW()-1, F$1, 4)),\"MXN: \",\"\"),\" MX$\",\"\"),\".\",\"\")*1),\"\"),E326*F$2)","v":""},{"$f":"IFERROR(IF($A326=\"\",\"\",SUBSTITUTE(SUBSTITUTE(SUBSTITUTE(INDIRECT(\"Trello!\"&ADDRESS(ROW()-1, G$1, 4)),\"Debt: \",\"\"),\" $\",\"\"),\".\",\"\")*1)*IF(E326=\"\",1,F$2),\"\")","v":""},{"$f":"IFERROR(IF($A326=\"\",\"\",SUBSTITUTE(SUBSTITUTE(SUBSTITUTE(INDIRECT(\"Trello!\"&ADDRESS(ROW()-1, H$1, 4)),\"Cost: \",\"\"),\" $\",\"\"),\".\",\"\")*1*$F$2),\"\")","v":""},"",{"$f":"IFERROR(SUBSTITUTE(SUBSTITUTE(SUBSTITUTE(RIGHT(INDIRECT(\"Trello!\"&ADDRESS(ROW()-1, L$1, 4)),LEN(INDIRECT(\"Trello!\"&ADDRESS(ROW()-1, L$1, 4)))-15),\". \",\"/\"),\" 20\",\"/20\"),\" \",\"\"),\"\")","v":""},{"$f":"IFERROR(SUBSTITUTE(SUBSTITUTE(SUBSTITUTE(RIGHT(INDIRECT(\"Trello!\"&ADDRESS(ROW()-1, M$1, 4)),LEN(INDIRECT(\"Trello!\"&ADDRESS(ROW()-1, M$1, 4)))-15),\". \",\"/\"),\" 20\",\"/20\"),\" \",\"\"),\"\")","v":""},"","","",{"$f":"IFERROR(SUBSTITUTE(INDIRECT(\"Trello!\"&ADDRESS(ROW()-1, O$1, 4)),\"Estimate hrs: \",\"\")*1,\"\")","v":""},{"$f":"IF(SUMIF(Timecamp!C:C,Reporte!A326,Timecamp!J:J)=0,\"\",SUMIF(Timecamp!C:C,Reporte!A326,Timecamp!J:J))","v":""},"","",{"$f":"IFERROR(VLOOKUP(A326,'SLA Trab'!E:I,5,FALSE),\"\")","v":""},{"$f":"IFERROR(VLOOKUP(A326,'SLA Cobr'!E:I,5,FALSE),\"\")","v":""}]
[{"$f":"IFERROR(IF(Trello!E326=\"\",\"\",Trello!E326),\" \")","v":""},{"$f":"IF($A327=\"\",\"\",IF(Trello!A326=\"\",B326,Trello!A326))","v":""},"",{"$f":"IF($A327=\"\",\"\",SUBSTITUTE(SUBSTITUTE(Trello!J326,\" days\",\"\"),\"⌚ \",\"\")*1)","v":""},{"$f":"IFERROR(IF($A327=\"\",\"\",SUBSTITUTE(SUBSTITUTE(SUBSTITUTE(INDIRECT(\"Trello!\"&ADDRESS(ROW()-1, E$1, 4)),\"Foreign: \",\"\"),\" $\",\"\"),\".\",\"\")*1),\"\")","v":""},{"$f":"IF($E327=\"\",IFERROR(IF($A327=\"\",\"\",SUBSTITUTE(SUBSTITUTE(SUBSTITUTE(INDIRECT(\"Trello!\"&ADDRESS(ROW()-1, F$1, 4)),\"MXN: \",\"\"),\" MX$\",\"\"),\".\",\"\")*1),\"\"),E327*F$2)","v":""},{"$f":"IFERROR(IF($A327=\"\",\"\",SUBSTITUTE(SUBSTITUTE(SUBSTITUTE(INDIRECT(\"Trello!\"&ADDRESS(ROW()-1, G$1, 4)),\"Debt: \",\"\"),\" $\",\"\"),\".\",\"\")*1)*IF(E327=\"\",1,F$2),\"\")","v":""},{"$f":"IFERROR(IF($A327=\"\",\"\",SUBSTITUTE(SUBSTITUTE(SUBSTITUTE(INDIRECT(\"Trello!\"&ADDRESS(ROW()-1, H$1, 4)),\"Cost: \",\"\"),\" $\",\"\"),\".\",\"\")*1*$F$2),\"\")","v":""},"",{"$f":"IFERROR(SUBSTITUTE(SUBSTITUTE(SUBSTITUTE(RIGHT(INDIRECT(\"Trello!\"&ADDRESS(ROW()-1, L$1, 4)),LEN(INDIRECT(\"Trello!\"&ADDRESS(ROW()-1, L$1, 4)))-15),\". \",\"/\"),\" 20\",\"/20\"),\" \",\"\"),\"\")","v":""},{"$f":"IFERROR(SUBSTITUTE(SUBSTITUTE(SUBSTITUTE(RIGHT(INDIRECT(\"Trello!\"&ADDRESS(ROW()-1, M$1, 4)),LEN(INDIRECT(\"Trello!\"&ADDRESS(ROW()-1, M$1, 4)))-15),\". \",\"/\"),\" 20\",\"/20\"),\" \",\"\"),\"\")","v":""},"","","",{"$f":"IFERROR(SUBSTITUTE(INDIRECT(\"Trello!\"&ADDRESS(ROW()-1, O$1, 4)),\"Estimate hrs: \",\"\")*1,\"\")","v":""},{"$f":"IF(SUMIF(Timecamp!C:C,Reporte!A327,Timecamp!J:J)=0,\"\",SUMIF(Timecamp!C:C,Reporte!A327,Timecamp!J:J))","v":""},"","",{"$f":"IFERROR(VLOOKUP(A327,'SLA Trab'!E:I,5,FALSE),\"\")","v":""},{"$f":"IFERROR(VLOOKUP(A327,'SLA Cobr'!E:I,5,FALSE),\"\")","v":""}]
[{"$f":"IFERROR(IF(Trello!E327=\"\",\"\",Trello!E327),\" \")","v":""},{"$f":"IF($A328=\"\",\"\",IF(Trello!A327=\"\",B327,Trello!A327))","v":""},"",{"$f":"IF($A328=\"\",\"\",SUBSTITUTE(SUBSTITUTE(Trello!J327,\" days\",\"\"),\"⌚ \",\"\")*1)","v":""},{"$f":"IFERROR(IF($A328=\"\",\"\",SUBSTITUTE(SUBSTITUTE(SUBSTITUTE(INDIRECT(\"Trello!\"&ADDRESS(ROW()-1, E$1, 4)),\"Foreign: \",\"\"),\" $\",\"\"),\".\",\"\")*1),\"\")","v":""},{"$f":"IF($E328=\"\",IFERROR(IF($A328=\"\",\"\",SUBSTITUTE(SUBSTITUTE(SUBSTITUTE(INDIRECT(\"Trello!\"&ADDRESS(ROW()-1, F$1, 4)),\"MXN: \",\"\"),\" MX$\",\"\"),\".\",\"\")*1),\"\"),E328*F$2)","v":""},{"$f":"IFERROR(IF($A328=\"\",\"\",SUBSTITUTE(SUBSTITUTE(SUBSTITUTE(INDIRECT(\"Trello!\"&ADDRESS(ROW()-1, G$1, 4)),\"Debt: \",\"\"),\" $\",\"\"),\".\",\"\")*1)*IF(E328=\"\",1,F$2),\"\")","v":""},{"$f":"IFERROR(IF($A328=\"\",\"\",SUBSTITUTE(SUBSTITUTE(SUBSTITUTE(INDIRECT(\"Trello!\"&ADDRESS(ROW()-1, H$1, 4)),\"Cost: \",\"\"),\" $\",\"\"),\".\",\"\")*1*$F$2),\"\")","v":""},"",{"$f":"IFERROR(SUBSTITUTE(SUBSTITUTE(SUBSTITUTE(RIGHT(INDIRECT(\"Trello!\"&ADDRESS(ROW()-1, L$1, 4)),LEN(INDIRECT(\"Trello!\"&ADDRESS(ROW()-1, L$1, 4)))-15),\". \",\"/\"),\" 20\",\"/20\"),\" \",\"\"),\"\")","v":""},{"$f":"IFERROR(SUBSTITUTE(SUBSTITUTE(SUBSTITUTE(RIGHT(INDIRECT(\"Trello!\"&ADDRESS(ROW()-1, M$1, 4)),LEN(INDIRECT(\"Trello!\"&ADDRESS(ROW()-1, M$1, 4)))-15),\". \",\"/\"),\" 20\",\"/20\"),\" \",\"\"),\"\")","v":""},"","","",{"$f":"IFERROR(SUBSTITUTE(INDIRECT(\"Trello!\"&ADDRESS(ROW()-1, O$1, 4)),\"Estimate hrs: \",\"\")*1,\"\")","v":""},{"$f":"IF(SUMIF(Timecamp!C:C,Reporte!A328,Timecamp!J:J)=0,\"\",SUMIF(Timecamp!C:C,Reporte!A328,Timecamp!J:J))","v":""},"","",{"$f":"IFERROR(VLOOKUP(A328,'SLA Trab'!E:I,5,FALSE),\"\")","v":""},{"$f":"IFERROR(VLOOKUP(A328,'SLA Cobr'!E:I,5,FALSE),\"\")","v":""}]
[{"$f":"IFERROR(IF(Trello!E328=\"\",\"\",Trello!E328),\" \")","v":""},{"$f":"IF($A329=\"\",\"\",IF(Trello!A328=\"\",B328,Trello!A328))","v":""},"",{"$f":"IF($A329=\"\",\"\",SUBSTITUTE(SUBSTITUTE(Trello!J328,\" days\",\"\"),\"⌚ \",\"\")*1)","v":""},{"$f":"IFERROR(IF($A329=\"\",\"\",SUBSTITUTE(SUBSTITUTE(SUBSTITUTE(INDIRECT(\"Trello!\"&ADDRESS(ROW()-1, E$1, 4)),\"Foreign: \",\"\"),\" $\",\"\"),\".\",\"\")*1),\"\")","v":""},{"$f":"IF($E329=\"\",IFERROR(IF($A329=\"\",\"\",SUBSTITUTE(SUBSTITUTE(SUBSTITUTE(INDIRECT(\"Trello!\"&ADDRESS(ROW()-1, F$1, 4)),\"MXN: \",\"\"),\" MX$\",\"\"),\".\",\"\")*1),\"\"),E329*F$2)","v":""},{"$f":"IFERROR(IF($A329=\"\",\"\",SUBSTITUTE(SUBSTITUTE(SUBSTITUTE(INDIRECT(\"Trello!\"&ADDRESS(ROW()-1, G$1, 4)),\"Debt: \",\"\"),\" $\",\"\"),\".\",\"\")*1)*IF(E329=\"\",1,F$2),\"\")","v":""},{"$f":"IFERROR(IF($A329=\"\",\"\",SUBSTITUTE(SUBSTITUTE(SUBSTITUTE(INDIRECT(\"Trello!\"&ADDRESS(ROW()-1, H$1, 4)),\"Cost: \",\"\"),\" $\",\"\"),\".\",\"\")*1*$F$2),\"\")","v":""},"",{"$f":"IFERROR(SUBSTITUTE(SUBSTITUTE(SUBSTITUTE(RIGHT(INDIRECT(\"Trello!\"&ADDRESS(ROW()-1, L$1, 4)),LEN(INDIRECT(\"Trello!\"&ADDRESS(ROW()-1, L$1, 4)))-15),\". \",\"/\"),\" 20\",\"/20\"),\" \",\"\"),\"\")","v":""},{"$f":"IFERROR(SUBSTITUTE(SUBSTITUTE(SUBSTITUTE(RIGHT(INDIRECT(\"Trello!\"&ADDRESS(ROW()-1, M$1, 4)),LEN(INDIRECT(\"Trello!\"&ADDRESS(ROW()-1, M$1, 4)))-15),\". \",\"/\"),\" 20\",\"/20\"),\" \",\"\"),\"\")","v":""},"","","",{"$f":"IFERROR(SUBSTITUTE(INDIRECT(\"Trello!\"&ADDRESS(ROW()-1, O$1, 4)),\"Estimate hrs: \",\"\")*1,\"\")","v":""},{"$f":"IF(SUMIF(Timecamp!C:C,Reporte!A329,Timecamp!J:J)=0,\"\",SUMIF(Timecamp!C:C,Reporte!A329,Timecamp!J:J))","v":""},"","",{"$f":"IFERROR(VLOOKUP(A329,'SLA Trab'!E:I,5,FALSE),\"\")","v":""},{"$f":"IFERROR(VLOOKUP(A329,'SLA Cobr'!E:I,5,FALSE),\"\")","v":""}]
[{"$f":"IFERROR(IF(Trello!E329=\"\",\"\",Trello!E329),\" \")","v":""},{"$f":"IF($A330=\"\",\"\",IF(Trello!A329=\"\",B329,Trello!A329))","v":""},"",{"$f":"IF($A330=\"\",\"\",SUBSTITUTE(SUBSTITUTE(Trello!J329,\" days\",\"\"),\"⌚ \",\"\")*1)","v":""},{"$f":"IFERROR(IF($A330=\"\",\"\",SUBSTITUTE(SUBSTITUTE(SUBSTITUTE(INDIRECT(\"Trello!\"&ADDRESS(ROW()-1, E$1, 4)),\"Foreign: \",\"\"),\" $\",\"\"),\".\",\"\")*1),\"\")","v":""},{"$f":"IF($E330=\"\",IFERROR(IF($A330=\"\",\"\",SUBSTITUTE(SUBSTITUTE(SUBSTITUTE(INDIRECT(\"Trello!\"&ADDRESS(ROW()-1, F$1, 4)),\"MXN: \",\"\"),\" MX$\",\"\"),\".\",\"\")*1),\"\"),E330*F$2)","v":""},{"$f":"IFERROR(IF($A330=\"\",\"\",SUBSTITUTE(SUBSTITUTE(SUBSTITUTE(INDIRECT(\"Trello!\"&ADDRESS(ROW()-1, G$1, 4)),\"Debt: \",\"\"),\" $\",\"\"),\".\",\"\")*1)*IF(E330=\"\",1,F$2),\"\")","v":""},{"$f":"IFERROR(IF($A330=\"\",\"\",SUBSTITUTE(SUBSTITUTE(SUBSTITUTE(INDIRECT(\"Trello!\"&ADDRESS(ROW()-1, H$1, 4)),\"Cost: \",\"\"),\" $\",\"\"),\".\",\"\")*1*$F$2),\"\")","v":""},"",{"$f":"IFERROR(SUBSTITUTE(SUBSTITUTE(SUBSTITUTE(RIGHT(INDIRECT(\"Trello!\"&ADDRESS(ROW()-1, L$1, 4)),LEN(INDIRECT(\"Trello!\"&ADDRESS(ROW()-1, L$1, 4)))-15),\". \",\"/\"),\" 20\",\"/20\"),\" \",\"\"),\"\")","v":""},{"$f":"IFERROR(SUBSTITUTE(SUBSTITUTE(SUBSTITUTE(RIGHT(INDIRECT(\"Trello!\"&ADDRESS(ROW()-1, M$1, 4)),LEN(INDIRECT(\"Trello!\"&ADDRESS(ROW()-1, M$1, 4)))-15),\". \",\"/\"),\" 20\",\"/20\"),\" \",\"\"),\"\")","v":""},"","",{"$f":"IF(AND(L330>0,M330>0,L330<>\"\",M330<>\"\"),L330-M330,\"\")","v":""},{"$f":"IFERROR(SUBSTITUTE(INDIRECT(\"Trello!\"&ADDRESS(ROW()-1, O$1, 4)),\"Estimate hrs: \",\"\")*1,\"\")","v":""},{"$f":"IF(SUMIF(Timecamp!C:C,Reporte!A330,Timecamp!J:J)=0,\"\",SUMIF(Timecamp!C:C,Reporte!A330,Timecamp!J:J))","v":""},"","",{"$f":"IFERROR(VLOOKUP(A330,'SLA Trab'!E:I,5,FALSE),\"\")","v":""},{"$f":"IFERROR(VLOOKUP(A330,'SLA Cobr'!E:I,5,FALSE),\"\")","v":""}]
[{"$f":"IFERROR(IF(Trello!E330=\"\",\"\",Trello!E330),\" \")","v":""},{"$f":"IF($A331=\"\",\"\",IF(Trello!A330=\"\",B330,Trello!A330))","v":""},"",{"$f":"IF($A331=\"\",\"\",SUBSTITUTE(SUBSTITUTE(Trello!J330,\" days\",\"\"),\"⌚ \",\"\")*1)","v":""},{"$f":"IFERROR(IF($A331=\"\",\"\",SUBSTITUTE(SUBSTITUTE(SUBSTITUTE(INDIRECT(\"Trello!\"&ADDRESS(ROW()-1, E$1, 4)),\"Foreign: \",\"\"),\" $\",\"\"),\".\",\"\")*1),\"\")","v":""},{"$f":"IF($E331=\"\",IFERROR(IF($A331=\"\",\"\",SUBSTITUTE(SUBSTITUTE(SUBSTITUTE(INDIRECT(\"Trello!\"&ADDRESS(ROW()-1, F$1, 4)),\"MXN: \",\"\"),\" MX$\",\"\"),\".\",\"\")*1),\"\"),E331*F$2)","v":""},{"$f":"IFERROR(IF($A331=\"\",\"\",SUBSTITUTE(SUBSTITUTE(SUBSTITUTE(INDIRECT(\"Trello!\"&ADDRESS(ROW()-1, G$1, 4)),\"Debt: \",\"\"),\" $\",\"\"),\".\",\"\")*1)*IF(E331=\"\",1,F$2),\"\")","v":""},{"$f":"IFERROR(IF($A331=\"\",\"\",SUBSTITUTE(SUBSTITUTE(SUBSTITUTE(INDIRECT(\"Trello!\"&ADDRESS(ROW()-1, H$1, 4)),\"Cost: \",\"\"),\" $\",\"\"),\".\",\"\")*1*$F$2),\"\")","v":""},"",{"$f":"IFERROR(SUBSTITUTE(SUBSTITUTE(SUBSTITUTE(RIGHT(INDIRECT(\"Trello!\"&ADDRESS(ROW()-1, L$1, 4)),LEN(INDIRECT(\"Trello!\"&ADDRESS(ROW()-1, L$1, 4)))-15),\". \",\"/\"),\" 20\",\"/20\"),\" \",\"\"),\"\")","v":""},{"$f":"IFERROR(SUBSTITUTE(SUBSTITUTE(SUBSTITUTE(RIGHT(INDIRECT(\"Trello!\"&ADDRESS(ROW()-1, M$1, 4)),LEN(INDIRECT(\"Trello!\"&ADDRESS(ROW()-1, M$1, 4)))-15),\". \",\"/\"),\" 20\",\"/20\"),\" \",\"\"),\"\")","v":""},{"$f":"IFERROR(SUBSTITUTE(SUBSTITUTE(SUBSTITUTE(SUBSTITUTE(SUBSTITUTE(SUBSTITUTE(SUBSTITUTE(SUBSTITUTE(SUBSTITUTE(SUBSTITUTE(SUBSTITUTE(SUBSTITUTE(J331,\"Dez\",12),\"Nov\",11),\"Okt\",10),\"Sept\",9),\"Aug\",8),\"Juli\",7),\"Juni\",6),\"Mai\",5),\"Apr\",4),\"März\",3),\"Feb\",2),\"Jan\",1)*1,\"\")","v":""},"","",{"$f":"IFERROR(SUBSTITUTE(INDIRECT(\"Trello!\"&ADDRESS(ROW()-1, O$1, 4)),\"Estimate hrs: \",\"\")*1,\"\")","v":""},{"$f":"IF(SUMIF(Timecamp!C:C,Reporte!A331,Timecamp!J:J)=0,\"\",SUMIF(Timecamp!C:C,Reporte!A331,Timecamp!J:J))","v":""},"","",{"$f":"IFERROR(VLOOKUP(A331,'SLA Trab'!E:I,5,FALSE),\"\")","v":""},{"$f":"IFERROR(VLOOKUP(A331,'SLA Cobr'!E:I,5,FALSE),\"\")","v":""}]
[{"$f":"IFERROR(IF(Trello!E331=\"\",\"\",Trello!E331),\" \")","v":""},{"$f":"IF($A332=\"\",\"\",IF(Trello!A331=\"\",B331,Trello!A331))","v":""},"",{"$f":"IF($A332=\"\",\"\",SUBSTITUTE(SUBSTITUTE(Trello!J331,\" days\",\"\"),\"⌚ \",\"\")*1)","v":""},{"$f":"IFERROR(IF($A332=\"\",\"\",SUBSTITUTE(SUBSTITUTE(SUBSTITUTE(INDIRECT(\"Trello!\"&ADDRESS(ROW()-1, E$1, 4)),\"Foreign: \",\"\"),\" $\",\"\"),\".\",\"\")*1),\"\")","v":""},{"$f":"IF($E332=\"\",IFERROR(IF($A332=\"\",\"\",SUBSTITUTE(SUBSTITUTE(SUBSTITUTE(INDIRECT(\"Trello!\"&ADDRESS(ROW()-1, F$1, 4)),\"MXN: \",\"\"),\" MX$\",\"\"),\".\",\"\")*1),\"\"),E332*F$2)","v":""},{"$f":"IFERROR(IF($A332=\"\",\"\",SUBSTITUTE(SUBSTITUTE(SUBSTITUTE(INDIRECT(\"Trello!\"&ADDRESS(ROW()-1, G$1, 4)),\"Debt: \",\"\"),\" $\",\"\"),\".\",\"\")*1)*IF(E332=\"\",1,F$2),\"\")","v":""},{"$f":"IFERROR(IF($A332=\"\",\"\",SUBSTITUTE(SUBSTITUTE(SUBSTITUTE(INDIRECT(\"Trello!\"&ADDRESS(ROW()-1, H$1, 4)),\"Cost: \",\"\"),\" $\",\"\"),\".\",\"\")*1*$F$2),\"\")","v":""},"",{"$f":"IFERROR(SUBSTITUTE(SUBSTITUTE(SUBSTITUTE(RIGHT(INDIRECT(\"Trello!\"&ADDRESS(ROW()-1, L$1, 4)),LEN(INDIRECT(\"Trello!\"&ADDRESS(ROW()-1, L$1, 4)))-15),\". \",\"/\"),\" 20\",\"/20\"),\" \",\"\"),\"\")","v":""},{"$f":"IFERROR(SUBSTITUTE(SUBSTITUTE(SUBSTITUTE(RIGHT(INDIRECT(\"Trello!\"&ADDRESS(ROW()-1, M$1, 4)),LEN(INDIRECT(\"Trello!\"&ADDRESS(ROW()-1, M$1, 4)))-15),\". \",\"/\"),\" 20\",\"/20\"),\" \",\"\"),\"\")","v":""},"","","",{"$f":"IFERROR(SUBSTITUTE(INDIRECT(\"Trello!\"&ADDRESS(ROW()-1, O$1, 4)),\"Estimate hrs: \",\"\")*1,\"\")","v":""},{"$f":"IF(SUMIF(Timecamp!C:C,Reporte!A332,Timecamp!J:J)=0,\"\",SUMIF(Timecamp!C:C,Reporte!A332,Timecamp!J:J))","v":""},"","",{"$f":"IFERROR(VLOOKUP(A332,'SLA Trab'!E:I,5,FALSE),\"\")","v":""},{"$f":"IFERROR(VLOOKUP(A332,'SLA Cobr'!E:I,5,FALSE),\"\")","v":""}]
[{"$f":"IFERROR(IF(Trello!E332=\"\",\"\",Trello!E332),\" \")","v":""},{"$f":"IF($A333=\"\",\"\",IF(Trello!A332=\"\",B332,Trello!A332))","v":""},"",{"$f":"IF($A333=\"\",\"\",SUBSTITUTE(SUBSTITUTE(Trello!J332,\" days\",\"\"),\"⌚ \",\"\")*1)","v":""},{"$f":"IFERROR(IF($A333=\"\",\"\",SUBSTITUTE(SUBSTITUTE(SUBSTITUTE(INDIRECT(\"Trello!\"&ADDRESS(ROW()-1, E$1, 4)),\"Foreign: \",\"\"),\" $\",\"\"),\".\",\"\")*1),\"\")","v":""},{"$f":"IF($E333=\"\",IFERROR(IF($A333=\"\",\"\",SUBSTITUTE(SUBSTITUTE(SUBSTITUTE(INDIRECT(\"Trello!\"&ADDRESS(ROW()-1, F$1, 4)),\"MXN: \",\"\"),\" MX$\",\"\"),\".\",\"\")*1),\"\"),E333*F$2)","v":""},{"$f":"IFERROR(IF($A333=\"\",\"\",SUBSTITUTE(SUBSTITUTE(SUBSTITUTE(INDIRECT(\"Trello!\"&ADDRESS(ROW()-1, G$1, 4)),\"Debt: \",\"\"),\" $\",\"\"),\".\",\"\")*1)*IF(E333=\"\",1,F$2),\"\")","v":""},{"$f":"IFERROR(IF($A333=\"\",\"\",SUBSTITUTE(SUBSTITUTE(SUBSTITUTE(INDIRECT(\"Trello!\"&ADDRESS(ROW()-1, H$1, 4)),\"Cost: \",\"\"),\" $\",\"\"),\".\",\"\")*1*$F$2),\"\")","v":""},"",{"$f":"IFERROR(SUBSTITUTE(SUBSTITUTE(SUBSTITUTE(RIGHT(INDIRECT(\"Trello!\"&ADDRESS(ROW()-1, L$1, 4)),LEN(INDIRECT(\"Trello!\"&ADDRESS(ROW()-1, L$1, 4)))-15),\". \",\"/\"),\" 20\",\"/20\"),\" \",\"\"),\"\")","v":""},{"$f":"IFERROR(SUBSTITUTE(SUBSTITUTE(SUBSTITUTE(RIGHT(INDIRECT(\"Trello!\"&ADDRESS(ROW()-1, M$1, 4)),LEN(INDIRECT(\"Trello!\"&ADDRESS(ROW()-1, M$1, 4)))-15),\". \",\"/\"),\" 20\",\"/20\"),\" \",\"\"),\"\")","v":""},"","","",{"$f":"IFERROR(SUBSTITUTE(INDIRECT(\"Trello!\"&ADDRESS(ROW()-1, O$1, 4)),\"Estimate hrs: \",\"\")*1,\"\")","v":""},{"$f":"IF(SUMIF(Timecamp!C:C,Reporte!A333,Timecamp!J:J)=0,\"\",SUMIF(Timecamp!C:C,Reporte!A333,Timecamp!J:J))","v":""},"","",{"$f":"IFERROR(VLOOKUP(A333,'SLA Trab'!E:I,5,FALSE),\"\")","v":""},{"$f":"IFERROR(VLOOKUP(A333,'SLA Cobr'!E:I,5,FALSE),\"\")","v":""}]
[{"$f":"IFERROR(IF(Trello!E333=\"\",\"\",Trello!E333),\" \")","v":""},{"$f":"IF($A334=\"\",\"\",IF(Trello!A333=\"\",B333,Trello!A333))","v":""},"",{"$f":"IF($A334=\"\",\"\",SUBSTITUTE(SUBSTITUTE(Trello!J333,\" days\",\"\"),\"⌚ \",\"\")*1)","v":""},{"$f":"IFERROR(IF($A334=\"\",\"\",SUBSTITUTE(SUBSTITUTE(SUBSTITUTE(INDIRECT(\"Trello!\"&ADDRESS(ROW()-1, E$1, 4)),\"Foreign: \",\"\"),\" $\",\"\"),\".\",\"\")*1),\"\")","v":""},{"$f":"IF($E334=\"\",IFERROR(IF($A334=\"\",\"\",SUBSTITUTE(SUBSTITUTE(SUBSTITUTE(INDIRECT(\"Trello!\"&ADDRESS(ROW()-1, F$1, 4)),\"MXN: \",\"\"),\" MX$\",\"\"),\".\",\"\")*1),\"\"),E334*F$2)","v":""},{"$f":"IFERROR(IF($A334=\"\",\"\",SUBSTITUTE(SUBSTITUTE(SUBSTITUTE(INDIRECT(\"Trello!\"&ADDRESS(ROW()-1, G$1, 4)),\"Debt: \",\"\"),\" $\",\"\"),\".\",\"\")*1)*IF(E334=\"\",1,F$2),\"\")","v":""},{"$f":"IFERROR(IF($A334=\"\",\"\",SUBSTITUTE(SUBSTITUTE(SUBSTITUTE(INDIRECT(\"Trello!\"&ADDRESS(ROW()-1, H$1, 4)),\"Cost: \",\"\"),\" $\",\"\"),\".\",\"\")*1*$F$2),\"\")","v":""},"",{"$f":"IFERROR(SUBSTITUTE(SUBSTITUTE(SUBSTITUTE(RIGHT(INDIRECT(\"Trello!\"&ADDRESS(ROW()-1, L$1, 4)),LEN(INDIRECT(\"Trello!\"&ADDRESS(ROW()-1, L$1, 4)))-15),\". \",\"/\"),\" 20\",\"/20\"),\" \",\"\"),\"\")","v":""},{"$f":"IFERROR(SUBSTITUTE(SUBSTITUTE(SUBSTITUTE(RIGHT(INDIRECT(\"Trello!\"&ADDRESS(ROW()-1, M$1, 4)),LEN(INDIRECT(\"Trello!\"&ADDRESS(ROW()-1, M$1, 4)))-15),\". \",\"/\"),\" 20\",\"/20\"),\" \",\"\"),\"\")","v":""},"","","",{"$f":"IFERROR(SUBSTITUTE(INDIRECT(\"Trello!\"&ADDRESS(ROW()-1, O$1, 4)),\"Estimate hrs: \",\"\")*1,\"\")","v":""},{"$f":"IF(SUMIF(Timecamp!C:C,Reporte!A334,Timecamp!J:J)=0,\"\",SUMIF(Timecamp!C:C,Reporte!A334,Timecamp!J:J))","v":""},"","",{"$f":"IFERROR(VLOOKUP(A334,'SLA Trab'!E:I,5,FALSE),\"\")","v":""},{"$f":"IFERROR(VLOOKUP(A334,'SLA Cobr'!E:I,5,FALSE),\"\")","v":""}]
[{"$f":"IFERROR(IF(Trello!E334=\"\",\"\",Trello!E334),\" \")","v":""},{"$f":"IF($A335=\"\",\"\",IF(Trello!A334=\"\",B334,Trello!A334))","v":""},"",{"$f":"IF($A335=\"\",\"\",SUBSTITUTE(SUBSTITUTE(Trello!J334,\" days\",\"\"),\"⌚ \",\"\")*1)","v":""},{"$f":"IFERROR(IF($A335=\"\",\"\",SUBSTITUTE(SUBSTITUTE(SUBSTITUTE(INDIRECT(\"Trello!\"&ADDRESS(ROW()-1, E$1, 4)),\"Foreign: \",\"\"),\" $\",\"\"),\".\",\"\")*1),\"\")","v":""},{"$f":"IF($E335=\"\",IFERROR(IF($A335=\"\",\"\",SUBSTITUTE(SUBSTITUTE(SUBSTITUTE(INDIRECT(\"Trello!\"&ADDRESS(ROW()-1, F$1, 4)),\"MXN: \",\"\"),\" MX$\",\"\"),\".\",\"\")*1),\"\"),E335*F$2)","v":""},{"$f":"IFERROR(IF($A335=\"\",\"\",SUBSTITUTE(SUBSTITUTE(SUBSTITUTE(INDIRECT(\"Trello!\"&ADDRESS(ROW()-1, G$1, 4)),\"Debt: \",\"\"),\" $\",\"\"),\".\",\"\")*1)*IF(E335=\"\",1,F$2),\"\")","v":""},{"$f":"IFERROR(IF($A335=\"\",\"\",SUBSTITUTE(SUBSTITUTE(SUBSTITUTE(INDIRECT(\"Trello!\"&ADDRESS(ROW()-1, H$1, 4)),\"Cost: \",\"\"),\" $\",\"\"),\".\",\"\")*1*$F$2),\"\")","v":""},"",{"$f":"IFERROR(SUBSTITUTE(SUBSTITUTE(SUBSTITUTE(RIGHT(INDIRECT(\"Trello!\"&ADDRESS(ROW()-1, L$1, 4)),LEN(INDIRECT(\"Trello!\"&ADDRESS(ROW()-1, L$1, 4)))-15),\". \",\"/\"),\" 20\",\"/20\"),\" \",\"\"),\"\")","v":""},{"$f":"IFERROR(SUBSTITUTE(SUBSTITUTE(SUBSTITUTE(RIGHT(INDIRECT(\"Trello!\"&ADDRESS(ROW()-1, M$1, 4)),LEN(INDIRECT(\"Trello!\"&ADDRESS(ROW()-1, M$1, 4)))-15),\". \",\"/\"),\" 20\",\"/20\"),\" \",\"\"),\"\")","v":""},"","","",{"$f":"IFERROR(SUBSTITUTE(INDIRECT(\"Trello!\"&ADDRESS(ROW()-1, O$1, 4)),\"Estimate hrs: \",\"\")*1,\"\")","v":""},{"$f":"IF(SUMIF(Timecamp!C:C,Reporte!A335,Timecamp!J:J)=0,\"\",SUMIF(Timecamp!C:C,Reporte!A335,Timecamp!J:J))","v":""},"","",{"$f":"IFERROR(VLOOKUP(A335,'SLA Trab'!E:I,5,FALSE),\"\")","v":""},{"$f":"IFERROR(VLOOKUP(A335,'SLA Cobr'!E:I,5,FALSE),\"\")","v":""}]
[{"$f":"IFERROR(IF(Trello!E335=\"\",\"\",Trello!E335),\" \")","v":""},{"$f":"IF($A336=\"\",\"\",IF(Trello!A335=\"\",B335,Trello!A335))","v":""},"",{"$f":"IF($A336=\"\",\"\",SUBSTITUTE(SUBSTITUTE(Trello!J335,\" days\",\"\"),\"⌚ \",\"\")*1)","v":""},{"$f":"IFERROR(IF($A336=\"\",\"\",SUBSTITUTE(SUBSTITUTE(SUBSTITUTE(INDIRECT(\"Trello!\"&ADDRESS(ROW()-1, E$1, 4)),\"Foreign: \",\"\"),\" $\",\"\"),\".\",\"\")*1),\"\")","v":""},{"$f":"IF($E336=\"\",IFERROR(IF($A336=\"\",\"\",SUBSTITUTE(SUBSTITUTE(SUBSTITUTE(INDIRECT(\"Trello!\"&ADDRESS(ROW()-1, F$1, 4)),\"MXN: \",\"\"),\" MX$\",\"\"),\".\",\"\")*1),\"\"),E336*F$2)","v":""},{"$f":"IFERROR(IF($A336=\"\",\"\",SUBSTITUTE(SUBSTITUTE(SUBSTITUTE(INDIRECT(\"Trello!\"&ADDRESS(ROW()-1, G$1, 4)),\"Debt: \",\"\"),\" $\",\"\"),\".\",\"\")*1)*IF(E336=\"\",1,F$2),\"\")","v":""},{"$f":"IFERROR(IF($A336=\"\",\"\",SUBSTITUTE(SUBSTITUTE(SUBSTITUTE(INDIRECT(\"Trello!\"&ADDRESS(ROW()-1, H$1, 4)),\"Cost: \",\"\"),\" $\",\"\"),\".\",\"\")*1*$F$2),\"\")","v":""},"",{"$f":"IFERROR(SUBSTITUTE(SUBSTITUTE(SUBSTITUTE(RIGHT(INDIRECT(\"Trello!\"&ADDRESS(ROW()-1, L$1, 4)),LEN(INDIRECT(\"Trello!\"&ADDRESS(ROW()-1, L$1, 4)))-15),\". \",\"/\"),\" 20\",\"/20\"),\" \",\"\"),\"\")","v":""},{"$f":"IFERROR(SUBSTITUTE(SUBSTITUTE(SUBSTITUTE(RIGHT(INDIRECT(\"Trello!\"&ADDRESS(ROW()-1, M$1, 4)),LEN(INDIRECT(\"Trello!\"&ADDRESS(ROW()-1, M$1, 4)))-15),\". \",\"/\"),\" 20\",\"/20\"),\" \",\"\"),\"\")","v":""},"","","",{"$f":"IFERROR(SUBSTITUTE(INDIRECT(\"Trello!\"&ADDRESS(ROW()-1, O$1, 4)),\"Estimate hrs: \",\"\")*1,\"\")","v":""},{"$f":"IF(SUMIF(Timecamp!C:C,Reporte!A336,Timecamp!J:J)=0,\"\",SUMIF(Timecamp!C:C,Reporte!A336,Timecamp!J:J))","v":""},"","",{"$f":"IFERROR(VLOOKUP(A336,'SLA Trab'!E:I,5,FALSE),\"\")","v":""},{"$f":"IFERROR(VLOOKUP(A336,'SLA Cobr'!E:I,5,FALSE),\"\")","v":""}]
[{"$f":"IFERROR(IF(Trello!E336=\"\",\"\",Trello!E336),\" \")","v":""},{"$f":"IF($A337=\"\",\"\",IF(Trello!A336=\"\",B336,Trello!A336))","v":""},"",{"$f":"IF($A337=\"\",\"\",SUBSTITUTE(SUBSTITUTE(Trello!J336,\" days\",\"\"),\"⌚ \",\"\")*1)","v":""},{"$f":"IFERROR(IF($A337=\"\",\"\",SUBSTITUTE(SUBSTITUTE(SUBSTITUTE(INDIRECT(\"Trello!\"&ADDRESS(ROW()-1, E$1, 4)),\"Foreign: \",\"\"),\" $\",\"\"),\".\",\"\")*1),\"\")","v":""},{"$f":"IF($E337=\"\",IFERROR(IF($A337=\"\",\"\",SUBSTITUTE(SUBSTITUTE(SUBSTITUTE(INDIRECT(\"Trello!\"&ADDRESS(ROW()-1, F$1, 4)),\"MXN: \",\"\"),\" MX$\",\"\"),\".\",\"\")*1),\"\"),E337*F$2)","v":""},{"$f":"IFERROR(IF($A337=\"\",\"\",SUBSTITUTE(SUBSTITUTE(SUBSTITUTE(INDIRECT(\"Trello!\"&ADDRESS(ROW()-1, G$1, 4)),\"Debt: \",\"\"),\" $\",\"\"),\".\",\"\")*1)*IF(E337=\"\",1,F$2),\"\")","v":""},{"$f":"IFERROR(IF($A337=\"\",\"\",SUBSTITUTE(SUBSTITUTE(SUBSTITUTE(INDIRECT(\"Trello!\"&ADDRESS(ROW()-1, H$1, 4)),\"Cost: \",\"\"),\" $\",\"\"),\".\",\"\")*1*$F$2),\"\")","v":""},"",{"$f":"IFERROR(SUBSTITUTE(SUBSTITUTE(SUBSTITUTE(RIGHT(INDIRECT(\"Trello!\"&ADDRESS(ROW()-1, L$1, 4)),LEN(INDIRECT(\"Trello!\"&ADDRESS(ROW()-1, L$1, 4)))-15),\". \",\"/\"),\" 20\",\"/20\"),\" \",\"\"),\"\")","v":""},{"$f":"IFERROR(SUBSTITUTE(SUBSTITUTE(SUBSTITUTE(RIGHT(INDIRECT(\"Trello!\"&ADDRESS(ROW()-1, M$1, 4)),LEN(INDIRECT(\"Trello!\"&ADDRESS(ROW()-1, M$1, 4)))-15),\". \",\"/\"),\" 20\",\"/20\"),\" \",\"\"),\"\")","v":""},"","","",{"$f":"IFERROR(SUBSTITUTE(INDIRECT(\"Trello!\"&ADDRESS(ROW()-1, O$1, 4)),\"Estimate hrs: \",\"\")*1,\"\")","v":""},{"$f":"IF(SUMIF(Timecamp!C:C,Reporte!A337,Timecamp!J:J)=0,\"\",SUMIF(Timecamp!C:C,Reporte!A337,Timecamp!J:J))","v":""},"","",{"$f":"IFERROR(VLOOKUP(A337,'SLA Trab'!E:I,5,FALSE),\"\")","v":""},{"$f":"IFERROR(VLOOKUP(A337,'SLA Cobr'!E:I,5,FALSE),\"\")","v":""}]
[{"$f":"IFERROR(IF(Trello!E337=\"\",\"\",Trello!E337),\" \")","v":""},{"$f":"IF($A338=\"\",\"\",IF(Trello!A337=\"\",B337,Trello!A337))","v":""},"",{"$f":"IF($A338=\"\",\"\",SUBSTITUTE(SUBSTITUTE(Trello!J337,\" days\",\"\"),\"⌚ \",\"\")*1)","v":""},{"$f":"IFERROR(IF($A338=\"\",\"\",SUBSTITUTE(SUBSTITUTE(SUBSTITUTE(INDIRECT(\"Trello!\"&ADDRESS(ROW()-1, E$1, 4)),\"Foreign: \",\"\"),\" $\",\"\"),\".\",\"\")*1),\"\")","v":""},{"$f":"IF($E338=\"\",IFERROR(IF($A338=\"\",\"\",SUBSTITUTE(SUBSTITUTE(SUBSTITUTE(INDIRECT(\"Trello!\"&ADDRESS(ROW()-1, F$1, 4)),\"MXN: \",\"\"),\" MX$\",\"\"),\".\",\"\")*1),\"\"),E338*F$2)","v":""},{"$f":"IFERROR(IF($A338=\"\",\"\",SUBSTITUTE(SUBSTITUTE(SUBSTITUTE(INDIRECT(\"Trello!\"&ADDRESS(ROW()-1, G$1, 4)),\"Debt: \",\"\"),\" $\",\"\"),\".\",\"\")*1)*IF(E338=\"\",1,F$2),\"\")","v":""},{"$f":"IFERROR(IF($A338=\"\",\"\",SUBSTITUTE(SUBSTITUTE(SUBSTITUTE(INDIRECT(\"Trello!\"&ADDRESS(ROW()-1, H$1, 4)),\"Cost: \",\"\"),\" $\",\"\"),\".\",\"\")*1*$F$2),\"\")","v":""},"",{"$f":"IFERROR(SUBSTITUTE(SUBSTITUTE(SUBSTITUTE(RIGHT(INDIRECT(\"Trello!\"&ADDRESS(ROW()-1, L$1, 4)),LEN(INDIRECT(\"Trello!\"&ADDRESS(ROW()-1, L$1, 4)))-15),\". \",\"/\"),\" 20\",\"/20\"),\" \",\"\"),\"\")","v":""},{"$f":"IFERROR(SUBSTITUTE(SUBSTITUTE(SUBSTITUTE(RIGHT(INDIRECT(\"Trello!\"&ADDRESS(ROW()-1, M$1, 4)),LEN(INDIRECT(\"Trello!\"&ADDRESS(ROW()-1, M$1, 4)))-15),\". \",\"/\"),\" 20\",\"/20\"),\" \",\"\"),\"\")","v":""},"","","",{"$f":"IFERROR(SUBSTITUTE(INDIRECT(\"Trello!\"&ADDRESS(ROW()-1, O$1, 4)),\"Estimate hrs: \",\"\")*1,\"\")","v":""},{"$f":"IF(SUMIF(Timecamp!C:C,Reporte!A338,Timecamp!J:J)=0,\"\",SUMIF(Timecamp!C:C,Reporte!A338,Timecamp!J:J))","v":""},"","",{"$f":"IFERROR(VLOOKUP(A338,'SLA Trab'!E:I,5,FALSE),\"\")","v":""},{"$f":"IFERROR(VLOOKUP(A338,'SLA Cobr'!E:I,5,FALSE),\"\")","v":""}]
[{"$f":"IFERROR(IF(Trello!E338=\"\",\"\",Trello!E338),\" \")","v":""},{"$f":"IF($A339=\"\",\"\",IF(Trello!A338=\"\",B338,Trello!A338))","v":""},"",{"$f":"IF($A339=\"\",\"\",SUBSTITUTE(SUBSTITUTE(Trello!J338,\" days\",\"\"),\"⌚ \",\"\")*1)","v":""},{"$f":"IFERROR(IF($A339=\"\",\"\",SUBSTITUTE(SUBSTITUTE(SUBSTITUTE(INDIRECT(\"Trello!\"&ADDRESS(ROW()-1, E$1, 4)),\"Foreign: \",\"\"),\" $\",\"\"),\".\",\"\")*1),\"\")","v":""},{"$f":"IF($E339=\"\",IFERROR(IF($A339=\"\",\"\",SUBSTITUTE(SUBSTITUTE(SUBSTITUTE(INDIRECT(\"Trello!\"&ADDRESS(ROW()-1, F$1, 4)),\"MXN: \",\"\"),\" MX$\",\"\"),\".\",\"\")*1),\"\"),E339*F$2)","v":""},{"$f":"IFERROR(IF($A339=\"\",\"\",SUBSTITUTE(SUBSTITUTE(SUBSTITUTE(INDIRECT(\"Trello!\"&ADDRESS(ROW()-1, G$1, 4)),\"Debt: \",\"\"),\" $\",\"\"),\".\",\"\")*1)*IF(E339=\"\",1,F$2),\"\")","v":""},{"$f":"IFERROR(IF($A339=\"\",\"\",SUBSTITUTE(SUBSTITUTE(SUBSTITUTE(INDIRECT(\"Trello!\"&ADDRESS(ROW()-1, H$1, 4)),\"Cost: \",\"\"),\" $\",\"\"),\".\",\"\")*1*$F$2),\"\")","v":""},"",{"$f":"IFERROR(SUBSTITUTE(SUBSTITUTE(SUBSTITUTE(RIGHT(INDIRECT(\"Trello!\"&ADDRESS(ROW()-1, L$1, 4)),LEN(INDIRECT(\"Trello!\"&ADDRESS(ROW()-1, L$1, 4)))-15),\". \",\"/\"),\" 20\",\"/20\"),\" \",\"\"),\"\")","v":""},{"$f":"IFERROR(SUBSTITUTE(SUBSTITUTE(SUBSTITUTE(RIGHT(INDIRECT(\"Trello!\"&ADDRESS(ROW()-1, M$1, 4)),LEN(INDIRECT(\"Trello!\"&ADDRESS(ROW()-1, M$1, 4)))-15),\". \",\"/\"),\" 20\",\"/20\"),\" \",\"\"),\"\")","v":""},"","","",{"$f":"IFERROR(SUBSTITUTE(INDIRECT(\"Trello!\"&ADDRESS(ROW()-1, O$1, 4)),\"Estimate hrs: \",\"\")*1,\"\")","v":""},{"$f":"IF(SUMIF(Timecamp!C:C,Reporte!A339,Timecamp!J:J)=0,\"\",SUMIF(Timecamp!C:C,Reporte!A339,Timecamp!J:J))","v":""},"","",{"$f":"IFERROR(VLOOKUP(A339,'SLA Trab'!E:I,5,FALSE),\"\")","v":""},{"$f":"IFERROR(VLOOKUP(A339,'SLA Cobr'!E:I,5,FALSE),\"\")","v":""}]
[{"$f":"IFERROR(IF(Trello!E339=\"\",\"\",Trello!E339),\" \")","v":""},{"$f":"IF($A340=\"\",\"\",IF(Trello!A339=\"\",B339,Trello!A339))","v":""},"",{"$f":"IF($A340=\"\",\"\",SUBSTITUTE(SUBSTITUTE(Trello!J339,\" days\",\"\"),\"⌚ \",\"\")*1)","v":""},{"$f":"IFERROR(IF($A340=\"\",\"\",SUBSTITUTE(SUBSTITUTE(SUBSTITUTE(INDIRECT(\"Trello!\"&ADDRESS(ROW()-1, E$1, 4)),\"Foreign: \",\"\"),\" $\",\"\"),\".\",\"\")*1),\"\")","v":""},{"$f":"IF($E340=\"\",IFERROR(IF($A340=\"\",\"\",SUBSTITUTE(SUBSTITUTE(SUBSTITUTE(INDIRECT(\"Trello!\"&ADDRESS(ROW()-1, F$1, 4)),\"MXN: \",\"\"),\" MX$\",\"\"),\".\",\"\")*1),\"\"),E340*F$2)","v":""},{"$f":"IFERROR(IF($A340=\"\",\"\",SUBSTITUTE(SUBSTITUTE(SUBSTITUTE(INDIRECT(\"Trello!\"&ADDRESS(ROW()-1, G$1, 4)),\"Debt: \",\"\"),\" $\",\"\"),\".\",\"\")*1)*IF(E340=\"\",1,F$2),\"\")","v":""},{"$f":"IFERROR(IF($A340=\"\",\"\",SUBSTITUTE(SUBSTITUTE(SUBSTITUTE(INDIRECT(\"Trello!\"&ADDRESS(ROW()-1, H$1, 4)),\"Cost: \",\"\"),\" $\",\"\"),\".\",\"\")*1*$F$2),\"\")","v":""},"",{"$f":"IFERROR(SUBSTITUTE(SUBSTITUTE(SUBSTITUTE(RIGHT(INDIRECT(\"Trello!\"&ADDRESS(ROW()-1, L$1, 4)),LEN(INDIRECT(\"Trello!\"&ADDRESS(ROW()-1, L$1, 4)))-15),\". \",\"/\"),\" 20\",\"/20\"),\" \",\"\"),\"\")","v":""},{"$f":"IFERROR(SUBSTITUTE(SUBSTITUTE(SUBSTITUTE(RIGHT(INDIRECT(\"Trello!\"&ADDRESS(ROW()-1, M$1, 4)),LEN(INDIRECT(\"Trello!\"&ADDRESS(ROW()-1, M$1, 4)))-15),\". \",\"/\"),\" 20\",\"/20\"),\" \",\"\"),\"\")","v":""},"","","",{"$f":"IFERROR(SUBSTITUTE(INDIRECT(\"Trello!\"&ADDRESS(ROW()-1, O$1, 4)),\"Estimate hrs: \",\"\")*1,\"\")","v":""},{"$f":"IF(SUMIF(Timecamp!C:C,Reporte!A340,Timecamp!J:J)=0,\"\",SUMIF(Timecamp!C:C,Reporte!A340,Timecamp!J:J))","v":""},"","",{"$f":"IFERROR(VLOOKUP(A340,'SLA Trab'!E:I,5,FALSE),\"\")","v":""},{"$f":"IFERROR(VLOOKUP(A340,'SLA Cobr'!E:I,5,FALSE),\"\")","v":""}]
[{"$f":"IFERROR(IF(Trello!E340=\"\",\"\",Trello!E340),\" \")","v":""},{"$f":"IF($A341=\"\",\"\",IF(Trello!A340=\"\",B340,Trello!A340))","v":""},"",{"$f":"IF($A341=\"\",\"\",SUBSTITUTE(SUBSTITUTE(Trello!J340,\" days\",\"\"),\"⌚ \",\"\")*1)","v":""},{"$f":"IFERROR(IF($A341=\"\",\"\",SUBSTITUTE(SUBSTITUTE(SUBSTITUTE(INDIRECT(\"Trello!\"&ADDRESS(ROW()-1, E$1, 4)),\"Foreign: \",\"\"),\" $\",\"\"),\".\",\"\")*1),\"\")","v":""},{"$f":"IF($E341=\"\",IFERROR(IF($A341=\"\",\"\",SUBSTITUTE(SUBSTITUTE(SUBSTITUTE(INDIRECT(\"Trello!\"&ADDRESS(ROW()-1, F$1, 4)),\"MXN: \",\"\"),\" MX$\",\"\"),\".\",\"\")*1),\"\"),E341*F$2)","v":""},{"$f":"IFERROR(IF($A341=\"\",\"\",SUBSTITUTE(SUBSTITUTE(SUBSTITUTE(INDIRECT(\"Trello!\"&ADDRESS(ROW()-1, G$1, 4)),\"Debt: \",\"\"),\" $\",\"\"),\".\",\"\")*1)*IF(E341=\"\",1,F$2),\"\")","v":""},{"$f":"IFERROR(IF($A341=\"\",\"\",SUBSTITUTE(SUBSTITUTE(SUBSTITUTE(INDIRECT(\"Trello!\"&ADDRESS(ROW()-1, H$1, 4)),\"Cost: \",\"\"),\" $\",\"\"),\".\",\"\")*1*$F$2),\"\")","v":""},"",{"$f":"IFERROR(SUBSTITUTE(SUBSTITUTE(SUBSTITUTE(RIGHT(INDIRECT(\"Trello!\"&ADDRESS(ROW()-1, L$1, 4)),LEN(INDIRECT(\"Trello!\"&ADDRESS(ROW()-1, L$1, 4)))-15),\". \",\"/\"),\" 20\",\"/20\"),\" \",\"\"),\"\")","v":""},{"$f":"IFERROR(SUBSTITUTE(SUBSTITUTE(SUBSTITUTE(RIGHT(INDIRECT(\"Trello!\"&ADDRESS(ROW()-1, M$1, 4)),LEN(INDIRECT(\"Trello!\"&ADDRESS(ROW()-1, M$1, 4)))-15),\". \",\"/\"),\" 20\",\"/20\"),\" \",\"\"),\"\")","v":""},"","","",{"$f":"IFERROR(SUBSTITUTE(INDIRECT(\"Trello!\"&ADDRESS(ROW()-1, O$1, 4)),\"Estimate hrs: \",\"\")*1,\"\")","v":""},{"$f":"IF(SUMIF(Timecamp!C:C,Reporte!A341,Timecamp!J:J)=0,\"\",SUMIF(Timecamp!C:C,Reporte!A341,Timecamp!J:J))","v":""},"","",{"$f":"IFERROR(VLOOKUP(A341,'SLA Trab'!E:I,5,FALSE),\"\")","v":""},{"$f":"IFERROR(VLOOKUP(A341,'SLA Cobr'!E:I,5,FALSE),\"\")","v":""}]
[{"$f":"IFERROR(IF(Trello!E341=\"\",\"\",Trello!E341),\" \")","v":""},{"$f":"IF($A342=\"\",\"\",IF(Trello!A341=\"\",B341,Trello!A341))","v":""},"",{"$f":"IF($A342=\"\",\"\",SUBSTITUTE(SUBSTITUTE(Trello!J341,\" days\",\"\"),\"⌚ \",\"\")*1)","v":""},{"$f":"IFERROR(IF($A342=\"\",\"\",SUBSTITUTE(SUBSTITUTE(SUBSTITUTE(INDIRECT(\"Trello!\"&ADDRESS(ROW()-1, E$1, 4)),\"Foreign: \",\"\"),\" $\",\"\"),\".\",\"\")*1),\"\")","v":""},{"$f":"IF($E342=\"\",IFERROR(IF($A342=\"\",\"\",SUBSTITUTE(SUBSTITUTE(SUBSTITUTE(INDIRECT(\"Trello!\"&ADDRESS(ROW()-1, F$1, 4)),\"MXN: \",\"\"),\" MX$\",\"\"),\".\",\"\")*1),\"\"),E342*F$2)","v":""},{"$f":"IFERROR(IF($A342=\"\",\"\",SUBSTITUTE(SUBSTITUTE(SUBSTITUTE(INDIRECT(\"Trello!\"&ADDRESS(ROW()-1, G$1, 4)),\"Debt: \",\"\"),\" $\",\"\"),\".\",\"\")*1)*IF(E342=\"\",1,F$2),\"\")","v":""},{"$f":"IFERROR(IF($A342=\"\",\"\",SUBSTITUTE(SUBSTITUTE(SUBSTITUTE(INDIRECT(\"Trello!\"&ADDRESS(ROW()-1, H$1, 4)),\"Cost: \",\"\"),\" $\",\"\"),\".\",\"\")*1*$F$2),\"\")","v":""},"",{"$f":"IFERROR(SUBSTITUTE(SUBSTITUTE(SUBSTITUTE(RIGHT(INDIRECT(\"Trello!\"&ADDRESS(ROW()-1, L$1, 4)),LEN(INDIRECT(\"Trello!\"&ADDRESS(ROW()-1, L$1, 4)))-15),\". \",\"/\"),\" 20\",\"/20\"),\" \",\"\"),\"\")","v":""},{"$f":"IFERROR(SUBSTITUTE(SUBSTITUTE(SUBSTITUTE(RIGHT(INDIRECT(\"Trello!\"&ADDRESS(ROW()-1, M$1, 4)),LEN(INDIRECT(\"Trello!\"&ADDRESS(ROW()-1, M$1, 4)))-15),\". \",\"/\"),\" 20\",\"/20\"),\" \",\"\"),\"\")","v":""},"","","",{"$f":"IFERROR(SUBSTITUTE(INDIRECT(\"Trello!\"&ADDRESS(ROW()-1, O$1, 4)),\"Estimate hrs: \",\"\")*1,\"\")","v":""},{"$f":"IF(SUMIF(Timecamp!C:C,Reporte!A342,Timecamp!J:J)=0,\"\",SUMIF(Timecamp!C:C,Reporte!A342,Timecamp!J:J))","v":""},"","",{"$f":"IFERROR(VLOOKUP(A342,'SLA Trab'!E:I,5,FALSE),\"\")","v":""},{"$f":"IFERROR(VLOOKUP(A342,'SLA Cobr'!E:I,5,FALSE),\"\")","v":""}]
[{"$f":"IFERROR(IF(Trello!E342=\"\",\"\",Trello!E342),\" \")","v":""},{"$f":"IF($A343=\"\",\"\",IF(Trello!A342=\"\",B342,Trello!A342))","v":""},"",{"$f":"IF($A343=\"\",\"\",SUBSTITUTE(SUBSTITUTE(Trello!J342,\" days\",\"\"),\"⌚ \",\"\")*1)","v":""},{"$f":"IFERROR(IF($A343=\"\",\"\",SUBSTITUTE(SUBSTITUTE(SUBSTITUTE(INDIRECT(\"Trello!\"&ADDRESS(ROW()-1, E$1, 4)),\"Foreign: \",\"\"),\" $\",\"\"),\".\",\"\")*1),\"\")","v":""},{"$f":"IF($E343=\"\",IFERROR(IF($A343=\"\",\"\",SUBSTITUTE(SUBSTITUTE(SUBSTITUTE(INDIRECT(\"Trello!\"&ADDRESS(ROW()-1, F$1, 4)),\"MXN: \",\"\"),\" MX$\",\"\"),\".\",\"\")*1),\"\"),E343*F$2)","v":""},{"$f":"IFERROR(IF($A343=\"\",\"\",SUBSTITUTE(SUBSTITUTE(SUBSTITUTE(INDIRECT(\"Trello!\"&ADDRESS(ROW()-1, G$1, 4)),\"Debt: \",\"\"),\" $\",\"\"),\".\",\"\")*1)*IF(E343=\"\",1,F$2),\"\")","v":""},{"$f":"IFERROR(IF($A343=\"\",\"\",SUBSTITUTE(SUBSTITUTE(SUBSTITUTE(INDIRECT(\"Trello!\"&ADDRESS(ROW()-1, H$1, 4)),\"Cost: \",\"\"),\" $\",\"\"),\".\",\"\")*1*$F$2),\"\")","v":""},"",{"$f":"IFERROR(SUBSTITUTE(SUBSTITUTE(SUBSTITUTE(RIGHT(INDIRECT(\"Trello!\"&ADDRESS(ROW()-1, L$1, 4)),LEN(INDIRECT(\"Trello!\"&ADDRESS(ROW()-1, L$1, 4)))-15),\". \",\"/\"),\" 20\",\"/20\"),\" \",\"\"),\"\")","v":""},{"$f":"IFERROR(SUBSTITUTE(SUBSTITUTE(SUBSTITUTE(RIGHT(INDIRECT(\"Trello!\"&ADDRESS(ROW()-1, M$1, 4)),LEN(INDIRECT(\"Trello!\"&ADDRESS(ROW()-1, M$1, 4)))-15),\". \",\"/\"),\" 20\",\"/20\"),\" \",\"\"),\"\")","v":""},"","","",{"$f":"IFERROR(SUBSTITUTE(INDIRECT(\"Trello!\"&ADDRESS(ROW()-1, O$1, 4)),\"Estimate hrs: \",\"\")*1,\"\")","v":""},{"$f":"IF(SUMIF(Timecamp!C:C,Reporte!A343,Timecamp!J:J)=0,\"\",SUMIF(Timecamp!C:C,Reporte!A343,Timecamp!J:J))","v":""},"","",{"$f":"IFERROR(VLOOKUP(A343,'SLA Trab'!E:I,5,FALSE),\"\")","v":""},{"$f":"IFERROR(VLOOKUP(A343,'SLA Cobr'!E:I,5,FALSE),\"\")","v":""}]
[{"$f":"IFERROR(IF(Trello!E343=\"\",\"\",Trello!E343),\" \")","v":""},{"$f":"IF($A344=\"\",\"\",IF(Trello!A343=\"\",B343,Trello!A343))","v":""},"",{"$f":"IF($A344=\"\",\"\",SUBSTITUTE(SUBSTITUTE(Trello!J343,\" days\",\"\"),\"⌚ \",\"\")*1)","v":""},{"$f":"IFERROR(IF($A344=\"\",\"\",SUBSTITUTE(SUBSTITUTE(SUBSTITUTE(INDIRECT(\"Trello!\"&ADDRESS(ROW()-1, E$1, 4)),\"Foreign: \",\"\"),\" $\",\"\"),\".\",\"\")*1),\"\")","v":""},{"$f":"IF($E344=\"\",IFERROR(IF($A344=\"\",\"\",SUBSTITUTE(SUBSTITUTE(SUBSTITUTE(INDIRECT(\"Trello!\"&ADDRESS(ROW()-1, F$1, 4)),\"MXN: \",\"\"),\" MX$\",\"\"),\".\",\"\")*1),\"\"),E344*F$2)","v":""},{"$f":"IFERROR(IF($A344=\"\",\"\",SUBSTITUTE(SUBSTITUTE(SUBSTITUTE(INDIRECT(\"Trello!\"&ADDRESS(ROW()-1, G$1, 4)),\"Debt: \",\"\"),\" $\",\"\"),\".\",\"\")*1)*IF(E344=\"\",1,F$2),\"\")","v":""},{"$f":"IFERROR(IF($A344=\"\",\"\",SUBSTITUTE(SUBSTITUTE(SUBSTITUTE(INDIRECT(\"Trello!\"&ADDRESS(ROW()-1, H$1, 4)),\"Cost: \",\"\"),\" $\",\"\"),\".\",\"\")*1*$F$2),\"\")","v":""},"",{"$f":"IFERROR(SUBSTITUTE(SUBSTITUTE(SUBSTITUTE(RIGHT(INDIRECT(\"Trello!\"&ADDRESS(ROW()-1, L$1, 4)),LEN(INDIRECT(\"Trello!\"&ADDRESS(ROW()-1, L$1, 4)))-15),\". \",\"/\"),\" 20\",\"/20\"),\" \",\"\"),\"\")","v":""},{"$f":"IFERROR(SUBSTITUTE(SUBSTITUTE(SUBSTITUTE(RIGHT(INDIRECT(\"Trello!\"&ADDRESS(ROW()-1, M$1, 4)),LEN(INDIRECT(\"Trello!\"&ADDRESS(ROW()-1, M$1, 4)))-15),\". \",\"/\"),\" 20\",\"/20\"),\" \",\"\"),\"\")","v":""},"","","",{"$f":"IFERROR(SUBSTITUTE(INDIRECT(\"Trello!\"&ADDRESS(ROW()-1, O$1, 4)),\"Estimate hrs: \",\"\")*1,\"\")","v":""},{"$f":"IF(SUMIF(Timecamp!C:C,Reporte!A344,Timecamp!J:J)=0,\"\",SUMIF(Timecamp!C:C,Reporte!A344,Timecamp!J:J))","v":""},"","",{"$f":"IFERROR(VLOOKUP(A344,'SLA Trab'!E:I,5,FALSE),\"\")","v":""},{"$f":"IFERROR(VLOOKUP(A344,'SLA Cobr'!E:I,5,FALSE),\"\")","v":""}]
[{"$f":"IFERROR(IF(Trello!E344=\"\",\"\",Trello!E344),\" \")","v":""},{"$f":"IF($A345=\"\",\"\",IF(Trello!A344=\"\",B344,Trello!A344))","v":""},"",{"$f":"IF($A345=\"\",\"\",SUBSTITUTE(SUBSTITUTE(Trello!J344,\" days\",\"\"),\"⌚ \",\"\")*1)","v":""},{"$f":"IFERROR(IF($A345=\"\",\"\",SUBSTITUTE(SUBSTITUTE(SUBSTITUTE(INDIRECT(\"Trello!\"&ADDRESS(ROW()-1, E$1, 4)),\"Foreign: \",\"\"),\" $\",\"\"),\".\",\"\")*1),\"\")","v":""},{"$f":"IF($E345=\"\",IFERROR(IF($A345=\"\",\"\",SUBSTITUTE(SUBSTITUTE(SUBSTITUTE(INDIRECT(\"Trello!\"&ADDRESS(ROW()-1, F$1, 4)),\"MXN: \",\"\"),\" MX$\",\"\"),\".\",\"\")*1),\"\"),E345*F$2)","v":""},{"$f":"IFERROR(IF($A345=\"\",\"\",SUBSTITUTE(SUBSTITUTE(SUBSTITUTE(INDIRECT(\"Trello!\"&ADDRESS(ROW()-1, G$1, 4)),\"Debt: \",\"\"),\" $\",\"\"),\".\",\"\")*1)*IF(E345=\"\",1,F$2),\"\")","v":""},{"$f":"IFERROR(IF($A345=\"\",\"\",SUBSTITUTE(SUBSTITUTE(SUBSTITUTE(INDIRECT(\"Trello!\"&ADDRESS(ROW()-1, H$1, 4)),\"Cost: \",\"\"),\" $\",\"\"),\".\",\"\")*1*$F$2),\"\")","v":""},"",{"$f":"IFERROR(SUBSTITUTE(SUBSTITUTE(SUBSTITUTE(RIGHT(INDIRECT(\"Trello!\"&ADDRESS(ROW()-1, L$1, 4)),LEN(INDIRECT(\"Trello!\"&ADDRESS(ROW()-1, L$1, 4)))-15),\". \",\"/\"),\" 20\",\"/20\"),\" \",\"\"),\"\")","v":""},{"$f":"IFERROR(SUBSTITUTE(SUBSTITUTE(SUBSTITUTE(RIGHT(INDIRECT(\"Trello!\"&ADDRESS(ROW()-1, M$1, 4)),LEN(INDIRECT(\"Trello!\"&ADDRESS(ROW()-1, M$1, 4)))-15),\". \",\"/\"),\" 20\",\"/20\"),\" \",\"\"),\"\")","v":""},"","","",{"$f":"IFERROR(SUBSTITUTE(INDIRECT(\"Trello!\"&ADDRESS(ROW()-1, O$1, 4)),\"Estimate hrs: \",\"\")*1,\"\")","v":""},{"$f":"IF(SUMIF(Timecamp!C:C,Reporte!A345,Timecamp!J:J)=0,\"\",SUMIF(Timecamp!C:C,Reporte!A345,Timecamp!J:J))","v":""},"","",{"$f":"IFERROR(VLOOKUP(A345,'SLA Trab'!E:I,5,FALSE),\"\")","v":""},{"$f":"IFERROR(VLOOKUP(A345,'SLA Cobr'!E:I,5,FALSE),\"\")","v":""}]
[{"$f":"IFERROR(IF(Trello!E345=\"\",\"\",Trello!E345),\" \")","v":""},{"$f":"IF($A346=\"\",\"\",IF(Trello!A345=\"\",B345,Trello!A345))","v":""},"",{"$f":"IF($A346=\"\",\"\",SUBSTITUTE(SUBSTITUTE(Trello!J345,\" days\",\"\"),\"⌚ \",\"\")*1)","v":""},{"$f":"IFERROR(IF($A346=\"\",\"\",SUBSTITUTE(SUBSTITUTE(SUBSTITUTE(INDIRECT(\"Trello!\"&ADDRESS(ROW()-1, E$1, 4)),\"Foreign: \",\"\"),\" $\",\"\"),\".\",\"\")*1),\"\")","v":""},{"$f":"IF($E346=\"\",IFERROR(IF($A346=\"\",\"\",SUBSTITUTE(SUBSTITUTE(SUBSTITUTE(INDIRECT(\"Trello!\"&ADDRESS(ROW()-1, F$1, 4)),\"MXN: \",\"\"),\" MX$\",\"\"),\".\",\"\")*1),\"\"),E346*F$2)","v":""},{"$f":"IFERROR(IF($A346=\"\",\"\",SUBSTITUTE(SUBSTITUTE(SUBSTITUTE(INDIRECT(\"Trello!\"&ADDRESS(ROW()-1, G$1, 4)),\"Debt: \",\"\"),\" $\",\"\"),\".\",\"\")*1)*IF(E346=\"\",1,F$2),\"\")","v":""},{"$f":"IFERROR(IF($A346=\"\",\"\",SUBSTITUTE(SUBSTITUTE(SUBSTITUTE(INDIRECT(\"Trello!\"&ADDRESS(ROW()-1, H$1, 4)),\"Cost: \",\"\"),\" $\",\"\"),\".\",\"\")*1*$F$2),\"\")","v":""},"",{"$f":"IFERROR(SUBSTITUTE(SUBSTITUTE(SUBSTITUTE(RIGHT(INDIRECT(\"Trello!\"&ADDRESS(ROW()-1, L$1, 4)),LEN(INDIRECT(\"Trello!\"&ADDRESS(ROW()-1, L$1, 4)))-15),\". \",\"/\"),\" 20\",\"/20\"),\" \",\"\"),\"\")","v":""},{"$f":"IFERROR(SUBSTITUTE(SUBSTITUTE(SUBSTITUTE(RIGHT(INDIRECT(\"Trello!\"&ADDRESS(ROW()-1, M$1, 4)),LEN(INDIRECT(\"Trello!\"&ADDRESS(ROW()-1, M$1, 4)))-15),\". \",\"/\"),\" 20\",\"/20\"),\" \",\"\"),\"\")","v":""},"","","",{"$f":"IFERROR(SUBSTITUTE(INDIRECT(\"Trello!\"&ADDRESS(ROW()-1, O$1, 4)),\"Estimate hrs: \",\"\")*1,\"\")","v":""},{"$f":"IF(SUMIF(Timecamp!C:C,Reporte!A346,Timecamp!J:J)=0,\"\",SUMIF(Timecamp!C:C,Reporte!A346,Timecamp!J:J))","v":""},"","",{"$f":"IFERROR(VLOOKUP(A346,'SLA Trab'!E:I,5,FALSE),\"\")","v":""},{"$f":"IFERROR(VLOOKUP(A346,'SLA Cobr'!E:I,5,FALSE),\"\")","v":""}]
[{"$f":"IFERROR(IF(Trello!E346=\"\",\"\",Trello!E346),\" \")","v":""},{"$f":"IF($A347=\"\",\"\",IF(Trello!A346=\"\",B346,Trello!A346))","v":""},"",{"$f":"IF($A347=\"\",\"\",SUBSTITUTE(SUBSTITUTE(Trello!J346,\" days\",\"\"),\"⌚ \",\"\")*1)","v":""},{"$f":"IFERROR(IF($A347=\"\",\"\",SUBSTITUTE(SUBSTITUTE(SUBSTITUTE(INDIRECT(\"Trello!\"&ADDRESS(ROW()-1, E$1, 4)),\"Foreign: \",\"\"),\" $\",\"\"),\".\",\"\")*1),\"\")","v":""},{"$f":"IF($E347=\"\",IFERROR(IF($A347=\"\",\"\",SUBSTITUTE(SUBSTITUTE(SUBSTITUTE(INDIRECT(\"Trello!\"&ADDRESS(ROW()-1, F$1, 4)),\"MXN: \",\"\"),\" MX$\",\"\"),\".\",\"\")*1),\"\"),E347*F$2)","v":""},{"$f":"IFERROR(IF($A347=\"\",\"\",SUBSTITUTE(SUBSTITUTE(SUBSTITUTE(INDIRECT(\"Trello!\"&ADDRESS(ROW()-1, G$1, 4)),\"Debt: \",\"\"),\" $\",\"\"),\".\",\"\")*1)*IF(E347=\"\",1,F$2),\"\")","v":""},{"$f":"IFERROR(IF($A347=\"\",\"\",SUBSTITUTE(SUBSTITUTE(SUBSTITUTE(INDIRECT(\"Trello!\"&ADDRESS(ROW()-1, H$1, 4)),\"Cost: \",\"\"),\" $\",\"\"),\".\",\"\")*1*$F$2),\"\")","v":""},"",{"$f":"IFERROR(SUBSTITUTE(SUBSTITUTE(SUBSTITUTE(RIGHT(INDIRECT(\"Trello!\"&ADDRESS(ROW()-1, L$1, 4)),LEN(INDIRECT(\"Trello!\"&ADDRESS(ROW()-1, L$1, 4)))-15),\". \",\"/\"),\" 20\",\"/20\"),\" \",\"\"),\"\")","v":""},{"$f":"IFERROR(SUBSTITUTE(SUBSTITUTE(SUBSTITUTE(RIGHT(INDIRECT(\"Trello!\"&ADDRESS(ROW()-1, M$1, 4)),LEN(INDIRECT(\"Trello!\"&ADDRESS(ROW()-1, M$1, 4)))-15),\". \",\"/\"),\" 20\",\"/20\"),\" \",\"\"),\"\")","v":""},"","","",{"$f":"IFERROR(SUBSTITUTE(INDIRECT(\"Trello!\"&ADDRESS(ROW()-1, O$1, 4)),\"Estimate hrs: \",\"\")*1,\"\")","v":""},{"$f":"IF(SUMIF(Timecamp!C:C,Reporte!A347,Timecamp!J:J)=0,\"\",SUMIF(Timecamp!C:C,Reporte!A347,Timecamp!J:J))","v":""},"","",{"$f":"IFERROR(VLOOKUP(A347,'SLA Trab'!E:I,5,FALSE),\"\")","v":""},{"$f":"IFERROR(VLOOKUP(A347,'SLA Cobr'!E:I,5,FALSE),\"\")","v":""}]
[{"$f":"IFERROR(IF(Trello!E347=\"\",\"\",Trello!E347),\" \")","v":""},{"$f":"IF($A348=\"\",\"\",IF(Trello!A347=\"\",B347,Trello!A347))","v":""},"",{"$f":"IF($A348=\"\",\"\",SUBSTITUTE(SUBSTITUTE(Trello!J347,\" days\",\"\"),\"⌚ \",\"\")*1)","v":""},{"$f":"IFERROR(IF($A348=\"\",\"\",SUBSTITUTE(SUBSTITUTE(SUBSTITUTE(INDIRECT(\"Trello!\"&ADDRESS(ROW()-1, E$1, 4)),\"Foreign: \",\"\"),\" $\",\"\"),\".\",\"\")*1),\"\")","v":""},{"$f":"IF($E348=\"\",IFERROR(IF($A348=\"\",\"\",SUBSTITUTE(SUBSTITUTE(SUBSTITUTE(INDIRECT(\"Trello!\"&ADDRESS(ROW()-1, F$1, 4)),\"MXN: \",\"\"),\" MX$\",\"\"),\".\",\"\")*1),\"\"),E348*F$2)","v":""},{"$f":"IFERROR(IF($A348=\"\",\"\",SUBSTITUTE(SUBSTITUTE(SUBSTITUTE(INDIRECT(\"Trello!\"&ADDRESS(ROW()-1, G$1, 4)),\"Debt: \",\"\"),\" $\",\"\"),\".\",\"\")*1)*IF(E348=\"\",1,F$2),\"\")","v":""},{"$f":"IFERROR(IF($A348=\"\",\"\",SUBSTITUTE(SUBSTITUTE(SUBSTITUTE(INDIRECT(\"Trello!\"&ADDRESS(ROW()-1, H$1, 4)),\"Cost: \",\"\"),\" $\",\"\"),\".\",\"\")*1*$F$2),\"\")","v":""},"",{"$f":"IFERROR(SUBSTITUTE(SUBSTITUTE(SUBSTITUTE(RIGHT(INDIRECT(\"Trello!\"&ADDRESS(ROW()-1, L$1, 4)),LEN(INDIRECT(\"Trello!\"&ADDRESS(ROW()-1, L$1, 4)))-15),\". \",\"/\"),\" 20\",\"/20\"),\" \",\"\"),\"\")","v":""},{"$f":"IFERROR(SUBSTITUTE(SUBSTITUTE(SUBSTITUTE(RIGHT(INDIRECT(\"Trello!\"&ADDRESS(ROW()-1, M$1, 4)),LEN(INDIRECT(\"Trello!\"&ADDRESS(ROW()-1, M$1, 4)))-15),\". \",\"/\"),\" 20\",\"/20\"),\" \",\"\"),\"\")","v":""},"","","",{"$f":"IFERROR(SUBSTITUTE(INDIRECT(\"Trello!\"&ADDRESS(ROW()-1, O$1, 4)),\"Estimate hrs: \",\"\")*1,\"\")","v":""},{"$f":"IF(SUMIF(Timecamp!C:C,Reporte!A348,Timecamp!J:J)=0,\"\",SUMIF(Timecamp!C:C,Reporte!A348,Timecamp!J:J))","v":""},"","",{"$f":"IFERROR(VLOOKUP(A348,'SLA Trab'!E:I,5,FALSE),\"\")","v":""},{"$f":"IFERROR(VLOOKUP(A348,'SLA Cobr'!E:I,5,FALSE),\"\")","v":""}]
[{"$f":"IFERROR(IF(Trello!E348=\"\",\"\",Trello!E348),\" \")","v":""},{"$f":"IF($A349=\"\",\"\",IF(Trello!A348=\"\",B348,Trello!A348))","v":""},"",{"$f":"IF($A349=\"\",\"\",SUBSTITUTE(SUBSTITUTE(Trello!J348,\" days\",\"\"),\"⌚ \",\"\")*1)","v":""},{"$f":"IFERROR(IF($A349=\"\",\"\",SUBSTITUTE(SUBSTITUTE(SUBSTITUTE(INDIRECT(\"Trello!\"&ADDRESS(ROW()-1, E$1, 4)),\"Foreign: \",\"\"),\" $\",\"\"),\".\",\"\")*1),\"\")","v":""},{"$f":"IF($E349=\"\",IFERROR(IF($A349=\"\",\"\",SUBSTITUTE(SUBSTITUTE(SUBSTITUTE(INDIRECT(\"Trello!\"&ADDRESS(ROW()-1, F$1, 4)),\"MXN: \",\"\"),\" MX$\",\"\"),\".\",\"\")*1),\"\"),E349*F$2)","v":""},{"$f":"IFERROR(IF($A349=\"\",\"\",SUBSTITUTE(SUBSTITUTE(SUBSTITUTE(INDIRECT(\"Trello!\"&ADDRESS(ROW()-1, G$1, 4)),\"Debt: \",\"\"),\" $\",\"\"),\".\",\"\")*1)*IF(E349=\"\",1,F$2),\"\")","v":""},{"$f":"IFERROR(IF($A349=\"\",\"\",SUBSTITUTE(SUBSTITUTE(SUBSTITUTE(INDIRECT(\"Trello!\"&ADDRESS(ROW()-1, H$1, 4)),\"Cost: \",\"\"),\" $\",\"\"),\".\",\"\")*1*$F$2),\"\")","v":""},"",{"$f":"IFERROR(SUBSTITUTE(SUBSTITUTE(SUBSTITUTE(RIGHT(INDIRECT(\"Trello!\"&ADDRESS(ROW()-1, L$1, 4)),LEN(INDIRECT(\"Trello!\"&ADDRESS(ROW()-1, L$1, 4)))-15),\". \",\"/\"),\" 20\",\"/20\"),\" \",\"\"),\"\")","v":""},{"$f":"IFERROR(SUBSTITUTE(SUBSTITUTE(SUBSTITUTE(RIGHT(INDIRECT(\"Trello!\"&ADDRESS(ROW()-1, M$1, 4)),LEN(INDIRECT(\"Trello!\"&ADDRESS(ROW()-1, M$1, 4)))-15),\". \",\"/\"),\" 20\",\"/20\"),\" \",\"\"),\"\")","v":""},"","","",{"$f":"IFERROR(SUBSTITUTE(INDIRECT(\"Trello!\"&ADDRESS(ROW()-1, O$1, 4)),\"Estimate hrs: \",\"\")*1,\"\")","v":""},{"$f":"IF(SUMIF(Timecamp!C:C,Reporte!A349,Timecamp!J:J)=0,\"\",SUMIF(Timecamp!C:C,Reporte!A349,Timecamp!J:J))","v":""},"","",{"$f":"IFERROR(VLOOKUP(A349,'SLA Trab'!E:I,5,FALSE),\"\")","v":""},{"$f":"IFERROR(VLOOKUP(A349,'SLA Cobr'!E:I,5,FALSE),\"\")","v":""}]
[{"$f":"IFERROR(IF(Trello!E349=\"\",\"\",Trello!E349),\" \")","v":""},{"$f":"IF($A350=\"\",\"\",IF(Trello!A349=\"\",B349,Trello!A349))","v":""},"",{"$f":"IF($A350=\"\",\"\",SUBSTITUTE(SUBSTITUTE(Trello!J349,\" days\",\"\"),\"⌚ \",\"\")*1)","v":""},{"$f":"IFERROR(IF($A350=\"\",\"\",SUBSTITUTE(SUBSTITUTE(SUBSTITUTE(INDIRECT(\"Trello!\"&ADDRESS(ROW()-1, E$1, 4)),\"Foreign: \",\"\"),\" $\",\"\"),\".\",\"\")*1),\"\")","v":""},{"$f":"IF($E350=\"\",IFERROR(IF($A350=\"\",\"\",SUBSTITUTE(SUBSTITUTE(SUBSTITUTE(INDIRECT(\"Trello!\"&ADDRESS(ROW()-1, F$1, 4)),\"MXN: \",\"\"),\" MX$\",\"\"),\".\",\"\")*1),\"\"),E350*F$2)","v":""},{"$f":"IFERROR(IF($A350=\"\",\"\",SUBSTITUTE(SUBSTITUTE(SUBSTITUTE(INDIRECT(\"Trello!\"&ADDRESS(ROW()-1, G$1, 4)),\"Debt: \",\"\"),\" $\",\"\"),\".\",\"\")*1)*IF(E350=\"\",1,F$2),\"\")","v":""},{"$f":"IFERROR(IF($A350=\"\",\"\",SUBSTITUTE(SUBSTITUTE(SUBSTITUTE(INDIRECT(\"Trello!\"&ADDRESS(ROW()-1, H$1, 4)),\"Cost: \",\"\"),\" $\",\"\"),\".\",\"\")*1*$F$2),\"\")","v":""},"",{"$f":"IFERROR(SUBSTITUTE(SUBSTITUTE(SUBSTITUTE(RIGHT(INDIRECT(\"Trello!\"&ADDRESS(ROW()-1, L$1, 4)),LEN(INDIRECT(\"Trello!\"&ADDRESS(ROW()-1, L$1, 4)))-15),\". \",\"/\"),\" 20\",\"/20\"),\" \",\"\"),\"\")","v":""},{"$f":"IFERROR(SUBSTITUTE(SUBSTITUTE(SUBSTITUTE(RIGHT(INDIRECT(\"Trello!\"&ADDRESS(ROW()-1, M$1, 4)),LEN(INDIRECT(\"Trello!\"&ADDRESS(ROW()-1, M$1, 4)))-15),\". \",\"/\"),\" 20\",\"/20\"),\" \",\"\"),\"\")","v":""},"","","",{"$f":"IFERROR(SUBSTITUTE(INDIRECT(\"Trello!\"&ADDRESS(ROW()-1, O$1, 4)),\"Estimate hrs: \",\"\")*1,\"\")","v":""},{"$f":"IF(SUMIF(Timecamp!C:C,Reporte!A350,Timecamp!J:J)=0,\"\",SUMIF(Timecamp!C:C,Reporte!A350,Timecamp!J:J))","v":""},"","",{"$f":"IFERROR(VLOOKUP(A350,'SLA Trab'!E:I,5,FALSE),\"\")","v":""},{"$f":"IFERROR(VLOOKUP(A350,'SLA Cobr'!E:I,5,FALSE),\"\")","v":""}]
[{"$f":"IFERROR(IF(Trello!E350=\"\",\"\",Trello!E350),\" \")","v":""},{"$f":"IF($A351=\"\",\"\",IF(Trello!A350=\"\",B350,Trello!A350))","v":""},"",{"$f":"IF($A351=\"\",\"\",SUBSTITUTE(SUBSTITUTE(Trello!J350,\" days\",\"\"),\"⌚ \",\"\")*1)","v":""},{"$f":"IFERROR(IF($A351=\"\",\"\",SUBSTITUTE(SUBSTITUTE(SUBSTITUTE(INDIRECT(\"Trello!\"&ADDRESS(ROW()-1, E$1, 4)),\"Foreign: \",\"\"),\" $\",\"\"),\".\",\"\")*1),\"\")","v":""},{"$f":"IF($E351=\"\",IFERROR(IF($A351=\"\",\"\",SUBSTITUTE(SUBSTITUTE(SUBSTITUTE(INDIRECT(\"Trello!\"&ADDRESS(ROW()-1, F$1, 4)),\"MXN: \",\"\"),\" MX$\",\"\"),\".\",\"\")*1),\"\"),E351*F$2)","v":""},{"$f":"IFERROR(IF($A351=\"\",\"\",SUBSTITUTE(SUBSTITUTE(SUBSTITUTE(INDIRECT(\"Trello!\"&ADDRESS(ROW()-1, G$1, 4)),\"Debt: \",\"\"),\" $\",\"\"),\".\",\"\")*1)*IF(E351=\"\",1,F$2),\"\")","v":""},{"$f":"IFERROR(IF($A351=\"\",\"\",SUBSTITUTE(SUBSTITUTE(SUBSTITUTE(INDIRECT(\"Trello!\"&ADDRESS(ROW()-1, H$1, 4)),\"Cost: \",\"\"),\" $\",\"\"),\".\",\"\")*1*$F$2),\"\")","v":""},"",{"$f":"IFERROR(SUBSTITUTE(SUBSTITUTE(SUBSTITUTE(RIGHT(INDIRECT(\"Trello!\"&ADDRESS(ROW()-1, L$1, 4)),LEN(INDIRECT(\"Trello!\"&ADDRESS(ROW()-1, L$1, 4)))-15),\". \",\"/\"),\" 20\",\"/20\"),\" \",\"\"),\"\")","v":""},{"$f":"IFERROR(SUBSTITUTE(SUBSTITUTE(SUBSTITUTE(RIGHT(INDIRECT(\"Trello!\"&ADDRESS(ROW()-1, M$1, 4)),LEN(INDIRECT(\"Trello!\"&ADDRESS(ROW()-1, M$1, 4)))-15),\". \",\"/\"),\" 20\",\"/20\"),\" \",\"\"),\"\")","v":""},"","","",{"$f":"IFERROR(SUBSTITUTE(INDIRECT(\"Trello!\"&ADDRESS(ROW()-1, O$1, 4)),\"Estimate hrs: \",\"\")*1,\"\")","v":""},{"$f":"IF(SUMIF(Timecamp!C:C,Reporte!A351,Timecamp!J:J)=0,\"\",SUMIF(Timecamp!C:C,Reporte!A351,Timecamp!J:J))","v":""},"","",{"$f":"IFERROR(VLOOKUP(A351,'SLA Trab'!E:I,5,FALSE),\"\")","v":""},{"$f":"IFERROR(VLOOKUP(A351,'SLA Cobr'!E:I,5,FALSE),\"\")","v":""}]
[{"$f":"IFERROR(IF(Trello!E351=\"\",\"\",Trello!E351),\" \")","v":""},{"$f":"IF($A352=\"\",\"\",IF(Trello!A351=\"\",B351,Trello!A351))","v":""},"",{"$f":"IF($A352=\"\",\"\",SUBSTITUTE(SUBSTITUTE(Trello!J351,\" days\",\"\"),\"⌚ \",\"\")*1)","v":""},{"$f":"IFERROR(IF($A352=\"\",\"\",SUBSTITUTE(SUBSTITUTE(SUBSTITUTE(INDIRECT(\"Trello!\"&ADDRESS(ROW()-1, E$1, 4)),\"Foreign: \",\"\"),\" $\",\"\"),\".\",\"\")*1),\"\")","v":""},{"$f":"IF($E352=\"\",IFERROR(IF($A352=\"\",\"\",SUBSTITUTE(SUBSTITUTE(SUBSTITUTE(INDIRECT(\"Trello!\"&ADDRESS(ROW()-1, F$1, 4)),\"MXN: \",\"\"),\" MX$\",\"\"),\".\",\"\")*1),\"\"),E352*F$2)","v":""},{"$f":"IFERROR(IF($A352=\"\",\"\",SUBSTITUTE(SUBSTITUTE(SUBSTITUTE(INDIRECT(\"Trello!\"&ADDRESS(ROW()-1, G$1, 4)),\"Debt: \",\"\"),\" $\",\"\"),\".\",\"\")*1)*IF(E352=\"\",1,F$2),\"\")","v":""},{"$f":"IFERROR(IF($A352=\"\",\"\",SUBSTITUTE(SUBSTITUTE(SUBSTITUTE(INDIRECT(\"Trello!\"&ADDRESS(ROW()-1, H$1, 4)),\"Cost: \",\"\"),\" $\",\"\"),\".\",\"\")*1*$F$2),\"\")","v":""},"",{"$f":"IFERROR(SUBSTITUTE(SUBSTITUTE(SUBSTITUTE(RIGHT(INDIRECT(\"Trello!\"&ADDRESS(ROW()-1, L$1, 4)),LEN(INDIRECT(\"Trello!\"&ADDRESS(ROW()-1, L$1, 4)))-15),\". \",\"/\"),\" 20\",\"/20\"),\" \",\"\"),\"\")","v":""},{"$f":"IFERROR(SUBSTITUTE(SUBSTITUTE(SUBSTITUTE(RIGHT(INDIRECT(\"Trello!\"&ADDRESS(ROW()-1, M$1, 4)),LEN(INDIRECT(\"Trello!\"&ADDRESS(ROW()-1, M$1, 4)))-15),\". \",\"/\"),\" 20\",\"/20\"),\" \",\"\"),\"\")","v":""},"","","",{"$f":"IFERROR(SUBSTITUTE(INDIRECT(\"Trello!\"&ADDRESS(ROW()-1, O$1, 4)),\"Estimate hrs: \",\"\")*1,\"\")","v":""},{"$f":"IF(SUMIF(Timecamp!C:C,Reporte!A352,Timecamp!J:J)=0,\"\",SUMIF(Timecamp!C:C,Reporte!A352,Timecamp!J:J))","v":""},"","",{"$f":"IFERROR(VLOOKUP(A352,'SLA Trab'!E:I,5,FALSE),\"\")","v":""},{"$f":"IFERROR(VLOOKUP(A352,'SLA Cobr'!E:I,5,FALSE),\"\")","v":""}]
[{"$f":"IFERROR(IF(Trello!E352=\"\",\"\",Trello!E352),\" \")","v":""},{"$f":"IF($A353=\"\",\"\",IF(Trello!A352=\"\",B352,Trello!A352))","v":""},"",{"$f":"IF($A353=\"\",\"\",SUBSTITUTE(SUBSTITUTE(Trello!J352,\" days\",\"\"),\"⌚ \",\"\")*1)","v":""},{"$f":"IFERROR(IF($A353=\"\",\"\",SUBSTITUTE(SUBSTITUTE(SUBSTITUTE(INDIRECT(\"Trello!\"&ADDRESS(ROW()-1, E$1, 4)),\"Foreign: \",\"\"),\" $\",\"\"),\".\",\"\")*1),\"\")","v":""},{"$f":"IF($E353=\"\",IFERROR(IF($A353=\"\",\"\",SUBSTITUTE(SUBSTITUTE(SUBSTITUTE(INDIRECT(\"Trello!\"&ADDRESS(ROW()-1, F$1, 4)),\"MXN: \",\"\"),\" MX$\",\"\"),\".\",\"\")*1),\"\"),E353*F$2)","v":""},{"$f":"IFERROR(IF($A353=\"\",\"\",SUBSTITUTE(SUBSTITUTE(SUBSTITUTE(INDIRECT(\"Trello!\"&ADDRESS(ROW()-1, G$1, 4)),\"Debt: \",\"\"),\" $\",\"\"),\".\",\"\")*1)*IF(E353=\"\",1,F$2),\"\")","v":""},{"$f":"IFERROR(IF($A353=\"\",\"\",SUBSTITUTE(SUBSTITUTE(SUBSTITUTE(INDIRECT(\"Trello!\"&ADDRESS(ROW()-1, H$1, 4)),\"Cost: \",\"\"),\" $\",\"\"),\".\",\"\")*1*$F$2),\"\")","v":""},"",{"$f":"IFERROR(SUBSTITUTE(SUBSTITUTE(SUBSTITUTE(RIGHT(INDIRECT(\"Trello!\"&ADDRESS(ROW()-1, L$1, 4)),LEN(INDIRECT(\"Trello!\"&ADDRESS(ROW()-1, L$1, 4)))-15),\". \",\"/\"),\" 20\",\"/20\"),\" \",\"\"),\"\")","v":""},{"$f":"IFERROR(SUBSTITUTE(SUBSTITUTE(SUBSTITUTE(RIGHT(INDIRECT(\"Trello!\"&ADDRESS(ROW()-1, M$1, 4)),LEN(INDIRECT(\"Trello!\"&ADDRESS(ROW()-1, M$1, 4)))-15),\". \",\"/\"),\" 20\",\"/20\"),\" \",\"\"),\"\")","v":""},"","","",{"$f":"IFERROR(SUBSTITUTE(INDIRECT(\"Trello!\"&ADDRESS(ROW()-1, O$1, 4)),\"Estimate hrs: \",\"\")*1,\"\")","v":""},{"$f":"IF(SUMIF(Timecamp!C:C,Reporte!A353,Timecamp!J:J)=0,\"\",SUMIF(Timecamp!C:C,Reporte!A353,Timecamp!J:J))","v":""},"","",{"$f":"IFERROR(VLOOKUP(A353,'SLA Trab'!E:I,5,FALSE),\"\")","v":""},{"$f":"IFERROR(VLOOKUP(A353,'SLA Cobr'!E:I,5,FALSE),\"\")","v":""}]
[{"$f":"IFERROR(IF(Trello!E353=\"\",\"\",Trello!E353),\" \")","v":""},{"$f":"IF($A354=\"\",\"\",IF(Trello!A353=\"\",B353,Trello!A353))","v":""},"",{"$f":"IF($A354=\"\",\"\",SUBSTITUTE(SUBSTITUTE(Trello!J353,\" days\",\"\"),\"⌚ \",\"\")*1)","v":""},{"$f":"IFERROR(IF($A354=\"\",\"\",SUBSTITUTE(SUBSTITUTE(SUBSTITUTE(INDIRECT(\"Trello!\"&ADDRESS(ROW()-1, E$1, 4)),\"Foreign: \",\"\"),\" $\",\"\"),\".\",\"\")*1),\"\")","v":""},{"$f":"IF($E354=\"\",IFERROR(IF($A354=\"\",\"\",SUBSTITUTE(SUBSTITUTE(SUBSTITUTE(INDIRECT(\"Trello!\"&ADDRESS(ROW()-1, F$1, 4)),\"MXN: \",\"\"),\" MX$\",\"\"),\".\",\"\")*1),\"\"),E354*F$2)","v":""},{"$f":"IFERROR(IF($A354=\"\",\"\",SUBSTITUTE(SUBSTITUTE(SUBSTITUTE(INDIRECT(\"Trello!\"&ADDRESS(ROW()-1, G$1, 4)),\"Debt: \",\"\"),\" $\",\"\"),\".\",\"\")*1)*IF(E354=\"\",1,F$2),\"\")","v":""},{"$f":"IFERROR(IF($A354=\"\",\"\",SUBSTITUTE(SUBSTITUTE(SUBSTITUTE(INDIRECT(\"Trello!\"&ADDRESS(ROW()-1, H$1, 4)),\"Cost: \",\"\"),\" $\",\"\"),\".\",\"\")*1*$F$2),\"\")","v":""},"",{"$f":"IFERROR(SUBSTITUTE(SUBSTITUTE(SUBSTITUTE(RIGHT(INDIRECT(\"Trello!\"&ADDRESS(ROW()-1, L$1, 4)),LEN(INDIRECT(\"Trello!\"&ADDRESS(ROW()-1, L$1, 4)))-15),\". \",\"/\"),\" 20\",\"/20\"),\" \",\"\"),\"\")","v":""},{"$f":"IFERROR(SUBSTITUTE(SUBSTITUTE(SUBSTITUTE(RIGHT(INDIRECT(\"Trello!\"&ADDRESS(ROW()-1, M$1, 4)),LEN(INDIRECT(\"Trello!\"&ADDRESS(ROW()-1, M$1, 4)))-15),\". \",\"/\"),\" 20\",\"/20\"),\" \",\"\"),\"\")","v":""},"","","",{"$f":"IFERROR(SUBSTITUTE(INDIRECT(\"Trello!\"&ADDRESS(ROW()-1, O$1, 4)),\"Estimate hrs: \",\"\")*1,\"\")","v":""},{"$f":"IF(SUMIF(Timecamp!C:C,Reporte!A354,Timecamp!J:J)=0,\"\",SUMIF(Timecamp!C:C,Reporte!A354,Timecamp!J:J))","v":""},"","",{"$f":"IFERROR(VLOOKUP(A354,'SLA Trab'!E:I,5,FALSE),\"\")","v":""},{"$f":"IFERROR(VLOOKUP(A354,'SLA Cobr'!E:I,5,FALSE),\"\")","v":""}]
[{"$f":"IFERROR(IF(Trello!E354=\"\",\"\",Trello!E354),\" \")","v":""},{"$f":"IF($A355=\"\",\"\",IF(Trello!A354=\"\",B354,Trello!A354))","v":""},"",{"$f":"IF($A355=\"\",\"\",SUBSTITUTE(SUBSTITUTE(Trello!J354,\" days\",\"\"),\"⌚ \",\"\")*1)","v":""},{"$f":"IFERROR(IF($A355=\"\",\"\",SUBSTITUTE(SUBSTITUTE(SUBSTITUTE(INDIRECT(\"Trello!\"&ADDRESS(ROW()-1, E$1, 4)),\"Foreign: \",\"\"),\" $\",\"\"),\".\",\"\")*1),\"\")","v":""},{"$f":"IF($E355=\"\",IFERROR(IF($A355=\"\",\"\",SUBSTITUTE(SUBSTITUTE(SUBSTITUTE(INDIRECT(\"Trello!\"&ADDRESS(ROW()-1, F$1, 4)),\"MXN: \",\"\"),\" MX$\",\"\"),\".\",\"\")*1),\"\"),E355*F$2)","v":""},{"$f":"IFERROR(IF($A355=\"\",\"\",SUBSTITUTE(SUBSTITUTE(SUBSTITUTE(INDIRECT(\"Trello!\"&ADDRESS(ROW()-1, G$1, 4)),\"Debt: \",\"\"),\" $\",\"\"),\".\",\"\")*1)*IF(E355=\"\",1,F$2),\"\")","v":""},{"$f":"IFERROR(IF($A355=\"\",\"\",SUBSTITUTE(SUBSTITUTE(SUBSTITUTE(INDIRECT(\"Trello!\"&ADDRESS(ROW()-1, H$1, 4)),\"Cost: \",\"\"),\" $\",\"\"),\".\",\"\")*1*$F$2),\"\")","v":""},"",{"$f":"IFERROR(SUBSTITUTE(SUBSTITUTE(SUBSTITUTE(RIGHT(INDIRECT(\"Trello!\"&ADDRESS(ROW()-1, L$1, 4)),LEN(INDIRECT(\"Trello!\"&ADDRESS(ROW()-1, L$1, 4)))-15),\". \",\"/\"),\" 20\",\"/20\"),\" \",\"\"),\"\")","v":""},{"$f":"IFERROR(SUBSTITUTE(SUBSTITUTE(SUBSTITUTE(RIGHT(INDIRECT(\"Trello!\"&ADDRESS(ROW()-1, M$1, 4)),LEN(INDIRECT(\"Trello!\"&ADDRESS(ROW()-1, M$1, 4)))-15),\". \",\"/\"),\" 20\",\"/20\"),\" \",\"\"),\"\")","v":""},"","","",{"$f":"IFERROR(SUBSTITUTE(INDIRECT(\"Trello!\"&ADDRESS(ROW()-1, O$1, 4)),\"Estimate hrs: \",\"\")*1,\"\")","v":""},{"$f":"IF(SUMIF(Timecamp!C:C,Reporte!A355,Timecamp!J:J)=0,\"\",SUMIF(Timecamp!C:C,Reporte!A355,Timecamp!J:J))","v":""},"","",{"$f":"IFERROR(VLOOKUP(A355,'SLA Trab'!E:I,5,FALSE),\"\")","v":""},{"$f":"IFERROR(VLOOKUP(A355,'SLA Cobr'!E:I,5,FALSE),\"\")","v":""}]
[{"$f":"IFERROR(IF(Trello!E355=\"\",\"\",Trello!E355),\" \")","v":""},{"$f":"IF($A356=\"\",\"\",IF(Trello!A355=\"\",B355,Trello!A355))","v":""},"",{"$f":"IF($A356=\"\",\"\",SUBSTITUTE(SUBSTITUTE(Trello!J355,\" days\",\"\"),\"⌚ \",\"\")*1)","v":""},{"$f":"IFERROR(IF($A356=\"\",\"\",SUBSTITUTE(SUBSTITUTE(SUBSTITUTE(INDIRECT(\"Trello!\"&ADDRESS(ROW()-1, E$1, 4)),\"Foreign: \",\"\"),\" $\",\"\"),\".\",\"\")*1),\"\")","v":""},{"$f":"IF($E356=\"\",IFERROR(IF($A356=\"\",\"\",SUBSTITUTE(SUBSTITUTE(SUBSTITUTE(INDIRECT(\"Trello!\"&ADDRESS(ROW()-1, F$1, 4)),\"MXN: \",\"\"),\" MX$\",\"\"),\".\",\"\")*1),\"\"),E356*F$2)","v":""},{"$f":"IFERROR(IF($A356=\"\",\"\",SUBSTITUTE(SUBSTITUTE(SUBSTITUTE(INDIRECT(\"Trello!\"&ADDRESS(ROW()-1, G$1, 4)),\"Debt: \",\"\"),\" $\",\"\"),\".\",\"\")*1)*IF(E356=\"\",1,F$2),\"\")","v":""},{"$f":"IFERROR(IF($A356=\"\",\"\",SUBSTITUTE(SUBSTITUTE(SUBSTITUTE(INDIRECT(\"Trello!\"&ADDRESS(ROW()-1, H$1, 4)),\"Cost: \",\"\"),\" $\",\"\"),\".\",\"\")*1*$F$2),\"\")","v":""},"",{"$f":"IFERROR(SUBSTITUTE(SUBSTITUTE(SUBSTITUTE(RIGHT(INDIRECT(\"Trello!\"&ADDRESS(ROW()-1, L$1, 4)),LEN(INDIRECT(\"Trello!\"&ADDRESS(ROW()-1, L$1, 4)))-15),\". \",\"/\"),\" 20\",\"/20\"),\" \",\"\"),\"\")","v":""},{"$f":"IFERROR(SUBSTITUTE(SUBSTITUTE(SUBSTITUTE(RIGHT(INDIRECT(\"Trello!\"&ADDRESS(ROW()-1, M$1, 4)),LEN(INDIRECT(\"Trello!\"&ADDRESS(ROW()-1, M$1, 4)))-15),\". \",\"/\"),\" 20\",\"/20\"),\" \",\"\"),\"\")","v":""},"","","",{"$f":"IFERROR(SUBSTITUTE(INDIRECT(\"Trello!\"&ADDRESS(ROW()-1, O$1, 4)),\"Estimate hrs: \",\"\")*1,\"\")","v":""},{"$f":"IF(SUMIF(Timecamp!C:C,Reporte!A356,Timecamp!J:J)=0,\"\",SUMIF(Timecamp!C:C,Reporte!A356,Timecamp!J:J))","v":""},"","",{"$f":"IFERROR(VLOOKUP(A356,'SLA Trab'!E:I,5,FALSE),\"\")","v":""},{"$f":"IFERROR(VLOOKUP(A356,'SLA Cobr'!E:I,5,FALSE),\"\")","v":""}]
[{"$f":"IFERROR(IF(Trello!E356=\"\",\"\",Trello!E356),\" \")","v":""},{"$f":"IF($A357=\"\",\"\",IF(Trello!A356=\"\",B356,Trello!A356))","v":""},"",{"$f":"IF($A357=\"\",\"\",SUBSTITUTE(SUBSTITUTE(Trello!J356,\" days\",\"\"),\"⌚ \",\"\")*1)","v":""},{"$f":"IFERROR(IF($A357=\"\",\"\",SUBSTITUTE(SUBSTITUTE(SUBSTITUTE(INDIRECT(\"Trello!\"&ADDRESS(ROW()-1, E$1, 4)),\"Foreign: \",\"\"),\" $\",\"\"),\".\",\"\")*1),\"\")","v":""},{"$f":"IF($E357=\"\",IFERROR(IF($A357=\"\",\"\",SUBSTITUTE(SUBSTITUTE(SUBSTITUTE(INDIRECT(\"Trello!\"&ADDRESS(ROW()-1, F$1, 4)),\"MXN: \",\"\"),\" MX$\",\"\"),\".\",\"\")*1),\"\"),E357*F$2)","v":""},{"$f":"IFERROR(IF($A357=\"\",\"\",SUBSTITUTE(SUBSTITUTE(SUBSTITUTE(INDIRECT(\"Trello!\"&ADDRESS(ROW()-1, G$1, 4)),\"Debt: \",\"\"),\" $\",\"\"),\".\",\"\")*1)*IF(E357=\"\",1,F$2),\"\")","v":""},{"$f":"IFERROR(IF($A357=\"\",\"\",SUBSTITUTE(SUBSTITUTE(SUBSTITUTE(INDIRECT(\"Trello!\"&ADDRESS(ROW()-1, H$1, 4)),\"Cost: \",\"\"),\" $\",\"\"),\".\",\"\")*1*$F$2),\"\")","v":""},"",{"$f":"IFERROR(SUBSTITUTE(SUBSTITUTE(SUBSTITUTE(RIGHT(INDIRECT(\"Trello!\"&ADDRESS(ROW()-1, L$1, 4)),LEN(INDIRECT(\"Trello!\"&ADDRESS(ROW()-1, L$1, 4)))-15),\". \",\"/\"),\" 20\",\"/20\"),\" \",\"\"),\"\")","v":""},{"$f":"IFERROR(SUBSTITUTE(SUBSTITUTE(SUBSTITUTE(RIGHT(INDIRECT(\"Trello!\"&ADDRESS(ROW()-1, M$1, 4)),LEN(INDIRECT(\"Trello!\"&ADDRESS(ROW()-1, M$1, 4)))-15),\". \",\"/\"),\" 20\",\"/20\"),\" \",\"\"),\"\")","v":""},"","","",{"$f":"IFERROR(SUBSTITUTE(INDIRECT(\"Trello!\"&ADDRESS(ROW()-1, O$1, 4)),\"Estimate hrs: \",\"\")*1,\"\")","v":""},{"$f":"IF(SUMIF(Timecamp!C:C,Reporte!A357,Timecamp!J:J)=0,\"\",SUMIF(Timecamp!C:C,Reporte!A357,Timecamp!J:J))","v":""},"","",{"$f":"IFERROR(VLOOKUP(A357,'SLA Trab'!E:I,5,FALSE),\"\")","v":""},{"$f":"IFERROR(VLOOKUP(A357,'SLA Cobr'!E:I,5,FALSE),\"\")","v":""}]
[{"$f":"IFERROR(IF(Trello!E357=\"\",\"\",Trello!E357),\" \")","v":""},{"$f":"IF($A358=\"\",\"\",IF(Trello!A357=\"\",B357,Trello!A357))","v":""},"",{"$f":"IF($A358=\"\",\"\",SUBSTITUTE(SUBSTITUTE(Trello!J357,\" days\",\"\"),\"⌚ \",\"\")*1)","v":""},{"$f":"IFERROR(IF($A358=\"\",\"\",SUBSTITUTE(SUBSTITUTE(SUBSTITUTE(INDIRECT(\"Trello!\"&ADDRESS(ROW()-1, E$1, 4)),\"Foreign: \",\"\"),\" $\",\"\"),\".\",\"\")*1),\"\")","v":""},{"$f":"IF($E358=\"\",IFERROR(IF($A358=\"\",\"\",SUBSTITUTE(SUBSTITUTE(SUBSTITUTE(INDIRECT(\"Trello!\"&ADDRESS(ROW()-1, F$1, 4)),\"MXN: \",\"\"),\" MX$\",\"\"),\".\",\"\")*1),\"\"),E358*F$2)","v":""},{"$f":"IFERROR(IF($A358=\"\",\"\",SUBSTITUTE(SUBSTITUTE(SUBSTITUTE(INDIRECT(\"Trello!\"&ADDRESS(ROW()-1, G$1, 4)),\"Debt: \",\"\"),\" $\",\"\"),\".\",\"\")*1)*IF(E358=\"\",1,F$2),\"\")","v":""},{"$f":"IFERROR(IF($A358=\"\",\"\",SUBSTITUTE(SUBSTITUTE(SUBSTITUTE(INDIRECT(\"Trello!\"&ADDRESS(ROW()-1, H$1, 4)),\"Cost: \",\"\"),\" $\",\"\"),\".\",\"\")*1*$F$2),\"\")","v":""},"",{"$f":"IFERROR(SUBSTITUTE(SUBSTITUTE(SUBSTITUTE(RIGHT(INDIRECT(\"Trello!\"&ADDRESS(ROW()-1, L$1, 4)),LEN(INDIRECT(\"Trello!\"&ADDRESS(ROW()-1, L$1, 4)))-15),\". \",\"/\"),\" 20\",\"/20\"),\" \",\"\"),\"\")","v":""},{"$f":"IFERROR(SUBSTITUTE(SUBSTITUTE(SUBSTITUTE(RIGHT(INDIRECT(\"Trello!\"&ADDRESS(ROW()-1, M$1, 4)),LEN(INDIRECT(\"Trello!\"&ADDRESS(ROW()-1, M$1, 4)))-15),\". \",\"/\"),\" 20\",\"/20\"),\" \",\"\"),\"\")","v":""},"","","",{"$f":"IFERROR(SUBSTITUTE(INDIRECT(\"Trello!\"&ADDRESS(ROW()-1, O$1, 4)),\"Estimate hrs: \",\"\")*1,\"\")","v":""},{"$f":"IF(SUMIF(Timecamp!C:C,Reporte!A358,Timecamp!J:J)=0,\"\",SUMIF(Timecamp!C:C,Reporte!A358,Timecamp!J:J))","v":""},"","",{"$f":"IFERROR(VLOOKUP(A358,'SLA Trab'!E:I,5,FALSE),\"\")","v":""},{"$f":"IFERROR(VLOOKUP(A358,'SLA Cobr'!E:I,5,FALSE),\"\")","v":""}]
[{"$f":"IFERROR(IF(Trello!E358=\"\",\"\",Trello!E358),\" \")","v":""},{"$f":"IF($A359=\"\",\"\",IF(Trello!A358=\"\",B358,Trello!A358))","v":""},"",{"$f":"IF($A359=\"\",\"\",SUBSTITUTE(SUBSTITUTE(Trello!J358,\" days\",\"\"),\"⌚ \",\"\")*1)","v":""},{"$f":"IFERROR(IF($A359=\"\",\"\",SUBSTITUTE(SUBSTITUTE(SUBSTITUTE(INDIRECT(\"Trello!\"&ADDRESS(ROW()-1, E$1, 4)),\"Foreign: \",\"\"),\" $\",\"\"),\".\",\"\")*1),\"\")","v":""},{"$f":"IF($E359=\"\",IFERROR(IF($A359=\"\",\"\",SUBSTITUTE(SUBSTITUTE(SUBSTITUTE(INDIRECT(\"Trello!\"&ADDRESS(ROW()-1, F$1, 4)),\"MXN: \",\"\"),\" MX$\",\"\"),\".\",\"\")*1),\"\"),E359*F$2)","v":""},{"$f":"IFERROR(IF($A359=\"\",\"\",SUBSTITUTE(SUBSTITUTE(SUBSTITUTE(INDIRECT(\"Trello!\"&ADDRESS(ROW()-1, G$1, 4)),\"Debt: \",\"\"),\" $\",\"\"),\".\",\"\")*1)*IF(E359=\"\",1,F$2),\"\")","v":""},{"$f":"IFERROR(IF($A359=\"\",\"\",SUBSTITUTE(SUBSTITUTE(SUBSTITUTE(INDIRECT(\"Trello!\"&ADDRESS(ROW()-1, H$1, 4)),\"Cost: \",\"\"),\" $\",\"\"),\".\",\"\")*1*$F$2),\"\")","v":""},"",{"$f":"IFERROR(SUBSTITUTE(SUBSTITUTE(SUBSTITUTE(RIGHT(INDIRECT(\"Trello!\"&ADDRESS(ROW()-1, L$1, 4)),LEN(INDIRECT(\"Trello!\"&ADDRESS(ROW()-1, L$1, 4)))-15),\". \",\"/\"),\" 20\",\"/20\"),\" \",\"\"),\"\")","v":""},{"$f":"IFERROR(SUBSTITUTE(SUBSTITUTE(SUBSTITUTE(RIGHT(INDIRECT(\"Trello!\"&ADDRESS(ROW()-1, M$1, 4)),LEN(INDIRECT(\"Trello!\"&ADDRESS(ROW()-1, M$1, 4)))-15),\". \",\"/\"),\" 20\",\"/20\"),\" \",\"\"),\"\")","v":""},"","","",{"$f":"IFERROR(SUBSTITUTE(INDIRECT(\"Trello!\"&ADDRESS(ROW()-1, O$1, 4)),\"Estimate hrs: \",\"\")*1,\"\")","v":""},{"$f":"IF(SUMIF(Timecamp!C:C,Reporte!A359,Timecamp!J:J)=0,\"\",SUMIF(Timecamp!C:C,Reporte!A359,Timecamp!J:J))","v":""},"","",{"$f":"IFERROR(VLOOKUP(A359,'SLA Trab'!E:I,5,FALSE),\"\")","v":""},{"$f":"IFERROR(VLOOKUP(A359,'SLA Cobr'!E:I,5,FALSE),\"\")","v":""}]
[{"$f":"IFERROR(IF(Trello!E359=\"\",\"\",Trello!E359),\" \")","v":""},{"$f":"IF($A360=\"\",\"\",IF(Trello!A359=\"\",B359,Trello!A359))","v":""},"",{"$f":"IF($A360=\"\",\"\",SUBSTITUTE(SUBSTITUTE(Trello!J359,\" days\",\"\"),\"⌚ \",\"\")*1)","v":""},{"$f":"IFERROR(IF($A360=\"\",\"\",SUBSTITUTE(SUBSTITUTE(SUBSTITUTE(INDIRECT(\"Trello!\"&ADDRESS(ROW()-1, E$1, 4)),\"Foreign: \",\"\"),\" $\",\"\"),\".\",\"\")*1),\"\")","v":""},{"$f":"IF($E360=\"\",IFERROR(IF($A360=\"\",\"\",SUBSTITUTE(SUBSTITUTE(SUBSTITUTE(INDIRECT(\"Trello!\"&ADDRESS(ROW()-1, F$1, 4)),\"MXN: \",\"\"),\" MX$\",\"\"),\".\",\"\")*1),\"\"),E360*F$2)","v":""},{"$f":"IFERROR(IF($A360=\"\",\"\",SUBSTITUTE(SUBSTITUTE(SUBSTITUTE(INDIRECT(\"Trello!\"&ADDRESS(ROW()-1, G$1, 4)),\"Debt: \",\"\"),\" $\",\"\"),\".\",\"\")*1)*IF(E360=\"\",1,F$2),\"\")","v":""},{"$f":"IFERROR(IF($A360=\"\",\"\",SUBSTITUTE(SUBSTITUTE(SUBSTITUTE(INDIRECT(\"Trello!\"&ADDRESS(ROW()-1, H$1, 4)),\"Cost: \",\"\"),\" $\",\"\"),\".\",\"\")*1*$F$2),\"\")","v":""},"",{"$f":"IFERROR(SUBSTITUTE(SUBSTITUTE(SUBSTITUTE(RIGHT(INDIRECT(\"Trello!\"&ADDRESS(ROW()-1, L$1, 4)),LEN(INDIRECT(\"Trello!\"&ADDRESS(ROW()-1, L$1, 4)))-15),\". \",\"/\"),\" 20\",\"/20\"),\" \",\"\"),\"\")","v":""},{"$f":"IFERROR(SUBSTITUTE(SUBSTITUTE(SUBSTITUTE(RIGHT(INDIRECT(\"Trello!\"&ADDRESS(ROW()-1, M$1, 4)),LEN(INDIRECT(\"Trello!\"&ADDRESS(ROW()-1, M$1, 4)))-15),\". \",\"/\"),\" 20\",\"/20\"),\" \",\"\"),\"\")","v":""},"","","",{"$f":"IFERROR(SUBSTITUTE(INDIRECT(\"Trello!\"&ADDRESS(ROW()-1, O$1, 4)),\"Estimate hrs: \",\"\")*1,\"\")","v":""},{"$f":"IF(SUMIF(Timecamp!C:C,Reporte!A360,Timecamp!J:J)=0,\"\",SUMIF(Timecamp!C:C,Reporte!A360,Timecamp!J:J))","v":""},"","",{"$f":"IFERROR(VLOOKUP(A360,'SLA Trab'!E:I,5,FALSE),\"\")","v":""},{"$f":"IFERROR(VLOOKUP(A360,'SLA Cobr'!E:I,5,FALSE),\"\")","v":""}]
[{"$f":"IFERROR(IF(Trello!E360=\"\",\"\",Trello!E360),\" \")","v":""},{"$f":"IF($A361=\"\",\"\",IF(Trello!A360=\"\",B360,Trello!A360))","v":""},"",{"$f":"IF($A361=\"\",\"\",SUBSTITUTE(SUBSTITUTE(Trello!J360,\" days\",\"\"),\"⌚ \",\"\")*1)","v":""},{"$f":"IFERROR(IF($A361=\"\",\"\",SUBSTITUTE(SUBSTITUTE(SUBSTITUTE(INDIRECT(\"Trello!\"&ADDRESS(ROW()-1, E$1, 4)),\"Foreign: \",\"\"),\" $\",\"\"),\".\",\"\")*1),\"\")","v":""},{"$f":"IF($E361=\"\",IFERROR(IF($A361=\"\",\"\",SUBSTITUTE(SUBSTITUTE(SUBSTITUTE(INDIRECT(\"Trello!\"&ADDRESS(ROW()-1, F$1, 4)),\"MXN: \",\"\"),\" MX$\",\"\"),\".\",\"\")*1),\"\"),E361*F$2)","v":""},{"$f":"IFERROR(IF($A361=\"\",\"\",SUBSTITUTE(SUBSTITUTE(SUBSTITUTE(INDIRECT(\"Trello!\"&ADDRESS(ROW()-1, G$1, 4)),\"Debt: \",\"\"),\" $\",\"\"),\".\",\"\")*1)*IF(E361=\"\",1,F$2),\"\")","v":""},{"$f":"IFERROR(IF($A361=\"\",\"\",SUBSTITUTE(SUBSTITUTE(SUBSTITUTE(INDIRECT(\"Trello!\"&ADDRESS(ROW()-1, H$1, 4)),\"Cost: \",\"\"),\" $\",\"\"),\".\",\"\")*1*$F$2),\"\")","v":""},"",{"$f":"IFERROR(SUBSTITUTE(SUBSTITUTE(SUBSTITUTE(RIGHT(INDIRECT(\"Trello!\"&ADDRESS(ROW()-1, L$1, 4)),LEN(INDIRECT(\"Trello!\"&ADDRESS(ROW()-1, L$1, 4)))-15),\". \",\"/\"),\" 20\",\"/20\"),\" \",\"\"),\"\")","v":""},{"$f":"IFERROR(SUBSTITUTE(SUBSTITUTE(SUBSTITUTE(RIGHT(INDIRECT(\"Trello!\"&ADDRESS(ROW()-1, M$1, 4)),LEN(INDIRECT(\"Trello!\"&ADDRESS(ROW()-1, M$1, 4)))-15),\". \",\"/\"),\" 20\",\"/20\"),\" \",\"\"),\"\")","v":""},"","","",{"$f":"IFERROR(SUBSTITUTE(INDIRECT(\"Trello!\"&ADDRESS(ROW()-1, O$1, 4)),\"Estimate hrs: \",\"\")*1,\"\")","v":""},{"$f":"IF(SUMIF(Timecamp!C:C,Reporte!A361,Timecamp!J:J)=0,\"\",SUMIF(Timecamp!C:C,Reporte!A361,Timecamp!J:J))","v":""},"","",{"$f":"IFERROR(VLOOKUP(A361,'SLA Trab'!E:I,5,FALSE),\"\")","v":""},{"$f":"IFERROR(VLOOKUP(A361,'SLA Cobr'!E:I,5,FALSE),\"\")","v":""}]
[{"$f":"IFERROR(IF(Trello!E361=\"\",\"\",Trello!E361),\" \")","v":""},{"$f":"IF($A362=\"\",\"\",IF(Trello!A361=\"\",B361,Trello!A361))","v":""},"",{"$f":"IF($A362=\"\",\"\",SUBSTITUTE(SUBSTITUTE(Trello!J361,\" days\",\"\"),\"⌚ \",\"\")*1)","v":""},{"$f":"IFERROR(IF($A362=\"\",\"\",SUBSTITUTE(SUBSTITUTE(SUBSTITUTE(INDIRECT(\"Trello!\"&ADDRESS(ROW()-1, E$1, 4)),\"Foreign: \",\"\"),\" $\",\"\"),\".\",\"\")*1),\"\")","v":""},{"$f":"IF($E362=\"\",IFERROR(IF($A362=\"\",\"\",SUBSTITUTE(SUBSTITUTE(SUBSTITUTE(INDIRECT(\"Trello!\"&ADDRESS(ROW()-1, F$1, 4)),\"MXN: \",\"\"),\" MX$\",\"\"),\".\",\"\")*1),\"\"),E362*F$2)","v":""},{"$f":"IFERROR(IF($A362=\"\",\"\",SUBSTITUTE(SUBSTITUTE(SUBSTITUTE(INDIRECT(\"Trello!\"&ADDRESS(ROW()-1, G$1, 4)),\"Debt: \",\"\"),\" $\",\"\"),\".\",\"\")*1)*IF(E362=\"\",1,F$2),\"\")","v":""},{"$f":"IFERROR(IF($A362=\"\",\"\",SUBSTITUTE(SUBSTITUTE(SUBSTITUTE(INDIRECT(\"Trello!\"&ADDRESS(ROW()-1, H$1, 4)),\"Cost: \",\"\"),\" $\",\"\"),\".\",\"\")*1*$F$2),\"\")","v":""},"",{"$f":"IFERROR(SUBSTITUTE(SUBSTITUTE(SUBSTITUTE(RIGHT(INDIRECT(\"Trello!\"&ADDRESS(ROW()-1, L$1, 4)),LEN(INDIRECT(\"Trello!\"&ADDRESS(ROW()-1, L$1, 4)))-15),\". \",\"/\"),\" 20\",\"/20\"),\" \",\"\"),\"\")","v":""},{"$f":"IFERROR(SUBSTITUTE(SUBSTITUTE(SUBSTITUTE(RIGHT(INDIRECT(\"Trello!\"&ADDRESS(ROW()-1, M$1, 4)),LEN(INDIRECT(\"Trello!\"&ADDRESS(ROW()-1, M$1, 4)))-15),\". \",\"/\"),\" 20\",\"/20\"),\" \",\"\"),\"\")","v":""},"","","",{"$f":"IFERROR(SUBSTITUTE(INDIRECT(\"Trello!\"&ADDRESS(ROW()-1, O$1, 4)),\"Estimate hrs: \",\"\")*1,\"\")","v":""},{"$f":"IF(SUMIF(Timecamp!C:C,Reporte!A362,Timecamp!J:J)=0,\"\",SUMIF(Timecamp!C:C,Reporte!A362,Timecamp!J:J))","v":""},"","",{"$f":"IFERROR(VLOOKUP(A362,'SLA Trab'!E:I,5,FALSE),\"\")","v":""},{"$f":"IFERROR(VLOOKUP(A362,'SLA Cobr'!E:I,5,FALSE),\"\")","v":""}]
[{"$f":"IFERROR(IF(Trello!E362=\"\",\"\",Trello!E362),\" \")","v":""},{"$f":"IF($A363=\"\",\"\",IF(Trello!A362=\"\",B362,Trello!A362))","v":""},"",{"$f":"IF($A363=\"\",\"\",SUBSTITUTE(SUBSTITUTE(Trello!J362,\" days\",\"\"),\"⌚ \",\"\")*1)","v":""},{"$f":"IFERROR(IF($A363=\"\",\"\",SUBSTITUTE(SUBSTITUTE(SUBSTITUTE(INDIRECT(\"Trello!\"&ADDRESS(ROW()-1, E$1, 4)),\"Foreign: \",\"\"),\" $\",\"\"),\".\",\"\")*1),\"\")","v":""},{"$f":"IF($E363=\"\",IFERROR(IF($A363=\"\",\"\",SUBSTITUTE(SUBSTITUTE(SUBSTITUTE(INDIRECT(\"Trello!\"&ADDRESS(ROW()-1, F$1, 4)),\"MXN: \",\"\"),\" MX$\",\"\"),\".\",\"\")*1),\"\"),E363*F$2)","v":""},{"$f":"IFERROR(IF($A363=\"\",\"\",SUBSTITUTE(SUBSTITUTE(SUBSTITUTE(INDIRECT(\"Trello!\"&ADDRESS(ROW()-1, G$1, 4)),\"Debt: \",\"\"),\" $\",\"\"),\".\",\"\")*1)*IF(E363=\"\",1,F$2),\"\")","v":""},{"$f":"IFERROR(IF($A363=\"\",\"\",SUBSTITUTE(SUBSTITUTE(SUBSTITUTE(INDIRECT(\"Trello!\"&ADDRESS(ROW()-1, H$1, 4)),\"Cost: \",\"\"),\" $\",\"\"),\".\",\"\")*1*$F$2),\"\")","v":""},"",{"$f":"IFERROR(SUBSTITUTE(SUBSTITUTE(SUBSTITUTE(RIGHT(INDIRECT(\"Trello!\"&ADDRESS(ROW()-1, L$1, 4)),LEN(INDIRECT(\"Trello!\"&ADDRESS(ROW()-1, L$1, 4)))-15),\". \",\"/\"),\" 20\",\"/20\"),\" \",\"\"),\"\")","v":""},{"$f":"IFERROR(SUBSTITUTE(SUBSTITUTE(SUBSTITUTE(RIGHT(INDIRECT(\"Trello!\"&ADDRESS(ROW()-1, M$1, 4)),LEN(INDIRECT(\"Trello!\"&ADDRESS(ROW()-1, M$1, 4)))-15),\". \",\"/\"),\" 20\",\"/20\"),\" \",\"\"),\"\")","v":""},"","","",{"$f":"IFERROR(SUBSTITUTE(INDIRECT(\"Trello!\"&ADDRESS(ROW()-1, O$1, 4)),\"Estimate hrs: \",\"\")*1,\"\")","v":""},{"$f":"IF(SUMIF(Timecamp!C:C,Reporte!A363,Timecamp!J:J)=0,\"\",SUMIF(Timecamp!C:C,Reporte!A363,Timecamp!J:J))","v":""},"","",{"$f":"IFERROR(VLOOKUP(A363,'SLA Trab'!E:I,5,FALSE),\"\")","v":""},{"$f":"IFERROR(VLOOKUP(A363,'SLA Cobr'!E:I,5,FALSE),\"\")","v":""}]
[{"$f":"IFERROR(IF(Trello!E363=\"\",\"\",Trello!E363),\" \")","v":""},{"$f":"IF($A364=\"\",\"\",IF(Trello!A363=\"\",B363,Trello!A363))","v":""},"",{"$f":"IF($A364=\"\",\"\",SUBSTITUTE(SUBSTITUTE(Trello!J363,\" days\",\"\"),\"⌚ \",\"\")*1)","v":""},{"$f":"IFERROR(IF($A364=\"\",\"\",SUBSTITUTE(SUBSTITUTE(SUBSTITUTE(INDIRECT(\"Trello!\"&ADDRESS(ROW()-1, E$1, 4)),\"Foreign: \",\"\"),\" $\",\"\"),\".\",\"\")*1),\"\")","v":""},{"$f":"IF($E364=\"\",IFERROR(IF($A364=\"\",\"\",SUBSTITUTE(SUBSTITUTE(SUBSTITUTE(INDIRECT(\"Trello!\"&ADDRESS(ROW()-1, F$1, 4)),\"MXN: \",\"\"),\" MX$\",\"\"),\".\",\"\")*1),\"\"),E364*F$2)","v":""},{"$f":"IFERROR(IF($A364=\"\",\"\",SUBSTITUTE(SUBSTITUTE(SUBSTITUTE(INDIRECT(\"Trello!\"&ADDRESS(ROW()-1, G$1, 4)),\"Debt: \",\"\"),\" $\",\"\"),\".\",\"\")*1)*IF(E364=\"\",1,F$2),\"\")","v":""},{"$f":"IFERROR(IF($A364=\"\",\"\",SUBSTITUTE(SUBSTITUTE(SUBSTITUTE(INDIRECT(\"Trello!\"&ADDRESS(ROW()-1, H$1, 4)),\"Cost: \",\"\"),\" $\",\"\"),\".\",\"\")*1*$F$2),\"\")","v":""},"",{"$f":"IFERROR(SUBSTITUTE(SUBSTITUTE(SUBSTITUTE(RIGHT(INDIRECT(\"Trello!\"&ADDRESS(ROW()-1, L$1, 4)),LEN(INDIRECT(\"Trello!\"&ADDRESS(ROW()-1, L$1, 4)))-15),\". \",\"/\"),\" 20\",\"/20\"),\" \",\"\"),\"\")","v":""},{"$f":"IFERROR(SUBSTITUTE(SUBSTITUTE(SUBSTITUTE(RIGHT(INDIRECT(\"Trello!\"&ADDRESS(ROW()-1, M$1, 4)),LEN(INDIRECT(\"Trello!\"&ADDRESS(ROW()-1, M$1, 4)))-15),\". \",\"/\"),\" 20\",\"/20\"),\" \",\"\"),\"\")","v":""},"","","",{"$f":"IFERROR(SUBSTITUTE(INDIRECT(\"Trello!\"&ADDRESS(ROW()-1, O$1, 4)),\"Estimate hrs: \",\"\")*1,\"\")","v":""},{"$f":"IF(SUMIF(Timecamp!C:C,Reporte!A364,Timecamp!J:J)=0,\"\",SUMIF(Timecamp!C:C,Reporte!A364,Timecamp!J:J))","v":""},"","",{"$f":"IFERROR(VLOOKUP(A364,'SLA Trab'!E:I,5,FALSE),\"\")","v":""},{"$f":"IFERROR(VLOOKUP(A364,'SLA Cobr'!E:I,5,FALSE),\"\")","v":""}]
[{"$f":"IFERROR(IF(Trello!E364=\"\",\"\",Trello!E364),\" \")","v":""},{"$f":"IF($A365=\"\",\"\",IF(Trello!A364=\"\",B364,Trello!A364))","v":""},"",{"$f":"IF($A365=\"\",\"\",SUBSTITUTE(SUBSTITUTE(Trello!J364,\" days\",\"\"),\"⌚ \",\"\")*1)","v":""},{"$f":"IFERROR(IF($A365=\"\",\"\",SUBSTITUTE(SUBSTITUTE(SUBSTITUTE(INDIRECT(\"Trello!\"&ADDRESS(ROW()-1, E$1, 4)),\"Foreign: \",\"\"),\" $\",\"\"),\".\",\"\")*1),\"\")","v":""},{"$f":"IF($E365=\"\",IFERROR(IF($A365=\"\",\"\",SUBSTITUTE(SUBSTITUTE(SUBSTITUTE(INDIRECT(\"Trello!\"&ADDRESS(ROW()-1, F$1, 4)),\"MXN: \",\"\"),\" MX$\",\"\"),\".\",\"\")*1),\"\"),E365*F$2)","v":""},{"$f":"IFERROR(IF($A365=\"\",\"\",SUBSTITUTE(SUBSTITUTE(SUBSTITUTE(INDIRECT(\"Trello!\"&ADDRESS(ROW()-1, G$1, 4)),\"Debt: \",\"\"),\" $\",\"\"),\".\",\"\")*1)*IF(E365=\"\",1,F$2),\"\")","v":""},{"$f":"IFERROR(IF($A365=\"\",\"\",SUBSTITUTE(SUBSTITUTE(SUBSTITUTE(INDIRECT(\"Trello!\"&ADDRESS(ROW()-1, H$1, 4)),\"Cost: \",\"\"),\" $\",\"\"),\".\",\"\")*1*$F$2),\"\")","v":""},"",{"$f":"IFERROR(SUBSTITUTE(SUBSTITUTE(SUBSTITUTE(RIGHT(INDIRECT(\"Trello!\"&ADDRESS(ROW()-1, L$1, 4)),LEN(INDIRECT(\"Trello!\"&ADDRESS(ROW()-1, L$1, 4)))-15),\". \",\"/\"),\" 20\",\"/20\"),\" \",\"\"),\"\")","v":""},{"$f":"IFERROR(SUBSTITUTE(SUBSTITUTE(SUBSTITUTE(RIGHT(INDIRECT(\"Trello!\"&ADDRESS(ROW()-1, M$1, 4)),LEN(INDIRECT(\"Trello!\"&ADDRESS(ROW()-1, M$1, 4)))-15),\". \",\"/\"),\" 20\",\"/20\"),\" \",\"\"),\"\")","v":""},"","","",{"$f":"IFERROR(SUBSTITUTE(INDIRECT(\"Trello!\"&ADDRESS(ROW()-1, O$1, 4)),\"Estimate hrs: \",\"\")*1,\"\")","v":""},{"$f":"IF(SUMIF(Timecamp!C:C,Reporte!A365,Timecamp!J:J)=0,\"\",SUMIF(Timecamp!C:C,Reporte!A365,Timecamp!J:J))","v":""},"","",{"$f":"IFERROR(VLOOKUP(A365,'SLA Trab'!E:I,5,FALSE),\"\")","v":""},{"$f":"IFERROR(VLOOKUP(A365,'SLA Cobr'!E:I,5,FALSE),\"\")","v":""}]
[{"$f":"IFERROR(IF(Trello!E365=\"\",\"\",Trello!E365),\" \")","v":""},{"$f":"IF($A366=\"\",\"\",IF(Trello!A365=\"\",B365,Trello!A365))","v":""},"",{"$f":"IF($A366=\"\",\"\",SUBSTITUTE(SUBSTITUTE(Trello!J365,\" days\",\"\"),\"⌚ \",\"\")*1)","v":""},{"$f":"IFERROR(IF($A366=\"\",\"\",SUBSTITUTE(SUBSTITUTE(SUBSTITUTE(INDIRECT(\"Trello!\"&ADDRESS(ROW()-1, E$1, 4)),\"Foreign: \",\"\"),\" $\",\"\"),\".\",\"\")*1),\"\")","v":""},{"$f":"IF($E366=\"\",IFERROR(IF($A366=\"\",\"\",SUBSTITUTE(SUBSTITUTE(SUBSTITUTE(INDIRECT(\"Trello!\"&ADDRESS(ROW()-1, F$1, 4)),\"MXN: \",\"\"),\" MX$\",\"\"),\".\",\"\")*1),\"\"),E366*F$2)","v":""},{"$f":"IFERROR(IF($A366=\"\",\"\",SUBSTITUTE(SUBSTITUTE(SUBSTITUTE(INDIRECT(\"Trello!\"&ADDRESS(ROW()-1, G$1, 4)),\"Debt: \",\"\"),\" $\",\"\"),\".\",\"\")*1)*IF(E366=\"\",1,F$2),\"\")","v":""},{"$f":"IFERROR(IF($A366=\"\",\"\",SUBSTITUTE(SUBSTITUTE(SUBSTITUTE(INDIRECT(\"Trello!\"&ADDRESS(ROW()-1, H$1, 4)),\"Cost: \",\"\"),\" $\",\"\"),\".\",\"\")*1*$F$2),\"\")","v":""},"",{"$f":"IFERROR(SUBSTITUTE(SUBSTITUTE(SUBSTITUTE(RIGHT(INDIRECT(\"Trello!\"&ADDRESS(ROW()-1, L$1, 4)),LEN(INDIRECT(\"Trello!\"&ADDRESS(ROW()-1, L$1, 4)))-15),\". \",\"/\"),\" 20\",\"/20\"),\" \",\"\"),\"\")","v":""},{"$f":"IFERROR(SUBSTITUTE(SUBSTITUTE(SUBSTITUTE(RIGHT(INDIRECT(\"Trello!\"&ADDRESS(ROW()-1, M$1, 4)),LEN(INDIRECT(\"Trello!\"&ADDRESS(ROW()-1, M$1, 4)))-15),\". \",\"/\"),\" 20\",\"/20\"),\" \",\"\"),\"\")","v":""},"","","",{"$f":"IFERROR(SUBSTITUTE(INDIRECT(\"Trello!\"&ADDRESS(ROW()-1, O$1, 4)),\"Estimate hrs: \",\"\")*1,\"\")","v":""},{"$f":"IF(SUMIF(Timecamp!C:C,Reporte!A366,Timecamp!J:J)=0,\"\",SUMIF(Timecamp!C:C,Reporte!A366,Timecamp!J:J))","v":""},"","",{"$f":"IFERROR(VLOOKUP(A366,'SLA Trab'!E:I,5,FALSE),\"\")","v":""},{"$f":"IFERROR(VLOOKUP(A366,'SLA Cobr'!E:I,5,FALSE),\"\")","v":""}]
[{"$f":"IFERROR(IF(Trello!E366=\"\",\"\",Trello!E366),\" \")","v":""},{"$f":"IF($A367=\"\",\"\",IF(Trello!A366=\"\",B366,Trello!A366))","v":""},"",{"$f":"IF($A367=\"\",\"\",SUBSTITUTE(SUBSTITUTE(Trello!J366,\" days\",\"\"),\"⌚ \",\"\")*1)","v":""},{"$f":"IFERROR(IF($A367=\"\",\"\",SUBSTITUTE(SUBSTITUTE(SUBSTITUTE(INDIRECT(\"Trello!\"&ADDRESS(ROW()-1, E$1, 4)),\"Foreign: \",\"\"),\" $\",\"\"),\".\",\"\")*1),\"\")","v":""},{"$f":"IF($E367=\"\",IFERROR(IF($A367=\"\",\"\",SUBSTITUTE(SUBSTITUTE(SUBSTITUTE(INDIRECT(\"Trello!\"&ADDRESS(ROW()-1, F$1, 4)),\"MXN: \",\"\"),\" MX$\",\"\"),\".\",\"\")*1),\"\"),E367*F$2)","v":""},{"$f":"IFERROR(IF($A367=\"\",\"\",SUBSTITUTE(SUBSTITUTE(SUBSTITUTE(INDIRECT(\"Trello!\"&ADDRESS(ROW()-1, G$1, 4)),\"Debt: \",\"\"),\" $\",\"\"),\".\",\"\")*1)*IF(E367=\"\",1,F$2),\"\")","v":""},{"$f":"IFERROR(IF($A367=\"\",\"\",SUBSTITUTE(SUBSTITUTE(SUBSTITUTE(INDIRECT(\"Trello!\"&ADDRESS(ROW()-1, H$1, 4)),\"Cost: \",\"\"),\" $\",\"\"),\".\",\"\")*1*$F$2),\"\")","v":""},"",{"$f":"IFERROR(SUBSTITUTE(SUBSTITUTE(SUBSTITUTE(RIGHT(INDIRECT(\"Trello!\"&ADDRESS(ROW()-1, L$1, 4)),LEN(INDIRECT(\"Trello!\"&ADDRESS(ROW()-1, L$1, 4)))-15),\". \",\"/\"),\" 20\",\"/20\"),\" \",\"\"),\"\")","v":""},{"$f":"IFERROR(SUBSTITUTE(SUBSTITUTE(SUBSTITUTE(RIGHT(INDIRECT(\"Trello!\"&ADDRESS(ROW()-1, M$1, 4)),LEN(INDIRECT(\"Trello!\"&ADDRESS(ROW()-1, M$1, 4)))-15),\". \",\"/\"),\" 20\",\"/20\"),\" \",\"\"),\"\")","v":""},"","","",{"$f":"IFERROR(SUBSTITUTE(INDIRECT(\"Trello!\"&ADDRESS(ROW()-1, O$1, 4)),\"Estimate hrs: \",\"\")*1,\"\")","v":""},{"$f":"IF(SUMIF(Timecamp!C:C,Reporte!A367,Timecamp!J:J)=0,\"\",SUMIF(Timecamp!C:C,Reporte!A367,Timecamp!J:J))","v":""},"","",{"$f":"IFERROR(VLOOKUP(A367,'SLA Trab'!E:I,5,FALSE),\"\")","v":""},{"$f":"IFERROR(VLOOKUP(A367,'SLA Cobr'!E:I,5,FALSE),\"\")","v":""}]
[{"$f":"IFERROR(IF(Trello!E367=\"\",\"\",Trello!E367),\" \")","v":""},{"$f":"IF($A368=\"\",\"\",IF(Trello!A367=\"\",B367,Trello!A367))","v":""},"",{"$f":"IF($A368=\"\",\"\",SUBSTITUTE(SUBSTITUTE(Trello!J367,\" days\",\"\"),\"⌚ \",\"\")*1)","v":""},{"$f":"IFERROR(IF($A368=\"\",\"\",SUBSTITUTE(SUBSTITUTE(SUBSTITUTE(INDIRECT(\"Trello!\"&ADDRESS(ROW()-1, E$1, 4)),\"Foreign: \",\"\"),\" $\",\"\"),\".\",\"\")*1),\"\")","v":""},{"$f":"IF($E368=\"\",IFERROR(IF($A368=\"\",\"\",SUBSTITUTE(SUBSTITUTE(SUBSTITUTE(INDIRECT(\"Trello!\"&ADDRESS(ROW()-1, F$1, 4)),\"MXN: \",\"\"),\" MX$\",\"\"),\".\",\"\")*1),\"\"),E368*F$2)","v":""},{"$f":"IFERROR(IF($A368=\"\",\"\",SUBSTITUTE(SUBSTITUTE(SUBSTITUTE(INDIRECT(\"Trello!\"&ADDRESS(ROW()-1, G$1, 4)),\"Debt: \",\"\"),\" $\",\"\"),\".\",\"\")*1)*IF(E368=\"\",1,F$2),\"\")","v":""},{"$f":"IFERROR(IF($A368=\"\",\"\",SUBSTITUTE(SUBSTITUTE(SUBSTITUTE(INDIRECT(\"Trello!\"&ADDRESS(ROW()-1, H$1, 4)),\"Cost: \",\"\"),\" $\",\"\"),\".\",\"\")*1*$F$2),\"\")","v":""},"",{"$f":"IFERROR(SUBSTITUTE(SUBSTITUTE(SUBSTITUTE(RIGHT(INDIRECT(\"Trello!\"&ADDRESS(ROW()-1, L$1, 4)),LEN(INDIRECT(\"Trello!\"&ADDRESS(ROW()-1, L$1, 4)))-15),\". \",\"/\"),\" 20\",\"/20\"),\" \",\"\"),\"\")","v":""},{"$f":"IFERROR(SUBSTITUTE(SUBSTITUTE(SUBSTITUTE(RIGHT(INDIRECT(\"Trello!\"&ADDRESS(ROW()-1, M$1, 4)),LEN(INDIRECT(\"Trello!\"&ADDRESS(ROW()-1, M$1, 4)))-15),\". \",\"/\"),\" 20\",\"/20\"),\" \",\"\"),\"\")","v":""},"","","",{"$f":"IFERROR(SUBSTITUTE(INDIRECT(\"Trello!\"&ADDRESS(ROW()-1, O$1, 4)),\"Estimate hrs: \",\"\")*1,\"\")","v":""},{"$f":"IF(SUMIF(Timecamp!C:C,Reporte!A368,Timecamp!J:J)=0,\"\",SUMIF(Timecamp!C:C,Reporte!A368,Timecamp!J:J))","v":""},"","",{"$f":"IFERROR(VLOOKUP(A368,'SLA Trab'!E:I,5,FALSE),\"\")","v":""},{"$f":"IFERROR(VLOOKUP(A368,'SLA Cobr'!E:I,5,FALSE),\"\")","v":""}]
[{"$f":"IFERROR(IF(Trello!E368=\"\",\"\",Trello!E368),\" \")","v":""},{"$f":"IF($A369=\"\",\"\",IF(Trello!A368=\"\",B368,Trello!A368))","v":""},"",{"$f":"IF($A369=\"\",\"\",SUBSTITUTE(SUBSTITUTE(Trello!J368,\" days\",\"\"),\"⌚ \",\"\")*1)","v":""},{"$f":"IFERROR(IF($A369=\"\",\"\",SUBSTITUTE(SUBSTITUTE(SUBSTITUTE(INDIRECT(\"Trello!\"&ADDRESS(ROW()-1, E$1, 4)),\"Foreign: \",\"\"),\" $\",\"\"),\".\",\"\")*1),\"\")","v":""},{"$f":"IF($E369=\"\",IFERROR(IF($A369=\"\",\"\",SUBSTITUTE(SUBSTITUTE(SUBSTITUTE(INDIRECT(\"Trello!\"&ADDRESS(ROW()-1, F$1, 4)),\"MXN: \",\"\"),\" MX$\",\"\"),\".\",\"\")*1),\"\"),E369*F$2)","v":""},{"$f":"IFERROR(IF($A369=\"\",\"\",SUBSTITUTE(SUBSTITUTE(SUBSTITUTE(INDIRECT(\"Trello!\"&ADDRESS(ROW()-1, G$1, 4)),\"Debt: \",\"\"),\" $\",\"\"),\".\",\"\")*1)*IF(E369=\"\",1,F$2),\"\")","v":""},{"$f":"IFERROR(IF($A369=\"\",\"\",SUBSTITUTE(SUBSTITUTE(SUBSTITUTE(INDIRECT(\"Trello!\"&ADDRESS(ROW()-1, H$1, 4)),\"Cost: \",\"\"),\" $\",\"\"),\".\",\"\")*1*$F$2),\"\")","v":""},"",{"$f":"IFERROR(SUBSTITUTE(SUBSTITUTE(SUBSTITUTE(RIGHT(INDIRECT(\"Trello!\"&ADDRESS(ROW()-1, L$1, 4)),LEN(INDIRECT(\"Trello!\"&ADDRESS(ROW()-1, L$1, 4)))-15),\". \",\"/\"),\" 20\",\"/20\"),\" \",\"\"),\"\")","v":""},{"$f":"IFERROR(SUBSTITUTE(SUBSTITUTE(SUBSTITUTE(RIGHT(INDIRECT(\"Trello!\"&ADDRESS(ROW()-1, M$1, 4)),LEN(INDIRECT(\"Trello!\"&ADDRESS(ROW()-1, M$1, 4)))-15),\". \",\"/\"),\" 20\",\"/20\"),\" \",\"\"),\"\")","v":""},"","","",{"$f":"IFERROR(SUBSTITUTE(INDIRECT(\"Trello!\"&ADDRESS(ROW()-1, O$1, 4)),\"Estimate hrs: \",\"\")*1,\"\")","v":""},{"$f":"IF(SUMIF(Timecamp!C:C,Reporte!A369,Timecamp!J:J)=0,\"\",SUMIF(Timecamp!C:C,Reporte!A369,Timecamp!J:J))","v":""},"","",{"$f":"IFERROR(VLOOKUP(A369,'SLA Trab'!E:I,5,FALSE),\"\")","v":""},{"$f":"IFERROR(VLOOKUP(A369,'SLA Cobr'!E:I,5,FALSE),\"\")","v":""}]
[{"$f":"IFERROR(IF(Trello!E369=\"\",\"\",Trello!E369),\" \")","v":""},{"$f":"IF($A370=\"\",\"\",IF(Trello!A369=\"\",B369,Trello!A369))","v":""},"",{"$f":"IF($A370=\"\",\"\",SUBSTITUTE(SUBSTITUTE(Trello!J369,\" days\",\"\"),\"⌚ \",\"\")*1)","v":""},{"$f":"IFERROR(IF($A370=\"\",\"\",SUBSTITUTE(SUBSTITUTE(SUBSTITUTE(INDIRECT(\"Trello!\"&ADDRESS(ROW()-1, E$1, 4)),\"Foreign: \",\"\"),\" $\",\"\"),\".\",\"\")*1),\"\")","v":""},{"$f":"IF($E370=\"\",IFERROR(IF($A370=\"\",\"\",SUBSTITUTE(SUBSTITUTE(SUBSTITUTE(INDIRECT(\"Trello!\"&ADDRESS(ROW()-1, F$1, 4)),\"MXN: \",\"\"),\" MX$\",\"\"),\".\",\"\")*1),\"\"),E370*F$2)","v":""},{"$f":"IFERROR(IF($A370=\"\",\"\",SUBSTITUTE(SUBSTITUTE(SUBSTITUTE(INDIRECT(\"Trello!\"&ADDRESS(ROW()-1, G$1, 4)),\"Debt: \",\"\"),\" $\",\"\"),\".\",\"\")*1)*IF(E370=\"\",1,F$2),\"\")","v":""},{"$f":"IFERROR(IF($A370=\"\",\"\",SUBSTITUTE(SUBSTITUTE(SUBSTITUTE(INDIRECT(\"Trello!\"&ADDRESS(ROW()-1, H$1, 4)),\"Cost: \",\"\"),\" $\",\"\"),\".\",\"\")*1*$F$2),\"\")","v":""},"",{"$f":"IFERROR(SUBSTITUTE(SUBSTITUTE(SUBSTITUTE(RIGHT(INDIRECT(\"Trello!\"&ADDRESS(ROW()-1, L$1, 4)),LEN(INDIRECT(\"Trello!\"&ADDRESS(ROW()-1, L$1, 4)))-15),\". \",\"/\"),\" 20\",\"/20\"),\" \",\"\"),\"\")","v":""},{"$f":"IFERROR(SUBSTITUTE(SUBSTITUTE(SUBSTITUTE(RIGHT(INDIRECT(\"Trello!\"&ADDRESS(ROW()-1, M$1, 4)),LEN(INDIRECT(\"Trello!\"&ADDRESS(ROW()-1, M$1, 4)))-15),\". \",\"/\"),\" 20\",\"/20\"),\" \",\"\"),\"\")","v":""},"","","",{"$f":"IFERROR(SUBSTITUTE(INDIRECT(\"Trello!\"&ADDRESS(ROW()-1, O$1, 4)),\"Estimate hrs: \",\"\")*1,\"\")","v":""},{"$f":"IF(SUMIF(Timecamp!C:C,Reporte!A370,Timecamp!J:J)=0,\"\",SUMIF(Timecamp!C:C,Reporte!A370,Timecamp!J:J))","v":""},"","",{"$f":"IFERROR(VLOOKUP(A370,'SLA Trab'!E:I,5,FALSE),\"\")","v":""},{"$f":"IFERROR(VLOOKUP(A370,'SLA Cobr'!E:I,5,FALSE),\"\")","v":""}]
[{"$f":"IFERROR(IF(Trello!E370=\"\",\"\",Trello!E370),\" \")","v":""},{"$f":"IF($A371=\"\",\"\",IF(Trello!A370=\"\",B370,Trello!A370))","v":""},"",{"$f":"IF($A371=\"\",\"\",SUBSTITUTE(SUBSTITUTE(Trello!J370,\" days\",\"\"),\"⌚ \",\"\")*1)","v":""},{"$f":"IFERROR(IF($A371=\"\",\"\",SUBSTITUTE(SUBSTITUTE(SUBSTITUTE(INDIRECT(\"Trello!\"&ADDRESS(ROW()-1, E$1, 4)),\"Foreign: \",\"\"),\" $\",\"\"),\".\",\"\")*1),\"\")","v":""},{"$f":"IF($E371=\"\",IFERROR(IF($A371=\"\",\"\",SUBSTITUTE(SUBSTITUTE(SUBSTITUTE(INDIRECT(\"Trello!\"&ADDRESS(ROW()-1, F$1, 4)),\"MXN: \",\"\"),\" MX$\",\"\"),\".\",\"\")*1),\"\"),E371*F$2)","v":""},{"$f":"IFERROR(IF($A371=\"\",\"\",SUBSTITUTE(SUBSTITUTE(SUBSTITUTE(INDIRECT(\"Trello!\"&ADDRESS(ROW()-1, G$1, 4)),\"Debt: \",\"\"),\" $\",\"\"),\".\",\"\")*1)*IF(E371=\"\",1,F$2),\"\")","v":""},{"$f":"IFERROR(IF($A371=\"\",\"\",SUBSTITUTE(SUBSTITUTE(SUBSTITUTE(INDIRECT(\"Trello!\"&ADDRESS(ROW()-1, H$1, 4)),\"Cost: \",\"\"),\" $\",\"\"),\".\",\"\")*1*$F$2),\"\")","v":""},"",{"$f":"IFERROR(SUBSTITUTE(SUBSTITUTE(SUBSTITUTE(RIGHT(INDIRECT(\"Trello!\"&ADDRESS(ROW()-1, L$1, 4)),LEN(INDIRECT(\"Trello!\"&ADDRESS(ROW()-1, L$1, 4)))-15),\". \",\"/\"),\" 20\",\"/20\"),\" \",\"\"),\"\")","v":""},{"$f":"IFERROR(SUBSTITUTE(SUBSTITUTE(SUBSTITUTE(RIGHT(INDIRECT(\"Trello!\"&ADDRESS(ROW()-1, M$1, 4)),LEN(INDIRECT(\"Trello!\"&ADDRESS(ROW()-1, M$1, 4)))-15),\". \",\"/\"),\" 20\",\"/20\"),\" \",\"\"),\"\")","v":""},"","","",{"$f":"IFERROR(SUBSTITUTE(INDIRECT(\"Trello!\"&ADDRESS(ROW()-1, O$1, 4)),\"Estimate hrs: \",\"\")*1,\"\")","v":""},{"$f":"IF(SUMIF(Timecamp!C:C,Reporte!A371,Timecamp!J:J)=0,\"\",SUMIF(Timecamp!C:C,Reporte!A371,Timecamp!J:J))","v":""},"","",{"$f":"IFERROR(VLOOKUP(A371,'SLA Trab'!E:I,5,FALSE),\"\")","v":""},{"$f":"IFERROR(VLOOKUP(A371,'SLA Cobr'!E:I,5,FALSE),\"\")","v":""}]
[{"$f":"IFERROR(IF(Trello!E371=\"\",\"\",Trello!E371),\" \")","v":""},{"$f":"IF($A372=\"\",\"\",IF(Trello!A371=\"\",B371,Trello!A371))","v":""},"",{"$f":"IF($A372=\"\",\"\",SUBSTITUTE(SUBSTITUTE(Trello!J371,\" days\",\"\"),\"⌚ \",\"\")*1)","v":""},{"$f":"IFERROR(IF($A372=\"\",\"\",SUBSTITUTE(SUBSTITUTE(SUBSTITUTE(INDIRECT(\"Trello!\"&ADDRESS(ROW()-1, E$1, 4)),\"Foreign: \",\"\"),\" $\",\"\"),\".\",\"\")*1),\"\")","v":""},{"$f":"IF($E372=\"\",IFERROR(IF($A372=\"\",\"\",SUBSTITUTE(SUBSTITUTE(SUBSTITUTE(INDIRECT(\"Trello!\"&ADDRESS(ROW()-1, F$1, 4)),\"MXN: \",\"\"),\" MX$\",\"\"),\".\",\"\")*1),\"\"),E372*F$2)","v":""},{"$f":"IFERROR(IF($A372=\"\",\"\",SUBSTITUTE(SUBSTITUTE(SUBSTITUTE(INDIRECT(\"Trello!\"&ADDRESS(ROW()-1, G$1, 4)),\"Debt: \",\"\"),\" $\",\"\"),\".\",\"\")*1)*IF(E372=\"\",1,F$2),\"\")","v":""},{"$f":"IFERROR(IF($A372=\"\",\"\",SUBSTITUTE(SUBSTITUTE(SUBSTITUTE(INDIRECT(\"Trello!\"&ADDRESS(ROW()-1, H$1, 4)),\"Cost: \",\"\"),\" $\",\"\"),\".\",\"\")*1*$F$2),\"\")","v":""},"",{"$f":"IFERROR(SUBSTITUTE(SUBSTITUTE(SUBSTITUTE(RIGHT(INDIRECT(\"Trello!\"&ADDRESS(ROW()-1, L$1, 4)),LEN(INDIRECT(\"Trello!\"&ADDRESS(ROW()-1, L$1, 4)))-15),\". \",\"/\"),\" 20\",\"/20\"),\" \",\"\"),\"\")","v":""},{"$f":"IFERROR(SUBSTITUTE(SUBSTITUTE(SUBSTITUTE(RIGHT(INDIRECT(\"Trello!\"&ADDRESS(ROW()-1, M$1, 4)),LEN(INDIRECT(\"Trello!\"&ADDRESS(ROW()-1, M$1, 4)))-15),\". \",\"/\"),\" 20\",\"/20\"),\" \",\"\"),\"\")","v":""},"","","",{"$f":"IFERROR(SUBSTITUTE(INDIRECT(\"Trello!\"&ADDRESS(ROW()-1, O$1, 4)),\"Estimate hrs: \",\"\")*1,\"\")","v":""},{"$f":"IF(SUMIF(Timecamp!C:C,Reporte!A372,Timecamp!J:J)=0,\"\",SUMIF(Timecamp!C:C,Reporte!A372,Timecamp!J:J))","v":""},"","",{"$f":"IFERROR(VLOOKUP(A372,'SLA Trab'!E:I,5,FALSE),\"\")","v":""},{"$f":"IFERROR(VLOOKUP(A372,'SLA Cobr'!E:I,5,FALSE),\"\")","v":""}]
[{"$f":"IFERROR(IF(Trello!E372=\"\",\"\",Trello!E372),\" \")","v":""},{"$f":"IF($A373=\"\",\"\",IF(Trello!A372=\"\",B372,Trello!A372))","v":""},"",{"$f":"IF($A373=\"\",\"\",SUBSTITUTE(SUBSTITUTE(Trello!J372,\" days\",\"\"),\"⌚ \",\"\")*1)","v":""},{"$f":"IFERROR(IF($A373=\"\",\"\",SUBSTITUTE(SUBSTITUTE(SUBSTITUTE(INDIRECT(\"Trello!\"&ADDRESS(ROW()-1, E$1, 4)),\"Foreign: \",\"\"),\" $\",\"\"),\".\",\"\")*1),\"\")","v":""},{"$f":"IF($E373=\"\",IFERROR(IF($A373=\"\",\"\",SUBSTITUTE(SUBSTITUTE(SUBSTITUTE(INDIRECT(\"Trello!\"&ADDRESS(ROW()-1, F$1, 4)),\"MXN: \",\"\"),\" MX$\",\"\"),\".\",\"\")*1),\"\"),E373*F$2)","v":""},{"$f":"IFERROR(IF($A373=\"\",\"\",SUBSTITUTE(SUBSTITUTE(SUBSTITUTE(INDIRECT(\"Trello!\"&ADDRESS(ROW()-1, G$1, 4)),\"Debt: \",\"\"),\" $\",\"\"),\".\",\"\")*1)*IF(E373=\"\",1,F$2),\"\")","v":""},{"$f":"IFERROR(IF($A373=\"\",\"\",SUBSTITUTE(SUBSTITUTE(SUBSTITUTE(INDIRECT(\"Trello!\"&ADDRESS(ROW()-1, H$1, 4)),\"Cost: \",\"\"),\" $\",\"\"),\".\",\"\")*1*$F$2),\"\")","v":""},"",{"$f":"IFERROR(SUBSTITUTE(SUBSTITUTE(SUBSTITUTE(RIGHT(INDIRECT(\"Trello!\"&ADDRESS(ROW()-1, L$1, 4)),LEN(INDIRECT(\"Trello!\"&ADDRESS(ROW()-1, L$1, 4)))-15),\". \",\"/\"),\" 20\",\"/20\"),\" \",\"\"),\"\")","v":""},{"$f":"IFERROR(SUBSTITUTE(SUBSTITUTE(SUBSTITUTE(RIGHT(INDIRECT(\"Trello!\"&ADDRESS(ROW()-1, M$1, 4)),LEN(INDIRECT(\"Trello!\"&ADDRESS(ROW()-1, M$1, 4)))-15),\". \",\"/\"),\" 20\",\"/20\"),\" \",\"\"),\"\")","v":""},"","","",{"$f":"IFERROR(SUBSTITUTE(INDIRECT(\"Trello!\"&ADDRESS(ROW()-1, O$1, 4)),\"Estimate hrs: \",\"\")*1,\"\")","v":""},{"$f":"IF(SUMIF(Timecamp!C:C,Reporte!A373,Timecamp!J:J)=0,\"\",SUMIF(Timecamp!C:C,Reporte!A373,Timecamp!J:J))","v":""},"","",{"$f":"IFERROR(VLOOKUP(A373,'SLA Trab'!E:I,5,FALSE),\"\")","v":""},{"$f":"IFERROR(VLOOKUP(A373,'SLA Cobr'!E:I,5,FALSE),\"\")","v":""}]
[{"$f":"IFERROR(IF(Trello!E373=\"\",\"\",Trello!E373),\" \")","v":""},{"$f":"IF($A374=\"\",\"\",IF(Trello!A373=\"\",B373,Trello!A373))","v":""},"",{"$f":"IF($A374=\"\",\"\",SUBSTITUTE(SUBSTITUTE(Trello!J373,\" days\",\"\"),\"⌚ \",\"\")*1)","v":""},{"$f":"IFERROR(IF($A374=\"\",\"\",SUBSTITUTE(SUBSTITUTE(SUBSTITUTE(INDIRECT(\"Trello!\"&ADDRESS(ROW()-1, E$1, 4)),\"Foreign: \",\"\"),\" $\",\"\"),\".\",\"\")*1),\"\")","v":""},{"$f":"IF($E374=\"\",IFERROR(IF($A374=\"\",\"\",SUBSTITUTE(SUBSTITUTE(SUBSTITUTE(INDIRECT(\"Trello!\"&ADDRESS(ROW()-1, F$1, 4)),\"MXN: \",\"\"),\" MX$\",\"\"),\".\",\"\")*1),\"\"),E374*F$2)","v":""},{"$f":"IFERROR(IF($A374=\"\",\"\",SUBSTITUTE(SUBSTITUTE(SUBSTITUTE(INDIRECT(\"Trello!\"&ADDRESS(ROW()-1, G$1, 4)),\"Debt: \",\"\"),\" $\",\"\"),\".\",\"\")*1)*IF(E374=\"\",1,F$2),\"\")","v":""},{"$f":"IFERROR(IF($A374=\"\",\"\",SUBSTITUTE(SUBSTITUTE(SUBSTITUTE(INDIRECT(\"Trello!\"&ADDRESS(ROW()-1, H$1, 4)),\"Cost: \",\"\"),\" $\",\"\"),\".\",\"\")*1*$F$2),\"\")","v":""},"",{"$f":"IFERROR(SUBSTITUTE(SUBSTITUTE(SUBSTITUTE(RIGHT(INDIRECT(\"Trello!\"&ADDRESS(ROW()-1, L$1, 4)),LEN(INDIRECT(\"Trello!\"&ADDRESS(ROW()-1, L$1, 4)))-15),\". \",\"/\"),\" 20\",\"/20\"),\" \",\"\"),\"\")","v":""},{"$f":"IFERROR(SUBSTITUTE(SUBSTITUTE(SUBSTITUTE(RIGHT(INDIRECT(\"Trello!\"&ADDRESS(ROW()-1, M$1, 4)),LEN(INDIRECT(\"Trello!\"&ADDRESS(ROW()-1, M$1, 4)))-15),\". \",\"/\"),\" 20\",\"/20\"),\" \",\"\"),\"\")","v":""},"","","",{"$f":"IFERROR(SUBSTITUTE(INDIRECT(\"Trello!\"&ADDRESS(ROW()-1, O$1, 4)),\"Estimate hrs: \",\"\")*1,\"\")","v":""},{"$f":"IF(SUMIF(Timecamp!C:C,Reporte!A374,Timecamp!J:J)=0,\"\",SUMIF(Timecamp!C:C,Reporte!A374,Timecamp!J:J))","v":""},"","",{"$f":"IFERROR(VLOOKUP(A374,'SLA Trab'!E:I,5,FALSE),\"\")","v":""},{"$f":"IFERROR(VLOOKUP(A374,'SLA Cobr'!E:I,5,FALSE),\"\")","v":""}]
[{"$f":"IFERROR(IF(Trello!E374=\"\",\"\",Trello!E374),\" \")","v":""},{"$f":"IF($A375=\"\",\"\",IF(Trello!A374=\"\",B374,Trello!A374))","v":""},"",{"$f":"IF($A375=\"\",\"\",SUBSTITUTE(SUBSTITUTE(Trello!J374,\" days\",\"\"),\"⌚ \",\"\")*1)","v":""},{"$f":"IFERROR(IF($A375=\"\",\"\",SUBSTITUTE(SUBSTITUTE(SUBSTITUTE(INDIRECT(\"Trello!\"&ADDRESS(ROW()-1, E$1, 4)),\"Foreign: \",\"\"),\" $\",\"\"),\".\",\"\")*1),\"\")","v":""},{"$f":"IF($E375=\"\",IFERROR(IF($A375=\"\",\"\",SUBSTITUTE(SUBSTITUTE(SUBSTITUTE(INDIRECT(\"Trello!\"&ADDRESS(ROW()-1, F$1, 4)),\"MXN: \",\"\"),\" MX$\",\"\"),\".\",\"\")*1),\"\"),E375*F$2)","v":""},{"$f":"IFERROR(IF($A375=\"\",\"\",SUBSTITUTE(SUBSTITUTE(SUBSTITUTE(INDIRECT(\"Trello!\"&ADDRESS(ROW()-1, G$1, 4)),\"Debt: \",\"\"),\" $\",\"\"),\".\",\"\")*1)*IF(E375=\"\",1,F$2),\"\")","v":""},{"$f":"IFERROR(IF($A375=\"\",\"\",SUBSTITUTE(SUBSTITUTE(SUBSTITUTE(INDIRECT(\"Trello!\"&ADDRESS(ROW()-1, H$1, 4)),\"Cost: \",\"\"),\" $\",\"\"),\".\",\"\")*1*$F$2),\"\")","v":""},"",{"$f":"IFERROR(SUBSTITUTE(SUBSTITUTE(SUBSTITUTE(RIGHT(INDIRECT(\"Trello!\"&ADDRESS(ROW()-1, L$1, 4)),LEN(INDIRECT(\"Trello!\"&ADDRESS(ROW()-1, L$1, 4)))-15),\". \",\"/\"),\" 20\",\"/20\"),\" \",\"\"),\"\")","v":""},{"$f":"IFERROR(SUBSTITUTE(SUBSTITUTE(SUBSTITUTE(RIGHT(INDIRECT(\"Trello!\"&ADDRESS(ROW()-1, M$1, 4)),LEN(INDIRECT(\"Trello!\"&ADDRESS(ROW()-1, M$1, 4)))-15),\". \",\"/\"),\" 20\",\"/20\"),\" \",\"\"),\"\")","v":""},"","","",{"$f":"IFERROR(SUBSTITUTE(INDIRECT(\"Trello!\"&ADDRESS(ROW()-1, O$1, 4)),\"Estimate hrs: \",\"\")*1,\"\")","v":""},{"$f":"IF(SUMIF(Timecamp!C:C,Reporte!A375,Timecamp!J:J)=0,\"\",SUMIF(Timecamp!C:C,Reporte!A375,Timecamp!J:J))","v":""},"","",{"$f":"IFERROR(VLOOKUP(A375,'SLA Trab'!E:I,5,FALSE),\"\")","v":""},{"$f":"IFERROR(VLOOKUP(A375,'SLA Cobr'!E:I,5,FALSE),\"\")","v":""}]
[{"$f":"IFERROR(IF(Trello!E375=\"\",\"\",Trello!E375),\" \")","v":""},{"$f":"IF($A376=\"\",\"\",IF(Trello!A375=\"\",B375,Trello!A375))","v":""},"",{"$f":"IF($A376=\"\",\"\",SUBSTITUTE(SUBSTITUTE(Trello!J375,\" days\",\"\"),\"⌚ \",\"\")*1)","v":""},{"$f":"IFERROR(IF($A376=\"\",\"\",SUBSTITUTE(SUBSTITUTE(SUBSTITUTE(INDIRECT(\"Trello!\"&ADDRESS(ROW()-1, E$1, 4)),\"Foreign: \",\"\"),\" $\",\"\"),\".\",\"\")*1),\"\")","v":""},{"$f":"IF($E376=\"\",IFERROR(IF($A376=\"\",\"\",SUBSTITUTE(SUBSTITUTE(SUBSTITUTE(INDIRECT(\"Trello!\"&ADDRESS(ROW()-1, F$1, 4)),\"MXN: \",\"\"),\" MX$\",\"\"),\".\",\"\")*1),\"\"),E376*F$2)","v":""},{"$f":"IFERROR(IF($A376=\"\",\"\",SUBSTITUTE(SUBSTITUTE(SUBSTITUTE(INDIRECT(\"Trello!\"&ADDRESS(ROW()-1, G$1, 4)),\"Debt: \",\"\"),\" $\",\"\"),\".\",\"\")*1)*IF(E376=\"\",1,F$2),\"\")","v":""},{"$f":"IFERROR(IF($A376=\"\",\"\",SUBSTITUTE(SUBSTITUTE(SUBSTITUTE(INDIRECT(\"Trello!\"&ADDRESS(ROW()-1, H$1, 4)),\"Cost: \",\"\"),\" $\",\"\"),\".\",\"\")*1*$F$2),\"\")","v":""},"",{"$f":"IFERROR(SUBSTITUTE(SUBSTITUTE(SUBSTITUTE(RIGHT(INDIRECT(\"Trello!\"&ADDRESS(ROW()-1, L$1, 4)),LEN(INDIRECT(\"Trello!\"&ADDRESS(ROW()-1, L$1, 4)))-15),\". \",\"/\"),\" 20\",\"/20\"),\" \",\"\"),\"\")","v":""},{"$f":"IFERROR(SUBSTITUTE(SUBSTITUTE(SUBSTITUTE(RIGHT(INDIRECT(\"Trello!\"&ADDRESS(ROW()-1, M$1, 4)),LEN(INDIRECT(\"Trello!\"&ADDRESS(ROW()-1, M$1, 4)))-15),\". \",\"/\"),\" 20\",\"/20\"),\" \",\"\"),\"\")","v":""},"","","",{"$f":"IFERROR(SUBSTITUTE(INDIRECT(\"Trello!\"&ADDRESS(ROW()-1, O$1, 4)),\"Estimate hrs: \",\"\")*1,\"\")","v":""},{"$f":"IF(SUMIF(Timecamp!C:C,Reporte!A376,Timecamp!J:J)=0,\"\",SUMIF(Timecamp!C:C,Reporte!A376,Timecamp!J:J))","v":""},"","",{"$f":"IFERROR(VLOOKUP(A376,'SLA Trab'!E:I,5,FALSE),\"\")","v":""},{"$f":"IFERROR(VLOOKUP(A376,'SLA Cobr'!E:I,5,FALSE),\"\")","v":""}]
[{"$f":"IFERROR(IF(Trello!E376=\"\",\"\",Trello!E376),\" \")","v":""},{"$f":"IF($A377=\"\",\"\",IF(Trello!A376=\"\",B376,Trello!A376))","v":""},"",{"$f":"IF($A377=\"\",\"\",SUBSTITUTE(SUBSTITUTE(Trello!J376,\" days\",\"\"),\"⌚ \",\"\")*1)","v":""},{"$f":"IFERROR(IF($A377=\"\",\"\",SUBSTITUTE(SUBSTITUTE(SUBSTITUTE(INDIRECT(\"Trello!\"&ADDRESS(ROW()-1, E$1, 4)),\"Foreign: \",\"\"),\" $\",\"\"),\".\",\"\")*1),\"\")","v":""},{"$f":"IF($E377=\"\",IFERROR(IF($A377=\"\",\"\",SUBSTITUTE(SUBSTITUTE(SUBSTITUTE(INDIRECT(\"Trello!\"&ADDRESS(ROW()-1, F$1, 4)),\"MXN: \",\"\"),\" MX$\",\"\"),\".\",\"\")*1),\"\"),E377*F$2)","v":""},{"$f":"IFERROR(IF($A377=\"\",\"\",SUBSTITUTE(SUBSTITUTE(SUBSTITUTE(INDIRECT(\"Trello!\"&ADDRESS(ROW()-1, G$1, 4)),\"Debt: \",\"\"),\" $\",\"\"),\".\",\"\")*1)*IF(E377=\"\",1,F$2),\"\")","v":""},{"$f":"IFERROR(IF($A377=\"\",\"\",SUBSTITUTE(SUBSTITUTE(SUBSTITUTE(INDIRECT(\"Trello!\"&ADDRESS(ROW()-1, H$1, 4)),\"Cost: \",\"\"),\" $\",\"\"),\".\",\"\")*1*$F$2),\"\")","v":""},"",{"$f":"IFERROR(SUBSTITUTE(SUBSTITUTE(SUBSTITUTE(RIGHT(INDIRECT(\"Trello!\"&ADDRESS(ROW()-1, L$1, 4)),LEN(INDIRECT(\"Trello!\"&ADDRESS(ROW()-1, L$1, 4)))-15),\". \",\"/\"),\" 20\",\"/20\"),\" \",\"\"),\"\")","v":""},{"$f":"IFERROR(SUBSTITUTE(SUBSTITUTE(SUBSTITUTE(RIGHT(INDIRECT(\"Trello!\"&ADDRESS(ROW()-1, M$1, 4)),LEN(INDIRECT(\"Trello!\"&ADDRESS(ROW()-1, M$1, 4)))-15),\". \",\"/\"),\" 20\",\"/20\"),\" \",\"\"),\"\")","v":""},"","","",{"$f":"IFERROR(SUBSTITUTE(INDIRECT(\"Trello!\"&ADDRESS(ROW()-1, O$1, 4)),\"Estimate hrs: \",\"\")*1,\"\")","v":""},{"$f":"IF(SUMIF(Timecamp!C:C,Reporte!A377,Timecamp!J:J)=0,\"\",SUMIF(Timecamp!C:C,Reporte!A377,Timecamp!J:J))","v":""},"","",{"$f":"IFERROR(VLOOKUP(A377,'SLA Trab'!E:I,5,FALSE),\"\")","v":""},{"$f":"IFERROR(VLOOKUP(A377,'SLA Cobr'!E:I,5,FALSE),\"\")","v":""}]
[{"$f":"IFERROR(IF(Trello!E377=\"\",\"\",Trello!E377),\" \")","v":""},{"$f":"IF($A378=\"\",\"\",IF(Trello!A377=\"\",B377,Trello!A377))","v":""},"",{"$f":"IF($A378=\"\",\"\",SUBSTITUTE(SUBSTITUTE(Trello!J377,\" days\",\"\"),\"⌚ \",\"\")*1)","v":""},{"$f":"IFERROR(IF($A378=\"\",\"\",SUBSTITUTE(SUBSTITUTE(SUBSTITUTE(INDIRECT(\"Trello!\"&ADDRESS(ROW()-1, E$1, 4)),\"Foreign: \",\"\"),\" $\",\"\"),\".\",\"\")*1),\"\")","v":""},{"$f":"IF($E378=\"\",IFERROR(IF($A378=\"\",\"\",SUBSTITUTE(SUBSTITUTE(SUBSTITUTE(INDIRECT(\"Trello!\"&ADDRESS(ROW()-1, F$1, 4)),\"MXN: \",\"\"),\" MX$\",\"\"),\".\",\"\")*1),\"\"),E378*F$2)","v":""},{"$f":"IFERROR(IF($A378=\"\",\"\",SUBSTITUTE(SUBSTITUTE(SUBSTITUTE(INDIRECT(\"Trello!\"&ADDRESS(ROW()-1, G$1, 4)),\"Debt: \",\"\"),\" $\",\"\"),\".\",\"\")*1)*IF(E378=\"\",1,F$2),\"\")","v":""},{"$f":"IFERROR(IF($A378=\"\",\"\",SUBSTITUTE(SUBSTITUTE(SUBSTITUTE(INDIRECT(\"Trello!\"&ADDRESS(ROW()-1, H$1, 4)),\"Cost: \",\"\"),\" $\",\"\"),\".\",\"\")*1*$F$2),\"\")","v":""},"",{"$f":"IFERROR(SUBSTITUTE(SUBSTITUTE(SUBSTITUTE(RIGHT(INDIRECT(\"Trello!\"&ADDRESS(ROW()-1, L$1, 4)),LEN(INDIRECT(\"Trello!\"&ADDRESS(ROW()-1, L$1, 4)))-15),\". \",\"/\"),\" 20\",\"/20\"),\" \",\"\"),\"\")","v":""},{"$f":"IFERROR(SUBSTITUTE(SUBSTITUTE(SUBSTITUTE(RIGHT(INDIRECT(\"Trello!\"&ADDRESS(ROW()-1, M$1, 4)),LEN(INDIRECT(\"Trello!\"&ADDRESS(ROW()-1, M$1, 4)))-15),\". \",\"/\"),\" 20\",\"/20\"),\" \",\"\"),\"\")","v":""},"","","",{"$f":"IFERROR(SUBSTITUTE(INDIRECT(\"Trello!\"&ADDRESS(ROW()-1, O$1, 4)),\"Estimate hrs: \",\"\")*1,\"\")","v":""},{"$f":"IF(SUMIF(Timecamp!C:C,Reporte!A378,Timecamp!J:J)=0,\"\",SUMIF(Timecamp!C:C,Reporte!A378,Timecamp!J:J))","v":""},"","",{"$f":"IFERROR(VLOOKUP(A378,'SLA Trab'!E:I,5,FALSE),\"\")","v":""},{"$f":"IFERROR(VLOOKUP(A378,'SLA Cobr'!E:I,5,FALSE),\"\")","v":""}]
[{"$f":"IFERROR(IF(Trello!E378=\"\",\"\",Trello!E378),\" \")","v":""},{"$f":"IF($A379=\"\",\"\",IF(Trello!A378=\"\",B378,Trello!A378))","v":""},"",{"$f":"IF($A379=\"\",\"\",SUBSTITUTE(SUBSTITUTE(Trello!J378,\" days\",\"\"),\"⌚ \",\"\")*1)","v":""},{"$f":"IFERROR(IF($A379=\"\",\"\",SUBSTITUTE(SUBSTITUTE(SUBSTITUTE(INDIRECT(\"Trello!\"&ADDRESS(ROW()-1, E$1, 4)),\"Foreign: \",\"\"),\" $\",\"\"),\".\",\"\")*1),\"\")","v":""},{"$f":"IF($E379=\"\",IFERROR(IF($A379=\"\",\"\",SUBSTITUTE(SUBSTITUTE(SUBSTITUTE(INDIRECT(\"Trello!\"&ADDRESS(ROW()-1, F$1, 4)),\"MXN: \",\"\"),\" MX$\",\"\"),\".\",\"\")*1),\"\"),E379*F$2)","v":""},{"$f":"IFERROR(IF($A379=\"\",\"\",SUBSTITUTE(SUBSTITUTE(SUBSTITUTE(INDIRECT(\"Trello!\"&ADDRESS(ROW()-1, G$1, 4)),\"Debt: \",\"\"),\" $\",\"\"),\".\",\"\")*1)*IF(E379=\"\",1,F$2),\"\")","v":""},{"$f":"IFERROR(IF($A379=\"\",\"\",SUBSTITUTE(SUBSTITUTE(SUBSTITUTE(INDIRECT(\"Trello!\"&ADDRESS(ROW()-1, H$1, 4)),\"Cost: \",\"\"),\" $\",\"\"),\".\",\"\")*1*$F$2),\"\")","v":""},"",{"$f":"IFERROR(SUBSTITUTE(SUBSTITUTE(SUBSTITUTE(RIGHT(INDIRECT(\"Trello!\"&ADDRESS(ROW()-1, L$1, 4)),LEN(INDIRECT(\"Trello!\"&ADDRESS(ROW()-1, L$1, 4)))-15),\". \",\"/\"),\" 20\",\"/20\"),\" \",\"\"),\"\")","v":""},{"$f":"IFERROR(SUBSTITUTE(SUBSTITUTE(SUBSTITUTE(RIGHT(INDIRECT(\"Trello!\"&ADDRESS(ROW()-1, M$1, 4)),LEN(INDIRECT(\"Trello!\"&ADDRESS(ROW()-1, M$1, 4)))-15),\". \",\"/\"),\" 20\",\"/20\"),\" \",\"\"),\"\")","v":""},"","","",{"$f":"IFERROR(SUBSTITUTE(INDIRECT(\"Trello!\"&ADDRESS(ROW()-1, O$1, 4)),\"Estimate hrs: \",\"\")*1,\"\")","v":""},{"$f":"IF(SUMIF(Timecamp!C:C,Reporte!A379,Timecamp!J:J)=0,\"\",SUMIF(Timecamp!C:C,Reporte!A379,Timecamp!J:J))","v":""},"","",{"$f":"IFERROR(VLOOKUP(A379,'SLA Trab'!E:I,5,FALSE),\"\")","v":""},{"$f":"IFERROR(VLOOKUP(A379,'SLA Cobr'!E:I,5,FALSE),\"\")","v":""}]
[{"$f":"IFERROR(IF(Trello!E379=\"\",\"\",Trello!E379),\" \")","v":""},{"$f":"IF($A380=\"\",\"\",IF(Trello!A379=\"\",B379,Trello!A379))","v":""},"",{"$f":"IF($A380=\"\",\"\",SUBSTITUTE(SUBSTITUTE(Trello!J379,\" days\",\"\"),\"⌚ \",\"\")*1)","v":""},{"$f":"IFERROR(IF($A380=\"\",\"\",SUBSTITUTE(SUBSTITUTE(SUBSTITUTE(INDIRECT(\"Trello!\"&ADDRESS(ROW()-1, E$1, 4)),\"Foreign: \",\"\"),\" $\",\"\"),\".\",\"\")*1),\"\")","v":""},{"$f":"IF($E380=\"\",IFERROR(IF($A380=\"\",\"\",SUBSTITUTE(SUBSTITUTE(SUBSTITUTE(INDIRECT(\"Trello!\"&ADDRESS(ROW()-1, F$1, 4)),\"MXN: \",\"\"),\" MX$\",\"\"),\".\",\"\")*1),\"\"),E380*F$2)","v":""},{"$f":"IFERROR(IF($A380=\"\",\"\",SUBSTITUTE(SUBSTITUTE(SUBSTITUTE(INDIRECT(\"Trello!\"&ADDRESS(ROW()-1, G$1, 4)),\"Debt: \",\"\"),\" $\",\"\"),\".\",\"\")*1)*IF(E380=\"\",1,F$2),\"\")","v":""},{"$f":"IFERROR(IF($A380=\"\",\"\",SUBSTITUTE(SUBSTITUTE(SUBSTITUTE(INDIRECT(\"Trello!\"&ADDRESS(ROW()-1, H$1, 4)),\"Cost: \",\"\"),\" $\",\"\"),\".\",\"\")*1*$F$2),\"\")","v":""},"",{"$f":"IFERROR(SUBSTITUTE(SUBSTITUTE(SUBSTITUTE(RIGHT(INDIRECT(\"Trello!\"&ADDRESS(ROW()-1, L$1, 4)),LEN(INDIRECT(\"Trello!\"&ADDRESS(ROW()-1, L$1, 4)))-15),\". \",\"/\"),\" 20\",\"/20\"),\" \",\"\"),\"\")","v":""},{"$f":"IFERROR(SUBSTITUTE(SUBSTITUTE(SUBSTITUTE(RIGHT(INDIRECT(\"Trello!\"&ADDRESS(ROW()-1, M$1, 4)),LEN(INDIRECT(\"Trello!\"&ADDRESS(ROW()-1, M$1, 4)))-15),\". \",\"/\"),\" 20\",\"/20\"),\" \",\"\"),\"\")","v":""},"","","",{"$f":"IFERROR(SUBSTITUTE(INDIRECT(\"Trello!\"&ADDRESS(ROW()-1, O$1, 4)),\"Estimate hrs: \",\"\")*1,\"\")","v":""},{"$f":"IF(SUMIF(Timecamp!C:C,Reporte!A380,Timecamp!J:J)=0,\"\",SUMIF(Timecamp!C:C,Reporte!A380,Timecamp!J:J))","v":""},"","",{"$f":"IFERROR(VLOOKUP(A380,'SLA Trab'!E:I,5,FALSE),\"\")","v":""},{"$f":"IFERROR(VLOOKUP(A380,'SLA Cobr'!E:I,5,FALSE),\"\")","v":""}]
[{"$f":"IFERROR(IF(Trello!E380=\"\",\"\",Trello!E380),\" \")","v":""},{"$f":"IF($A381=\"\",\"\",IF(Trello!A380=\"\",B380,Trello!A380))","v":""},"",{"$f":"IF($A381=\"\",\"\",SUBSTITUTE(SUBSTITUTE(Trello!J380,\" days\",\"\"),\"⌚ \",\"\")*1)","v":""},{"$f":"IFERROR(IF($A381=\"\",\"\",SUBSTITUTE(SUBSTITUTE(SUBSTITUTE(INDIRECT(\"Trello!\"&ADDRESS(ROW()-1, E$1, 4)),\"Foreign: \",\"\"),\" $\",\"\"),\".\",\"\")*1),\"\")","v":""},{"$f":"IF($E381=\"\",IFERROR(IF($A381=\"\",\"\",SUBSTITUTE(SUBSTITUTE(SUBSTITUTE(INDIRECT(\"Trello!\"&ADDRESS(ROW()-1, F$1, 4)),\"MXN: \",\"\"),\" MX$\",\"\"),\".\",\"\")*1),\"\"),E381*F$2)","v":""},{"$f":"IFERROR(IF($A381=\"\",\"\",SUBSTITUTE(SUBSTITUTE(SUBSTITUTE(INDIRECT(\"Trello!\"&ADDRESS(ROW()-1, G$1, 4)),\"Debt: \",\"\"),\" $\",\"\"),\".\",\"\")*1)*IF(E381=\"\",1,F$2),\"\")","v":""},{"$f":"IFERROR(IF($A381=\"\",\"\",SUBSTITUTE(SUBSTITUTE(SUBSTITUTE(INDIRECT(\"Trello!\"&ADDRESS(ROW()-1, H$1, 4)),\"Cost: \",\"\"),\" $\",\"\"),\".\",\"\")*1*$F$2),\"\")","v":""},"",{"$f":"IFERROR(SUBSTITUTE(SUBSTITUTE(SUBSTITUTE(RIGHT(INDIRECT(\"Trello!\"&ADDRESS(ROW()-1, L$1, 4)),LEN(INDIRECT(\"Trello!\"&ADDRESS(ROW()-1, L$1, 4)))-15),\". \",\"/\"),\" 20\",\"/20\"),\" \",\"\"),\"\")","v":""},{"$f":"IFERROR(SUBSTITUTE(SUBSTITUTE(SUBSTITUTE(RIGHT(INDIRECT(\"Trello!\"&ADDRESS(ROW()-1, M$1, 4)),LEN(INDIRECT(\"Trello!\"&ADDRESS(ROW()-1, M$1, 4)))-15),\". \",\"/\"),\" 20\",\"/20\"),\" \",\"\"),\"\")","v":""},"","","",{"$f":"IFERROR(SUBSTITUTE(INDIRECT(\"Trello!\"&ADDRESS(ROW()-1, O$1, 4)),\"Estimate hrs: \",\"\")*1,\"\")","v":""},{"$f":"IF(SUMIF(Timecamp!C:C,Reporte!A381,Timecamp!J:J)=0,\"\",SUMIF(Timecamp!C:C,Reporte!A381,Timecamp!J:J))","v":""},"","",{"$f":"IFERROR(VLOOKUP(A381,'SLA Trab'!E:I,5,FALSE),\"\")","v":""},{"$f":"IFERROR(VLOOKUP(A381,'SLA Cobr'!E:I,5,FALSE),\"\")","v":""}]
[{"$f":"IFERROR(IF(Trello!E381=\"\",\"\",Trello!E381),\" \")","v":""},{"$f":"IF($A382=\"\",\"\",IF(Trello!A381=\"\",B381,Trello!A381))","v":""},"",{"$f":"IF($A382=\"\",\"\",SUBSTITUTE(SUBSTITUTE(Trello!J381,\" days\",\"\"),\"⌚ \",\"\")*1)","v":""},{"$f":"IFERROR(IF($A382=\"\",\"\",SUBSTITUTE(SUBSTITUTE(SUBSTITUTE(INDIRECT(\"Trello!\"&ADDRESS(ROW()-1, E$1, 4)),\"Foreign: \",\"\"),\" $\",\"\"),\".\",\"\")*1),\"\")","v":""},{"$f":"IF($E382=\"\",IFERROR(IF($A382=\"\",\"\",SUBSTITUTE(SUBSTITUTE(SUBSTITUTE(INDIRECT(\"Trello!\"&ADDRESS(ROW()-1, F$1, 4)),\"MXN: \",\"\"),\" MX$\",\"\"),\".\",\"\")*1),\"\"),E382*F$2)","v":""},{"$f":"IFERROR(IF($A382=\"\",\"\",SUBSTITUTE(SUBSTITUTE(SUBSTITUTE(INDIRECT(\"Trello!\"&ADDRESS(ROW()-1, G$1, 4)),\"Debt: \",\"\"),\" $\",\"\"),\".\",\"\")*1)*IF(E382=\"\",1,F$2),\"\")","v":""},{"$f":"IFERROR(IF($A382=\"\",\"\",SUBSTITUTE(SUBSTITUTE(SUBSTITUTE(INDIRECT(\"Trello!\"&ADDRESS(ROW()-1, H$1, 4)),\"Cost: \",\"\"),\" $\",\"\"),\".\",\"\")*1*$F$2),\"\")","v":""},"",{"$f":"IFERROR(SUBSTITUTE(SUBSTITUTE(SUBSTITUTE(RIGHT(INDIRECT(\"Trello!\"&ADDRESS(ROW()-1, L$1, 4)),LEN(INDIRECT(\"Trello!\"&ADDRESS(ROW()-1, L$1, 4)))-15),\". \",\"/\"),\" 20\",\"/20\"),\" \",\"\"),\"\")","v":""},{"$f":"IFERROR(SUBSTITUTE(SUBSTITUTE(SUBSTITUTE(RIGHT(INDIRECT(\"Trello!\"&ADDRESS(ROW()-1, M$1, 4)),LEN(INDIRECT(\"Trello!\"&ADDRESS(ROW()-1, M$1, 4)))-15),\". \",\"/\"),\" 20\",\"/20\"),\" \",\"\"),\"\")","v":""},"","","",{"$f":"IFERROR(SUBSTITUTE(INDIRECT(\"Trello!\"&ADDRESS(ROW()-1, O$1, 4)),\"Estimate hrs: \",\"\")*1,\"\")","v":""},{"$f":"IF(SUMIF(Timecamp!C:C,Reporte!A382,Timecamp!J:J)=0,\"\",SUMIF(Timecamp!C:C,Reporte!A382,Timecamp!J:J))","v":""},"","",{"$f":"IFERROR(VLOOKUP(A382,'SLA Trab'!E:I,5,FALSE),\"\")","v":""},{"$f":"IFERROR(VLOOKUP(A382,'SLA Cobr'!E:I,5,FALSE),\"\")","v":""}]
[{"$f":"IFERROR(IF(Trello!E382=\"\",\"\",Trello!E382),\" \")","v":""},{"$f":"IF($A383=\"\",\"\",IF(Trello!A382=\"\",B382,Trello!A382))","v":""},"",{"$f":"IF($A383=\"\",\"\",SUBSTITUTE(SUBSTITUTE(Trello!J382,\" days\",\"\"),\"⌚ \",\"\")*1)","v":""},{"$f":"IFERROR(IF($A383=\"\",\"\",SUBSTITUTE(SUBSTITUTE(SUBSTITUTE(INDIRECT(\"Trello!\"&ADDRESS(ROW()-1, E$1, 4)),\"Foreign: \",\"\"),\" $\",\"\"),\".\",\"\")*1),\"\")","v":""},{"$f":"IF($E383=\"\",IFERROR(IF($A383=\"\",\"\",SUBSTITUTE(SUBSTITUTE(SUBSTITUTE(INDIRECT(\"Trello!\"&ADDRESS(ROW()-1, F$1, 4)),\"MXN: \",\"\"),\" MX$\",\"\"),\".\",\"\")*1),\"\"),E383*F$2)","v":""},{"$f":"IFERROR(IF($A383=\"\",\"\",SUBSTITUTE(SUBSTITUTE(SUBSTITUTE(INDIRECT(\"Trello!\"&ADDRESS(ROW()-1, G$1, 4)),\"Debt: \",\"\"),\" $\",\"\"),\".\",\"\")*1)*IF(E383=\"\",1,F$2),\"\")","v":""},{"$f":"IFERROR(IF($A383=\"\",\"\",SUBSTITUTE(SUBSTITUTE(SUBSTITUTE(INDIRECT(\"Trello!\"&ADDRESS(ROW()-1, H$1, 4)),\"Cost: \",\"\"),\" $\",\"\"),\".\",\"\")*1*$F$2),\"\")","v":""},"",{"$f":"IFERROR(SUBSTITUTE(SUBSTITUTE(SUBSTITUTE(RIGHT(INDIRECT(\"Trello!\"&ADDRESS(ROW()-1, L$1, 4)),LEN(INDIRECT(\"Trello!\"&ADDRESS(ROW()-1, L$1, 4)))-15),\". \",\"/\"),\" 20\",\"/20\"),\" \",\"\"),\"\")","v":""},{"$f":"IFERROR(SUBSTITUTE(SUBSTITUTE(SUBSTITUTE(RIGHT(INDIRECT(\"Trello!\"&ADDRESS(ROW()-1, M$1, 4)),LEN(INDIRECT(\"Trello!\"&ADDRESS(ROW()-1, M$1, 4)))-15),\". \",\"/\"),\" 20\",\"/20\"),\" \",\"\"),\"\")","v":""},"","","",{"$f":"IFERROR(SUBSTITUTE(INDIRECT(\"Trello!\"&ADDRESS(ROW()-1, O$1, 4)),\"Estimate hrs: \",\"\")*1,\"\")","v":""},{"$f":"IF(SUMIF(Timecamp!C:C,Reporte!A383,Timecamp!J:J)=0,\"\",SUMIF(Timecamp!C:C,Reporte!A383,Timecamp!J:J))","v":""},"","",{"$f":"IFERROR(VLOOKUP(A383,'SLA Trab'!E:I,5,FALSE),\"\")","v":""},{"$f":"IFERROR(VLOOKUP(A383,'SLA Cobr'!E:I,5,FALSE),\"\")","v":""}]
[{"$f":"IFERROR(IF(Trello!E383=\"\",\"\",Trello!E383),\" \")","v":""},{"$f":"IF($A384=\"\",\"\",IF(Trello!A383=\"\",B383,Trello!A383))","v":""},"",{"$f":"IF($A384=\"\",\"\",SUBSTITUTE(SUBSTITUTE(Trello!J383,\" days\",\"\"),\"⌚ \",\"\")*1)","v":""},{"$f":"IFERROR(IF($A384=\"\",\"\",SUBSTITUTE(SUBSTITUTE(SUBSTITUTE(INDIRECT(\"Trello!\"&ADDRESS(ROW()-1, E$1, 4)),\"Foreign: \",\"\"),\" $\",\"\"),\".\",\"\")*1),\"\")","v":""},{"$f":"IF($E384=\"\",IFERROR(IF($A384=\"\",\"\",SUBSTITUTE(SUBSTITUTE(SUBSTITUTE(INDIRECT(\"Trello!\"&ADDRESS(ROW()-1, F$1, 4)),\"MXN: \",\"\"),\" MX$\",\"\"),\".\",\"\")*1),\"\"),E384*F$2)","v":""},{"$f":"IFERROR(IF($A384=\"\",\"\",SUBSTITUTE(SUBSTITUTE(SUBSTITUTE(INDIRECT(\"Trello!\"&ADDRESS(ROW()-1, G$1, 4)),\"Debt: \",\"\"),\" $\",\"\"),\".\",\"\")*1)*IF(E384=\"\",1,F$2),\"\")","v":""},{"$f":"IFERROR(IF($A384=\"\",\"\",SUBSTITUTE(SUBSTITUTE(SUBSTITUTE(INDIRECT(\"Trello!\"&ADDRESS(ROW()-1, H$1, 4)),\"Cost: \",\"\"),\" $\",\"\"),\".\",\"\")*1*$F$2),\"\")","v":""},"",{"$f":"IFERROR(SUBSTITUTE(SUBSTITUTE(SUBSTITUTE(RIGHT(INDIRECT(\"Trello!\"&ADDRESS(ROW()-1, L$1, 4)),LEN(INDIRECT(\"Trello!\"&ADDRESS(ROW()-1, L$1, 4)))-15),\". \",\"/\"),\" 20\",\"/20\"),\" \",\"\"),\"\")","v":""},{"$f":"IFERROR(SUBSTITUTE(SUBSTITUTE(SUBSTITUTE(RIGHT(INDIRECT(\"Trello!\"&ADDRESS(ROW()-1, M$1, 4)),LEN(INDIRECT(\"Trello!\"&ADDRESS(ROW()-1, M$1, 4)))-15),\". \",\"/\"),\" 20\",\"/20\"),\" \",\"\"),\"\")","v":""},"","","",{"$f":"IFERROR(SUBSTITUTE(INDIRECT(\"Trello!\"&ADDRESS(ROW()-1, O$1, 4)),\"Estimate hrs: \",\"\")*1,\"\")","v":""},{"$f":"IF(SUMIF(Timecamp!C:C,Reporte!A384,Timecamp!J:J)=0,\"\",SUMIF(Timecamp!C:C,Reporte!A384,Timecamp!J:J))","v":""},"","",{"$f":"IFERROR(VLOOKUP(A384,'SLA Trab'!E:I,5,FALSE),\"\")","v":""},{"$f":"IFERROR(VLOOKUP(A384,'SLA Cobr'!E:I,5,FALSE),\"\")","v":""}]
[{"$f":"IFERROR(IF(Trello!E384=\"\",\"\",Trello!E384),\" \")","v":""},{"$f":"IF($A385=\"\",\"\",IF(Trello!A384=\"\",B384,Trello!A384))","v":""},"",{"$f":"IF($A385=\"\",\"\",SUBSTITUTE(SUBSTITUTE(Trello!J384,\" days\",\"\"),\"⌚ \",\"\")*1)","v":""},{"$f":"IFERROR(IF($A385=\"\",\"\",SUBSTITUTE(SUBSTITUTE(SUBSTITUTE(INDIRECT(\"Trello!\"&ADDRESS(ROW()-1, E$1, 4)),\"Foreign: \",\"\"),\" $\",\"\"),\".\",\"\")*1),\"\")","v":""},{"$f":"IF($E385=\"\",IFERROR(IF($A385=\"\",\"\",SUBSTITUTE(SUBSTITUTE(SUBSTITUTE(INDIRECT(\"Trello!\"&ADDRESS(ROW()-1, F$1, 4)),\"MXN: \",\"\"),\" MX$\",\"\"),\".\",\"\")*1),\"\"),E385*F$2)","v":""},{"$f":"IFERROR(IF($A385=\"\",\"\",SUBSTITUTE(SUBSTITUTE(SUBSTITUTE(INDIRECT(\"Trello!\"&ADDRESS(ROW()-1, G$1, 4)),\"Debt: \",\"\"),\" $\",\"\"),\".\",\"\")*1)*IF(E385=\"\",1,F$2),\"\")","v":""},{"$f":"IFERROR(IF($A385=\"\",\"\",SUBSTITUTE(SUBSTITUTE(SUBSTITUTE(INDIRECT(\"Trello!\"&ADDRESS(ROW()-1, H$1, 4)),\"Cost: \",\"\"),\" $\",\"\"),\".\",\"\")*1*$F$2),\"\")","v":""},"",{"$f":"IFERROR(SUBSTITUTE(SUBSTITUTE(SUBSTITUTE(RIGHT(INDIRECT(\"Trello!\"&ADDRESS(ROW()-1, L$1, 4)),LEN(INDIRECT(\"Trello!\"&ADDRESS(ROW()-1, L$1, 4)))-15),\". \",\"/\"),\" 20\",\"/20\"),\" \",\"\"),\"\")","v":""},{"$f":"IFERROR(SUBSTITUTE(SUBSTITUTE(SUBSTITUTE(RIGHT(INDIRECT(\"Trello!\"&ADDRESS(ROW()-1, M$1, 4)),LEN(INDIRECT(\"Trello!\"&ADDRESS(ROW()-1, M$1, 4)))-15),\". \",\"/\"),\" 20\",\"/20\"),\" \",\"\"),\"\")","v":""},"","","",{"$f":"IFERROR(SUBSTITUTE(INDIRECT(\"Trello!\"&ADDRESS(ROW()-1, O$1, 4)),\"Estimate hrs: \",\"\")*1,\"\")","v":""},{"$f":"IF(SUMIF(Timecamp!C:C,Reporte!A385,Timecamp!J:J)=0,\"\",SUMIF(Timecamp!C:C,Reporte!A385,Timecamp!J:J))","v":""},"","",{"$f":"IFERROR(VLOOKUP(A385,'SLA Trab'!E:I,5,FALSE),\"\")","v":""},{"$f":"IFERROR(VLOOKUP(A385,'SLA Cobr'!E:I,5,FALSE),\"\")","v":""}]
[{"$f":"IFERROR(IF(Trello!E385=\"\",\"\",Trello!E385),\" \")","v":""},{"$f":"IF($A386=\"\",\"\",IF(Trello!A385=\"\",B385,Trello!A385))","v":""},"",{"$f":"IF($A386=\"\",\"\",SUBSTITUTE(SUBSTITUTE(Trello!J385,\" days\",\"\"),\"⌚ \",\"\")*1)","v":""},{"$f":"IFERROR(IF($A386=\"\",\"\",SUBSTITUTE(SUBSTITUTE(SUBSTITUTE(INDIRECT(\"Trello!\"&ADDRESS(ROW()-1, E$1, 4)),\"Foreign: \",\"\"),\" $\",\"\"),\".\",\"\")*1),\"\")","v":""},{"$f":"IF($E386=\"\",IFERROR(IF($A386=\"\",\"\",SUBSTITUTE(SUBSTITUTE(SUBSTITUTE(INDIRECT(\"Trello!\"&ADDRESS(ROW()-1, F$1, 4)),\"MXN: \",\"\"),\" MX$\",\"\"),\".\",\"\")*1),\"\"),E386*F$2)","v":""},{"$f":"IFERROR(IF($A386=\"\",\"\",SUBSTITUTE(SUBSTITUTE(SUBSTITUTE(INDIRECT(\"Trello!\"&ADDRESS(ROW()-1, G$1, 4)),\"Debt: \",\"\"),\" $\",\"\"),\".\",\"\")*1)*IF(E386=\"\",1,F$2),\"\")","v":""},{"$f":"IFERROR(IF($A386=\"\",\"\",SUBSTITUTE(SUBSTITUTE(SUBSTITUTE(INDIRECT(\"Trello!\"&ADDRESS(ROW()-1, H$1, 4)),\"Cost: \",\"\"),\" $\",\"\"),\".\",\"\")*1*$F$2),\"\")","v":""},"",{"$f":"IFERROR(SUBSTITUTE(SUBSTITUTE(SUBSTITUTE(RIGHT(INDIRECT(\"Trello!\"&ADDRESS(ROW()-1, L$1, 4)),LEN(INDIRECT(\"Trello!\"&ADDRESS(ROW()-1, L$1, 4)))-15),\". \",\"/\"),\" 20\",\"/20\"),\" \",\"\"),\"\")","v":""},{"$f":"IFERROR(SUBSTITUTE(SUBSTITUTE(SUBSTITUTE(RIGHT(INDIRECT(\"Trello!\"&ADDRESS(ROW()-1, M$1, 4)),LEN(INDIRECT(\"Trello!\"&ADDRESS(ROW()-1, M$1, 4)))-15),\". \",\"/\"),\" 20\",\"/20\"),\" \",\"\"),\"\")","v":""},"","","",{"$f":"IFERROR(SUBSTITUTE(INDIRECT(\"Trello!\"&ADDRESS(ROW()-1, O$1, 4)),\"Estimate hrs: \",\"\")*1,\"\")","v":""},{"$f":"IF(SUMIF(Timecamp!C:C,Reporte!A386,Timecamp!J:J)=0,\"\",SUMIF(Timecamp!C:C,Reporte!A386,Timecamp!J:J))","v":""},"","",{"$f":"IFERROR(VLOOKUP(A386,'SLA Trab'!E:I,5,FALSE),\"\")","v":""},{"$f":"IFERROR(VLOOKUP(A386,'SLA Cobr'!E:I,5,FALSE),\"\")","v":""}]
[{"$f":"IFERROR(IF(Trello!E386=\"\",\"\",Trello!E386),\" \")","v":""},{"$f":"IF($A387=\"\",\"\",IF(Trello!A386=\"\",B386,Trello!A386))","v":""},"",{"$f":"IF($A387=\"\",\"\",SUBSTITUTE(SUBSTITUTE(Trello!J386,\" days\",\"\"),\"⌚ \",\"\")*1)","v":""},{"$f":"IFERROR(IF($A387=\"\",\"\",SUBSTITUTE(SUBSTITUTE(SUBSTITUTE(INDIRECT(\"Trello!\"&ADDRESS(ROW()-1, E$1, 4)),\"Foreign: \",\"\"),\" $\",\"\"),\".\",\"\")*1),\"\")","v":""},{"$f":"IF($E387=\"\",IFERROR(IF($A387=\"\",\"\",SUBSTITUTE(SUBSTITUTE(SUBSTITUTE(INDIRECT(\"Trello!\"&ADDRESS(ROW()-1, F$1, 4)),\"MXN: \",\"\"),\" MX$\",\"\"),\".\",\"\")*1),\"\"),E387*F$2)","v":""},{"$f":"IFERROR(IF($A387=\"\",\"\",SUBSTITUTE(SUBSTITUTE(SUBSTITUTE(INDIRECT(\"Trello!\"&ADDRESS(ROW()-1, G$1, 4)),\"Debt: \",\"\"),\" $\",\"\"),\".\",\"\")*1)*IF(E387=\"\",1,F$2),\"\")","v":""},{"$f":"IFERROR(IF($A387=\"\",\"\",SUBSTITUTE(SUBSTITUTE(SUBSTITUTE(INDIRECT(\"Trello!\"&ADDRESS(ROW()-1, H$1, 4)),\"Cost: \",\"\"),\" $\",\"\"),\".\",\"\")*1*$F$2),\"\")","v":""},"",{"$f":"IFERROR(SUBSTITUTE(SUBSTITUTE(SUBSTITUTE(RIGHT(INDIRECT(\"Trello!\"&ADDRESS(ROW()-1, L$1, 4)),LEN(INDIRECT(\"Trello!\"&ADDRESS(ROW()-1, L$1, 4)))-15),\". \",\"/\"),\" 20\",\"/20\"),\" \",\"\"),\"\")","v":""},{"$f":"IFERROR(SUBSTITUTE(SUBSTITUTE(SUBSTITUTE(RIGHT(INDIRECT(\"Trello!\"&ADDRESS(ROW()-1, M$1, 4)),LEN(INDIRECT(\"Trello!\"&ADDRESS(ROW()-1, M$1, 4)))-15),\". \",\"/\"),\" 20\",\"/20\"),\" \",\"\"),\"\")","v":""},"","","",{"$f":"IFERROR(SUBSTITUTE(INDIRECT(\"Trello!\"&ADDRESS(ROW()-1, O$1, 4)),\"Estimate hrs: \",\"\")*1,\"\")","v":""},{"$f":"IF(SUMIF(Timecamp!C:C,Reporte!A387,Timecamp!J:J)=0,\"\",SUMIF(Timecamp!C:C,Reporte!A387,Timecamp!J:J))","v":""},{"$f":"IF(AND(O387>0,P387>0,O387<>\"\",P387<>\"\"),(P387/O387)-1,\"\")","v":""},{"$f":"IF(OR(P387=\"\",F387=\"\"),\"\",F387/P387)","v":""},{"$f":"IFERROR(VLOOKUP(A387,'SLA Trab'!E:I,5,FALSE),\"\")","v":""},{"$f":"IFERROR(VLOOKUP(A387,'SLA Cobr'!E:I,5,FALSE),\"\")","v":""}]
[{"$f":"IFERROR(IF(Trello!E387=\"\",\"\",Trello!E387),\" \")","v":""},{"$f":"IF($A388=\"\",\"\",IF(Trello!A387=\"\",B387,Trello!A387))","v":""},{"$f":"IF($A388=\"\",\"\",TODAY()-D388)","v":""},{"$f":"IF($A388=\"\",\"\",SUBSTITUTE(SUBSTITUTE(Trello!J387,\" days\",\"\"),\"⌚ \",\"\")*1)","v":""},{"$f":"IFERROR(IF($A388=\"\",\"\",SUBSTITUTE(SUBSTITUTE(SUBSTITUTE(INDIRECT(\"Trello!\"&ADDRESS(ROW()-1, E$1, 4)),\"Foreign: \",\"\"),\" $\",\"\"),\".\",\"\")*1),\"\")","v":""},{"$f":"IF($E388=\"\",IFERROR(IF($A388=\"\",\"\",SUBSTITUTE(SUBSTITUTE(SUBSTITUTE(INDIRECT(\"Trello!\"&ADDRESS(ROW()-1, F$1, 4)),\"MXN: \",\"\"),\" MX$\",\"\"),\".\",\"\")*1),\"\"),E388*F$2)","v":""},{"$f":"IFERROR(IF($A388=\"\",\"\",SUBSTITUTE(SUBSTITUTE(SUBSTITUTE(INDIRECT(\"Trello!\"&ADDRESS(ROW()-1, G$1, 4)),\"Debt: \",\"\"),\" $\",\"\"),\".\",\"\")*1)*IF(E388=\"\",1,F$2),\"\")","v":""},{"$f":"IFERROR(IF($A388=\"\",\"\",SUBSTITUTE(SUBSTITUTE(SUBSTITUTE(INDIRECT(\"Trello!\"&ADDRESS(ROW()-1, H$1, 4)),\"Cost: \",\"\"),\" $\",\"\"),\".\",\"\")*1*$F$2),\"\")","v":""},"",{"$f":"IFERROR(SUBSTITUTE(SUBSTITUTE(SUBSTITUTE(RIGHT(INDIRECT(\"Trello!\"&ADDRESS(ROW()-1, L$1, 4)),LEN(INDIRECT(\"Trello!\"&ADDRESS(ROW()-1, L$1, 4)))-15),\". \",\"/\"),\" 20\",\"/20\"),\" \",\"\"),\"\")","v":""},{"$f":"IFERROR(SUBSTITUTE(SUBSTITUTE(SUBSTITUTE(RIGHT(INDIRECT(\"Trello!\"&ADDRESS(ROW()-1, M$1, 4)),LEN(INDIRECT(\"Trello!\"&ADDRESS(ROW()-1, M$1, 4)))-15),\". \",\"/\"),\" 20\",\"/20\"),\" \",\"\"),\"\")","v":""},"","","",{"$f":"IFERROR(SUBSTITUTE(INDIRECT(\"Trello!\"&ADDRESS(ROW()-1, O$1, 4)),\"Estimate hrs: \",\"\")*1,\"\")","v":""},{"$f":"IF(SUMIF(Timecamp!C:C,Reporte!A388,Timecamp!J:J)=0,\"\",SUMIF(Timecamp!C:C,Reporte!A388,Timecamp!J:J))","v":""},"","",{"$f":"IFERROR(VLOOKUP(A388,'SLA Trab'!E:I,5,FALSE),\"\")","v":""},{"$f":"IFERROR(VLOOKUP(A388,'SLA Cobr'!E:I,5,FALSE),\"\")","v":""}]
[{"$f":"IFERROR(IF(Trello!E388=\"\",\"\",Trello!E388),\" \")","v":""},{"$f":"IF($A389=\"\",\"\",IF(Trello!A388=\"\",B388,Trello!A388))","v":""},"",{"$f":"IF($A389=\"\",\"\",SUBSTITUTE(SUBSTITUTE(Trello!J388,\" days\",\"\"),\"⌚ \",\"\")*1)","v":""},{"$f":"IFERROR(IF($A389=\"\",\"\",SUBSTITUTE(SUBSTITUTE(SUBSTITUTE(INDIRECT(\"Trello!\"&ADDRESS(ROW()-1, E$1, 4)),\"Foreign: \",\"\"),\" $\",\"\"),\".\",\"\")*1),\"\")","v":""},{"$f":"IF($E389=\"\",IFERROR(IF($A389=\"\",\"\",SUBSTITUTE(SUBSTITUTE(SUBSTITUTE(INDIRECT(\"Trello!\"&ADDRESS(ROW()-1, F$1, 4)),\"MXN: \",\"\"),\" MX$\",\"\"),\".\",\"\")*1),\"\"),E389*F$2)","v":""},{"$f":"IFERROR(IF($A389=\"\",\"\",SUBSTITUTE(SUBSTITUTE(SUBSTITUTE(INDIRECT(\"Trello!\"&ADDRESS(ROW()-1, G$1, 4)),\"Debt: \",\"\"),\" $\",\"\"),\".\",\"\")*1)*IF(E389=\"\",1,F$2),\"\")","v":""},{"$f":"IFERROR(IF($A389=\"\",\"\",SUBSTITUTE(SUBSTITUTE(SUBSTITUTE(INDIRECT(\"Trello!\"&ADDRESS(ROW()-1, H$1, 4)),\"Cost: \",\"\"),\" $\",\"\"),\".\",\"\")*1*$F$2),\"\")","v":""},{"$f":"IF(OR(F389=\"\",H389=\"\"),F389,F389-H389)","v":""},{"$f":"IFERROR(SUBSTITUTE(SUBSTITUTE(SUBSTITUTE(RIGHT(INDIRECT(\"Trello!\"&ADDRESS(ROW()-1, L$1, 4)),LEN(INDIRECT(\"Trello!\"&ADDRESS(ROW()-1, L$1, 4)))-15),\". \",\"/\"),\" 20\",\"/20\"),\" \",\"\"),\"\")","v":""},{"$f":"IFERROR(SUBSTITUTE(SUBSTITUTE(SUBSTITUTE(RIGHT(INDIRECT(\"Trello!\"&ADDRESS(ROW()-1, M$1, 4)),LEN(INDIRECT(\"Trello!\"&ADDRESS(ROW()-1, M$1, 4)))-15),\". \",\"/\"),\" 20\",\"/20\"),\" \",\"\"),\"\")","v":""},"","","",{"$f":"IFERROR(SUBSTITUTE(INDIRECT(\"Trello!\"&ADDRESS(ROW()-1, O$1, 4)),\"Estimate hrs: \",\"\")*1,\"\")","v":""},{"$f":"IF(SUMIF(Timecamp!C:C,Reporte!A389,Timecamp!J:J)=0,\"\",SUMIF(Timecamp!C:C,Reporte!A389,Timecamp!J:J))","v":""},"","",{"$f":"IFERROR(VLOOKUP(A389,'SLA Trab'!E:I,5,FALSE),\"\")","v":""},{"$f":"IFERROR(VLOOKUP(A389,'SLA Cobr'!E:I,5,FALSE),\"\")","v":""}]
[{"$f":"IFERROR(IF(Trello!E389=\"\",\"\",Trello!E389),\" \")","v":""},{"$f":"IF($A390=\"\",\"\",IF(Trello!A389=\"\",B389,Trello!A389))","v":""},"",{"$f":"IF($A390=\"\",\"\",SUBSTITUTE(SUBSTITUTE(Trello!J389,\" days\",\"\"),\"⌚ \",\"\")*1)","v":""},{"$f":"IFERROR(IF($A390=\"\",\"\",SUBSTITUTE(SUBSTITUTE(SUBSTITUTE(INDIRECT(\"Trello!\"&ADDRESS(ROW()-1, E$1, 4)),\"Foreign: \",\"\"),\" $\",\"\"),\".\",\"\")*1),\"\")","v":""},{"$f":"IF($E390=\"\",IFERROR(IF($A390=\"\",\"\",SUBSTITUTE(SUBSTITUTE(SUBSTITUTE(INDIRECT(\"Trello!\"&ADDRESS(ROW()-1, F$1, 4)),\"MXN: \",\"\"),\" MX$\",\"\"),\".\",\"\")*1),\"\"),E390*F$2)","v":""},{"$f":"IFERROR(IF($A390=\"\",\"\",SUBSTITUTE(SUBSTITUTE(SUBSTITUTE(INDIRECT(\"Trello!\"&ADDRESS(ROW()-1, G$1, 4)),\"Debt: \",\"\"),\" $\",\"\"),\".\",\"\")*1)*IF(E390=\"\",1,F$2),\"\")","v":""},{"$f":"IFERROR(IF($A390=\"\",\"\",SUBSTITUTE(SUBSTITUTE(SUBSTITUTE(INDIRECT(\"Trello!\"&ADDRESS(ROW()-1, H$1, 4)),\"Cost: \",\"\"),\" $\",\"\"),\".\",\"\")*1*$F$2),\"\")","v":""},"",{"$f":"IFERROR(SUBSTITUTE(SUBSTITUTE(SUBSTITUTE(RIGHT(INDIRECT(\"Trello!\"&ADDRESS(ROW()-1, L$1, 4)),LEN(INDIRECT(\"Trello!\"&ADDRESS(ROW()-1, L$1, 4)))-15),\". \",\"/\"),\" 20\",\"/20\"),\" \",\"\"),\"\")","v":""},{"$f":"IFERROR(SUBSTITUTE(SUBSTITUTE(SUBSTITUTE(RIGHT(INDIRECT(\"Trello!\"&ADDRESS(ROW()-1, M$1, 4)),LEN(INDIRECT(\"Trello!\"&ADDRESS(ROW()-1, M$1, 4)))-15),\". \",\"/\"),\" 20\",\"/20\"),\" \",\"\"),\"\")","v":""},"","","",{"$f":"IFERROR(SUBSTITUTE(INDIRECT(\"Trello!\"&ADDRESS(ROW()-1, O$1, 4)),\"Estimate hrs: \",\"\")*1,\"\")","v":""},{"$f":"IF(SUMIF(Timecamp!C:C,Reporte!A390,Timecamp!J:J)=0,\"\",SUMIF(Timecamp!C:C,Reporte!A390,Timecamp!J:J))","v":""},"","",{"$f":"IFERROR(VLOOKUP(A390,'SLA Trab'!E:I,5,FALSE),\"\")","v":""},{"$f":"IFERROR(VLOOKUP(A390,'SLA Cobr'!E:I,5,FALSE),\"\")","v":""}]
[{"$f":"IFERROR(IF(Trello!E390=\"\",\"\",Trello!E390),\" \")","v":""},{"$f":"IF($A391=\"\",\"\",IF(Trello!A390=\"\",B390,Trello!A390))","v":""},"",{"$f":"IF($A391=\"\",\"\",SUBSTITUTE(SUBSTITUTE(Trello!J390,\" days\",\"\"),\"⌚ \",\"\")*1)","v":""},{"$f":"IFERROR(IF($A391=\"\",\"\",SUBSTITUTE(SUBSTITUTE(SUBSTITUTE(INDIRECT(\"Trello!\"&ADDRESS(ROW()-1, E$1, 4)),\"Foreign: \",\"\"),\" $\",\"\"),\".\",\"\")*1),\"\")","v":""},{"$f":"IF($E391=\"\",IFERROR(IF($A391=\"\",\"\",SUBSTITUTE(SUBSTITUTE(SUBSTITUTE(INDIRECT(\"Trello!\"&ADDRESS(ROW()-1, F$1, 4)),\"MXN: \",\"\"),\" MX$\",\"\"),\".\",\"\")*1),\"\"),E391*F$2)","v":""},{"$f":"IFERROR(IF($A391=\"\",\"\",SUBSTITUTE(SUBSTITUTE(SUBSTITUTE(INDIRECT(\"Trello!\"&ADDRESS(ROW()-1, G$1, 4)),\"Debt: \",\"\"),\" $\",\"\"),\".\",\"\")*1)*IF(E391=\"\",1,F$2),\"\")","v":""},{"$f":"IFERROR(IF($A391=\"\",\"\",SUBSTITUTE(SUBSTITUTE(SUBSTITUTE(INDIRECT(\"Trello!\"&ADDRESS(ROW()-1, H$1, 4)),\"Cost: \",\"\"),\" $\",\"\"),\".\",\"\")*1*$F$2),\"\")","v":""},"",{"$f":"IFERROR(SUBSTITUTE(SUBSTITUTE(SUBSTITUTE(RIGHT(INDIRECT(\"Trello!\"&ADDRESS(ROW()-1, L$1, 4)),LEN(INDIRECT(\"Trello!\"&ADDRESS(ROW()-1, L$1, 4)))-15),\". \",\"/\"),\" 20\",\"/20\"),\" \",\"\"),\"\")","v":""},{"$f":"IFERROR(SUBSTITUTE(SUBSTITUTE(SUBSTITUTE(RIGHT(INDIRECT(\"Trello!\"&ADDRESS(ROW()-1, M$1, 4)),LEN(INDIRECT(\"Trello!\"&ADDRESS(ROW()-1, M$1, 4)))-15),\". \",\"/\"),\" 20\",\"/20\"),\" \",\"\"),\"\")","v":""},"","","",{"$f":"IFERROR(SUBSTITUTE(INDIRECT(\"Trello!\"&ADDRESS(ROW()-1, O$1, 4)),\"Estimate hrs: \",\"\")*1,\"\")","v":""},{"$f":"IF(SUMIF(Timecamp!C:C,Reporte!A391,Timecamp!J:J)=0,\"\",SUMIF(Timecamp!C:C,Reporte!A391,Timecamp!J:J))","v":""},"","",{"$f":"IFERROR(VLOOKUP(A391,'SLA Trab'!E:I,5,FALSE),\"\")","v":""},{"$f":"IFERROR(VLOOKUP(A391,'SLA Cobr'!E:I,5,FALSE),\"\")","v":""}]
[{"$f":"IFERROR(IF(Trello!E391=\"\",\"\",Trello!E391),\" \")","v":""},{"$f":"IF($A392=\"\",\"\",IF(Trello!A391=\"\",B391,Trello!A391))","v":""},"",{"$f":"IF($A392=\"\",\"\",SUBSTITUTE(SUBSTITUTE(Trello!J391,\" days\",\"\"),\"⌚ \",\"\")*1)","v":""},{"$f":"IFERROR(IF($A392=\"\",\"\",SUBSTITUTE(SUBSTITUTE(SUBSTITUTE(INDIRECT(\"Trello!\"&ADDRESS(ROW()-1, E$1, 4)),\"Foreign: \",\"\"),\" $\",\"\"),\".\",\"\")*1),\"\")","v":""},{"$f":"IF($E392=\"\",IFERROR(IF($A392=\"\",\"\",SUBSTITUTE(SUBSTITUTE(SUBSTITUTE(INDIRECT(\"Trello!\"&ADDRESS(ROW()-1, F$1, 4)),\"MXN: \",\"\"),\" MX$\",\"\"),\".\",\"\")*1),\"\"),E392*F$2)","v":""},{"$f":"IFERROR(IF($A392=\"\",\"\",SUBSTITUTE(SUBSTITUTE(SUBSTITUTE(INDIRECT(\"Trello!\"&ADDRESS(ROW()-1, G$1, 4)),\"Debt: \",\"\"),\" $\",\"\"),\".\",\"\")*1)*IF(E392=\"\",1,F$2),\"\")","v":""},{"$f":"IFERROR(IF($A392=\"\",\"\",SUBSTITUTE(SUBSTITUTE(SUBSTITUTE(INDIRECT(\"Trello!\"&ADDRESS(ROW()-1, H$1, 4)),\"Cost: \",\"\"),\" $\",\"\"),\".\",\"\")*1*$F$2),\"\")","v":""},"",{"$f":"IFERROR(SUBSTITUTE(SUBSTITUTE(SUBSTITUTE(RIGHT(INDIRECT(\"Trello!\"&ADDRESS(ROW()-1, L$1, 4)),LEN(INDIRECT(\"Trello!\"&ADDRESS(ROW()-1, L$1, 4)))-15),\". \",\"/\"),\" 20\",\"/20\"),\" \",\"\"),\"\")","v":""},{"$f":"IFERROR(SUBSTITUTE(SUBSTITUTE(SUBSTITUTE(RIGHT(INDIRECT(\"Trello!\"&ADDRESS(ROW()-1, M$1, 4)),LEN(INDIRECT(\"Trello!\"&ADDRESS(ROW()-1, M$1, 4)))-15),\". \",\"/\"),\" 20\",\"/20\"),\" \",\"\"),\"\")","v":""},"","","",{"$f":"IFERROR(SUBSTITUTE(INDIRECT(\"Trello!\"&ADDRESS(ROW()-1, O$1, 4)),\"Estimate hrs: \",\"\")*1,\"\")","v":""},{"$f":"IF(SUMIF(Timecamp!C:C,Reporte!A392,Timecamp!J:J)=0,\"\",SUMIF(Timecamp!C:C,Reporte!A392,Timecamp!J:J))","v":""},"","",{"$f":"IFERROR(VLOOKUP(A392,'SLA Trab'!E:I,5,FALSE),\"\")","v":""},{"$f":"IFERROR(VLOOKUP(A392,'SLA Cobr'!E:I,5,FALSE),\"\")","v":""}]
[{"$f":"IFERROR(IF(Trello!E392=\"\",\"\",Trello!E392),\" \")","v":""},{"$f":"IF($A393=\"\",\"\",IF(Trello!A392=\"\",B392,Trello!A392))","v":""},"",{"$f":"IF($A393=\"\",\"\",SUBSTITUTE(SUBSTITUTE(Trello!J392,\" days\",\"\"),\"⌚ \",\"\")*1)","v":""},{"$f":"IFERROR(IF($A393=\"\",\"\",SUBSTITUTE(SUBSTITUTE(SUBSTITUTE(INDIRECT(\"Trello!\"&ADDRESS(ROW()-1, E$1, 4)),\"Foreign: \",\"\"),\" $\",\"\"),\".\",\"\")*1),\"\")","v":""},{"$f":"IF($E393=\"\",IFERROR(IF($A393=\"\",\"\",SUBSTITUTE(SUBSTITUTE(SUBSTITUTE(INDIRECT(\"Trello!\"&ADDRESS(ROW()-1, F$1, 4)),\"MXN: \",\"\"),\" MX$\",\"\"),\".\",\"\")*1),\"\"),E393*F$2)","v":""},{"$f":"IFERROR(IF($A393=\"\",\"\",SUBSTITUTE(SUBSTITUTE(SUBSTITUTE(INDIRECT(\"Trello!\"&ADDRESS(ROW()-1, G$1, 4)),\"Debt: \",\"\"),\" $\",\"\"),\".\",\"\")*1)*IF(E393=\"\",1,F$2),\"\")","v":""},{"$f":"IFERROR(IF($A393=\"\",\"\",SUBSTITUTE(SUBSTITUTE(SUBSTITUTE(INDIRECT(\"Trello!\"&ADDRESS(ROW()-1, H$1, 4)),\"Cost: \",\"\"),\" $\",\"\"),\".\",\"\")*1*$F$2),\"\")","v":""},"",{"$f":"IFERROR(SUBSTITUTE(SUBSTITUTE(SUBSTITUTE(RIGHT(INDIRECT(\"Trello!\"&ADDRESS(ROW()-1, L$1, 4)),LEN(INDIRECT(\"Trello!\"&ADDRESS(ROW()-1, L$1, 4)))-15),\". \",\"/\"),\" 20\",\"/20\"),\" \",\"\"),\"\")","v":""},{"$f":"IFERROR(SUBSTITUTE(SUBSTITUTE(SUBSTITUTE(RIGHT(INDIRECT(\"Trello!\"&ADDRESS(ROW()-1, M$1, 4)),LEN(INDIRECT(\"Trello!\"&ADDRESS(ROW()-1, M$1, 4)))-15),\". \",\"/\"),\" 20\",\"/20\"),\" \",\"\"),\"\")","v":""},"","","",{"$f":"IFERROR(SUBSTITUTE(INDIRECT(\"Trello!\"&ADDRESS(ROW()-1, O$1, 4)),\"Estimate hrs: \",\"\")*1,\"\")","v":""},{"$f":"IF(SUMIF(Timecamp!C:C,Reporte!A393,Timecamp!J:J)=0,\"\",SUMIF(Timecamp!C:C,Reporte!A393,Timecamp!J:J))","v":""},"","",{"$f":"IFERROR(VLOOKUP(A393,'SLA Trab'!E:I,5,FALSE),\"\")","v":""},{"$f":"IFERROR(VLOOKUP(A393,'SLA Cobr'!E:I,5,FALSE),\"\")","v":""}]
[{"$f":"IFERROR(IF(Trello!E393=\"\",\"\",Trello!E393),\" \")","v":""},{"$f":"IF($A394=\"\",\"\",IF(Trello!A393=\"\",B393,Trello!A393))","v":""},"",{"$f":"IF($A394=\"\",\"\",SUBSTITUTE(SUBSTITUTE(Trello!J393,\" days\",\"\"),\"⌚ \",\"\")*1)","v":""},{"$f":"IFERROR(IF($A394=\"\",\"\",SUBSTITUTE(SUBSTITUTE(SUBSTITUTE(INDIRECT(\"Trello!\"&ADDRESS(ROW()-1, E$1, 4)),\"Foreign: \",\"\"),\" $\",\"\"),\".\",\"\")*1),\"\")","v":""},{"$f":"IF($E394=\"\",IFERROR(IF($A394=\"\",\"\",SUBSTITUTE(SUBSTITUTE(SUBSTITUTE(INDIRECT(\"Trello!\"&ADDRESS(ROW()-1, F$1, 4)),\"MXN: \",\"\"),\" MX$\",\"\"),\".\",\"\")*1),\"\"),E394*F$2)","v":""},{"$f":"IFERROR(IF($A394=\"\",\"\",SUBSTITUTE(SUBSTITUTE(SUBSTITUTE(INDIRECT(\"Trello!\"&ADDRESS(ROW()-1, G$1, 4)),\"Debt: \",\"\"),\" $\",\"\"),\".\",\"\")*1)*IF(E394=\"\",1,F$2),\"\")","v":""},{"$f":"IFERROR(IF($A394=\"\",\"\",SUBSTITUTE(SUBSTITUTE(SUBSTITUTE(INDIRECT(\"Trello!\"&ADDRESS(ROW()-1, H$1, 4)),\"Cost: \",\"\"),\" $\",\"\"),\".\",\"\")*1*$F$2),\"\")","v":""},"",{"$f":"IFERROR(SUBSTITUTE(SUBSTITUTE(SUBSTITUTE(RIGHT(INDIRECT(\"Trello!\"&ADDRESS(ROW()-1, L$1, 4)),LEN(INDIRECT(\"Trello!\"&ADDRESS(ROW()-1, L$1, 4)))-15),\". \",\"/\"),\" 20\",\"/20\"),\" \",\"\"),\"\")","v":""},{"$f":"IFERROR(SUBSTITUTE(SUBSTITUTE(SUBSTITUTE(RIGHT(INDIRECT(\"Trello!\"&ADDRESS(ROW()-1, M$1, 4)),LEN(INDIRECT(\"Trello!\"&ADDRESS(ROW()-1, M$1, 4)))-15),\". \",\"/\"),\" 20\",\"/20\"),\" \",\"\"),\"\")","v":""},"","",{"$f":"IF(AND(L394>0,M394>0,L394<>\"\",M394<>\"\"),L394-M394,\"\")","v":""},{"$f":"IFERROR(SUBSTITUTE(INDIRECT(\"Trello!\"&ADDRESS(ROW()-1, O$1, 4)),\"Estimate hrs: \",\"\")*1,\"\")","v":""},{"$f":"IF(SUMIF(Timecamp!C:C,Reporte!A394,Timecamp!J:J)=0,\"\",SUMIF(Timecamp!C:C,Reporte!A394,Timecamp!J:J))","v":""},"","",{"$f":"IFERROR(VLOOKUP(A394,'SLA Trab'!E:I,5,FALSE),\"\")","v":""},{"$f":"IFERROR(VLOOKUP(A394,'SLA Cobr'!E:I,5,FALSE),\"\")","v":""}]
[{"$f":"IFERROR(IF(Trello!E394=\"\",\"\",Trello!E394),\" \")","v":""},{"$f":"IF($A395=\"\",\"\",IF(Trello!A394=\"\",B394,Trello!A394))","v":""},"",{"$f":"IF($A395=\"\",\"\",SUBSTITUTE(SUBSTITUTE(Trello!J394,\" days\",\"\"),\"⌚ \",\"\")*1)","v":""},{"$f":"IFERROR(IF($A395=\"\",\"\",SUBSTITUTE(SUBSTITUTE(SUBSTITUTE(INDIRECT(\"Trello!\"&ADDRESS(ROW()-1, E$1, 4)),\"Foreign: \",\"\"),\" $\",\"\"),\".\",\"\")*1),\"\")","v":""},{"$f":"IF($E395=\"\",IFERROR(IF($A395=\"\",\"\",SUBSTITUTE(SUBSTITUTE(SUBSTITUTE(INDIRECT(\"Trello!\"&ADDRESS(ROW()-1, F$1, 4)),\"MXN: \",\"\"),\" MX$\",\"\"),\".\",\"\")*1),\"\"),E395*F$2)","v":""},{"$f":"IFERROR(IF($A395=\"\",\"\",SUBSTITUTE(SUBSTITUTE(SUBSTITUTE(INDIRECT(\"Trello!\"&ADDRESS(ROW()-1, G$1, 4)),\"Debt: \",\"\"),\" $\",\"\"),\".\",\"\")*1)*IF(E395=\"\",1,F$2),\"\")","v":""},{"$f":"IFERROR(IF($A395=\"\",\"\",SUBSTITUTE(SUBSTITUTE(SUBSTITUTE(INDIRECT(\"Trello!\"&ADDRESS(ROW()-1, H$1, 4)),\"Cost: \",\"\"),\" $\",\"\"),\".\",\"\")*1*$F$2),\"\")","v":""},"",{"$f":"IFERROR(SUBSTITUTE(SUBSTITUTE(SUBSTITUTE(RIGHT(INDIRECT(\"Trello!\"&ADDRESS(ROW()-1, L$1, 4)),LEN(INDIRECT(\"Trello!\"&ADDRESS(ROW()-1, L$1, 4)))-15),\". \",\"/\"),\" 20\",\"/20\"),\" \",\"\"),\"\")","v":""},{"$f":"IFERROR(SUBSTITUTE(SUBSTITUTE(SUBSTITUTE(RIGHT(INDIRECT(\"Trello!\"&ADDRESS(ROW()-1, M$1, 4)),LEN(INDIRECT(\"Trello!\"&ADDRESS(ROW()-1, M$1, 4)))-15),\". \",\"/\"),\" 20\",\"/20\"),\" \",\"\"),\"\")","v":""},{"$f":"IFERROR(SUBSTITUTE(SUBSTITUTE(SUBSTITUTE(SUBSTITUTE(SUBSTITUTE(SUBSTITUTE(SUBSTITUTE(SUBSTITUTE(SUBSTITUTE(SUBSTITUTE(SUBSTITUTE(SUBSTITUTE(J395,\"Dez\",12),\"Nov\",11),\"Okt\",10),\"Sept\",9),\"Aug\",8),\"Juli\",7),\"Juni\",6),\"Mai\",5),\"Apr\",4),\"März\",3),\"Feb\",2),\"Jan\",1)*1,\"\")","v":""},"","",{"$f":"IFERROR(SUBSTITUTE(INDIRECT(\"Trello!\"&ADDRESS(ROW()-1, O$1, 4)),\"Estimate hrs: \",\"\")*1,\"\")","v":""},{"$f":"IF(SUMIF(Timecamp!C:C,Reporte!A395,Timecamp!J:J)=0,\"\",SUMIF(Timecamp!C:C,Reporte!A395,Timecamp!J:J))","v":""},"","",{"$f":"IFERROR(VLOOKUP(A395,'SLA Trab'!E:I,5,FALSE),\"\")","v":""},{"$f":"IFERROR(VLOOKUP(A395,'SLA Cobr'!E:I,5,FALSE),\"\")","v":""}]
[{"$f":"IFERROR(IF(Trello!E395=\"\",\"\",Trello!E395),\" \")","v":""},{"$f":"IF($A396=\"\",\"\",IF(Trello!A395=\"\",B395,Trello!A395))","v":""},"",{"$f":"IF($A396=\"\",\"\",SUBSTITUTE(SUBSTITUTE(Trello!J395,\" days\",\"\"),\"⌚ \",\"\")*1)","v":""},{"$f":"IFERROR(IF($A396=\"\",\"\",SUBSTITUTE(SUBSTITUTE(SUBSTITUTE(INDIRECT(\"Trello!\"&ADDRESS(ROW()-1, E$1, 4)),\"Foreign: \",\"\"),\" $\",\"\"),\".\",\"\")*1),\"\")","v":""},{"$f":"IF($E396=\"\",IFERROR(IF($A396=\"\",\"\",SUBSTITUTE(SUBSTITUTE(SUBSTITUTE(INDIRECT(\"Trello!\"&ADDRESS(ROW()-1, F$1, 4)),\"MXN: \",\"\"),\" MX$\",\"\"),\".\",\"\")*1),\"\"),E396*F$2)","v":""},{"$f":"IFERROR(IF($A396=\"\",\"\",SUBSTITUTE(SUBSTITUTE(SUBSTITUTE(INDIRECT(\"Trello!\"&ADDRESS(ROW()-1, G$1, 4)),\"Debt: \",\"\"),\" $\",\"\"),\".\",\"\")*1)*IF(E396=\"\",1,F$2),\"\")","v":""},{"$f":"IFERROR(IF($A396=\"\",\"\",SUBSTITUTE(SUBSTITUTE(SUBSTITUTE(INDIRECT(\"Trello!\"&ADDRESS(ROW()-1, H$1, 4)),\"Cost: \",\"\"),\" $\",\"\"),\".\",\"\")*1*$F$2),\"\")","v":""},"",{"$f":"IFERROR(SUBSTITUTE(SUBSTITUTE(SUBSTITUTE(RIGHT(INDIRECT(\"Trello!\"&ADDRESS(ROW()-1, L$1, 4)),LEN(INDIRECT(\"Trello!\"&ADDRESS(ROW()-1, L$1, 4)))-15),\". \",\"/\"),\" 20\",\"/20\"),\" \",\"\"),\"\")","v":""},{"$f":"IFERROR(SUBSTITUTE(SUBSTITUTE(SUBSTITUTE(RIGHT(INDIRECT(\"Trello!\"&ADDRESS(ROW()-1, M$1, 4)),LEN(INDIRECT(\"Trello!\"&ADDRESS(ROW()-1, M$1, 4)))-15),\". \",\"/\"),\" 20\",\"/20\"),\" \",\"\"),\"\")","v":""},"","","",{"$f":"IFERROR(SUBSTITUTE(INDIRECT(\"Trello!\"&ADDRESS(ROW()-1, O$1, 4)),\"Estimate hrs: \",\"\")*1,\"\")","v":""},{"$f":"IF(SUMIF(Timecamp!C:C,Reporte!A396,Timecamp!J:J)=0,\"\",SUMIF(Timecamp!C:C,Reporte!A396,Timecamp!J:J))","v":""},"","",{"$f":"IFERROR(VLOOKUP(A396,'SLA Trab'!E:I,5,FALSE),\"\")","v":""},{"$f":"IFERROR(VLOOKUP(A396,'SLA Cobr'!E:I,5,FALSE),\"\")","v":""}]
[{"$f":"IFERROR(IF(Trello!E396=\"\",\"\",Trello!E396),\" \")","v":""},{"$f":"IF($A397=\"\",\"\",IF(Trello!A396=\"\",B396,Trello!A396))","v":""},"",{"$f":"IF($A397=\"\",\"\",SUBSTITUTE(SUBSTITUTE(Trello!J396,\" days\",\"\"),\"⌚ \",\"\")*1)","v":""},{"$f":"IFERROR(IF($A397=\"\",\"\",SUBSTITUTE(SUBSTITUTE(SUBSTITUTE(INDIRECT(\"Trello!\"&ADDRESS(ROW()-1, E$1, 4)),\"Foreign: \",\"\"),\" $\",\"\"),\".\",\"\")*1),\"\")","v":""},{"$f":"IF($E397=\"\",IFERROR(IF($A397=\"\",\"\",SUBSTITUTE(SUBSTITUTE(SUBSTITUTE(INDIRECT(\"Trello!\"&ADDRESS(ROW()-1, F$1, 4)),\"MXN: \",\"\"),\" MX$\",\"\"),\".\",\"\")*1),\"\"),E397*F$2)","v":""},{"$f":"IFERROR(IF($A397=\"\",\"\",SUBSTITUTE(SUBSTITUTE(SUBSTITUTE(INDIRECT(\"Trello!\"&ADDRESS(ROW()-1, G$1, 4)),\"Debt: \",\"\"),\" $\",\"\"),\".\",\"\")*1)*IF(E397=\"\",1,F$2),\"\")","v":""},{"$f":"IFERROR(IF($A397=\"\",\"\",SUBSTITUTE(SUBSTITUTE(SUBSTITUTE(INDIRECT(\"Trello!\"&ADDRESS(ROW()-1, H$1, 4)),\"Cost: \",\"\"),\" $\",\"\"),\".\",\"\")*1*$F$2),\"\")","v":""},"",{"$f":"IFERROR(SUBSTITUTE(SUBSTITUTE(SUBSTITUTE(RIGHT(INDIRECT(\"Trello!\"&ADDRESS(ROW()-1, L$1, 4)),LEN(INDIRECT(\"Trello!\"&ADDRESS(ROW()-1, L$1, 4)))-15),\". \",\"/\"),\" 20\",\"/20\"),\" \",\"\"),\"\")","v":""},{"$f":"IFERROR(SUBSTITUTE(SUBSTITUTE(SUBSTITUTE(RIGHT(INDIRECT(\"Trello!\"&ADDRESS(ROW()-1, M$1, 4)),LEN(INDIRECT(\"Trello!\"&ADDRESS(ROW()-1, M$1, 4)))-15),\". \",\"/\"),\" 20\",\"/20\"),\" \",\"\"),\"\")","v":""},"","","",{"$f":"IFERROR(SUBSTITUTE(INDIRECT(\"Trello!\"&ADDRESS(ROW()-1, O$1, 4)),\"Estimate hrs: \",\"\")*1,\"\")","v":""},{"$f":"IF(SUMIF(Timecamp!C:C,Reporte!A397,Timecamp!J:J)=0,\"\",SUMIF(Timecamp!C:C,Reporte!A397,Timecamp!J:J))","v":""},"","",{"$f":"IFERROR(VLOOKUP(A397,'SLA Trab'!E:I,5,FALSE),\"\")","v":""},{"$f":"IFERROR(VLOOKUP(A397,'SLA Cobr'!E:I,5,FALSE),\"\")","v":""}]
[{"$f":"IFERROR(IF(Trello!E397=\"\",\"\",Trello!E397),\" \")","v":""},{"$f":"IF($A398=\"\",\"\",IF(Trello!A397=\"\",B397,Trello!A397))","v":""},"",{"$f":"IF($A398=\"\",\"\",SUBSTITUTE(SUBSTITUTE(Trello!J397,\" days\",\"\"),\"⌚ \",\"\")*1)","v":""},{"$f":"IFERROR(IF($A398=\"\",\"\",SUBSTITUTE(SUBSTITUTE(SUBSTITUTE(INDIRECT(\"Trello!\"&ADDRESS(ROW()-1, E$1, 4)),\"Foreign: \",\"\"),\" $\",\"\"),\".\",\"\")*1),\"\")","v":""},{"$f":"IF($E398=\"\",IFERROR(IF($A398=\"\",\"\",SUBSTITUTE(SUBSTITUTE(SUBSTITUTE(INDIRECT(\"Trello!\"&ADDRESS(ROW()-1, F$1, 4)),\"MXN: \",\"\"),\" MX$\",\"\"),\".\",\"\")*1),\"\"),E398*F$2)","v":""},{"$f":"IFERROR(IF($A398=\"\",\"\",SUBSTITUTE(SUBSTITUTE(SUBSTITUTE(INDIRECT(\"Trello!\"&ADDRESS(ROW()-1, G$1, 4)),\"Debt: \",\"\"),\" $\",\"\"),\".\",\"\")*1)*IF(E398=\"\",1,F$2),\"\")","v":""},{"$f":"IFERROR(IF($A398=\"\",\"\",SUBSTITUTE(SUBSTITUTE(SUBSTITUTE(INDIRECT(\"Trello!\"&ADDRESS(ROW()-1, H$1, 4)),\"Cost: \",\"\"),\" $\",\"\"),\".\",\"\")*1*$F$2),\"\")","v":""},"",{"$f":"IFERROR(SUBSTITUTE(SUBSTITUTE(SUBSTITUTE(RIGHT(INDIRECT(\"Trello!\"&ADDRESS(ROW()-1, L$1, 4)),LEN(INDIRECT(\"Trello!\"&ADDRESS(ROW()-1, L$1, 4)))-15),\". \",\"/\"),\" 20\",\"/20\"),\" \",\"\"),\"\")","v":""},{"$f":"IFERROR(SUBSTITUTE(SUBSTITUTE(SUBSTITUTE(RIGHT(INDIRECT(\"Trello!\"&ADDRESS(ROW()-1, M$1, 4)),LEN(INDIRECT(\"Trello!\"&ADDRESS(ROW()-1, M$1, 4)))-15),\". \",\"/\"),\" 20\",\"/20\"),\" \",\"\"),\"\")","v":""},"","","",{"$f":"IFERROR(SUBSTITUTE(INDIRECT(\"Trello!\"&ADDRESS(ROW()-1, O$1, 4)),\"Estimate hrs: \",\"\")*1,\"\")","v":""},{"$f":"IF(SUMIF(Timecamp!C:C,Reporte!A398,Timecamp!J:J)=0,\"\",SUMIF(Timecamp!C:C,Reporte!A398,Timecamp!J:J))","v":""},"","",{"$f":"IFERROR(VLOOKUP(A398,'SLA Trab'!E:I,5,FALSE),\"\")","v":""},{"$f":"IFERROR(VLOOKUP(A398,'SLA Cobr'!E:I,5,FALSE),\"\")","v":""}]
[{"$f":"IFERROR(IF(Trello!E398=\"\",\"\",Trello!E398),\" \")","v":""},{"$f":"IF($A399=\"\",\"\",IF(Trello!A398=\"\",B398,Trello!A398))","v":""},"",{"$f":"IF($A399=\"\",\"\",SUBSTITUTE(SUBSTITUTE(Trello!J398,\" days\",\"\"),\"⌚ \",\"\")*1)","v":""},{"$f":"IFERROR(IF($A399=\"\",\"\",SUBSTITUTE(SUBSTITUTE(SUBSTITUTE(INDIRECT(\"Trello!\"&ADDRESS(ROW()-1, E$1, 4)),\"Foreign: \",\"\"),\" $\",\"\"),\".\",\"\")*1),\"\")","v":""},{"$f":"IF($E399=\"\",IFERROR(IF($A399=\"\",\"\",SUBSTITUTE(SUBSTITUTE(SUBSTITUTE(INDIRECT(\"Trello!\"&ADDRESS(ROW()-1, F$1, 4)),\"MXN: \",\"\"),\" MX$\",\"\"),\".\",\"\")*1),\"\"),E399*F$2)","v":""},{"$f":"IFERROR(IF($A399=\"\",\"\",SUBSTITUTE(SUBSTITUTE(SUBSTITUTE(INDIRECT(\"Trello!\"&ADDRESS(ROW()-1, G$1, 4)),\"Debt: \",\"\"),\" $\",\"\"),\".\",\"\")*1)*IF(E399=\"\",1,F$2),\"\")","v":""},{"$f":"IFERROR(IF($A399=\"\",\"\",SUBSTITUTE(SUBSTITUTE(SUBSTITUTE(INDIRECT(\"Trello!\"&ADDRESS(ROW()-1, H$1, 4)),\"Cost: \",\"\"),\" $\",\"\"),\".\",\"\")*1*$F$2),\"\")","v":""},"",{"$f":"IFERROR(SUBSTITUTE(SUBSTITUTE(SUBSTITUTE(RIGHT(INDIRECT(\"Trello!\"&ADDRESS(ROW()-1, L$1, 4)),LEN(INDIRECT(\"Trello!\"&ADDRESS(ROW()-1, L$1, 4)))-15),\". \",\"/\"),\" 20\",\"/20\"),\" \",\"\"),\"\")","v":""},{"$f":"IFERROR(SUBSTITUTE(SUBSTITUTE(SUBSTITUTE(RIGHT(INDIRECT(\"Trello!\"&ADDRESS(ROW()-1, M$1, 4)),LEN(INDIRECT(\"Trello!\"&ADDRESS(ROW()-1, M$1, 4)))-15),\". \",\"/\"),\" 20\",\"/20\"),\" \",\"\"),\"\")","v":""},"","","",{"$f":"IFERROR(SUBSTITUTE(INDIRECT(\"Trello!\"&ADDRESS(ROW()-1, O$1, 4)),\"Estimate hrs: \",\"\")*1,\"\")","v":""},{"$f":"IF(SUMIF(Timecamp!C:C,Reporte!A399,Timecamp!J:J)=0,\"\",SUMIF(Timecamp!C:C,Reporte!A399,Timecamp!J:J))","v":""},"","",{"$f":"IFERROR(VLOOKUP(A399,'SLA Trab'!E:I,5,FALSE),\"\")","v":""},{"$f":"IFERROR(VLOOKUP(A399,'SLA Cobr'!E:I,5,FALSE),\"\")","v":""}]
[{"$f":"IFERROR(IF(Trello!E399=\"\",\"\",Trello!E399),\" \")","v":""},{"$f":"IF($A400=\"\",\"\",IF(Trello!A399=\"\",B399,Trello!A399))","v":""},"",{"$f":"IF($A400=\"\",\"\",SUBSTITUTE(SUBSTITUTE(Trello!J399,\" days\",\"\"),\"⌚ \",\"\")*1)","v":""},{"$f":"IFERROR(IF($A400=\"\",\"\",SUBSTITUTE(SUBSTITUTE(SUBSTITUTE(INDIRECT(\"Trello!\"&ADDRESS(ROW()-1, E$1, 4)),\"Foreign: \",\"\"),\" $\",\"\"),\".\",\"\")*1),\"\")","v":""},{"$f":"IF($E400=\"\",IFERROR(IF($A400=\"\",\"\",SUBSTITUTE(SUBSTITUTE(SUBSTITUTE(INDIRECT(\"Trello!\"&ADDRESS(ROW()-1, F$1, 4)),\"MXN: \",\"\"),\" MX$\",\"\"),\".\",\"\")*1),\"\"),E400*F$2)","v":""},{"$f":"IFERROR(IF($A400=\"\",\"\",SUBSTITUTE(SUBSTITUTE(SUBSTITUTE(INDIRECT(\"Trello!\"&ADDRESS(ROW()-1, G$1, 4)),\"Debt: \",\"\"),\" $\",\"\"),\".\",\"\")*1)*IF(E400=\"\",1,F$2),\"\")","v":""},{"$f":"IFERROR(IF($A400=\"\",\"\",SUBSTITUTE(SUBSTITUTE(SUBSTITUTE(INDIRECT(\"Trello!\"&ADDRESS(ROW()-1, H$1, 4)),\"Cost: \",\"\"),\" $\",\"\"),\".\",\"\")*1*$F$2),\"\")","v":""},"",{"$f":"IFERROR(SUBSTITUTE(SUBSTITUTE(SUBSTITUTE(RIGHT(INDIRECT(\"Trello!\"&ADDRESS(ROW()-1, L$1, 4)),LEN(INDIRECT(\"Trello!\"&ADDRESS(ROW()-1, L$1, 4)))-15),\". \",\"/\"),\" 20\",\"/20\"),\" \",\"\"),\"\")","v":""},{"$f":"IFERROR(SUBSTITUTE(SUBSTITUTE(SUBSTITUTE(RIGHT(INDIRECT(\"Trello!\"&ADDRESS(ROW()-1, M$1, 4)),LEN(INDIRECT(\"Trello!\"&ADDRESS(ROW()-1, M$1, 4)))-15),\". \",\"/\"),\" 20\",\"/20\"),\" \",\"\"),\"\")","v":""},"","","",{"$f":"IFERROR(SUBSTITUTE(INDIRECT(\"Trello!\"&ADDRESS(ROW()-1, O$1, 4)),\"Estimate hrs: \",\"\")*1,\"\")","v":""},{"$f":"IF(SUMIF(Timecamp!C:C,Reporte!A400,Timecamp!J:J)=0,\"\",SUMIF(Timecamp!C:C,Reporte!A400,Timecamp!J:J))","v":""},"","",{"$f":"IFERROR(VLOOKUP(A400,'SLA Trab'!E:I,5,FALSE),\"\")","v":""},{"$f":"IFERROR(VLOOKUP(A400,'SLA Cobr'!E:I,5,FALSE),\"\")","v":""}]
[{"$f":"IFERROR(IF(Trello!E400=\"\",\"\",Trello!E400),\" \")","v":""},{"$f":"IF($A401=\"\",\"\",IF(Trello!A400=\"\",B400,Trello!A400))","v":""},"",{"$f":"IF($A401=\"\",\"\",SUBSTITUTE(SUBSTITUTE(Trello!J400,\" days\",\"\"),\"⌚ \",\"\")*1)","v":""},{"$f":"IFERROR(IF($A401=\"\",\"\",SUBSTITUTE(SUBSTITUTE(SUBSTITUTE(INDIRECT(\"Trello!\"&ADDRESS(ROW()-1, E$1, 4)),\"Foreign: \",\"\"),\" $\",\"\"),\".\",\"\")*1),\"\")","v":""},{"$f":"IF($E401=\"\",IFERROR(IF($A401=\"\",\"\",SUBSTITUTE(SUBSTITUTE(SUBSTITUTE(INDIRECT(\"Trello!\"&ADDRESS(ROW()-1, F$1, 4)),\"MXN: \",\"\"),\" MX$\",\"\"),\".\",\"\")*1),\"\"),E401*F$2)","v":""},{"$f":"IFERROR(IF($A401=\"\",\"\",SUBSTITUTE(SUBSTITUTE(SUBSTITUTE(INDIRECT(\"Trello!\"&ADDRESS(ROW()-1, G$1, 4)),\"Debt: \",\"\"),\" $\",\"\"),\".\",\"\")*1)*IF(E401=\"\",1,F$2),\"\")","v":""},{"$f":"IFERROR(IF($A401=\"\",\"\",SUBSTITUTE(SUBSTITUTE(SUBSTITUTE(INDIRECT(\"Trello!\"&ADDRESS(ROW()-1, H$1, 4)),\"Cost: \",\"\"),\" $\",\"\"),\".\",\"\")*1*$F$2),\"\")","v":""},"",{"$f":"IFERROR(SUBSTITUTE(SUBSTITUTE(SUBSTITUTE(RIGHT(INDIRECT(\"Trello!\"&ADDRESS(ROW()-1, L$1, 4)),LEN(INDIRECT(\"Trello!\"&ADDRESS(ROW()-1, L$1, 4)))-15),\". \",\"/\"),\" 20\",\"/20\"),\" \",\"\"),\"\")","v":""},{"$f":"IFERROR(SUBSTITUTE(SUBSTITUTE(SUBSTITUTE(RIGHT(INDIRECT(\"Trello!\"&ADDRESS(ROW()-1, M$1, 4)),LEN(INDIRECT(\"Trello!\"&ADDRESS(ROW()-1, M$1, 4)))-15),\". \",\"/\"),\" 20\",\"/20\"),\" \",\"\"),\"\")","v":""},"","","",{"$f":"IFERROR(SUBSTITUTE(INDIRECT(\"Trello!\"&ADDRESS(ROW()-1, O$1, 4)),\"Estimate hrs: \",\"\")*1,\"\")","v":""},{"$f":"IF(SUMIF(Timecamp!C:C,Reporte!A401,Timecamp!J:J)=0,\"\",SUMIF(Timecamp!C:C,Reporte!A401,Timecamp!J:J))","v":""},"","",{"$f":"IFERROR(VLOOKUP(A401,'SLA Trab'!E:I,5,FALSE),\"\")","v":""},{"$f":"IFERROR(VLOOKUP(A401,'SLA Cobr'!E:I,5,FALSE),\"\")","v":""}]
[{"$f":"IFERROR(IF(Trello!E401=\"\",\"\",Trello!E401),\" \")","v":""},{"$f":"IF($A402=\"\",\"\",IF(Trello!A401=\"\",B401,Trello!A401))","v":""},"",{"$f":"IF($A402=\"\",\"\",SUBSTITUTE(SUBSTITUTE(Trello!J401,\" days\",\"\"),\"⌚ \",\"\")*1)","v":""},{"$f":"IFERROR(IF($A402=\"\",\"\",SUBSTITUTE(SUBSTITUTE(SUBSTITUTE(INDIRECT(\"Trello!\"&ADDRESS(ROW()-1, E$1, 4)),\"Foreign: \",\"\"),\" $\",\"\"),\".\",\"\")*1),\"\")","v":""},{"$f":"IF($E402=\"\",IFERROR(IF($A402=\"\",\"\",SUBSTITUTE(SUBSTITUTE(SUBSTITUTE(INDIRECT(\"Trello!\"&ADDRESS(ROW()-1, F$1, 4)),\"MXN: \",\"\"),\" MX$\",\"\"),\".\",\"\")*1),\"\"),E402*F$2)","v":""},{"$f":"IFERROR(IF($A402=\"\",\"\",SUBSTITUTE(SUBSTITUTE(SUBSTITUTE(INDIRECT(\"Trello!\"&ADDRESS(ROW()-1, G$1, 4)),\"Debt: \",\"\"),\" $\",\"\"),\".\",\"\")*1)*IF(E402=\"\",1,F$2),\"\")","v":""},{"$f":"IFERROR(IF($A402=\"\",\"\",SUBSTITUTE(SUBSTITUTE(SUBSTITUTE(INDIRECT(\"Trello!\"&ADDRESS(ROW()-1, H$1, 4)),\"Cost: \",\"\"),\" $\",\"\"),\".\",\"\")*1*$F$2),\"\")","v":""},"",{"$f":"IFERROR(SUBSTITUTE(SUBSTITUTE(SUBSTITUTE(RIGHT(INDIRECT(\"Trello!\"&ADDRESS(ROW()-1, L$1, 4)),LEN(INDIRECT(\"Trello!\"&ADDRESS(ROW()-1, L$1, 4)))-15),\". \",\"/\"),\" 20\",\"/20\"),\" \",\"\"),\"\")","v":""},{"$f":"IFERROR(SUBSTITUTE(SUBSTITUTE(SUBSTITUTE(RIGHT(INDIRECT(\"Trello!\"&ADDRESS(ROW()-1, M$1, 4)),LEN(INDIRECT(\"Trello!\"&ADDRESS(ROW()-1, M$1, 4)))-15),\". \",\"/\"),\" 20\",\"/20\"),\" \",\"\"),\"\")","v":""},"","","",{"$f":"IFERROR(SUBSTITUTE(INDIRECT(\"Trello!\"&ADDRESS(ROW()-1, O$1, 4)),\"Estimate hrs: \",\"\")*1,\"\")","v":""},{"$f":"IF(SUMIF(Timecamp!C:C,Reporte!A402,Timecamp!J:J)=0,\"\",SUMIF(Timecamp!C:C,Reporte!A402,Timecamp!J:J))","v":""},"","",{"$f":"IFERROR(VLOOKUP(A402,'SLA Trab'!E:I,5,FALSE),\"\")","v":""},{"$f":"IFERROR(VLOOKUP(A402,'SLA Cobr'!E:I,5,FALSE),\"\")","v":""}]
[{"$f":"IFERROR(IF(Trello!E402=\"\",\"\",Trello!E402),\" \")","v":""},{"$f":"IF($A403=\"\",\"\",IF(Trello!A402=\"\",B402,Trello!A402))","v":""},"",{"$f":"IF($A403=\"\",\"\",SUBSTITUTE(SUBSTITUTE(Trello!J402,\" days\",\"\"),\"⌚ \",\"\")*1)","v":""},{"$f":"IFERROR(IF($A403=\"\",\"\",SUBSTITUTE(SUBSTITUTE(SUBSTITUTE(INDIRECT(\"Trello!\"&ADDRESS(ROW()-1, E$1, 4)),\"Foreign: \",\"\"),\" $\",\"\"),\".\",\"\")*1),\"\")","v":""},{"$f":"IF($E403=\"\",IFERROR(IF($A403=\"\",\"\",SUBSTITUTE(SUBSTITUTE(SUBSTITUTE(INDIRECT(\"Trello!\"&ADDRESS(ROW()-1, F$1, 4)),\"MXN: \",\"\"),\" MX$\",\"\"),\".\",\"\")*1),\"\"),E403*F$2)","v":""},{"$f":"IFERROR(IF($A403=\"\",\"\",SUBSTITUTE(SUBSTITUTE(SUBSTITUTE(INDIRECT(\"Trello!\"&ADDRESS(ROW()-1, G$1, 4)),\"Debt: \",\"\"),\" $\",\"\"),\".\",\"\")*1)*IF(E403=\"\",1,F$2),\"\")","v":""},{"$f":"IFERROR(IF($A403=\"\",\"\",SUBSTITUTE(SUBSTITUTE(SUBSTITUTE(INDIRECT(\"Trello!\"&ADDRESS(ROW()-1, H$1, 4)),\"Cost: \",\"\"),\" $\",\"\"),\".\",\"\")*1*$F$2),\"\")","v":""},"",{"$f":"IFERROR(SUBSTITUTE(SUBSTITUTE(SUBSTITUTE(RIGHT(INDIRECT(\"Trello!\"&ADDRESS(ROW()-1, L$1, 4)),LEN(INDIRECT(\"Trello!\"&ADDRESS(ROW()-1, L$1, 4)))-15),\". \",\"/\"),\" 20\",\"/20\"),\" \",\"\"),\"\")","v":""},{"$f":"IFERROR(SUBSTITUTE(SUBSTITUTE(SUBSTITUTE(RIGHT(INDIRECT(\"Trello!\"&ADDRESS(ROW()-1, M$1, 4)),LEN(INDIRECT(\"Trello!\"&ADDRESS(ROW()-1, M$1, 4)))-15),\". \",\"/\"),\" 20\",\"/20\"),\" \",\"\"),\"\")","v":""},"","","",{"$f":"IFERROR(SUBSTITUTE(INDIRECT(\"Trello!\"&ADDRESS(ROW()-1, O$1, 4)),\"Estimate hrs: \",\"\")*1,\"\")","v":""},{"$f":"IF(SUMIF(Timecamp!C:C,Reporte!A403,Timecamp!J:J)=0,\"\",SUMIF(Timecamp!C:C,Reporte!A403,Timecamp!J:J))","v":""},"","",{"$f":"IFERROR(VLOOKUP(A403,'SLA Trab'!E:I,5,FALSE),\"\")","v":""},{"$f":"IFERROR(VLOOKUP(A403,'SLA Cobr'!E:I,5,FALSE),\"\")","v":""}]
[{"$f":"IFERROR(IF(Trello!E403=\"\",\"\",Trello!E403),\" \")","v":""},{"$f":"IF($A404=\"\",\"\",IF(Trello!A403=\"\",B403,Trello!A403))","v":""},"",{"$f":"IF($A404=\"\",\"\",SUBSTITUTE(SUBSTITUTE(Trello!J403,\" days\",\"\"),\"⌚ \",\"\")*1)","v":""},{"$f":"IFERROR(IF($A404=\"\",\"\",SUBSTITUTE(SUBSTITUTE(SUBSTITUTE(INDIRECT(\"Trello!\"&ADDRESS(ROW()-1, E$1, 4)),\"Foreign: \",\"\"),\" $\",\"\"),\".\",\"\")*1),\"\")","v":""},{"$f":"IF($E404=\"\",IFERROR(IF($A404=\"\",\"\",SUBSTITUTE(SUBSTITUTE(SUBSTITUTE(INDIRECT(\"Trello!\"&ADDRESS(ROW()-1, F$1, 4)),\"MXN: \",\"\"),\" MX$\",\"\"),\".\",\"\")*1),\"\"),E404*F$2)","v":""},{"$f":"IFERROR(IF($A404=\"\",\"\",SUBSTITUTE(SUBSTITUTE(SUBSTITUTE(INDIRECT(\"Trello!\"&ADDRESS(ROW()-1, G$1, 4)),\"Debt: \",\"\"),\" $\",\"\"),\".\",\"\")*1)*IF(E404=\"\",1,F$2),\"\")","v":""},{"$f":"IFERROR(IF($A404=\"\",\"\",SUBSTITUTE(SUBSTITUTE(SUBSTITUTE(INDIRECT(\"Trello!\"&ADDRESS(ROW()-1, H$1, 4)),\"Cost: \",\"\"),\" $\",\"\"),\".\",\"\")*1*$F$2),\"\")","v":""},"",{"$f":"IFERROR(SUBSTITUTE(SUBSTITUTE(SUBSTITUTE(RIGHT(INDIRECT(\"Trello!\"&ADDRESS(ROW()-1, L$1, 4)),LEN(INDIRECT(\"Trello!\"&ADDRESS(ROW()-1, L$1, 4)))-15),\". \",\"/\"),\" 20\",\"/20\"),\" \",\"\"),\"\")","v":""},{"$f":"IFERROR(SUBSTITUTE(SUBSTITUTE(SUBSTITUTE(RIGHT(INDIRECT(\"Trello!\"&ADDRESS(ROW()-1, M$1, 4)),LEN(INDIRECT(\"Trello!\"&ADDRESS(ROW()-1, M$1, 4)))-15),\". \",\"/\"),\" 20\",\"/20\"),\" \",\"\"),\"\")","v":""},"","","",{"$f":"IFERROR(SUBSTITUTE(INDIRECT(\"Trello!\"&ADDRESS(ROW()-1, O$1, 4)),\"Estimate hrs: \",\"\")*1,\"\")","v":""},{"$f":"IF(SUMIF(Timecamp!C:C,Reporte!A404,Timecamp!J:J)=0,\"\",SUMIF(Timecamp!C:C,Reporte!A404,Timecamp!J:J))","v":""},"","",{"$f":"IFERROR(VLOOKUP(A404,'SLA Trab'!E:I,5,FALSE),\"\")","v":""},{"$f":"IFERROR(VLOOKUP(A404,'SLA Cobr'!E:I,5,FALSE),\"\")","v":""}]
[{"$f":"IFERROR(IF(Trello!E404=\"\",\"\",Trello!E404),\" \")","v":""},{"$f":"IF($A405=\"\",\"\",IF(Trello!A404=\"\",B404,Trello!A404))","v":""},"",{"$f":"IF($A405=\"\",\"\",SUBSTITUTE(SUBSTITUTE(Trello!J404,\" days\",\"\"),\"⌚ \",\"\")*1)","v":""},{"$f":"IFERROR(IF($A405=\"\",\"\",SUBSTITUTE(SUBSTITUTE(SUBSTITUTE(INDIRECT(\"Trello!\"&ADDRESS(ROW()-1, E$1, 4)),\"Foreign: \",\"\"),\" $\",\"\"),\".\",\"\")*1),\"\")","v":""},{"$f":"IF($E405=\"\",IFERROR(IF($A405=\"\",\"\",SUBSTITUTE(SUBSTITUTE(SUBSTITUTE(INDIRECT(\"Trello!\"&ADDRESS(ROW()-1, F$1, 4)),\"MXN: \",\"\"),\" MX$\",\"\"),\".\",\"\")*1),\"\"),E405*F$2)","v":""},{"$f":"IFERROR(IF($A405=\"\",\"\",SUBSTITUTE(SUBSTITUTE(SUBSTITUTE(INDIRECT(\"Trello!\"&ADDRESS(ROW()-1, G$1, 4)),\"Debt: \",\"\"),\" $\",\"\"),\".\",\"\")*1)*IF(E405=\"\",1,F$2),\"\")","v":""},{"$f":"IFERROR(IF($A405=\"\",\"\",SUBSTITUTE(SUBSTITUTE(SUBSTITUTE(INDIRECT(\"Trello!\"&ADDRESS(ROW()-1, H$1, 4)),\"Cost: \",\"\"),\" $\",\"\"),\".\",\"\")*1*$F$2),\"\")","v":""},"",{"$f":"IFERROR(SUBSTITUTE(SUBSTITUTE(SUBSTITUTE(RIGHT(INDIRECT(\"Trello!\"&ADDRESS(ROW()-1, L$1, 4)),LEN(INDIRECT(\"Trello!\"&ADDRESS(ROW()-1, L$1, 4)))-15),\". \",\"/\"),\" 20\",\"/20\"),\" \",\"\"),\"\")","v":""},{"$f":"IFERROR(SUBSTITUTE(SUBSTITUTE(SUBSTITUTE(RIGHT(INDIRECT(\"Trello!\"&ADDRESS(ROW()-1, M$1, 4)),LEN(INDIRECT(\"Trello!\"&ADDRESS(ROW()-1, M$1, 4)))-15),\". \",\"/\"),\" 20\",\"/20\"),\" \",\"\"),\"\")","v":""},"","","",{"$f":"IFERROR(SUBSTITUTE(INDIRECT(\"Trello!\"&ADDRESS(ROW()-1, O$1, 4)),\"Estimate hrs: \",\"\")*1,\"\")","v":""},{"$f":"IF(SUMIF(Timecamp!C:C,Reporte!A405,Timecamp!J:J)=0,\"\",SUMIF(Timecamp!C:C,Reporte!A405,Timecamp!J:J))","v":""},"","",{"$f":"IFERROR(VLOOKUP(A405,'SLA Trab'!E:I,5,FALSE),\"\")","v":""},{"$f":"IFERROR(VLOOKUP(A405,'SLA Cobr'!E:I,5,FALSE),\"\")","v":""}]
[{"$f":"IFERROR(IF(Trello!E405=\"\",\"\",Trello!E405),\" \")","v":""},{"$f":"IF($A406=\"\",\"\",IF(Trello!A405=\"\",B405,Trello!A405))","v":""},"",{"$f":"IF($A406=\"\",\"\",SUBSTITUTE(SUBSTITUTE(Trello!J405,\" days\",\"\"),\"⌚ \",\"\")*1)","v":""},{"$f":"IFERROR(IF($A406=\"\",\"\",SUBSTITUTE(SUBSTITUTE(SUBSTITUTE(INDIRECT(\"Trello!\"&ADDRESS(ROW()-1, E$1, 4)),\"Foreign: \",\"\"),\" $\",\"\"),\".\",\"\")*1),\"\")","v":""},{"$f":"IF($E406=\"\",IFERROR(IF($A406=\"\",\"\",SUBSTITUTE(SUBSTITUTE(SUBSTITUTE(INDIRECT(\"Trello!\"&ADDRESS(ROW()-1, F$1, 4)),\"MXN: \",\"\"),\" MX$\",\"\"),\".\",\"\")*1),\"\"),E406*F$2)","v":""},{"$f":"IFERROR(IF($A406=\"\",\"\",SUBSTITUTE(SUBSTITUTE(SUBSTITUTE(INDIRECT(\"Trello!\"&ADDRESS(ROW()-1, G$1, 4)),\"Debt: \",\"\"),\" $\",\"\"),\".\",\"\")*1)*IF(E406=\"\",1,F$2),\"\")","v":""},{"$f":"IFERROR(IF($A406=\"\",\"\",SUBSTITUTE(SUBSTITUTE(SUBSTITUTE(INDIRECT(\"Trello!\"&ADDRESS(ROW()-1, H$1, 4)),\"Cost: \",\"\"),\" $\",\"\"),\".\",\"\")*1*$F$2),\"\")","v":""},"",{"$f":"IFERROR(SUBSTITUTE(SUBSTITUTE(SUBSTITUTE(RIGHT(INDIRECT(\"Trello!\"&ADDRESS(ROW()-1, L$1, 4)),LEN(INDIRECT(\"Trello!\"&ADDRESS(ROW()-1, L$1, 4)))-15),\". \",\"/\"),\" 20\",\"/20\"),\" \",\"\"),\"\")","v":""},{"$f":"IFERROR(SUBSTITUTE(SUBSTITUTE(SUBSTITUTE(RIGHT(INDIRECT(\"Trello!\"&ADDRESS(ROW()-1, M$1, 4)),LEN(INDIRECT(\"Trello!\"&ADDRESS(ROW()-1, M$1, 4)))-15),\". \",\"/\"),\" 20\",\"/20\"),\" \",\"\"),\"\")","v":""},"","","",{"$f":"IFERROR(SUBSTITUTE(INDIRECT(\"Trello!\"&ADDRESS(ROW()-1, O$1, 4)),\"Estimate hrs: \",\"\")*1,\"\")","v":""},{"$f":"IF(SUMIF(Timecamp!C:C,Reporte!A406,Timecamp!J:J)=0,\"\",SUMIF(Timecamp!C:C,Reporte!A406,Timecamp!J:J))","v":""},"","",{"$f":"IFERROR(VLOOKUP(A406,'SLA Trab'!E:I,5,FALSE),\"\")","v":""},{"$f":"IFERROR(VLOOKUP(A406,'SLA Cobr'!E:I,5,FALSE),\"\")","v":""}]
[{"$f":"IFERROR(IF(Trello!E406=\"\",\"\",Trello!E406),\" \")","v":""},{"$f":"IF($A407=\"\",\"\",IF(Trello!A406=\"\",B406,Trello!A406))","v":""},"",{"$f":"IF($A407=\"\",\"\",SUBSTITUTE(SUBSTITUTE(Trello!J406,\" days\",\"\"),\"⌚ \",\"\")*1)","v":""},{"$f":"IFERROR(IF($A407=\"\",\"\",SUBSTITUTE(SUBSTITUTE(SUBSTITUTE(INDIRECT(\"Trello!\"&ADDRESS(ROW()-1, E$1, 4)),\"Foreign: \",\"\"),\" $\",\"\"),\".\",\"\")*1),\"\")","v":""},{"$f":"IF($E407=\"\",IFERROR(IF($A407=\"\",\"\",SUBSTITUTE(SUBSTITUTE(SUBSTITUTE(INDIRECT(\"Trello!\"&ADDRESS(ROW()-1, F$1, 4)),\"MXN: \",\"\"),\" MX$\",\"\"),\".\",\"\")*1),\"\"),E407*F$2)","v":""},{"$f":"IFERROR(IF($A407=\"\",\"\",SUBSTITUTE(SUBSTITUTE(SUBSTITUTE(INDIRECT(\"Trello!\"&ADDRESS(ROW()-1, G$1, 4)),\"Debt: \",\"\"),\" $\",\"\"),\".\",\"\")*1)*IF(E407=\"\",1,F$2),\"\")","v":""},{"$f":"IFERROR(IF($A407=\"\",\"\",SUBSTITUTE(SUBSTITUTE(SUBSTITUTE(INDIRECT(\"Trello!\"&ADDRESS(ROW()-1, H$1, 4)),\"Cost: \",\"\"),\" $\",\"\"),\".\",\"\")*1*$F$2),\"\")","v":""},"",{"$f":"IFERROR(SUBSTITUTE(SUBSTITUTE(SUBSTITUTE(RIGHT(INDIRECT(\"Trello!\"&ADDRESS(ROW()-1, L$1, 4)),LEN(INDIRECT(\"Trello!\"&ADDRESS(ROW()-1, L$1, 4)))-15),\". \",\"/\"),\" 20\",\"/20\"),\" \",\"\"),\"\")","v":""},{"$f":"IFERROR(SUBSTITUTE(SUBSTITUTE(SUBSTITUTE(RIGHT(INDIRECT(\"Trello!\"&ADDRESS(ROW()-1, M$1, 4)),LEN(INDIRECT(\"Trello!\"&ADDRESS(ROW()-1, M$1, 4)))-15),\". \",\"/\"),\" 20\",\"/20\"),\" \",\"\"),\"\")","v":""},"","","",{"$f":"IFERROR(SUBSTITUTE(INDIRECT(\"Trello!\"&ADDRESS(ROW()-1, O$1, 4)),\"Estimate hrs: \",\"\")*1,\"\")","v":""},{"$f":"IF(SUMIF(Timecamp!C:C,Reporte!A407,Timecamp!J:J)=0,\"\",SUMIF(Timecamp!C:C,Reporte!A407,Timecamp!J:J))","v":""},"","",{"$f":"IFERROR(VLOOKUP(A407,'SLA Trab'!E:I,5,FALSE),\"\")","v":""},{"$f":"IFERROR(VLOOKUP(A407,'SLA Cobr'!E:I,5,FALSE),\"\")","v":""}]
[{"$f":"IFERROR(IF(Trello!E407=\"\",\"\",Trello!E407),\" \")","v":""},{"$f":"IF($A408=\"\",\"\",IF(Trello!A407=\"\",B407,Trello!A407))","v":""},"",{"$f":"IF($A408=\"\",\"\",SUBSTITUTE(SUBSTITUTE(Trello!J407,\" days\",\"\"),\"⌚ \",\"\")*1)","v":""},{"$f":"IFERROR(IF($A408=\"\",\"\",SUBSTITUTE(SUBSTITUTE(SUBSTITUTE(INDIRECT(\"Trello!\"&ADDRESS(ROW()-1, E$1, 4)),\"Foreign: \",\"\"),\" $\",\"\"),\".\",\"\")*1),\"\")","v":""},{"$f":"IF($E408=\"\",IFERROR(IF($A408=\"\",\"\",SUBSTITUTE(SUBSTITUTE(SUBSTITUTE(INDIRECT(\"Trello!\"&ADDRESS(ROW()-1, F$1, 4)),\"MXN: \",\"\"),\" MX$\",\"\"),\".\",\"\")*1),\"\"),E408*F$2)","v":""},{"$f":"IFERROR(IF($A408=\"\",\"\",SUBSTITUTE(SUBSTITUTE(SUBSTITUTE(INDIRECT(\"Trello!\"&ADDRESS(ROW()-1, G$1, 4)),\"Debt: \",\"\"),\" $\",\"\"),\".\",\"\")*1)*IF(E408=\"\",1,F$2),\"\")","v":""},{"$f":"IFERROR(IF($A408=\"\",\"\",SUBSTITUTE(SUBSTITUTE(SUBSTITUTE(INDIRECT(\"Trello!\"&ADDRESS(ROW()-1, H$1, 4)),\"Cost: \",\"\"),\" $\",\"\"),\".\",\"\")*1*$F$2),\"\")","v":""},"",{"$f":"IFERROR(SUBSTITUTE(SUBSTITUTE(SUBSTITUTE(RIGHT(INDIRECT(\"Trello!\"&ADDRESS(ROW()-1, L$1, 4)),LEN(INDIRECT(\"Trello!\"&ADDRESS(ROW()-1, L$1, 4)))-15),\". \",\"/\"),\" 20\",\"/20\"),\" \",\"\"),\"\")","v":""},{"$f":"IFERROR(SUBSTITUTE(SUBSTITUTE(SUBSTITUTE(RIGHT(INDIRECT(\"Trello!\"&ADDRESS(ROW()-1, M$1, 4)),LEN(INDIRECT(\"Trello!\"&ADDRESS(ROW()-1, M$1, 4)))-15),\". \",\"/\"),\" 20\",\"/20\"),\" \",\"\"),\"\")","v":""},"","","",{"$f":"IFERROR(SUBSTITUTE(INDIRECT(\"Trello!\"&ADDRESS(ROW()-1, O$1, 4)),\"Estimate hrs: \",\"\")*1,\"\")","v":""},{"$f":"IF(SUMIF(Timecamp!C:C,Reporte!A408,Timecamp!J:J)=0,\"\",SUMIF(Timecamp!C:C,Reporte!A408,Timecamp!J:J))","v":""},"","",{"$f":"IFERROR(VLOOKUP(A408,'SLA Trab'!E:I,5,FALSE),\"\")","v":""},{"$f":"IFERROR(VLOOKUP(A408,'SLA Cobr'!E:I,5,FALSE),\"\")","v":""}]
[{"$f":"IFERROR(IF(Trello!E408=\"\",\"\",Trello!E408),\" \")","v":""},{"$f":"IF($A409=\"\",\"\",IF(Trello!A408=\"\",B408,Trello!A408))","v":""},"",{"$f":"IF($A409=\"\",\"\",SUBSTITUTE(SUBSTITUTE(Trello!J408,\" days\",\"\"),\"⌚ \",\"\")*1)","v":""},{"$f":"IFERROR(IF($A409=\"\",\"\",SUBSTITUTE(SUBSTITUTE(SUBSTITUTE(INDIRECT(\"Trello!\"&ADDRESS(ROW()-1, E$1, 4)),\"Foreign: \",\"\"),\" $\",\"\"),\".\",\"\")*1),\"\")","v":""},{"$f":"IF($E409=\"\",IFERROR(IF($A409=\"\",\"\",SUBSTITUTE(SUBSTITUTE(SUBSTITUTE(INDIRECT(\"Trello!\"&ADDRESS(ROW()-1, F$1, 4)),\"MXN: \",\"\"),\" MX$\",\"\"),\".\",\"\")*1),\"\"),E409*F$2)","v":""},{"$f":"IFERROR(IF($A409=\"\",\"\",SUBSTITUTE(SUBSTITUTE(SUBSTITUTE(INDIRECT(\"Trello!\"&ADDRESS(ROW()-1, G$1, 4)),\"Debt: \",\"\"),\" $\",\"\"),\".\",\"\")*1)*IF(E409=\"\",1,F$2),\"\")","v":""},{"$f":"IFERROR(IF($A409=\"\",\"\",SUBSTITUTE(SUBSTITUTE(SUBSTITUTE(INDIRECT(\"Trello!\"&ADDRESS(ROW()-1, H$1, 4)),\"Cost: \",\"\"),\" $\",\"\"),\".\",\"\")*1*$F$2),\"\")","v":""},"",{"$f":"IFERROR(SUBSTITUTE(SUBSTITUTE(SUBSTITUTE(RIGHT(INDIRECT(\"Trello!\"&ADDRESS(ROW()-1, L$1, 4)),LEN(INDIRECT(\"Trello!\"&ADDRESS(ROW()-1, L$1, 4)))-15),\". \",\"/\"),\" 20\",\"/20\"),\" \",\"\"),\"\")","v":""},{"$f":"IFERROR(SUBSTITUTE(SUBSTITUTE(SUBSTITUTE(RIGHT(INDIRECT(\"Trello!\"&ADDRESS(ROW()-1, M$1, 4)),LEN(INDIRECT(\"Trello!\"&ADDRESS(ROW()-1, M$1, 4)))-15),\". \",\"/\"),\" 20\",\"/20\"),\" \",\"\"),\"\")","v":""},"","","",{"$f":"IFERROR(SUBSTITUTE(INDIRECT(\"Trello!\"&ADDRESS(ROW()-1, O$1, 4)),\"Estimate hrs: \",\"\")*1,\"\")","v":""},{"$f":"IF(SUMIF(Timecamp!C:C,Reporte!A409,Timecamp!J:J)=0,\"\",SUMIF(Timecamp!C:C,Reporte!A409,Timecamp!J:J))","v":""},"","",{"$f":"IFERROR(VLOOKUP(A409,'SLA Trab'!E:I,5,FALSE),\"\")","v":""},{"$f":"IFERROR(VLOOKUP(A409,'SLA Cobr'!E:I,5,FALSE),\"\")","v":""}]
[{"$f":"IFERROR(IF(Trello!E409=\"\",\"\",Trello!E409),\" \")","v":""},{"$f":"IF($A410=\"\",\"\",IF(Trello!A409=\"\",B409,Trello!A409))","v":""},"",{"$f":"IF($A410=\"\",\"\",SUBSTITUTE(SUBSTITUTE(Trello!J409,\" days\",\"\"),\"⌚ \",\"\")*1)","v":""},{"$f":"IFERROR(IF($A410=\"\",\"\",SUBSTITUTE(SUBSTITUTE(SUBSTITUTE(INDIRECT(\"Trello!\"&ADDRESS(ROW()-1, E$1, 4)),\"Foreign: \",\"\"),\" $\",\"\"),\".\",\"\")*1),\"\")","v":""},{"$f":"IF($E410=\"\",IFERROR(IF($A410=\"\",\"\",SUBSTITUTE(SUBSTITUTE(SUBSTITUTE(INDIRECT(\"Trello!\"&ADDRESS(ROW()-1, F$1, 4)),\"MXN: \",\"\"),\" MX$\",\"\"),\".\",\"\")*1),\"\"),E410*F$2)","v":""},{"$f":"IFERROR(IF($A410=\"\",\"\",SUBSTITUTE(SUBSTITUTE(SUBSTITUTE(INDIRECT(\"Trello!\"&ADDRESS(ROW()-1, G$1, 4)),\"Debt: \",\"\"),\" $\",\"\"),\".\",\"\")*1)*IF(E410=\"\",1,F$2),\"\")","v":""},{"$f":"IFERROR(IF($A410=\"\",\"\",SUBSTITUTE(SUBSTITUTE(SUBSTITUTE(INDIRECT(\"Trello!\"&ADDRESS(ROW()-1, H$1, 4)),\"Cost: \",\"\"),\" $\",\"\"),\".\",\"\")*1*$F$2),\"\")","v":""},"",{"$f":"IFERROR(SUBSTITUTE(SUBSTITUTE(SUBSTITUTE(RIGHT(INDIRECT(\"Trello!\"&ADDRESS(ROW()-1, L$1, 4)),LEN(INDIRECT(\"Trello!\"&ADDRESS(ROW()-1, L$1, 4)))-15),\". \",\"/\"),\" 20\",\"/20\"),\" \",\"\"),\"\")","v":""},{"$f":"IFERROR(SUBSTITUTE(SUBSTITUTE(SUBSTITUTE(RIGHT(INDIRECT(\"Trello!\"&ADDRESS(ROW()-1, M$1, 4)),LEN(INDIRECT(\"Trello!\"&ADDRESS(ROW()-1, M$1, 4)))-15),\". \",\"/\"),\" 20\",\"/20\"),\" \",\"\"),\"\")","v":""},"","","",{"$f":"IFERROR(SUBSTITUTE(INDIRECT(\"Trello!\"&ADDRESS(ROW()-1, O$1, 4)),\"Estimate hrs: \",\"\")*1,\"\")","v":""},{"$f":"IF(SUMIF(Timecamp!C:C,Reporte!A410,Timecamp!J:J)=0,\"\",SUMIF(Timecamp!C:C,Reporte!A410,Timecamp!J:J))","v":""},"","",{"$f":"IFERROR(VLOOKUP(A410,'SLA Trab'!E:I,5,FALSE),\"\")","v":""},{"$f":"IFERROR(VLOOKUP(A410,'SLA Cobr'!E:I,5,FALSE),\"\")","v":""}]
[{"$f":"IFERROR(IF(Trello!E410=\"\",\"\",Trello!E410),\" \")","v":""},{"$f":"IF($A411=\"\",\"\",IF(Trello!A410=\"\",B410,Trello!A410))","v":""},"",{"$f":"IF($A411=\"\",\"\",SUBSTITUTE(SUBSTITUTE(Trello!J410,\" days\",\"\"),\"⌚ \",\"\")*1)","v":""},{"$f":"IFERROR(IF($A411=\"\",\"\",SUBSTITUTE(SUBSTITUTE(SUBSTITUTE(INDIRECT(\"Trello!\"&ADDRESS(ROW()-1, E$1, 4)),\"Foreign: \",\"\"),\" $\",\"\"),\".\",\"\")*1),\"\")","v":""},{"$f":"IF($E411=\"\",IFERROR(IF($A411=\"\",\"\",SUBSTITUTE(SUBSTITUTE(SUBSTITUTE(INDIRECT(\"Trello!\"&ADDRESS(ROW()-1, F$1, 4)),\"MXN: \",\"\"),\" MX$\",\"\"),\".\",\"\")*1),\"\"),E411*F$2)","v":""},{"$f":"IFERROR(IF($A411=\"\",\"\",SUBSTITUTE(SUBSTITUTE(SUBSTITUTE(INDIRECT(\"Trello!\"&ADDRESS(ROW()-1, G$1, 4)),\"Debt: \",\"\"),\" $\",\"\"),\".\",\"\")*1)*IF(E411=\"\",1,F$2),\"\")","v":""},{"$f":"IFERROR(IF($A411=\"\",\"\",SUBSTITUTE(SUBSTITUTE(SUBSTITUTE(INDIRECT(\"Trello!\"&ADDRESS(ROW()-1, H$1, 4)),\"Cost: \",\"\"),\" $\",\"\"),\".\",\"\")*1*$F$2),\"\")","v":""},"",{"$f":"IFERROR(SUBSTITUTE(SUBSTITUTE(SUBSTITUTE(RIGHT(INDIRECT(\"Trello!\"&ADDRESS(ROW()-1, L$1, 4)),LEN(INDIRECT(\"Trello!\"&ADDRESS(ROW()-1, L$1, 4)))-15),\". \",\"/\"),\" 20\",\"/20\"),\" \",\"\"),\"\")","v":""},{"$f":"IFERROR(SUBSTITUTE(SUBSTITUTE(SUBSTITUTE(RIGHT(INDIRECT(\"Trello!\"&ADDRESS(ROW()-1, M$1, 4)),LEN(INDIRECT(\"Trello!\"&ADDRESS(ROW()-1, M$1, 4)))-15),\". \",\"/\"),\" 20\",\"/20\"),\" \",\"\"),\"\")","v":""},"","","",{"$f":"IFERROR(SUBSTITUTE(INDIRECT(\"Trello!\"&ADDRESS(ROW()-1, O$1, 4)),\"Estimate hrs: \",\"\")*1,\"\")","v":""},{"$f":"IF(SUMIF(Timecamp!C:C,Reporte!A411,Timecamp!J:J)=0,\"\",SUMIF(Timecamp!C:C,Reporte!A411,Timecamp!J:J))","v":""},"","",{"$f":"IFERROR(VLOOKUP(A411,'SLA Trab'!E:I,5,FALSE),\"\")","v":""},{"$f":"IFERROR(VLOOKUP(A411,'SLA Cobr'!E:I,5,FALSE),\"\")","v":""}]
[{"$f":"IFERROR(IF(Trello!E411=\"\",\"\",Trello!E411),\" \")","v":""},{"$f":"IF($A412=\"\",\"\",IF(Trello!A411=\"\",B411,Trello!A411))","v":""},"",{"$f":"IF($A412=\"\",\"\",SUBSTITUTE(SUBSTITUTE(Trello!J411,\" days\",\"\"),\"⌚ \",\"\")*1)","v":""},{"$f":"IFERROR(IF($A412=\"\",\"\",SUBSTITUTE(SUBSTITUTE(SUBSTITUTE(INDIRECT(\"Trello!\"&ADDRESS(ROW()-1, E$1, 4)),\"Foreign: \",\"\"),\" $\",\"\"),\".\",\"\")*1),\"\")","v":""},{"$f":"IF($E412=\"\",IFERROR(IF($A412=\"\",\"\",SUBSTITUTE(SUBSTITUTE(SUBSTITUTE(INDIRECT(\"Trello!\"&ADDRESS(ROW()-1, F$1, 4)),\"MXN: \",\"\"),\" MX$\",\"\"),\".\",\"\")*1),\"\"),E412*F$2)","v":""},{"$f":"IFERROR(IF($A412=\"\",\"\",SUBSTITUTE(SUBSTITUTE(SUBSTITUTE(INDIRECT(\"Trello!\"&ADDRESS(ROW()-1, G$1, 4)),\"Debt: \",\"\"),\" $\",\"\"),\".\",\"\")*1)*IF(E412=\"\",1,F$2),\"\")","v":""},{"$f":"IFERROR(IF($A412=\"\",\"\",SUBSTITUTE(SUBSTITUTE(SUBSTITUTE(INDIRECT(\"Trello!\"&ADDRESS(ROW()-1, H$1, 4)),\"Cost: \",\"\"),\" $\",\"\"),\".\",\"\")*1*$F$2),\"\")","v":""},"",{"$f":"IFERROR(SUBSTITUTE(SUBSTITUTE(SUBSTITUTE(RIGHT(INDIRECT(\"Trello!\"&ADDRESS(ROW()-1, L$1, 4)),LEN(INDIRECT(\"Trello!\"&ADDRESS(ROW()-1, L$1, 4)))-15),\". \",\"/\"),\" 20\",\"/20\"),\" \",\"\"),\"\")","v":""},{"$f":"IFERROR(SUBSTITUTE(SUBSTITUTE(SUBSTITUTE(RIGHT(INDIRECT(\"Trello!\"&ADDRESS(ROW()-1, M$1, 4)),LEN(INDIRECT(\"Trello!\"&ADDRESS(ROW()-1, M$1, 4)))-15),\". \",\"/\"),\" 20\",\"/20\"),\" \",\"\"),\"\")","v":""},"","","",{"$f":"IFERROR(SUBSTITUTE(INDIRECT(\"Trello!\"&ADDRESS(ROW()-1, O$1, 4)),\"Estimate hrs: \",\"\")*1,\"\")","v":""},{"$f":"IF(SUMIF(Timecamp!C:C,Reporte!A412,Timecamp!J:J)=0,\"\",SUMIF(Timecamp!C:C,Reporte!A412,Timecamp!J:J))","v":""},"","",{"$f":"IFERROR(VLOOKUP(A412,'SLA Trab'!E:I,5,FALSE),\"\")","v":""},{"$f":"IFERROR(VLOOKUP(A412,'SLA Cobr'!E:I,5,FALSE),\"\")","v":""}]
[{"$f":"IFERROR(IF(Trello!E412=\"\",\"\",Trello!E412),\" \")","v":""},{"$f":"IF($A413=\"\",\"\",IF(Trello!A412=\"\",B412,Trello!A412))","v":""},"",{"$f":"IF($A413=\"\",\"\",SUBSTITUTE(SUBSTITUTE(Trello!J412,\" days\",\"\"),\"⌚ \",\"\")*1)","v":""},{"$f":"IFERROR(IF($A413=\"\",\"\",SUBSTITUTE(SUBSTITUTE(SUBSTITUTE(INDIRECT(\"Trello!\"&ADDRESS(ROW()-1, E$1, 4)),\"Foreign: \",\"\"),\" $\",\"\"),\".\",\"\")*1),\"\")","v":""},{"$f":"IF($E413=\"\",IFERROR(IF($A413=\"\",\"\",SUBSTITUTE(SUBSTITUTE(SUBSTITUTE(INDIRECT(\"Trello!\"&ADDRESS(ROW()-1, F$1, 4)),\"MXN: \",\"\"),\" MX$\",\"\"),\".\",\"\")*1),\"\"),E413*F$2)","v":""},{"$f":"IFERROR(IF($A413=\"\",\"\",SUBSTITUTE(SUBSTITUTE(SUBSTITUTE(INDIRECT(\"Trello!\"&ADDRESS(ROW()-1, G$1, 4)),\"Debt: \",\"\"),\" $\",\"\"),\".\",\"\")*1)*IF(E413=\"\",1,F$2),\"\")","v":""},{"$f":"IFERROR(IF($A413=\"\",\"\",SUBSTITUTE(SUBSTITUTE(SUBSTITUTE(INDIRECT(\"Trello!\"&ADDRESS(ROW()-1, H$1, 4)),\"Cost: \",\"\"),\" $\",\"\"),\".\",\"\")*1*$F$2),\"\")","v":""},"",{"$f":"IFERROR(SUBSTITUTE(SUBSTITUTE(SUBSTITUTE(RIGHT(INDIRECT(\"Trello!\"&ADDRESS(ROW()-1, L$1, 4)),LEN(INDIRECT(\"Trello!\"&ADDRESS(ROW()-1, L$1, 4)))-15),\". \",\"/\"),\" 20\",\"/20\"),\" \",\"\"),\"\")","v":""},{"$f":"IFERROR(SUBSTITUTE(SUBSTITUTE(SUBSTITUTE(RIGHT(INDIRECT(\"Trello!\"&ADDRESS(ROW()-1, M$1, 4)),LEN(INDIRECT(\"Trello!\"&ADDRESS(ROW()-1, M$1, 4)))-15),\". \",\"/\"),\" 20\",\"/20\"),\" \",\"\"),\"\")","v":""},"","","",{"$f":"IFERROR(SUBSTITUTE(INDIRECT(\"Trello!\"&ADDRESS(ROW()-1, O$1, 4)),\"Estimate hrs: \",\"\")*1,\"\")","v":""},{"$f":"IF(SUMIF(Timecamp!C:C,Reporte!A413,Timecamp!J:J)=0,\"\",SUMIF(Timecamp!C:C,Reporte!A413,Timecamp!J:J))","v":""},"","",{"$f":"IFERROR(VLOOKUP(A413,'SLA Trab'!E:I,5,FALSE),\"\")","v":""},{"$f":"IFERROR(VLOOKUP(A413,'SLA Cobr'!E:I,5,FALSE),\"\")","v":""}]
[{"$f":"IFERROR(IF(Trello!E413=\"\",\"\",Trello!E413),\" \")","v":""},{"$f":"IF($A414=\"\",\"\",IF(Trello!A413=\"\",B413,Trello!A413))","v":""},"",{"$f":"IF($A414=\"\",\"\",SUBSTITUTE(SUBSTITUTE(Trello!J413,\" days\",\"\"),\"⌚ \",\"\")*1)","v":""},{"$f":"IFERROR(IF($A414=\"\",\"\",SUBSTITUTE(SUBSTITUTE(SUBSTITUTE(INDIRECT(\"Trello!\"&ADDRESS(ROW()-1, E$1, 4)),\"Foreign: \",\"\"),\" $\",\"\"),\".\",\"\")*1),\"\")","v":""},{"$f":"IF($E414=\"\",IFERROR(IF($A414=\"\",\"\",SUBSTITUTE(SUBSTITUTE(SUBSTITUTE(INDIRECT(\"Trello!\"&ADDRESS(ROW()-1, F$1, 4)),\"MXN: \",\"\"),\" MX$\",\"\"),\".\",\"\")*1),\"\"),E414*F$2)","v":""},{"$f":"IFERROR(IF($A414=\"\",\"\",SUBSTITUTE(SUBSTITUTE(SUBSTITUTE(INDIRECT(\"Trello!\"&ADDRESS(ROW()-1, G$1, 4)),\"Debt: \",\"\"),\" $\",\"\"),\".\",\"\")*1)*IF(E414=\"\",1,F$2),\"\")","v":""},{"$f":"IFERROR(IF($A414=\"\",\"\",SUBSTITUTE(SUBSTITUTE(SUBSTITUTE(INDIRECT(\"Trello!\"&ADDRESS(ROW()-1, H$1, 4)),\"Cost: \",\"\"),\" $\",\"\"),\".\",\"\")*1*$F$2),\"\")","v":""},"",{"$f":"IFERROR(SUBSTITUTE(SUBSTITUTE(SUBSTITUTE(RIGHT(INDIRECT(\"Trello!\"&ADDRESS(ROW()-1, L$1, 4)),LEN(INDIRECT(\"Trello!\"&ADDRESS(ROW()-1, L$1, 4)))-15),\". \",\"/\"),\" 20\",\"/20\"),\" \",\"\"),\"\")","v":""},{"$f":"IFERROR(SUBSTITUTE(SUBSTITUTE(SUBSTITUTE(RIGHT(INDIRECT(\"Trello!\"&ADDRESS(ROW()-1, M$1, 4)),LEN(INDIRECT(\"Trello!\"&ADDRESS(ROW()-1, M$1, 4)))-15),\". \",\"/\"),\" 20\",\"/20\"),\" \",\"\"),\"\")","v":""},"","","",{"$f":"IFERROR(SUBSTITUTE(INDIRECT(\"Trello!\"&ADDRESS(ROW()-1, O$1, 4)),\"Estimate hrs: \",\"\")*1,\"\")","v":""},{"$f":"IF(SUMIF(Timecamp!C:C,Reporte!A414,Timecamp!J:J)=0,\"\",SUMIF(Timecamp!C:C,Reporte!A414,Timecamp!J:J))","v":""},"","",{"$f":"IFERROR(VLOOKUP(A414,'SLA Trab'!E:I,5,FALSE),\"\")","v":""},{"$f":"IFERROR(VLOOKUP(A414,'SLA Cobr'!E:I,5,FALSE),\"\")","v":""}]
[{"$f":"IFERROR(IF(Trello!E414=\"\",\"\",Trello!E414),\" \")","v":""},{"$f":"IF($A415=\"\",\"\",IF(Trello!A414=\"\",B414,Trello!A414))","v":""},"",{"$f":"IF($A415=\"\",\"\",SUBSTITUTE(SUBSTITUTE(Trello!J414,\" days\",\"\"),\"⌚ \",\"\")*1)","v":""},{"$f":"IFERROR(IF($A415=\"\",\"\",SUBSTITUTE(SUBSTITUTE(SUBSTITUTE(INDIRECT(\"Trello!\"&ADDRESS(ROW()-1, E$1, 4)),\"Foreign: \",\"\"),\" $\",\"\"),\".\",\"\")*1),\"\")","v":""},{"$f":"IF($E415=\"\",IFERROR(IF($A415=\"\",\"\",SUBSTITUTE(SUBSTITUTE(SUBSTITUTE(INDIRECT(\"Trello!\"&ADDRESS(ROW()-1, F$1, 4)),\"MXN: \",\"\"),\" MX$\",\"\"),\".\",\"\")*1),\"\"),E415*F$2)","v":""},{"$f":"IFERROR(IF($A415=\"\",\"\",SUBSTITUTE(SUBSTITUTE(SUBSTITUTE(INDIRECT(\"Trello!\"&ADDRESS(ROW()-1, G$1, 4)),\"Debt: \",\"\"),\" $\",\"\"),\".\",\"\")*1)*IF(E415=\"\",1,F$2),\"\")","v":""},{"$f":"IFERROR(IF($A415=\"\",\"\",SUBSTITUTE(SUBSTITUTE(SUBSTITUTE(INDIRECT(\"Trello!\"&ADDRESS(ROW()-1, H$1, 4)),\"Cost: \",\"\"),\" $\",\"\"),\".\",\"\")*1*$F$2),\"\")","v":""},"",{"$f":"IFERROR(SUBSTITUTE(SUBSTITUTE(SUBSTITUTE(RIGHT(INDIRECT(\"Trello!\"&ADDRESS(ROW()-1, L$1, 4)),LEN(INDIRECT(\"Trello!\"&ADDRESS(ROW()-1, L$1, 4)))-15),\". \",\"/\"),\" 20\",\"/20\"),\" \",\"\"),\"\")","v":""},{"$f":"IFERROR(SUBSTITUTE(SUBSTITUTE(SUBSTITUTE(RIGHT(INDIRECT(\"Trello!\"&ADDRESS(ROW()-1, M$1, 4)),LEN(INDIRECT(\"Trello!\"&ADDRESS(ROW()-1, M$1, 4)))-15),\". \",\"/\"),\" 20\",\"/20\"),\" \",\"\"),\"\")","v":""},"","","",{"$f":"IFERROR(SUBSTITUTE(INDIRECT(\"Trello!\"&ADDRESS(ROW()-1, O$1, 4)),\"Estimate hrs: \",\"\")*1,\"\")","v":""},{"$f":"IF(SUMIF(Timecamp!C:C,Reporte!A415,Timecamp!J:J)=0,\"\",SUMIF(Timecamp!C:C,Reporte!A415,Timecamp!J:J))","v":""},"","",{"$f":"IFERROR(VLOOKUP(A415,'SLA Trab'!E:I,5,FALSE),\"\")","v":""},{"$f":"IFERROR(VLOOKUP(A415,'SLA Cobr'!E:I,5,FALSE),\"\")","v":""}]
[{"$f":"IFERROR(IF(Trello!E415=\"\",\"\",Trello!E415),\" \")","v":""},{"$f":"IF($A416=\"\",\"\",IF(Trello!A415=\"\",B415,Trello!A415))","v":""},"",{"$f":"IF($A416=\"\",\"\",SUBSTITUTE(SUBSTITUTE(Trello!J415,\" days\",\"\"),\"⌚ \",\"\")*1)","v":""},{"$f":"IFERROR(IF($A416=\"\",\"\",SUBSTITUTE(SUBSTITUTE(SUBSTITUTE(INDIRECT(\"Trello!\"&ADDRESS(ROW()-1, E$1, 4)),\"Foreign: \",\"\"),\" $\",\"\"),\".\",\"\")*1),\"\")","v":""},{"$f":"IF($E416=\"\",IFERROR(IF($A416=\"\",\"\",SUBSTITUTE(SUBSTITUTE(SUBSTITUTE(INDIRECT(\"Trello!\"&ADDRESS(ROW()-1, F$1, 4)),\"MXN: \",\"\"),\" MX$\",\"\"),\".\",\"\")*1),\"\"),E416*F$2)","v":""},{"$f":"IFERROR(IF($A416=\"\",\"\",SUBSTITUTE(SUBSTITUTE(SUBSTITUTE(INDIRECT(\"Trello!\"&ADDRESS(ROW()-1, G$1, 4)),\"Debt: \",\"\"),\" $\",\"\"),\".\",\"\")*1)*IF(E416=\"\",1,F$2),\"\")","v":""},{"$f":"IFERROR(IF($A416=\"\",\"\",SUBSTITUTE(SUBSTITUTE(SUBSTITUTE(INDIRECT(\"Trello!\"&ADDRESS(ROW()-1, H$1, 4)),\"Cost: \",\"\"),\" $\",\"\"),\".\",\"\")*1*$F$2),\"\")","v":""},"",{"$f":"IFERROR(SUBSTITUTE(SUBSTITUTE(SUBSTITUTE(RIGHT(INDIRECT(\"Trello!\"&ADDRESS(ROW()-1, L$1, 4)),LEN(INDIRECT(\"Trello!\"&ADDRESS(ROW()-1, L$1, 4)))-15),\". \",\"/\"),\" 20\",\"/20\"),\" \",\"\"),\"\")","v":""},{"$f":"IFERROR(SUBSTITUTE(SUBSTITUTE(SUBSTITUTE(RIGHT(INDIRECT(\"Trello!\"&ADDRESS(ROW()-1, M$1, 4)),LEN(INDIRECT(\"Trello!\"&ADDRESS(ROW()-1, M$1, 4)))-15),\". \",\"/\"),\" 20\",\"/20\"),\" \",\"\"),\"\")","v":""},"","","",{"$f":"IFERROR(SUBSTITUTE(INDIRECT(\"Trello!\"&ADDRESS(ROW()-1, O$1, 4)),\"Estimate hrs: \",\"\")*1,\"\")","v":""},{"$f":"IF(SUMIF(Timecamp!C:C,Reporte!A416,Timecamp!J:J)=0,\"\",SUMIF(Timecamp!C:C,Reporte!A416,Timecamp!J:J))","v":""},"","",{"$f":"IFERROR(VLOOKUP(A416,'SLA Trab'!E:I,5,FALSE),\"\")","v":""},{"$f":"IFERROR(VLOOKUP(A416,'SLA Cobr'!E:I,5,FALSE),\"\")","v":""}]
[{"$f":"IFERROR(IF(Trello!E416=\"\",\"\",Trello!E416),\" \")","v":""},{"$f":"IF($A417=\"\",\"\",IF(Trello!A416=\"\",B416,Trello!A416))","v":""},"",{"$f":"IF($A417=\"\",\"\",SUBSTITUTE(SUBSTITUTE(Trello!J416,\" days\",\"\"),\"⌚ \",\"\")*1)","v":""},{"$f":"IFERROR(IF($A417=\"\",\"\",SUBSTITUTE(SUBSTITUTE(SUBSTITUTE(INDIRECT(\"Trello!\"&ADDRESS(ROW()-1, E$1, 4)),\"Foreign: \",\"\"),\" $\",\"\"),\".\",\"\")*1),\"\")","v":""},{"$f":"IF($E417=\"\",IFERROR(IF($A417=\"\",\"\",SUBSTITUTE(SUBSTITUTE(SUBSTITUTE(INDIRECT(\"Trello!\"&ADDRESS(ROW()-1, F$1, 4)),\"MXN: \",\"\"),\" MX$\",\"\"),\".\",\"\")*1),\"\"),E417*F$2)","v":""},{"$f":"IFERROR(IF($A417=\"\",\"\",SUBSTITUTE(SUBSTITUTE(SUBSTITUTE(INDIRECT(\"Trello!\"&ADDRESS(ROW()-1, G$1, 4)),\"Debt: \",\"\"),\" $\",\"\"),\".\",\"\")*1)*IF(E417=\"\",1,F$2),\"\")","v":""},{"$f":"IFERROR(IF($A417=\"\",\"\",SUBSTITUTE(SUBSTITUTE(SUBSTITUTE(INDIRECT(\"Trello!\"&ADDRESS(ROW()-1, H$1, 4)),\"Cost: \",\"\"),\" $\",\"\"),\".\",\"\")*1*$F$2),\"\")","v":""},"",{"$f":"IFERROR(SUBSTITUTE(SUBSTITUTE(SUBSTITUTE(RIGHT(INDIRECT(\"Trello!\"&ADDRESS(ROW()-1, L$1, 4)),LEN(INDIRECT(\"Trello!\"&ADDRESS(ROW()-1, L$1, 4)))-15),\". \",\"/\"),\" 20\",\"/20\"),\" \",\"\"),\"\")","v":""},{"$f":"IFERROR(SUBSTITUTE(SUBSTITUTE(SUBSTITUTE(RIGHT(INDIRECT(\"Trello!\"&ADDRESS(ROW()-1, M$1, 4)),LEN(INDIRECT(\"Trello!\"&ADDRESS(ROW()-1, M$1, 4)))-15),\". \",\"/\"),\" 20\",\"/20\"),\" \",\"\"),\"\")","v":""},"","","",{"$f":"IFERROR(SUBSTITUTE(INDIRECT(\"Trello!\"&ADDRESS(ROW()-1, O$1, 4)),\"Estimate hrs: \",\"\")*1,\"\")","v":""},{"$f":"IF(SUMIF(Timecamp!C:C,Reporte!A417,Timecamp!J:J)=0,\"\",SUMIF(Timecamp!C:C,Reporte!A417,Timecamp!J:J))","v":""},"","",{"$f":"IFERROR(VLOOKUP(A417,'SLA Trab'!E:I,5,FALSE),\"\")","v":""},{"$f":"IFERROR(VLOOKUP(A417,'SLA Cobr'!E:I,5,FALSE),\"\")","v":""}]
[{"$f":"IFERROR(IF(Trello!E417=\"\",\"\",Trello!E417),\" \")","v":""},{"$f":"IF($A418=\"\",\"\",IF(Trello!A417=\"\",B417,Trello!A417))","v":""},"",{"$f":"IF($A418=\"\",\"\",SUBSTITUTE(SUBSTITUTE(Trello!J417,\" days\",\"\"),\"⌚ \",\"\")*1)","v":""},{"$f":"IFERROR(IF($A418=\"\",\"\",SUBSTITUTE(SUBSTITUTE(SUBSTITUTE(INDIRECT(\"Trello!\"&ADDRESS(ROW()-1, E$1, 4)),\"Foreign: \",\"\"),\" $\",\"\"),\".\",\"\")*1),\"\")","v":""},{"$f":"IF($E418=\"\",IFERROR(IF($A418=\"\",\"\",SUBSTITUTE(SUBSTITUTE(SUBSTITUTE(INDIRECT(\"Trello!\"&ADDRESS(ROW()-1, F$1, 4)),\"MXN: \",\"\"),\" MX$\",\"\"),\".\",\"\")*1),\"\"),E418*F$2)","v":""},{"$f":"IFERROR(IF($A418=\"\",\"\",SUBSTITUTE(SUBSTITUTE(SUBSTITUTE(INDIRECT(\"Trello!\"&ADDRESS(ROW()-1, G$1, 4)),\"Debt: \",\"\"),\" $\",\"\"),\".\",\"\")*1)*IF(E418=\"\",1,F$2),\"\")","v":""},{"$f":"IFERROR(IF($A418=\"\",\"\",SUBSTITUTE(SUBSTITUTE(SUBSTITUTE(INDIRECT(\"Trello!\"&ADDRESS(ROW()-1, H$1, 4)),\"Cost: \",\"\"),\" $\",\"\"),\".\",\"\")*1*$F$2),\"\")","v":""},"",{"$f":"IFERROR(SUBSTITUTE(SUBSTITUTE(SUBSTITUTE(RIGHT(INDIRECT(\"Trello!\"&ADDRESS(ROW()-1, L$1, 4)),LEN(INDIRECT(\"Trello!\"&ADDRESS(ROW()-1, L$1, 4)))-15),\". \",\"/\"),\" 20\",\"/20\"),\" \",\"\"),\"\")","v":""},{"$f":"IFERROR(SUBSTITUTE(SUBSTITUTE(SUBSTITUTE(RIGHT(INDIRECT(\"Trello!\"&ADDRESS(ROW()-1, M$1, 4)),LEN(INDIRECT(\"Trello!\"&ADDRESS(ROW()-1, M$1, 4)))-15),\". \",\"/\"),\" 20\",\"/20\"),\" \",\"\"),\"\")","v":""},"","","",{"$f":"IFERROR(SUBSTITUTE(INDIRECT(\"Trello!\"&ADDRESS(ROW()-1, O$1, 4)),\"Estimate hrs: \",\"\")*1,\"\")","v":""},{"$f":"IF(SUMIF(Timecamp!C:C,Reporte!A418,Timecamp!J:J)=0,\"\",SUMIF(Timecamp!C:C,Reporte!A418,Timecamp!J:J))","v":""},"","",{"$f":"IFERROR(VLOOKUP(A418,'SLA Trab'!E:I,5,FALSE),\"\")","v":""},{"$f":"IFERROR(VLOOKUP(A418,'SLA Cobr'!E:I,5,FALSE),\"\")","v":""}]
[{"$f":"IFERROR(IF(Trello!E418=\"\",\"\",Trello!E418),\" \")","v":""},{"$f":"IF($A419=\"\",\"\",IF(Trello!A418=\"\",B418,Trello!A418))","v":""},"",{"$f":"IF($A419=\"\",\"\",SUBSTITUTE(SUBSTITUTE(Trello!J418,\" days\",\"\"),\"⌚ \",\"\")*1)","v":""},{"$f":"IFERROR(IF($A419=\"\",\"\",SUBSTITUTE(SUBSTITUTE(SUBSTITUTE(INDIRECT(\"Trello!\"&ADDRESS(ROW()-1, E$1, 4)),\"Foreign: \",\"\"),\" $\",\"\"),\".\",\"\")*1),\"\")","v":""},{"$f":"IF($E419=\"\",IFERROR(IF($A419=\"\",\"\",SUBSTITUTE(SUBSTITUTE(SUBSTITUTE(INDIRECT(\"Trello!\"&ADDRESS(ROW()-1, F$1, 4)),\"MXN: \",\"\"),\" MX$\",\"\"),\".\",\"\")*1),\"\"),E419*F$2)","v":""},{"$f":"IFERROR(IF($A419=\"\",\"\",SUBSTITUTE(SUBSTITUTE(SUBSTITUTE(INDIRECT(\"Trello!\"&ADDRESS(ROW()-1, G$1, 4)),\"Debt: \",\"\"),\" $\",\"\"),\".\",\"\")*1)*IF(E419=\"\",1,F$2),\"\")","v":""},{"$f":"IFERROR(IF($A419=\"\",\"\",SUBSTITUTE(SUBSTITUTE(SUBSTITUTE(INDIRECT(\"Trello!\"&ADDRESS(ROW()-1, H$1, 4)),\"Cost: \",\"\"),\" $\",\"\"),\".\",\"\")*1*$F$2),\"\")","v":""},"",{"$f":"IFERROR(SUBSTITUTE(SUBSTITUTE(SUBSTITUTE(RIGHT(INDIRECT(\"Trello!\"&ADDRESS(ROW()-1, L$1, 4)),LEN(INDIRECT(\"Trello!\"&ADDRESS(ROW()-1, L$1, 4)))-15),\". \",\"/\"),\" 20\",\"/20\"),\" \",\"\"),\"\")","v":""},{"$f":"IFERROR(SUBSTITUTE(SUBSTITUTE(SUBSTITUTE(RIGHT(INDIRECT(\"Trello!\"&ADDRESS(ROW()-1, M$1, 4)),LEN(INDIRECT(\"Trello!\"&ADDRESS(ROW()-1, M$1, 4)))-15),\". \",\"/\"),\" 20\",\"/20\"),\" \",\"\"),\"\")","v":""},"","","",{"$f":"IFERROR(SUBSTITUTE(INDIRECT(\"Trello!\"&ADDRESS(ROW()-1, O$1, 4)),\"Estimate hrs: \",\"\")*1,\"\")","v":""},{"$f":"IF(SUMIF(Timecamp!C:C,Reporte!A419,Timecamp!J:J)=0,\"\",SUMIF(Timecamp!C:C,Reporte!A419,Timecamp!J:J))","v":""},"","",{"$f":"IFERROR(VLOOKUP(A419,'SLA Trab'!E:I,5,FALSE),\"\")","v":""},{"$f":"IFERROR(VLOOKUP(A419,'SLA Cobr'!E:I,5,FALSE),\"\")","v":""}]
[{"$f":"IFERROR(IF(Trello!E419=\"\",\"\",Trello!E419),\" \")","v":""},{"$f":"IF($A420=\"\",\"\",IF(Trello!A419=\"\",B419,Trello!A419))","v":""},"",{"$f":"IF($A420=\"\",\"\",SUBSTITUTE(SUBSTITUTE(Trello!J419,\" days\",\"\"),\"⌚ \",\"\")*1)","v":""},{"$f":"IFERROR(IF($A420=\"\",\"\",SUBSTITUTE(SUBSTITUTE(SUBSTITUTE(INDIRECT(\"Trello!\"&ADDRESS(ROW()-1, E$1, 4)),\"Foreign: \",\"\"),\" $\",\"\"),\".\",\"\")*1),\"\")","v":""},{"$f":"IF($E420=\"\",IFERROR(IF($A420=\"\",\"\",SUBSTITUTE(SUBSTITUTE(SUBSTITUTE(INDIRECT(\"Trello!\"&ADDRESS(ROW()-1, F$1, 4)),\"MXN: \",\"\"),\" MX$\",\"\"),\".\",\"\")*1),\"\"),E420*F$2)","v":""},{"$f":"IFERROR(IF($A420=\"\",\"\",SUBSTITUTE(SUBSTITUTE(SUBSTITUTE(INDIRECT(\"Trello!\"&ADDRESS(ROW()-1, G$1, 4)),\"Debt: \",\"\"),\" $\",\"\"),\".\",\"\")*1)*IF(E420=\"\",1,F$2),\"\")","v":""},{"$f":"IFERROR(IF($A420=\"\",\"\",SUBSTITUTE(SUBSTITUTE(SUBSTITUTE(INDIRECT(\"Trello!\"&ADDRESS(ROW()-1, H$1, 4)),\"Cost: \",\"\"),\" $\",\"\"),\".\",\"\")*1*$F$2),\"\")","v":""},"",{"$f":"IFERROR(SUBSTITUTE(SUBSTITUTE(SUBSTITUTE(RIGHT(INDIRECT(\"Trello!\"&ADDRESS(ROW()-1, L$1, 4)),LEN(INDIRECT(\"Trello!\"&ADDRESS(ROW()-1, L$1, 4)))-15),\". \",\"/\"),\" 20\",\"/20\"),\" \",\"\"),\"\")","v":""},{"$f":"IFERROR(SUBSTITUTE(SUBSTITUTE(SUBSTITUTE(RIGHT(INDIRECT(\"Trello!\"&ADDRESS(ROW()-1, M$1, 4)),LEN(INDIRECT(\"Trello!\"&ADDRESS(ROW()-1, M$1, 4)))-15),\". \",\"/\"),\" 20\",\"/20\"),\" \",\"\"),\"\")","v":""},"","","",{"$f":"IFERROR(SUBSTITUTE(INDIRECT(\"Trello!\"&ADDRESS(ROW()-1, O$1, 4)),\"Estimate hrs: \",\"\")*1,\"\")","v":""},{"$f":"IF(SUMIF(Timecamp!C:C,Reporte!A420,Timecamp!J:J)=0,\"\",SUMIF(Timecamp!C:C,Reporte!A420,Timecamp!J:J))","v":""},"","",{"$f":"IFERROR(VLOOKUP(A420,'SLA Trab'!E:I,5,FALSE),\"\")","v":""},{"$f":"IFERROR(VLOOKUP(A420,'SLA Cobr'!E:I,5,FALSE),\"\")","v":""}]
[{"$f":"IFERROR(IF(Trello!E420=\"\",\"\",Trello!E420),\" \")","v":""},{"$f":"IF($A421=\"\",\"\",IF(Trello!A420=\"\",B420,Trello!A420))","v":""},"",{"$f":"IF($A421=\"\",\"\",SUBSTITUTE(SUBSTITUTE(Trello!J420,\" days\",\"\"),\"⌚ \",\"\")*1)","v":""},{"$f":"IFERROR(IF($A421=\"\",\"\",SUBSTITUTE(SUBSTITUTE(SUBSTITUTE(INDIRECT(\"Trello!\"&ADDRESS(ROW()-1, E$1, 4)),\"Foreign: \",\"\"),\" $\",\"\"),\".\",\"\")*1),\"\")","v":""},{"$f":"IF($E421=\"\",IFERROR(IF($A421=\"\",\"\",SUBSTITUTE(SUBSTITUTE(SUBSTITUTE(INDIRECT(\"Trello!\"&ADDRESS(ROW()-1, F$1, 4)),\"MXN: \",\"\"),\" MX$\",\"\"),\".\",\"\")*1),\"\"),E421*F$2)","v":""},{"$f":"IFERROR(IF($A421=\"\",\"\",SUBSTITUTE(SUBSTITUTE(SUBSTITUTE(INDIRECT(\"Trello!\"&ADDRESS(ROW()-1, G$1, 4)),\"Debt: \",\"\"),\" $\",\"\"),\".\",\"\")*1)*IF(E421=\"\",1,F$2),\"\")","v":""},{"$f":"IFERROR(IF($A421=\"\",\"\",SUBSTITUTE(SUBSTITUTE(SUBSTITUTE(INDIRECT(\"Trello!\"&ADDRESS(ROW()-1, H$1, 4)),\"Cost: \",\"\"),\" $\",\"\"),\".\",\"\")*1*$F$2),\"\")","v":""},"",{"$f":"IFERROR(SUBSTITUTE(SUBSTITUTE(SUBSTITUTE(RIGHT(INDIRECT(\"Trello!\"&ADDRESS(ROW()-1, L$1, 4)),LEN(INDIRECT(\"Trello!\"&ADDRESS(ROW()-1, L$1, 4)))-15),\". \",\"/\"),\" 20\",\"/20\"),\" \",\"\"),\"\")","v":""},{"$f":"IFERROR(SUBSTITUTE(SUBSTITUTE(SUBSTITUTE(RIGHT(INDIRECT(\"Trello!\"&ADDRESS(ROW()-1, M$1, 4)),LEN(INDIRECT(\"Trello!\"&ADDRESS(ROW()-1, M$1, 4)))-15),\". \",\"/\"),\" 20\",\"/20\"),\" \",\"\"),\"\")","v":""},"","","",{"$f":"IFERROR(SUBSTITUTE(INDIRECT(\"Trello!\"&ADDRESS(ROW()-1, O$1, 4)),\"Estimate hrs: \",\"\")*1,\"\")","v":""},{"$f":"IF(SUMIF(Timecamp!C:C,Reporte!A421,Timecamp!J:J)=0,\"\",SUMIF(Timecamp!C:C,Reporte!A421,Timecamp!J:J))","v":""},"","",{"$f":"IFERROR(VLOOKUP(A421,'SLA Trab'!E:I,5,FALSE),\"\")","v":""},{"$f":"IFERROR(VLOOKUP(A421,'SLA Cobr'!E:I,5,FALSE),\"\")","v":""}]
[{"$f":"IFERROR(IF(Trello!E421=\"\",\"\",Trello!E421),\" \")","v":""},{"$f":"IF($A422=\"\",\"\",IF(Trello!A421=\"\",B421,Trello!A421))","v":""},"",{"$f":"IF($A422=\"\",\"\",SUBSTITUTE(SUBSTITUTE(Trello!J421,\" days\",\"\"),\"⌚ \",\"\")*1)","v":""},{"$f":"IFERROR(IF($A422=\"\",\"\",SUBSTITUTE(SUBSTITUTE(SUBSTITUTE(INDIRECT(\"Trello!\"&ADDRESS(ROW()-1, E$1, 4)),\"Foreign: \",\"\"),\" $\",\"\"),\".\",\"\")*1),\"\")","v":""},{"$f":"IF($E422=\"\",IFERROR(IF($A422=\"\",\"\",SUBSTITUTE(SUBSTITUTE(SUBSTITUTE(INDIRECT(\"Trello!\"&ADDRESS(ROW()-1, F$1, 4)),\"MXN: \",\"\"),\" MX$\",\"\"),\".\",\"\")*1),\"\"),E422*F$2)","v":""},{"$f":"IFERROR(IF($A422=\"\",\"\",SUBSTITUTE(SUBSTITUTE(SUBSTITUTE(INDIRECT(\"Trello!\"&ADDRESS(ROW()-1, G$1, 4)),\"Debt: \",\"\"),\" $\",\"\"),\".\",\"\")*1)*IF(E422=\"\",1,F$2),\"\")","v":""},{"$f":"IFERROR(IF($A422=\"\",\"\",SUBSTITUTE(SUBSTITUTE(SUBSTITUTE(INDIRECT(\"Trello!\"&ADDRESS(ROW()-1, H$1, 4)),\"Cost: \",\"\"),\" $\",\"\"),\".\",\"\")*1*$F$2),\"\")","v":""},"",{"$f":"IFERROR(SUBSTITUTE(SUBSTITUTE(SUBSTITUTE(RIGHT(INDIRECT(\"Trello!\"&ADDRESS(ROW()-1, L$1, 4)),LEN(INDIRECT(\"Trello!\"&ADDRESS(ROW()-1, L$1, 4)))-15),\". \",\"/\"),\" 20\",\"/20\"),\" \",\"\"),\"\")","v":""},{"$f":"IFERROR(SUBSTITUTE(SUBSTITUTE(SUBSTITUTE(RIGHT(INDIRECT(\"Trello!\"&ADDRESS(ROW()-1, M$1, 4)),LEN(INDIRECT(\"Trello!\"&ADDRESS(ROW()-1, M$1, 4)))-15),\". \",\"/\"),\" 20\",\"/20\"),\" \",\"\"),\"\")","v":""},"","","",{"$f":"IFERROR(SUBSTITUTE(INDIRECT(\"Trello!\"&ADDRESS(ROW()-1, O$1, 4)),\"Estimate hrs: \",\"\")*1,\"\")","v":""},{"$f":"IF(SUMIF(Timecamp!C:C,Reporte!A422,Timecamp!J:J)=0,\"\",SUMIF(Timecamp!C:C,Reporte!A422,Timecamp!J:J))","v":""},"","",{"$f":"IFERROR(VLOOKUP(A422,'SLA Trab'!E:I,5,FALSE),\"\")","v":""},{"$f":"IFERROR(VLOOKUP(A422,'SLA Cobr'!E:I,5,FALSE),\"\")","v":""}]
[{"$f":"IFERROR(IF(Trello!E422=\"\",\"\",Trello!E422),\" \")","v":""},{"$f":"IF($A423=\"\",\"\",IF(Trello!A422=\"\",B422,Trello!A422))","v":""},"",{"$f":"IF($A423=\"\",\"\",SUBSTITUTE(SUBSTITUTE(Trello!J422,\" days\",\"\"),\"⌚ \",\"\")*1)","v":""},{"$f":"IFERROR(IF($A423=\"\",\"\",SUBSTITUTE(SUBSTITUTE(SUBSTITUTE(INDIRECT(\"Trello!\"&ADDRESS(ROW()-1, E$1, 4)),\"Foreign: \",\"\"),\" $\",\"\"),\".\",\"\")*1),\"\")","v":""},{"$f":"IF($E423=\"\",IFERROR(IF($A423=\"\",\"\",SUBSTITUTE(SUBSTITUTE(SUBSTITUTE(INDIRECT(\"Trello!\"&ADDRESS(ROW()-1, F$1, 4)),\"MXN: \",\"\"),\" MX$\",\"\"),\".\",\"\")*1),\"\"),E423*F$2)","v":""},{"$f":"IFERROR(IF($A423=\"\",\"\",SUBSTITUTE(SUBSTITUTE(SUBSTITUTE(INDIRECT(\"Trello!\"&ADDRESS(ROW()-1, G$1, 4)),\"Debt: \",\"\"),\" $\",\"\"),\".\",\"\")*1)*IF(E423=\"\",1,F$2),\"\")","v":""},{"$f":"IFERROR(IF($A423=\"\",\"\",SUBSTITUTE(SUBSTITUTE(SUBSTITUTE(INDIRECT(\"Trello!\"&ADDRESS(ROW()-1, H$1, 4)),\"Cost: \",\"\"),\" $\",\"\"),\".\",\"\")*1*$F$2),\"\")","v":""},"",{"$f":"IFERROR(SUBSTITUTE(SUBSTITUTE(SUBSTITUTE(RIGHT(INDIRECT(\"Trello!\"&ADDRESS(ROW()-1, L$1, 4)),LEN(INDIRECT(\"Trello!\"&ADDRESS(ROW()-1, L$1, 4)))-15),\". \",\"/\"),\" 20\",\"/20\"),\" \",\"\"),\"\")","v":""},{"$f":"IFERROR(SUBSTITUTE(SUBSTITUTE(SUBSTITUTE(RIGHT(INDIRECT(\"Trello!\"&ADDRESS(ROW()-1, M$1, 4)),LEN(INDIRECT(\"Trello!\"&ADDRESS(ROW()-1, M$1, 4)))-15),\". \",\"/\"),\" 20\",\"/20\"),\" \",\"\"),\"\")","v":""},"","","",{"$f":"IFERROR(SUBSTITUTE(INDIRECT(\"Trello!\"&ADDRESS(ROW()-1, O$1, 4)),\"Estimate hrs: \",\"\")*1,\"\")","v":""},{"$f":"IF(SUMIF(Timecamp!C:C,Reporte!A423,Timecamp!J:J)=0,\"\",SUMIF(Timecamp!C:C,Reporte!A423,Timecamp!J:J))","v":""},"","",{"$f":"IFERROR(VLOOKUP(A423,'SLA Trab'!E:I,5,FALSE),\"\")","v":""},{"$f":"IFERROR(VLOOKUP(A423,'SLA Cobr'!E:I,5,FALSE),\"\")","v":""}]
[{"$f":"IFERROR(IF(Trello!E423=\"\",\"\",Trello!E423),\" \")","v":""},{"$f":"IF($A424=\"\",\"\",IF(Trello!A423=\"\",B423,Trello!A423))","v":""},"",{"$f":"IF($A424=\"\",\"\",SUBSTITUTE(SUBSTITUTE(Trello!J423,\" days\",\"\"),\"⌚ \",\"\")*1)","v":""},{"$f":"IFERROR(IF($A424=\"\",\"\",SUBSTITUTE(SUBSTITUTE(SUBSTITUTE(INDIRECT(\"Trello!\"&ADDRESS(ROW()-1, E$1, 4)),\"Foreign: \",\"\"),\" $\",\"\"),\".\",\"\")*1),\"\")","v":""},{"$f":"IF($E424=\"\",IFERROR(IF($A424=\"\",\"\",SUBSTITUTE(SUBSTITUTE(SUBSTITUTE(INDIRECT(\"Trello!\"&ADDRESS(ROW()-1, F$1, 4)),\"MXN: \",\"\"),\" MX$\",\"\"),\".\",\"\")*1),\"\"),E424*F$2)","v":""},{"$f":"IFERROR(IF($A424=\"\",\"\",SUBSTITUTE(SUBSTITUTE(SUBSTITUTE(INDIRECT(\"Trello!\"&ADDRESS(ROW()-1, G$1, 4)),\"Debt: \",\"\"),\" $\",\"\"),\".\",\"\")*1)*IF(E424=\"\",1,F$2),\"\")","v":""},{"$f":"IFERROR(IF($A424=\"\",\"\",SUBSTITUTE(SUBSTITUTE(SUBSTITUTE(INDIRECT(\"Trello!\"&ADDRESS(ROW()-1, H$1, 4)),\"Cost: \",\"\"),\" $\",\"\"),\".\",\"\")*1*$F$2),\"\")","v":""},"",{"$f":"IFERROR(SUBSTITUTE(SUBSTITUTE(SUBSTITUTE(RIGHT(INDIRECT(\"Trello!\"&ADDRESS(ROW()-1, L$1, 4)),LEN(INDIRECT(\"Trello!\"&ADDRESS(ROW()-1, L$1, 4)))-15),\". \",\"/\"),\" 20\",\"/20\"),\" \",\"\"),\"\")","v":""},{"$f":"IFERROR(SUBSTITUTE(SUBSTITUTE(SUBSTITUTE(RIGHT(INDIRECT(\"Trello!\"&ADDRESS(ROW()-1, M$1, 4)),LEN(INDIRECT(\"Trello!\"&ADDRESS(ROW()-1, M$1, 4)))-15),\". \",\"/\"),\" 20\",\"/20\"),\" \",\"\"),\"\")","v":""},"","","",{"$f":"IFERROR(SUBSTITUTE(INDIRECT(\"Trello!\"&ADDRESS(ROW()-1, O$1, 4)),\"Estimate hrs: \",\"\")*1,\"\")","v":""},{"$f":"IF(SUMIF(Timecamp!C:C,Reporte!A424,Timecamp!J:J)=0,\"\",SUMIF(Timecamp!C:C,Reporte!A424,Timecamp!J:J))","v":""},"","",{"$f":"IFERROR(VLOOKUP(A424,'SLA Trab'!E:I,5,FALSE),\"\")","v":""},{"$f":"IFERROR(VLOOKUP(A424,'SLA Cobr'!E:I,5,FALSE),\"\")","v":""}]
[{"$f":"IFERROR(IF(Trello!E424=\"\",\"\",Trello!E424),\" \")","v":""},{"$f":"IF($A425=\"\",\"\",IF(Trello!A424=\"\",B424,Trello!A424))","v":""},"",{"$f":"IF($A425=\"\",\"\",SUBSTITUTE(SUBSTITUTE(Trello!J424,\" days\",\"\"),\"⌚ \",\"\")*1)","v":""},{"$f":"IFERROR(IF($A425=\"\",\"\",SUBSTITUTE(SUBSTITUTE(SUBSTITUTE(INDIRECT(\"Trello!\"&ADDRESS(ROW()-1, E$1, 4)),\"Foreign: \",\"\"),\" $\",\"\"),\".\",\"\")*1),\"\")","v":""},{"$f":"IF($E425=\"\",IFERROR(IF($A425=\"\",\"\",SUBSTITUTE(SUBSTITUTE(SUBSTITUTE(INDIRECT(\"Trello!\"&ADDRESS(ROW()-1, F$1, 4)),\"MXN: \",\"\"),\" MX$\",\"\"),\".\",\"\")*1),\"\"),E425*F$2)","v":""},{"$f":"IFERROR(IF($A425=\"\",\"\",SUBSTITUTE(SUBSTITUTE(SUBSTITUTE(INDIRECT(\"Trello!\"&ADDRESS(ROW()-1, G$1, 4)),\"Debt: \",\"\"),\" $\",\"\"),\".\",\"\")*1)*IF(E425=\"\",1,F$2),\"\")","v":""},{"$f":"IFERROR(IF($A425=\"\",\"\",SUBSTITUTE(SUBSTITUTE(SUBSTITUTE(INDIRECT(\"Trello!\"&ADDRESS(ROW()-1, H$1, 4)),\"Cost: \",\"\"),\" $\",\"\"),\".\",\"\")*1*$F$2),\"\")","v":""},"",{"$f":"IFERROR(SUBSTITUTE(SUBSTITUTE(SUBSTITUTE(RIGHT(INDIRECT(\"Trello!\"&ADDRESS(ROW()-1, L$1, 4)),LEN(INDIRECT(\"Trello!\"&ADDRESS(ROW()-1, L$1, 4)))-15),\". \",\"/\"),\" 20\",\"/20\"),\" \",\"\"),\"\")","v":""},{"$f":"IFERROR(SUBSTITUTE(SUBSTITUTE(SUBSTITUTE(RIGHT(INDIRECT(\"Trello!\"&ADDRESS(ROW()-1, M$1, 4)),LEN(INDIRECT(\"Trello!\"&ADDRESS(ROW()-1, M$1, 4)))-15),\". \",\"/\"),\" 20\",\"/20\"),\" \",\"\"),\"\")","v":""},"","","",{"$f":"IFERROR(SUBSTITUTE(INDIRECT(\"Trello!\"&ADDRESS(ROW()-1, O$1, 4)),\"Estimate hrs: \",\"\")*1,\"\")","v":""},{"$f":"IF(SUMIF(Timecamp!C:C,Reporte!A425,Timecamp!J:J)=0,\"\",SUMIF(Timecamp!C:C,Reporte!A425,Timecamp!J:J))","v":""},"","",{"$f":"IFERROR(VLOOKUP(A425,'SLA Trab'!E:I,5,FALSE),\"\")","v":""},{"$f":"IFERROR(VLOOKUP(A425,'SLA Cobr'!E:I,5,FALSE),\"\")","v":""}]
[{"$f":"IFERROR(IF(Trello!E425=\"\",\"\",Trello!E425),\" \")","v":""},{"$f":"IF($A426=\"\",\"\",IF(Trello!A425=\"\",B425,Trello!A425))","v":""},"",{"$f":"IF($A426=\"\",\"\",SUBSTITUTE(SUBSTITUTE(Trello!J425,\" days\",\"\"),\"⌚ \",\"\")*1)","v":""},{"$f":"IFERROR(IF($A426=\"\",\"\",SUBSTITUTE(SUBSTITUTE(SUBSTITUTE(INDIRECT(\"Trello!\"&ADDRESS(ROW()-1, E$1, 4)),\"Foreign: \",\"\"),\" $\",\"\"),\".\",\"\")*1),\"\")","v":""},{"$f":"IF($E426=\"\",IFERROR(IF($A426=\"\",\"\",SUBSTITUTE(SUBSTITUTE(SUBSTITUTE(INDIRECT(\"Trello!\"&ADDRESS(ROW()-1, F$1, 4)),\"MXN: \",\"\"),\" MX$\",\"\"),\".\",\"\")*1),\"\"),E426*F$2)","v":""},{"$f":"IFERROR(IF($A426=\"\",\"\",SUBSTITUTE(SUBSTITUTE(SUBSTITUTE(INDIRECT(\"Trello!\"&ADDRESS(ROW()-1, G$1, 4)),\"Debt: \",\"\"),\" $\",\"\"),\".\",\"\")*1)*IF(E426=\"\",1,F$2),\"\")","v":""},{"$f":"IFERROR(IF($A426=\"\",\"\",SUBSTITUTE(SUBSTITUTE(SUBSTITUTE(INDIRECT(\"Trello!\"&ADDRESS(ROW()-1, H$1, 4)),\"Cost: \",\"\"),\" $\",\"\"),\".\",\"\")*1*$F$2),\"\")","v":""},"",{"$f":"IFERROR(SUBSTITUTE(SUBSTITUTE(SUBSTITUTE(RIGHT(INDIRECT(\"Trello!\"&ADDRESS(ROW()-1, L$1, 4)),LEN(INDIRECT(\"Trello!\"&ADDRESS(ROW()-1, L$1, 4)))-15),\". \",\"/\"),\" 20\",\"/20\"),\" \",\"\"),\"\")","v":""},{"$f":"IFERROR(SUBSTITUTE(SUBSTITUTE(SUBSTITUTE(RIGHT(INDIRECT(\"Trello!\"&ADDRESS(ROW()-1, M$1, 4)),LEN(INDIRECT(\"Trello!\"&ADDRESS(ROW()-1, M$1, 4)))-15),\". \",\"/\"),\" 20\",\"/20\"),\" \",\"\"),\"\")","v":""},"","","",{"$f":"IFERROR(SUBSTITUTE(INDIRECT(\"Trello!\"&ADDRESS(ROW()-1, O$1, 4)),\"Estimate hrs: \",\"\")*1,\"\")","v":""},{"$f":"IF(SUMIF(Timecamp!C:C,Reporte!A426,Timecamp!J:J)=0,\"\",SUMIF(Timecamp!C:C,Reporte!A426,Timecamp!J:J))","v":""},"","",{"$f":"IFERROR(VLOOKUP(A426,'SLA Trab'!E:I,5,FALSE),\"\")","v":""},{"$f":"IFERROR(VLOOKUP(A426,'SLA Cobr'!E:I,5,FALSE),\"\")","v":""}]
[{"$f":"IFERROR(IF(Trello!E426=\"\",\"\",Trello!E426),\" \")","v":""},{"$f":"IF($A427=\"\",\"\",IF(Trello!A426=\"\",B426,Trello!A426))","v":""},"",{"$f":"IF($A427=\"\",\"\",SUBSTITUTE(SUBSTITUTE(Trello!J426,\" days\",\"\"),\"⌚ \",\"\")*1)","v":""},{"$f":"IFERROR(IF($A427=\"\",\"\",SUBSTITUTE(SUBSTITUTE(SUBSTITUTE(INDIRECT(\"Trello!\"&ADDRESS(ROW()-1, E$1, 4)),\"Foreign: \",\"\"),\" $\",\"\"),\".\",\"\")*1),\"\")","v":""},{"$f":"IF($E427=\"\",IFERROR(IF($A427=\"\",\"\",SUBSTITUTE(SUBSTITUTE(SUBSTITUTE(INDIRECT(\"Trello!\"&ADDRESS(ROW()-1, F$1, 4)),\"MXN: \",\"\"),\" MX$\",\"\"),\".\",\"\")*1),\"\"),E427*F$2)","v":""},{"$f":"IFERROR(IF($A427=\"\",\"\",SUBSTITUTE(SUBSTITUTE(SUBSTITUTE(INDIRECT(\"Trello!\"&ADDRESS(ROW()-1, G$1, 4)),\"Debt: \",\"\"),\" $\",\"\"),\".\",\"\")*1)*IF(E427=\"\",1,F$2),\"\")","v":""},{"$f":"IFERROR(IF($A427=\"\",\"\",SUBSTITUTE(SUBSTITUTE(SUBSTITUTE(INDIRECT(\"Trello!\"&ADDRESS(ROW()-1, H$1, 4)),\"Cost: \",\"\"),\" $\",\"\"),\".\",\"\")*1*$F$2),\"\")","v":""},"",{"$f":"IFERROR(SUBSTITUTE(SUBSTITUTE(SUBSTITUTE(RIGHT(INDIRECT(\"Trello!\"&ADDRESS(ROW()-1, L$1, 4)),LEN(INDIRECT(\"Trello!\"&ADDRESS(ROW()-1, L$1, 4)))-15),\". \",\"/\"),\" 20\",\"/20\"),\" \",\"\"),\"\")","v":""},{"$f":"IFERROR(SUBSTITUTE(SUBSTITUTE(SUBSTITUTE(RIGHT(INDIRECT(\"Trello!\"&ADDRESS(ROW()-1, M$1, 4)),LEN(INDIRECT(\"Trello!\"&ADDRESS(ROW()-1, M$1, 4)))-15),\". \",\"/\"),\" 20\",\"/20\"),\" \",\"\"),\"\")","v":""},"","","",{"$f":"IFERROR(SUBSTITUTE(INDIRECT(\"Trello!\"&ADDRESS(ROW()-1, O$1, 4)),\"Estimate hrs: \",\"\")*1,\"\")","v":""},{"$f":"IF(SUMIF(Timecamp!C:C,Reporte!A427,Timecamp!J:J)=0,\"\",SUMIF(Timecamp!C:C,Reporte!A427,Timecamp!J:J))","v":""},"","",{"$f":"IFERROR(VLOOKUP(A427,'SLA Trab'!E:I,5,FALSE),\"\")","v":""},{"$f":"IFERROR(VLOOKUP(A427,'SLA Cobr'!E:I,5,FALSE),\"\")","v":""}]
[{"$f":"IFERROR(IF(Trello!E427=\"\",\"\",Trello!E427),\" \")","v":""},{"$f":"IF($A428=\"\",\"\",IF(Trello!A427=\"\",B427,Trello!A427))","v":""},"",{"$f":"IF($A428=\"\",\"\",SUBSTITUTE(SUBSTITUTE(Trello!J427,\" days\",\"\"),\"⌚ \",\"\")*1)","v":""},{"$f":"IFERROR(IF($A428=\"\",\"\",SUBSTITUTE(SUBSTITUTE(SUBSTITUTE(INDIRECT(\"Trello!\"&ADDRESS(ROW()-1, E$1, 4)),\"Foreign: \",\"\"),\" $\",\"\"),\".\",\"\")*1),\"\")","v":""},{"$f":"IF($E428=\"\",IFERROR(IF($A428=\"\",\"\",SUBSTITUTE(SUBSTITUTE(SUBSTITUTE(INDIRECT(\"Trello!\"&ADDRESS(ROW()-1, F$1, 4)),\"MXN: \",\"\"),\" MX$\",\"\"),\".\",\"\")*1),\"\"),E428*F$2)","v":""},{"$f":"IFERROR(IF($A428=\"\",\"\",SUBSTITUTE(SUBSTITUTE(SUBSTITUTE(INDIRECT(\"Trello!\"&ADDRESS(ROW()-1, G$1, 4)),\"Debt: \",\"\"),\" $\",\"\"),\".\",\"\")*1)*IF(E428=\"\",1,F$2),\"\")","v":""},{"$f":"IFERROR(IF($A428=\"\",\"\",SUBSTITUTE(SUBSTITUTE(SUBSTITUTE(INDIRECT(\"Trello!\"&ADDRESS(ROW()-1, H$1, 4)),\"Cost: \",\"\"),\" $\",\"\"),\".\",\"\")*1*$F$2),\"\")","v":""},"",{"$f":"IFERROR(SUBSTITUTE(SUBSTITUTE(SUBSTITUTE(RIGHT(INDIRECT(\"Trello!\"&ADDRESS(ROW()-1, L$1, 4)),LEN(INDIRECT(\"Trello!\"&ADDRESS(ROW()-1, L$1, 4)))-15),\". \",\"/\"),\" 20\",\"/20\"),\" \",\"\"),\"\")","v":""},{"$f":"IFERROR(SUBSTITUTE(SUBSTITUTE(SUBSTITUTE(RIGHT(INDIRECT(\"Trello!\"&ADDRESS(ROW()-1, M$1, 4)),LEN(INDIRECT(\"Trello!\"&ADDRESS(ROW()-1, M$1, 4)))-15),\". \",\"/\"),\" 20\",\"/20\"),\" \",\"\"),\"\")","v":""},"","","",{"$f":"IFERROR(SUBSTITUTE(INDIRECT(\"Trello!\"&ADDRESS(ROW()-1, O$1, 4)),\"Estimate hrs: \",\"\")*1,\"\")","v":""},{"$f":"IF(SUMIF(Timecamp!C:C,Reporte!A428,Timecamp!J:J)=0,\"\",SUMIF(Timecamp!C:C,Reporte!A428,Timecamp!J:J))","v":""},"","",{"$f":"IFERROR(VLOOKUP(A428,'SLA Trab'!E:I,5,FALSE),\"\")","v":""},{"$f":"IFERROR(VLOOKUP(A428,'SLA Cobr'!E:I,5,FALSE),\"\")","v":""}]
[{"$f":"IFERROR(IF(Trello!E428=\"\",\"\",Trello!E428),\" \")","v":""},{"$f":"IF($A429=\"\",\"\",IF(Trello!A428=\"\",B428,Trello!A428))","v":""},"",{"$f":"IF($A429=\"\",\"\",SUBSTITUTE(SUBSTITUTE(Trello!J428,\" days\",\"\"),\"⌚ \",\"\")*1)","v":""},{"$f":"IFERROR(IF($A429=\"\",\"\",SUBSTITUTE(SUBSTITUTE(SUBSTITUTE(INDIRECT(\"Trello!\"&ADDRESS(ROW()-1, E$1, 4)),\"Foreign: \",\"\"),\" $\",\"\"),\".\",\"\")*1),\"\")","v":""},{"$f":"IF($E429=\"\",IFERROR(IF($A429=\"\",\"\",SUBSTITUTE(SUBSTITUTE(SUBSTITUTE(INDIRECT(\"Trello!\"&ADDRESS(ROW()-1, F$1, 4)),\"MXN: \",\"\"),\" MX$\",\"\"),\".\",\"\")*1),\"\"),E429*F$2)","v":""},{"$f":"IFERROR(IF($A429=\"\",\"\",SUBSTITUTE(SUBSTITUTE(SUBSTITUTE(INDIRECT(\"Trello!\"&ADDRESS(ROW()-1, G$1, 4)),\"Debt: \",\"\"),\" $\",\"\"),\".\",\"\")*1)*IF(E429=\"\",1,F$2),\"\")","v":""},{"$f":"IFERROR(IF($A429=\"\",\"\",SUBSTITUTE(SUBSTITUTE(SUBSTITUTE(INDIRECT(\"Trello!\"&ADDRESS(ROW()-1, H$1, 4)),\"Cost: \",\"\"),\" $\",\"\"),\".\",\"\")*1*$F$2),\"\")","v":""},"",{"$f":"IFERROR(SUBSTITUTE(SUBSTITUTE(SUBSTITUTE(RIGHT(INDIRECT(\"Trello!\"&ADDRESS(ROW()-1, L$1, 4)),LEN(INDIRECT(\"Trello!\"&ADDRESS(ROW()-1, L$1, 4)))-15),\". \",\"/\"),\" 20\",\"/20\"),\" \",\"\"),\"\")","v":""},{"$f":"IFERROR(SUBSTITUTE(SUBSTITUTE(SUBSTITUTE(RIGHT(INDIRECT(\"Trello!\"&ADDRESS(ROW()-1, M$1, 4)),LEN(INDIRECT(\"Trello!\"&ADDRESS(ROW()-1, M$1, 4)))-15),\". \",\"/\"),\" 20\",\"/20\"),\" \",\"\"),\"\")","v":""},"","","",{"$f":"IFERROR(SUBSTITUTE(INDIRECT(\"Trello!\"&ADDRESS(ROW()-1, O$1, 4)),\"Estimate hrs: \",\"\")*1,\"\")","v":""},{"$f":"IF(SUMIF(Timecamp!C:C,Reporte!A429,Timecamp!J:J)=0,\"\",SUMIF(Timecamp!C:C,Reporte!A429,Timecamp!J:J))","v":""},"","",{"$f":"IFERROR(VLOOKUP(A429,'SLA Trab'!E:I,5,FALSE),\"\")","v":""},{"$f":"IFERROR(VLOOKUP(A429,'SLA Cobr'!E:I,5,FALSE),\"\")","v":""}]
[{"$f":"IFERROR(IF(Trello!E429=\"\",\"\",Trello!E429),\" \")","v":""},{"$f":"IF($A430=\"\",\"\",IF(Trello!A429=\"\",B429,Trello!A429))","v":""},"",{"$f":"IF($A430=\"\",\"\",SUBSTITUTE(SUBSTITUTE(Trello!J429,\" days\",\"\"),\"⌚ \",\"\")*1)","v":""},{"$f":"IFERROR(IF($A430=\"\",\"\",SUBSTITUTE(SUBSTITUTE(SUBSTITUTE(INDIRECT(\"Trello!\"&ADDRESS(ROW()-1, E$1, 4)),\"Foreign: \",\"\"),\" $\",\"\"),\".\",\"\")*1),\"\")","v":""},{"$f":"IF($E430=\"\",IFERROR(IF($A430=\"\",\"\",SUBSTITUTE(SUBSTITUTE(SUBSTITUTE(INDIRECT(\"Trello!\"&ADDRESS(ROW()-1, F$1, 4)),\"MXN: \",\"\"),\" MX$\",\"\"),\".\",\"\")*1),\"\"),E430*F$2)","v":""},{"$f":"IFERROR(IF($A430=\"\",\"\",SUBSTITUTE(SUBSTITUTE(SUBSTITUTE(INDIRECT(\"Trello!\"&ADDRESS(ROW()-1, G$1, 4)),\"Debt: \",\"\"),\" $\",\"\"),\".\",\"\")*1)*IF(E430=\"\",1,F$2),\"\")","v":""},{"$f":"IFERROR(IF($A430=\"\",\"\",SUBSTITUTE(SUBSTITUTE(SUBSTITUTE(INDIRECT(\"Trello!\"&ADDRESS(ROW()-1, H$1, 4)),\"Cost: \",\"\"),\" $\",\"\"),\".\",\"\")*1*$F$2),\"\")","v":""},"",{"$f":"IFERROR(SUBSTITUTE(SUBSTITUTE(SUBSTITUTE(RIGHT(INDIRECT(\"Trello!\"&ADDRESS(ROW()-1, L$1, 4)),LEN(INDIRECT(\"Trello!\"&ADDRESS(ROW()-1, L$1, 4)))-15),\". \",\"/\"),\" 20\",\"/20\"),\" \",\"\"),\"\")","v":""},{"$f":"IFERROR(SUBSTITUTE(SUBSTITUTE(SUBSTITUTE(RIGHT(INDIRECT(\"Trello!\"&ADDRESS(ROW()-1, M$1, 4)),LEN(INDIRECT(\"Trello!\"&ADDRESS(ROW()-1, M$1, 4)))-15),\". \",\"/\"),\" 20\",\"/20\"),\" \",\"\"),\"\")","v":""},"","","",{"$f":"IFERROR(SUBSTITUTE(INDIRECT(\"Trello!\"&ADDRESS(ROW()-1, O$1, 4)),\"Estimate hrs: \",\"\")*1,\"\")","v":""},{"$f":"IF(SUMIF(Timecamp!C:C,Reporte!A430,Timecamp!J:J)=0,\"\",SUMIF(Timecamp!C:C,Reporte!A430,Timecamp!J:J))","v":""},"","",{"$f":"IFERROR(VLOOKUP(A430,'SLA Trab'!E:I,5,FALSE),\"\")","v":""},{"$f":"IFERROR(VLOOKUP(A430,'SLA Cobr'!E:I,5,FALSE),\"\")","v":""}]
[{"$f":"IFERROR(IF(Trello!E430=\"\",\"\",Trello!E430),\" \")","v":""},{"$f":"IF($A431=\"\",\"\",IF(Trello!A430=\"\",B430,Trello!A430))","v":""},"",{"$f":"IF($A431=\"\",\"\",SUBSTITUTE(SUBSTITUTE(Trello!J430,\" days\",\"\"),\"⌚ \",\"\")*1)","v":""},{"$f":"IFERROR(IF($A431=\"\",\"\",SUBSTITUTE(SUBSTITUTE(SUBSTITUTE(INDIRECT(\"Trello!\"&ADDRESS(ROW()-1, E$1, 4)),\"Foreign: \",\"\"),\" $\",\"\"),\".\",\"\")*1),\"\")","v":""},{"$f":"IF($E431=\"\",IFERROR(IF($A431=\"\",\"\",SUBSTITUTE(SUBSTITUTE(SUBSTITUTE(INDIRECT(\"Trello!\"&ADDRESS(ROW()-1, F$1, 4)),\"MXN: \",\"\"),\" MX$\",\"\"),\".\",\"\")*1),\"\"),E431*F$2)","v":""},{"$f":"IFERROR(IF($A431=\"\",\"\",SUBSTITUTE(SUBSTITUTE(SUBSTITUTE(INDIRECT(\"Trello!\"&ADDRESS(ROW()-1, G$1, 4)),\"Debt: \",\"\"),\" $\",\"\"),\".\",\"\")*1)*IF(E431=\"\",1,F$2),\"\")","v":""},{"$f":"IFERROR(IF($A431=\"\",\"\",SUBSTITUTE(SUBSTITUTE(SUBSTITUTE(INDIRECT(\"Trello!\"&ADDRESS(ROW()-1, H$1, 4)),\"Cost: \",\"\"),\" $\",\"\"),\".\",\"\")*1*$F$2),\"\")","v":""},"",{"$f":"IFERROR(SUBSTITUTE(SUBSTITUTE(SUBSTITUTE(RIGHT(INDIRECT(\"Trello!\"&ADDRESS(ROW()-1, L$1, 4)),LEN(INDIRECT(\"Trello!\"&ADDRESS(ROW()-1, L$1, 4)))-15),\". \",\"/\"),\" 20\",\"/20\"),\" \",\"\"),\"\")","v":""},{"$f":"IFERROR(SUBSTITUTE(SUBSTITUTE(SUBSTITUTE(RIGHT(INDIRECT(\"Trello!\"&ADDRESS(ROW()-1, M$1, 4)),LEN(INDIRECT(\"Trello!\"&ADDRESS(ROW()-1, M$1, 4)))-15),\". \",\"/\"),\" 20\",\"/20\"),\" \",\"\"),\"\")","v":""},"","","",{"$f":"IFERROR(SUBSTITUTE(INDIRECT(\"Trello!\"&ADDRESS(ROW()-1, O$1, 4)),\"Estimate hrs: \",\"\")*1,\"\")","v":""},{"$f":"IF(SUMIF(Timecamp!C:C,Reporte!A431,Timecamp!J:J)=0,\"\",SUMIF(Timecamp!C:C,Reporte!A431,Timecamp!J:J))","v":""},"","",{"$f":"IFERROR(VLOOKUP(A431,'SLA Trab'!E:I,5,FALSE),\"\")","v":""},{"$f":"IFERROR(VLOOKUP(A431,'SLA Cobr'!E:I,5,FALSE),\"\")","v":""}]
[{"$f":"IFERROR(IF(Trello!E431=\"\",\"\",Trello!E431),\" \")","v":""},{"$f":"IF($A432=\"\",\"\",IF(Trello!A431=\"\",B431,Trello!A431))","v":""},"",{"$f":"IF($A432=\"\",\"\",SUBSTITUTE(SUBSTITUTE(Trello!J431,\" days\",\"\"),\"⌚ \",\"\")*1)","v":""},{"$f":"IFERROR(IF($A432=\"\",\"\",SUBSTITUTE(SUBSTITUTE(SUBSTITUTE(INDIRECT(\"Trello!\"&ADDRESS(ROW()-1, E$1, 4)),\"Foreign: \",\"\"),\" $\",\"\"),\".\",\"\")*1),\"\")","v":""},{"$f":"IF($E432=\"\",IFERROR(IF($A432=\"\",\"\",SUBSTITUTE(SUBSTITUTE(SUBSTITUTE(INDIRECT(\"Trello!\"&ADDRESS(ROW()-1, F$1, 4)),\"MXN: \",\"\"),\" MX$\",\"\"),\".\",\"\")*1),\"\"),E432*F$2)","v":""},{"$f":"IFERROR(IF($A432=\"\",\"\",SUBSTITUTE(SUBSTITUTE(SUBSTITUTE(INDIRECT(\"Trello!\"&ADDRESS(ROW()-1, G$1, 4)),\"Debt: \",\"\"),\" $\",\"\"),\".\",\"\")*1)*IF(E432=\"\",1,F$2),\"\")","v":""},{"$f":"IFERROR(IF($A432=\"\",\"\",SUBSTITUTE(SUBSTITUTE(SUBSTITUTE(INDIRECT(\"Trello!\"&ADDRESS(ROW()-1, H$1, 4)),\"Cost: \",\"\"),\" $\",\"\"),\".\",\"\")*1*$F$2),\"\")","v":""},"",{"$f":"IFERROR(SUBSTITUTE(SUBSTITUTE(SUBSTITUTE(RIGHT(INDIRECT(\"Trello!\"&ADDRESS(ROW()-1, L$1, 4)),LEN(INDIRECT(\"Trello!\"&ADDRESS(ROW()-1, L$1, 4)))-15),\". \",\"/\"),\" 20\",\"/20\"),\" \",\"\"),\"\")","v":""},{"$f":"IFERROR(SUBSTITUTE(SUBSTITUTE(SUBSTITUTE(RIGHT(INDIRECT(\"Trello!\"&ADDRESS(ROW()-1, M$1, 4)),LEN(INDIRECT(\"Trello!\"&ADDRESS(ROW()-1, M$1, 4)))-15),\". \",\"/\"),\" 20\",\"/20\"),\" \",\"\"),\"\")","v":""},"","","",{"$f":"IFERROR(SUBSTITUTE(INDIRECT(\"Trello!\"&ADDRESS(ROW()-1, O$1, 4)),\"Estimate hrs: \",\"\")*1,\"\")","v":""},{"$f":"IF(SUMIF(Timecamp!C:C,Reporte!A432,Timecamp!J:J)=0,\"\",SUMIF(Timecamp!C:C,Reporte!A432,Timecamp!J:J))","v":""},"","",{"$f":"IFERROR(VLOOKUP(A432,'SLA Trab'!E:I,5,FALSE),\"\")","v":""},{"$f":"IFERROR(VLOOKUP(A432,'SLA Cobr'!E:I,5,FALSE),\"\")","v":""}]
[{"$f":"IFERROR(IF(Trello!E432=\"\",\"\",Trello!E432),\" \")","v":""},{"$f":"IF($A433=\"\",\"\",IF(Trello!A432=\"\",B432,Trello!A432))","v":""},"",{"$f":"IF($A433=\"\",\"\",SUBSTITUTE(SUBSTITUTE(Trello!J432,\" days\",\"\"),\"⌚ \",\"\")*1)","v":""},{"$f":"IFERROR(IF($A433=\"\",\"\",SUBSTITUTE(SUBSTITUTE(SUBSTITUTE(INDIRECT(\"Trello!\"&ADDRESS(ROW()-1, E$1, 4)),\"Foreign: \",\"\"),\" $\",\"\"),\".\",\"\")*1),\"\")","v":""},{"$f":"IF($E433=\"\",IFERROR(IF($A433=\"\",\"\",SUBSTITUTE(SUBSTITUTE(SUBSTITUTE(INDIRECT(\"Trello!\"&ADDRESS(ROW()-1, F$1, 4)),\"MXN: \",\"\"),\" MX$\",\"\"),\".\",\"\")*1),\"\"),E433*F$2)","v":""},{"$f":"IFERROR(IF($A433=\"\",\"\",SUBSTITUTE(SUBSTITUTE(SUBSTITUTE(INDIRECT(\"Trello!\"&ADDRESS(ROW()-1, G$1, 4)),\"Debt: \",\"\"),\" $\",\"\"),\".\",\"\")*1)*IF(E433=\"\",1,F$2),\"\")","v":""},{"$f":"IFERROR(IF($A433=\"\",\"\",SUBSTITUTE(SUBSTITUTE(SUBSTITUTE(INDIRECT(\"Trello!\"&ADDRESS(ROW()-1, H$1, 4)),\"Cost: \",\"\"),\" $\",\"\"),\".\",\"\")*1*$F$2),\"\")","v":""},"",{"$f":"IFERROR(SUBSTITUTE(SUBSTITUTE(SUBSTITUTE(RIGHT(INDIRECT(\"Trello!\"&ADDRESS(ROW()-1, L$1, 4)),LEN(INDIRECT(\"Trello!\"&ADDRESS(ROW()-1, L$1, 4)))-15),\". \",\"/\"),\" 20\",\"/20\"),\" \",\"\"),\"\")","v":""},{"$f":"IFERROR(SUBSTITUTE(SUBSTITUTE(SUBSTITUTE(RIGHT(INDIRECT(\"Trello!\"&ADDRESS(ROW()-1, M$1, 4)),LEN(INDIRECT(\"Trello!\"&ADDRESS(ROW()-1, M$1, 4)))-15),\". \",\"/\"),\" 20\",\"/20\"),\" \",\"\"),\"\")","v":""},"","","",{"$f":"IFERROR(SUBSTITUTE(INDIRECT(\"Trello!\"&ADDRESS(ROW()-1, O$1, 4)),\"Estimate hrs: \",\"\")*1,\"\")","v":""},{"$f":"IF(SUMIF(Timecamp!C:C,Reporte!A433,Timecamp!J:J)=0,\"\",SUMIF(Timecamp!C:C,Reporte!A433,Timecamp!J:J))","v":""},"","",{"$f":"IFERROR(VLOOKUP(A433,'SLA Trab'!E:I,5,FALSE),\"\")","v":""},{"$f":"IFERROR(VLOOKUP(A433,'SLA Cobr'!E:I,5,FALSE),\"\")","v":""}]
[{"$f":"IFERROR(IF(Trello!E433=\"\",\"\",Trello!E433),\" \")","v":""},{"$f":"IF($A434=\"\",\"\",IF(Trello!A433=\"\",B433,Trello!A433))","v":""},"",{"$f":"IF($A434=\"\",\"\",SUBSTITUTE(SUBSTITUTE(Trello!J433,\" days\",\"\"),\"⌚ \",\"\")*1)","v":""},{"$f":"IFERROR(IF($A434=\"\",\"\",SUBSTITUTE(SUBSTITUTE(SUBSTITUTE(INDIRECT(\"Trello!\"&ADDRESS(ROW()-1, E$1, 4)),\"Foreign: \",\"\"),\" $\",\"\"),\".\",\"\")*1),\"\")","v":""},{"$f":"IF($E434=\"\",IFERROR(IF($A434=\"\",\"\",SUBSTITUTE(SUBSTITUTE(SUBSTITUTE(INDIRECT(\"Trello!\"&ADDRESS(ROW()-1, F$1, 4)),\"MXN: \",\"\"),\" MX$\",\"\"),\".\",\"\")*1),\"\"),E434*F$2)","v":""},{"$f":"IFERROR(IF($A434=\"\",\"\",SUBSTITUTE(SUBSTITUTE(SUBSTITUTE(INDIRECT(\"Trello!\"&ADDRESS(ROW()-1, G$1, 4)),\"Debt: \",\"\"),\" $\",\"\"),\".\",\"\")*1)*IF(E434=\"\",1,F$2),\"\")","v":""},{"$f":"IFERROR(IF($A434=\"\",\"\",SUBSTITUTE(SUBSTITUTE(SUBSTITUTE(INDIRECT(\"Trello!\"&ADDRESS(ROW()-1, H$1, 4)),\"Cost: \",\"\"),\" $\",\"\"),\".\",\"\")*1*$F$2),\"\")","v":""},"",{"$f":"IFERROR(SUBSTITUTE(SUBSTITUTE(SUBSTITUTE(RIGHT(INDIRECT(\"Trello!\"&ADDRESS(ROW()-1, L$1, 4)),LEN(INDIRECT(\"Trello!\"&ADDRESS(ROW()-1, L$1, 4)))-15),\". \",\"/\"),\" 20\",\"/20\"),\" \",\"\"),\"\")","v":""},{"$f":"IFERROR(SUBSTITUTE(SUBSTITUTE(SUBSTITUTE(RIGHT(INDIRECT(\"Trello!\"&ADDRESS(ROW()-1, M$1, 4)),LEN(INDIRECT(\"Trello!\"&ADDRESS(ROW()-1, M$1, 4)))-15),\". \",\"/\"),\" 20\",\"/20\"),\" \",\"\"),\"\")","v":""},"","","",{"$f":"IFERROR(SUBSTITUTE(INDIRECT(\"Trello!\"&ADDRESS(ROW()-1, O$1, 4)),\"Estimate hrs: \",\"\")*1,\"\")","v":""},{"$f":"IF(SUMIF(Timecamp!C:C,Reporte!A434,Timecamp!J:J)=0,\"\",SUMIF(Timecamp!C:C,Reporte!A434,Timecamp!J:J))","v":""},"","",{"$f":"IFERROR(VLOOKUP(A434,'SLA Trab'!E:I,5,FALSE),\"\")","v":""},{"$f":"IFERROR(VLOOKUP(A434,'SLA Cobr'!E:I,5,FALSE),\"\")","v":""}]
[{"$f":"IFERROR(IF(Trello!E434=\"\",\"\",Trello!E434),\" \")","v":""},{"$f":"IF($A435=\"\",\"\",IF(Trello!A434=\"\",B434,Trello!A434))","v":""},"",{"$f":"IF($A435=\"\",\"\",SUBSTITUTE(SUBSTITUTE(Trello!J434,\" days\",\"\"),\"⌚ \",\"\")*1)","v":""},{"$f":"IFERROR(IF($A435=\"\",\"\",SUBSTITUTE(SUBSTITUTE(SUBSTITUTE(INDIRECT(\"Trello!\"&ADDRESS(ROW()-1, E$1, 4)),\"Foreign: \",\"\"),\" $\",\"\"),\".\",\"\")*1),\"\")","v":""},{"$f":"IF($E435=\"\",IFERROR(IF($A435=\"\",\"\",SUBSTITUTE(SUBSTITUTE(SUBSTITUTE(INDIRECT(\"Trello!\"&ADDRESS(ROW()-1, F$1, 4)),\"MXN: \",\"\"),\" MX$\",\"\"),\".\",\"\")*1),\"\"),E435*F$2)","v":""},{"$f":"IFERROR(IF($A435=\"\",\"\",SUBSTITUTE(SUBSTITUTE(SUBSTITUTE(INDIRECT(\"Trello!\"&ADDRESS(ROW()-1, G$1, 4)),\"Debt: \",\"\"),\" $\",\"\"),\".\",\"\")*1)*IF(E435=\"\",1,F$2),\"\")","v":""},{"$f":"IFERROR(IF($A435=\"\",\"\",SUBSTITUTE(SUBSTITUTE(SUBSTITUTE(INDIRECT(\"Trello!\"&ADDRESS(ROW()-1, H$1, 4)),\"Cost: \",\"\"),\" $\",\"\"),\".\",\"\")*1*$F$2),\"\")","v":""},"",{"$f":"IFERROR(SUBSTITUTE(SUBSTITUTE(SUBSTITUTE(RIGHT(INDIRECT(\"Trello!\"&ADDRESS(ROW()-1, L$1, 4)),LEN(INDIRECT(\"Trello!\"&ADDRESS(ROW()-1, L$1, 4)))-15),\". \",\"/\"),\" 20\",\"/20\"),\" \",\"\"),\"\")","v":""},{"$f":"IFERROR(SUBSTITUTE(SUBSTITUTE(SUBSTITUTE(RIGHT(INDIRECT(\"Trello!\"&ADDRESS(ROW()-1, M$1, 4)),LEN(INDIRECT(\"Trello!\"&ADDRESS(ROW()-1, M$1, 4)))-15),\". \",\"/\"),\" 20\",\"/20\"),\" \",\"\"),\"\")","v":""},"","","",{"$f":"IFERROR(SUBSTITUTE(INDIRECT(\"Trello!\"&ADDRESS(ROW()-1, O$1, 4)),\"Estimate hrs: \",\"\")*1,\"\")","v":""},{"$f":"IF(SUMIF(Timecamp!C:C,Reporte!A435,Timecamp!J:J)=0,\"\",SUMIF(Timecamp!C:C,Reporte!A435,Timecamp!J:J))","v":""},"","",{"$f":"IFERROR(VLOOKUP(A435,'SLA Trab'!E:I,5,FALSE),\"\")","v":""},{"$f":"IFERROR(VLOOKUP(A435,'SLA Cobr'!E:I,5,FALSE),\"\")","v":""}]
[{"$f":"IFERROR(IF(Trello!E435=\"\",\"\",Trello!E435),\" \")","v":""},{"$f":"IF($A436=\"\",\"\",IF(Trello!A435=\"\",B435,Trello!A435))","v":""},"",{"$f":"IF($A436=\"\",\"\",SUBSTITUTE(SUBSTITUTE(Trello!J435,\" days\",\"\"),\"⌚ \",\"\")*1)","v":""},{"$f":"IFERROR(IF($A436=\"\",\"\",SUBSTITUTE(SUBSTITUTE(SUBSTITUTE(INDIRECT(\"Trello!\"&ADDRESS(ROW()-1, E$1, 4)),\"Foreign: \",\"\"),\" $\",\"\"),\".\",\"\")*1),\"\")","v":""},{"$f":"IF($E436=\"\",IFERROR(IF($A436=\"\",\"\",SUBSTITUTE(SUBSTITUTE(SUBSTITUTE(INDIRECT(\"Trello!\"&ADDRESS(ROW()-1, F$1, 4)),\"MXN: \",\"\"),\" MX$\",\"\"),\".\",\"\")*1),\"\"),E436*F$2)","v":""},{"$f":"IFERROR(IF($A436=\"\",\"\",SUBSTITUTE(SUBSTITUTE(SUBSTITUTE(INDIRECT(\"Trello!\"&ADDRESS(ROW()-1, G$1, 4)),\"Debt: \",\"\"),\" $\",\"\"),\".\",\"\")*1)*IF(E436=\"\",1,F$2),\"\")","v":""},{"$f":"IFERROR(IF($A436=\"\",\"\",SUBSTITUTE(SUBSTITUTE(SUBSTITUTE(INDIRECT(\"Trello!\"&ADDRESS(ROW()-1, H$1, 4)),\"Cost: \",\"\"),\" $\",\"\"),\".\",\"\")*1*$F$2),\"\")","v":""},"",{"$f":"IFERROR(SUBSTITUTE(SUBSTITUTE(SUBSTITUTE(RIGHT(INDIRECT(\"Trello!\"&ADDRESS(ROW()-1, L$1, 4)),LEN(INDIRECT(\"Trello!\"&ADDRESS(ROW()-1, L$1, 4)))-15),\". \",\"/\"),\" 20\",\"/20\"),\" \",\"\"),\"\")","v":""},{"$f":"IFERROR(SUBSTITUTE(SUBSTITUTE(SUBSTITUTE(RIGHT(INDIRECT(\"Trello!\"&ADDRESS(ROW()-1, M$1, 4)),LEN(INDIRECT(\"Trello!\"&ADDRESS(ROW()-1, M$1, 4)))-15),\". \",\"/\"),\" 20\",\"/20\"),\" \",\"\"),\"\")","v":""},"","","",{"$f":"IFERROR(SUBSTITUTE(INDIRECT(\"Trello!\"&ADDRESS(ROW()-1, O$1, 4)),\"Estimate hrs: \",\"\")*1,\"\")","v":""},{"$f":"IF(SUMIF(Timecamp!C:C,Reporte!A436,Timecamp!J:J)=0,\"\",SUMIF(Timecamp!C:C,Reporte!A436,Timecamp!J:J))","v":""},"","",{"$f":"IFERROR(VLOOKUP(A436,'SLA Trab'!E:I,5,FALSE),\"\")","v":""},{"$f":"IFERROR(VLOOKUP(A436,'SLA Cobr'!E:I,5,FALSE),\"\")","v":""}]
[{"$f":"IFERROR(IF(Trello!E436=\"\",\"\",Trello!E436),\" \")","v":""},{"$f":"IF($A437=\"\",\"\",IF(Trello!A436=\"\",B436,Trello!A436))","v":""},"",{"$f":"IF($A437=\"\",\"\",SUBSTITUTE(SUBSTITUTE(Trello!J436,\" days\",\"\"),\"⌚ \",\"\")*1)","v":""},{"$f":"IFERROR(IF($A437=\"\",\"\",SUBSTITUTE(SUBSTITUTE(SUBSTITUTE(INDIRECT(\"Trello!\"&ADDRESS(ROW()-1, E$1, 4)),\"Foreign: \",\"\"),\" $\",\"\"),\".\",\"\")*1),\"\")","v":""},{"$f":"IF($E437=\"\",IFERROR(IF($A437=\"\",\"\",SUBSTITUTE(SUBSTITUTE(SUBSTITUTE(INDIRECT(\"Trello!\"&ADDRESS(ROW()-1, F$1, 4)),\"MXN: \",\"\"),\" MX$\",\"\"),\".\",\"\")*1),\"\"),E437*F$2)","v":""},{"$f":"IFERROR(IF($A437=\"\",\"\",SUBSTITUTE(SUBSTITUTE(SUBSTITUTE(INDIRECT(\"Trello!\"&ADDRESS(ROW()-1, G$1, 4)),\"Debt: \",\"\"),\" $\",\"\"),\".\",\"\")*1)*IF(E437=\"\",1,F$2),\"\")","v":""},{"$f":"IFERROR(IF($A437=\"\",\"\",SUBSTITUTE(SUBSTITUTE(SUBSTITUTE(INDIRECT(\"Trello!\"&ADDRESS(ROW()-1, H$1, 4)),\"Cost: \",\"\"),\" $\",\"\"),\".\",\"\")*1*$F$2),\"\")","v":""},"",{"$f":"IFERROR(SUBSTITUTE(SUBSTITUTE(SUBSTITUTE(RIGHT(INDIRECT(\"Trello!\"&ADDRESS(ROW()-1, L$1, 4)),LEN(INDIRECT(\"Trello!\"&ADDRESS(ROW()-1, L$1, 4)))-15),\". \",\"/\"),\" 20\",\"/20\"),\" \",\"\"),\"\")","v":""},{"$f":"IFERROR(SUBSTITUTE(SUBSTITUTE(SUBSTITUTE(RIGHT(INDIRECT(\"Trello!\"&ADDRESS(ROW()-1, M$1, 4)),LEN(INDIRECT(\"Trello!\"&ADDRESS(ROW()-1, M$1, 4)))-15),\". \",\"/\"),\" 20\",\"/20\"),\" \",\"\"),\"\")","v":""},"","","",{"$f":"IFERROR(SUBSTITUTE(INDIRECT(\"Trello!\"&ADDRESS(ROW()-1, O$1, 4)),\"Estimate hrs: \",\"\")*1,\"\")","v":""},{"$f":"IF(SUMIF(Timecamp!C:C,Reporte!A437,Timecamp!J:J)=0,\"\",SUMIF(Timecamp!C:C,Reporte!A437,Timecamp!J:J))","v":""},"","",{"$f":"IFERROR(VLOOKUP(A437,'SLA Trab'!E:I,5,FALSE),\"\")","v":""},{"$f":"IFERROR(VLOOKUP(A437,'SLA Cobr'!E:I,5,FALSE),\"\")","v":""}]
[{"$f":"IFERROR(IF(Trello!E437=\"\",\"\",Trello!E437),\" \")","v":""},{"$f":"IF($A438=\"\",\"\",IF(Trello!A437=\"\",B437,Trello!A437))","v":""},"",{"$f":"IF($A438=\"\",\"\",SUBSTITUTE(SUBSTITUTE(Trello!J437,\" days\",\"\"),\"⌚ \",\"\")*1)","v":""},{"$f":"IFERROR(IF($A438=\"\",\"\",SUBSTITUTE(SUBSTITUTE(SUBSTITUTE(INDIRECT(\"Trello!\"&ADDRESS(ROW()-1, E$1, 4)),\"Foreign: \",\"\"),\" $\",\"\"),\".\",\"\")*1),\"\")","v":""},{"$f":"IF($E438=\"\",IFERROR(IF($A438=\"\",\"\",SUBSTITUTE(SUBSTITUTE(SUBSTITUTE(INDIRECT(\"Trello!\"&ADDRESS(ROW()-1, F$1, 4)),\"MXN: \",\"\"),\" MX$\",\"\"),\".\",\"\")*1),\"\"),E438*F$2)","v":""},{"$f":"IFERROR(IF($A438=\"\",\"\",SUBSTITUTE(SUBSTITUTE(SUBSTITUTE(INDIRECT(\"Trello!\"&ADDRESS(ROW()-1, G$1, 4)),\"Debt: \",\"\"),\" $\",\"\"),\".\",\"\")*1)*IF(E438=\"\",1,F$2),\"\")","v":""},{"$f":"IFERROR(IF($A438=\"\",\"\",SUBSTITUTE(SUBSTITUTE(SUBSTITUTE(INDIRECT(\"Trello!\"&ADDRESS(ROW()-1, H$1, 4)),\"Cost: \",\"\"),\" $\",\"\"),\".\",\"\")*1*$F$2),\"\")","v":""},"",{"$f":"IFERROR(SUBSTITUTE(SUBSTITUTE(SUBSTITUTE(RIGHT(INDIRECT(\"Trello!\"&ADDRESS(ROW()-1, L$1, 4)),LEN(INDIRECT(\"Trello!\"&ADDRESS(ROW()-1, L$1, 4)))-15),\". \",\"/\"),\" 20\",\"/20\"),\" \",\"\"),\"\")","v":""},{"$f":"IFERROR(SUBSTITUTE(SUBSTITUTE(SUBSTITUTE(RIGHT(INDIRECT(\"Trello!\"&ADDRESS(ROW()-1, M$1, 4)),LEN(INDIRECT(\"Trello!\"&ADDRESS(ROW()-1, M$1, 4)))-15),\". \",\"/\"),\" 20\",\"/20\"),\" \",\"\"),\"\")","v":""},"","","",{"$f":"IFERROR(SUBSTITUTE(INDIRECT(\"Trello!\"&ADDRESS(ROW()-1, O$1, 4)),\"Estimate hrs: \",\"\")*1,\"\")","v":""},{"$f":"IF(SUMIF(Timecamp!C:C,Reporte!A438,Timecamp!J:J)=0,\"\",SUMIF(Timecamp!C:C,Reporte!A438,Timecamp!J:J))","v":""},"","",{"$f":"IFERROR(VLOOKUP(A438,'SLA Trab'!E:I,5,FALSE),\"\")","v":""},{"$f":"IFERROR(VLOOKUP(A438,'SLA Cobr'!E:I,5,FALSE),\"\")","v":""}]
[{"$f":"IFERROR(IF(Trello!E438=\"\",\"\",Trello!E438),\" \")","v":""},{"$f":"IF($A439=\"\",\"\",IF(Trello!A438=\"\",B438,Trello!A438))","v":""},"",{"$f":"IF($A439=\"\",\"\",SUBSTITUTE(SUBSTITUTE(Trello!J438,\" days\",\"\"),\"⌚ \",\"\")*1)","v":""},{"$f":"IFERROR(IF($A439=\"\",\"\",SUBSTITUTE(SUBSTITUTE(SUBSTITUTE(INDIRECT(\"Trello!\"&ADDRESS(ROW()-1, E$1, 4)),\"Foreign: \",\"\"),\" $\",\"\"),\".\",\"\")*1),\"\")","v":""},{"$f":"IF($E439=\"\",IFERROR(IF($A439=\"\",\"\",SUBSTITUTE(SUBSTITUTE(SUBSTITUTE(INDIRECT(\"Trello!\"&ADDRESS(ROW()-1, F$1, 4)),\"MXN: \",\"\"),\" MX$\",\"\"),\".\",\"\")*1),\"\"),E439*F$2)","v":""},{"$f":"IFERROR(IF($A439=\"\",\"\",SUBSTITUTE(SUBSTITUTE(SUBSTITUTE(INDIRECT(\"Trello!\"&ADDRESS(ROW()-1, G$1, 4)),\"Debt: \",\"\"),\" $\",\"\"),\".\",\"\")*1)*IF(E439=\"\",1,F$2),\"\")","v":""},{"$f":"IFERROR(IF($A439=\"\",\"\",SUBSTITUTE(SUBSTITUTE(SUBSTITUTE(INDIRECT(\"Trello!\"&ADDRESS(ROW()-1, H$1, 4)),\"Cost: \",\"\"),\" $\",\"\"),\".\",\"\")*1*$F$2),\"\")","v":""},"",{"$f":"IFERROR(SUBSTITUTE(SUBSTITUTE(SUBSTITUTE(RIGHT(INDIRECT(\"Trello!\"&ADDRESS(ROW()-1, L$1, 4)),LEN(INDIRECT(\"Trello!\"&ADDRESS(ROW()-1, L$1, 4)))-15),\". \",\"/\"),\" 20\",\"/20\"),\" \",\"\"),\"\")","v":""},{"$f":"IFERROR(SUBSTITUTE(SUBSTITUTE(SUBSTITUTE(RIGHT(INDIRECT(\"Trello!\"&ADDRESS(ROW()-1, M$1, 4)),LEN(INDIRECT(\"Trello!\"&ADDRESS(ROW()-1, M$1, 4)))-15),\". \",\"/\"),\" 20\",\"/20\"),\" \",\"\"),\"\")","v":""},"","","",{"$f":"IFERROR(SUBSTITUTE(INDIRECT(\"Trello!\"&ADDRESS(ROW()-1, O$1, 4)),\"Estimate hrs: \",\"\")*1,\"\")","v":""},{"$f":"IF(SUMIF(Timecamp!C:C,Reporte!A439,Timecamp!J:J)=0,\"\",SUMIF(Timecamp!C:C,Reporte!A439,Timecamp!J:J))","v":""},"","",{"$f":"IFERROR(VLOOKUP(A439,'SLA Trab'!E:I,5,FALSE),\"\")","v":""},{"$f":"IFERROR(VLOOKUP(A439,'SLA Cobr'!E:I,5,FALSE),\"\")","v":""}]
[{"$f":"IFERROR(IF(Trello!E439=\"\",\"\",Trello!E439),\" \")","v":""},{"$f":"IF($A440=\"\",\"\",IF(Trello!A439=\"\",B439,Trello!A439))","v":""},"",{"$f":"IF($A440=\"\",\"\",SUBSTITUTE(SUBSTITUTE(Trello!J439,\" days\",\"\"),\"⌚ \",\"\")*1)","v":""},{"$f":"IFERROR(IF($A440=\"\",\"\",SUBSTITUTE(SUBSTITUTE(SUBSTITUTE(INDIRECT(\"Trello!\"&ADDRESS(ROW()-1, E$1, 4)),\"Foreign: \",\"\"),\" $\",\"\"),\".\",\"\")*1),\"\")","v":""},{"$f":"IF($E440=\"\",IFERROR(IF($A440=\"\",\"\",SUBSTITUTE(SUBSTITUTE(SUBSTITUTE(INDIRECT(\"Trello!\"&ADDRESS(ROW()-1, F$1, 4)),\"MXN: \",\"\"),\" MX$\",\"\"),\".\",\"\")*1),\"\"),E440*F$2)","v":""},{"$f":"IFERROR(IF($A440=\"\",\"\",SUBSTITUTE(SUBSTITUTE(SUBSTITUTE(INDIRECT(\"Trello!\"&ADDRESS(ROW()-1, G$1, 4)),\"Debt: \",\"\"),\" $\",\"\"),\".\",\"\")*1)*IF(E440=\"\",1,F$2),\"\")","v":""},{"$f":"IFERROR(IF($A440=\"\",\"\",SUBSTITUTE(SUBSTITUTE(SUBSTITUTE(INDIRECT(\"Trello!\"&ADDRESS(ROW()-1, H$1, 4)),\"Cost: \",\"\"),\" $\",\"\"),\".\",\"\")*1*$F$2),\"\")","v":""},"",{"$f":"IFERROR(SUBSTITUTE(SUBSTITUTE(SUBSTITUTE(RIGHT(INDIRECT(\"Trello!\"&ADDRESS(ROW()-1, L$1, 4)),LEN(INDIRECT(\"Trello!\"&ADDRESS(ROW()-1, L$1, 4)))-15),\". \",\"/\"),\" 20\",\"/20\"),\" \",\"\"),\"\")","v":""},{"$f":"IFERROR(SUBSTITUTE(SUBSTITUTE(SUBSTITUTE(RIGHT(INDIRECT(\"Trello!\"&ADDRESS(ROW()-1, M$1, 4)),LEN(INDIRECT(\"Trello!\"&ADDRESS(ROW()-1, M$1, 4)))-15),\". \",\"/\"),\" 20\",\"/20\"),\" \",\"\"),\"\")","v":""},"","","",{"$f":"IFERROR(SUBSTITUTE(INDIRECT(\"Trello!\"&ADDRESS(ROW()-1, O$1, 4)),\"Estimate hrs: \",\"\")*1,\"\")","v":""},{"$f":"IF(SUMIF(Timecamp!C:C,Reporte!A440,Timecamp!J:J)=0,\"\",SUMIF(Timecamp!C:C,Reporte!A440,Timecamp!J:J))","v":""},"","",{"$f":"IFERROR(VLOOKUP(A440,'SLA Trab'!E:I,5,FALSE),\"\")","v":""},{"$f":"IFERROR(VLOOKUP(A440,'SLA Cobr'!E:I,5,FALSE),\"\")","v":""}]
[{"$f":"IFERROR(IF(Trello!E440=\"\",\"\",Trello!E440),\" \")","v":""},{"$f":"IF($A441=\"\",\"\",IF(Trello!A440=\"\",B440,Trello!A440))","v":""},"",{"$f":"IF($A441=\"\",\"\",SUBSTITUTE(SUBSTITUTE(Trello!J440,\" days\",\"\"),\"⌚ \",\"\")*1)","v":""},{"$f":"IFERROR(IF($A441=\"\",\"\",SUBSTITUTE(SUBSTITUTE(SUBSTITUTE(INDIRECT(\"Trello!\"&ADDRESS(ROW()-1, E$1, 4)),\"Foreign: \",\"\"),\" $\",\"\"),\".\",\"\")*1),\"\")","v":""},{"$f":"IF($E441=\"\",IFERROR(IF($A441=\"\",\"\",SUBSTITUTE(SUBSTITUTE(SUBSTITUTE(INDIRECT(\"Trello!\"&ADDRESS(ROW()-1, F$1, 4)),\"MXN: \",\"\"),\" MX$\",\"\"),\".\",\"\")*1),\"\"),E441*F$2)","v":""},{"$f":"IFERROR(IF($A441=\"\",\"\",SUBSTITUTE(SUBSTITUTE(SUBSTITUTE(INDIRECT(\"Trello!\"&ADDRESS(ROW()-1, G$1, 4)),\"Debt: \",\"\"),\" $\",\"\"),\".\",\"\")*1)*IF(E441=\"\",1,F$2),\"\")","v":""},{"$f":"IFERROR(IF($A441=\"\",\"\",SUBSTITUTE(SUBSTITUTE(SUBSTITUTE(INDIRECT(\"Trello!\"&ADDRESS(ROW()-1, H$1, 4)),\"Cost: \",\"\"),\" $\",\"\"),\".\",\"\")*1*$F$2),\"\")","v":""},"",{"$f":"IFERROR(SUBSTITUTE(SUBSTITUTE(SUBSTITUTE(RIGHT(INDIRECT(\"Trello!\"&ADDRESS(ROW()-1, L$1, 4)),LEN(INDIRECT(\"Trello!\"&ADDRESS(ROW()-1, L$1, 4)))-15),\". \",\"/\"),\" 20\",\"/20\"),\" \",\"\"),\"\")","v":""},{"$f":"IFERROR(SUBSTITUTE(SUBSTITUTE(SUBSTITUTE(RIGHT(INDIRECT(\"Trello!\"&ADDRESS(ROW()-1, M$1, 4)),LEN(INDIRECT(\"Trello!\"&ADDRESS(ROW()-1, M$1, 4)))-15),\". \",\"/\"),\" 20\",\"/20\"),\" \",\"\"),\"\")","v":""},"","","",{"$f":"IFERROR(SUBSTITUTE(INDIRECT(\"Trello!\"&ADDRESS(ROW()-1, O$1, 4)),\"Estimate hrs: \",\"\")*1,\"\")","v":""},{"$f":"IF(SUMIF(Timecamp!C:C,Reporte!A441,Timecamp!J:J)=0,\"\",SUMIF(Timecamp!C:C,Reporte!A441,Timecamp!J:J))","v":""},"","",{"$f":"IFERROR(VLOOKUP(A441,'SLA Trab'!E:I,5,FALSE),\"\")","v":""},{"$f":"IFERROR(VLOOKUP(A441,'SLA Cobr'!E:I,5,FALSE),\"\")","v":""}]
[{"$f":"IFERROR(IF(Trello!E441=\"\",\"\",Trello!E441),\" \")","v":""},{"$f":"IF($A442=\"\",\"\",IF(Trello!A441=\"\",B441,Trello!A441))","v":""},"",{"$f":"IF($A442=\"\",\"\",SUBSTITUTE(SUBSTITUTE(Trello!J441,\" days\",\"\"),\"⌚ \",\"\")*1)","v":""},{"$f":"IFERROR(IF($A442=\"\",\"\",SUBSTITUTE(SUBSTITUTE(SUBSTITUTE(INDIRECT(\"Trello!\"&ADDRESS(ROW()-1, E$1, 4)),\"Foreign: \",\"\"),\" $\",\"\"),\".\",\"\")*1),\"\")","v":""},{"$f":"IF($E442=\"\",IFERROR(IF($A442=\"\",\"\",SUBSTITUTE(SUBSTITUTE(SUBSTITUTE(INDIRECT(\"Trello!\"&ADDRESS(ROW()-1, F$1, 4)),\"MXN: \",\"\"),\" MX$\",\"\"),\".\",\"\")*1),\"\"),E442*F$2)","v":""},{"$f":"IFERROR(IF($A442=\"\",\"\",SUBSTITUTE(SUBSTITUTE(SUBSTITUTE(INDIRECT(\"Trello!\"&ADDRESS(ROW()-1, G$1, 4)),\"Debt: \",\"\"),\" $\",\"\"),\".\",\"\")*1)*IF(E442=\"\",1,F$2),\"\")","v":""},{"$f":"IFERROR(IF($A442=\"\",\"\",SUBSTITUTE(SUBSTITUTE(SUBSTITUTE(INDIRECT(\"Trello!\"&ADDRESS(ROW()-1, H$1, 4)),\"Cost: \",\"\"),\" $\",\"\"),\".\",\"\")*1*$F$2),\"\")","v":""},"",{"$f":"IFERROR(SUBSTITUTE(SUBSTITUTE(SUBSTITUTE(RIGHT(INDIRECT(\"Trello!\"&ADDRESS(ROW()-1, L$1, 4)),LEN(INDIRECT(\"Trello!\"&ADDRESS(ROW()-1, L$1, 4)))-15),\". \",\"/\"),\" 20\",\"/20\"),\" \",\"\"),\"\")","v":""},{"$f":"IFERROR(SUBSTITUTE(SUBSTITUTE(SUBSTITUTE(RIGHT(INDIRECT(\"Trello!\"&ADDRESS(ROW()-1, M$1, 4)),LEN(INDIRECT(\"Trello!\"&ADDRESS(ROW()-1, M$1, 4)))-15),\". \",\"/\"),\" 20\",\"/20\"),\" \",\"\"),\"\")","v":""},"","","",{"$f":"IFERROR(SUBSTITUTE(INDIRECT(\"Trello!\"&ADDRESS(ROW()-1, O$1, 4)),\"Estimate hrs: \",\"\")*1,\"\")","v":""},{"$f":"IF(SUMIF(Timecamp!C:C,Reporte!A442,Timecamp!J:J)=0,\"\",SUMIF(Timecamp!C:C,Reporte!A442,Timecamp!J:J))","v":""},"","",{"$f":"IFERROR(VLOOKUP(A442,'SLA Trab'!E:I,5,FALSE),\"\")","v":""},{"$f":"IFERROR(VLOOKUP(A442,'SLA Cobr'!E:I,5,FALSE),\"\")","v":""}]
[{"$f":"IFERROR(IF(Trello!E442=\"\",\"\",Trello!E442),\" \")","v":""},{"$f":"IF($A443=\"\",\"\",IF(Trello!A442=\"\",B442,Trello!A442))","v":""},"",{"$f":"IF($A443=\"\",\"\",SUBSTITUTE(SUBSTITUTE(Trello!J442,\" days\",\"\"),\"⌚ \",\"\")*1)","v":""},{"$f":"IFERROR(IF($A443=\"\",\"\",SUBSTITUTE(SUBSTITUTE(SUBSTITUTE(INDIRECT(\"Trello!\"&ADDRESS(ROW()-1, E$1, 4)),\"Foreign: \",\"\"),\" $\",\"\"),\".\",\"\")*1),\"\")","v":""},{"$f":"IF($E443=\"\",IFERROR(IF($A443=\"\",\"\",SUBSTITUTE(SUBSTITUTE(SUBSTITUTE(INDIRECT(\"Trello!\"&ADDRESS(ROW()-1, F$1, 4)),\"MXN: \",\"\"),\" MX$\",\"\"),\".\",\"\")*1),\"\"),E443*F$2)","v":""},{"$f":"IFERROR(IF($A443=\"\",\"\",SUBSTITUTE(SUBSTITUTE(SUBSTITUTE(INDIRECT(\"Trello!\"&ADDRESS(ROW()-1, G$1, 4)),\"Debt: \",\"\"),\" $\",\"\"),\".\",\"\")*1)*IF(E443=\"\",1,F$2),\"\")","v":""},{"$f":"IFERROR(IF($A443=\"\",\"\",SUBSTITUTE(SUBSTITUTE(SUBSTITUTE(INDIRECT(\"Trello!\"&ADDRESS(ROW()-1, H$1, 4)),\"Cost: \",\"\"),\" $\",\"\"),\".\",\"\")*1*$F$2),\"\")","v":""},"",{"$f":"IFERROR(SUBSTITUTE(SUBSTITUTE(SUBSTITUTE(RIGHT(INDIRECT(\"Trello!\"&ADDRESS(ROW()-1, L$1, 4)),LEN(INDIRECT(\"Trello!\"&ADDRESS(ROW()-1, L$1, 4)))-15),\". \",\"/\"),\" 20\",\"/20\"),\" \",\"\"),\"\")","v":""},{"$f":"IFERROR(SUBSTITUTE(SUBSTITUTE(SUBSTITUTE(RIGHT(INDIRECT(\"Trello!\"&ADDRESS(ROW()-1, M$1, 4)),LEN(INDIRECT(\"Trello!\"&ADDRESS(ROW()-1, M$1, 4)))-15),\". \",\"/\"),\" 20\",\"/20\"),\" \",\"\"),\"\")","v":""},"","","",{"$f":"IFERROR(SUBSTITUTE(INDIRECT(\"Trello!\"&ADDRESS(ROW()-1, O$1, 4)),\"Estimate hrs: \",\"\")*1,\"\")","v":""},{"$f":"IF(SUMIF(Timecamp!C:C,Reporte!A443,Timecamp!J:J)=0,\"\",SUMIF(Timecamp!C:C,Reporte!A443,Timecamp!J:J))","v":""},"","",{"$f":"IFERROR(VLOOKUP(A443,'SLA Trab'!E:I,5,FALSE),\"\")","v":""},{"$f":"IFERROR(VLOOKUP(A443,'SLA Cobr'!E:I,5,FALSE),\"\")","v":""}]
[{"$f":"IFERROR(IF(Trello!E443=\"\",\"\",Trello!E443),\" \")","v":""},{"$f":"IF($A444=\"\",\"\",IF(Trello!A443=\"\",B443,Trello!A443))","v":""},"",{"$f":"IF($A444=\"\",\"\",SUBSTITUTE(SUBSTITUTE(Trello!J443,\" days\",\"\"),\"⌚ \",\"\")*1)","v":""},{"$f":"IFERROR(IF($A444=\"\",\"\",SUBSTITUTE(SUBSTITUTE(SUBSTITUTE(INDIRECT(\"Trello!\"&ADDRESS(ROW()-1, E$1, 4)),\"Foreign: \",\"\"),\" $\",\"\"),\".\",\"\")*1),\"\")","v":""},{"$f":"IF($E444=\"\",IFERROR(IF($A444=\"\",\"\",SUBSTITUTE(SUBSTITUTE(SUBSTITUTE(INDIRECT(\"Trello!\"&ADDRESS(ROW()-1, F$1, 4)),\"MXN: \",\"\"),\" MX$\",\"\"),\".\",\"\")*1),\"\"),E444*F$2)","v":""},{"$f":"IFERROR(IF($A444=\"\",\"\",SUBSTITUTE(SUBSTITUTE(SUBSTITUTE(INDIRECT(\"Trello!\"&ADDRESS(ROW()-1, G$1, 4)),\"Debt: \",\"\"),\" $\",\"\"),\".\",\"\")*1)*IF(E444=\"\",1,F$2),\"\")","v":""},{"$f":"IFERROR(IF($A444=\"\",\"\",SUBSTITUTE(SUBSTITUTE(SUBSTITUTE(INDIRECT(\"Trello!\"&ADDRESS(ROW()-1, H$1, 4)),\"Cost: \",\"\"),\" $\",\"\"),\".\",\"\")*1*$F$2),\"\")","v":""},"",{"$f":"IFERROR(SUBSTITUTE(SUBSTITUTE(SUBSTITUTE(RIGHT(INDIRECT(\"Trello!\"&ADDRESS(ROW()-1, L$1, 4)),LEN(INDIRECT(\"Trello!\"&ADDRESS(ROW()-1, L$1, 4)))-15),\". \",\"/\"),\" 20\",\"/20\"),\" \",\"\"),\"\")","v":""},{"$f":"IFERROR(SUBSTITUTE(SUBSTITUTE(SUBSTITUTE(RIGHT(INDIRECT(\"Trello!\"&ADDRESS(ROW()-1, M$1, 4)),LEN(INDIRECT(\"Trello!\"&ADDRESS(ROW()-1, M$1, 4)))-15),\". \",\"/\"),\" 20\",\"/20\"),\" \",\"\"),\"\")","v":""},"","","",{"$f":"IFERROR(SUBSTITUTE(INDIRECT(\"Trello!\"&ADDRESS(ROW()-1, O$1, 4)),\"Estimate hrs: \",\"\")*1,\"\")","v":""},{"$f":"IF(SUMIF(Timecamp!C:C,Reporte!A444,Timecamp!J:J)=0,\"\",SUMIF(Timecamp!C:C,Reporte!A444,Timecamp!J:J))","v":""},"","",{"$f":"IFERROR(VLOOKUP(A444,'SLA Trab'!E:I,5,FALSE),\"\")","v":""},{"$f":"IFERROR(VLOOKUP(A444,'SLA Cobr'!E:I,5,FALSE),\"\")","v":""}]
[{"$f":"IFERROR(IF(Trello!E444=\"\",\"\",Trello!E444),\" \")","v":""},{"$f":"IF($A445=\"\",\"\",IF(Trello!A444=\"\",B444,Trello!A444))","v":""},"",{"$f":"IF($A445=\"\",\"\",SUBSTITUTE(SUBSTITUTE(Trello!J444,\" days\",\"\"),\"⌚ \",\"\")*1)","v":""},{"$f":"IFERROR(IF($A445=\"\",\"\",SUBSTITUTE(SUBSTITUTE(SUBSTITUTE(INDIRECT(\"Trello!\"&ADDRESS(ROW()-1, E$1, 4)),\"Foreign: \",\"\"),\" $\",\"\"),\".\",\"\")*1),\"\")","v":""},{"$f":"IF($E445=\"\",IFERROR(IF($A445=\"\",\"\",SUBSTITUTE(SUBSTITUTE(SUBSTITUTE(INDIRECT(\"Trello!\"&ADDRESS(ROW()-1, F$1, 4)),\"MXN: \",\"\"),\" MX$\",\"\"),\".\",\"\")*1),\"\"),E445*F$2)","v":""},{"$f":"IFERROR(IF($A445=\"\",\"\",SUBSTITUTE(SUBSTITUTE(SUBSTITUTE(INDIRECT(\"Trello!\"&ADDRESS(ROW()-1, G$1, 4)),\"Debt: \",\"\"),\" $\",\"\"),\".\",\"\")*1)*IF(E445=\"\",1,F$2),\"\")","v":""},{"$f":"IFERROR(IF($A445=\"\",\"\",SUBSTITUTE(SUBSTITUTE(SUBSTITUTE(INDIRECT(\"Trello!\"&ADDRESS(ROW()-1, H$1, 4)),\"Cost: \",\"\"),\" $\",\"\"),\".\",\"\")*1*$F$2),\"\")","v":""},"",{"$f":"IFERROR(SUBSTITUTE(SUBSTITUTE(SUBSTITUTE(RIGHT(INDIRECT(\"Trello!\"&ADDRESS(ROW()-1, L$1, 4)),LEN(INDIRECT(\"Trello!\"&ADDRESS(ROW()-1, L$1, 4)))-15),\". \",\"/\"),\" 20\",\"/20\"),\" \",\"\"),\"\")","v":""},{"$f":"IFERROR(SUBSTITUTE(SUBSTITUTE(SUBSTITUTE(RIGHT(INDIRECT(\"Trello!\"&ADDRESS(ROW()-1, M$1, 4)),LEN(INDIRECT(\"Trello!\"&ADDRESS(ROW()-1, M$1, 4)))-15),\". \",\"/\"),\" 20\",\"/20\"),\" \",\"\"),\"\")","v":""},"","","",{"$f":"IFERROR(SUBSTITUTE(INDIRECT(\"Trello!\"&ADDRESS(ROW()-1, O$1, 4)),\"Estimate hrs: \",\"\")*1,\"\")","v":""},{"$f":"IF(SUMIF(Timecamp!C:C,Reporte!A445,Timecamp!J:J)=0,\"\",SUMIF(Timecamp!C:C,Reporte!A445,Timecamp!J:J))","v":""},"","",{"$f":"IFERROR(VLOOKUP(A445,'SLA Trab'!E:I,5,FALSE),\"\")","v":""},{"$f":"IFERROR(VLOOKUP(A445,'SLA Cobr'!E:I,5,FALSE),\"\")","v":""}]
[{"$f":"IFERROR(IF(Trello!E445=\"\",\"\",Trello!E445),\" \")","v":""},{"$f":"IF($A446=\"\",\"\",IF(Trello!A445=\"\",B445,Trello!A445))","v":""},"",{"$f":"IF($A446=\"\",\"\",SUBSTITUTE(SUBSTITUTE(Trello!J445,\" days\",\"\"),\"⌚ \",\"\")*1)","v":""},{"$f":"IFERROR(IF($A446=\"\",\"\",SUBSTITUTE(SUBSTITUTE(SUBSTITUTE(INDIRECT(\"Trello!\"&ADDRESS(ROW()-1, E$1, 4)),\"Foreign: \",\"\"),\" $\",\"\"),\".\",\"\")*1),\"\")","v":""},{"$f":"IF($E446=\"\",IFERROR(IF($A446=\"\",\"\",SUBSTITUTE(SUBSTITUTE(SUBSTITUTE(INDIRECT(\"Trello!\"&ADDRESS(ROW()-1, F$1, 4)),\"MXN: \",\"\"),\" MX$\",\"\"),\".\",\"\")*1),\"\"),E446*F$2)","v":""},{"$f":"IFERROR(IF($A446=\"\",\"\",SUBSTITUTE(SUBSTITUTE(SUBSTITUTE(INDIRECT(\"Trello!\"&ADDRESS(ROW()-1, G$1, 4)),\"Debt: \",\"\"),\" $\",\"\"),\".\",\"\")*1)*IF(E446=\"\",1,F$2),\"\")","v":""},{"$f":"IFERROR(IF($A446=\"\",\"\",SUBSTITUTE(SUBSTITUTE(SUBSTITUTE(INDIRECT(\"Trello!\"&ADDRESS(ROW()-1, H$1, 4)),\"Cost: \",\"\"),\" $\",\"\"),\".\",\"\")*1*$F$2),\"\")","v":""},"",{"$f":"IFERROR(SUBSTITUTE(SUBSTITUTE(SUBSTITUTE(RIGHT(INDIRECT(\"Trello!\"&ADDRESS(ROW()-1, L$1, 4)),LEN(INDIRECT(\"Trello!\"&ADDRESS(ROW()-1, L$1, 4)))-15),\". \",\"/\"),\" 20\",\"/20\"),\" \",\"\"),\"\")","v":""},{"$f":"IFERROR(SUBSTITUTE(SUBSTITUTE(SUBSTITUTE(RIGHT(INDIRECT(\"Trello!\"&ADDRESS(ROW()-1, M$1, 4)),LEN(INDIRECT(\"Trello!\"&ADDRESS(ROW()-1, M$1, 4)))-15),\". \",\"/\"),\" 20\",\"/20\"),\" \",\"\"),\"\")","v":""},"","","",{"$f":"IFERROR(SUBSTITUTE(INDIRECT(\"Trello!\"&ADDRESS(ROW()-1, O$1, 4)),\"Estimate hrs: \",\"\")*1,\"\")","v":""},{"$f":"IF(SUMIF(Timecamp!C:C,Reporte!A446,Timecamp!J:J)=0,\"\",SUMIF(Timecamp!C:C,Reporte!A446,Timecamp!J:J))","v":""},"","",{"$f":"IFERROR(VLOOKUP(A446,'SLA Trab'!E:I,5,FALSE),\"\")","v":""},{"$f":"IFERROR(VLOOKUP(A446,'SLA Cobr'!E:I,5,FALSE),\"\")","v":""}]
[{"$f":"IFERROR(IF(Trello!E446=\"\",\"\",Trello!E446),\" \")","v":""},{"$f":"IF($A447=\"\",\"\",IF(Trello!A446=\"\",B446,Trello!A446))","v":""},"",{"$f":"IF($A447=\"\",\"\",SUBSTITUTE(SUBSTITUTE(Trello!J446,\" days\",\"\"),\"⌚ \",\"\")*1)","v":""},{"$f":"IFERROR(IF($A447=\"\",\"\",SUBSTITUTE(SUBSTITUTE(SUBSTITUTE(INDIRECT(\"Trello!\"&ADDRESS(ROW()-1, E$1, 4)),\"Foreign: \",\"\"),\" $\",\"\"),\".\",\"\")*1),\"\")","v":""},{"$f":"IF($E447=\"\",IFERROR(IF($A447=\"\",\"\",SUBSTITUTE(SUBSTITUTE(SUBSTITUTE(INDIRECT(\"Trello!\"&ADDRESS(ROW()-1, F$1, 4)),\"MXN: \",\"\"),\" MX$\",\"\"),\".\",\"\")*1),\"\"),E447*F$2)","v":""},{"$f":"IFERROR(IF($A447=\"\",\"\",SUBSTITUTE(SUBSTITUTE(SUBSTITUTE(INDIRECT(\"Trello!\"&ADDRESS(ROW()-1, G$1, 4)),\"Debt: \",\"\"),\" $\",\"\"),\".\",\"\")*1)*IF(E447=\"\",1,F$2),\"\")","v":""},{"$f":"IFERROR(IF($A447=\"\",\"\",SUBSTITUTE(SUBSTITUTE(SUBSTITUTE(INDIRECT(\"Trello!\"&ADDRESS(ROW()-1, H$1, 4)),\"Cost: \",\"\"),\" $\",\"\"),\".\",\"\")*1*$F$2),\"\")","v":""},"",{"$f":"IFERROR(SUBSTITUTE(SUBSTITUTE(SUBSTITUTE(RIGHT(INDIRECT(\"Trello!\"&ADDRESS(ROW()-1, L$1, 4)),LEN(INDIRECT(\"Trello!\"&ADDRESS(ROW()-1, L$1, 4)))-15),\". \",\"/\"),\" 20\",\"/20\"),\" \",\"\"),\"\")","v":""},{"$f":"IFERROR(SUBSTITUTE(SUBSTITUTE(SUBSTITUTE(RIGHT(INDIRECT(\"Trello!\"&ADDRESS(ROW()-1, M$1, 4)),LEN(INDIRECT(\"Trello!\"&ADDRESS(ROW()-1, M$1, 4)))-15),\". \",\"/\"),\" 20\",\"/20\"),\" \",\"\"),\"\")","v":""},"","","",{"$f":"IFERROR(SUBSTITUTE(INDIRECT(\"Trello!\"&ADDRESS(ROW()-1, O$1, 4)),\"Estimate hrs: \",\"\")*1,\"\")","v":""},{"$f":"IF(SUMIF(Timecamp!C:C,Reporte!A447,Timecamp!J:J)=0,\"\",SUMIF(Timecamp!C:C,Reporte!A447,Timecamp!J:J))","v":""},"","",{"$f":"IFERROR(VLOOKUP(A447,'SLA Trab'!E:I,5,FALSE),\"\")","v":""},{"$f":"IFERROR(VLOOKUP(A447,'SLA Cobr'!E:I,5,FALSE),\"\")","v":""}]
[{"$f":"IFERROR(IF(Trello!E447=\"\",\"\",Trello!E447),\" \")","v":""},{"$f":"IF($A448=\"\",\"\",IF(Trello!A447=\"\",B447,Trello!A447))","v":""},"",{"$f":"IF($A448=\"\",\"\",SUBSTITUTE(SUBSTITUTE(Trello!J447,\" days\",\"\"),\"⌚ \",\"\")*1)","v":""},{"$f":"IFERROR(IF($A448=\"\",\"\",SUBSTITUTE(SUBSTITUTE(SUBSTITUTE(INDIRECT(\"Trello!\"&ADDRESS(ROW()-1, E$1, 4)),\"Foreign: \",\"\"),\" $\",\"\"),\".\",\"\")*1),\"\")","v":""},{"$f":"IF($E448=\"\",IFERROR(IF($A448=\"\",\"\",SUBSTITUTE(SUBSTITUTE(SUBSTITUTE(INDIRECT(\"Trello!\"&ADDRESS(ROW()-1, F$1, 4)),\"MXN: \",\"\"),\" MX$\",\"\"),\".\",\"\")*1),\"\"),E448*F$2)","v":""},{"$f":"IFERROR(IF($A448=\"\",\"\",SUBSTITUTE(SUBSTITUTE(SUBSTITUTE(INDIRECT(\"Trello!\"&ADDRESS(ROW()-1, G$1, 4)),\"Debt: \",\"\"),\" $\",\"\"),\".\",\"\")*1)*IF(E448=\"\",1,F$2),\"\")","v":""},{"$f":"IFERROR(IF($A448=\"\",\"\",SUBSTITUTE(SUBSTITUTE(SUBSTITUTE(INDIRECT(\"Trello!\"&ADDRESS(ROW()-1, H$1, 4)),\"Cost: \",\"\"),\" $\",\"\"),\".\",\"\")*1*$F$2),\"\")","v":""},"",{"$f":"IFERROR(SUBSTITUTE(SUBSTITUTE(SUBSTITUTE(RIGHT(INDIRECT(\"Trello!\"&ADDRESS(ROW()-1, L$1, 4)),LEN(INDIRECT(\"Trello!\"&ADDRESS(ROW()-1, L$1, 4)))-15),\". \",\"/\"),\" 20\",\"/20\"),\" \",\"\"),\"\")","v":""},{"$f":"IFERROR(SUBSTITUTE(SUBSTITUTE(SUBSTITUTE(RIGHT(INDIRECT(\"Trello!\"&ADDRESS(ROW()-1, M$1, 4)),LEN(INDIRECT(\"Trello!\"&ADDRESS(ROW()-1, M$1, 4)))-15),\". \",\"/\"),\" 20\",\"/20\"),\" \",\"\"),\"\")","v":""},"","","",{"$f":"IFERROR(SUBSTITUTE(INDIRECT(\"Trello!\"&ADDRESS(ROW()-1, O$1, 4)),\"Estimate hrs: \",\"\")*1,\"\")","v":""},{"$f":"IF(SUMIF(Timecamp!C:C,Reporte!A448,Timecamp!J:J)=0,\"\",SUMIF(Timecamp!C:C,Reporte!A448,Timecamp!J:J))","v":""},"","",{"$f":"IFERROR(VLOOKUP(A448,'SLA Trab'!E:I,5,FALSE),\"\")","v":""},{"$f":"IFERROR(VLOOKUP(A448,'SLA Cobr'!E:I,5,FALSE),\"\")","v":""}]
[{"$f":"IFERROR(IF(Trello!E448=\"\",\"\",Trello!E448),\" \")","v":""},{"$f":"IF($A449=\"\",\"\",IF(Trello!A448=\"\",B448,Trello!A448))","v":""},"",{"$f":"IF($A449=\"\",\"\",SUBSTITUTE(SUBSTITUTE(Trello!J448,\" days\",\"\"),\"⌚ \",\"\")*1)","v":""},{"$f":"IFERROR(IF($A449=\"\",\"\",SUBSTITUTE(SUBSTITUTE(SUBSTITUTE(INDIRECT(\"Trello!\"&ADDRESS(ROW()-1, E$1, 4)),\"Foreign: \",\"\"),\" $\",\"\"),\".\",\"\")*1),\"\")","v":""},{"$f":"IF($E449=\"\",IFERROR(IF($A449=\"\",\"\",SUBSTITUTE(SUBSTITUTE(SUBSTITUTE(INDIRECT(\"Trello!\"&ADDRESS(ROW()-1, F$1, 4)),\"MXN: \",\"\"),\" MX$\",\"\"),\".\",\"\")*1),\"\"),E449*F$2)","v":""},{"$f":"IFERROR(IF($A449=\"\",\"\",SUBSTITUTE(SUBSTITUTE(SUBSTITUTE(INDIRECT(\"Trello!\"&ADDRESS(ROW()-1, G$1, 4)),\"Debt: \",\"\"),\" $\",\"\"),\".\",\"\")*1)*IF(E449=\"\",1,F$2),\"\")","v":""},{"$f":"IFERROR(IF($A449=\"\",\"\",SUBSTITUTE(SUBSTITUTE(SUBSTITUTE(INDIRECT(\"Trello!\"&ADDRESS(ROW()-1, H$1, 4)),\"Cost: \",\"\"),\" $\",\"\"),\".\",\"\")*1*$F$2),\"\")","v":""},"",{"$f":"IFERROR(SUBSTITUTE(SUBSTITUTE(SUBSTITUTE(RIGHT(INDIRECT(\"Trello!\"&ADDRESS(ROW()-1, L$1, 4)),LEN(INDIRECT(\"Trello!\"&ADDRESS(ROW()-1, L$1, 4)))-15),\". \",\"/\"),\" 20\",\"/20\"),\" \",\"\"),\"\")","v":""},{"$f":"IFERROR(SUBSTITUTE(SUBSTITUTE(SUBSTITUTE(RIGHT(INDIRECT(\"Trello!\"&ADDRESS(ROW()-1, M$1, 4)),LEN(INDIRECT(\"Trello!\"&ADDRESS(ROW()-1, M$1, 4)))-15),\". \",\"/\"),\" 20\",\"/20\"),\" \",\"\"),\"\")","v":""},"","","",{"$f":"IFERROR(SUBSTITUTE(INDIRECT(\"Trello!\"&ADDRESS(ROW()-1, O$1, 4)),\"Estimate hrs: \",\"\")*1,\"\")","v":""},{"$f":"IF(SUMIF(Timecamp!C:C,Reporte!A449,Timecamp!J:J)=0,\"\",SUMIF(Timecamp!C:C,Reporte!A449,Timecamp!J:J))","v":""},"","",{"$f":"IFERROR(VLOOKUP(A449,'SLA Trab'!E:I,5,FALSE),\"\")","v":""},{"$f":"IFERROR(VLOOKUP(A449,'SLA Cobr'!E:I,5,FALSE),\"\")","v":""}]
[{"$f":"IFERROR(IF(Trello!E449=\"\",\"\",Trello!E449),\" \")","v":""},{"$f":"IF($A450=\"\",\"\",IF(Trello!A449=\"\",B449,Trello!A449))","v":""},"",{"$f":"IF($A450=\"\",\"\",SUBSTITUTE(SUBSTITUTE(Trello!J449,\" days\",\"\"),\"⌚ \",\"\")*1)","v":""},{"$f":"IFERROR(IF($A450=\"\",\"\",SUBSTITUTE(SUBSTITUTE(SUBSTITUTE(INDIRECT(\"Trello!\"&ADDRESS(ROW()-1, E$1, 4)),\"Foreign: \",\"\"),\" $\",\"\"),\".\",\"\")*1),\"\")","v":""},{"$f":"IF($E450=\"\",IFERROR(IF($A450=\"\",\"\",SUBSTITUTE(SUBSTITUTE(SUBSTITUTE(INDIRECT(\"Trello!\"&ADDRESS(ROW()-1, F$1, 4)),\"MXN: \",\"\"),\" MX$\",\"\"),\".\",\"\")*1),\"\"),E450*F$2)","v":""},{"$f":"IFERROR(IF($A450=\"\",\"\",SUBSTITUTE(SUBSTITUTE(SUBSTITUTE(INDIRECT(\"Trello!\"&ADDRESS(ROW()-1, G$1, 4)),\"Debt: \",\"\"),\" $\",\"\"),\".\",\"\")*1)*IF(E450=\"\",1,F$2),\"\")","v":""},{"$f":"IFERROR(IF($A450=\"\",\"\",SUBSTITUTE(SUBSTITUTE(SUBSTITUTE(INDIRECT(\"Trello!\"&ADDRESS(ROW()-1, H$1, 4)),\"Cost: \",\"\"),\" $\",\"\"),\".\",\"\")*1*$F$2),\"\")","v":""},"",{"$f":"IFERROR(SUBSTITUTE(SUBSTITUTE(SUBSTITUTE(RIGHT(INDIRECT(\"Trello!\"&ADDRESS(ROW()-1, L$1, 4)),LEN(INDIRECT(\"Trello!\"&ADDRESS(ROW()-1, L$1, 4)))-15),\". \",\"/\"),\" 20\",\"/20\"),\" \",\"\"),\"\")","v":""},{"$f":"IFERROR(SUBSTITUTE(SUBSTITUTE(SUBSTITUTE(RIGHT(INDIRECT(\"Trello!\"&ADDRESS(ROW()-1, M$1, 4)),LEN(INDIRECT(\"Trello!\"&ADDRESS(ROW()-1, M$1, 4)))-15),\". \",\"/\"),\" 20\",\"/20\"),\" \",\"\"),\"\")","v":""},"","","",{"$f":"IFERROR(SUBSTITUTE(INDIRECT(\"Trello!\"&ADDRESS(ROW()-1, O$1, 4)),\"Estimate hrs: \",\"\")*1,\"\")","v":""},{"$f":"IF(SUMIF(Timecamp!C:C,Reporte!A450,Timecamp!J:J)=0,\"\",SUMIF(Timecamp!C:C,Reporte!A450,Timecamp!J:J))","v":""},"","",{"$f":"IFERROR(VLOOKUP(A450,'SLA Trab'!E:I,5,FALSE),\"\")","v":""},{"$f":"IFERROR(VLOOKUP(A450,'SLA Cobr'!E:I,5,FALSE),\"\")","v":""}]
[{"$f":"IFERROR(IF(Trello!E450=\"\",\"\",Trello!E450),\" \")","v":""},{"$f":"IF($A451=\"\",\"\",IF(Trello!A450=\"\",B450,Trello!A450))","v":""},"",{"$f":"IF($A451=\"\",\"\",SUBSTITUTE(SUBSTITUTE(Trello!J450,\" days\",\"\"),\"⌚ \",\"\")*1)","v":""},{"$f":"IFERROR(IF($A451=\"\",\"\",SUBSTITUTE(SUBSTITUTE(SUBSTITUTE(INDIRECT(\"Trello!\"&ADDRESS(ROW()-1, E$1, 4)),\"Foreign: \",\"\"),\" $\",\"\"),\".\",\"\")*1),\"\")","v":""},{"$f":"IF($E451=\"\",IFERROR(IF($A451=\"\",\"\",SUBSTITUTE(SUBSTITUTE(SUBSTITUTE(INDIRECT(\"Trello!\"&ADDRESS(ROW()-1, F$1, 4)),\"MXN: \",\"\"),\" MX$\",\"\"),\".\",\"\")*1),\"\"),E451*F$2)","v":""},{"$f":"IFERROR(IF($A451=\"\",\"\",SUBSTITUTE(SUBSTITUTE(SUBSTITUTE(INDIRECT(\"Trello!\"&ADDRESS(ROW()-1, G$1, 4)),\"Debt: \",\"\"),\" $\",\"\"),\".\",\"\")*1)*IF(E451=\"\",1,F$2),\"\")","v":""},{"$f":"IFERROR(IF($A451=\"\",\"\",SUBSTITUTE(SUBSTITUTE(SUBSTITUTE(INDIRECT(\"Trello!\"&ADDRESS(ROW()-1, H$1, 4)),\"Cost: \",\"\"),\" $\",\"\"),\".\",\"\")*1*$F$2),\"\")","v":""},"",{"$f":"IFERROR(SUBSTITUTE(SUBSTITUTE(SUBSTITUTE(RIGHT(INDIRECT(\"Trello!\"&ADDRESS(ROW()-1, L$1, 4)),LEN(INDIRECT(\"Trello!\"&ADDRESS(ROW()-1, L$1, 4)))-15),\". \",\"/\"),\" 20\",\"/20\"),\" \",\"\"),\"\")","v":""},{"$f":"IFERROR(SUBSTITUTE(SUBSTITUTE(SUBSTITUTE(RIGHT(INDIRECT(\"Trello!\"&ADDRESS(ROW()-1, M$1, 4)),LEN(INDIRECT(\"Trello!\"&ADDRESS(ROW()-1, M$1, 4)))-15),\". \",\"/\"),\" 20\",\"/20\"),\" \",\"\"),\"\")","v":""},"","","",{"$f":"IFERROR(SUBSTITUTE(INDIRECT(\"Trello!\"&ADDRESS(ROW()-1, O$1, 4)),\"Estimate hrs: \",\"\")*1,\"\")","v":""},{"$f":"IF(SUMIF(Timecamp!C:C,Reporte!A451,Timecamp!J:J)=0,\"\",SUMIF(Timecamp!C:C,Reporte!A451,Timecamp!J:J))","v":""},{"$f":"IF(AND(O451>0,P451>0,O451<>\"\",P451<>\"\"),(P451/O451)-1,\"\")","v":""},{"$f":"IF(OR(P451=\"\",F451=\"\"),\"\",F451/P451)","v":""},{"$f":"IFERROR(VLOOKUP(A451,'SLA Trab'!E:I,5,FALSE),\"\")","v":""},{"$f":"IFERROR(VLOOKUP(A451,'SLA Cobr'!E:I,5,FALSE),\"\")","v":""}]
[{"$f":"IFERROR(IF(Trello!E451=\"\",\"\",Trello!E451),\" \")","v":""},{"$f":"IF($A452=\"\",\"\",IF(Trello!A451=\"\",B451,Trello!A451))","v":""},{"$f":"IF($A452=\"\",\"\",TODAY()-D452)","v":""},{"$f":"IF($A452=\"\",\"\",SUBSTITUTE(SUBSTITUTE(Trello!J451,\" days\",\"\"),\"⌚ \",\"\")*1)","v":""},{"$f":"IFERROR(IF($A452=\"\",\"\",SUBSTITUTE(SUBSTITUTE(SUBSTITUTE(INDIRECT(\"Trello!\"&ADDRESS(ROW()-1, E$1, 4)),\"Foreign: \",\"\"),\" $\",\"\"),\".\",\"\")*1),\"\")","v":""},{"$f":"IF($E452=\"\",IFERROR(IF($A452=\"\",\"\",SUBSTITUTE(SUBSTITUTE(SUBSTITUTE(INDIRECT(\"Trello!\"&ADDRESS(ROW()-1, F$1, 4)),\"MXN: \",\"\"),\" MX$\",\"\"),\".\",\"\")*1),\"\"),E452*F$2)","v":""},{"$f":"IFERROR(IF($A452=\"\",\"\",SUBSTITUTE(SUBSTITUTE(SUBSTITUTE(INDIRECT(\"Trello!\"&ADDRESS(ROW()-1, G$1, 4)),\"Debt: \",\"\"),\" $\",\"\"),\".\",\"\")*1)*IF(E452=\"\",1,F$2),\"\")","v":""},{"$f":"IFERROR(IF($A452=\"\",\"\",SUBSTITUTE(SUBSTITUTE(SUBSTITUTE(INDIRECT(\"Trello!\"&ADDRESS(ROW()-1, H$1, 4)),\"Cost: \",\"\"),\" $\",\"\"),\".\",\"\")*1*$F$2),\"\")","v":""},"",{"$f":"IFERROR(SUBSTITUTE(SUBSTITUTE(SUBSTITUTE(RIGHT(INDIRECT(\"Trello!\"&ADDRESS(ROW()-1, L$1, 4)),LEN(INDIRECT(\"Trello!\"&ADDRESS(ROW()-1, L$1, 4)))-15),\". \",\"/\"),\" 20\",\"/20\"),\" \",\"\"),\"\")","v":""},{"$f":"IFERROR(SUBSTITUTE(SUBSTITUTE(SUBSTITUTE(RIGHT(INDIRECT(\"Trello!\"&ADDRESS(ROW()-1, M$1, 4)),LEN(INDIRECT(\"Trello!\"&ADDRESS(ROW()-1, M$1, 4)))-15),\". \",\"/\"),\" 20\",\"/20\"),\" \",\"\"),\"\")","v":""},"","","",{"$f":"IFERROR(SUBSTITUTE(INDIRECT(\"Trello!\"&ADDRESS(ROW()-1, O$1, 4)),\"Estimate hrs: \",\"\")*1,\"\")","v":""},{"$f":"IF(SUMIF(Timecamp!C:C,Reporte!A452,Timecamp!J:J)=0,\"\",SUMIF(Timecamp!C:C,Reporte!A452,Timecamp!J:J))","v":""},"","",{"$f":"IFERROR(VLOOKUP(A452,'SLA Trab'!E:I,5,FALSE),\"\")","v":""},{"$f":"IFERROR(VLOOKUP(A452,'SLA Cobr'!E:I,5,FALSE),\"\")","v":""}]
[{"$f":"IFERROR(IF(Trello!E452=\"\",\"\",Trello!E452),\" \")","v":""},{"$f":"IF($A453=\"\",\"\",IF(Trello!A452=\"\",B452,Trello!A452))","v":""},"",{"$f":"IF($A453=\"\",\"\",SUBSTITUTE(SUBSTITUTE(Trello!J452,\" days\",\"\"),\"⌚ \",\"\")*1)","v":""},{"$f":"IFERROR(IF($A453=\"\",\"\",SUBSTITUTE(SUBSTITUTE(SUBSTITUTE(INDIRECT(\"Trello!\"&ADDRESS(ROW()-1, E$1, 4)),\"Foreign: \",\"\"),\" $\",\"\"),\".\",\"\")*1),\"\")","v":""},{"$f":"IF($E453=\"\",IFERROR(IF($A453=\"\",\"\",SUBSTITUTE(SUBSTITUTE(SUBSTITUTE(INDIRECT(\"Trello!\"&ADDRESS(ROW()-1, F$1, 4)),\"MXN: \",\"\"),\" MX$\",\"\"),\".\",\"\")*1),\"\"),E453*F$2)","v":""},{"$f":"IFERROR(IF($A453=\"\",\"\",SUBSTITUTE(SUBSTITUTE(SUBSTITUTE(INDIRECT(\"Trello!\"&ADDRESS(ROW()-1, G$1, 4)),\"Debt: \",\"\"),\" $\",\"\"),\".\",\"\")*1)*IF(E453=\"\",1,F$2),\"\")","v":""},{"$f":"IFERROR(IF($A453=\"\",\"\",SUBSTITUTE(SUBSTITUTE(SUBSTITUTE(INDIRECT(\"Trello!\"&ADDRESS(ROW()-1, H$1, 4)),\"Cost: \",\"\"),\" $\",\"\"),\".\",\"\")*1*$F$2),\"\")","v":""},{"$f":"IF(OR(F453=\"\",H453=\"\"),F453,F453-H453)","v":""},{"$f":"IFERROR(SUBSTITUTE(SUBSTITUTE(SUBSTITUTE(RIGHT(INDIRECT(\"Trello!\"&ADDRESS(ROW()-1, L$1, 4)),LEN(INDIRECT(\"Trello!\"&ADDRESS(ROW()-1, L$1, 4)))-15),\". \",\"/\"),\" 20\",\"/20\"),\" \",\"\"),\"\")","v":""},{"$f":"IFERROR(SUBSTITUTE(SUBSTITUTE(SUBSTITUTE(RIGHT(INDIRECT(\"Trello!\"&ADDRESS(ROW()-1, M$1, 4)),LEN(INDIRECT(\"Trello!\"&ADDRESS(ROW()-1, M$1, 4)))-15),\". \",\"/\"),\" 20\",\"/20\"),\" \",\"\"),\"\")","v":""},"","","",{"$f":"IFERROR(SUBSTITUTE(INDIRECT(\"Trello!\"&ADDRESS(ROW()-1, O$1, 4)),\"Estimate hrs: \",\"\")*1,\"\")","v":""},{"$f":"IF(SUMIF(Timecamp!C:C,Reporte!A453,Timecamp!J:J)=0,\"\",SUMIF(Timecamp!C:C,Reporte!A453,Timecamp!J:J))","v":""},"","",{"$f":"IFERROR(VLOOKUP(A453,'SLA Trab'!E:I,5,FALSE),\"\")","v":""},{"$f":"IFERROR(VLOOKUP(A453,'SLA Cobr'!E:I,5,FALSE),\"\")","v":""}]
[{"$f":"IFERROR(IF(Trello!E453=\"\",\"\",Trello!E453),\" \")","v":""},{"$f":"IF($A454=\"\",\"\",IF(Trello!A453=\"\",B453,Trello!A453))","v":""},"",{"$f":"IF($A454=\"\",\"\",SUBSTITUTE(SUBSTITUTE(Trello!J453,\" days\",\"\"),\"⌚ \",\"\")*1)","v":""},{"$f":"IFERROR(IF($A454=\"\",\"\",SUBSTITUTE(SUBSTITUTE(SUBSTITUTE(INDIRECT(\"Trello!\"&ADDRESS(ROW()-1, E$1, 4)),\"Foreign: \",\"\"),\" $\",\"\"),\".\",\"\")*1),\"\")","v":""},{"$f":"IF($E454=\"\",IFERROR(IF($A454=\"\",\"\",SUBSTITUTE(SUBSTITUTE(SUBSTITUTE(INDIRECT(\"Trello!\"&ADDRESS(ROW()-1, F$1, 4)),\"MXN: \",\"\"),\" MX$\",\"\"),\".\",\"\")*1),\"\"),E454*F$2)","v":""},{"$f":"IFERROR(IF($A454=\"\",\"\",SUBSTITUTE(SUBSTITUTE(SUBSTITUTE(INDIRECT(\"Trello!\"&ADDRESS(ROW()-1, G$1, 4)),\"Debt: \",\"\"),\" $\",\"\"),\".\",\"\")*1)*IF(E454=\"\",1,F$2),\"\")","v":""},{"$f":"IFERROR(IF($A454=\"\",\"\",SUBSTITUTE(SUBSTITUTE(SUBSTITUTE(INDIRECT(\"Trello!\"&ADDRESS(ROW()-1, H$1, 4)),\"Cost: \",\"\"),\" $\",\"\"),\".\",\"\")*1*$F$2),\"\")","v":""},"",{"$f":"IFERROR(SUBSTITUTE(SUBSTITUTE(SUBSTITUTE(RIGHT(INDIRECT(\"Trello!\"&ADDRESS(ROW()-1, L$1, 4)),LEN(INDIRECT(\"Trello!\"&ADDRESS(ROW()-1, L$1, 4)))-15),\". \",\"/\"),\" 20\",\"/20\"),\" \",\"\"),\"\")","v":""},{"$f":"IFERROR(SUBSTITUTE(SUBSTITUTE(SUBSTITUTE(RIGHT(INDIRECT(\"Trello!\"&ADDRESS(ROW()-1, M$1, 4)),LEN(INDIRECT(\"Trello!\"&ADDRESS(ROW()-1, M$1, 4)))-15),\". \",\"/\"),\" 20\",\"/20\"),\" \",\"\"),\"\")","v":""},"","","",{"$f":"IFERROR(SUBSTITUTE(INDIRECT(\"Trello!\"&ADDRESS(ROW()-1, O$1, 4)),\"Estimate hrs: \",\"\")*1,\"\")","v":""},{"$f":"IF(SUMIF(Timecamp!C:C,Reporte!A454,Timecamp!J:J)=0,\"\",SUMIF(Timecamp!C:C,Reporte!A454,Timecamp!J:J))","v":""},"","",{"$f":"IFERROR(VLOOKUP(A454,'SLA Trab'!E:I,5,FALSE),\"\")","v":""},{"$f":"IFERROR(VLOOKUP(A454,'SLA Cobr'!E:I,5,FALSE),\"\")","v":""}]
[{"$f":"IFERROR(IF(Trello!E454=\"\",\"\",Trello!E454),\" \")","v":""},{"$f":"IF($A455=\"\",\"\",IF(Trello!A454=\"\",B454,Trello!A454))","v":""},"",{"$f":"IF($A455=\"\",\"\",SUBSTITUTE(SUBSTITUTE(Trello!J454,\" days\",\"\"),\"⌚ \",\"\")*1)","v":""},{"$f":"IFERROR(IF($A455=\"\",\"\",SUBSTITUTE(SUBSTITUTE(SUBSTITUTE(INDIRECT(\"Trello!\"&ADDRESS(ROW()-1, E$1, 4)),\"Foreign: \",\"\"),\" $\",\"\"),\".\",\"\")*1),\"\")","v":""},{"$f":"IF($E455=\"\",IFERROR(IF($A455=\"\",\"\",SUBSTITUTE(SUBSTITUTE(SUBSTITUTE(INDIRECT(\"Trello!\"&ADDRESS(ROW()-1, F$1, 4)),\"MXN: \",\"\"),\" MX$\",\"\"),\".\",\"\")*1),\"\"),E455*F$2)","v":""},{"$f":"IFERROR(IF($A455=\"\",\"\",SUBSTITUTE(SUBSTITUTE(SUBSTITUTE(INDIRECT(\"Trello!\"&ADDRESS(ROW()-1, G$1, 4)),\"Debt: \",\"\"),\" $\",\"\"),\".\",\"\")*1)*IF(E455=\"\",1,F$2),\"\")","v":""},{"$f":"IFERROR(IF($A455=\"\",\"\",SUBSTITUTE(SUBSTITUTE(SUBSTITUTE(INDIRECT(\"Trello!\"&ADDRESS(ROW()-1, H$1, 4)),\"Cost: \",\"\"),\" $\",\"\"),\".\",\"\")*1*$F$2),\"\")","v":""},"",{"$f":"IFERROR(SUBSTITUTE(SUBSTITUTE(SUBSTITUTE(RIGHT(INDIRECT(\"Trello!\"&ADDRESS(ROW()-1, L$1, 4)),LEN(INDIRECT(\"Trello!\"&ADDRESS(ROW()-1, L$1, 4)))-15),\". \",\"/\"),\" 20\",\"/20\"),\" \",\"\"),\"\")","v":""},{"$f":"IFERROR(SUBSTITUTE(SUBSTITUTE(SUBSTITUTE(RIGHT(INDIRECT(\"Trello!\"&ADDRESS(ROW()-1, M$1, 4)),LEN(INDIRECT(\"Trello!\"&ADDRESS(ROW()-1, M$1, 4)))-15),\". \",\"/\"),\" 20\",\"/20\"),\" \",\"\"),\"\")","v":""},"","","",{"$f":"IFERROR(SUBSTITUTE(INDIRECT(\"Trello!\"&ADDRESS(ROW()-1, O$1, 4)),\"Estimate hrs: \",\"\")*1,\"\")","v":""},{"$f":"IF(SUMIF(Timecamp!C:C,Reporte!A455,Timecamp!J:J)=0,\"\",SUMIF(Timecamp!C:C,Reporte!A455,Timecamp!J:J))","v":""},"","",{"$f":"IFERROR(VLOOKUP(A455,'SLA Trab'!E:I,5,FALSE),\"\")","v":""},{"$f":"IFERROR(VLOOKUP(A455,'SLA Cobr'!E:I,5,FALSE),\"\")","v":""}]
[{"$f":"IFERROR(IF(Trello!E455=\"\",\"\",Trello!E455),\" \")","v":""},{"$f":"IF($A456=\"\",\"\",IF(Trello!A455=\"\",B455,Trello!A455))","v":""},"",{"$f":"IF($A456=\"\",\"\",SUBSTITUTE(SUBSTITUTE(Trello!J455,\" days\",\"\"),\"⌚ \",\"\")*1)","v":""},{"$f":"IFERROR(IF($A456=\"\",\"\",SUBSTITUTE(SUBSTITUTE(SUBSTITUTE(INDIRECT(\"Trello!\"&ADDRESS(ROW()-1, E$1, 4)),\"Foreign: \",\"\"),\" $\",\"\"),\".\",\"\")*1),\"\")","v":""},{"$f":"IF($E456=\"\",IFERROR(IF($A456=\"\",\"\",SUBSTITUTE(SUBSTITUTE(SUBSTITUTE(INDIRECT(\"Trello!\"&ADDRESS(ROW()-1, F$1, 4)),\"MXN: \",\"\"),\" MX$\",\"\"),\".\",\"\")*1),\"\"),E456*F$2)","v":""},{"$f":"IFERROR(IF($A456=\"\",\"\",SUBSTITUTE(SUBSTITUTE(SUBSTITUTE(INDIRECT(\"Trello!\"&ADDRESS(ROW()-1, G$1, 4)),\"Debt: \",\"\"),\" $\",\"\"),\".\",\"\")*1)*IF(E456=\"\",1,F$2),\"\")","v":""},{"$f":"IFERROR(IF($A456=\"\",\"\",SUBSTITUTE(SUBSTITUTE(SUBSTITUTE(INDIRECT(\"Trello!\"&ADDRESS(ROW()-1, H$1, 4)),\"Cost: \",\"\"),\" $\",\"\"),\".\",\"\")*1*$F$2),\"\")","v":""},"",{"$f":"IFERROR(SUBSTITUTE(SUBSTITUTE(SUBSTITUTE(RIGHT(INDIRECT(\"Trello!\"&ADDRESS(ROW()-1, L$1, 4)),LEN(INDIRECT(\"Trello!\"&ADDRESS(ROW()-1, L$1, 4)))-15),\". \",\"/\"),\" 20\",\"/20\"),\" \",\"\"),\"\")","v":""},{"$f":"IFERROR(SUBSTITUTE(SUBSTITUTE(SUBSTITUTE(RIGHT(INDIRECT(\"Trello!\"&ADDRESS(ROW()-1, M$1, 4)),LEN(INDIRECT(\"Trello!\"&ADDRESS(ROW()-1, M$1, 4)))-15),\". \",\"/\"),\" 20\",\"/20\"),\" \",\"\"),\"\")","v":""},"","","",{"$f":"IFERROR(SUBSTITUTE(INDIRECT(\"Trello!\"&ADDRESS(ROW()-1, O$1, 4)),\"Estimate hrs: \",\"\")*1,\"\")","v":""},{"$f":"IF(SUMIF(Timecamp!C:C,Reporte!A456,Timecamp!J:J)=0,\"\",SUMIF(Timecamp!C:C,Reporte!A456,Timecamp!J:J))","v":""},"","",{"$f":"IFERROR(VLOOKUP(A456,'SLA Trab'!E:I,5,FALSE),\"\")","v":""},{"$f":"IFERROR(VLOOKUP(A456,'SLA Cobr'!E:I,5,FALSE),\"\")","v":""}]
[{"$f":"IFERROR(IF(Trello!E456=\"\",\"\",Trello!E456),\" \")","v":""},{"$f":"IF($A457=\"\",\"\",IF(Trello!A456=\"\",B456,Trello!A456))","v":""},"",{"$f":"IF($A457=\"\",\"\",SUBSTITUTE(SUBSTITUTE(Trello!J456,\" days\",\"\"),\"⌚ \",\"\")*1)","v":""},{"$f":"IFERROR(IF($A457=\"\",\"\",SUBSTITUTE(SUBSTITUTE(SUBSTITUTE(INDIRECT(\"Trello!\"&ADDRESS(ROW()-1, E$1, 4)),\"Foreign: \",\"\"),\" $\",\"\"),\".\",\"\")*1),\"\")","v":""},{"$f":"IF($E457=\"\",IFERROR(IF($A457=\"\",\"\",SUBSTITUTE(SUBSTITUTE(SUBSTITUTE(INDIRECT(\"Trello!\"&ADDRESS(ROW()-1, F$1, 4)),\"MXN: \",\"\"),\" MX$\",\"\"),\".\",\"\")*1),\"\"),E457*F$2)","v":""},{"$f":"IFERROR(IF($A457=\"\",\"\",SUBSTITUTE(SUBSTITUTE(SUBSTITUTE(INDIRECT(\"Trello!\"&ADDRESS(ROW()-1, G$1, 4)),\"Debt: \",\"\"),\" $\",\"\"),\".\",\"\")*1)*IF(E457=\"\",1,F$2),\"\")","v":""},{"$f":"IFERROR(IF($A457=\"\",\"\",SUBSTITUTE(SUBSTITUTE(SUBSTITUTE(INDIRECT(\"Trello!\"&ADDRESS(ROW()-1, H$1, 4)),\"Cost: \",\"\"),\" $\",\"\"),\".\",\"\")*1*$F$2),\"\")","v":""},"",{"$f":"IFERROR(SUBSTITUTE(SUBSTITUTE(SUBSTITUTE(RIGHT(INDIRECT(\"Trello!\"&ADDRESS(ROW()-1, L$1, 4)),LEN(INDIRECT(\"Trello!\"&ADDRESS(ROW()-1, L$1, 4)))-15),\". \",\"/\"),\" 20\",\"/20\"),\" \",\"\"),\"\")","v":""},{"$f":"IFERROR(SUBSTITUTE(SUBSTITUTE(SUBSTITUTE(RIGHT(INDIRECT(\"Trello!\"&ADDRESS(ROW()-1, M$1, 4)),LEN(INDIRECT(\"Trello!\"&ADDRESS(ROW()-1, M$1, 4)))-15),\". \",\"/\"),\" 20\",\"/20\"),\" \",\"\"),\"\")","v":""},"","","",{"$f":"IFERROR(SUBSTITUTE(INDIRECT(\"Trello!\"&ADDRESS(ROW()-1, O$1, 4)),\"Estimate hrs: \",\"\")*1,\"\")","v":""},{"$f":"IF(SUMIF(Timecamp!C:C,Reporte!A457,Timecamp!J:J)=0,\"\",SUMIF(Timecamp!C:C,Reporte!A457,Timecamp!J:J))","v":""},"","",{"$f":"IFERROR(VLOOKUP(A457,'SLA Trab'!E:I,5,FALSE),\"\")","v":""},{"$f":"IFERROR(VLOOKUP(A457,'SLA Cobr'!E:I,5,FALSE),\"\")","v":""}]
[{"$f":"IFERROR(IF(Trello!E457=\"\",\"\",Trello!E457),\" \")","v":""},{"$f":"IF($A458=\"\",\"\",IF(Trello!A457=\"\",B457,Trello!A457))","v":""},"",{"$f":"IF($A458=\"\",\"\",SUBSTITUTE(SUBSTITUTE(Trello!J457,\" days\",\"\"),\"⌚ \",\"\")*1)","v":""},{"$f":"IFERROR(IF($A458=\"\",\"\",SUBSTITUTE(SUBSTITUTE(SUBSTITUTE(INDIRECT(\"Trello!\"&ADDRESS(ROW()-1, E$1, 4)),\"Foreign: \",\"\"),\" $\",\"\"),\".\",\"\")*1),\"\")","v":""},{"$f":"IF($E458=\"\",IFERROR(IF($A458=\"\",\"\",SUBSTITUTE(SUBSTITUTE(SUBSTITUTE(INDIRECT(\"Trello!\"&ADDRESS(ROW()-1, F$1, 4)),\"MXN: \",\"\"),\" MX$\",\"\"),\".\",\"\")*1),\"\"),E458*F$2)","v":""},{"$f":"IFERROR(IF($A458=\"\",\"\",SUBSTITUTE(SUBSTITUTE(SUBSTITUTE(INDIRECT(\"Trello!\"&ADDRESS(ROW()-1, G$1, 4)),\"Debt: \",\"\"),\" $\",\"\"),\".\",\"\")*1)*IF(E458=\"\",1,F$2),\"\")","v":""},{"$f":"IFERROR(IF($A458=\"\",\"\",SUBSTITUTE(SUBSTITUTE(SUBSTITUTE(INDIRECT(\"Trello!\"&ADDRESS(ROW()-1, H$1, 4)),\"Cost: \",\"\"),\" $\",\"\"),\".\",\"\")*1*$F$2),\"\")","v":""},"",{"$f":"IFERROR(SUBSTITUTE(SUBSTITUTE(SUBSTITUTE(RIGHT(INDIRECT(\"Trello!\"&ADDRESS(ROW()-1, L$1, 4)),LEN(INDIRECT(\"Trello!\"&ADDRESS(ROW()-1, L$1, 4)))-15),\". \",\"/\"),\" 20\",\"/20\"),\" \",\"\"),\"\")","v":""},{"$f":"IFERROR(SUBSTITUTE(SUBSTITUTE(SUBSTITUTE(RIGHT(INDIRECT(\"Trello!\"&ADDRESS(ROW()-1, M$1, 4)),LEN(INDIRECT(\"Trello!\"&ADDRESS(ROW()-1, M$1, 4)))-15),\". \",\"/\"),\" 20\",\"/20\"),\" \",\"\"),\"\")","v":""},"","",{"$f":"IF(AND(L458>0,M458>0,L458<>\"\",M458<>\"\"),L458-M458,\"\")","v":""},{"$f":"IFERROR(SUBSTITUTE(INDIRECT(\"Trello!\"&ADDRESS(ROW()-1, O$1, 4)),\"Estimate hrs: \",\"\")*1,\"\")","v":""},{"$f":"IF(SUMIF(Timecamp!C:C,Reporte!A458,Timecamp!J:J)=0,\"\",SUMIF(Timecamp!C:C,Reporte!A458,Timecamp!J:J))","v":""},"","",{"$f":"IFERROR(VLOOKUP(A458,'SLA Trab'!E:I,5,FALSE),\"\")","v":""},{"$f":"IFERROR(VLOOKUP(A458,'SLA Cobr'!E:I,5,FALSE),\"\")","v":""}]
[{"$f":"IFERROR(IF(Trello!E458=\"\",\"\",Trello!E458),\" \")","v":""},{"$f":"IF($A459=\"\",\"\",IF(Trello!A458=\"\",B458,Trello!A458))","v":""},"",{"$f":"IF($A459=\"\",\"\",SUBSTITUTE(SUBSTITUTE(Trello!J458,\" days\",\"\"),\"⌚ \",\"\")*1)","v":""},{"$f":"IFERROR(IF($A459=\"\",\"\",SUBSTITUTE(SUBSTITUTE(SUBSTITUTE(INDIRECT(\"Trello!\"&ADDRESS(ROW()-1, E$1, 4)),\"Foreign: \",\"\"),\" $\",\"\"),\".\",\"\")*1),\"\")","v":""},{"$f":"IF($E459=\"\",IFERROR(IF($A459=\"\",\"\",SUBSTITUTE(SUBSTITUTE(SUBSTITUTE(INDIRECT(\"Trello!\"&ADDRESS(ROW()-1, F$1, 4)),\"MXN: \",\"\"),\" MX$\",\"\"),\".\",\"\")*1),\"\"),E459*F$2)","v":""},{"$f":"IFERROR(IF($A459=\"\",\"\",SUBSTITUTE(SUBSTITUTE(SUBSTITUTE(INDIRECT(\"Trello!\"&ADDRESS(ROW()-1, G$1, 4)),\"Debt: \",\"\"),\" $\",\"\"),\".\",\"\")*1)*IF(E459=\"\",1,F$2),\"\")","v":""},{"$f":"IFERROR(IF($A459=\"\",\"\",SUBSTITUTE(SUBSTITUTE(SUBSTITUTE(INDIRECT(\"Trello!\"&ADDRESS(ROW()-1, H$1, 4)),\"Cost: \",\"\"),\" $\",\"\"),\".\",\"\")*1*$F$2),\"\")","v":""},"",{"$f":"IFERROR(SUBSTITUTE(SUBSTITUTE(SUBSTITUTE(RIGHT(INDIRECT(\"Trello!\"&ADDRESS(ROW()-1, L$1, 4)),LEN(INDIRECT(\"Trello!\"&ADDRESS(ROW()-1, L$1, 4)))-15),\". \",\"/\"),\" 20\",\"/20\"),\" \",\"\"),\"\")","v":""},{"$f":"IFERROR(SUBSTITUTE(SUBSTITUTE(SUBSTITUTE(RIGHT(INDIRECT(\"Trello!\"&ADDRESS(ROW()-1, M$1, 4)),LEN(INDIRECT(\"Trello!\"&ADDRESS(ROW()-1, M$1, 4)))-15),\". \",\"/\"),\" 20\",\"/20\"),\" \",\"\"),\"\")","v":""},{"$f":"IFERROR(SUBSTITUTE(SUBSTITUTE(SUBSTITUTE(SUBSTITUTE(SUBSTITUTE(SUBSTITUTE(SUBSTITUTE(SUBSTITUTE(SUBSTITUTE(SUBSTITUTE(SUBSTITUTE(SUBSTITUTE(J459,\"Dez\",12),\"Nov\",11),\"Okt\",10),\"Sept\",9),\"Aug\",8),\"Juli\",7),\"Juni\",6),\"Mai\",5),\"Apr\",4),\"März\",3),\"Feb\",2),\"Jan\",1)*1,\"\")","v":""},{"$f":"IFERROR(SUBSTITUTE(SUBSTITUTE(SUBSTITUTE(SUBSTITUTE(SUBSTITUTE(SUBSTITUTE(SUBSTITUTE(SUBSTITUTE(SUBSTITUTE(SUBSTITUTE(SUBSTITUTE(SUBSTITUTE(K459,\"Dez\",12),\"Nov\",11),\"Okt\",10),\"Sept\",9),\"Aug\",8),\"Juli\",7),\"Juni\",6),\"Mai\",5),\"Apr\",4),\"März\",3),\"Feb\",2),\"Jan\",1)*1,\"\")","v":""},"",{"$f":"IFERROR(SUBSTITUTE(INDIRECT(\"Trello!\"&ADDRESS(ROW()-1, O$1, 4)),\"Estimate hrs: \",\"\")*1,\"\")","v":""},{"$f":"IF(SUMIF(Timecamp!C:C,Reporte!A459,Timecamp!J:J)=0,\"\",SUMIF(Timecamp!C:C,Reporte!A459,Timecamp!J:J))","v":""},"","",{"$f":"IFERROR(VLOOKUP(A459,'SLA Trab'!E:I,5,FALSE),\"\")","v":""},{"$f":"IFERROR(VLOOKUP(A459,'SLA Cobr'!E:I,5,FALSE),\"\")","v":""}]
[{"$f":"IFERROR(IF(Trello!E459=\"\",\"\",Trello!E459),\" \")","v":""},{"$f":"IF($A460=\"\",\"\",IF(Trello!A459=\"\",B459,Trello!A459))","v":""},"",{"$f":"IF($A460=\"\",\"\",SUBSTITUTE(SUBSTITUTE(Trello!J459,\" days\",\"\"),\"⌚ \",\"\")*1)","v":""},{"$f":"IFERROR(IF($A460=\"\",\"\",SUBSTITUTE(SUBSTITUTE(SUBSTITUTE(INDIRECT(\"Trello!\"&ADDRESS(ROW()-1, E$1, 4)),\"Foreign: \",\"\"),\" $\",\"\"),\".\",\"\")*1),\"\")","v":""},{"$f":"IF($E460=\"\",IFERROR(IF($A460=\"\",\"\",SUBSTITUTE(SUBSTITUTE(SUBSTITUTE(INDIRECT(\"Trello!\"&ADDRESS(ROW()-1, F$1, 4)),\"MXN: \",\"\"),\" MX$\",\"\"),\".\",\"\")*1),\"\"),E460*F$2)","v":""},{"$f":"IFERROR(IF($A460=\"\",\"\",SUBSTITUTE(SUBSTITUTE(SUBSTITUTE(INDIRECT(\"Trello!\"&ADDRESS(ROW()-1, G$1, 4)),\"Debt: \",\"\"),\" $\",\"\"),\".\",\"\")*1)*IF(E460=\"\",1,F$2),\"\")","v":""},{"$f":"IFERROR(IF($A460=\"\",\"\",SUBSTITUTE(SUBSTITUTE(SUBSTITUTE(INDIRECT(\"Trello!\"&ADDRESS(ROW()-1, H$1, 4)),\"Cost: \",\"\"),\" $\",\"\"),\".\",\"\")*1*$F$2),\"\")","v":""},"",{"$f":"IFERROR(SUBSTITUTE(SUBSTITUTE(SUBSTITUTE(RIGHT(INDIRECT(\"Trello!\"&ADDRESS(ROW()-1, L$1, 4)),LEN(INDIRECT(\"Trello!\"&ADDRESS(ROW()-1, L$1, 4)))-15),\". \",\"/\"),\" 20\",\"/20\"),\" \",\"\"),\"\")","v":""},{"$f":"IFERROR(SUBSTITUTE(SUBSTITUTE(SUBSTITUTE(RIGHT(INDIRECT(\"Trello!\"&ADDRESS(ROW()-1, M$1, 4)),LEN(INDIRECT(\"Trello!\"&ADDRESS(ROW()-1, M$1, 4)))-15),\". \",\"/\"),\" 20\",\"/20\"),\" \",\"\"),\"\")","v":""},"","","",{"$f":"IFERROR(SUBSTITUTE(INDIRECT(\"Trello!\"&ADDRESS(ROW()-1, O$1, 4)),\"Estimate hrs: \",\"\")*1,\"\")","v":""},{"$f":"IF(SUMIF(Timecamp!C:C,Reporte!A460,Timecamp!J:J)=0,\"\",SUMIF(Timecamp!C:C,Reporte!A460,Timecamp!J:J))","v":""},"","",{"$f":"IFERROR(VLOOKUP(A460,'SLA Trab'!E:I,5,FALSE),\"\")","v":""},{"$f":"IFERROR(VLOOKUP(A460,'SLA Cobr'!E:I,5,FALSE),\"\")","v":""}]
[{"$f":"IFERROR(IF(Trello!E460=\"\",\"\",Trello!E460),\" \")","v":""},{"$f":"IF($A461=\"\",\"\",IF(Trello!A460=\"\",B460,Trello!A460))","v":""},"",{"$f":"IF($A461=\"\",\"\",SUBSTITUTE(SUBSTITUTE(Trello!J460,\" days\",\"\"),\"⌚ \",\"\")*1)","v":""},{"$f":"IFERROR(IF($A461=\"\",\"\",SUBSTITUTE(SUBSTITUTE(SUBSTITUTE(INDIRECT(\"Trello!\"&ADDRESS(ROW()-1, E$1, 4)),\"Foreign: \",\"\"),\" $\",\"\"),\".\",\"\")*1),\"\")","v":""},{"$f":"IF($E461=\"\",IFERROR(IF($A461=\"\",\"\",SUBSTITUTE(SUBSTITUTE(SUBSTITUTE(INDIRECT(\"Trello!\"&ADDRESS(ROW()-1, F$1, 4)),\"MXN: \",\"\"),\" MX$\",\"\"),\".\",\"\")*1),\"\"),E461*F$2)","v":""},{"$f":"IFERROR(IF($A461=\"\",\"\",SUBSTITUTE(SUBSTITUTE(SUBSTITUTE(INDIRECT(\"Trello!\"&ADDRESS(ROW()-1, G$1, 4)),\"Debt: \",\"\"),\" $\",\"\"),\".\",\"\")*1)*IF(E461=\"\",1,F$2),\"\")","v":""},{"$f":"IFERROR(IF($A461=\"\",\"\",SUBSTITUTE(SUBSTITUTE(SUBSTITUTE(INDIRECT(\"Trello!\"&ADDRESS(ROW()-1, H$1, 4)),\"Cost: \",\"\"),\" $\",\"\"),\".\",\"\")*1*$F$2),\"\")","v":""},"",{"$f":"IFERROR(SUBSTITUTE(SUBSTITUTE(SUBSTITUTE(RIGHT(INDIRECT(\"Trello!\"&ADDRESS(ROW()-1, L$1, 4)),LEN(INDIRECT(\"Trello!\"&ADDRESS(ROW()-1, L$1, 4)))-15),\". \",\"/\"),\" 20\",\"/20\"),\" \",\"\"),\"\")","v":""},{"$f":"IFERROR(SUBSTITUTE(SUBSTITUTE(SUBSTITUTE(RIGHT(INDIRECT(\"Trello!\"&ADDRESS(ROW()-1, M$1, 4)),LEN(INDIRECT(\"Trello!\"&ADDRESS(ROW()-1, M$1, 4)))-15),\". \",\"/\"),\" 20\",\"/20\"),\" \",\"\"),\"\")","v":""},"","","",{"$f":"IFERROR(SUBSTITUTE(INDIRECT(\"Trello!\"&ADDRESS(ROW()-1, O$1, 4)),\"Estimate hrs: \",\"\")*1,\"\")","v":""},{"$f":"IF(SUMIF(Timecamp!C:C,Reporte!A461,Timecamp!J:J)=0,\"\",SUMIF(Timecamp!C:C,Reporte!A461,Timecamp!J:J))","v":""},"","",{"$f":"IFERROR(VLOOKUP(A461,'SLA Trab'!E:I,5,FALSE),\"\")","v":""},{"$f":"IFERROR(VLOOKUP(A461,'SLA Cobr'!E:I,5,FALSE),\"\")","v":""}]
[{"$f":"IFERROR(IF(Trello!E461=\"\",\"\",Trello!E461),\" \")","v":""},{"$f":"IF($A462=\"\",\"\",IF(Trello!A461=\"\",B461,Trello!A461))","v":""},"",{"$f":"IF($A462=\"\",\"\",SUBSTITUTE(SUBSTITUTE(Trello!J461,\" days\",\"\"),\"⌚ \",\"\")*1)","v":""},{"$f":"IFERROR(IF($A462=\"\",\"\",SUBSTITUTE(SUBSTITUTE(SUBSTITUTE(INDIRECT(\"Trello!\"&ADDRESS(ROW()-1, E$1, 4)),\"Foreign: \",\"\"),\" $\",\"\"),\".\",\"\")*1),\"\")","v":""},{"$f":"IF($E462=\"\",IFERROR(IF($A462=\"\",\"\",SUBSTITUTE(SUBSTITUTE(SUBSTITUTE(INDIRECT(\"Trello!\"&ADDRESS(ROW()-1, F$1, 4)),\"MXN: \",\"\"),\" MX$\",\"\"),\".\",\"\")*1),\"\"),E462*F$2)","v":""},{"$f":"IFERROR(IF($A462=\"\",\"\",SUBSTITUTE(SUBSTITUTE(SUBSTITUTE(INDIRECT(\"Trello!\"&ADDRESS(ROW()-1, G$1, 4)),\"Debt: \",\"\"),\" $\",\"\"),\".\",\"\")*1)*IF(E462=\"\",1,F$2),\"\")","v":""},{"$f":"IFERROR(IF($A462=\"\",\"\",SUBSTITUTE(SUBSTITUTE(SUBSTITUTE(INDIRECT(\"Trello!\"&ADDRESS(ROW()-1, H$1, 4)),\"Cost: \",\"\"),\" $\",\"\"),\".\",\"\")*1*$F$2),\"\")","v":""},"",{"$f":"IFERROR(SUBSTITUTE(SUBSTITUTE(SUBSTITUTE(RIGHT(INDIRECT(\"Trello!\"&ADDRESS(ROW()-1, L$1, 4)),LEN(INDIRECT(\"Trello!\"&ADDRESS(ROW()-1, L$1, 4)))-15),\". \",\"/\"),\" 20\",\"/20\"),\" \",\"\"),\"\")","v":""},{"$f":"IFERROR(SUBSTITUTE(SUBSTITUTE(SUBSTITUTE(RIGHT(INDIRECT(\"Trello!\"&ADDRESS(ROW()-1, M$1, 4)),LEN(INDIRECT(\"Trello!\"&ADDRESS(ROW()-1, M$1, 4)))-15),\". \",\"/\"),\" 20\",\"/20\"),\" \",\"\"),\"\")","v":""},"","","",{"$f":"IFERROR(SUBSTITUTE(INDIRECT(\"Trello!\"&ADDRESS(ROW()-1, O$1, 4)),\"Estimate hrs: \",\"\")*1,\"\")","v":""},{"$f":"IF(SUMIF(Timecamp!C:C,Reporte!A462,Timecamp!J:J)=0,\"\",SUMIF(Timecamp!C:C,Reporte!A462,Timecamp!J:J))","v":""},"","",{"$f":"IFERROR(VLOOKUP(A462,'SLA Trab'!E:I,5,FALSE),\"\")","v":""},{"$f":"IFERROR(VLOOKUP(A462,'SLA Cobr'!E:I,5,FALSE),\"\")","v":""}]
[{"$f":"IFERROR(IF(Trello!E462=\"\",\"\",Trello!E462),\" \")","v":""},{"$f":"IF($A463=\"\",\"\",IF(Trello!A462=\"\",B462,Trello!A462))","v":""},"",{"$f":"IF($A463=\"\",\"\",SUBSTITUTE(SUBSTITUTE(Trello!J462,\" days\",\"\"),\"⌚ \",\"\")*1)","v":""},{"$f":"IFERROR(IF($A463=\"\",\"\",SUBSTITUTE(SUBSTITUTE(SUBSTITUTE(INDIRECT(\"Trello!\"&ADDRESS(ROW()-1, E$1, 4)),\"Foreign: \",\"\"),\" $\",\"\"),\".\",\"\")*1),\"\")","v":""},{"$f":"IF($E463=\"\",IFERROR(IF($A463=\"\",\"\",SUBSTITUTE(SUBSTITUTE(SUBSTITUTE(INDIRECT(\"Trello!\"&ADDRESS(ROW()-1, F$1, 4)),\"MXN: \",\"\"),\" MX$\",\"\"),\".\",\"\")*1),\"\"),E463*F$2)","v":""},{"$f":"IFERROR(IF($A463=\"\",\"\",SUBSTITUTE(SUBSTITUTE(SUBSTITUTE(INDIRECT(\"Trello!\"&ADDRESS(ROW()-1, G$1, 4)),\"Debt: \",\"\"),\" $\",\"\"),\".\",\"\")*1)*IF(E463=\"\",1,F$2),\"\")","v":""},{"$f":"IFERROR(IF($A463=\"\",\"\",SUBSTITUTE(SUBSTITUTE(SUBSTITUTE(INDIRECT(\"Trello!\"&ADDRESS(ROW()-1, H$1, 4)),\"Cost: \",\"\"),\" $\",\"\"),\".\",\"\")*1*$F$2),\"\")","v":""},"",{"$f":"IFERROR(SUBSTITUTE(SUBSTITUTE(SUBSTITUTE(RIGHT(INDIRECT(\"Trello!\"&ADDRESS(ROW()-1, L$1, 4)),LEN(INDIRECT(\"Trello!\"&ADDRESS(ROW()-1, L$1, 4)))-15),\". \",\"/\"),\" 20\",\"/20\"),\" \",\"\"),\"\")","v":""},{"$f":"IFERROR(SUBSTITUTE(SUBSTITUTE(SUBSTITUTE(RIGHT(INDIRECT(\"Trello!\"&ADDRESS(ROW()-1, M$1, 4)),LEN(INDIRECT(\"Trello!\"&ADDRESS(ROW()-1, M$1, 4)))-15),\". \",\"/\"),\" 20\",\"/20\"),\" \",\"\"),\"\")","v":""},"","","",{"$f":"IFERROR(SUBSTITUTE(INDIRECT(\"Trello!\"&ADDRESS(ROW()-1, O$1, 4)),\"Estimate hrs: \",\"\")*1,\"\")","v":""},{"$f":"IF(SUMIF(Timecamp!C:C,Reporte!A463,Timecamp!J:J)=0,\"\",SUMIF(Timecamp!C:C,Reporte!A463,Timecamp!J:J))","v":""},"","",{"$f":"IFERROR(VLOOKUP(A463,'SLA Trab'!E:I,5,FALSE),\"\")","v":""},{"$f":"IFERROR(VLOOKUP(A463,'SLA Cobr'!E:I,5,FALSE),\"\")","v":""}]
[{"$f":"IFERROR(IF(Trello!E463=\"\",\"\",Trello!E463),\" \")","v":""},{"$f":"IF($A464=\"\",\"\",IF(Trello!A463=\"\",B463,Trello!A463))","v":""},"",{"$f":"IF($A464=\"\",\"\",SUBSTITUTE(SUBSTITUTE(Trello!J463,\" days\",\"\"),\"⌚ \",\"\")*1)","v":""},{"$f":"IFERROR(IF($A464=\"\",\"\",SUBSTITUTE(SUBSTITUTE(SUBSTITUTE(INDIRECT(\"Trello!\"&ADDRESS(ROW()-1, E$1, 4)),\"Foreign: \",\"\"),\" $\",\"\"),\".\",\"\")*1),\"\")","v":""},{"$f":"IF($E464=\"\",IFERROR(IF($A464=\"\",\"\",SUBSTITUTE(SUBSTITUTE(SUBSTITUTE(INDIRECT(\"Trello!\"&ADDRESS(ROW()-1, F$1, 4)),\"MXN: \",\"\"),\" MX$\",\"\"),\".\",\"\")*1),\"\"),E464*F$2)","v":""},{"$f":"IFERROR(IF($A464=\"\",\"\",SUBSTITUTE(SUBSTITUTE(SUBSTITUTE(INDIRECT(\"Trello!\"&ADDRESS(ROW()-1, G$1, 4)),\"Debt: \",\"\"),\" $\",\"\"),\".\",\"\")*1)*IF(E464=\"\",1,F$2),\"\")","v":""},{"$f":"IFERROR(IF($A464=\"\",\"\",SUBSTITUTE(SUBSTITUTE(SUBSTITUTE(INDIRECT(\"Trello!\"&ADDRESS(ROW()-1, H$1, 4)),\"Cost: \",\"\"),\" $\",\"\"),\".\",\"\")*1*$F$2),\"\")","v":""},"",{"$f":"IFERROR(SUBSTITUTE(SUBSTITUTE(SUBSTITUTE(RIGHT(INDIRECT(\"Trello!\"&ADDRESS(ROW()-1, L$1, 4)),LEN(INDIRECT(\"Trello!\"&ADDRESS(ROW()-1, L$1, 4)))-15),\". \",\"/\"),\" 20\",\"/20\"),\" \",\"\"),\"\")","v":""},{"$f":"IFERROR(SUBSTITUTE(SUBSTITUTE(SUBSTITUTE(RIGHT(INDIRECT(\"Trello!\"&ADDRESS(ROW()-1, M$1, 4)),LEN(INDIRECT(\"Trello!\"&ADDRESS(ROW()-1, M$1, 4)))-15),\". \",\"/\"),\" 20\",\"/20\"),\" \",\"\"),\"\")","v":""},"","","",{"$f":"IFERROR(SUBSTITUTE(INDIRECT(\"Trello!\"&ADDRESS(ROW()-1, O$1, 4)),\"Estimate hrs: \",\"\")*1,\"\")","v":""},{"$f":"IF(SUMIF(Timecamp!C:C,Reporte!A464,Timecamp!J:J)=0,\"\",SUMIF(Timecamp!C:C,Reporte!A464,Timecamp!J:J))","v":""},"","",{"$f":"IFERROR(VLOOKUP(A464,'SLA Trab'!E:I,5,FALSE),\"\")","v":""},{"$f":"IFERROR(VLOOKUP(A464,'SLA Cobr'!E:I,5,FALSE),\"\")","v":""}]
[{"$f":"IFERROR(IF(Trello!E464=\"\",\"\",Trello!E464),\" \")","v":""},{"$f":"IF($A465=\"\",\"\",IF(Trello!A464=\"\",B464,Trello!A464))","v":""},"",{"$f":"IF($A465=\"\",\"\",SUBSTITUTE(SUBSTITUTE(Trello!J464,\" days\",\"\"),\"⌚ \",\"\")*1)","v":""},{"$f":"IFERROR(IF($A465=\"\",\"\",SUBSTITUTE(SUBSTITUTE(SUBSTITUTE(INDIRECT(\"Trello!\"&ADDRESS(ROW()-1, E$1, 4)),\"Foreign: \",\"\"),\" $\",\"\"),\".\",\"\")*1),\"\")","v":""},{"$f":"IF($E465=\"\",IFERROR(IF($A465=\"\",\"\",SUBSTITUTE(SUBSTITUTE(SUBSTITUTE(INDIRECT(\"Trello!\"&ADDRESS(ROW()-1, F$1, 4)),\"MXN: \",\"\"),\" MX$\",\"\"),\".\",\"\")*1),\"\"),E465*F$2)","v":""},{"$f":"IFERROR(IF($A465=\"\",\"\",SUBSTITUTE(SUBSTITUTE(SUBSTITUTE(INDIRECT(\"Trello!\"&ADDRESS(ROW()-1, G$1, 4)),\"Debt: \",\"\"),\" $\",\"\"),\".\",\"\")*1)*IF(E465=\"\",1,F$2),\"\")","v":""},{"$f":"IFERROR(IF($A465=\"\",\"\",SUBSTITUTE(SUBSTITUTE(SUBSTITUTE(INDIRECT(\"Trello!\"&ADDRESS(ROW()-1, H$1, 4)),\"Cost: \",\"\"),\" $\",\"\"),\".\",\"\")*1*$F$2),\"\")","v":""},"",{"$f":"IFERROR(SUBSTITUTE(SUBSTITUTE(SUBSTITUTE(RIGHT(INDIRECT(\"Trello!\"&ADDRESS(ROW()-1, L$1, 4)),LEN(INDIRECT(\"Trello!\"&ADDRESS(ROW()-1, L$1, 4)))-15),\". \",\"/\"),\" 20\",\"/20\"),\" \",\"\"),\"\")","v":""},{"$f":"IFERROR(SUBSTITUTE(SUBSTITUTE(SUBSTITUTE(RIGHT(INDIRECT(\"Trello!\"&ADDRESS(ROW()-1, M$1, 4)),LEN(INDIRECT(\"Trello!\"&ADDRESS(ROW()-1, M$1, 4)))-15),\". \",\"/\"),\" 20\",\"/20\"),\" \",\"\"),\"\")","v":""},"","","",{"$f":"IFERROR(SUBSTITUTE(INDIRECT(\"Trello!\"&ADDRESS(ROW()-1, O$1, 4)),\"Estimate hrs: \",\"\")*1,\"\")","v":""},{"$f":"IF(SUMIF(Timecamp!C:C,Reporte!A465,Timecamp!J:J)=0,\"\",SUMIF(Timecamp!C:C,Reporte!A465,Timecamp!J:J))","v":""},"","",{"$f":"IFERROR(VLOOKUP(A465,'SLA Trab'!E:I,5,FALSE),\"\")","v":""},{"$f":"IFERROR(VLOOKUP(A465,'SLA Cobr'!E:I,5,FALSE),\"\")","v":""}]
[{"$f":"IFERROR(IF(Trello!E465=\"\",\"\",Trello!E465),\" \")","v":""},{"$f":"IF($A466=\"\",\"\",IF(Trello!A465=\"\",B465,Trello!A465))","v":""},"",{"$f":"IF($A466=\"\",\"\",SUBSTITUTE(SUBSTITUTE(Trello!J465,\" days\",\"\"),\"⌚ \",\"\")*1)","v":""},{"$f":"IFERROR(IF($A466=\"\",\"\",SUBSTITUTE(SUBSTITUTE(SUBSTITUTE(INDIRECT(\"Trello!\"&ADDRESS(ROW()-1, E$1, 4)),\"Foreign: \",\"\"),\" $\",\"\"),\".\",\"\")*1),\"\")","v":""},{"$f":"IF($E466=\"\",IFERROR(IF($A466=\"\",\"\",SUBSTITUTE(SUBSTITUTE(SUBSTITUTE(INDIRECT(\"Trello!\"&ADDRESS(ROW()-1, F$1, 4)),\"MXN: \",\"\"),\" MX$\",\"\"),\".\",\"\")*1),\"\"),E466*F$2)","v":""},{"$f":"IFERROR(IF($A466=\"\",\"\",SUBSTITUTE(SUBSTITUTE(SUBSTITUTE(INDIRECT(\"Trello!\"&ADDRESS(ROW()-1, G$1, 4)),\"Debt: \",\"\"),\" $\",\"\"),\".\",\"\")*1)*IF(E466=\"\",1,F$2),\"\")","v":""},{"$f":"IFERROR(IF($A466=\"\",\"\",SUBSTITUTE(SUBSTITUTE(SUBSTITUTE(INDIRECT(\"Trello!\"&ADDRESS(ROW()-1, H$1, 4)),\"Cost: \",\"\"),\" $\",\"\"),\".\",\"\")*1*$F$2),\"\")","v":""},"",{"$f":"IFERROR(SUBSTITUTE(SUBSTITUTE(SUBSTITUTE(RIGHT(INDIRECT(\"Trello!\"&ADDRESS(ROW()-1, L$1, 4)),LEN(INDIRECT(\"Trello!\"&ADDRESS(ROW()-1, L$1, 4)))-15),\". \",\"/\"),\" 20\",\"/20\"),\" \",\"\"),\"\")","v":""},{"$f":"IFERROR(SUBSTITUTE(SUBSTITUTE(SUBSTITUTE(RIGHT(INDIRECT(\"Trello!\"&ADDRESS(ROW()-1, M$1, 4)),LEN(INDIRECT(\"Trello!\"&ADDRESS(ROW()-1, M$1, 4)))-15),\". \",\"/\"),\" 20\",\"/20\"),\" \",\"\"),\"\")","v":""},"","","",{"$f":"IFERROR(SUBSTITUTE(INDIRECT(\"Trello!\"&ADDRESS(ROW()-1, O$1, 4)),\"Estimate hrs: \",\"\")*1,\"\")","v":""},{"$f":"IF(SUMIF(Timecamp!C:C,Reporte!A466,Timecamp!J:J)=0,\"\",SUMIF(Timecamp!C:C,Reporte!A466,Timecamp!J:J))","v":""},"","",{"$f":"IFERROR(VLOOKUP(A466,'SLA Trab'!E:I,5,FALSE),\"\")","v":""},{"$f":"IFERROR(VLOOKUP(A466,'SLA Cobr'!E:I,5,FALSE),\"\")","v":""}]
[{"$f":"IFERROR(IF(Trello!E466=\"\",\"\",Trello!E466),\" \")","v":""},{"$f":"IF($A467=\"\",\"\",IF(Trello!A466=\"\",B466,Trello!A466))","v":""},"",{"$f":"IF($A467=\"\",\"\",SUBSTITUTE(SUBSTITUTE(Trello!J466,\" days\",\"\"),\"⌚ \",\"\")*1)","v":""},{"$f":"IFERROR(IF($A467=\"\",\"\",SUBSTITUTE(SUBSTITUTE(SUBSTITUTE(INDIRECT(\"Trello!\"&ADDRESS(ROW()-1, E$1, 4)),\"Foreign: \",\"\"),\" $\",\"\"),\".\",\"\")*1),\"\")","v":""},{"$f":"IF($E467=\"\",IFERROR(IF($A467=\"\",\"\",SUBSTITUTE(SUBSTITUTE(SUBSTITUTE(INDIRECT(\"Trello!\"&ADDRESS(ROW()-1, F$1, 4)),\"MXN: \",\"\"),\" MX$\",\"\"),\".\",\"\")*1),\"\"),E467*F$2)","v":""},{"$f":"IFERROR(IF($A467=\"\",\"\",SUBSTITUTE(SUBSTITUTE(SUBSTITUTE(INDIRECT(\"Trello!\"&ADDRESS(ROW()-1, G$1, 4)),\"Debt: \",\"\"),\" $\",\"\"),\".\",\"\")*1)*IF(E467=\"\",1,F$2),\"\")","v":""},{"$f":"IFERROR(IF($A467=\"\",\"\",SUBSTITUTE(SUBSTITUTE(SUBSTITUTE(INDIRECT(\"Trello!\"&ADDRESS(ROW()-1, H$1, 4)),\"Cost: \",\"\"),\" $\",\"\"),\".\",\"\")*1*$F$2),\"\")","v":""},"",{"$f":"IFERROR(SUBSTITUTE(SUBSTITUTE(SUBSTITUTE(RIGHT(INDIRECT(\"Trello!\"&ADDRESS(ROW()-1, L$1, 4)),LEN(INDIRECT(\"Trello!\"&ADDRESS(ROW()-1, L$1, 4)))-15),\". \",\"/\"),\" 20\",\"/20\"),\" \",\"\"),\"\")","v":""},{"$f":"IFERROR(SUBSTITUTE(SUBSTITUTE(SUBSTITUTE(RIGHT(INDIRECT(\"Trello!\"&ADDRESS(ROW()-1, M$1, 4)),LEN(INDIRECT(\"Trello!\"&ADDRESS(ROW()-1, M$1, 4)))-15),\". \",\"/\"),\" 20\",\"/20\"),\" \",\"\"),\"\")","v":""},"","","",{"$f":"IFERROR(SUBSTITUTE(INDIRECT(\"Trello!\"&ADDRESS(ROW()-1, O$1, 4)),\"Estimate hrs: \",\"\")*1,\"\")","v":""},{"$f":"IF(SUMIF(Timecamp!C:C,Reporte!A467,Timecamp!J:J)=0,\"\",SUMIF(Timecamp!C:C,Reporte!A467,Timecamp!J:J))","v":""},"","",{"$f":"IFERROR(VLOOKUP(A467,'SLA Trab'!E:I,5,FALSE),\"\")","v":""},{"$f":"IFERROR(VLOOKUP(A467,'SLA Cobr'!E:I,5,FALSE),\"\")","v":""}]
[{"$f":"IFERROR(IF(Trello!E467=\"\",\"\",Trello!E467),\" \")","v":""},{"$f":"IF($A468=\"\",\"\",IF(Trello!A467=\"\",B467,Trello!A467))","v":""},"",{"$f":"IF($A468=\"\",\"\",SUBSTITUTE(SUBSTITUTE(Trello!J467,\" days\",\"\"),\"⌚ \",\"\")*1)","v":""},{"$f":"IFERROR(IF($A468=\"\",\"\",SUBSTITUTE(SUBSTITUTE(SUBSTITUTE(INDIRECT(\"Trello!\"&ADDRESS(ROW()-1, E$1, 4)),\"Foreign: \",\"\"),\" $\",\"\"),\".\",\"\")*1),\"\")","v":""},{"$f":"IF($E468=\"\",IFERROR(IF($A468=\"\",\"\",SUBSTITUTE(SUBSTITUTE(SUBSTITUTE(INDIRECT(\"Trello!\"&ADDRESS(ROW()-1, F$1, 4)),\"MXN: \",\"\"),\" MX$\",\"\"),\".\",\"\")*1),\"\"),E468*F$2)","v":""},{"$f":"IFERROR(IF($A468=\"\",\"\",SUBSTITUTE(SUBSTITUTE(SUBSTITUTE(INDIRECT(\"Trello!\"&ADDRESS(ROW()-1, G$1, 4)),\"Debt: \",\"\"),\" $\",\"\"),\".\",\"\")*1)*IF(E468=\"\",1,F$2),\"\")","v":""},{"$f":"IFERROR(IF($A468=\"\",\"\",SUBSTITUTE(SUBSTITUTE(SUBSTITUTE(INDIRECT(\"Trello!\"&ADDRESS(ROW()-1, H$1, 4)),\"Cost: \",\"\"),\" $\",\"\"),\".\",\"\")*1*$F$2),\"\")","v":""},"",{"$f":"IFERROR(SUBSTITUTE(SUBSTITUTE(SUBSTITUTE(RIGHT(INDIRECT(\"Trello!\"&ADDRESS(ROW()-1, L$1, 4)),LEN(INDIRECT(\"Trello!\"&ADDRESS(ROW()-1, L$1, 4)))-15),\". \",\"/\"),\" 20\",\"/20\"),\" \",\"\"),\"\")","v":""},{"$f":"IFERROR(SUBSTITUTE(SUBSTITUTE(SUBSTITUTE(RIGHT(INDIRECT(\"Trello!\"&ADDRESS(ROW()-1, M$1, 4)),LEN(INDIRECT(\"Trello!\"&ADDRESS(ROW()-1, M$1, 4)))-15),\". \",\"/\"),\" 20\",\"/20\"),\" \",\"\"),\"\")","v":""},"","","",{"$f":"IFERROR(SUBSTITUTE(INDIRECT(\"Trello!\"&ADDRESS(ROW()-1, O$1, 4)),\"Estimate hrs: \",\"\")*1,\"\")","v":""},{"$f":"IF(SUMIF(Timecamp!C:C,Reporte!A468,Timecamp!J:J)=0,\"\",SUMIF(Timecamp!C:C,Reporte!A468,Timecamp!J:J))","v":""},"","",{"$f":"IFERROR(VLOOKUP(A468,'SLA Trab'!E:I,5,FALSE),\"\")","v":""},{"$f":"IFERROR(VLOOKUP(A468,'SLA Cobr'!E:I,5,FALSE),\"\")","v":""}]
[{"$f":"IFERROR(IF(Trello!E468=\"\",\"\",Trello!E468),\" \")","v":""},{"$f":"IF($A469=\"\",\"\",IF(Trello!A468=\"\",B468,Trello!A468))","v":""},"",{"$f":"IF($A469=\"\",\"\",SUBSTITUTE(SUBSTITUTE(Trello!J468,\" days\",\"\"),\"⌚ \",\"\")*1)","v":""},{"$f":"IFERROR(IF($A469=\"\",\"\",SUBSTITUTE(SUBSTITUTE(SUBSTITUTE(INDIRECT(\"Trello!\"&ADDRESS(ROW()-1, E$1, 4)),\"Foreign: \",\"\"),\" $\",\"\"),\".\",\"\")*1),\"\")","v":""},{"$f":"IF($E469=\"\",IFERROR(IF($A469=\"\",\"\",SUBSTITUTE(SUBSTITUTE(SUBSTITUTE(INDIRECT(\"Trello!\"&ADDRESS(ROW()-1, F$1, 4)),\"MXN: \",\"\"),\" MX$\",\"\"),\".\",\"\")*1),\"\"),E469*F$2)","v":""},{"$f":"IFERROR(IF($A469=\"\",\"\",SUBSTITUTE(SUBSTITUTE(SUBSTITUTE(INDIRECT(\"Trello!\"&ADDRESS(ROW()-1, G$1, 4)),\"Debt: \",\"\"),\" $\",\"\"),\".\",\"\")*1)*IF(E469=\"\",1,F$2),\"\")","v":""},{"$f":"IFERROR(IF($A469=\"\",\"\",SUBSTITUTE(SUBSTITUTE(SUBSTITUTE(INDIRECT(\"Trello!\"&ADDRESS(ROW()-1, H$1, 4)),\"Cost: \",\"\"),\" $\",\"\"),\".\",\"\")*1*$F$2),\"\")","v":""},"",{"$f":"IFERROR(SUBSTITUTE(SUBSTITUTE(SUBSTITUTE(RIGHT(INDIRECT(\"Trello!\"&ADDRESS(ROW()-1, L$1, 4)),LEN(INDIRECT(\"Trello!\"&ADDRESS(ROW()-1, L$1, 4)))-15),\". \",\"/\"),\" 20\",\"/20\"),\" \",\"\"),\"\")","v":""},{"$f":"IFERROR(SUBSTITUTE(SUBSTITUTE(SUBSTITUTE(RIGHT(INDIRECT(\"Trello!\"&ADDRESS(ROW()-1, M$1, 4)),LEN(INDIRECT(\"Trello!\"&ADDRESS(ROW()-1, M$1, 4)))-15),\". \",\"/\"),\" 20\",\"/20\"),\" \",\"\"),\"\")","v":""},"","","",{"$f":"IFERROR(SUBSTITUTE(INDIRECT(\"Trello!\"&ADDRESS(ROW()-1, O$1, 4)),\"Estimate hrs: \",\"\")*1,\"\")","v":""},{"$f":"IF(SUMIF(Timecamp!C:C,Reporte!A469,Timecamp!J:J)=0,\"\",SUMIF(Timecamp!C:C,Reporte!A469,Timecamp!J:J))","v":""},"","",{"$f":"IFERROR(VLOOKUP(A469,'SLA Trab'!E:I,5,FALSE),\"\")","v":""},{"$f":"IFERROR(VLOOKUP(A469,'SLA Cobr'!E:I,5,FALSE),\"\")","v":""}]
[{"$f":"IFERROR(IF(Trello!E469=\"\",\"\",Trello!E469),\" \")","v":""},{"$f":"IF($A470=\"\",\"\",IF(Trello!A469=\"\",B469,Trello!A469))","v":""},"",{"$f":"IF($A470=\"\",\"\",SUBSTITUTE(SUBSTITUTE(Trello!J469,\" days\",\"\"),\"⌚ \",\"\")*1)","v":""},{"$f":"IFERROR(IF($A470=\"\",\"\",SUBSTITUTE(SUBSTITUTE(SUBSTITUTE(INDIRECT(\"Trello!\"&ADDRESS(ROW()-1, E$1, 4)),\"Foreign: \",\"\"),\" $\",\"\"),\".\",\"\")*1),\"\")","v":""},{"$f":"IF($E470=\"\",IFERROR(IF($A470=\"\",\"\",SUBSTITUTE(SUBSTITUTE(SUBSTITUTE(INDIRECT(\"Trello!\"&ADDRESS(ROW()-1, F$1, 4)),\"MXN: \",\"\"),\" MX$\",\"\"),\".\",\"\")*1),\"\"),E470*F$2)","v":""},{"$f":"IFERROR(IF($A470=\"\",\"\",SUBSTITUTE(SUBSTITUTE(SUBSTITUTE(INDIRECT(\"Trello!\"&ADDRESS(ROW()-1, G$1, 4)),\"Debt: \",\"\"),\" $\",\"\"),\".\",\"\")*1)*IF(E470=\"\",1,F$2),\"\")","v":""},{"$f":"IFERROR(IF($A470=\"\",\"\",SUBSTITUTE(SUBSTITUTE(SUBSTITUTE(INDIRECT(\"Trello!\"&ADDRESS(ROW()-1, H$1, 4)),\"Cost: \",\"\"),\" $\",\"\"),\".\",\"\")*1*$F$2),\"\")","v":""},"",{"$f":"IFERROR(SUBSTITUTE(SUBSTITUTE(SUBSTITUTE(RIGHT(INDIRECT(\"Trello!\"&ADDRESS(ROW()-1, L$1, 4)),LEN(INDIRECT(\"Trello!\"&ADDRESS(ROW()-1, L$1, 4)))-15),\". \",\"/\"),\" 20\",\"/20\"),\" \",\"\"),\"\")","v":""},{"$f":"IFERROR(SUBSTITUTE(SUBSTITUTE(SUBSTITUTE(RIGHT(INDIRECT(\"Trello!\"&ADDRESS(ROW()-1, M$1, 4)),LEN(INDIRECT(\"Trello!\"&ADDRESS(ROW()-1, M$1, 4)))-15),\". \",\"/\"),\" 20\",\"/20\"),\" \",\"\"),\"\")","v":""},"","","",{"$f":"IFERROR(SUBSTITUTE(INDIRECT(\"Trello!\"&ADDRESS(ROW()-1, O$1, 4)),\"Estimate hrs: \",\"\")*1,\"\")","v":""},{"$f":"IF(SUMIF(Timecamp!C:C,Reporte!A470,Timecamp!J:J)=0,\"\",SUMIF(Timecamp!C:C,Reporte!A470,Timecamp!J:J))","v":""},"","",{"$f":"IFERROR(VLOOKUP(A470,'SLA Trab'!E:I,5,FALSE),\"\")","v":""},{"$f":"IFERROR(VLOOKUP(A470,'SLA Cobr'!E:I,5,FALSE),\"\")","v":""}]
[{"$f":"IFERROR(IF(Trello!E470=\"\",\"\",Trello!E470),\" \")","v":""},{"$f":"IF($A471=\"\",\"\",IF(Trello!A470=\"\",B470,Trello!A470))","v":""},"",{"$f":"IF($A471=\"\",\"\",SUBSTITUTE(SUBSTITUTE(Trello!J470,\" days\",\"\"),\"⌚ \",\"\")*1)","v":""},{"$f":"IFERROR(IF($A471=\"\",\"\",SUBSTITUTE(SUBSTITUTE(SUBSTITUTE(INDIRECT(\"Trello!\"&ADDRESS(ROW()-1, E$1, 4)),\"Foreign: \",\"\"),\" $\",\"\"),\".\",\"\")*1),\"\")","v":""},{"$f":"IF($E471=\"\",IFERROR(IF($A471=\"\",\"\",SUBSTITUTE(SUBSTITUTE(SUBSTITUTE(INDIRECT(\"Trello!\"&ADDRESS(ROW()-1, F$1, 4)),\"MXN: \",\"\"),\" MX$\",\"\"),\".\",\"\")*1),\"\"),E471*F$2)","v":""},{"$f":"IFERROR(IF($A471=\"\",\"\",SUBSTITUTE(SUBSTITUTE(SUBSTITUTE(INDIRECT(\"Trello!\"&ADDRESS(ROW()-1, G$1, 4)),\"Debt: \",\"\"),\" $\",\"\"),\".\",\"\")*1)*IF(E471=\"\",1,F$2),\"\")","v":""},{"$f":"IFERROR(IF($A471=\"\",\"\",SUBSTITUTE(SUBSTITUTE(SUBSTITUTE(INDIRECT(\"Trello!\"&ADDRESS(ROW()-1, H$1, 4)),\"Cost: \",\"\"),\" $\",\"\"),\".\",\"\")*1*$F$2),\"\")","v":""},"",{"$f":"IFERROR(SUBSTITUTE(SUBSTITUTE(SUBSTITUTE(RIGHT(INDIRECT(\"Trello!\"&ADDRESS(ROW()-1, L$1, 4)),LEN(INDIRECT(\"Trello!\"&ADDRESS(ROW()-1, L$1, 4)))-15),\". \",\"/\"),\" 20\",\"/20\"),\" \",\"\"),\"\")","v":""},{"$f":"IFERROR(SUBSTITUTE(SUBSTITUTE(SUBSTITUTE(RIGHT(INDIRECT(\"Trello!\"&ADDRESS(ROW()-1, M$1, 4)),LEN(INDIRECT(\"Trello!\"&ADDRESS(ROW()-1, M$1, 4)))-15),\". \",\"/\"),\" 20\",\"/20\"),\" \",\"\"),\"\")","v":""},"","","",{"$f":"IFERROR(SUBSTITUTE(INDIRECT(\"Trello!\"&ADDRESS(ROW()-1, O$1, 4)),\"Estimate hrs: \",\"\")*1,\"\")","v":""},{"$f":"IF(SUMIF(Timecamp!C:C,Reporte!A471,Timecamp!J:J)=0,\"\",SUMIF(Timecamp!C:C,Reporte!A471,Timecamp!J:J))","v":""},"","",{"$f":"IFERROR(VLOOKUP(A471,'SLA Trab'!E:I,5,FALSE),\"\")","v":""},{"$f":"IFERROR(VLOOKUP(A471,'SLA Cobr'!E:I,5,FALSE),\"\")","v":""}]
[{"$f":"IFERROR(IF(Trello!E471=\"\",\"\",Trello!E471),\" \")","v":""},{"$f":"IF($A472=\"\",\"\",IF(Trello!A471=\"\",B471,Trello!A471))","v":""},"",{"$f":"IF($A472=\"\",\"\",SUBSTITUTE(SUBSTITUTE(Trello!J471,\" days\",\"\"),\"⌚ \",\"\")*1)","v":""},{"$f":"IFERROR(IF($A472=\"\",\"\",SUBSTITUTE(SUBSTITUTE(SUBSTITUTE(INDIRECT(\"Trello!\"&ADDRESS(ROW()-1, E$1, 4)),\"Foreign: \",\"\"),\" $\",\"\"),\".\",\"\")*1),\"\")","v":""},{"$f":"IF($E472=\"\",IFERROR(IF($A472=\"\",\"\",SUBSTITUTE(SUBSTITUTE(SUBSTITUTE(INDIRECT(\"Trello!\"&ADDRESS(ROW()-1, F$1, 4)),\"MXN: \",\"\"),\" MX$\",\"\"),\".\",\"\")*1),\"\"),E472*F$2)","v":""},{"$f":"IFERROR(IF($A472=\"\",\"\",SUBSTITUTE(SUBSTITUTE(SUBSTITUTE(INDIRECT(\"Trello!\"&ADDRESS(ROW()-1, G$1, 4)),\"Debt: \",\"\"),\" $\",\"\"),\".\",\"\")*1)*IF(E472=\"\",1,F$2),\"\")","v":""},{"$f":"IFERROR(IF($A472=\"\",\"\",SUBSTITUTE(SUBSTITUTE(SUBSTITUTE(INDIRECT(\"Trello!\"&ADDRESS(ROW()-1, H$1, 4)),\"Cost: \",\"\"),\" $\",\"\"),\".\",\"\")*1*$F$2),\"\")","v":""},"",{"$f":"IFERROR(SUBSTITUTE(SUBSTITUTE(SUBSTITUTE(RIGHT(INDIRECT(\"Trello!\"&ADDRESS(ROW()-1, L$1, 4)),LEN(INDIRECT(\"Trello!\"&ADDRESS(ROW()-1, L$1, 4)))-15),\". \",\"/\"),\" 20\",\"/20\"),\" \",\"\"),\"\")","v":""},{"$f":"IFERROR(SUBSTITUTE(SUBSTITUTE(SUBSTITUTE(RIGHT(INDIRECT(\"Trello!\"&ADDRESS(ROW()-1, M$1, 4)),LEN(INDIRECT(\"Trello!\"&ADDRESS(ROW()-1, M$1, 4)))-15),\". \",\"/\"),\" 20\",\"/20\"),\" \",\"\"),\"\")","v":""},"","","",{"$f":"IFERROR(SUBSTITUTE(INDIRECT(\"Trello!\"&ADDRESS(ROW()-1, O$1, 4)),\"Estimate hrs: \",\"\")*1,\"\")","v":""},{"$f":"IF(SUMIF(Timecamp!C:C,Reporte!A472,Timecamp!J:J)=0,\"\",SUMIF(Timecamp!C:C,Reporte!A472,Timecamp!J:J))","v":""},"","",{"$f":"IFERROR(VLOOKUP(A472,'SLA Trab'!E:I,5,FALSE),\"\")","v":""},{"$f":"IFERROR(VLOOKUP(A472,'SLA Cobr'!E:I,5,FALSE),\"\")","v":""}]
[{"$f":"IFERROR(IF(Trello!E472=\"\",\"\",Trello!E472),\" \")","v":""},{"$f":"IF($A473=\"\",\"\",IF(Trello!A472=\"\",B472,Trello!A472))","v":""},"",{"$f":"IF($A473=\"\",\"\",SUBSTITUTE(SUBSTITUTE(Trello!J472,\" days\",\"\"),\"⌚ \",\"\")*1)","v":""},{"$f":"IFERROR(IF($A473=\"\",\"\",SUBSTITUTE(SUBSTITUTE(SUBSTITUTE(INDIRECT(\"Trello!\"&ADDRESS(ROW()-1, E$1, 4)),\"Foreign: \",\"\"),\" $\",\"\"),\".\",\"\")*1),\"\")","v":""},{"$f":"IF($E473=\"\",IFERROR(IF($A473=\"\",\"\",SUBSTITUTE(SUBSTITUTE(SUBSTITUTE(INDIRECT(\"Trello!\"&ADDRESS(ROW()-1, F$1, 4)),\"MXN: \",\"\"),\" MX$\",\"\"),\".\",\"\")*1),\"\"),E473*F$2)","v":""},{"$f":"IFERROR(IF($A473=\"\",\"\",SUBSTITUTE(SUBSTITUTE(SUBSTITUTE(INDIRECT(\"Trello!\"&ADDRESS(ROW()-1, G$1, 4)),\"Debt: \",\"\"),\" $\",\"\"),\".\",\"\")*1)*IF(E473=\"\",1,F$2),\"\")","v":""},{"$f":"IFERROR(IF($A473=\"\",\"\",SUBSTITUTE(SUBSTITUTE(SUBSTITUTE(INDIRECT(\"Trello!\"&ADDRESS(ROW()-1, H$1, 4)),\"Cost: \",\"\"),\" $\",\"\"),\".\",\"\")*1*$F$2),\"\")","v":""},"",{"$f":"IFERROR(SUBSTITUTE(SUBSTITUTE(SUBSTITUTE(RIGHT(INDIRECT(\"Trello!\"&ADDRESS(ROW()-1, L$1, 4)),LEN(INDIRECT(\"Trello!\"&ADDRESS(ROW()-1, L$1, 4)))-15),\". \",\"/\"),\" 20\",\"/20\"),\" \",\"\"),\"\")","v":""},{"$f":"IFERROR(SUBSTITUTE(SUBSTITUTE(SUBSTITUTE(RIGHT(INDIRECT(\"Trello!\"&ADDRESS(ROW()-1, M$1, 4)),LEN(INDIRECT(\"Trello!\"&ADDRESS(ROW()-1, M$1, 4)))-15),\". \",\"/\"),\" 20\",\"/20\"),\" \",\"\"),\"\")","v":""},"","","",{"$f":"IFERROR(SUBSTITUTE(INDIRECT(\"Trello!\"&ADDRESS(ROW()-1, O$1, 4)),\"Estimate hrs: \",\"\")*1,\"\")","v":""},{"$f":"IF(SUMIF(Timecamp!C:C,Reporte!A473,Timecamp!J:J)=0,\"\",SUMIF(Timecamp!C:C,Reporte!A473,Timecamp!J:J))","v":""},"","",{"$f":"IFERROR(VLOOKUP(A473,'SLA Trab'!E:I,5,FALSE),\"\")","v":""},{"$f":"IFERROR(VLOOKUP(A473,'SLA Cobr'!E:I,5,FALSE),\"\")","v":""}]
[{"$f":"IFERROR(IF(Trello!E473=\"\",\"\",Trello!E473),\" \")","v":""},{"$f":"IF($A474=\"\",\"\",IF(Trello!A473=\"\",B473,Trello!A473))","v":""},"",{"$f":"IF($A474=\"\",\"\",SUBSTITUTE(SUBSTITUTE(Trello!J473,\" days\",\"\"),\"⌚ \",\"\")*1)","v":""},{"$f":"IFERROR(IF($A474=\"\",\"\",SUBSTITUTE(SUBSTITUTE(SUBSTITUTE(INDIRECT(\"Trello!\"&ADDRESS(ROW()-1, E$1, 4)),\"Foreign: \",\"\"),\" $\",\"\"),\".\",\"\")*1),\"\")","v":""},{"$f":"IF($E474=\"\",IFERROR(IF($A474=\"\",\"\",SUBSTITUTE(SUBSTITUTE(SUBSTITUTE(INDIRECT(\"Trello!\"&ADDRESS(ROW()-1, F$1, 4)),\"MXN: \",\"\"),\" MX$\",\"\"),\".\",\"\")*1),\"\"),E474*F$2)","v":""},{"$f":"IFERROR(IF($A474=\"\",\"\",SUBSTITUTE(SUBSTITUTE(SUBSTITUTE(INDIRECT(\"Trello!\"&ADDRESS(ROW()-1, G$1, 4)),\"Debt: \",\"\"),\" $\",\"\"),\".\",\"\")*1)*IF(E474=\"\",1,F$2),\"\")","v":""},{"$f":"IFERROR(IF($A474=\"\",\"\",SUBSTITUTE(SUBSTITUTE(SUBSTITUTE(INDIRECT(\"Trello!\"&ADDRESS(ROW()-1, H$1, 4)),\"Cost: \",\"\"),\" $\",\"\"),\".\",\"\")*1*$F$2),\"\")","v":""},"",{"$f":"IFERROR(SUBSTITUTE(SUBSTITUTE(SUBSTITUTE(RIGHT(INDIRECT(\"Trello!\"&ADDRESS(ROW()-1, L$1, 4)),LEN(INDIRECT(\"Trello!\"&ADDRESS(ROW()-1, L$1, 4)))-15),\". \",\"/\"),\" 20\",\"/20\"),\" \",\"\"),\"\")","v":""},{"$f":"IFERROR(SUBSTITUTE(SUBSTITUTE(SUBSTITUTE(RIGHT(INDIRECT(\"Trello!\"&ADDRESS(ROW()-1, M$1, 4)),LEN(INDIRECT(\"Trello!\"&ADDRESS(ROW()-1, M$1, 4)))-15),\". \",\"/\"),\" 20\",\"/20\"),\" \",\"\"),\"\")","v":""},"","","",{"$f":"IFERROR(SUBSTITUTE(INDIRECT(\"Trello!\"&ADDRESS(ROW()-1, O$1, 4)),\"Estimate hrs: \",\"\")*1,\"\")","v":""},{"$f":"IF(SUMIF(Timecamp!C:C,Reporte!A474,Timecamp!J:J)=0,\"\",SUMIF(Timecamp!C:C,Reporte!A474,Timecamp!J:J))","v":""},"","",{"$f":"IFERROR(VLOOKUP(A474,'SLA Trab'!E:I,5,FALSE),\"\")","v":""},{"$f":"IFERROR(VLOOKUP(A474,'SLA Cobr'!E:I,5,FALSE),\"\")","v":""}]
[{"$f":"IFERROR(IF(Trello!E474=\"\",\"\",Trello!E474),\" \")","v":""},{"$f":"IF($A475=\"\",\"\",IF(Trello!A474=\"\",B474,Trello!A474))","v":""},"",{"$f":"IF($A475=\"\",\"\",SUBSTITUTE(SUBSTITUTE(Trello!J474,\" days\",\"\"),\"⌚ \",\"\")*1)","v":""},{"$f":"IFERROR(IF($A475=\"\",\"\",SUBSTITUTE(SUBSTITUTE(SUBSTITUTE(INDIRECT(\"Trello!\"&ADDRESS(ROW()-1, E$1, 4)),\"Foreign: \",\"\"),\" $\",\"\"),\".\",\"\")*1),\"\")","v":""},{"$f":"IF($E475=\"\",IFERROR(IF($A475=\"\",\"\",SUBSTITUTE(SUBSTITUTE(SUBSTITUTE(INDIRECT(\"Trello!\"&ADDRESS(ROW()-1, F$1, 4)),\"MXN: \",\"\"),\" MX$\",\"\"),\".\",\"\")*1),\"\"),E475*F$2)","v":""},{"$f":"IFERROR(IF($A475=\"\",\"\",SUBSTITUTE(SUBSTITUTE(SUBSTITUTE(INDIRECT(\"Trello!\"&ADDRESS(ROW()-1, G$1, 4)),\"Debt: \",\"\"),\" $\",\"\"),\".\",\"\")*1)*IF(E475=\"\",1,F$2),\"\")","v":""},{"$f":"IFERROR(IF($A475=\"\",\"\",SUBSTITUTE(SUBSTITUTE(SUBSTITUTE(INDIRECT(\"Trello!\"&ADDRESS(ROW()-1, H$1, 4)),\"Cost: \",\"\"),\" $\",\"\"),\".\",\"\")*1*$F$2),\"\")","v":""},"",{"$f":"IFERROR(SUBSTITUTE(SUBSTITUTE(SUBSTITUTE(RIGHT(INDIRECT(\"Trello!\"&ADDRESS(ROW()-1, L$1, 4)),LEN(INDIRECT(\"Trello!\"&ADDRESS(ROW()-1, L$1, 4)))-15),\". \",\"/\"),\" 20\",\"/20\"),\" \",\"\"),\"\")","v":""},{"$f":"IFERROR(SUBSTITUTE(SUBSTITUTE(SUBSTITUTE(RIGHT(INDIRECT(\"Trello!\"&ADDRESS(ROW()-1, M$1, 4)),LEN(INDIRECT(\"Trello!\"&ADDRESS(ROW()-1, M$1, 4)))-15),\". \",\"/\"),\" 20\",\"/20\"),\" \",\"\"),\"\")","v":""},"","","",{"$f":"IFERROR(SUBSTITUTE(INDIRECT(\"Trello!\"&ADDRESS(ROW()-1, O$1, 4)),\"Estimate hrs: \",\"\")*1,\"\")","v":""},{"$f":"IF(SUMIF(Timecamp!C:C,Reporte!A475,Timecamp!J:J)=0,\"\",SUMIF(Timecamp!C:C,Reporte!A475,Timecamp!J:J))","v":""},"","",{"$f":"IFERROR(VLOOKUP(A475,'SLA Trab'!E:I,5,FALSE),\"\")","v":""},{"$f":"IFERROR(VLOOKUP(A475,'SLA Cobr'!E:I,5,FALSE),\"\")","v":""}]
[{"$f":"IFERROR(IF(Trello!E475=\"\",\"\",Trello!E475),\" \")","v":""},{"$f":"IF($A476=\"\",\"\",IF(Trello!A475=\"\",B475,Trello!A475))","v":""},"",{"$f":"IF($A476=\"\",\"\",SUBSTITUTE(SUBSTITUTE(Trello!J475,\" days\",\"\"),\"⌚ \",\"\")*1)","v":""},{"$f":"IFERROR(IF($A476=\"\",\"\",SUBSTITUTE(SUBSTITUTE(SUBSTITUTE(INDIRECT(\"Trello!\"&ADDRESS(ROW()-1, E$1, 4)),\"Foreign: \",\"\"),\" $\",\"\"),\".\",\"\")*1),\"\")","v":""},{"$f":"IF($E476=\"\",IFERROR(IF($A476=\"\",\"\",SUBSTITUTE(SUBSTITUTE(SUBSTITUTE(INDIRECT(\"Trello!\"&ADDRESS(ROW()-1, F$1, 4)),\"MXN: \",\"\"),\" MX$\",\"\"),\".\",\"\")*1),\"\"),E476*F$2)","v":""},{"$f":"IFERROR(IF($A476=\"\",\"\",SUBSTITUTE(SUBSTITUTE(SUBSTITUTE(INDIRECT(\"Trello!\"&ADDRESS(ROW()-1, G$1, 4)),\"Debt: \",\"\"),\" $\",\"\"),\".\",\"\")*1)*IF(E476=\"\",1,F$2),\"\")","v":""},{"$f":"IFERROR(IF($A476=\"\",\"\",SUBSTITUTE(SUBSTITUTE(SUBSTITUTE(INDIRECT(\"Trello!\"&ADDRESS(ROW()-1, H$1, 4)),\"Cost: \",\"\"),\" $\",\"\"),\".\",\"\")*1*$F$2),\"\")","v":""},"",{"$f":"IFERROR(SUBSTITUTE(SUBSTITUTE(SUBSTITUTE(RIGHT(INDIRECT(\"Trello!\"&ADDRESS(ROW()-1, L$1, 4)),LEN(INDIRECT(\"Trello!\"&ADDRESS(ROW()-1, L$1, 4)))-15),\". \",\"/\"),\" 20\",\"/20\"),\" \",\"\"),\"\")","v":""},{"$f":"IFERROR(SUBSTITUTE(SUBSTITUTE(SUBSTITUTE(RIGHT(INDIRECT(\"Trello!\"&ADDRESS(ROW()-1, M$1, 4)),LEN(INDIRECT(\"Trello!\"&ADDRESS(ROW()-1, M$1, 4)))-15),\". \",\"/\"),\" 20\",\"/20\"),\" \",\"\"),\"\")","v":""},"","","",{"$f":"IFERROR(SUBSTITUTE(INDIRECT(\"Trello!\"&ADDRESS(ROW()-1, O$1, 4)),\"Estimate hrs: \",\"\")*1,\"\")","v":""},{"$f":"IF(SUMIF(Timecamp!C:C,Reporte!A476,Timecamp!J:J)=0,\"\",SUMIF(Timecamp!C:C,Reporte!A476,Timecamp!J:J))","v":""},"","",{"$f":"IFERROR(VLOOKUP(A476,'SLA Trab'!E:I,5,FALSE),\"\")","v":""},{"$f":"IFERROR(VLOOKUP(A476,'SLA Cobr'!E:I,5,FALSE),\"\")","v":""}]
[{"$f":"IFERROR(IF(Trello!E476=\"\",\"\",Trello!E476),\" \")","v":""},{"$f":"IF($A477=\"\",\"\",IF(Trello!A476=\"\",B476,Trello!A476))","v":""},"",{"$f":"IF($A477=\"\",\"\",SUBSTITUTE(SUBSTITUTE(Trello!J476,\" days\",\"\"),\"⌚ \",\"\")*1)","v":""},{"$f":"IFERROR(IF($A477=\"\",\"\",SUBSTITUTE(SUBSTITUTE(SUBSTITUTE(INDIRECT(\"Trello!\"&ADDRESS(ROW()-1, E$1, 4)),\"Foreign: \",\"\"),\" $\",\"\"),\".\",\"\")*1),\"\")","v":""},{"$f":"IF($E477=\"\",IFERROR(IF($A477=\"\",\"\",SUBSTITUTE(SUBSTITUTE(SUBSTITUTE(INDIRECT(\"Trello!\"&ADDRESS(ROW()-1, F$1, 4)),\"MXN: \",\"\"),\" MX$\",\"\"),\".\",\"\")*1),\"\"),E477*F$2)","v":""},{"$f":"IFERROR(IF($A477=\"\",\"\",SUBSTITUTE(SUBSTITUTE(SUBSTITUTE(INDIRECT(\"Trello!\"&ADDRESS(ROW()-1, G$1, 4)),\"Debt: \",\"\"),\" $\",\"\"),\".\",\"\")*1)*IF(E477=\"\",1,F$2),\"\")","v":""},{"$f":"IFERROR(IF($A477=\"\",\"\",SUBSTITUTE(SUBSTITUTE(SUBSTITUTE(INDIRECT(\"Trello!\"&ADDRESS(ROW()-1, H$1, 4)),\"Cost: \",\"\"),\" $\",\"\"),\".\",\"\")*1*$F$2),\"\")","v":""},"",{"$f":"IFERROR(SUBSTITUTE(SUBSTITUTE(SUBSTITUTE(RIGHT(INDIRECT(\"Trello!\"&ADDRESS(ROW()-1, L$1, 4)),LEN(INDIRECT(\"Trello!\"&ADDRESS(ROW()-1, L$1, 4)))-15),\". \",\"/\"),\" 20\",\"/20\"),\" \",\"\"),\"\")","v":""},{"$f":"IFERROR(SUBSTITUTE(SUBSTITUTE(SUBSTITUTE(RIGHT(INDIRECT(\"Trello!\"&ADDRESS(ROW()-1, M$1, 4)),LEN(INDIRECT(\"Trello!\"&ADDRESS(ROW()-1, M$1, 4)))-15),\". \",\"/\"),\" 20\",\"/20\"),\" \",\"\"),\"\")","v":""},"","","",{"$f":"IFERROR(SUBSTITUTE(INDIRECT(\"Trello!\"&ADDRESS(ROW()-1, O$1, 4)),\"Estimate hrs: \",\"\")*1,\"\")","v":""},{"$f":"IF(SUMIF(Timecamp!C:C,Reporte!A477,Timecamp!J:J)=0,\"\",SUMIF(Timecamp!C:C,Reporte!A477,Timecamp!J:J))","v":""},"","",{"$f":"IFERROR(VLOOKUP(A477,'SLA Trab'!E:I,5,FALSE),\"\")","v":""},{"$f":"IFERROR(VLOOKUP(A477,'SLA Cobr'!E:I,5,FALSE),\"\")","v":""}]
[{"$f":"IFERROR(IF(Trello!E477=\"\",\"\",Trello!E477),\" \")","v":""},{"$f":"IF($A478=\"\",\"\",IF(Trello!A477=\"\",B477,Trello!A477))","v":""},"",{"$f":"IF($A478=\"\",\"\",SUBSTITUTE(SUBSTITUTE(Trello!J477,\" days\",\"\"),\"⌚ \",\"\")*1)","v":""},{"$f":"IFERROR(IF($A478=\"\",\"\",SUBSTITUTE(SUBSTITUTE(SUBSTITUTE(INDIRECT(\"Trello!\"&ADDRESS(ROW()-1, E$1, 4)),\"Foreign: \",\"\"),\" $\",\"\"),\".\",\"\")*1),\"\")","v":""},{"$f":"IF($E478=\"\",IFERROR(IF($A478=\"\",\"\",SUBSTITUTE(SUBSTITUTE(SUBSTITUTE(INDIRECT(\"Trello!\"&ADDRESS(ROW()-1, F$1, 4)),\"MXN: \",\"\"),\" MX$\",\"\"),\".\",\"\")*1),\"\"),E478*F$2)","v":""},{"$f":"IFERROR(IF($A478=\"\",\"\",SUBSTITUTE(SUBSTITUTE(SUBSTITUTE(INDIRECT(\"Trello!\"&ADDRESS(ROW()-1, G$1, 4)),\"Debt: \",\"\"),\" $\",\"\"),\".\",\"\")*1)*IF(E478=\"\",1,F$2),\"\")","v":""},{"$f":"IFERROR(IF($A478=\"\",\"\",SUBSTITUTE(SUBSTITUTE(SUBSTITUTE(INDIRECT(\"Trello!\"&ADDRESS(ROW()-1, H$1, 4)),\"Cost: \",\"\"),\" $\",\"\"),\".\",\"\")*1*$F$2),\"\")","v":""},"",{"$f":"IFERROR(SUBSTITUTE(SUBSTITUTE(SUBSTITUTE(RIGHT(INDIRECT(\"Trello!\"&ADDRESS(ROW()-1, L$1, 4)),LEN(INDIRECT(\"Trello!\"&ADDRESS(ROW()-1, L$1, 4)))-15),\". \",\"/\"),\" 20\",\"/20\"),\" \",\"\"),\"\")","v":""},{"$f":"IFERROR(SUBSTITUTE(SUBSTITUTE(SUBSTITUTE(RIGHT(INDIRECT(\"Trello!\"&ADDRESS(ROW()-1, M$1, 4)),LEN(INDIRECT(\"Trello!\"&ADDRESS(ROW()-1, M$1, 4)))-15),\". \",\"/\"),\" 20\",\"/20\"),\" \",\"\"),\"\")","v":""},"","","",{"$f":"IFERROR(SUBSTITUTE(INDIRECT(\"Trello!\"&ADDRESS(ROW()-1, O$1, 4)),\"Estimate hrs: \",\"\")*1,\"\")","v":""},{"$f":"IF(SUMIF(Timecamp!C:C,Reporte!A478,Timecamp!J:J)=0,\"\",SUMIF(Timecamp!C:C,Reporte!A478,Timecamp!J:J))","v":""},"","",{"$f":"IFERROR(VLOOKUP(A478,'SLA Trab'!E:I,5,FALSE),\"\")","v":""},{"$f":"IFERROR(VLOOKUP(A478,'SLA Cobr'!E:I,5,FALSE),\"\")","v":""}]
[{"$f":"IFERROR(IF(Trello!E478=\"\",\"\",Trello!E478),\" \")","v":""},{"$f":"IF($A479=\"\",\"\",IF(Trello!A478=\"\",B478,Trello!A478))","v":""},"",{"$f":"IF($A479=\"\",\"\",SUBSTITUTE(SUBSTITUTE(Trello!J478,\" days\",\"\"),\"⌚ \",\"\")*1)","v":""},{"$f":"IFERROR(IF($A479=\"\",\"\",SUBSTITUTE(SUBSTITUTE(SUBSTITUTE(INDIRECT(\"Trello!\"&ADDRESS(ROW()-1, E$1, 4)),\"Foreign: \",\"\"),\" $\",\"\"),\".\",\"\")*1),\"\")","v":""},{"$f":"IF($E479=\"\",IFERROR(IF($A479=\"\",\"\",SUBSTITUTE(SUBSTITUTE(SUBSTITUTE(INDIRECT(\"Trello!\"&ADDRESS(ROW()-1, F$1, 4)),\"MXN: \",\"\"),\" MX$\",\"\"),\".\",\"\")*1),\"\"),E479*F$2)","v":""},{"$f":"IFERROR(IF($A479=\"\",\"\",SUBSTITUTE(SUBSTITUTE(SUBSTITUTE(INDIRECT(\"Trello!\"&ADDRESS(ROW()-1, G$1, 4)),\"Debt: \",\"\"),\" $\",\"\"),\".\",\"\")*1)*IF(E479=\"\",1,F$2),\"\")","v":""},{"$f":"IFERROR(IF($A479=\"\",\"\",SUBSTITUTE(SUBSTITUTE(SUBSTITUTE(INDIRECT(\"Trello!\"&ADDRESS(ROW()-1, H$1, 4)),\"Cost: \",\"\"),\" $\",\"\"),\".\",\"\")*1*$F$2),\"\")","v":""},"",{"$f":"IFERROR(SUBSTITUTE(SUBSTITUTE(SUBSTITUTE(RIGHT(INDIRECT(\"Trello!\"&ADDRESS(ROW()-1, L$1, 4)),LEN(INDIRECT(\"Trello!\"&ADDRESS(ROW()-1, L$1, 4)))-15),\". \",\"/\"),\" 20\",\"/20\"),\" \",\"\"),\"\")","v":""},{"$f":"IFERROR(SUBSTITUTE(SUBSTITUTE(SUBSTITUTE(RIGHT(INDIRECT(\"Trello!\"&ADDRESS(ROW()-1, M$1, 4)),LEN(INDIRECT(\"Trello!\"&ADDRESS(ROW()-1, M$1, 4)))-15),\". \",\"/\"),\" 20\",\"/20\"),\" \",\"\"),\"\")","v":""},"","","",{"$f":"IFERROR(SUBSTITUTE(INDIRECT(\"Trello!\"&ADDRESS(ROW()-1, O$1, 4)),\"Estimate hrs: \",\"\")*1,\"\")","v":""},{"$f":"IF(SUMIF(Timecamp!C:C,Reporte!A479,Timecamp!J:J)=0,\"\",SUMIF(Timecamp!C:C,Reporte!A479,Timecamp!J:J))","v":""},"","",{"$f":"IFERROR(VLOOKUP(A479,'SLA Trab'!E:I,5,FALSE),\"\")","v":""},{"$f":"IFERROR(VLOOKUP(A479,'SLA Cobr'!E:I,5,FALSE),\"\")","v":""}]
[{"$f":"IFERROR(IF(Trello!E479=\"\",\"\",Trello!E479),\" \")","v":""},{"$f":"IF($A480=\"\",\"\",IF(Trello!A479=\"\",B479,Trello!A479))","v":""},"",{"$f":"IF($A480=\"\",\"\",SUBSTITUTE(SUBSTITUTE(Trello!J479,\" days\",\"\"),\"⌚ \",\"\")*1)","v":""},{"$f":"IFERROR(IF($A480=\"\",\"\",SUBSTITUTE(SUBSTITUTE(SUBSTITUTE(INDIRECT(\"Trello!\"&ADDRESS(ROW()-1, E$1, 4)),\"Foreign: \",\"\"),\" $\",\"\"),\".\",\"\")*1),\"\")","v":""},{"$f":"IF($E480=\"\",IFERROR(IF($A480=\"\",\"\",SUBSTITUTE(SUBSTITUTE(SUBSTITUTE(INDIRECT(\"Trello!\"&ADDRESS(ROW()-1, F$1, 4)),\"MXN: \",\"\"),\" MX$\",\"\"),\".\",\"\")*1),\"\"),E480*F$2)","v":""},{"$f":"IFERROR(IF($A480=\"\",\"\",SUBSTITUTE(SUBSTITUTE(SUBSTITUTE(INDIRECT(\"Trello!\"&ADDRESS(ROW()-1, G$1, 4)),\"Debt: \",\"\"),\" $\",\"\"),\".\",\"\")*1)*IF(E480=\"\",1,F$2),\"\")","v":""},{"$f":"IFERROR(IF($A480=\"\",\"\",SUBSTITUTE(SUBSTITUTE(SUBSTITUTE(INDIRECT(\"Trello!\"&ADDRESS(ROW()-1, H$1, 4)),\"Cost: \",\"\"),\" $\",\"\"),\".\",\"\")*1*$F$2),\"\")","v":""},"",{"$f":"IFERROR(SUBSTITUTE(SUBSTITUTE(SUBSTITUTE(RIGHT(INDIRECT(\"Trello!\"&ADDRESS(ROW()-1, L$1, 4)),LEN(INDIRECT(\"Trello!\"&ADDRESS(ROW()-1, L$1, 4)))-15),\". \",\"/\"),\" 20\",\"/20\"),\" \",\"\"),\"\")","v":""},{"$f":"IFERROR(SUBSTITUTE(SUBSTITUTE(SUBSTITUTE(RIGHT(INDIRECT(\"Trello!\"&ADDRESS(ROW()-1, M$1, 4)),LEN(INDIRECT(\"Trello!\"&ADDRESS(ROW()-1, M$1, 4)))-15),\". \",\"/\"),\" 20\",\"/20\"),\" \",\"\"),\"\")","v":""},"","","",{"$f":"IFERROR(SUBSTITUTE(INDIRECT(\"Trello!\"&ADDRESS(ROW()-1, O$1, 4)),\"Estimate hrs: \",\"\")*1,\"\")","v":""},{"$f":"IF(SUMIF(Timecamp!C:C,Reporte!A480,Timecamp!J:J)=0,\"\",SUMIF(Timecamp!C:C,Reporte!A480,Timecamp!J:J))","v":""},"","",{"$f":"IFERROR(VLOOKUP(A480,'SLA Trab'!E:I,5,FALSE),\"\")","v":""},{"$f":"IFERROR(VLOOKUP(A480,'SLA Cobr'!E:I,5,FALSE),\"\")","v":""}]
[{"$f":"IFERROR(IF(Trello!E480=\"\",\"\",Trello!E480),\" \")","v":""},{"$f":"IF($A481=\"\",\"\",IF(Trello!A480=\"\",B480,Trello!A480))","v":""},"",{"$f":"IF($A481=\"\",\"\",SUBSTITUTE(SUBSTITUTE(Trello!J480,\" days\",\"\"),\"⌚ \",\"\")*1)","v":""},{"$f":"IFERROR(IF($A481=\"\",\"\",SUBSTITUTE(SUBSTITUTE(SUBSTITUTE(INDIRECT(\"Trello!\"&ADDRESS(ROW()-1, E$1, 4)),\"Foreign: \",\"\"),\" $\",\"\"),\".\",\"\")*1),\"\")","v":""},{"$f":"IF($E481=\"\",IFERROR(IF($A481=\"\",\"\",SUBSTITUTE(SUBSTITUTE(SUBSTITUTE(INDIRECT(\"Trello!\"&ADDRESS(ROW()-1, F$1, 4)),\"MXN: \",\"\"),\" MX$\",\"\"),\".\",\"\")*1),\"\"),E481*F$2)","v":""},{"$f":"IFERROR(IF($A481=\"\",\"\",SUBSTITUTE(SUBSTITUTE(SUBSTITUTE(INDIRECT(\"Trello!\"&ADDRESS(ROW()-1, G$1, 4)),\"Debt: \",\"\"),\" $\",\"\"),\".\",\"\")*1)*IF(E481=\"\",1,F$2),\"\")","v":""},{"$f":"IFERROR(IF($A481=\"\",\"\",SUBSTITUTE(SUBSTITUTE(SUBSTITUTE(INDIRECT(\"Trello!\"&ADDRESS(ROW()-1, H$1, 4)),\"Cost: \",\"\"),\" $\",\"\"),\".\",\"\")*1*$F$2),\"\")","v":""},"",{"$f":"IFERROR(SUBSTITUTE(SUBSTITUTE(SUBSTITUTE(RIGHT(INDIRECT(\"Trello!\"&ADDRESS(ROW()-1, L$1, 4)),LEN(INDIRECT(\"Trello!\"&ADDRESS(ROW()-1, L$1, 4)))-15),\". \",\"/\"),\" 20\",\"/20\"),\" \",\"\"),\"\")","v":""},{"$f":"IFERROR(SUBSTITUTE(SUBSTITUTE(SUBSTITUTE(RIGHT(INDIRECT(\"Trello!\"&ADDRESS(ROW()-1, M$1, 4)),LEN(INDIRECT(\"Trello!\"&ADDRESS(ROW()-1, M$1, 4)))-15),\". \",\"/\"),\" 20\",\"/20\"),\" \",\"\"),\"\")","v":""},"","","",{"$f":"IFERROR(SUBSTITUTE(INDIRECT(\"Trello!\"&ADDRESS(ROW()-1, O$1, 4)),\"Estimate hrs: \",\"\")*1,\"\")","v":""},{"$f":"IF(SUMIF(Timecamp!C:C,Reporte!A481,Timecamp!J:J)=0,\"\",SUMIF(Timecamp!C:C,Reporte!A481,Timecamp!J:J))","v":""},"","",{"$f":"IFERROR(VLOOKUP(A481,'SLA Trab'!E:I,5,FALSE),\"\")","v":""},{"$f":"IFERROR(VLOOKUP(A481,'SLA Cobr'!E:I,5,FALSE),\"\")","v":""}]
[{"$f":"IFERROR(IF(Trello!E481=\"\",\"\",Trello!E481),\" \")","v":""},{"$f":"IF($A482=\"\",\"\",IF(Trello!A481=\"\",B481,Trello!A481))","v":""},"",{"$f":"IF($A482=\"\",\"\",SUBSTITUTE(SUBSTITUTE(Trello!J481,\" days\",\"\"),\"⌚ \",\"\")*1)","v":""},{"$f":"IFERROR(IF($A482=\"\",\"\",SUBSTITUTE(SUBSTITUTE(SUBSTITUTE(INDIRECT(\"Trello!\"&ADDRESS(ROW()-1, E$1, 4)),\"Foreign: \",\"\"),\" $\",\"\"),\".\",\"\")*1),\"\")","v":""},{"$f":"IF($E482=\"\",IFERROR(IF($A482=\"\",\"\",SUBSTITUTE(SUBSTITUTE(SUBSTITUTE(INDIRECT(\"Trello!\"&ADDRESS(ROW()-1, F$1, 4)),\"MXN: \",\"\"),\" MX$\",\"\"),\".\",\"\")*1),\"\"),E482*F$2)","v":""},{"$f":"IFERROR(IF($A482=\"\",\"\",SUBSTITUTE(SUBSTITUTE(SUBSTITUTE(INDIRECT(\"Trello!\"&ADDRESS(ROW()-1, G$1, 4)),\"Debt: \",\"\"),\" $\",\"\"),\".\",\"\")*1)*IF(E482=\"\",1,F$2),\"\")","v":""},{"$f":"IFERROR(IF($A482=\"\",\"\",SUBSTITUTE(SUBSTITUTE(SUBSTITUTE(INDIRECT(\"Trello!\"&ADDRESS(ROW()-1, H$1, 4)),\"Cost: \",\"\"),\" $\",\"\"),\".\",\"\")*1*$F$2),\"\")","v":""},"",{"$f":"IFERROR(SUBSTITUTE(SUBSTITUTE(SUBSTITUTE(RIGHT(INDIRECT(\"Trello!\"&ADDRESS(ROW()-1, L$1, 4)),LEN(INDIRECT(\"Trello!\"&ADDRESS(ROW()-1, L$1, 4)))-15),\". \",\"/\"),\" 20\",\"/20\"),\" \",\"\"),\"\")","v":""},{"$f":"IFERROR(SUBSTITUTE(SUBSTITUTE(SUBSTITUTE(RIGHT(INDIRECT(\"Trello!\"&ADDRESS(ROW()-1, M$1, 4)),LEN(INDIRECT(\"Trello!\"&ADDRESS(ROW()-1, M$1, 4)))-15),\". \",\"/\"),\" 20\",\"/20\"),\" \",\"\"),\"\")","v":""},"","","",{"$f":"IFERROR(SUBSTITUTE(INDIRECT(\"Trello!\"&ADDRESS(ROW()-1, O$1, 4)),\"Estimate hrs: \",\"\")*1,\"\")","v":""},{"$f":"IF(SUMIF(Timecamp!C:C,Reporte!A482,Timecamp!J:J)=0,\"\",SUMIF(Timecamp!C:C,Reporte!A482,Timecamp!J:J))","v":""},"","",{"$f":"IFERROR(VLOOKUP(A482,'SLA Trab'!E:I,5,FALSE),\"\")","v":""},{"$f":"IFERROR(VLOOKUP(A482,'SLA Cobr'!E:I,5,FALSE),\"\")","v":""}]
[{"$f":"IFERROR(IF(Trello!E482=\"\",\"\",Trello!E482),\" \")","v":""},{"$f":"IF($A483=\"\",\"\",IF(Trello!A482=\"\",B482,Trello!A482))","v":""},"",{"$f":"IF($A483=\"\",\"\",SUBSTITUTE(SUBSTITUTE(Trello!J482,\" days\",\"\"),\"⌚ \",\"\")*1)","v":""},{"$f":"IFERROR(IF($A483=\"\",\"\",SUBSTITUTE(SUBSTITUTE(SUBSTITUTE(INDIRECT(\"Trello!\"&ADDRESS(ROW()-1, E$1, 4)),\"Foreign: \",\"\"),\" $\",\"\"),\".\",\"\")*1),\"\")","v":""},{"$f":"IF($E483=\"\",IFERROR(IF($A483=\"\",\"\",SUBSTITUTE(SUBSTITUTE(SUBSTITUTE(INDIRECT(\"Trello!\"&ADDRESS(ROW()-1, F$1, 4)),\"MXN: \",\"\"),\" MX$\",\"\"),\".\",\"\")*1),\"\"),E483*F$2)","v":""},{"$f":"IFERROR(IF($A483=\"\",\"\",SUBSTITUTE(SUBSTITUTE(SUBSTITUTE(INDIRECT(\"Trello!\"&ADDRESS(ROW()-1, G$1, 4)),\"Debt: \",\"\"),\" $\",\"\"),\".\",\"\")*1)*IF(E483=\"\",1,F$2),\"\")","v":""},{"$f":"IFERROR(IF($A483=\"\",\"\",SUBSTITUTE(SUBSTITUTE(SUBSTITUTE(INDIRECT(\"Trello!\"&ADDRESS(ROW()-1, H$1, 4)),\"Cost: \",\"\"),\" $\",\"\"),\".\",\"\")*1*$F$2),\"\")","v":""},"",{"$f":"IFERROR(SUBSTITUTE(SUBSTITUTE(SUBSTITUTE(RIGHT(INDIRECT(\"Trello!\"&ADDRESS(ROW()-1, L$1, 4)),LEN(INDIRECT(\"Trello!\"&ADDRESS(ROW()-1, L$1, 4)))-15),\". \",\"/\"),\" 20\",\"/20\"),\" \",\"\"),\"\")","v":""},{"$f":"IFERROR(SUBSTITUTE(SUBSTITUTE(SUBSTITUTE(RIGHT(INDIRECT(\"Trello!\"&ADDRESS(ROW()-1, M$1, 4)),LEN(INDIRECT(\"Trello!\"&ADDRESS(ROW()-1, M$1, 4)))-15),\". \",\"/\"),\" 20\",\"/20\"),\" \",\"\"),\"\")","v":""},"","","",{"$f":"IFERROR(SUBSTITUTE(INDIRECT(\"Trello!\"&ADDRESS(ROW()-1, O$1, 4)),\"Estimate hrs: \",\"\")*1,\"\")","v":""},{"$f":"IF(SUMIF(Timecamp!C:C,Reporte!A483,Timecamp!J:J)=0,\"\",SUMIF(Timecamp!C:C,Reporte!A483,Timecamp!J:J))","v":""},"","",{"$f":"IFERROR(VLOOKUP(A483,'SLA Trab'!E:I,5,FALSE),\"\")","v":""},{"$f":"IFERROR(VLOOKUP(A483,'SLA Cobr'!E:I,5,FALSE),\"\")","v":""}]
[{"$f":"IFERROR(IF(Trello!E483=\"\",\"\",Trello!E483),\" \")","v":""},{"$f":"IF($A484=\"\",\"\",IF(Trello!A483=\"\",B483,Trello!A483))","v":""},"",{"$f":"IF($A484=\"\",\"\",SUBSTITUTE(SUBSTITUTE(Trello!J483,\" days\",\"\"),\"⌚ \",\"\")*1)","v":""},{"$f":"IFERROR(IF($A484=\"\",\"\",SUBSTITUTE(SUBSTITUTE(SUBSTITUTE(INDIRECT(\"Trello!\"&ADDRESS(ROW()-1, E$1, 4)),\"Foreign: \",\"\"),\" $\",\"\"),\".\",\"\")*1),\"\")","v":""},{"$f":"IF($E484=\"\",IFERROR(IF($A484=\"\",\"\",SUBSTITUTE(SUBSTITUTE(SUBSTITUTE(INDIRECT(\"Trello!\"&ADDRESS(ROW()-1, F$1, 4)),\"MXN: \",\"\"),\" MX$\",\"\"),\".\",\"\")*1),\"\"),E484*F$2)","v":""},{"$f":"IFERROR(IF($A484=\"\",\"\",SUBSTITUTE(SUBSTITUTE(SUBSTITUTE(INDIRECT(\"Trello!\"&ADDRESS(ROW()-1, G$1, 4)),\"Debt: \",\"\"),\" $\",\"\"),\".\",\"\")*1)*IF(E484=\"\",1,F$2),\"\")","v":""},{"$f":"IFERROR(IF($A484=\"\",\"\",SUBSTITUTE(SUBSTITUTE(SUBSTITUTE(INDIRECT(\"Trello!\"&ADDRESS(ROW()-1, H$1, 4)),\"Cost: \",\"\"),\" $\",\"\"),\".\",\"\")*1*$F$2),\"\")","v":""},"",{"$f":"IFERROR(SUBSTITUTE(SUBSTITUTE(SUBSTITUTE(RIGHT(INDIRECT(\"Trello!\"&ADDRESS(ROW()-1, L$1, 4)),LEN(INDIRECT(\"Trello!\"&ADDRESS(ROW()-1, L$1, 4)))-15),\". \",\"/\"),\" 20\",\"/20\"),\" \",\"\"),\"\")","v":""},{"$f":"IFERROR(SUBSTITUTE(SUBSTITUTE(SUBSTITUTE(RIGHT(INDIRECT(\"Trello!\"&ADDRESS(ROW()-1, M$1, 4)),LEN(INDIRECT(\"Trello!\"&ADDRESS(ROW()-1, M$1, 4)))-15),\". \",\"/\"),\" 20\",\"/20\"),\" \",\"\"),\"\")","v":""},"","","",{"$f":"IFERROR(SUBSTITUTE(INDIRECT(\"Trello!\"&ADDRESS(ROW()-1, O$1, 4)),\"Estimate hrs: \",\"\")*1,\"\")","v":""},{"$f":"IF(SUMIF(Timecamp!C:C,Reporte!A484,Timecamp!J:J)=0,\"\",SUMIF(Timecamp!C:C,Reporte!A484,Timecamp!J:J))","v":""},"","",{"$f":"IFERROR(VLOOKUP(A484,'SLA Trab'!E:I,5,FALSE),\"\")","v":""},{"$f":"IFERROR(VLOOKUP(A484,'SLA Cobr'!E:I,5,FALSE),\"\")","v":""}]
[{"$f":"IFERROR(IF(Trello!E484=\"\",\"\",Trello!E484),\" \")","v":""},{"$f":"IF($A485=\"\",\"\",IF(Trello!A484=\"\",B484,Trello!A484))","v":""},"",{"$f":"IF($A485=\"\",\"\",SUBSTITUTE(SUBSTITUTE(Trello!J484,\" days\",\"\"),\"⌚ \",\"\")*1)","v":""},{"$f":"IFERROR(IF($A485=\"\",\"\",SUBSTITUTE(SUBSTITUTE(SUBSTITUTE(INDIRECT(\"Trello!\"&ADDRESS(ROW()-1, E$1, 4)),\"Foreign: \",\"\"),\" $\",\"\"),\".\",\"\")*1),\"\")","v":""},{"$f":"IF($E485=\"\",IFERROR(IF($A485=\"\",\"\",SUBSTITUTE(SUBSTITUTE(SUBSTITUTE(INDIRECT(\"Trello!\"&ADDRESS(ROW()-1, F$1, 4)),\"MXN: \",\"\"),\" MX$\",\"\"),\".\",\"\")*1),\"\"),E485*F$2)","v":""},{"$f":"IFERROR(IF($A485=\"\",\"\",SUBSTITUTE(SUBSTITUTE(SUBSTITUTE(INDIRECT(\"Trello!\"&ADDRESS(ROW()-1, G$1, 4)),\"Debt: \",\"\"),\" $\",\"\"),\".\",\"\")*1)*IF(E485=\"\",1,F$2),\"\")","v":""},{"$f":"IFERROR(IF($A485=\"\",\"\",SUBSTITUTE(SUBSTITUTE(SUBSTITUTE(INDIRECT(\"Trello!\"&ADDRESS(ROW()-1, H$1, 4)),\"Cost: \",\"\"),\" $\",\"\"),\".\",\"\")*1*$F$2),\"\")","v":""},"",{"$f":"IFERROR(SUBSTITUTE(SUBSTITUTE(SUBSTITUTE(RIGHT(INDIRECT(\"Trello!\"&ADDRESS(ROW()-1, L$1, 4)),LEN(INDIRECT(\"Trello!\"&ADDRESS(ROW()-1, L$1, 4)))-15),\". \",\"/\"),\" 20\",\"/20\"),\" \",\"\"),\"\")","v":""},{"$f":"IFERROR(SUBSTITUTE(SUBSTITUTE(SUBSTITUTE(RIGHT(INDIRECT(\"Trello!\"&ADDRESS(ROW()-1, M$1, 4)),LEN(INDIRECT(\"Trello!\"&ADDRESS(ROW()-1, M$1, 4)))-15),\". \",\"/\"),\" 20\",\"/20\"),\" \",\"\"),\"\")","v":""},"","","",{"$f":"IFERROR(SUBSTITUTE(INDIRECT(\"Trello!\"&ADDRESS(ROW()-1, O$1, 4)),\"Estimate hrs: \",\"\")*1,\"\")","v":""},{"$f":"IF(SUMIF(Timecamp!C:C,Reporte!A485,Timecamp!J:J)=0,\"\",SUMIF(Timecamp!C:C,Reporte!A485,Timecamp!J:J))","v":""},"","",{"$f":"IFERROR(VLOOKUP(A485,'SLA Trab'!E:I,5,FALSE),\"\")","v":""},{"$f":"IFERROR(VLOOKUP(A485,'SLA Cobr'!E:I,5,FALSE),\"\")","v":""}]
[{"$f":"IFERROR(IF(Trello!E485=\"\",\"\",Trello!E485),\" \")","v":""},{"$f":"IF($A486=\"\",\"\",IF(Trello!A485=\"\",B485,Trello!A485))","v":""},"",{"$f":"IF($A486=\"\",\"\",SUBSTITUTE(SUBSTITUTE(Trello!J485,\" days\",\"\"),\"⌚ \",\"\")*1)","v":""},{"$f":"IFERROR(IF($A486=\"\",\"\",SUBSTITUTE(SUBSTITUTE(SUBSTITUTE(INDIRECT(\"Trello!\"&ADDRESS(ROW()-1, E$1, 4)),\"Foreign: \",\"\"),\" $\",\"\"),\".\",\"\")*1),\"\")","v":""},{"$f":"IF($E486=\"\",IFERROR(IF($A486=\"\",\"\",SUBSTITUTE(SUBSTITUTE(SUBSTITUTE(INDIRECT(\"Trello!\"&ADDRESS(ROW()-1, F$1, 4)),\"MXN: \",\"\"),\" MX$\",\"\"),\".\",\"\")*1),\"\"),E486*F$2)","v":""},{"$f":"IFERROR(IF($A486=\"\",\"\",SUBSTITUTE(SUBSTITUTE(SUBSTITUTE(INDIRECT(\"Trello!\"&ADDRESS(ROW()-1, G$1, 4)),\"Debt: \",\"\"),\" $\",\"\"),\".\",\"\")*1)*IF(E486=\"\",1,F$2),\"\")","v":""},{"$f":"IFERROR(IF($A486=\"\",\"\",SUBSTITUTE(SUBSTITUTE(SUBSTITUTE(INDIRECT(\"Trello!\"&ADDRESS(ROW()-1, H$1, 4)),\"Cost: \",\"\"),\" $\",\"\"),\".\",\"\")*1*$F$2),\"\")","v":""},"",{"$f":"IFERROR(SUBSTITUTE(SUBSTITUTE(SUBSTITUTE(RIGHT(INDIRECT(\"Trello!\"&ADDRESS(ROW()-1, L$1, 4)),LEN(INDIRECT(\"Trello!\"&ADDRESS(ROW()-1, L$1, 4)))-15),\". \",\"/\"),\" 20\",\"/20\"),\" \",\"\"),\"\")","v":""},{"$f":"IFERROR(SUBSTITUTE(SUBSTITUTE(SUBSTITUTE(RIGHT(INDIRECT(\"Trello!\"&ADDRESS(ROW()-1, M$1, 4)),LEN(INDIRECT(\"Trello!\"&ADDRESS(ROW()-1, M$1, 4)))-15),\". \",\"/\"),\" 20\",\"/20\"),\" \",\"\"),\"\")","v":""},"","","",{"$f":"IFERROR(SUBSTITUTE(INDIRECT(\"Trello!\"&ADDRESS(ROW()-1, O$1, 4)),\"Estimate hrs: \",\"\")*1,\"\")","v":""},{"$f":"IF(SUMIF(Timecamp!C:C,Reporte!A486,Timecamp!J:J)=0,\"\",SUMIF(Timecamp!C:C,Reporte!A486,Timecamp!J:J))","v":""},"","",{"$f":"IFERROR(VLOOKUP(A486,'SLA Trab'!E:I,5,FALSE),\"\")","v":""},{"$f":"IFERROR(VLOOKUP(A486,'SLA Cobr'!E:I,5,FALSE),\"\")","v":""}]
[{"$f":"IFERROR(IF(Trello!E486=\"\",\"\",Trello!E486),\" \")","v":""},{"$f":"IF($A487=\"\",\"\",IF(Trello!A486=\"\",B486,Trello!A486))","v":""},"",{"$f":"IF($A487=\"\",\"\",SUBSTITUTE(SUBSTITUTE(Trello!J486,\" days\",\"\"),\"⌚ \",\"\")*1)","v":""},{"$f":"IFERROR(IF($A487=\"\",\"\",SUBSTITUTE(SUBSTITUTE(SUBSTITUTE(INDIRECT(\"Trello!\"&ADDRESS(ROW()-1, E$1, 4)),\"Foreign: \",\"\"),\" $\",\"\"),\".\",\"\")*1),\"\")","v":""},{"$f":"IF($E487=\"\",IFERROR(IF($A487=\"\",\"\",SUBSTITUTE(SUBSTITUTE(SUBSTITUTE(INDIRECT(\"Trello!\"&ADDRESS(ROW()-1, F$1, 4)),\"MXN: \",\"\"),\" MX$\",\"\"),\".\",\"\")*1),\"\"),E487*F$2)","v":""},{"$f":"IFERROR(IF($A487=\"\",\"\",SUBSTITUTE(SUBSTITUTE(SUBSTITUTE(INDIRECT(\"Trello!\"&ADDRESS(ROW()-1, G$1, 4)),\"Debt: \",\"\"),\" $\",\"\"),\".\",\"\")*1)*IF(E487=\"\",1,F$2),\"\")","v":""},{"$f":"IFERROR(IF($A487=\"\",\"\",SUBSTITUTE(SUBSTITUTE(SUBSTITUTE(INDIRECT(\"Trello!\"&ADDRESS(ROW()-1, H$1, 4)),\"Cost: \",\"\"),\" $\",\"\"),\".\",\"\")*1*$F$2),\"\")","v":""},"",{"$f":"IFERROR(SUBSTITUTE(SUBSTITUTE(SUBSTITUTE(RIGHT(INDIRECT(\"Trello!\"&ADDRESS(ROW()-1, L$1, 4)),LEN(INDIRECT(\"Trello!\"&ADDRESS(ROW()-1, L$1, 4)))-15),\". \",\"/\"),\" 20\",\"/20\"),\" \",\"\"),\"\")","v":""},{"$f":"IFERROR(SUBSTITUTE(SUBSTITUTE(SUBSTITUTE(RIGHT(INDIRECT(\"Trello!\"&ADDRESS(ROW()-1, M$1, 4)),LEN(INDIRECT(\"Trello!\"&ADDRESS(ROW()-1, M$1, 4)))-15),\". \",\"/\"),\" 20\",\"/20\"),\" \",\"\"),\"\")","v":""},"","","",{"$f":"IFERROR(SUBSTITUTE(INDIRECT(\"Trello!\"&ADDRESS(ROW()-1, O$1, 4)),\"Estimate hrs: \",\"\")*1,\"\")","v":""},{"$f":"IF(SUMIF(Timecamp!C:C,Reporte!A487,Timecamp!J:J)=0,\"\",SUMIF(Timecamp!C:C,Reporte!A487,Timecamp!J:J))","v":""},"","",{"$f":"IFERROR(VLOOKUP(A487,'SLA Trab'!E:I,5,FALSE),\"\")","v":""},{"$f":"IFERROR(VLOOKUP(A487,'SLA Cobr'!E:I,5,FALSE),\"\")","v":""}]
[{"$f":"IFERROR(IF(Trello!E487=\"\",\"\",Trello!E487),\" \")","v":""},{"$f":"IF($A488=\"\",\"\",IF(Trello!A487=\"\",B487,Trello!A487))","v":""},"",{"$f":"IF($A488=\"\",\"\",SUBSTITUTE(SUBSTITUTE(Trello!J487,\" days\",\"\"),\"⌚ \",\"\")*1)","v":""},{"$f":"IFERROR(IF($A488=\"\",\"\",SUBSTITUTE(SUBSTITUTE(SUBSTITUTE(INDIRECT(\"Trello!\"&ADDRESS(ROW()-1, E$1, 4)),\"Foreign: \",\"\"),\" $\",\"\"),\".\",\"\")*1),\"\")","v":""},{"$f":"IF($E488=\"\",IFERROR(IF($A488=\"\",\"\",SUBSTITUTE(SUBSTITUTE(SUBSTITUTE(INDIRECT(\"Trello!\"&ADDRESS(ROW()-1, F$1, 4)),\"MXN: \",\"\"),\" MX$\",\"\"),\".\",\"\")*1),\"\"),E488*F$2)","v":""},{"$f":"IFERROR(IF($A488=\"\",\"\",SUBSTITUTE(SUBSTITUTE(SUBSTITUTE(INDIRECT(\"Trello!\"&ADDRESS(ROW()-1, G$1, 4)),\"Debt: \",\"\"),\" $\",\"\"),\".\",\"\")*1)*IF(E488=\"\",1,F$2),\"\")","v":""},{"$f":"IFERROR(IF($A488=\"\",\"\",SUBSTITUTE(SUBSTITUTE(SUBSTITUTE(INDIRECT(\"Trello!\"&ADDRESS(ROW()-1, H$1, 4)),\"Cost: \",\"\"),\" $\",\"\"),\".\",\"\")*1*$F$2),\"\")","v":""},"",{"$f":"IFERROR(SUBSTITUTE(SUBSTITUTE(SUBSTITUTE(RIGHT(INDIRECT(\"Trello!\"&ADDRESS(ROW()-1, L$1, 4)),LEN(INDIRECT(\"Trello!\"&ADDRESS(ROW()-1, L$1, 4)))-15),\". \",\"/\"),\" 20\",\"/20\"),\" \",\"\"),\"\")","v":""},{"$f":"IFERROR(SUBSTITUTE(SUBSTITUTE(SUBSTITUTE(RIGHT(INDIRECT(\"Trello!\"&ADDRESS(ROW()-1, M$1, 4)),LEN(INDIRECT(\"Trello!\"&ADDRESS(ROW()-1, M$1, 4)))-15),\". \",\"/\"),\" 20\",\"/20\"),\" \",\"\"),\"\")","v":""},"","","",{"$f":"IFERROR(SUBSTITUTE(INDIRECT(\"Trello!\"&ADDRESS(ROW()-1, O$1, 4)),\"Estimate hrs: \",\"\")*1,\"\")","v":""},{"$f":"IF(SUMIF(Timecamp!C:C,Reporte!A488,Timecamp!J:J)=0,\"\",SUMIF(Timecamp!C:C,Reporte!A488,Timecamp!J:J))","v":""},"","",{"$f":"IFERROR(VLOOKUP(A488,'SLA Trab'!E:I,5,FALSE),\"\")","v":""},{"$f":"IFERROR(VLOOKUP(A488,'SLA Cobr'!E:I,5,FALSE),\"\")","v":""}]
[{"$f":"IFERROR(IF(Trello!E488=\"\",\"\",Trello!E488),\" \")","v":""},{"$f":"IF($A489=\"\",\"\",IF(Trello!A488=\"\",B488,Trello!A488))","v":""},"",{"$f":"IF($A489=\"\",\"\",SUBSTITUTE(SUBSTITUTE(Trello!J488,\" days\",\"\"),\"⌚ \",\"\")*1)","v":""},{"$f":"IFERROR(IF($A489=\"\",\"\",SUBSTITUTE(SUBSTITUTE(SUBSTITUTE(INDIRECT(\"Trello!\"&ADDRESS(ROW()-1, E$1, 4)),\"Foreign: \",\"\"),\" $\",\"\"),\".\",\"\")*1),\"\")","v":""},{"$f":"IF($E489=\"\",IFERROR(IF($A489=\"\",\"\",SUBSTITUTE(SUBSTITUTE(SUBSTITUTE(INDIRECT(\"Trello!\"&ADDRESS(ROW()-1, F$1, 4)),\"MXN: \",\"\"),\" MX$\",\"\"),\".\",\"\")*1),\"\"),E489*F$2)","v":""},{"$f":"IFERROR(IF($A489=\"\",\"\",SUBSTITUTE(SUBSTITUTE(SUBSTITUTE(INDIRECT(\"Trello!\"&ADDRESS(ROW()-1, G$1, 4)),\"Debt: \",\"\"),\" $\",\"\"),\".\",\"\")*1)*IF(E489=\"\",1,F$2),\"\")","v":""},{"$f":"IFERROR(IF($A489=\"\",\"\",SUBSTITUTE(SUBSTITUTE(SUBSTITUTE(INDIRECT(\"Trello!\"&ADDRESS(ROW()-1, H$1, 4)),\"Cost: \",\"\"),\" $\",\"\"),\".\",\"\")*1*$F$2),\"\")","v":""},"",{"$f":"IFERROR(SUBSTITUTE(SUBSTITUTE(SUBSTITUTE(RIGHT(INDIRECT(\"Trello!\"&ADDRESS(ROW()-1, L$1, 4)),LEN(INDIRECT(\"Trello!\"&ADDRESS(ROW()-1, L$1, 4)))-15),\". \",\"/\"),\" 20\",\"/20\"),\" \",\"\"),\"\")","v":""},{"$f":"IFERROR(SUBSTITUTE(SUBSTITUTE(SUBSTITUTE(RIGHT(INDIRECT(\"Trello!\"&ADDRESS(ROW()-1, M$1, 4)),LEN(INDIRECT(\"Trello!\"&ADDRESS(ROW()-1, M$1, 4)))-15),\". \",\"/\"),\" 20\",\"/20\"),\" \",\"\"),\"\")","v":""},"","","",{"$f":"IFERROR(SUBSTITUTE(INDIRECT(\"Trello!\"&ADDRESS(ROW()-1, O$1, 4)),\"Estimate hrs: \",\"\")*1,\"\")","v":""},{"$f":"IF(SUMIF(Timecamp!C:C,Reporte!A489,Timecamp!J:J)=0,\"\",SUMIF(Timecamp!C:C,Reporte!A489,Timecamp!J:J))","v":""},"","",{"$f":"IFERROR(VLOOKUP(A489,'SLA Trab'!E:I,5,FALSE),\"\")","v":""},{"$f":"IFERROR(VLOOKUP(A489,'SLA Cobr'!E:I,5,FALSE),\"\")","v":""}]
[{"$f":"IFERROR(IF(Trello!E489=\"\",\"\",Trello!E489),\" \")","v":""},{"$f":"IF($A490=\"\",\"\",IF(Trello!A489=\"\",B489,Trello!A489))","v":""},"",{"$f":"IF($A490=\"\",\"\",SUBSTITUTE(SUBSTITUTE(Trello!J489,\" days\",\"\"),\"⌚ \",\"\")*1)","v":""},{"$f":"IFERROR(IF($A490=\"\",\"\",SUBSTITUTE(SUBSTITUTE(SUBSTITUTE(INDIRECT(\"Trello!\"&ADDRESS(ROW()-1, E$1, 4)),\"Foreign: \",\"\"),\" $\",\"\"),\".\",\"\")*1),\"\")","v":""},{"$f":"IF($E490=\"\",IFERROR(IF($A490=\"\",\"\",SUBSTITUTE(SUBSTITUTE(SUBSTITUTE(INDIRECT(\"Trello!\"&ADDRESS(ROW()-1, F$1, 4)),\"MXN: \",\"\"),\" MX$\",\"\"),\".\",\"\")*1),\"\"),E490*F$2)","v":""},{"$f":"IFERROR(IF($A490=\"\",\"\",SUBSTITUTE(SUBSTITUTE(SUBSTITUTE(INDIRECT(\"Trello!\"&ADDRESS(ROW()-1, G$1, 4)),\"Debt: \",\"\"),\" $\",\"\"),\".\",\"\")*1)*IF(E490=\"\",1,F$2),\"\")","v":""},{"$f":"IFERROR(IF($A490=\"\",\"\",SUBSTITUTE(SUBSTITUTE(SUBSTITUTE(INDIRECT(\"Trello!\"&ADDRESS(ROW()-1, H$1, 4)),\"Cost: \",\"\"),\" $\",\"\"),\".\",\"\")*1*$F$2),\"\")","v":""},"",{"$f":"IFERROR(SUBSTITUTE(SUBSTITUTE(SUBSTITUTE(RIGHT(INDIRECT(\"Trello!\"&ADDRESS(ROW()-1, L$1, 4)),LEN(INDIRECT(\"Trello!\"&ADDRESS(ROW()-1, L$1, 4)))-15),\". \",\"/\"),\" 20\",\"/20\"),\" \",\"\"),\"\")","v":""},{"$f":"IFERROR(SUBSTITUTE(SUBSTITUTE(SUBSTITUTE(RIGHT(INDIRECT(\"Trello!\"&ADDRESS(ROW()-1, M$1, 4)),LEN(INDIRECT(\"Trello!\"&ADDRESS(ROW()-1, M$1, 4)))-15),\". \",\"/\"),\" 20\",\"/20\"),\" \",\"\"),\"\")","v":""},"","","",{"$f":"IFERROR(SUBSTITUTE(INDIRECT(\"Trello!\"&ADDRESS(ROW()-1, O$1, 4)),\"Estimate hrs: \",\"\")*1,\"\")","v":""},{"$f":"IF(SUMIF(Timecamp!C:C,Reporte!A490,Timecamp!J:J)=0,\"\",SUMIF(Timecamp!C:C,Reporte!A490,Timecamp!J:J))","v":""},"","",{"$f":"IFERROR(VLOOKUP(A490,'SLA Trab'!E:I,5,FALSE),\"\")","v":""},{"$f":"IFERROR(VLOOKUP(A490,'SLA Cobr'!E:I,5,FALSE),\"\")","v":""}]
[{"$f":"IFERROR(IF(Trello!E490=\"\",\"\",Trello!E490),\" \")","v":""},{"$f":"IF($A491=\"\",\"\",IF(Trello!A490=\"\",B490,Trello!A490))","v":""},"",{"$f":"IF($A491=\"\",\"\",SUBSTITUTE(SUBSTITUTE(Trello!J490,\" days\",\"\"),\"⌚ \",\"\")*1)","v":""},{"$f":"IFERROR(IF($A491=\"\",\"\",SUBSTITUTE(SUBSTITUTE(SUBSTITUTE(INDIRECT(\"Trello!\"&ADDRESS(ROW()-1, E$1, 4)),\"Foreign: \",\"\"),\" $\",\"\"),\".\",\"\")*1),\"\")","v":""},{"$f":"IF($E491=\"\",IFERROR(IF($A491=\"\",\"\",SUBSTITUTE(SUBSTITUTE(SUBSTITUTE(INDIRECT(\"Trello!\"&ADDRESS(ROW()-1, F$1, 4)),\"MXN: \",\"\"),\" MX$\",\"\"),\".\",\"\")*1),\"\"),E491*F$2)","v":""},{"$f":"IFERROR(IF($A491=\"\",\"\",SUBSTITUTE(SUBSTITUTE(SUBSTITUTE(INDIRECT(\"Trello!\"&ADDRESS(ROW()-1, G$1, 4)),\"Debt: \",\"\"),\" $\",\"\"),\".\",\"\")*1)*IF(E491=\"\",1,F$2),\"\")","v":""},{"$f":"IFERROR(IF($A491=\"\",\"\",SUBSTITUTE(SUBSTITUTE(SUBSTITUTE(INDIRECT(\"Trello!\"&ADDRESS(ROW()-1, H$1, 4)),\"Cost: \",\"\"),\" $\",\"\"),\".\",\"\")*1*$F$2),\"\")","v":""},"",{"$f":"IFERROR(SUBSTITUTE(SUBSTITUTE(SUBSTITUTE(RIGHT(INDIRECT(\"Trello!\"&ADDRESS(ROW()-1, L$1, 4)),LEN(INDIRECT(\"Trello!\"&ADDRESS(ROW()-1, L$1, 4)))-15),\". \",\"/\"),\" 20\",\"/20\"),\" \",\"\"),\"\")","v":""},{"$f":"IFERROR(SUBSTITUTE(SUBSTITUTE(SUBSTITUTE(RIGHT(INDIRECT(\"Trello!\"&ADDRESS(ROW()-1, M$1, 4)),LEN(INDIRECT(\"Trello!\"&ADDRESS(ROW()-1, M$1, 4)))-15),\". \",\"/\"),\" 20\",\"/20\"),\" \",\"\"),\"\")","v":""},"","","",{"$f":"IFERROR(SUBSTITUTE(INDIRECT(\"Trello!\"&ADDRESS(ROW()-1, O$1, 4)),\"Estimate hrs: \",\"\")*1,\"\")","v":""},{"$f":"IF(SUMIF(Timecamp!C:C,Reporte!A491,Timecamp!J:J)=0,\"\",SUMIF(Timecamp!C:C,Reporte!A491,Timecamp!J:J))","v":""},"","",{"$f":"IFERROR(VLOOKUP(A491,'SLA Trab'!E:I,5,FALSE),\"\")","v":""},{"$f":"IFERROR(VLOOKUP(A491,'SLA Cobr'!E:I,5,FALSE),\"\")","v":""}]
[{"$f":"IFERROR(IF(Trello!E491=\"\",\"\",Trello!E491),\" \")","v":""},{"$f":"IF($A492=\"\",\"\",IF(Trello!A491=\"\",B491,Trello!A491))","v":""},"",{"$f":"IF($A492=\"\",\"\",SUBSTITUTE(SUBSTITUTE(Trello!J491,\" days\",\"\"),\"⌚ \",\"\")*1)","v":""},{"$f":"IFERROR(IF($A492=\"\",\"\",SUBSTITUTE(SUBSTITUTE(SUBSTITUTE(INDIRECT(\"Trello!\"&ADDRESS(ROW()-1, E$1, 4)),\"Foreign: \",\"\"),\" $\",\"\"),\".\",\"\")*1),\"\")","v":""},{"$f":"IF($E492=\"\",IFERROR(IF($A492=\"\",\"\",SUBSTITUTE(SUBSTITUTE(SUBSTITUTE(INDIRECT(\"Trello!\"&ADDRESS(ROW()-1, F$1, 4)),\"MXN: \",\"\"),\" MX$\",\"\"),\".\",\"\")*1),\"\"),E492*F$2)","v":""},{"$f":"IFERROR(IF($A492=\"\",\"\",SUBSTITUTE(SUBSTITUTE(SUBSTITUTE(INDIRECT(\"Trello!\"&ADDRESS(ROW()-1, G$1, 4)),\"Debt: \",\"\"),\" $\",\"\"),\".\",\"\")*1)*IF(E492=\"\",1,F$2),\"\")","v":""},{"$f":"IFERROR(IF($A492=\"\",\"\",SUBSTITUTE(SUBSTITUTE(SUBSTITUTE(INDIRECT(\"Trello!\"&ADDRESS(ROW()-1, H$1, 4)),\"Cost: \",\"\"),\" $\",\"\"),\".\",\"\")*1*$F$2),\"\")","v":""},"",{"$f":"IFERROR(SUBSTITUTE(SUBSTITUTE(SUBSTITUTE(RIGHT(INDIRECT(\"Trello!\"&ADDRESS(ROW()-1, L$1, 4)),LEN(INDIRECT(\"Trello!\"&ADDRESS(ROW()-1, L$1, 4)))-15),\". \",\"/\"),\" 20\",\"/20\"),\" \",\"\"),\"\")","v":""},{"$f":"IFERROR(SUBSTITUTE(SUBSTITUTE(SUBSTITUTE(RIGHT(INDIRECT(\"Trello!\"&ADDRESS(ROW()-1, M$1, 4)),LEN(INDIRECT(\"Trello!\"&ADDRESS(ROW()-1, M$1, 4)))-15),\". \",\"/\"),\" 20\",\"/20\"),\" \",\"\"),\"\")","v":""},"","","",{"$f":"IFERROR(SUBSTITUTE(INDIRECT(\"Trello!\"&ADDRESS(ROW()-1, O$1, 4)),\"Estimate hrs: \",\"\")*1,\"\")","v":""},{"$f":"IF(SUMIF(Timecamp!C:C,Reporte!A492,Timecamp!J:J)=0,\"\",SUMIF(Timecamp!C:C,Reporte!A492,Timecamp!J:J))","v":""},"","",{"$f":"IFERROR(VLOOKUP(A492,'SLA Trab'!E:I,5,FALSE),\"\")","v":""},{"$f":"IFERROR(VLOOKUP(A492,'SLA Cobr'!E:I,5,FALSE),\"\")","v":""}]
[{"$f":"IFERROR(IF(Trello!E492=\"\",\"\",Trello!E492),\" \")","v":""},{"$f":"IF($A493=\"\",\"\",IF(Trello!A492=\"\",B492,Trello!A492))","v":""},"",{"$f":"IF($A493=\"\",\"\",SUBSTITUTE(SUBSTITUTE(Trello!J492,\" days\",\"\"),\"⌚ \",\"\")*1)","v":""},{"$f":"IFERROR(IF($A493=\"\",\"\",SUBSTITUTE(SUBSTITUTE(SUBSTITUTE(INDIRECT(\"Trello!\"&ADDRESS(ROW()-1, E$1, 4)),\"Foreign: \",\"\"),\" $\",\"\"),\".\",\"\")*1),\"\")","v":""},{"$f":"IF($E493=\"\",IFERROR(IF($A493=\"\",\"\",SUBSTITUTE(SUBSTITUTE(SUBSTITUTE(INDIRECT(\"Trello!\"&ADDRESS(ROW()-1, F$1, 4)),\"MXN: \",\"\"),\" MX$\",\"\"),\".\",\"\")*1),\"\"),E493*F$2)","v":""},{"$f":"IFERROR(IF($A493=\"\",\"\",SUBSTITUTE(SUBSTITUTE(SUBSTITUTE(INDIRECT(\"Trello!\"&ADDRESS(ROW()-1, G$1, 4)),\"Debt: \",\"\"),\" $\",\"\"),\".\",\"\")*1)*IF(E493=\"\",1,F$2),\"\")","v":""},{"$f":"IFERROR(IF($A493=\"\",\"\",SUBSTITUTE(SUBSTITUTE(SUBSTITUTE(INDIRECT(\"Trello!\"&ADDRESS(ROW()-1, H$1, 4)),\"Cost: \",\"\"),\" $\",\"\"),\".\",\"\")*1*$F$2),\"\")","v":""},"",{"$f":"IFERROR(SUBSTITUTE(SUBSTITUTE(SUBSTITUTE(RIGHT(INDIRECT(\"Trello!\"&ADDRESS(ROW()-1, L$1, 4)),LEN(INDIRECT(\"Trello!\"&ADDRESS(ROW()-1, L$1, 4)))-15),\". \",\"/\"),\" 20\",\"/20\"),\" \",\"\"),\"\")","v":""},{"$f":"IFERROR(SUBSTITUTE(SUBSTITUTE(SUBSTITUTE(RIGHT(INDIRECT(\"Trello!\"&ADDRESS(ROW()-1, M$1, 4)),LEN(INDIRECT(\"Trello!\"&ADDRESS(ROW()-1, M$1, 4)))-15),\". \",\"/\"),\" 20\",\"/20\"),\" \",\"\"),\"\")","v":""},"","","",{"$f":"IFERROR(SUBSTITUTE(INDIRECT(\"Trello!\"&ADDRESS(ROW()-1, O$1, 4)),\"Estimate hrs: \",\"\")*1,\"\")","v":""},{"$f":"IF(SUMIF(Timecamp!C:C,Reporte!A493,Timecamp!J:J)=0,\"\",SUMIF(Timecamp!C:C,Reporte!A493,Timecamp!J:J))","v":""},"","",{"$f":"IFERROR(VLOOKUP(A493,'SLA Trab'!E:I,5,FALSE),\"\")","v":""},{"$f":"IFERROR(VLOOKUP(A493,'SLA Cobr'!E:I,5,FALSE),\"\")","v":""}]
[{"$f":"IFERROR(IF(Trello!E493=\"\",\"\",Trello!E493),\" \")","v":""},{"$f":"IF($A494=\"\",\"\",IF(Trello!A493=\"\",B493,Trello!A493))","v":""},"",{"$f":"IF($A494=\"\",\"\",SUBSTITUTE(SUBSTITUTE(Trello!J493,\" days\",\"\"),\"⌚ \",\"\")*1)","v":""},{"$f":"IFERROR(IF($A494=\"\",\"\",SUBSTITUTE(SUBSTITUTE(SUBSTITUTE(INDIRECT(\"Trello!\"&ADDRESS(ROW()-1, E$1, 4)),\"Foreign: \",\"\"),\" $\",\"\"),\".\",\"\")*1),\"\")","v":""},{"$f":"IF($E494=\"\",IFERROR(IF($A494=\"\",\"\",SUBSTITUTE(SUBSTITUTE(SUBSTITUTE(INDIRECT(\"Trello!\"&ADDRESS(ROW()-1, F$1, 4)),\"MXN: \",\"\"),\" MX$\",\"\"),\".\",\"\")*1),\"\"),E494*F$2)","v":""},{"$f":"IFERROR(IF($A494=\"\",\"\",SUBSTITUTE(SUBSTITUTE(SUBSTITUTE(INDIRECT(\"Trello!\"&ADDRESS(ROW()-1, G$1, 4)),\"Debt: \",\"\"),\" $\",\"\"),\".\",\"\")*1)*IF(E494=\"\",1,F$2),\"\")","v":""},{"$f":"IFERROR(IF($A494=\"\",\"\",SUBSTITUTE(SUBSTITUTE(SUBSTITUTE(INDIRECT(\"Trello!\"&ADDRESS(ROW()-1, H$1, 4)),\"Cost: \",\"\"),\" $\",\"\"),\".\",\"\")*1*$F$2),\"\")","v":""},"",{"$f":"IFERROR(SUBSTITUTE(SUBSTITUTE(SUBSTITUTE(RIGHT(INDIRECT(\"Trello!\"&ADDRESS(ROW()-1, L$1, 4)),LEN(INDIRECT(\"Trello!\"&ADDRESS(ROW()-1, L$1, 4)))-15),\". \",\"/\"),\" 20\",\"/20\"),\" \",\"\"),\"\")","v":""},{"$f":"IFERROR(SUBSTITUTE(SUBSTITUTE(SUBSTITUTE(RIGHT(INDIRECT(\"Trello!\"&ADDRESS(ROW()-1, M$1, 4)),LEN(INDIRECT(\"Trello!\"&ADDRESS(ROW()-1, M$1, 4)))-15),\". \",\"/\"),\" 20\",\"/20\"),\" \",\"\"),\"\")","v":""},"","","",{"$f":"IFERROR(SUBSTITUTE(INDIRECT(\"Trello!\"&ADDRESS(ROW()-1, O$1, 4)),\"Estimate hrs: \",\"\")*1,\"\")","v":""},{"$f":"IF(SUMIF(Timecamp!C:C,Reporte!A494,Timecamp!J:J)=0,\"\",SUMIF(Timecamp!C:C,Reporte!A494,Timecamp!J:J))","v":""},"","",{"$f":"IFERROR(VLOOKUP(A494,'SLA Trab'!E:I,5,FALSE),\"\")","v":""},{"$f":"IFERROR(VLOOKUP(A494,'SLA Cobr'!E:I,5,FALSE),\"\")","v":""}]
[{"$f":"IFERROR(IF(Trello!E494=\"\",\"\",Trello!E494),\" \")","v":""},{"$f":"IF($A495=\"\",\"\",IF(Trello!A494=\"\",B494,Trello!A494))","v":""},"",{"$f":"IF($A495=\"\",\"\",SUBSTITUTE(SUBSTITUTE(Trello!J494,\" days\",\"\"),\"⌚ \",\"\")*1)","v":""},{"$f":"IFERROR(IF($A495=\"\",\"\",SUBSTITUTE(SUBSTITUTE(SUBSTITUTE(INDIRECT(\"Trello!\"&ADDRESS(ROW()-1, E$1, 4)),\"Foreign: \",\"\"),\" $\",\"\"),\".\",\"\")*1),\"\")","v":""},{"$f":"IF($E495=\"\",IFERROR(IF($A495=\"\",\"\",SUBSTITUTE(SUBSTITUTE(SUBSTITUTE(INDIRECT(\"Trello!\"&ADDRESS(ROW()-1, F$1, 4)),\"MXN: \",\"\"),\" MX$\",\"\"),\".\",\"\")*1),\"\"),E495*F$2)","v":""},{"$f":"IFERROR(IF($A495=\"\",\"\",SUBSTITUTE(SUBSTITUTE(SUBSTITUTE(INDIRECT(\"Trello!\"&ADDRESS(ROW()-1, G$1, 4)),\"Debt: \",\"\"),\" $\",\"\"),\".\",\"\")*1)*IF(E495=\"\",1,F$2),\"\")","v":""},{"$f":"IFERROR(IF($A495=\"\",\"\",SUBSTITUTE(SUBSTITUTE(SUBSTITUTE(INDIRECT(\"Trello!\"&ADDRESS(ROW()-1, H$1, 4)),\"Cost: \",\"\"),\" $\",\"\"),\".\",\"\")*1*$F$2),\"\")","v":""},"",{"$f":"IFERROR(SUBSTITUTE(SUBSTITUTE(SUBSTITUTE(RIGHT(INDIRECT(\"Trello!\"&ADDRESS(ROW()-1, L$1, 4)),LEN(INDIRECT(\"Trello!\"&ADDRESS(ROW()-1, L$1, 4)))-15),\". \",\"/\"),\" 20\",\"/20\"),\" \",\"\"),\"\")","v":""},{"$f":"IFERROR(SUBSTITUTE(SUBSTITUTE(SUBSTITUTE(RIGHT(INDIRECT(\"Trello!\"&ADDRESS(ROW()-1, M$1, 4)),LEN(INDIRECT(\"Trello!\"&ADDRESS(ROW()-1, M$1, 4)))-15),\". \",\"/\"),\" 20\",\"/20\"),\" \",\"\"),\"\")","v":""},"","","",{"$f":"IFERROR(SUBSTITUTE(INDIRECT(\"Trello!\"&ADDRESS(ROW()-1, O$1, 4)),\"Estimate hrs: \",\"\")*1,\"\")","v":""},{"$f":"IF(SUMIF(Timecamp!C:C,Reporte!A495,Timecamp!J:J)=0,\"\",SUMIF(Timecamp!C:C,Reporte!A495,Timecamp!J:J))","v":""},"","",{"$f":"IFERROR(VLOOKUP(A495,'SLA Trab'!E:I,5,FALSE),\"\")","v":""},{"$f":"IFERROR(VLOOKUP(A495,'SLA Cobr'!E:I,5,FALSE),\"\")","v":""}]
[{"$f":"IFERROR(IF(Trello!E495=\"\",\"\",Trello!E495),\" \")","v":""},{"$f":"IF($A496=\"\",\"\",IF(Trello!A495=\"\",B495,Trello!A495))","v":""},"",{"$f":"IF($A496=\"\",\"\",SUBSTITUTE(SUBSTITUTE(Trello!J495,\" days\",\"\"),\"⌚ \",\"\")*1)","v":""},{"$f":"IFERROR(IF($A496=\"\",\"\",SUBSTITUTE(SUBSTITUTE(SUBSTITUTE(INDIRECT(\"Trello!\"&ADDRESS(ROW()-1, E$1, 4)),\"Foreign: \",\"\"),\" $\",\"\"),\".\",\"\")*1),\"\")","v":""},{"$f":"IF($E496=\"\",IFERROR(IF($A496=\"\",\"\",SUBSTITUTE(SUBSTITUTE(SUBSTITUTE(INDIRECT(\"Trello!\"&ADDRESS(ROW()-1, F$1, 4)),\"MXN: \",\"\"),\" MX$\",\"\"),\".\",\"\")*1),\"\"),E496*F$2)","v":""},{"$f":"IFERROR(IF($A496=\"\",\"\",SUBSTITUTE(SUBSTITUTE(SUBSTITUTE(INDIRECT(\"Trello!\"&ADDRESS(ROW()-1, G$1, 4)),\"Debt: \",\"\"),\" $\",\"\"),\".\",\"\")*1)*IF(E496=\"\",1,F$2),\"\")","v":""},{"$f":"IFERROR(IF($A496=\"\",\"\",SUBSTITUTE(SUBSTITUTE(SUBSTITUTE(INDIRECT(\"Trello!\"&ADDRESS(ROW()-1, H$1, 4)),\"Cost: \",\"\"),\" $\",\"\"),\".\",\"\")*1*$F$2),\"\")","v":""},"",{"$f":"IFERROR(SUBSTITUTE(SUBSTITUTE(SUBSTITUTE(RIGHT(INDIRECT(\"Trello!\"&ADDRESS(ROW()-1, L$1, 4)),LEN(INDIRECT(\"Trello!\"&ADDRESS(ROW()-1, L$1, 4)))-15),\". \",\"/\"),\" 20\",\"/20\"),\" \",\"\"),\"\")","v":""},{"$f":"IFERROR(SUBSTITUTE(SUBSTITUTE(SUBSTITUTE(RIGHT(INDIRECT(\"Trello!\"&ADDRESS(ROW()-1, M$1, 4)),LEN(INDIRECT(\"Trello!\"&ADDRESS(ROW()-1, M$1, 4)))-15),\". \",\"/\"),\" 20\",\"/20\"),\" \",\"\"),\"\")","v":""},"","","",{"$f":"IFERROR(SUBSTITUTE(INDIRECT(\"Trello!\"&ADDRESS(ROW()-1, O$1, 4)),\"Estimate hrs: \",\"\")*1,\"\")","v":""},{"$f":"IF(SUMIF(Timecamp!C:C,Reporte!A496,Timecamp!J:J)=0,\"\",SUMIF(Timecamp!C:C,Reporte!A496,Timecamp!J:J))","v":""},"","",{"$f":"IFERROR(VLOOKUP(A496,'SLA Trab'!E:I,5,FALSE),\"\")","v":""},{"$f":"IFERROR(VLOOKUP(A496,'SLA Cobr'!E:I,5,FALSE),\"\")","v":""}]
[{"$f":"IFERROR(IF(Trello!E496=\"\",\"\",Trello!E496),\" \")","v":""},{"$f":"IF($A497=\"\",\"\",IF(Trello!A496=\"\",B496,Trello!A496))","v":""},"",{"$f":"IF($A497=\"\",\"\",SUBSTITUTE(SUBSTITUTE(Trello!J496,\" days\",\"\"),\"⌚ \",\"\")*1)","v":""},{"$f":"IFERROR(IF($A497=\"\",\"\",SUBSTITUTE(SUBSTITUTE(SUBSTITUTE(INDIRECT(\"Trello!\"&ADDRESS(ROW()-1, E$1, 4)),\"Foreign: \",\"\"),\" $\",\"\"),\".\",\"\")*1),\"\")","v":""},{"$f":"IF($E497=\"\",IFERROR(IF($A497=\"\",\"\",SUBSTITUTE(SUBSTITUTE(SUBSTITUTE(INDIRECT(\"Trello!\"&ADDRESS(ROW()-1, F$1, 4)),\"MXN: \",\"\"),\" MX$\",\"\"),\".\",\"\")*1),\"\"),E497*F$2)","v":""},{"$f":"IFERROR(IF($A497=\"\",\"\",SUBSTITUTE(SUBSTITUTE(SUBSTITUTE(INDIRECT(\"Trello!\"&ADDRESS(ROW()-1, G$1, 4)),\"Debt: \",\"\"),\" $\",\"\"),\".\",\"\")*1)*IF(E497=\"\",1,F$2),\"\")","v":""},{"$f":"IFERROR(IF($A497=\"\",\"\",SUBSTITUTE(SUBSTITUTE(SUBSTITUTE(INDIRECT(\"Trello!\"&ADDRESS(ROW()-1, H$1, 4)),\"Cost: \",\"\"),\" $\",\"\"),\".\",\"\")*1*$F$2),\"\")","v":""},"",{"$f":"IFERROR(SUBSTITUTE(SUBSTITUTE(SUBSTITUTE(RIGHT(INDIRECT(\"Trello!\"&ADDRESS(ROW()-1, L$1, 4)),LEN(INDIRECT(\"Trello!\"&ADDRESS(ROW()-1, L$1, 4)))-15),\". \",\"/\"),\" 20\",\"/20\"),\" \",\"\"),\"\")","v":""},{"$f":"IFERROR(SUBSTITUTE(SUBSTITUTE(SUBSTITUTE(RIGHT(INDIRECT(\"Trello!\"&ADDRESS(ROW()-1, M$1, 4)),LEN(INDIRECT(\"Trello!\"&ADDRESS(ROW()-1, M$1, 4)))-15),\". \",\"/\"),\" 20\",\"/20\"),\" \",\"\"),\"\")","v":""},"","","",{"$f":"IFERROR(SUBSTITUTE(INDIRECT(\"Trello!\"&ADDRESS(ROW()-1, O$1, 4)),\"Estimate hrs: \",\"\")*1,\"\")","v":""},{"$f":"IF(SUMIF(Timecamp!C:C,Reporte!A497,Timecamp!J:J)=0,\"\",SUMIF(Timecamp!C:C,Reporte!A497,Timecamp!J:J))","v":""},"","",{"$f":"IFERROR(VLOOKUP(A497,'SLA Trab'!E:I,5,FALSE),\"\")","v":""},{"$f":"IFERROR(VLOOKUP(A497,'SLA Cobr'!E:I,5,FALSE),\"\")","v":""}]
[{"$f":"IFERROR(IF(Trello!E497=\"\",\"\",Trello!E497),\" \")","v":""},{"$f":"IF($A498=\"\",\"\",IF(Trello!A497=\"\",B497,Trello!A497))","v":""},"",{"$f":"IF($A498=\"\",\"\",SUBSTITUTE(SUBSTITUTE(Trello!J497,\" days\",\"\"),\"⌚ \",\"\")*1)","v":""},{"$f":"IFERROR(IF($A498=\"\",\"\",SUBSTITUTE(SUBSTITUTE(SUBSTITUTE(INDIRECT(\"Trello!\"&ADDRESS(ROW()-1, E$1, 4)),\"Foreign: \",\"\"),\" $\",\"\"),\".\",\"\")*1),\"\")","v":""},{"$f":"IF($E498=\"\",IFERROR(IF($A498=\"\",\"\",SUBSTITUTE(SUBSTITUTE(SUBSTITUTE(INDIRECT(\"Trello!\"&ADDRESS(ROW()-1, F$1, 4)),\"MXN: \",\"\"),\" MX$\",\"\"),\".\",\"\")*1),\"\"),E498*F$2)","v":""},{"$f":"IFERROR(IF($A498=\"\",\"\",SUBSTITUTE(SUBSTITUTE(SUBSTITUTE(INDIRECT(\"Trello!\"&ADDRESS(ROW()-1, G$1, 4)),\"Debt: \",\"\"),\" $\",\"\"),\".\",\"\")*1)*IF(E498=\"\",1,F$2),\"\")","v":""},{"$f":"IFERROR(IF($A498=\"\",\"\",SUBSTITUTE(SUBSTITUTE(SUBSTITUTE(INDIRECT(\"Trello!\"&ADDRESS(ROW()-1, H$1, 4)),\"Cost: \",\"\"),\" $\",\"\"),\".\",\"\")*1*$F$2),\"\")","v":""},"",{"$f":"IFERROR(SUBSTITUTE(SUBSTITUTE(SUBSTITUTE(RIGHT(INDIRECT(\"Trello!\"&ADDRESS(ROW()-1, L$1, 4)),LEN(INDIRECT(\"Trello!\"&ADDRESS(ROW()-1, L$1, 4)))-15),\". \",\"/\"),\" 20\",\"/20\"),\" \",\"\"),\"\")","v":""},{"$f":"IFERROR(SUBSTITUTE(SUBSTITUTE(SUBSTITUTE(RIGHT(INDIRECT(\"Trello!\"&ADDRESS(ROW()-1, M$1, 4)),LEN(INDIRECT(\"Trello!\"&ADDRESS(ROW()-1, M$1, 4)))-15),\". \",\"/\"),\" 20\",\"/20\"),\" \",\"\"),\"\")","v":""},"","","",{"$f":"IFERROR(SUBSTITUTE(INDIRECT(\"Trello!\"&ADDRESS(ROW()-1, O$1, 4)),\"Estimate hrs: \",\"\")*1,\"\")","v":""},{"$f":"IF(SUMIF(Timecamp!C:C,Reporte!A498,Timecamp!J:J)=0,\"\",SUMIF(Timecamp!C:C,Reporte!A498,Timecamp!J:J))","v":""},"","",{"$f":"IFERROR(VLOOKUP(A498,'SLA Trab'!E:I,5,FALSE),\"\")","v":""},{"$f":"IFERROR(VLOOKUP(A498,'SLA Cobr'!E:I,5,FALSE),\"\")","v":""}]
[{"$f":"IFERROR(IF(Trello!E498=\"\",\"\",Trello!E498),\" \")","v":""},{"$f":"IF($A499=\"\",\"\",IF(Trello!A498=\"\",B498,Trello!A498))","v":""},"",{"$f":"IF($A499=\"\",\"\",SUBSTITUTE(SUBSTITUTE(Trello!J498,\" days\",\"\"),\"⌚ \",\"\")*1)","v":""},{"$f":"IFERROR(IF($A499=\"\",\"\",SUBSTITUTE(SUBSTITUTE(SUBSTITUTE(INDIRECT(\"Trello!\"&ADDRESS(ROW()-1, E$1, 4)),\"Foreign: \",\"\"),\" $\",\"\"),\".\",\"\")*1),\"\")","v":""},{"$f":"IF($E499=\"\",IFERROR(IF($A499=\"\",\"\",SUBSTITUTE(SUBSTITUTE(SUBSTITUTE(INDIRECT(\"Trello!\"&ADDRESS(ROW()-1, F$1, 4)),\"MXN: \",\"\"),\" MX$\",\"\"),\".\",\"\")*1),\"\"),E499*F$2)","v":""},{"$f":"IFERROR(IF($A499=\"\",\"\",SUBSTITUTE(SUBSTITUTE(SUBSTITUTE(INDIRECT(\"Trello!\"&ADDRESS(ROW()-1, G$1, 4)),\"Debt: \",\"\"),\" $\",\"\"),\".\",\"\")*1)*IF(E499=\"\",1,F$2),\"\")","v":""},{"$f":"IFERROR(IF($A499=\"\",\"\",SUBSTITUTE(SUBSTITUTE(SUBSTITUTE(INDIRECT(\"Trello!\"&ADDRESS(ROW()-1, H$1, 4)),\"Cost: \",\"\"),\" $\",\"\"),\".\",\"\")*1*$F$2),\"\")","v":""},"",{"$f":"IFERROR(SUBSTITUTE(SUBSTITUTE(SUBSTITUTE(RIGHT(INDIRECT(\"Trello!\"&ADDRESS(ROW()-1, L$1, 4)),LEN(INDIRECT(\"Trello!\"&ADDRESS(ROW()-1, L$1, 4)))-15),\". \",\"/\"),\" 20\",\"/20\"),\" \",\"\"),\"\")","v":""},{"$f":"IFERROR(SUBSTITUTE(SUBSTITUTE(SUBSTITUTE(RIGHT(INDIRECT(\"Trello!\"&ADDRESS(ROW()-1, M$1, 4)),LEN(INDIRECT(\"Trello!\"&ADDRESS(ROW()-1, M$1, 4)))-15),\". \",\"/\"),\" 20\",\"/20\"),\" \",\"\"),\"\")","v":""},"","","",{"$f":"IFERROR(SUBSTITUTE(INDIRECT(\"Trello!\"&ADDRESS(ROW()-1, O$1, 4)),\"Estimate hrs: \",\"\")*1,\"\")","v":""},{"$f":"IF(SUMIF(Timecamp!C:C,Reporte!A499,Timecamp!J:J)=0,\"\",SUMIF(Timecamp!C:C,Reporte!A499,Timecamp!J:J))","v":""},"","",{"$f":"IFERROR(VLOOKUP(A499,'SLA Trab'!E:I,5,FALSE),\"\")","v":""},{"$f":"IFERROR(VLOOKUP(A499,'SLA Cobr'!E:I,5,FALSE),\"\")","v":""}]
[{"$f":"IFERROR(IF(Trello!E499=\"\",\"\",Trello!E499),\" \")","v":""},{"$f":"IF($A500=\"\",\"\",IF(Trello!A499=\"\",B499,Trello!A499))","v":""},"",{"$f":"IF($A500=\"\",\"\",SUBSTITUTE(SUBSTITUTE(Trello!J499,\" days\",\"\"),\"⌚ \",\"\")*1)","v":""},{"$f":"IFERROR(IF($A500=\"\",\"\",SUBSTITUTE(SUBSTITUTE(SUBSTITUTE(INDIRECT(\"Trello!\"&ADDRESS(ROW()-1, E$1, 4)),\"Foreign: \",\"\"),\" $\",\"\"),\".\",\"\")*1),\"\")","v":""},{"$f":"IF($E500=\"\",IFERROR(IF($A500=\"\",\"\",SUBSTITUTE(SUBSTITUTE(SUBSTITUTE(INDIRECT(\"Trello!\"&ADDRESS(ROW()-1, F$1, 4)),\"MXN: \",\"\"),\" MX$\",\"\"),\".\",\"\")*1),\"\"),E500*F$2)","v":""},{"$f":"IFERROR(IF($A500=\"\",\"\",SUBSTITUTE(SUBSTITUTE(SUBSTITUTE(INDIRECT(\"Trello!\"&ADDRESS(ROW()-1, G$1, 4)),\"Debt: \",\"\"),\" $\",\"\"),\".\",\"\")*1)*IF(E500=\"\",1,F$2),\"\")","v":""},{"$f":"IFERROR(IF($A500=\"\",\"\",SUBSTITUTE(SUBSTITUTE(SUBSTITUTE(INDIRECT(\"Trello!\"&ADDRESS(ROW()-1, H$1, 4)),\"Cost: \",\"\"),\" $\",\"\"),\".\",\"\")*1*$F$2),\"\")","v":""},"",{"$f":"IFERROR(SUBSTITUTE(SUBSTITUTE(SUBSTITUTE(RIGHT(INDIRECT(\"Trello!\"&ADDRESS(ROW()-1, L$1, 4)),LEN(INDIRECT(\"Trello!\"&ADDRESS(ROW()-1, L$1, 4)))-15),\". \",\"/\"),\" 20\",\"/20\"),\" \",\"\"),\"\")","v":""},{"$f":"IFERROR(SUBSTITUTE(SUBSTITUTE(SUBSTITUTE(RIGHT(INDIRECT(\"Trello!\"&ADDRESS(ROW()-1, M$1, 4)),LEN(INDIRECT(\"Trello!\"&ADDRESS(ROW()-1, M$1, 4)))-15),\". \",\"/\"),\" 20\",\"/20\"),\" \",\"\"),\"\")","v":""},"","","",{"$f":"IFERROR(SUBSTITUTE(INDIRECT(\"Trello!\"&ADDRESS(ROW()-1, O$1, 4)),\"Estimate hrs: \",\"\")*1,\"\")","v":""},{"$f":"IF(SUMIF(Timecamp!C:C,Reporte!A500,Timecamp!J:J)=0,\"\",SUMIF(Timecamp!C:C,Reporte!A500,Timecamp!J:J))","v":""},"","",{"$f":"IFERROR(VLOOKUP(A500,'SLA Trab'!E:I,5,FALSE),\"\")","v":""},{"$f":"IFERROR(VLOOKUP(A500,'SLA Cobr'!E:I,5,FALSE),\"\")","v":""}]
[{"$f":"IFERROR(IF(Trello!E500=\"\",\"\",Trello!E500),\" \")","v":""},{"$f":"IF($A501=\"\",\"\",IF(Trello!A500=\"\",B500,Trello!A500))","v":""},"",{"$f":"IF($A501=\"\",\"\",SUBSTITUTE(SUBSTITUTE(Trello!J500,\" days\",\"\"),\"⌚ \",\"\")*1)","v":""},{"$f":"IFERROR(IF($A501=\"\",\"\",SUBSTITUTE(SUBSTITUTE(SUBSTITUTE(INDIRECT(\"Trello!\"&ADDRESS(ROW()-1, E$1, 4)),\"Foreign: \",\"\"),\" $\",\"\"),\".\",\"\")*1),\"\")","v":""},{"$f":"IF($E501=\"\",IFERROR(IF($A501=\"\",\"\",SUBSTITUTE(SUBSTITUTE(SUBSTITUTE(INDIRECT(\"Trello!\"&ADDRESS(ROW()-1, F$1, 4)),\"MXN: \",\"\"),\" MX$\",\"\"),\".\",\"\")*1),\"\"),E501*F$2)","v":""},{"$f":"IFERROR(IF($A501=\"\",\"\",SUBSTITUTE(SUBSTITUTE(SUBSTITUTE(INDIRECT(\"Trello!\"&ADDRESS(ROW()-1, G$1, 4)),\"Debt: \",\"\"),\" $\",\"\"),\".\",\"\")*1)*IF(E501=\"\",1,F$2),\"\")","v":""},{"$f":"IFERROR(IF($A501=\"\",\"\",SUBSTITUTE(SUBSTITUTE(SUBSTITUTE(INDIRECT(\"Trello!\"&ADDRESS(ROW()-1, H$1, 4)),\"Cost: \",\"\"),\" $\",\"\"),\".\",\"\")*1*$F$2),\"\")","v":""},"",{"$f":"IFERROR(SUBSTITUTE(SUBSTITUTE(SUBSTITUTE(RIGHT(INDIRECT(\"Trello!\"&ADDRESS(ROW()-1, L$1, 4)),LEN(INDIRECT(\"Trello!\"&ADDRESS(ROW()-1, L$1, 4)))-15),\". \",\"/\"),\" 20\",\"/20\"),\" \",\"\"),\"\")","v":""},{"$f":"IFERROR(SUBSTITUTE(SUBSTITUTE(SUBSTITUTE(RIGHT(INDIRECT(\"Trello!\"&ADDRESS(ROW()-1, M$1, 4)),LEN(INDIRECT(\"Trello!\"&ADDRESS(ROW()-1, M$1, 4)))-15),\". \",\"/\"),\" 20\",\"/20\"),\" \",\"\"),\"\")","v":""},"","","",{"$f":"IFERROR(SUBSTITUTE(INDIRECT(\"Trello!\"&ADDRESS(ROW()-1, O$1, 4)),\"Estimate hrs: \",\"\")*1,\"\")","v":""},{"$f":"IF(SUMIF(Timecamp!C:C,Reporte!A501,Timecamp!J:J)=0,\"\",SUMIF(Timecamp!C:C,Reporte!A501,Timecamp!J:J))","v":""},"","",{"$f":"IFERROR(VLOOKUP(A501,'SLA Trab'!E:I,5,FALSE),\"\")","v":""},{"$f":"IFERROR(VLOOKUP(A501,'SLA Cobr'!E:I,5,FALSE),\"\")","v":""}]

{"sheet":"App Use","index":5,"n_rows":200,"n_cols":14,"rows_kept":200,"cut":false,"hidden":false,"merged":[]}
[null,null,null,"Fila","Categoria","Time","Count","Fecha",null,null,{"$f":"TODAY()-(WEEKDAY(TODAY())-1)-0","v":"2023-09-10"},"January","01",{"$f":"IF(ISERROR(FIND(L1,$I$1)),\"\",M1)","v":""}]
[null,null,null,{"$f":"IFERROR(MATCH(A2,'App Cat'!A:A,0),\"\")","v":5},{"$f":"IFERROR(INDEX('App Cat'!C:C,'App Use'!D2,1),IF(C2=\"\",\"\",\"Andere\"))","v":130076480},{"$f":"HOUR(B2)*3600+MINUTE(B2)*60+SECOND(B2)","v":0},{"$f":"C2","v":0},{"$f":"IFERROR(FIND(\"Created by App\",A2),\"\")","v":""},null,null,null,"February","02",""]
[null,null,null,{"$f":"IFERROR(MATCH(A3,'App Cat'!A:A,0),\"\")","v":5},{"$f":"IFERROR(INDEX('App Cat'!C:C,'App Use'!D3,1),IF(C3=\"\",\"\",\"Andere\"))","v":130076480},0,0,"",null,null,null,"March","03",""]
[null,null,null,{"$f":"IFERROR(MATCH(A4,'App Cat'!A:A,0),\"\")","v":5},{"$f":"IFERROR(INDEX('App Cat'!C:C,'App Use'!D4,1),IF(C4=\"\",\"\",\"Andere\"))","v":130076480},0,0,"",null,null,null,"April","04",""]
[null,null,null,{"$f":"IFERROR(MATCH(A5,'App Cat'!A:A,0),\"\")","v":5},{"$f":"IFERROR(INDEX('App Cat'!C:C,'App Use'!D5,1),IF(C5=\"\",\"\",\"Andere\"))","v":130076480},0,0,"",null,null,null,"May","05",""]
[null,null,null,{"$f":"IFERROR(MATCH(A6,'App Cat'!A:A,0),\"\")","v":5},{"$f":"IFERROR(INDEX('App Cat'!C:C,'App Use'!D6,1),IF(C6=\"\",\"\",\"Andere\"))","v":130076480},0,0,"",null,null,null,"June","06",""]
[null,null,null,{"$f":"IFERROR(MATCH(A7,'App Cat'!A:A,0),\"\")","v":5},{"$f":"IFERROR(INDEX('App Cat'!C:C,'App Use'!D7,1),IF(C7=\"\",\"\",\"Andere\"))","v":130076480},0,0,"",null,null,null,"July","07",""]
[null,null,null,{"$f":"IFERROR(MATCH(A8,'App Cat'!A:A,0),\"\")","v":5},{"$f":"IFERROR(INDEX('App Cat'!C:C,'App Use'!D8,1),IF(C8=\"\",\"\",\"Andere\"))","v":130076480},0,0,"",null,null,null,"August","08",""]
[null,null,null,{"$f":"IFERROR(MATCH(A9,'App Cat'!A:A,0),\"\")","v":5},{"$f":"IFERROR(INDEX('App Cat'!C:C,'App Use'!D9,1),IF(C9=\"\",\"\",\"Andere\"))","v":130076480},0,0,"",null,null,null,"September","09",""]
[null,null,null,{"$f":"IFERROR(MATCH(A10,'App Cat'!A:A,0),\"\")","v":5},{"$f":"IFERROR(INDEX('App Cat'!C:C,'App Use'!D10,1),IF(C10=\"\",\"\",\"Andere\"))","v":130076480},0,0,"",null,null,null,"October",10,""]
[null,null,null,{"$f":"IFERROR(MATCH(A11,'App Cat'!A:A,0),\"\")","v":5},{"$f":"IFERROR(INDEX('App Cat'!C:C,'App Use'!D11,1),IF(C11=\"\",\"\",\"Andere\"))","v":130076480},0,0,"",null,null,null,"November",11,""]
[null,null,null,{"$f":"IFERROR(MATCH(A12,'App Cat'!A:A,0),\"\")","v":5},{"$f":"IFERROR(INDEX('App Cat'!C:C,'App Use'!D12,1),IF(C12=\"\",\"\",\"Andere\"))","v":130076480},0,0,"",null,null,null,"December",12,""]
[null,null,null,{"$f":"IFERROR(MATCH(A13,'App Cat'!A:A,0),\"\")","v":5},{"$f":"IFERROR(INDEX('App Cat'!C:C,'App Use'!D13,1),IF(C13=\"\",\"\",\"Andere\"))","v":130076480},0,0,""]
[null,null,null,{"$f":"IFERROR(MATCH(A14,'App Cat'!A:A,0),\"\")","v":5},{"$f":"IFERROR(INDEX('App Cat'!C:C,'App Use'!D14,1),IF(C14=\"\",\"\",\"Andere\"))","v":130076480},0,0,""]
[null,null,null,{"$f":"IFERROR(MATCH(A15,'App Cat'!A:A,0),\"\")","v":5},{"$f":"IFERROR(INDEX('App Cat'!C:C,'App Use'!D15,1),IF(C15=\"\",\"\",\"Andere\"))","v":130076480},0,0,""]
[null,null,null,{"$f":"IFERROR(MATCH(A16,'App Cat'!A:A,0),\"\")","v":5},{"$f":"IFERROR(INDEX('App Cat'!C:C,'App Use'!D16,1),IF(C16=\"\",\"\",\"Andere\"))","v":130076480},0,0,""]
[null,null,null,{"$f":"IFERROR(MATCH(A17,'App Cat'!A:A,0),\"\")","v":5},{"$f":"IFERROR(INDEX('App Cat'!C:C,'App Use'!D17,1),IF(C17=\"\",\"\",\"Andere\"))","v":130076480},0,0,""]
[null,null,null,{"$f":"IFERROR(MATCH(A18,'App Cat'!A:A,0),\"\")","v":5},{"$f":"IFERROR(INDEX('App Cat'!C:C,'App Use'!D18,1),IF(C18=\"\",\"\",\"Andere\"))","v":130076480},0,0,""]
[null,null,null,{"$f":"IFERROR(MATCH(A19,'App Cat'!A:A,0),\"\")","v":5},{"$f":"IFERROR(INDEX('App Cat'!C:C,'App Use'!D19,1),IF(C19=\"\",\"\",\"Andere\"))","v":130076480},0,0,""]
[null,null,null,{"$f":"IFERROR(MATCH(A20,'App Cat'!A:A,0),\"\")","v":5},{"$f":"IFERROR(INDEX('App Cat'!C:C,'App Use'!D20,1),IF(C20=\"\",\"\",\"Andere\"))","v":130076480},0,0,""]
[null,null,null,{"$f":"IFERROR(MATCH(A21,'App Cat'!A:A,0),\"\")","v":5},{"$f":"IFERROR(INDEX('App Cat'!C:C,'App Use'!D21,1),IF(C21=\"\",\"\",\"Andere\"))","v":130076480},0,0,""]
[null,null,null,{"$f":"IFERROR(MATCH(A22,'App Cat'!A:A,0),\"\")","v":5},{"$f":"IFERROR(INDEX('App Cat'!C:C,'App Use'!D22,1),IF(C22=\"\",\"\",\"Andere\"))","v":130076480},0,0,""]
[null,null,null,{"$f":"IFERROR(MATCH(A23,'App Cat'!A:A,0),\"\")","v":5},{"$f":"IFERROR(INDEX('App Cat'!C:C,'App Use'!D23,1),IF(C23=\"\",\"\",\"Andere\"))","v":130076480},0,0,""]
[null,null,null,{"$f":"IFERROR(MATCH(A24,'App Cat'!A:A,0),\"\")","v":5},{"$f":"IFERROR(INDEX('App Cat'!C:C,'App Use'!D24,1),IF(C24=\"\",\"\",\"Andere\"))","v":130076480},0,0,""]
[null,null,null,{"$f":"IFERROR(MATCH(A25,'App Cat'!A:A,0),\"\")","v":5},{"$f":"IFERROR(INDEX('App Cat'!C:C,'App Use'!D25,1),IF(C25=\"\",\"\",\"Andere\"))","v":130076480},0,0,""]
[null,null,null,{"$f":"IFERROR(MATCH(A26,'App Cat'!A:A,0),\"\")","v":5},{"$f":"IFERROR(INDEX('App Cat'!C:C,'App Use'!D26,1),IF(C26=\"\",\"\",\"Andere\"))","v":130076480},0,0,""]
[null,null,null,{"$f":"IFERROR(MATCH(A27,'App Cat'!A:A,0),\"\")","v":5},{"$f":"IFERROR(INDEX('App Cat'!C:C,'App Use'!D27,1),IF(C27=\"\",\"\",\"Andere\"))","v":130076480},0,0,""]
[null,null,null,{"$f":"IFERROR(MATCH(A28,'App Cat'!A:A,0),\"\")","v":5},{"$f":"IFERROR(INDEX('App Cat'!C:C,'App Use'!D28,1),IF(C28=\"\",\"\",\"Andere\"))","v":130076480},0,0,""]
[null,null,null,{"$f":"IFERROR(MATCH(A29,'App Cat'!A:A,0),\"\")","v":5},{"$f":"IFERROR(INDEX('App Cat'!C:C,'App Use'!D29,1),IF(C29=\"\",\"\",\"Andere\"))","v":130076480},0,0,""]
[null,null,null,{"$f":"IFERROR(MATCH(A30,'App Cat'!A:A,0),\"\")","v":5},{"$f":"IFERROR(INDEX('App Cat'!C:C,'App Use'!D30,1),IF(C30=\"\",\"\",\"Andere\"))","v":130076480},0,0,""]
[null,null,null,{"$f":"IFERROR(MATCH(A31,'App Cat'!A:A,0),\"\")","v":5},{"$f":"IFERROR(INDEX('App Cat'!C:C,'App Use'!D31,1),IF(C31=\"\",\"\",\"Andere\"))","v":130076480},0,0,""]
[null,null,null,{"$f":"IFERROR(MATCH(A32,'App Cat'!A:A,0),\"\")","v":5},{"$f":"IFERROR(INDEX('App Cat'!C:C,'App Use'!D32,1),IF(C32=\"\",\"\",\"Andere\"))","v":130076480},0,0,""]
[null,null,null,{"$f":"IFERROR(MATCH(A33,'App Cat'!A:A,0),\"\")","v":5},{"$f":"IFERROR(INDEX('App Cat'!C:C,'App Use'!D33,1),IF(C33=\"\",\"\",\"Andere\"))","v":130076480},0,0,""]
[null,null,null,{"$f":"IFERROR(MATCH(A34,'App Cat'!A:A,0),\"\")","v":5},{"$f":"IFERROR(INDEX('App Cat'!C:C,'App Use'!D34,1),IF(C34=\"\",\"\",\"Andere\"))","v":130076480},{"$f":"HOUR(B34)*3600+MINUTE(B34)*60+SECOND(B34)","v":0},{"$f":"C34","v":0},{"$f":"IFERROR(FIND(\"Created by App\",A34),\"\")","v":""}]
[null,null,null,{"$f":"IFERROR(MATCH(A35,'App Cat'!A:A,0),\"\")","v":5},{"$f":"IFERROR(INDEX('App Cat'!C:C,'App Use'!D35,1),IF(C35=\"\",\"\",\"Andere\"))","v":130076480},0,0,""]
[null,null,null,{"$f":"IFERROR(MATCH(A36,'App Cat'!A:A,0),\"\")","v":5},{"$f":"IFERROR(INDEX('App Cat'!C:C,'App Use'!D36,1),IF(C36=\"\",\"\",\"Andere\"))","v":130076480},0,0,""]
[null,null,null,{"$f":"IFERROR(MATCH(A37,'App Cat'!A:A,0),\"\")","v":5},{"$f":"IFERROR(INDEX('App Cat'!C:C,'App Use'!D37,1),IF(C37=\"\",\"\",\"Andere\"))","v":130076480},0,0,""]
[null,null,null,{"$f":"IFERROR(MATCH(A38,'App Cat'!A:A,0),\"\")","v":5},{"$f":"IFERROR(INDEX('App Cat'!C:C,'App Use'!D38,1),IF(C38=\"\",\"\",\"Andere\"))","v":130076480},0,0,""]
[null,null,null,{"$f":"IFERROR(MATCH(A39,'App Cat'!A:A,0),\"\")","v":5},{"$f":"IFERROR(INDEX('App Cat'!C:C,'App Use'!D39,1),IF(C39=\"\",\"\",\"Andere\"))","v":130076480},0,0,""]
[null,null,null,{"$f":"IFERROR(MATCH(A40,'App Cat'!A:A,0),\"\")","v":5},{"$f":"IFERROR(INDEX('App Cat'!C:C,'App Use'!D40,1),IF(C40=\"\",\"\",\"Andere\"))","v":130076480},0,0,""]
[null,null,null,{"$f":"IFERROR(MATCH(A41,'App Cat'!A:A,0),\"\")","v":5},{"$f":"IFERROR(INDEX('App Cat'!C:C,'App Use'!D41,1),IF(C41=\"\",\"\",\"Andere\"))","v":130076480},0,0,""]
[null,null,null,{"$f":"IFERROR(MATCH(A42,'App Cat'!A:A,0),\"\")","v":5},{"$f":"IFERROR(INDEX('App Cat'!C:C,'App Use'!D42,1),IF(C42=\"\",\"\",\"Andere\"))","v":130076480},0,0,""]
[null,null,null,{"$f":"IFERROR(MATCH(A43,'App Cat'!A:A,0),\"\")","v":5},{"$f":"IFERROR(INDEX('App Cat'!C:C,'App Use'!D43,1),IF(C43=\"\",\"\",\"Andere\"))","v":130076480},0,0,""]
[null,null,null,{"$f":"IFERROR(MATCH(A44,'App Cat'!A:A,0),\"\")","v":5},{"$f":"IFERROR(INDEX('App Cat'!C:C,'App Use'!D44,1),IF(C44=\"\",\"\",\"Andere\"))","v":130076480},0,0,""]
[null,null,null,{"$f":"IFERROR(MATCH(A45,'App Cat'!A:A,0),\"\")","v":5},{"$f":"IFERROR(INDEX('App Cat'!C:C,'App Use'!D45,1),IF(C45=\"\",\"\",\"Andere\"))","v":130076480},0,0,""]
[null,null,null,{"$f":"IFERROR(MATCH(A46,'App Cat'!A:A,0),\"\")","v":5},{"$f":"IFERROR(INDEX('App Cat'!C:C,'App Use'!D46,1),IF(C46=\"\",\"\",\"Andere\"))","v":130076480},0,0,""]
[null,null,null,{"$f":"IFERROR(MATCH(A47,'App Cat'!A:A,0),\"\")","v":5},{"$f":"IFERROR(INDEX('App Cat'!C:C,'App Use'!D47,1),IF(C47=\"\",\"\",\"Andere\"))","v":130076480},0,0,""]
[null,null,null,{"$f":"IFERROR(MATCH(A48,'App Cat'!A:A,0),\"\")","v":5},{"$f":"IFERROR(INDEX('App Cat'!C:C,'App Use'!D48,1),IF(C48=\"\",\"\",\"Andere\"))","v":130076480},0,0,""]
[null,null,null,{"$f":"IFERROR(MATCH(A49,'App Cat'!A:A,0),\"\")","v":5},{"$f":"IFERROR(INDEX('App Cat'!C:C,'App Use'!D49,1),IF(C49=\"\",\"\",\"Andere\"))","v":130076480},0,0,""]
[null,null,null,{"$f":"IFERROR(MATCH(A50,'App Cat'!A:A,0),\"\")","v":5},{"$f":"IFERROR(INDEX('App Cat'!C:C,'App Use'!D50,1),IF(C50=\"\",\"\",\"Andere\"))","v":130076480},0,0,""]
[null,null,null,{"$f":"IFERROR(MATCH(A51,'App Cat'!A:A,0),\"\")","v":5},{"$f":"IFERROR(INDEX('App Cat'!C:C,'App Use'!D51,1),IF(C51=\"\",\"\",\"Andere\"))","v":130076480},0,0,""]
[null,null,null,{"$f":"IFERROR(MATCH(A52,'App Cat'!A:A,0),\"\")","v":5},{"$f":"IFERROR(INDEX('App Cat'!C:C,'App Use'!D52,1),IF(C52=\"\",\"\",\"Andere\"))","v":130076480},0,0,""]
[null,null,null,{"$f":"IFERROR(MATCH(A53,'App Cat'!A:A,0),\"\")","v":5},{"$f":"IFERROR(INDEX('App Cat'!C:C,'App Use'!D53,1),IF(C53=\"\",\"\",\"Andere\"))","v":130076480},0,0,""]
[null,null,null,{"$f":"IFERROR(MATCH(A54,'App Cat'!A:A,0),\"\")","v":5},{"$f":"IFERROR(INDEX('App Cat'!C:C,'App Use'!D54,1),IF(C54=\"\",\"\",\"Andere\"))","v":130076480},0,0,""]
[null,null,null,{"$f":"IFERROR(MATCH(A55,'App Cat'!A:A,0),\"\")","v":5},{"$f":"IFERROR(INDEX('App Cat'!C:C,'App Use'!D55,1),IF(C55=\"\",\"\",\"Andere\"))","v":130076480},0,0,""]
[null,null,null,{"$f":"IFERROR(MATCH(A56,'App Cat'!A:A,0),\"\")","v":5},{"$f":"IFERROR(INDEX('App Cat'!C:C,'App Use'!D56,1),IF(C56=\"\",\"\",\"Andere\"))","v":130076480},0,0,""]
[null,null,null,{"$f":"IFERROR(MATCH(A57,'App Cat'!A:A,0),\"\")","v":5},{"$f":"IFERROR(INDEX('App Cat'!C:C,'App Use'!D57,1),IF(C57=\"\",\"\",\"Andere\"))","v":130076480},0,0,""]
[null,null,null,{"$f":"IFERROR(MATCH(A58,'App Cat'!A:A,0),\"\")","v":5},{"$f":"IFERROR(INDEX('App Cat'!C:C,'App Use'!D58,1),IF(C58=\"\",\"\",\"Andere\"))","v":130076480},0,0,""]
[null,null,null,{"$f":"IFERROR(MATCH(A59,'App Cat'!A:A,0),\"\")","v":5},{"$f":"IFERROR(INDEX('App Cat'!C:C,'App Use'!D59,1),IF(C59=\"\",\"\",\"Andere\"))","v":130076480},0,0,""]
[null,null,null,{"$f":"IFERROR(MATCH(A60,'App Cat'!A:A,0),\"\")","v":5},{"$f":"IFERROR(INDEX('App Cat'!C:C,'App Use'!D60,1),IF(C60=\"\",\"\",\"Andere\"))","v":130076480},0,0,""]
[null,null,null,{"$f":"IFERROR(MATCH(A61,'App Cat'!A:A,0),\"\")","v":5},{"$f":"IFERROR(INDEX('App Cat'!C:C,'App Use'!D61,1),IF(C61=\"\",\"\",\"Andere\"))","v":130076480},0,0,""]
[null,null,null,{"$f":"IFERROR(MATCH(A62,'App Cat'!A:A,0),\"\")","v":5},{"$f":"IFERROR(INDEX('App Cat'!C:C,'App Use'!D62,1),IF(C62=\"\",\"\",\"Andere\"))","v":130076480},0,0,""]
[null,null,null,{"$f":"IFERROR(MATCH(A63,'App Cat'!A:A,0),\"\")","v":5},{"$f":"IFERROR(INDEX('App Cat'!C:C,'App Use'!D63,1),IF(C63=\"\",\"\",\"Andere\"))","v":130076480},0,0,""]
[null,null,null,{"$f":"IFERROR(MATCH(A64,'App Cat'!A:A,0),\"\")","v":5},{"$f":"IFERROR(INDEX('App Cat'!C:C,'App Use'!D64,1),IF(C64=\"\",\"\",\"Andere\"))","v":130076480},0,0,""]
[null,null,null,{"$f":"IFERROR(MATCH(A65,'App Cat'!A:A,0),\"\")","v":5},{"$f":"IFERROR(INDEX('App Cat'!C:C,'App Use'!D65,1),IF(C65=\"\",\"\",\"Andere\"))","v":130076480},0,0,""]
[null,null,null,{"$f":"IFERROR(MATCH(A66,'App Cat'!A:A,0),\"\")","v":5},{"$f":"IFERROR(INDEX('App Cat'!C:C,'App Use'!D66,1),IF(C66=\"\",\"\",\"Andere\"))","v":130076480},{"$f":"HOUR(B66)*3600+MINUTE(B66)*60+SECOND(B66)","v":0},{"$f":"C66","v":0},{"$f":"IFERROR(FIND(\"Created by App\",A66),\"\")","v":""}]
[null,null,null,{"$f":"IFERROR(MATCH(A67,'App Cat'!A:A,0),\"\")","v":5},{"$f":"IFERROR(INDEX('App Cat'!C:C,'App Use'!D67,1),IF(C67=\"\",\"\",\"Andere\"))","v":130076480},0,0,""]
[null,null,null,{"$f":"IFERROR(MATCH(A68,'App Cat'!A:A,0),\"\")","v":5},{"$f":"IFERROR(INDEX('App Cat'!C:C,'App Use'!D68,1),IF(C68=\"\",\"\",\"Andere\"))","v":130076480},0,0,""]
[null,null,null,{"$f":"IFERROR(MATCH(A69,'App Cat'!A:A,0),\"\")","v":5},{"$f":"IFERROR(INDEX('App Cat'!C:C,'App Use'!D69,1),IF(C69=\"\",\"\",\"Andere\"))","v":130076480},0,0,""]
[null,null,null,{"$f":"IFERROR(MATCH(A70,'App Cat'!A:A,0),\"\")","v":5},{"$f":"IFERROR(INDEX('App Cat'!C:C,'App Use'!D70,1),IF(C70=\"\",\"\",\"Andere\"))","v":130076480},0,0,""]
[null,null,null,{"$f":"IFERROR(MATCH(A71,'App Cat'!A:A,0),\"\")","v":5},{"$f":"IFERROR(INDEX('App Cat'!C:C,'App Use'!D71,1),IF(C71=\"\",\"\",\"Andere\"))","v":130076480},0,0,""]
[null,null,null,{"$f":"IFERROR(MATCH(A72,'App Cat'!A:A,0),\"\")","v":5},{"$f":"IFERROR(INDEX('App Cat'!C:C,'App Use'!D72,1),IF(C72=\"\",\"\",\"Andere\"))","v":130076480},0,0,""]
[null,null,null,{"$f":"IFERROR(MATCH(A73,'App Cat'!A:A,0),\"\")","v":5},{"$f":"IFERROR(INDEX('App Cat'!C:C,'App Use'!D73,1),IF(C73=\"\",\"\",\"Andere\"))","v":130076480},0,0,""]
[null,null,null,{"$f":"IFERROR(MATCH(A74,'App Cat'!A:A,0),\"\")","v":5},{"$f":"IFERROR(INDEX('App Cat'!C:C,'App Use'!D74,1),IF(C74=\"\",\"\",\"Andere\"))","v":130076480},0,0,""]
[null,null,null,{"$f":"IFERROR(MATCH(A75,'App Cat'!A:A,0),\"\")","v":5},{"$f":"IFERROR(INDEX('App Cat'!C:C,'App Use'!D75,1),IF(C75=\"\",\"\",\"Andere\"))","v":130076480},0,0,""]
[null,null,null,{"$f":"IFERROR(MATCH(A76,'App Cat'!A:A,0),\"\")","v":5},{"$f":"IFERROR(INDEX('App Cat'!C:C,'App Use'!D76,1),IF(C76=\"\",\"\",\"Andere\"))","v":130076480},0,0,""]
[null,null,null,{"$f":"IFERROR(MATCH(A77,'App Cat'!A:A,0),\"\")","v":5},{"$f":"IFERROR(INDEX('App Cat'!C:C,'App Use'!D77,1),IF(C77=\"\",\"\",\"Andere\"))","v":130076480},0,0,""]
[null,null,null,{"$f":"IFERROR(MATCH(A78,'App Cat'!A:A,0),\"\")","v":5},{"$f":"IFERROR(INDEX('App Cat'!C:C,'App Use'!D78,1),IF(C78=\"\",\"\",\"Andere\"))","v":130076480},0,0,""]
[null,null,null,{"$f":"IFERROR(MATCH(A79,'App Cat'!A:A,0),\"\")","v":5},{"$f":"IFERROR(INDEX('App Cat'!C:C,'App Use'!D79,1),IF(C79=\"\",\"\",\"Andere\"))","v":130076480},0,0,""]
[null,null,null,{"$f":"IFERROR(MATCH(A80,'App Cat'!A:A,0),\"\")","v":5},{"$f":"IFERROR(INDEX('App Cat'!C:C,'App Use'!D80,1),IF(C80=\"\",\"\",\"Andere\"))","v":130076480},0,0,""]
[null,null,null,{"$f":"IFERROR(MATCH(A81,'App Cat'!A:A,0),\"\")","v":5},{"$f":"IFERROR(INDEX('App Cat'!C:C,'App Use'!D81,1),IF(C81=\"\",\"\",\"Andere\"))","v":130076480},0,0,""]
[null,null,null,{"$f":"IFERROR(MATCH(A82,'App Cat'!A:A,0),\"\")","v":5},{"$f":"IFERROR(INDEX('App Cat'!C:C,'App Use'!D82,1),IF(C82=\"\",\"\",\"Andere\"))","v":130076480},0,0,""]
[null,null,null,{"$f":"IFERROR(MATCH(A83,'App Cat'!A:A,0),\"\")","v":5},{"$f":"IFERROR(INDEX('App Cat'!C:C,'App Use'!D83,1),IF(C83=\"\",\"\",\"Andere\"))","v":130076480},0,0,""]
[null,null,null,{"$f":"IFERROR(MATCH(A84,'App Cat'!A:A,0),\"\")","v":5},{"$f":"IFERROR(INDEX('App Cat'!C:C,'App Use'!D84,1),IF(C84=\"\",\"\",\"Andere\"))","v":130076480},0,0,""]
[null,null,null,{"$f":"IFERROR(MATCH(A85,'App Cat'!A:A,0),\"\")","v":5},{"$f":"IFERROR(INDEX('App Cat'!C:C,'App Use'!D85,1),IF(C85=\"\",\"\",\"Andere\"))","v":130076480},0,0,""]
[null,null,null,{"$f":"IFERROR(MATCH(A86,'App Cat'!A:A,0),\"\")","v":5},{"$f":"IFERROR(INDEX('App Cat'!C:C,'App Use'!D86,1),IF(C86=\"\",\"\",\"Andere\"))","v":130076480},0,0,""]
[null,null,null,{"$f":"IFERROR(MATCH(A87,'App Cat'!A:A,0),\"\")","v":5},{"$f":"IFERROR(INDEX('App Cat'!C:C,'App Use'!D87,1),IF(C87=\"\",\"\",\"Andere\"))","v":130076480},0,0,""]
[null,null,null,{"$f":"IFERROR(MATCH(A88,'App Cat'!A:A,0),\"\")","v":5},{"$f":"IFERROR(INDEX('App Cat'!C:C,'App Use'!D88,1),IF(C88=\"\",\"\",\"Andere\"))","v":130076480},0,0,""]
[null,null,null,{"$f":"IFERROR(MATCH(A89,'App Cat'!A:A,0),\"\")","v":5},{"$f":"IFERROR(INDEX('App Cat'!C:C,'App Use'!D89,1),IF(C89=\"\",\"\",\"Andere\"))","v":130076480},0,0,""]
[null,null,null,{"$f":"IFERROR(MATCH(A90,'App Cat'!A:A,0),\"\")","v":5},{"$f":"IFERROR(INDEX('App Cat'!C:C,'App Use'!D90,1),IF(C90=\"\",\"\",\"Andere\"))","v":130076480},0,0,""]
[null,null,null,{"$f":"IFERROR(MATCH(A91,'App Cat'!A:A,0),\"\")","v":5},{"$f":"IFERROR(INDEX('App Cat'!C:C,'App Use'!D91,1),IF(C91=\"\",\"\",\"Andere\"))","v":130076480},0,0,""]
[null,null,null,{"$f":"IFERROR(MATCH(A92,'App Cat'!A:A,0),\"\")","v":5},{"$f":"IFERROR(INDEX('App Cat'!C:C,'App Use'!D92,1),IF(C92=\"\",\"\",\"Andere\"))","v":130076480},0,0,""]
[null,null,null,{"$f":"IFERROR(MATCH(A93,'App Cat'!A:A,0),\"\")","v":5},{"$f":"IFERROR(INDEX('App Cat'!C:C,'App Use'!D93,1),IF(C93=\"\",\"\",\"Andere\"))","v":130076480},0,0,""]
[null,null,null,{"$f":"IFERROR(MATCH(A94,'App Cat'!A:A,0),\"\")","v":5},{"$f":"IFERROR(INDEX('App Cat'!C:C,'App Use'!D94,1),IF(C94=\"\",\"\",\"Andere\"))","v":130076480},0,0,""]
[null,null,null,{"$f":"IFERROR(MATCH(A95,'App Cat'!A:A,0),\"\")","v":5},{"$f":"IFERROR(INDEX('App Cat'!C:C,'App Use'!D95,1),IF(C95=\"\",\"\",\"Andere\"))","v":130076480},0,0,""]
[null,null,null,{"$f":"IFERROR(MATCH(A96,'App Cat'!A:A,0),\"\")","v":5},{"$f":"IFERROR(INDEX('App Cat'!C:C,'App Use'!D96,1),IF(C96=\"\",\"\",\"Andere\"))","v":130076480},0,0,""]
[null,null,null,{"$f":"IFERROR(MATCH(A97,'App Cat'!A:A,0),\"\")","v":5},{"$f":"IFERROR(INDEX('App Cat'!C:C,'App Use'!D97,1),IF(C97=\"\",\"\",\"Andere\"))","v":130076480},0,0,""]
[null,null,null,{"$f":"IFERROR(MATCH(A98,'App Cat'!A:A,0),\"\")","v":5},{"$f":"IFERROR(INDEX('App Cat'!C:C,'App Use'!D98,1),IF(C98=\"\",\"\",\"Andere\"))","v":130076480},{"$f":"HOUR(B98)*3600+MINUTE(B98)*60+SECOND(B98)","v":0},{"$f":"C98","v":0},{"$f":"IFERROR(FIND(\"Created by App\",A98),\"\")","v":""}]
[null,null,null,{"$f":"IFERROR(MATCH(A99,'App Cat'!A:A,0),\"\")","v":5},{"$f":"IFERROR(INDEX('App Cat'!C:C,'App Use'!D99,1),IF(C99=\"\",\"\",\"Andere\"))","v":130076480},0,0,""]
[null,null,null,{"$f":"IFERROR(MATCH(A100,'App Cat'!A:A,0),\"\")","v":5},{"$f":"IFERROR(INDEX('App Cat'!C:C,'App Use'!D100,1),IF(C100=\"\",\"\",\"Andere\"))","v":130076480},0,0,""]
[null,null,null,{"$f":"IFERROR(MATCH(A101,'App Cat'!A:A,0),\"\")","v":5},{"$f":"IFERROR(INDEX('App Cat'!C:C,'App Use'!D101,1),IF(C101=\"\",\"\",\"Andere\"))","v":130076480},0,0,""]
[null,null,null,{"$f":"IFERROR(MATCH(A102,'App Cat'!A:A,0),\"\")","v":5},{"$f":"IFERROR(INDEX('App Cat'!C:C,'App Use'!D102,1),IF(C102=\"\",\"\",\"Andere\"))","v":130076480},0,0,""]
[null,null,null,{"$f":"IFERROR(MATCH(A103,'App Cat'!A:A,0),\"\")","v":5},{"$f":"IFERROR(INDEX('App Cat'!C:C,'App Use'!D103,1),IF(C103=\"\",\"\",\"Andere\"))","v":130076480},0,0,""]
[null,null,null,{"$f":"IFERROR(MATCH(A104,'App Cat'!A:A,0),\"\")","v":5},{"$f":"IFERROR(INDEX('App Cat'!C:C,'App Use'!D104,1),IF(C104=\"\",\"\",\"Andere\"))","v":130076480},0,0,""]
[null,null,null,{"$f":"IFERROR(MATCH(A105,'App Cat'!A:A,0),\"\")","v":5},{"$f":"IFERROR(INDEX('App Cat'!C:C,'App Use'!D105,1),IF(C105=\"\",\"\",\"Andere\"))","v":130076480},0,0,""]
[null,null,null,{"$f":"IFERROR(MATCH(A106,'App Cat'!A:A,0),\"\")","v":5},{"$f":"IFERROR(INDEX('App Cat'!C:C,'App Use'!D106,1),IF(C106=\"\",\"\",\"Andere\"))","v":130076480},0,0,""]
[null,null,null,{"$f":"IFERROR(MATCH(A107,'App Cat'!A:A,0),\"\")","v":5},{"$f":"IFERROR(INDEX('App Cat'!C:C,'App Use'!D107,1),IF(C107=\"\",\"\",\"Andere\"))","v":130076480},0,0,""]
[null,null,null,{"$f":"IFERROR(MATCH(A108,'App Cat'!A:A,0),\"\")","v":5},{"$f":"IFERROR(INDEX('App Cat'!C:C,'App Use'!D108,1),IF(C108=\"\",\"\",\"Andere\"))","v":130076480},0,0,""]
[null,null,null,{"$f":"IFERROR(MATCH(A109,'App Cat'!A:A,0),\"\")","v":5},{"$f":"IFERROR(INDEX('App Cat'!C:C,'App Use'!D109,1),IF(C109=\"\",\"\",\"Andere\"))","v":130076480},0,0,""]
[null,null,null,{"$f":"IFERROR(MATCH(A110,'App Cat'!A:A,0),\"\")","v":5},{"$f":"IFERROR(INDEX('App Cat'!C:C,'App Use'!D110,1),IF(C110=\"\",\"\",\"Andere\"))","v":130076480},0,0,""]
[null,null,null,{"$f":"IFERROR(MATCH(A111,'App Cat'!A:A,0),\"\")","v":5},{"$f":"IFERROR(INDEX('App Cat'!C:C,'App Use'!D111,1),IF(C111=\"\",\"\",\"Andere\"))","v":130076480},0,0,""]
[null,null,null,{"$f":"IFERROR(MATCH(A112,'App Cat'!A:A,0),\"\")","v":5},{"$f":"IFERROR(INDEX('App Cat'!C:C,'App Use'!D112,1),IF(C112=\"\",\"\",\"Andere\"))","v":130076480},0,0,""]
[null,null,null,{"$f":"IFERROR(MATCH(A113,'App Cat'!A:A,0),\"\")","v":5},{"$f":"IFERROR(INDEX('App Cat'!C:C,'App Use'!D113,1),IF(C113=\"\",\"\",\"Andere\"))","v":130076480},0,0,""]
[null,null,null,{"$f":"IFERROR(MATCH(A114,'App Cat'!A:A,0),\"\")","v":5},{"$f":"IFERROR(INDEX('App Cat'!C:C,'App Use'!D114,1),IF(C114=\"\",\"\",\"Andere\"))","v":130076480},0,0,""]
[null,null,null,{"$f":"IFERROR(MATCH(A115,'App Cat'!A:A,0),\"\")","v":5},{"$f":"IFERROR(INDEX('App Cat'!C:C,'App Use'!D115,1),IF(C115=\"\",\"\",\"Andere\"))","v":130076480},0,0,""]
[null,null,null,{"$f":"IFERROR(MATCH(A116,'App Cat'!A:A,0),\"\")","v":5},{"$f":"IFERROR(INDEX('App Cat'!C:C,'App Use'!D116,1),IF(C116=\"\",\"\",\"Andere\"))","v":130076480},0,0,""]
[null,null,null,{"$f":"IFERROR(MATCH(A117,'App Cat'!A:A,0),\"\")","v":5},{"$f":"IFERROR(INDEX('App Cat'!C:C,'App Use'!D117,1),IF(C117=\"\",\"\",\"Andere\"))","v":130076480},0,0,""]
[null,null,null,{"$f":"IFERROR(MATCH(A118,'App Cat'!A:A,0),\"\")","v":5},{"$f":"IFERROR(INDEX('App Cat'!C:C,'App Use'!D118,1),IF(C118=\"\",\"\",\"Andere\"))","v":130076480},0,0,""]
[null,null,null,{"$f":"IFERROR(MATCH(A119,'App Cat'!A:A,0),\"\")","v":5},{"$f":"IFERROR(INDEX('App Cat'!C:C,'App Use'!D119,1),IF(C119=\"\",\"\",\"Andere\"))","v":130076480},0,0,""]
[null,null,null,{"$f":"IFERROR(MATCH(A120,'App Cat'!A:A,0),\"\")","v":5},{"$f":"IFERROR(INDEX('App Cat'!C:C,'App Use'!D120,1),IF(C120=\"\",\"\",\"Andere\"))","v":130076480},0,0,""]
[null,null,null,{"$f":"IFERROR(MATCH(A121,'App Cat'!A:A,0),\"\")","v":5},{"$f":"IFERROR(INDEX('App Cat'!C:C,'App Use'!D121,1),IF(C121=\"\",\"\",\"Andere\"))","v":130076480},0,0,""]
[null,null,null,{"$f":"IFERROR(MATCH(A122,'App Cat'!A:A,0),\"\")","v":5},{"$f":"IFERROR(INDEX('App Cat'!C:C,'App Use'!D122,1),IF(C122=\"\",\"\",\"Andere\"))","v":130076480},0,0,""]
[null,null,null,{"$f":"IFERROR(MATCH(A123,'App Cat'!A:A,0),\"\")","v":5},{"$f":"IFERROR(INDEX('App Cat'!C:C,'App Use'!D123,1),IF(C123=\"\",\"\",\"Andere\"))","v":130076480},0,0,""]
[null,null,null,{"$f":"IFERROR(MATCH(A124,'App Cat'!A:A,0),\"\")","v":5},{"$f":"IFERROR(INDEX('App Cat'!C:C,'App Use'!D124,1),IF(C124=\"\",\"\",\"Andere\"))","v":130076480},0,0,""]
[null,null,null,{"$f":"IFERROR(MATCH(A125,'App Cat'!A:A,0),\"\")","v":5},{"$f":"IFERROR(INDEX('App Cat'!C:C,'App Use'!D125,1),IF(C125=\"\",\"\",\"Andere\"))","v":130076480},0,0,""]
[null,null,null,{"$f":"IFERROR(MATCH(A126,'App Cat'!A:A,0),\"\")","v":5},{"$f":"IFERROR(INDEX('App Cat'!C:C,'App Use'!D126,1),IF(C126=\"\",\"\",\"Andere\"))","v":130076480},0,0,""]
[null,null,null,{"$f":"IFERROR(MATCH(A127,'App Cat'!A:A,0),\"\")","v":5},{"$f":"IFERROR(INDEX('App Cat'!C:C,'App Use'!D127,1),IF(C127=\"\",\"\",\"Andere\"))","v":130076480},0,0,""]
[null,null,null,{"$f":"IFERROR(MATCH(A128,'App Cat'!A:A,0),\"\")","v":5},{"$f":"IFERROR(INDEX('App Cat'!C:C,'App Use'!D128,1),IF(C128=\"\",\"\",\"Andere\"))","v":130076480},0,0,""]
[null,null,null,{"$f":"IFERROR(MATCH(A129,'App Cat'!A:A,0),\"\")","v":5},{"$f":"IFERROR(INDEX('App Cat'!C:C,'App Use'!D129,1),IF(C129=\"\",\"\",\"Andere\"))","v":130076480},0,0,""]
[null,null,null,{"$f":"IFERROR(MATCH(A130,'App Cat'!A:A,0),\"\")","v":5},{"$f":"IFERROR(INDEX('App Cat'!C:C,'App Use'!D130,1),IF(C130=\"\",\"\",\"Andere\"))","v":130076480},{"$f":"HOUR(B130)*3600+MINUTE(B130)*60+SECOND(B130)","v":0},{"$f":"C130","v":0},{"$f":"IFERROR(FIND(\"Created by App\",A130),\"\")","v":""}]
[null,null,null,{"$f":"IFERROR(MATCH(A131,'App Cat'!A:A,0),\"\")","v":5},{"$f":"IFERROR(INDEX('App Cat'!C:C,'App Use'!D131,1),IF(C131=\"\",\"\",\"Andere\"))","v":130076480},0,0,""]
[null,null,null,{"$f":"IFERROR(MATCH(A132,'App Cat'!A:A,0),\"\")","v":5},{"$f":"IFERROR(INDEX('App Cat'!C:C,'App Use'!D132,1),IF(C132=\"\",\"\",\"Andere\"))","v":130076480},0,0,""]
[null,null,null,{"$f":"IFERROR(MATCH(A133,'App Cat'!A:A,0),\"\")","v":5},{"$f":"IFERROR(INDEX('App Cat'!C:C,'App Use'!D133,1),IF(C133=\"\",\"\",\"Andere\"))","v":130076480},0,0,""]
[null,null,null,{"$f":"IFERROR(MATCH(A134,'App Cat'!A:A,0),\"\")","v":5},{"$f":"IFERROR(INDEX('App Cat'!C:C,'App Use'!D134,1),IF(C134=\"\",\"\",\"Andere\"))","v":130076480},0,0,""]
[null,null,null,{"$f":"IFERROR(MATCH(A135,'App Cat'!A:A,0),\"\")","v":5},{"$f":"IFERROR(INDEX('App Cat'!C:C,'App Use'!D135,1),IF(C135=\"\",\"\",\"Andere\"))","v":130076480},0,0,""]
[null,null,null,{"$f":"IFERROR(MATCH(A136,'App Cat'!A:A,0),\"\")","v":5},{"$f":"IFERROR(INDEX('App Cat'!C:C,'App Use'!D136,1),IF(C136=\"\",\"\",\"Andere\"))","v":130076480},0,0,""]
[null,null,null,{"$f":"IFERROR(MATCH(A137,'App Cat'!A:A,0),\"\")","v":5},{"$f":"IFERROR(INDEX('App Cat'!C:C,'App Use'!D137,1),IF(C137=\"\",\"\",\"Andere\"))","v":130076480},0,0,""]
[null,null,null,{"$f":"IFERROR(MATCH(A138,'App Cat'!A:A,0),\"\")","v":5},{"$f":"IFERROR(INDEX('App Cat'!C:C,'App Use'!D138,1),IF(C138=\"\",\"\",\"Andere\"))","v":130076480},0,0,""]
[null,null,null,{"$f":"IFERROR(MATCH(A139,'App Cat'!A:A,0),\"\")","v":5},{"$f":"IFERROR(INDEX('App Cat'!C:C,'App Use'!D139,1),IF(C139=\"\",\"\",\"Andere\"))","v":130076480},0,0,""]
[null,null,null,{"$f":"IFERROR(MATCH(A140,'App Cat'!A:A,0),\"\")","v":5},{"$f":"IFERROR(INDEX('App Cat'!C:C,'App Use'!D140,1),IF(C140=\"\",\"\",\"Andere\"))","v":130076480},0,0,""]
[null,null,null,{"$f":"IFERROR(MATCH(A141,'App Cat'!A:A,0),\"\")","v":5},{"$f":"IFERROR(INDEX('App Cat'!C:C,'App Use'!D141,1),IF(C141=\"\",\"\",\"Andere\"))","v":130076480},0,0,""]
[null,null,null,{"$f":"IFERROR(MATCH(A142,'App Cat'!A:A,0),\"\")","v":5},{"$f":"IFERROR(INDEX('App Cat'!C:C,'App Use'!D142,1),IF(C142=\"\",\"\",\"Andere\"))","v":130076480},0,0,""]
[null,null,null,{"$f":"IFERROR(MATCH(A143,'App Cat'!A:A,0),\"\")","v":5},{"$f":"IFERROR(INDEX('App Cat'!C:C,'App Use'!D143,1),IF(C143=\"\",\"\",\"Andere\"))","v":130076480},0,0,""]
[null,null,null,{"$f":"IFERROR(MATCH(A144,'App Cat'!A:A,0),\"\")","v":5},{"$f":"IFERROR(INDEX('App Cat'!C:C,'App Use'!D144,1),IF(C144=\"\",\"\",\"Andere\"))","v":130076480},0,0,""]
[null,null,null,{"$f":"IFERROR(MATCH(A145,'App Cat'!A:A,0),\"\")","v":5},{"$f":"IFERROR(INDEX('App Cat'!C:C,'App Use'!D145,1),IF(C145=\"\",\"\",\"Andere\"))","v":130076480},0,0,""]
[null,null,null,{"$f":"IFERROR(MATCH(A146,'App Cat'!A:A,0),\"\")","v":5},{"$f":"IFERROR(INDEX('App Cat'!C:C,'App Use'!D146,1),IF(C146=\"\",\"\",\"Andere\"))","v":130076480},0,0,""]
[null,null,null,{"$f":"IFERROR(MATCH(A147,'App Cat'!A:A,0),\"\")","v":5},{"$f":"IFERROR(INDEX('App Cat'!C:C,'App Use'!D147,1),IF(C147=\"\",\"\",\"Andere\"))","v":130076480},0,0,""]
[null,null,null,{"$f":"IFERROR(MATCH(A148,'App Cat'!A:A,0),\"\")","v":5},{"$f":"IFERROR(INDEX('App Cat'!C:C,'App Use'!D148,1),IF(C148=\"\",\"\",\"Andere\"))","v":130076480},0,0,""]
[null,null,null,{"$f":"IFERROR(MATCH(A149,'App Cat'!A:A,0),\"\")","v":5},{"$f":"IFERROR(INDEX('App Cat'!C:C,'App Use'!D149,1),IF(C149=\"\",\"\",\"Andere\"))","v":130076480},0,0,""]
[null,null,null,{"$f":"IFERROR(MATCH(A150,'App Cat'!A:A,0),\"\")","v":5},{"$f":"IFERROR(INDEX('App Cat'!C:C,'App Use'!D150,1),IF(C150=\"\",\"\",\"Andere\"))","v":130076480},0,0,""]
[null,null,null,{"$f":"IFERROR(MATCH(A151,'App Cat'!A:A,0),\"\")","v":5},{"$f":"IFERROR(INDEX('App Cat'!C:C,'App Use'!D151,1),IF(C151=\"\",\"\",\"Andere\"))","v":130076480},0,0,""]
[null,null,null,{"$f":"IFERROR(MATCH(A152,'App Cat'!A:A,0),\"\")","v":5},{"$f":"IFERROR(INDEX('App Cat'!C:C,'App Use'!D152,1),IF(C152=\"\",\"\",\"Andere\"))","v":130076480},0,0,""]
[null,null,null,{"$f":"IFERROR(MATCH(A153,'App Cat'!A:A,0),\"\")","v":5},{"$f":"IFERROR(INDEX('App Cat'!C:C,'App Use'!D153,1),IF(C153=\"\",\"\",\"Andere\"))","v":130076480},0,0,""]
[null,null,null,{"$f":"IFERROR(MATCH(A154,'App Cat'!A:A,0),\"\")","v":5},{"$f":"IFERROR(INDEX('App Cat'!C:C,'App Use'!D154,1),IF(C154=\"\",\"\",\"Andere\"))","v":130076480},0,0,""]
[null,null,null,{"$f":"IFERROR(MATCH(A155,'App Cat'!A:A,0),\"\")","v":5},{"$f":"IFERROR(INDEX('App Cat'!C:C,'App Use'!D155,1),IF(C155=\"\",\"\",\"Andere\"))","v":130076480},0,0,""]
[null,null,null,{"$f":"IFERROR(MATCH(A156,'App Cat'!A:A,0),\"\")","v":5},{"$f":"IFERROR(INDEX('App Cat'!C:C,'App Use'!D156,1),IF(C156=\"\",\"\",\"Andere\"))","v":130076480},0,0,""]
[null,null,null,{"$f":"IFERROR(MATCH(A157,'App Cat'!A:A,0),\"\")","v":5},{"$f":"IFERROR(INDEX('App Cat'!C:C,'App Use'!D157,1),IF(C157=\"\",\"\",\"Andere\"))","v":130076480},0,0,""]
[null,null,null,{"$f":"IFERROR(MATCH(A158,'App Cat'!A:A,0),\"\")","v":5},{"$f":"IFERROR(INDEX('App Cat'!C:C,'App Use'!D158,1),IF(C158=\"\",\"\",\"Andere\"))","v":130076480},0,0,""]
[null,null,null,{"$f":"IFERROR(MATCH(A159,'App Cat'!A:A,0),\"\")","v":5},{"$f":"IFERROR(INDEX('App Cat'!C:C,'App Use'!D159,1),IF(C159=\"\",\"\",\"Andere\"))","v":130076480},0,0,""]
[null,null,null,{"$f":"IFERROR(MATCH(A160,'App Cat'!A:A,0),\"\")","v":5},{"$f":"IFERROR(INDEX('App Cat'!C:C,'App Use'!D160,1),IF(C160=\"\",\"\",\"Andere\"))","v":130076480},0,0,""]
[null,null,null,{"$f":"IFERROR(MATCH(A161,'App Cat'!A:A,0),\"\")","v":5},{"$f":"IFERROR(INDEX('App Cat'!C:C,'App Use'!D161,1),IF(C161=\"\",\"\",\"Andere\"))","v":130076480},0,0,""]
[null,null,null,{"$f":"IFERROR(MATCH(A162,'App Cat'!A:A,0),\"\")","v":5},{"$f":"IFERROR(INDEX('App Cat'!C:C,'App Use'!D162,1),IF(C162=\"\",\"\",\"Andere\"))","v":130076480},{"$f":"HOUR(B162)*3600+MINUTE(B162)*60+SECOND(B162)","v":0},{"$f":"C162","v":0},{"$f":"IFERROR(FIND(\"Created by App\",A162),\"\")","v":""}]
[null,null,null,{"$f":"IFERROR(MATCH(A163,'App Cat'!A:A,0),\"\")","v":5},{"$f":"IFERROR(INDEX('App Cat'!C:C,'App Use'!D163,1),IF(C163=\"\",\"\",\"Andere\"))","v":130076480},0,0,""]
[null,null,null,{"$f":"IFERROR(MATCH(A164,'App Cat'!A:A,0),\"\")","v":5},{"$f":"IFERROR(INDEX('App Cat'!C:C,'App Use'!D164,1),IF(C164=\"\",\"\",\"Andere\"))","v":130076480},0,0,""]
[null,null,null,{"$f":"IFERROR(MATCH(A165,'App Cat'!A:A,0),\"\")","v":5},{"$f":"IFERROR(INDEX('App Cat'!C:C,'App Use'!D165,1),IF(C165=\"\",\"\",\"Andere\"))","v":130076480},0,0,""]
[null,null,null,{"$f":"IFERROR(MATCH(A166,'App Cat'!A:A,0),\"\")","v":5},{"$f":"IFERROR(INDEX('App Cat'!C:C,'App Use'!D166,1),IF(C166=\"\",\"\",\"Andere\"))","v":130076480},0,0,""]
[null,null,null,{"$f":"IFERROR(MATCH(A167,'App Cat'!A:A,0),\"\")","v":5},{"$f":"IFERROR(INDEX('App Cat'!C:C,'App Use'!D167,1),IF(C167=\"\",\"\",\"Andere\"))","v":130076480},0,0,""]
[null,null,null,{"$f":"IFERROR(MATCH(A168,'App Cat'!A:A,0),\"\")","v":5},{"$f":"IFERROR(INDEX('App Cat'!C:C,'App Use'!D168,1),IF(C168=\"\",\"\",\"Andere\"))","v":130076480},0,0,""]
[null,null,null,{"$f":"IFERROR(MATCH(A169,'App Cat'!A:A,0),\"\")","v":5},{"$f":"IFERROR(INDEX('App Cat'!C:C,'App Use'!D169,1),IF(C169=\"\",\"\",\"Andere\"))","v":130076480},0,0,""]
[null,null,null,{"$f":"IFERROR(MATCH(A170,'App Cat'!A:A,0),\"\")","v":5},{"$f":"IFERROR(INDEX('App Cat'!C:C,'App Use'!D170,1),IF(C170=\"\",\"\",\"Andere\"))","v":130076480},0,0,""]
[null,null,null,{"$f":"IFERROR(MATCH(A171,'App Cat'!A:A,0),\"\")","v":5},{"$f":"IFERROR(INDEX('App Cat'!C:C,'App Use'!D171,1),IF(C171=\"\",\"\",\"Andere\"))","v":130076480},0,0,""]
[null,null,null,{"$f":"IFERROR(MATCH(A172,'App Cat'!A:A,0),\"\")","v":5},{"$f":"IFERROR(INDEX('App Cat'!C:C,'App Use'!D172,1),IF(C172=\"\",\"\",\"Andere\"))","v":130076480},0,0,""]
[null,null,null,{"$f":"IFERROR(MATCH(A173,'App Cat'!A:A,0),\"\")","v":5},{"$f":"IFERROR(INDEX('App Cat'!C:C,'App Use'!D173,1),IF(C173=\"\",\"\",\"Andere\"))","v":130076480},0,0,""]
[null,null,null,{"$f":"IFERROR(MATCH(A174,'App Cat'!A:A,0),\"\")","v":5},{"$f":"IFERROR(INDEX('App Cat'!C:C,'App Use'!D174,1),IF(C174=\"\",\"\",\"Andere\"))","v":130076480},0,0,""]
[null,null,null,{"$f":"IFERROR(MATCH(A175,'App Cat'!A:A,0),\"\")","v":5},{"$f":"IFERROR(INDEX('App Cat'!C:C,'App Use'!D175,1),IF(C175=\"\",\"\",\"Andere\"))","v":130076480},0,0,""]
[null,null,null,{"$f":"IFERROR(MATCH(A176,'App Cat'!A:A,0),\"\")","v":5},{"$f":"IFERROR(INDEX('App Cat'!C:C,'App Use'!D176,1),IF(C176=\"\",\"\",\"Andere\"))","v":130076480},0,0,""]
[null,null,null,{"$f":"IFERROR(MATCH(A177,'App Cat'!A:A,0),\"\")","v":5},{"$f":"IFERROR(INDEX('App Cat'!C:C,'App Use'!D177,1),IF(C177=\"\",\"\",\"Andere\"))","v":130076480},0,0,""]
[null,null,null,{"$f":"IFERROR(MATCH(A178,'App Cat'!A:A,0),\"\")","v":5},{"$f":"IFERROR(INDEX('App Cat'!C:C,'App Use'!D178,1),IF(C178=\"\",\"\",\"Andere\"))","v":130076480},0,0,""]
[null,null,null,{"$f":"IFERROR(MATCH(A179,'App Cat'!A:A,0),\"\")","v":5},{"$f":"IFERROR(INDEX('App Cat'!C:C,'App Use'!D179,1),IF(C179=\"\",\"\",\"Andere\"))","v":130076480},0,0,""]
[null,null,null,{"$f":"IFERROR(MATCH(A180,'App Cat'!A:A,0),\"\")","v":5},{"$f":"IFERROR(INDEX('App Cat'!C:C,'App Use'!D180,1),IF(C180=\"\",\"\",\"Andere\"))","v":130076480},0,0,""]
[null,null,null,{"$f":"IFERROR(MATCH(A181,'App Cat'!A:A,0),\"\")","v":5},{"$f":"IFERROR(INDEX('App Cat'!C:C,'App Use'!D181,1),IF(C181=\"\",\"\",\"Andere\"))","v":130076480},0,0,""]
[null,null,null,{"$f":"IFERROR(MATCH(A182,'App Cat'!A:A,0),\"\")","v":5},{"$f":"IFERROR(INDEX('App Cat'!C:C,'App Use'!D182,1),IF(C182=\"\",\"\",\"Andere\"))","v":130076480},0,0,""]
[null,null,null,{"$f":"IFERROR(MATCH(A183,'App Cat'!A:A,0),\"\")","v":5},{"$f":"IFERROR(INDEX('App Cat'!C:C,'App Use'!D183,1),IF(C183=\"\",\"\",\"Andere\"))","v":130076480},0,0,""]
[null,null,null,{"$f":"IFERROR(MATCH(A184,'App Cat'!A:A,0),\"\")","v":5},{"$f":"IFERROR(INDEX('App Cat'!C:C,'App Use'!D184,1),IF(C184=\"\",\"\",\"Andere\"))","v":130076480},0,0,""]
[null,null,null,{"$f":"IFERROR(MATCH(A185,'App Cat'!A:A,0),\"\")","v":5},{"$f":"IFERROR(INDEX('App Cat'!C:C,'App Use'!D185,1),IF(C185=\"\",\"\",\"Andere\"))","v":130076480},0,0,""]
[null,null,null,{"$f":"IFERROR(MATCH(A186,'App Cat'!A:A,0),\"\")","v":5},{"$f":"IFERROR(INDEX('App Cat'!C:C,'App Use'!D186,1),IF(C186=\"\",\"\",\"Andere\"))","v":130076480},0,0,""]
[null,null,null,{"$f":"IFERROR(MATCH(A187,'App Cat'!A:A,0),\"\")","v":5},{"$f":"IFERROR(INDEX('App Cat'!C:C,'App Use'!D187,1),IF(C187=\"\",\"\",\"Andere\"))","v":130076480},0,0,""]
[null,null,null,{"$f":"IFERROR(MATCH(A188,'App Cat'!A:A,0),\"\")","v":5},{"$f":"IFERROR(INDEX('App Cat'!C:C,'App Use'!D188,1),IF(C188=\"\",\"\",\"Andere\"))","v":130076480},0,0,""]
[null,null,null,{"$f":"IFERROR(MATCH(A189,'App Cat'!A:A,0),\"\")","v":5},{"$f":"IFERROR(INDEX('App Cat'!C:C,'App Use'!D189,1),IF(C189=\"\",\"\",\"Andere\"))","v":130076480},0,0,""]
[null,null,null,{"$f":"IFERROR(MATCH(A190,'App Cat'!A:A,0),\"\")","v":5},{"$f":"IFERROR(INDEX('App Cat'!C:C,'App Use'!D190,1),IF(C190=\"\",\"\",\"Andere\"))","v":130076480},0,0,""]
[null,null,null,{"$f":"IFERROR(MATCH(A191,'App Cat'!A:A,0),\"\")","v":5},{"$f":"IFERROR(INDEX('App Cat'!C:C,'App Use'!D191,1),IF(C191=\"\",\"\",\"Andere\"))","v":130076480},0,0,""]
[null,null,null,{"$f":"IFERROR(MATCH(A192,'App Cat'!A:A,0),\"\")","v":5},{"$f":"IFERROR(INDEX('App Cat'!C:C,'App Use'!D192,1),IF(C192=\"\",\"\",\"Andere\"))","v":130076480},0,0,""]
[null,null,null,{"$f":"IFERROR(MATCH(A193,'App Cat'!A:A,0),\"\")","v":5},{"$f":"IFERROR(INDEX('App Cat'!C:C,'App Use'!D193,1),IF(C193=\"\",\"\",\"Andere\"))","v":130076480},0,0,""]
[null,null,null,{"$f":"IFERROR(MATCH(A194,'App Cat'!A:A,0),\"\")","v":5},{"$f":"IFERROR(INDEX('App Cat'!C:C,'App Use'!D194,1),IF(C194=\"\",\"\",\"Andere\"))","v":130076480},{"$f":"HOUR(B194)*3600+MINUTE(B194)*60+SECOND(B194)","v":0},{"$f":"C194","v":0},{"$f":"IFERROR(FIND(\"Created by App\",A194),\"\")","v":""}]
[null,null,null,{"$f":"IFERROR(MATCH(A195,'App Cat'!A:A,0),\"\")","v":5},{"$f":"IFERROR(INDEX('App Cat'!C:C,'App Use'!D195,1),IF(C195=\"\",\"\",\"Andere\"))","v":130076480},0,0,""]
[null,null,null,{"$f":"IFERROR(MATCH(A196,'App Cat'!A:A,0),\"\")","v":5},{"$f":"IFERROR(INDEX('App Cat'!C:C,'App Use'!D196,1),IF(C196=\"\",\"\",\"Andere\"))","v":130076480},0,0,""]
[null,null,null,{"$f":"IFERROR(MATCH(A197,'App Cat'!A:A,0),\"\")","v":5},{"$f":"IFERROR(INDEX('App Cat'!C:C,'App Use'!D197,1),IF(C197=\"\",\"\",\"Andere\"))","v":130076480},0,0,""]
[null,null,null,{"$f":"IFERROR(MATCH(A198,'App Cat'!A:A,0),\"\")","v":5},{"$f":"IFERROR(INDEX('App Cat'!C:C,'App Use'!D198,1),IF(C198=\"\",\"\",\"Andere\"))","v":130076480},0,0,""]
[null,null,null,{"$f":"IFERROR(MATCH(A199,'App Cat'!A:A,0),\"\")","v":5},{"$f":"IFERROR(INDEX('App Cat'!C:C,'App Use'!D199,1),IF(C199=\"\",\"\",\"Andere\"))","v":130076480},0,0,""]
[null,null,null,{"$f":"IFERROR(MATCH(A200,'App Cat'!A:A,0),\"\")","v":5},{"$f":"IFERROR(INDEX('App Cat'!C:C,'App Use'!D200,1),IF(C200=\"\",\"\",\"Andere\"))","v":130076480},0,0,""]

{"sheet":"App Cat","index":6,"n_rows":477,"n_cols":9,"rows_kept":477,"cut":false,"hidden":false,"merged":[]}
["version=1",null,null,null,null,null,"Abrir en HP Silver",null,"Con este código arreglas el csv"]
[null,null,null,null,{"$f":"ROUND(SUM(E4:E13)/3600,0)&\" hrs\"","v":"0 hrs"},{"$f":"'App Use'!K1","v":"2023-09-10"},"echo addTime(130076459, 3600, \"Agregado con la api\", date('Y-m-d'), date('Y-m-d').\" 00:00:01\", date('Y-m-d').\" 00:00:02\");"]
["Sys category id","Name",null,null,"Tiempo","Accesos","Codigo",null,"<?php"]
[-1,"System",130076481,null,{"$f":"SUMIF('App Use'!E:E,'App Cat'!B4,'App Use'!F:F)","v":0},{"$f":"SUMIF('App Use'!E:E,'App Cat'!B4,'App Use'!G:G)","v":0},{"$f":"\"echo addTime(\"&C4&\", \"&E4&\", \"&\"\"\"\"&\"Accesos: \"&F4&\"\"\"\"&\", \"&\"\"\"\"&TEXT('App Use'!$K$1,\"aaaa-mm-dd\")&\"\"\"\"&\", '\"&TEXT('App Use'!$K$1,\"aaaa-mm-dd\")&\" 00:00:01', '\"&TEXT('App Use'!$K$1,\"aaaa-mm-dd\")&\" 00:00:02');\"","v":"echo addTime(130076481, 0, \"Accesos: 0\", \"2023-09-10\", '2023-09-10 00:00:01', '2023-09-10 00:00:02');"}]
[0,"Spiele",130076480,null,{"$f":"SUMIF('App Use'!E:E,'App Cat'!B5,'App Use'!F:F)","v":0},{"$f":"SUMIF('App Use'!E:E,'App Cat'!B5,'App Use'!G:G)","v":0},{"$f":"\"echo addTime(\"&C5&\", \"&E5&\", \"&\"\"\"\"&\"Accesos: \"&F5&\"\"\"\"&\", \"&\"\"\"\"&TEXT('App Use'!$K$1,\"aaaa-mm-dd\")&\"\"\"\"&\", '\"&TEXT('App Use'!$K$1,\"aaaa-mm-dd\")&\" 00:00:01', '\"&TEXT('App Use'!$K$1,\"aaaa-mm-dd\")&\" 00:00:02');\"","v":"echo addTime(130076480, 0, \"Accesos: 0\", \"2023-09-10\", '2023-09-10 00:00:01', '2023-09-10 00:00:02');"},null,"$filename = 'data.csv';"]
[1,"Musik und Filmen",130076466,null,{"$f":"SUMIF('App Use'!E:E,'App Cat'!B6,'App Use'!F:F)","v":0},{"$f":"SUMIF('App Use'!E:E,'App Cat'!B6,'App Use'!G:G)","v":0},{"$f":"\"echo addTime(\"&C6&\", \"&E6&\", \"&\"\"\"\"&\"Accesos: \"&F6&\"\"\"\"&\", \"&\"\"\"\"&TEXT('App Use'!$K$1,\"aaaa-mm-dd\")&\"\"\"\"&\", '\"&TEXT('App Use'!$K$1,\"aaaa-mm-dd\")&\" 00:00:01', '\"&TEXT('App Use'!$K$1,\"aaaa-mm-dd\")&\" 00:00:02');\"","v":"echo addTime(130076466, 0, \"Accesos: 0\", \"2023-09-10\", '2023-09-10 00:00:01', '2023-09-10 00:00:02');"}]
[2,"Einstellungen",130076461,null,{"$f":"SUMIF('App Use'!E:E,'App Cat'!B7,'App Use'!F:F)","v":0},{"$f":"SUMIF('App Use'!E:E,'App Cat'!B7,'App Use'!G:G)","v":0},{"$f":"\"echo addTime(\"&C7&\", \"&E7&\", \"&\"\"\"\"&\"Accesos: \"&F7&\"\"\"\"&\", \"&\"\"\"\"&TEXT('App Use'!$K$1,\"aaaa-mm-dd\")&\"\"\"\"&\", '\"&TEXT('App Use'!$K$1,\"aaaa-mm-dd\")&\" 00:00:01', '\"&TEXT('App Use'!$K$1,\"aaaa-mm-dd\")&\" 00:00:02');\"","v":"echo addTime(130076461, 0, \"Accesos: 0\", \"2023-09-10\", '2023-09-10 00:00:01', '2023-09-10 00:00:02');"},null,"$data = array();"]
[3,"Fotos & Bilder",130076463,null,{"$f":"SUMIF('App Use'!E:E,'App Cat'!B8,'App Use'!F:F)","v":0},{"$f":"SUMIF('App Use'!E:E,'App Cat'!B8,'App Use'!G:G)","v":0},{"$f":"\"echo addTime(\"&C8&\", \"&E8&\", \"&\"\"\"\"&\"Accesos: \"&F8&\"\"\"\"&\", \"&\"\"\"\"&TEXT('App Use'!$K$1,\"aaaa-mm-dd\")&\"\"\"\"&\", '\"&TEXT('App Use'!$K$1,\"aaaa-mm-dd\")&\" 00:00:01', '\"&TEXT('App Use'!$K$1,\"aaaa-mm-dd\")&\" 00:00:02');\"","v":"echo addTime(130076463, 0, \"Accesos: 0\", \"2023-09-10\", '2023-09-10 00:00:01', '2023-09-10 00:00:02');"}]
[4,"Soziale Netzwerke",130076479,null,{"$f":"SUMIF('App Use'!E:E,'App Cat'!B9,'App Use'!F:F)","v":0},{"$f":"SUMIF('App Use'!E:E,'App Cat'!B9,'App Use'!G:G)","v":0},{"$f":"\"echo addTime(\"&C9&\", \"&E9&\", \"&\"\"\"\"&\"Accesos: \"&F9&\"\"\"\"&\", \"&\"\"\"\"&TEXT('App Use'!$K$1,\"aaaa-mm-dd\")&\"\"\"\"&\", '\"&TEXT('App Use'!$K$1,\"aaaa-mm-dd\")&\" 00:00:01', '\"&TEXT('App Use'!$K$1,\"aaaa-mm-dd\")&\" 00:00:02');\"","v":"echo addTime(130076479, 0, \"Accesos: 0\", \"2023-09-10\", '2023-09-10 00:00:01', '2023-09-10 00:00:02');"},null,"if (($handle = fopen($filename, 'r')) !== FALSE) {"]
[5,"Kommunikation",130076465,null,{"$f":"SUMIF('App Use'!E:E,'App Cat'!B10,'App Use'!F:F)","v":0},{"$f":"SUMIF('App Use'!E:E,'App Cat'!B10,'App Use'!G:G)","v":0},{"$f":"\"echo addTime(\"&C10&\", \"&E10&\", \"&\"\"\"\"&\"Accesos: \"&F10&\"\"\"\"&\", \"&\"\"\"\"&TEXT('App Use'!$K$1,\"aaaa-mm-dd\")&\"\"\"\"&\", '\"&TEXT('App Use'!$K$1,\"aaaa-mm-dd\")&\" 00:00:01', '\"&TEXT('App Use'!$K$1,\"aaaa-mm-dd\")&\" 00:00:02');\"","v":"echo addTime(130076465, 0, \"Accesos: 0\", \"2023-09-10\", '2023-09-10 00:00:01', '2023-09-10 00:00:02');"},null,"    while (($row = fgetcsv($handle, 0, \"\\t\")) !== FALSE) {"]
[6,"Karten & Navigation",130076464,null,{"$f":"SUMIF('App Use'!E:E,'App Cat'!B11,'App Use'!F:F)","v":0},{"$f":"SUMIF('App Use'!E:E,'App Cat'!B11,'App Use'!G:G)","v":0},{"$f":"\"echo addTime(\"&C11&\", \"&E11&\", \"&\"\"\"\"&\"Accesos: \"&F11&\"\"\"\"&\", \"&\"\"\"\"&TEXT('App Use'!$K$1,\"aaaa-mm-dd\")&\"\"\"\"&\", '\"&TEXT('App Use'!$K$1,\"aaaa-mm-dd\")&\" 00:00:01', '\"&TEXT('App Use'!$K$1,\"aaaa-mm-dd\")&\" 00:00:02');\"","v":"echo addTime(130076464, 0, \"Accesos: 0\", \"2023-09-10\", '2023-09-10 00:00:01', '2023-09-10 00:00:02');"},null,"        $data[] = $row;"]
[7,"Arbeit",130076460,null,{"$f":"SUMIF('App Use'!E:E,'App Cat'!B12,'App Use'!F:F)","v":0},{"$f":"SUMIF('App Use'!E:E,'App Cat'!B12,'App Use'!G:G)","v":0},{"$f":"\"echo addTime(\"&C12&\", \"&E12&\", \"&\"\"\"\"&\"Accesos: \"&F12&\"\"\"\"&\", \"&\"\"\"\"&TEXT('App Use'!$K$1,\"aaaa-mm-dd\")&\"\"\"\"&\", '\"&TEXT('App Use'!$K$1,\"aaaa-mm-dd\")&\" 00:00:01', '\"&TEXT('App Use'!$K$1,\"aaaa-mm-dd\")&\" 00:00:02');\"","v":"echo addTime(130076460, 0, \"Accesos: 0\", \"2023-09-10\", '2023-09-10 00:00:01', '2023-09-10 00:00:02');"},null,"    }"]
[8,"Andere",130076459,null,{"$f":"SUMIF('App Use'!E:E,'App Cat'!B13,'App Use'!F:F)","v":0},{"$f":"SUMIF('App Use'!E:E,'App Cat'!B13,'App Use'!G:G)","v":0},{"$f":"\"echo addTime(\"&C13&\", \"&E13&\", \"&\"\"\"\"&\"Accesos: \"&F13&\"\"\"\"&\", \"&\"\"\"\"&TEXT('App Use'!$K$1,\"aaaa-mm-dd\")&\"\"\"\"&\", '\"&TEXT('App Use'!$K$1,\"aaaa-mm-dd\")&\" 00:00:01', '\"&TEXT('App Use'!$K$1,\"aaaa-mm-dd\")&\" 00:00:02');\"","v":"echo addTime(130076459, 0, \"Accesos: 0\", \"2023-09-10\", '2023-09-10 00:00:01', '2023-09-10 00:00:02');"},null,"    fclose($handle);"]
[null,null,null,null,null,null,null,null,"}"]
["App","Package","Category","User-defined",null,"Andere"]
["Bildschirmaufnahme","com.miui.screenrecorder","Andere",1,null,130076459,null,null,"// add commas to the rows with more than two columns"]
["Tethering","com.google.android.networkstack.tethering","System",0,null,"Arbeit",null,null,"foreach ($data as &$row) {"]
["com.xiaomi.cameratest","com.xiaomi.cameratest","Fotos & Bilder",1,null,130076460,null,null,"    if (count($row) > 2) {"]
["UKW-Radio","com.android.fmradio","Musik und Filmen",1,null,"Einstellungen",null,null,"        $row = '\"' . implode('\",\"', $row) . '\"';"]
["com.mediatek.ims.ImsApp","com.mediatek.ims","System",0,null,130076461,null,null,"    } else {"]
["Google One","com.google.android.apps.subscriptions.red","Einstellungen",1,null,"Fotos & Bilder",null,null,"        $row = implode(',', $row);"]
["WhatsAppÂ Business","com.whatsapp.w4b","Kommunikation",1,null,130076463,null,null,"    }"]
["Skype","com.skype.raider","Arbeit",1,null,"Karten & Navigation",null,null,"}"]
["com.android.cts.priv.ctsshim","com.android.cts.priv.ctsshim","Andere",1,null,130076464]
["BBVA MÃ©xico","com.bancomer.mbanking","Arbeit",1,null,"Kommunikation",null,null,"// join all rows with line breaks"]
["Universe","org.kurzgesagt.app.Universe","Spiele",1,null,130076465,null,null,"$new_csv = implode(\"\\n\", $data);"]
["YouTube","com.google.android.youtube","Musik und Filmen",1,null,"Musik & Filmen"]
["eWeLink","com.coolkit","Einstellungen",1,null,130076466,null,null,"// write the new CSV file"]
["Aussparung in der Ecke","com.android.internal.display.cutout.emulation.corner","System",0,null,"Soziale Netzwerke",null,null,"file_put_contents('new_data.csv', $new_csv);"]
["Android Services Library","com.google.android.ext.services","System",0,null,130076479]
["Doppelte Aussparung","com.android.internal.display.cutout.emulation.double","System",0,null,"Spiele"]
["Telefon- und SMS-Speicher","com.android.providers.telephony","System",0,null,130076480]
["Dynamic System Updates","com.android.dynsystem","Andere",1,null,"System"]
["Akku und Leistung","com.miui.powerkeeper","Einstellungen",1,null,130076481]
["GFManager","com.goodix.fingerprint","System",0]
["InShot","com.camerasideas.instashot","Fotos & Bilder",1]
["Casting","com.xiaomi.miplay_client","System",0]
["inDrive","sinet.startup.inDriver","Karten & Navigation",1]
["Pebble","com.android.theme.icon.pebble","System",0]
["Google","com.google.android.googlequicksearchbox","Arbeit",1]
["UKW-Radio","com.miui.fm","Musik und Filmen",1]
["Cit_QR","com.miui.qr","Andere",1]
["Cell Broadcast Service","com.google.android.cellbroadcastservice","System",0]
["Kalenderspeicher","com.android.providers.calendar","Andere",1]
["Assistant","com.google.android.apps.googleassistant","Einstellungen",1]
["Telephony Assist","com.mediatek.telephony","System",0]
["com.android.providers.media","com.android.providers.media","System",0]
["MacroDroid","com.arlosoft.macrodroid","Einstellungen",1]
["Cast","com.milink.service","Musik und Filmen",1]
["Docs","com.google.android.apps.docs.editors.docs","Arbeit",1]
["TetheringResOverlay","com.android.networkstack.tethering.overlay","System",0]
["Google One Time Init","com.google.android.onetimeinitializer","System",0]
["Steren Home","com.steren.home","Einstellungen",1]
["Android Shared Library","com.google.android.ext.shared","System",0]
["CinÃ©polis","air.Cinepolis","Musik und Filmen",1]
["Shazam","com.shazam.android","Musik und Filmen",1]
["Gestural Navigation Bar","com.android.internal.systemui.navbar.gestural_wide_back","System",0]
["LPPe Service","com.mediatek.location.lppe.main","System",0]
["Kiwi Browser","com.kiwibrowser.browser","Arbeit",1]
["Power Detector","com.xiaomi.powerchecker","System",0]
["Xiaomi-Konto","com.xiaomi.account","Andere",1]
["com.android.wallpapercropper","com.android.wallpapercropper","Andere",1]
["Vessel","com.android.theme.icon.vessel","System",0]
["FacturaGAS","com.ulfix.facturagas","Arbeit",1]
["CameraTools","com.xiaomi.cameratools","Fotos & Bilder",1]
["Cinnamon","com.android.theme.color.cinnamon","System",0]
["com.mediatek.SettingsProviderResOverlay","com.mediatek.SettingsProviderResOverlay","System",0]
["Mercado Pago","com.mercadopago.wallet","Arbeit",1]
["SystembenutzeroberflÃ¤che-Plugin","miui.systemui.plugin","Andere",1]
["Mi Connect","com.xiaomi.mi_connect_service","Andere",1]
["App Usage","com.a0soft.gphone.uninstaller","Einstellungen",1]
["com.xiaomi.micloudsdk.SdkApplication","com.xiaomi.micloud.sdk","System",0]
["iKinky","com.letskinky.ikinky","Spiele",1]
["com.mediatek.systemuiresoverlay","com.mediatek.systemuiresoverlay","System",0]
["CoinCalc","com.samruston.flip","Arbeit",1]
["LibriVox","app.librivox.android","Musik und Filmen",1]
["Rounded","com.android.theme.icon_pack.rounded.systemui","System",0]
["aplicaciÃ³n mÃ³vil IONOS","org.chromium.webapk.a92990b6ff347abf3_v2","Arbeit",1]
["Polarsteps","com.polarsteps","Karten & Navigation",1]
["TetheringResOverlay","com.android.networkstack.tethering.inprocess.overlay","System",0]
["Tapered Rect","com.android.theme.icon.taperedrect","System",0]
["Updater","com.android.updater","Andere",1]
["com.android.wifi.resources.overlay","com.android.wifi.resources.overlay","System",0]
["Externer Speicher","com.android.externalstorage","System",0]
["Swap","com.pocketgroup.pocketpay","Arbeit",1]
["MizuDroid","com.mizuvoip.mizudroid.app","Kommunikation",1]
["YGPS","com.mediatek.ygps","Karten & Navigation",1]
["HTML Viewer","com.android.htmlviewer","Andere",1]
["Bokeh","com.miui.extraphoto","Andere",1]
["Systemdienst-Plugin","com.miui.securityadd","Andere",1]
["BegleitgerÃ¤t-Manager","com.android.companiondevicemanager","Andere",1]
["Galerie","com.miui.gallery","Fotos & Bilder",1]
["Hopper","com.hopper.mountainview.play","Karten & Navigation",1]
["MmsService","com.android.mms.service","System",0]
["Tabellen","com.google.android.apps.docs.editors.sheets","Arbeit",1]
["PrÃ¤sentationen","com.google.android.apps.docs.editors.slides","Arbeit",1]
["Wise","com.transferwise.android","Arbeit",1]
["msa","com.miui.msa.global","System",0]
["Code-Editor","com.rhmsoft.code","Arbeit",1]
["Downloads","com.android.providers.downloads","System",0]
["Freelancer","com.freelancer.android.messenger","Arbeit",1]
["Banco Azteca","mx.com.bancoazteca.bazdigitalmovil","Arbeit",1]
["Authenticator","com.google.android.apps.authenticator2","Arbeit",1]
["Mi Coin","com.xiaomi.payment","Andere",1]
["Messages","com.google.android.apps.messaging","Kommunikation",1]
["TetheringResOverlay","com.google.android.networkstack.tethering.overlay","System",0]
["Sicherheit","com.miui.securitycenter","Einstellungen",1]
["EngineerMode","com.mediatek.engineermode","Andere",1]
["Afore SURA","mx.com.procesar.aforemovil.nuevosura","Arbeit",1]
["MXL TV","tv.mxliptv.app","Musik und Filmen",1]
["Rounded","com.android.theme.icon_pack.rounded.android","System",0]
["PayPal","com.paypal.android.p2pmobile","Arbeit",1]
["CodeBoard","com.gazlaws.codeboard","Arbeit",1]
["Call Confirmation","ch.viaccoz.callconfirmation","Einstellungen",1]
["NetworkStackInProcessResOverlay","com.android.networkstack.inprocess.overlay","System",0]
["Zombie Shooter VR","com.fibrum.zombievr","Spiele",1]
["Mi-Video","com.miui.videoplayer","Andere",1]
["gDMSS Plus","com.mm.android.direct.gdmssphone","Arbeit",1]
["Circular","com.android.theme.icon_pack.circular.themepicker","System",0]
["AdControl-AD1","com.anydesk.adcontrol.ad1","Arbeit",1]
["ConfigUpdater","com.google.android.configupdater","System",0]
["Excel","com.microsoft.office.excel","Arbeit",1]
["com.android.systemui.icon.overlay","com.android.systemui.icon.overlay","System",0]
["Medien","com.google.android.providers.media.module","Fotos & Bilder",1]
["com.google.android.overlay.modules.permissioncontroller","com.google.android.overlay.modules.permissioncontroller","System",0]
["Rekorder","com.android.soundrecorder","Andere",1]
["Spin by OXXO","com.pagopopmobile","Arbeit",1]
["OneSync","com.ttxapps.onesyncv2","Arbeit",1]
["MIUI Sicherheitskomponenten","com.miui.guardprovider","System",0]
["MAPS.ME","com.mapswithme.maps.pro","Karten & Navigation",1]
["Google Play Services for AR","com.google.ar.core","Spiele",1]
["Lens","com.google.ar.lens","Arbeit",1]
["Downloads","com.android.providers.downloads.ui","Arbeit",1]
["Google Play Store","com.android.vending","Einstellungen",1]
["PacProcessor","com.android.pacprocessor","System",0]
["SIM-App-Dialogfeld","com.android.simappdialog","Einstellungen",1]
["Sicherung","com.miui.backup","Einstellungen",1]
["com.android.settings.overlay.miui","com.android.settings.overlay.miui","System",0]
["Benachrichtigungen","com.miui.notification","Andere",1]
["MiCloudSync","com.miui.micloudsync","Andere",1]
["Tu Tag PASE","com.idmexico.tutag","Arbeit",1]
["Stripe","com.stripe.android.dashboard","Arbeit",1]
["Ausschnitt fÃ¼r Punch-Hole-Display","com.android.internal.display.cutout.emulation.hole","System",0]
["Hohe Aussparung","com.android.internal.display.cutout.emulation.tall","System",0]
["MiuiDaemon","com.miui.daemon","System",0]
["Hostelworld","com.hostelworld.app","Karten & Navigation",1]
["NetworkStackOverlay","com.android.networkstack.overlay","System",0]
["Zertifikats-Installer","com.android.certinstaller","Andere",1]
["Black","com.android.theme.color.black","System",0]
["com.android.carrierconfig","com.android.carrierconfig","System",0]
["Android fÃ¼r Barrierefreiheit","com.google.android.marvin.talkback","Einstellungen",1]
["Green","com.android.theme.color.green","System",0]
["Ocean","com.android.theme.color.ocean","System",0]
["Mi Telcel","com.speedymovil.wire","Arbeit",1]
["Space","com.android.theme.color.space","System",0]
["3 Button Navigation Bar","com.android.internal.systemui.navbar.threebutton","System",0]
["GerÃ¤teeinrichtung","com.google.android.apps.work.oobconfig","System",0]
["Zoom","us.zoom.videomeetings","Arbeit",1]
["Animated Photo Widget +","com.hikaru.photowidget","Einstellungen",1]
["Android-System","android","Einstellungen",1]
["Google Assistant","com.android.hotwordenrollment.xgoogle","System",0]
["com.android.systemui.notch.overlay","com.android.systemui.notch.overlay","System",0]
["Quick Apps Service Framework","com.miui.hybrid","Andere",1]
["android.miui.overlay","android.miui.overlay","System",0]
["Sicherheits-Kernkomponente","com.miui.securitycore","Einstellungen",1]
["EmCamera","com.mediatek.emcamera","Fotos & Bilder",1]
["Amazon Music","com.amazon.mp3","Musik und Filmen",1]
["Rounded","com.android.theme.icon_pack.rounded.launcher","System",0]
["Android R Easter Egg","com.android.egg","Einstellungen",1]
["MTP-Host","com.android.mtp","Andere",1]
["NFC-Dienst","com.android.nfc","System",0]
["com.android.ons","com.android.ons","System",0]
["SIM Telcel","com.android.stk","Einstellungen",1]
["com.android.backupconfirm","com.android.backupconfirm","Andere",1]
["Xiaomi SIM-Aktivierungsdienst","com.xiaomi.simactivate.service","Andere",1]
["Instagram","com.instagram.android","Soziale Netzwerke",1]
["Fingerpirnt test","com.goodix.gftest","Einstellungen",1]
["SarUI","com.longcheertel.sarauth","System",0]
["HÃ¤ufige SÃ¤tze","com.miui.phrase","Andere",1]
["Musik","com.miui.player","Musik und Filmen",1]
["Services und Feedback","com.miui.miservice","Andere",1]
["Mueve Ciudad","com.zion.mueveCiudad","Arbeit",1]
["Cardboard","com.google.samples.apps.cardboarddemo","Spiele",1]
["HSBC MÃ©xico","mx.hsbc.hsbcmexico","Arbeit",1]
["Provision","com.android.provision","Andere",1]
["Intent Filter Verification Service","com.android.statementservice","System",0]
["Urban VPN","com.urbanvpn.android","Einstellungen",1]
["Gmail","com.google.android.gm","Arbeit",1]
["BTCIT","com.xiaomi.bttester","System",0]
["com.miui.internal.app.SystemApplication","com.miui.system","System",0]
["com.google.android.overlay.gmsconfig.common","com.google.android.overlay.gmsconfig.common","System",0]
["SmartRatSwitch","com.mediatek.smartratswitch.service","System",0]
["Bereinigung","com.miui.cleaner","Einstellungen",1]
["Settings Suggestions","com.android.settings.intelligence","Einstellungen",1]
["Bitso","com.bitso.wallet","Arbeit",1]
["com.mediatek.frameworkresoverlay","com.mediatek.frameworkresoverlay","System",0]
["Easy Dialer","com.simpler.dialer","Kommunikation",1]
["Paket-Installer","com.miui.global.packageinstaller","Andere",1]
["DebugLoggerUI","com.debug.loggerui","Einstellungen",1]
["Gestural Navigation Bar","com.android.internal.systemui.navbar.gestural_extra_wide_back","System",0]
["Outlook","com.microsoft.office.outlook","Arbeit",1]
["Berechtigungssteuerung","com.google.android.permissioncontroller","Andere",1]
["com.miui.systemui.devices.overlay","com.miui.systemui.devices.overlay","System",0]
["Kompass","com.miui.compass","Karten & Navigation",1]
["Android-Einrichtung","com.google.android.setupwizard","Einstellungen",1]
["Immer eingeschaltetes Display","com.miui.aod","Andere",1]
["com.miui.rom","com.miui.rom","Andere",1]
["Hintergrundbild-Karussell","com.miui.android.fashiongallery","Einstellungen",1]
["Einstellungsspeicher","com.android.providers.settings","System",0]
["com.android.sharedstoragebackup","com.android.sharedstoragebackup","System",0]
["Meta Services","com.facebook.services","System",0]
["Fused Location Provider","com.xiaomi.location.fused","System",0]
["Druck-Spooler","com.android.printspooler","Andere",1]
["Google Assistant","com.android.hotwordenrollment.okgoogle","System",0]
["OhrhÃ¶rer","com.miui.misound","Andere",1]
["Filled","com.android.theme.icon_pack.filled.settings","System",0]
["IFAAService","org.ifaa.aidl.manager","System",0]
["Basic Daydreams","com.android.dreams.basic","System",0]
["com.google.android.overlay.modules.ext.services","com.google.android.overlay.modules.ext.services","System",0]
["com.android.systemui.gesture.line.overlay","com.android.systemui.gesture.line.overlay","System",0]
["FIDO UAF1.0 Client","com.fido.xiaomi.uafclient","Andere",1]
["Feedback","com.miui.bugreport","Andere",1]
["SecureElementApplication","com.android.se","System",0]
["EingabegerÃ¤te","com.android.inputdevices","System",0]
["Digital Wellbeing","com.google.android.apps.wellbeing","Andere",1]
["AppEnabler","de.telekom.tsc","System",0]
["FIDO UAF1.0 ASM","com.fido.asm","Andere",1]
["Telefon","com.google.android.dialer","Kommunikation",1]
["com.mediatek.entitlement.o2.EntitlementApp","com.mediatek.entitlement.o2","System",0]
["System-Druckservice","com.android.bips","Einstellungen",1]
["com.mediatek","com.mediatek","System",0]
["Virgin Mobile","com.virginmobilelatam.selfcare","Arbeit",1]
["Telmex","com.telmex.mitelmex","Arbeit",1]
["Star+","com.disney.starplus","Musik und Filmen",1]
["Space Stalker VR","com.fibrum.bredos","Spiele",1]
["CaptivePortalLogin","com.google.android.captiveportallogin","Einstellungen",1]
["Circular","com.android.theme.icon_pack.circular.settings","System",0]
["Spiel PÃ¤rchen","com.eleven.gagesandroid","Spiele",1]
["com.google.android.overlay.gmsconfig.comms","com.google.android.overlay.gmsconfig.comms","System",0]
["CFE Contigo","mx.com.cfe.cfecontigo","Arbeit",1]
["RAR","com.rarlab.rar","Arbeit",1]
["com.android.systemui.overlay.miui","com.android.systemui.overlay.miui","System",0]
["Nubank","com.nu.production","Arbeit",1]
["Drive","com.google.android.apps.docs","Arbeit",1]
["Maps","com.google.android.apps.maps","Karten & Navigation",1]
["Within","com.shakingearthdigital.vrsecardboard","Spiele",1]
["Main components","com.google.android.modulemetadata","System",0]
["Cloud-Sicherungâ€‹","com.miui.cloudbackup","Einstellungen",1]
["Word","com.microsoft.office.word","Arbeit",1]
["Microsoft-Remotedesktop","com.microsoft.rdc.androidx","Arbeit",1]
["com.miui.face.overlay.miui","com.miui.face.overlay.miui","System",0]
["com.android.cellbroadcastreceiver","com.android.cellbroadcastreceiver","System",0]
["Android System WebView","com.google.android.webview","Einstellungen",1]
["Teardrop","com.android.theme.icon.teardrop","System",0]
["GBM+","com.mex.gbmmobile.containerhomebroker","Arbeit",1]
["com.google.android.overlay.modules.documentsui","com.google.android.overlay.modules.documentsui","System",0]
["Mobile Device Information Provider","com.amazon.appmanager","System",0]
["Netzwerkmanager","com.google.android.networkstack","System",0]
["Rappi","com.grability.rappi","Karten & Navigation",1]
["Kontakte","com.google.android.contacts","Kommunikation",1]
["Skiing Adventure VR","com.at.skiing.adventure.vr","Spiele",1]
["Anrufverwaltung","com.android.server.telecom","Kommunikation",1]
["com.android.server.telecom.overlay.miui","com.android.server.telecom.overlay.miui","System",0]
["Google-Kontakte synchronisieren","com.google.android.syncadapters.contacts","System",0]
["Rounded","com.android.theme.icon_pack.rounded.themepicker","System",0]
["SchlÃ¼sselbund","com.android.keychain","Andere",1]
["HBO MAX","com.hbo.hbonow","Musik und Filmen",1]
["SeriesGuide","com.battlelancer.seriesguide","Musik und Filmen",1]
["Kamera","com.android.camera","Fotos & Bilder",1]
["Chrome","com.android.chrome","Arbeit",1]
["Game Center","com.xiaomi.glgm","System",0]
["UpnpService","com.xiaomi.upnp","System",0]
["Xiaomi service framework","com.xiaomi.xmsf","Andere",1]
["Filled","com.android.theme.icon_pack.filled.systemui","System",0]
["Paketinstallation","com.google.android.packageinstaller","Andere",1]
["Mi Share","com.miui.mishare.connectivity","Andere",1]
["Google Play-Dienste","com.google.android.gms","Einstellungen",1]
["Google-Dienste-Framework","com.google.android.gsf","Andere",1]
["Carrier Services","com.google.android.ims","Soziale Netzwerke",0]
["Speech Services by Google","com.google.android.tts","Einstellungen",1]
["System-WLAN-Ressourcen","com.android.wifi.resources","Andere",1]
["Call Log Backup/Restore","com.android.calllogbackup","System",0]
["Schwebende Fenster","com.miui.freeform","Andere",1]
["Google Partner Setup","com.google.android.partnersetup","System",0]
["android.aosp.overlay","android.aosp.overlay","System",0]
["Xiaomi Service Framework Keeper","com.xiaomi.xmsfkeeper","System",0]
["com.android.localtransport","com.android.localtransport","System",0]
["com.google.android.overlay.gmsconfig.gsa","com.google.android.overlay.gmsconfig.gsa","System",0]
["com.google.android.nearby.halfsheet","com.google.android.nearby.halfsheet","Andere",1]
["CarrierDefaultApp","com.android.carrierdefaultapp","Andere",1]
["GetApps","com.xiaomi.mipicks","System",0]
["VR Theater","it.couchgames.apps.cardboardcinema","Spiele",1]
["GerÃ¤tesuche","com.xiaomi.finddevice","System",0]
["Noto Serif / Source Sans Pro","com.android.theme.font.notoserifsource","System",0]
["Filled","com.android.theme.icon_pack.filled.android","System",0]
["ProxyHandler","com.android.proxyhandler","System",0]
["Google Sicherheitscenter-Ressourcen","com.google.android.safetycenter.resources","Andere",1]
["Joyose","com.xiaomi.joyose","Andere",1]
["Remote Desktop","com.google.chromeremotedesktop","Arbeit",1]
["Aussparung fÃ¼r Wasserfall-Display","com.android.internal.display.cutout.emulation.waterfall","System",0]
["Netflix","com.netflix.mediaclient","Musik und Filmen",1]
["Web Video Caster","com.instantbits.cast.webvideo","Musik und Filmen",1]
["Circular","com.android.theme.icon_pack.circular.systemui","System",0]
["Dateimanager","com.mi.android.globalFileexplorer","Arbeit",1]
["VLC","org.videolan.vlc","Musik und Filmen",1]
["Hidrosina","com.desarrollo.hidrosina.hidroapp","Arbeit",1]
["Notizen","com.miui.notes","Arbeit",1]
["WMService","com.miui.wmsvc","System",0]
["Calls Blacklist","com.vladlee.easyblacklist","Einstellungen",1]
["Systemverbindungsressourcen","com.google.android.connectivity.resources","Andere",1]
["com.google.android.overlay.modules.permissioncontroller.forframework","com.google.android.overlay.modules.permissioncontroller.forframework","System",0]
["Einstellungen","com.xiaomi.misettings","Einstellungen",1]
["Market Feedback Agent","com.google.android.feedback","Andere",1]
["Print Service Recommendation Service","com.google.android.printservice.recommendation","System",0]
["ShareMe","com.xiaomi.midrop","Andere",1]
["Fotos","com.google.android.apps.photos","Fotos & Bilder",1]
["Kalender","com.google.android.calendar","Arbeit",1]
["A Comer Club","com.acomerclub.grupogigante","Arbeit",1]
["Xiaomi Cloud","com.miui.cloudservice","Andere",1]
["Einrichtung des Arbeitsprofils","com.android.managedprovisioning","Einstellungen",1]
["Smart Scenes","com.miui.hybrid.accessory","Andere",1]
["Spotify","com.spotify.music","Musik und Filmen",1]
["Sensor Test Tool","com.fingerprints.sensortesttool","Andere",1]
["TÃ¶ne","com.android.soundpicker","System",0]
["spacedesk","ph.spacedesk.beta","Arbeit",1]
["Uber","com.ubercab","Karten & Navigation",1]
["com.mediatek.op18.mms","com.mediatek.op18.mms","System",0]
["Mercado Libre","com.mercadolibre","Spiele",1]
["AnyDesk","com.anydesk.anydeskandroid","Arbeit",1]
["RilCap","com.mediatek.capctrl.service","System",0]
["SoterService","com.tencent.soter.soterserver","System",0]
["Dateien","com.google.android.documentsui","Arbeit",1]
["karaoke","com.miui.audiomonitor","Spiele",1]
["Zugriffshilfe","com.miui.touchassistant","Einstellungen",1]
["Support components","com.google.mainline.telemetry","System",0]
["Facebook","com.facebook.katana","Soziale Netzwerke",1]
["Anrufrecorder","com.mediatek.callrecorder","System",0]
["Fun Print","com.fun.mxw","Spiele",1]
["BlaBlaCar","com.comuto","Karten & Navigation",1]
["DiDi","com.didiglobal.passenger","Karten & Navigation",1]
["com.android.providers.partnerbookmarks","com.android.providers.partnerbookmarks","System",0]
["Rechner","com.miui.calculator","Andere",1]
["Sprachbefehl","com.mediatek.voicecommand","Einstellungen",1]
["Live-Hintergrund-Auswahl","com.android.wallpaper.livepicker","Einstellungen",1]
["Airbnb","com.airbnb.android","Karten & Navigation",1]
["CloudServiceSysbase","com.miui.cloudservice.sysbase","System",0]
["Tags","com.android.apps.tag","Andere",1]
["Messenger","com.facebook.orca","Kommunikation",1]
["WallPaper","com.miui.miwallpaper","Einstellungen",1]
["Meta App Installer","com.facebook.system","System",0]
["com.android.systemui.navigation.bar.overlay","com.android.systemui.navigation.bar.overlay","System",0]
["Slack","com.Slack","Arbeit",1]
["MIUI Bluetooth","com.xiaomi.bluetooth","Andere",1]
["Squircle","com.android.theme.icon.squircle","System",0]
["textPlus","com.gogii.textplus","Kommunikation",1]
["Cx Datei Explorer","com.cxinventor.file.explorer","Arbeit",1]
["Autotest","com.longcheertel.AutoTest","Andere",1]
["com.google.android.cellbroadcastservice.overlay.miui","com.google.android.cellbroadcastservice.overlay.miui","System",0]
["com.android.server.NetworkPermissionConfig","com.google.android.networkstack.permissionconfig","System",0]
["PlayAutoInstalls","android.autoinstalls.config.Xiaomi.model","System",0]
["Speichermanager","com.android.storagemanager","Einstellungen",1]
["OTA Access Point Configuration","com.wdstechnology.android.kryten","Andere",1]
["Analytics","com.miui.analytics","System",0]
["Fake GPS Location PROFESSIONAL","com.just4funtools.fakegpslocationprofessional","Karten & Navigation",1]
["Einstellungen","com.android.settings","Einstellungen",1]
["Wetter","com.miui.weather2","Andere",1]
["GoogleNetworkStackResOverlay","com.google.android.networkstack.overlay","System",0]
["Filled","com.android.theme.icon_pack.filled.launcher","System",0]
["Android Auto","com.google.android.projection.gearhead","Einstellungen",1]
["com.android.systemui.miui.optimization.overlay","com.android.systemui.miui.optimization.overlay","System",0]
["Scanner","com.xiaomi.scanner","Arbeit",1]
["Device Health Services","com.google.android.apps.turbo","Einstellungen",1]
["LocationEM2","com.mediatek.lbs.em2.ui","Andere",1]
["Home","com.google.android.apps.chromecast.app","Einstellungen",1]
["com.android.cts.ctsshim","com.android.cts.ctsshim","Andere",1]
["Couchsurfing","com.couchsurfing.mobile.android","Karten & Navigation",1]
["Booking.com","com.booking","Karten & Navigation",1]
["Galerie-Editor","com.miui.mediaeditor","Fotos & Bilder",1]
["com.google.android.overlay.modules.modulemetadata.forframework","com.google.android.overlay.modules.modulemetadata.forframework","System",0]
["Epson iPrint","epson.print","Arbeit",1]
["Branchenverzeichnis","com.miui.yellowpage","Andere",1]
["Circular","com.android.theme.icon_pack.circular.launcher","System",0]
["Farmacias Del Ahorro","mx.com.fahorro2","Arbeit",1]
["WhatsAuto","com.guibais.whatsauto","Arbeit",1]
["com.miui.systemui.carriers.overlay","com.miui.systemui.carriers.overlay","System",0]
["com.miui.systemui.overlay.devices.android","com.miui.systemui.overlay.devices.android","System",0]
["com.xiaomi.bluetooth.overlay","com.xiaomi.bluetooth.overlay","System",0]
["irplus","net.binarymode.android.irplus","Musik und Filmen",1]
["VpnDialogs","com.android.vpndialogs","Andere",1]
["cit test","com.longcheertel.cit","Andere",1]
["Stellarium","com.noctuasoftware.stellarium_free","Karten & Navigation",1]
["Meet (Original)","com.google.android.apps.meetings","Arbeit",1]
["Fondeadora","com.fondeadora.bank","Arbeit",1]
["Notizen","com.google.android.keep","Arbeit",1]
["OperatorPlugin","com.mediatek.op18.telecom","System",0]
["Telefondienste","com.android.phone","Kommunikation",1]
["com.android.overlay.gmstelephony","com.android.overlay.gmstelephony","System",0]
["Shell","com.android.shell","System",0]
["Slopes","com.consumedbycode.slopes","Karten & Navigation",1]
["Filled","com.android.theme.icon_pack.filled.themepicker","System",0]
["com.android.wallpaperbackup","com.android.wallpaperbackup","System",0]
["Speicher fÃ¼r blockierte Nummern","com.android.providers.blockednumber","System",0]
["Bildschirmfoto","com.miui.screenshot","System",0]
["com.android.overlay.gmstelecomm","com.android.overlay.gmstelecomm","System",0]
["Banco del Bienestar","gob.bancodelbienestar.bcobienapp","Arbeit",1]
["Mein WÃ¶rterbuch","com.android.providers.userdictionary","System",0]
["Notfallinformationen","com.android.emergency","Andere",1]
["OsuLogin","com.android.hotspot2.osulogin","Andere",1]
["com.mediatek.voiceunlock","com.mediatek.voiceunlock","System",0]
["Google-Standortverlauf","com.google.android.gms.location.history","System",0]
["Gestural Navigation Bar","com.android.internal.systemui.navbar.gestural","System",0]
["Kombinierte Standortbest.","com.android.location.fused","System",0]
["Orchid","com.android.theme.color.orchid","System",0]
["Uhr","com.android.deskclock","Arbeit",1]
["System-UI","com.android.systemui","Andere",1]
["com.android.wifi.resources.xiaomi","com.android.wifi.resources.xiaomi","System",0]
["Purple","com.android.theme.color.purple","System",0]
["Dezba","com.wildrobot.electrobicis","Karten & Navigation",1]
["Bluetooth MIDI Service","com.android.bluetoothmidiservice","System",0]
["com.google.android.cellbroadcastreceiver.overlay.miui","com.google.android.cellbroadcastreceiver.overlay.miui","System",0]
["HomeLayout","com.mi.globallayout","System",0]
["VR Thrills","com.rabbitmountain.rollercoaster","Spiele",1]
["Meta App Manager","com.facebook.appmanager","Andere",1]
["Updater fÃ¼r System-Apps","com.xiaomi.discover","Andere",1]
["An TV-XCast Ã¼bertragen","cast.video.screenmirroring.casttotv","Fotos & Bilder",1]
["Themen","com.android.thememanager","Einstellungen",1]
["Tinder","com.mipay.wallet.in","Spiele",0]
["Xodo Docs","com.xodo.pdf.reader","Arbeit",1]
["System-Tracing","com.android.traceur","Andere",1]
["FM-Radiodienst","com.miui.fmservice","Andere",1]
["Notfallbenachrichtigungen fÃ¼r MobilgerÃ¤te","com.google.android.cellbroadcastreceiver","Andere",1]
["miui.external.Application","com.android.thememanager.module","System",0]
["Drive","mx.drivepp.drive","Arbeit",1]
["iVRy","com.mediator_software.ivry","Spiele",1]
["App SKY","sky.com.mx.appsky","Arbeit",1]
["Berechtigungen","com.lbe.security.miui","Andere",1]
["Google Play Spiele","com.google.android.play.games","Spiele",1]
["Mein GerÃ¤t finden","com.google.android.apps.adm","Andere",1]
["Bluetooth","com.android.bluetooth","Einstellungen",1]
["Kontaktespeicher","com.android.providers.contacts","Andere",1]
["Parco","com.parcoapp","Arbeit",1]
["Disney+","com.disney.disneyplus","Musik und Filmen",1]
["Rounded Rectangle","com.android.theme.icon.roundedrect","System",0]
["Gestural Navigation Bar","com.android.internal.systemui.navbar.gestural_narrow_back","System",0]
["365Cam","shix.cam365.camera","Arbeit",1]
["Rounded","com.android.theme.icon_pack.rounded.settings","System",0]
["MIUI SDK","com.miui.core","Andere",1]
["MiuiBiometric","com.miui.face","System",0]
["Systemlauncher","com.miui.home","Andere",1]
["WAPI-Zertifikat","com.wapi.wapicertmanager","Andere",1]
["Gboard","com.google.android.inputmethod.latin","Einstellungen",1]
["Kindle","com.amazon.kindle","Musik und Filmen",1]
["AudioEffect","com.miui.audioeffect","Andere",1]
["Circular","com.android.theme.icon_pack.circular.android","System",0]
["Android-Einrichtung","com.google.android.apps.restore","Einstellungen",1]
["Survivor.io",null,"Spiele"]
["Chess Royale",null,"Spiele"]
["Bolt",null,"Karten & Navigation"]
["Teams",null,"Arbeit"]
["Skratch",null,"Karten & Navigation"]
["ReadEra",null,"Karten & Navigation"]
["Lime",null,"Karten & Navigation"]
["FlixBus",null,"Karten & Navigation"]
["Vy",null,"Karten & Navigation"]
["Ryanair",null,"Karten & Navigation"]
["Omio",null,"Karten & Navigation"]
["Meet",null,"Kommunikation"]
["Mi Vodafone",null,"Kommunikation"]
["GuruWalk",null,"Karten & Navigation"]
["Age of Apes",null,"Spiele"]
["Bricks n Balls",null,"Spiele"]
["RommÃ©",null,"Spiele"]
["Agar.io",null,"Spiele"]
["RISK",null,"Spiele"]
["VidCompact",null,"Fotos & Bilder"]
["DolarApp",null,"Arbeit"]
["IMSS Digital",null,"Arbeit"]

{"sheet":"Handy","index":7,"n_rows":1500,"n_cols":12,"rows_kept":1500,"cut":false,"hidden":false,"merged":[]}
["Datum","Benutzer","Aufgabe","Stunden","Notiz","Von","Bis","Einkommen","Kosten","Tiempo","Click","https://app.timecamp.com/time_tracking/task_report/130076421#/entries"]
["2023-04-21","Alejandro Castanon Diaz","System","0s","Accesos: 0","00:00:00","00:00:00",0,0,{"$f":"IF(D2=\"\",\"\",IF(ISERROR(FIND(\"s\",D2)),IF(ISERROR(FIND(\"h \",D2)),LEFT(D2,2)/60,   LEFT(D2,FIND(\"h \",D2)-1 )+LEFT(RIGHT(D2,3),2)/60   ),0))","v":0},{"$f":"IF(E2=\"\",\"\",SUBSTITUTE(E2,\"Accesos: \",\"\")*1)","v":0}]
["2023-04-21","Alejandro Castanon Diaz","Spiele","09m","Accesos: 6","00:00:00","00:00:00",0,0,{"$f":"IF(D3=\"\",\"\",IF(ISERROR(FIND(\"s\",D3)),IF(ISERROR(FIND(\"h \",D3)),LEFT(D3,2)/60,   LEFT(D3,FIND(\"h \",D3)-1 )+LEFT(RIGHT(D3,3),2)/60   ),0))","v":0.15},{"$f":"IF(E3=\"\",\"\",SUBSTITUTE(E3,\"Accesos: \",\"\")*1)","v":6}]
["2023-04-21","Alejandro Castanon Diaz","Musik & Filmen","33m","Accesos: 73","00:00:00","00:00:00",0,0,0.55000000000000004,73]
["2023-04-21","Alejandro Castanon Diaz","Einstellungen","2h 01m","Accesos: 162","00:00:00","00:00:00",0,0,2.0166666666666666,162]
["2023-04-21","Alejandro Castanon Diaz","Fotos & Bilder","27m","Accesos: 35","00:00:00","00:00:00",0,0,0.45,35]
["2023-04-21","Alejandro Castanon Diaz","Soziale Netzwerke","1h 38m","Accesos: 50","00:00:00","00:00:00",0,0,1.6333333333333333,50]
["2023-04-21","Alejandro Castanon Diaz","Kommunikation","4h 46m","Accesos: 450","00:00:00","00:00:00",0,0,4.7666666666666666,450]
["2023-04-21","Alejandro Castanon Diaz","Karten & Navigation","1h 11m","Accesos: 46","00:00:00","00:00:00",0,0,1.1833333333333333,46]
["2023-04-21","Alejandro Castanon Diaz","Arbeit","8h 14m","Accesos: 664","00:00:00","00:00:00",0,0,8.2333333333333325,664]
["2023-04-21","Alejandro Castanon Diaz","Andere","12m","Accesos: 47","00:00:00","00:00:00",0,0,0.2,47]
["2023-04-28","Alejandro Castanon Diaz","System","0s","Accesos: 0","00:00:00","00:00:00",0,0,0,0]
["2023-04-28","Alejandro Castanon Diaz","Spiele","51m","Accesos: 41","00:00:00","00:00:00",0,0,0.85,41]
["2023-04-28","Alejandro Castanon Diaz","Musik & Filmen","27m","Accesos: 65","00:00:00","00:00:00",0,0,0.45,65]
["2023-04-28","Alejandro Castanon Diaz","Einstellungen","55m","Accesos: 132","00:00:00","00:00:00",0,0,0.91666666666666663,132]
["2023-04-28","Alejandro Castanon Diaz","Fotos & Bilder","05m","Accesos: 22","00:00:00","00:00:00",0,0,8.3333333333333329E-2,22]
["2023-04-28","Alejandro Castanon Diaz","Soziale Netzwerke","33m","Accesos: 34","00:00:00","00:00:00",0,0,0.55000000000000004,34]
["2023-04-28","Alejandro Castanon Diaz","Kommunikation","7h 25m","Accesos: 699","00:00:00","00:00:00",0,0,7.416666666666667,699]
["2023-04-28","Alejandro Castanon Diaz","Karten & Navigation","1h 37m","Accesos: 163","00:00:00","00:00:00",0,0,1.6166666666666667,163]
["2023-04-28","Alejandro Castanon Diaz","Arbeit","8h 37m","Accesos: 926","00:00:00","00:00:00",0,0,8.6166666666666671,926]
["2023-04-28","Alejandro Castanon Diaz","Andere","47m","Accesos: 88","00:00:00","00:00:00",0,0,0.78333333333333333,88]
["2023-05-05","Alejandro Castanon Diaz","System","0s","Accesos: 0","00:00:00","00:00:00",0,0,0,0]
["2023-05-05","Alejandro Castanon Diaz","Spiele","10m","Accesos: 14","00:00:00","00:00:00",7.73,0,0.16666666666666666,14]
["2023-05-05","Alejandro Castanon Diaz","Musik & Filmen","08m","Accesos: 40","00:00:00","00:00:00",6.41,0,0.13333333333333333,40]
["2023-05-05","Alejandro Castanon Diaz","Einstellungen","14m","Accesos: 42","00:00:00","00:00:00",10.85,0,0.23333333333333334,42]
["2023-05-05","Alejandro Castanon Diaz","Fotos & Bilder","08m","Accesos: 47","00:00:00","00:00:00",6.36,0,0.13333333333333333,47]
["2023-05-05","Alejandro Castanon Diaz","Soziale Netzwerke","46m","Accesos: 34","00:00:00","00:00:00",34.700000000000003,0,0.76666666666666672,34]
["2023-05-05","Alejandro Castanon Diaz","Kommunikation","8h 37m","Accesos: 438","00:00:00","00:00:00",365.45,0,8.6166666666666671,438]
["2023-05-05","Alejandro Castanon Diaz","Karten & Navigation","2h 14m","Accesos: 181","00:00:00","00:00:00",100.51,0,2.2333333333333334,181]
["2023-05-05","Alejandro Castanon Diaz","Arbeit","5h 04m","Accesos: 489","00:00:00","00:00:00",228.09,0,5.0666666666666664,489]
["2023-05-05","Alejandro Castanon Diaz","Andere","2h 04m","Accesos: 191","00:00:00","00:00:00",93.09,0,2.0666666666666669,191]
["2023-05-14","Alejandro Castanon Diaz","System","0s","Accesos: 0","00:00:00","00:00:00",0,0,0,0]
["2023-05-14","Alejandro Castanon Diaz","Spiele","14h 09m","Accesos: 82","00:00:00","00:00:00",537.74,0,14.15,82]
["2023-05-14","Alejandro Castanon Diaz","Musik & Filmen","55m","Accesos: 43","00:00:00","00:00:00",35.31,0,0.91666666666666663,43]
["2023-05-14","Alejandro Castanon Diaz","Einstellungen","51m","Accesos: 130","00:00:00","00:00:00",32.49,0,0.85,130]
["2023-05-14","Alejandro Castanon Diaz","Fotos & Bilder","15m","Accesos: 49","00:00:00","00:00:00",10.02,0,0.25,49]
["2023-05-14","Alejandro Castanon Diaz","Soziale Netzwerke","52m","Accesos: 49","00:00:00","00:00:00",33.03,0,0.8666666666666667,49]
["2023-05-14","Alejandro Castanon Diaz","Kommunikation","13h 29m","Accesos: 615","00:00:00","00:00:00",512.87,0,13.483333333333333,615]
["2023-05-14","Alejandro Castanon Diaz","Karten & Navigation","32m","Accesos: 57","00:00:00","00:00:00",20.88,0,0.53333333333333333,57]
["2023-05-14","Alejandro Castanon Diaz","Arbeit","9h 40m","Accesos: 659","00:00:00","00:00:00",367.95,0,9.6666666666666661,659]
["2023-05-14","Alejandro Castanon Diaz","Andere","1h 36m","Accesos: 160","00:00:00","00:00:00",61.05,0,1.6,160]
["2023-05-21","Alejandro Castanon Diaz","System","0s","Accesos: 0","00:00:00","00:00:00",0,0,0,0]
["2023-05-21","Alejandro Castanon Diaz","Spiele","12h 03m","Accesos: 81","00:00:00","00:00:00",458.45,0,12.05,81]
["2023-05-21","Alejandro Castanon Diaz","Musik & Filmen","2h 29m","Accesos: 37","00:00:00","00:00:00",94.45,0,2.4833333333333334,37]
["2023-05-21","Alejandro Castanon Diaz","Einstellungen","14m","Accesos: 55","00:00:00","00:00:00",8.8800000000000008,0,0.23333333333333334,55]
["2023-05-21","Alejandro Castanon Diaz","Fotos & Bilder","23m","Accesos: 87","00:00:00","00:00:00",14.73,0,0.38333333333333336,87]
["2023-05-21","Alejandro Castanon Diaz","Soziale Netzwerke","58m","Accesos: 29","00:00:00","00:00:00",37.090000000000003,0,0.96666666666666667,29]
["2023-05-21","Alejandro Castanon Diaz","Kommunikation","5h 29m","Accesos: 340","00:00:00","00:00:00",208.86,0,5.4833333333333334,340]
["2023-05-21","Alejandro Castanon Diaz","Karten & Navigation","1h 33m","Accesos: 138","00:00:00","00:00:00",59.39,0,1.55,138]
["2023-05-21","Alejandro Castanon Diaz","Arbeit","12h 17m","Accesos: 618","00:00:00","00:00:00",467.06,0,12.283333333333333,618]
["2023-05-21","Alejandro Castanon Diaz","Andere","12m","Accesos: 28","00:00:00","00:00:00",8,0,0.2,28]
["2023-05-28","Alejandro Castanon Diaz","System","13s","Accesos: 4","00:00:00","00:00:00",0.14000000000000001,0,0,4]
["2023-05-28","Alejandro Castanon Diaz","Spiele","7h 30m","Accesos: 69","00:00:00","00:00:00",285.54000000000002,0,7.5,69]
["2023-05-28","Alejandro Castanon Diaz","Musik & Filmen","49m","Accesos: 85","00:00:00","00:00:00",31.31,0,0.81666666666666665,85]
["2023-05-28","Alejandro Castanon Diaz","Einstellungen","31m","Accesos: 132","00:00:00","00:00:00",19.87,0,0.51666666666666672,132]
["2023-05-28","Alejandro Castanon Diaz","Fotos & Bilder","51m","Accesos: 122","00:00:00","00:00:00",32.909999999999997,0,0.85,122]
["2023-05-28","Alejandro Castanon Diaz","Soziale Netzwerke","1h 20m","Accesos: 79","00:00:00","00:00:00",50.67,0,1.3333333333333333,79]
["2023-05-28","Alejandro Castanon Diaz","Kommunikation","6h 42m","Accesos: 532","00:00:00","00:00:00",254.93,0,6.7,532]
["2023-05-28","Alejandro Castanon Diaz","Karten & Navigation","2h 59m","Accesos: 251","00:00:00","00:00:00",113.74,0,2.9833333333333334,251]
["2023-05-28","Alejandro Castanon Diaz","Arbeit","11h 53m","Accesos: 743","00:00:00","00:00:00",451.79,0,11.883333333333333,743]
["2023-05-28","Alejandro Castanon Diaz","Andere","1h 50m","Accesos: 210","00:00:00","00:00:00",70.239999999999995,0,1.8333333333333335,210]
["2023-06-04","Alejandro Castanon Diaz","System","0s","Accesos: 0","00:00:00","00:00:00",0,0,0,0]
["2023-06-04","Alejandro Castanon Diaz","Spiele","05m","Accesos: 4","00:00:00","00:00:00",3.31,0,8.3333333333333329E-2,4]
["2023-06-04","Alejandro Castanon Diaz","Musik & Filmen","28m","Accesos: 68","00:00:00","00:00:00",17.809999999999999,0,0.46666666666666667,68]
["2023-06-04","Alejandro Castanon Diaz","Einstellungen","19m","Accesos: 73","00:00:00","00:00:00",12.5,0,0.31666666666666665,73]
["2023-06-04","Alejandro Castanon Diaz","Fotos & Bilder","49m","Accesos: 111","00:00:00","00:00:00",31.38,0,0.81666666666666665,111]
["2023-06-04","Alejandro Castanon Diaz","Soziale Netzwerke","1h 06m","Accesos: 50","00:00:00","00:00:00",42.04,0,{"$f":"IF(D67=\"\",\"\",IF(ISERROR(FIND(\"s\",D67)),IF(ISERROR(FIND(\"h \",D67)),LEFT(D67,2)/60,   LEFT(D67,FIND(\"h \",D67)-1 )+LEFT(RIGHT(D67,3),2)/60   ),0))","v":1.1000000000000001},{"$f":"IF(E67=\"\",\"\",SUBSTITUTE(E67,\"Accesos: \",\"\")*1)","v":50}]
["2023-06-04","Alejandro Castanon Diaz","Kommunikation","7h 29m","Accesos: 574","00:00:00","00:00:00",284.43,0,7.4833333333333334,574]
["2023-06-04","Alejandro Castanon Diaz","Karten & Navigation","7h 11m","Accesos: 676","00:00:00","00:00:00",273.44,0,7.1833333333333336,676]
["2023-06-04","Alejandro Castanon Diaz","Arbeit","8h 37m","Accesos: 920","00:00:00","00:00:00",327.71,0,8.6166666666666671,920]
["2023-06-04","Alejandro Castanon Diaz","Andere","54m","Accesos: 144","00:00:00","00:00:00",34.39,0,0.9,144]
["2023-06-11","Alejandro Castanon Diaz","System","0s","Accesos: 0","00:00:00","00:00:00",0,0,0,0]
["2023-06-11","Alejandro Castanon Diaz","Spiele","05m","Accesos: 6","00:00:00","00:00:00",3.44,0,8.3333333333333329E-2,6]
["2023-06-11","Alejandro Castanon Diaz","Musik & Filmen","14m","Accesos: 36","00:00:00","00:00:00",9.3000000000000007,0,0.23333333333333334,36]
["2023-06-11","Alejandro Castanon Diaz","Einstellungen","52m","Accesos: 152","00:00:00","00:00:00",33.54,0,0.8666666666666667,152]
["2023-06-11","Alejandro Castanon Diaz","Fotos & Bilder","11m","Accesos: 62","00:00:00","00:00:00",7.54,0,0.18333333333333332,62]
["2023-06-11","Alejandro Castanon Diaz","Soziale Netzwerke","1h 10m","Accesos: 59","00:00:00","00:00:00",44.54,0,1.1666666666666667,59]
["2023-06-11","Alejandro Castanon Diaz","Kommunikation","5h 55m","Accesos: 444","00:00:00","00:00:00",225.13,0,5.916666666666667,444]
["2023-06-11","Alejandro Castanon Diaz","Karten & Navigation","8h 31m","Accesos: 883","00:00:00","00:00:00",323.81,0,8.5166666666666675,883]
["2023-06-11","Alejandro Castanon Diaz","Arbeit","9h 53m","Accesos: 833","00:00:00","00:00:00",375.58,0,9.8833333333333329,833]
["2023-06-11","Alejandro Castanon Diaz","Andere","25m","Accesos: 130","00:00:00","00:00:00",16.46,0,0.41666666666666669,130]
["2023-06-18","Alejandro Castanon Diaz","System","0s","Accesos: 0","00:00:00","00:00:00",0,0,0,0]
["2023-06-18","Alejandro Castanon Diaz","Spiele","16m","Accesos: 13","00:00:00","00:00:00",10.220000000000001,0,0.26666666666666666,13]
["2023-06-18","Alejandro Castanon Diaz","Musik & Filmen","37m","Accesos: 31","00:00:00","00:00:00",23.63,0,0.6166666666666667,31]
["2023-06-18","Alejandro Castanon Diaz","Einstellungen","3h 49m","Accesos: 67","00:00:00","00:00:00",145.32,0,3.8166666666666664,67]
["2023-06-18","Alejandro Castanon Diaz","Fotos & Bilder","13m","Accesos: 25","00:00:00","00:00:00",8.77,0,0.21666666666666667,25]
["2023-06-18","Alejandro Castanon Diaz","Soziale Netzwerke","18m","Accesos: 12","00:00:00","00:00:00",11.57,0,0.3,12]
["2023-06-18","Alejandro Castanon Diaz","Kommunikation","4h 21m","Accesos: 304","00:00:00","00:00:00",165.83,0,4.3499999999999996,304]
["2023-06-18","Alejandro Castanon Diaz","Karten & Navigation","3h 48m","Accesos: 261","00:00:00","00:00:00",144.51,0,3.8,261]
["2023-06-18","Alejandro Castanon Diaz","Arbeit","11h 05m","Accesos: 602","00:00:00","00:00:00",421.63,0,11.083333333333334,602]
["2023-06-18","Alejandro Castanon Diaz","Andere","57m","Accesos: 114","00:00:00","00:00:00",36.36,0,0.95,114]
["2023-06-25","Alejandro Castanon Diaz","System","02m","Accesos: 17","00:00:00","00:00:00",1.46,0,3.3333333333333333E-2,17]
["2023-06-25","Alejandro Castanon Diaz","Spiele","40m","Accesos: 28","00:00:00","00:00:00",25.84,0,0.66666666666666663,28]
["2023-06-25","Alejandro Castanon Diaz","Musik & Filmen","30m","Accesos: 76","00:00:00","00:00:00",19.36,0,0.5,76]
["2023-06-25","Alejandro Castanon Diaz","Einstellungen","1h 07m","Accesos: 99","00:00:00","00:00:00",42.94,0,1.1166666666666667,99]
["2023-06-25","Alejandro Castanon Diaz","Fotos & Bilder","02m","Accesos: 8","00:00:00","00:00:00",1.73,0,3.3333333333333333E-2,8]
["2023-06-25","Alejandro Castanon Diaz","Soziale Netzwerke","1h 05m","Accesos: 48","00:00:00","00:00:00",41.41,0,1.0833333333333333,48]
["2023-06-25","Alejandro Castanon Diaz","Kommunikation","6h 06m","Accesos: 456","00:00:00","00:00:00",231.93,0,6.1,456]
["2023-06-25","Alejandro Castanon Diaz","Karten & Navigation","1h 21m","Accesos: 137","00:00:00","00:00:00",51.71,0,1.35,137]
["2023-06-25","Alejandro Castanon Diaz","Arbeit","8h 22m","Accesos: 707","00:00:00","00:00:00",318.16000000000003,0,8.3666666666666671,707]
["2023-06-25","Alejandro Castanon Diaz","Andere","3h 57m","Accesos: 83","00:00:00","00:00:00",150.63,0,3.95,83]
["2023-07-02","Alejandro Castanon Diaz","System","21s","Accesos: 9","00:00:00","00:00:00",0.22,0,0,9]
["2023-07-02","Alejandro Castanon Diaz","Spiele","1h 23m","Accesos: 27","00:00:00","00:00:00",52.59,0,1.3833333333333333,27]
["2023-07-02","Alejandro Castanon Diaz","Musik & Filmen","3h 14m","Accesos: 217","00:00:00","00:00:00",123.39,0,3.2333333333333334,217]
["2023-07-02","Alejandro Castanon Diaz","Einstellungen","1h 05m","Accesos: 111","00:00:00","00:00:00",41.49,0,1.0833333333333333,111]
["2023-07-02","Alejandro Castanon Diaz","Fotos & Bilder","06m","Accesos: 10","00:00:00","00:00:00",4.41,0,0.1,10]
["2023-07-02","Alejandro Castanon Diaz","Soziale Netzwerke","1h 28m","Accesos: 84","00:00:00","00:00:00",55.92,0,1.4666666666666668,84]
["2023-07-02","Alejandro Castanon Diaz","Kommunikation","6h 11m","Accesos: 538","00:00:00","00:00:00",235.36,0,6.1833333333333336,538]
["2023-07-02","Alejandro Castanon Diaz","Karten & Navigation","1h 32m","Accesos: 167","00:00:00","00:00:00",58.59,0,1.5333333333333332,167]
["2023-07-02","Alejandro Castanon Diaz","Arbeit","11h 03m","Accesos: 799","00:00:00","00:00:00",420.15,0,11.05,799]
["2023-07-02","Alejandro Castanon Diaz","Andere","1h 09m","Accesos: 85","00:00:00","00:00:00",43.73,0,1.1499999999999999,85]
["2023-07-09","Alejandro Castanon Diaz","System","15s","Accesos: 4","00:00:00","00:00:00",0.16,0,0,4]
["2023-07-09","Alejandro Castanon Diaz","Spiele","23m","Accesos: 21","00:00:00","00:00:00",14.83,0,0.38333333333333336,21]
["2023-07-09","Alejandro Castanon Diaz","Musik & Filmen","1h 58m","Accesos: 190","00:00:00","00:00:00",75.25,0,1.9666666666666668,190]
["2023-07-09","Alejandro Castanon Diaz","Einstellungen","14m","Accesos: 43","00:00:00","00:00:00",9.1,0,0.23333333333333334,43]
["2023-07-09","Alejandro Castanon Diaz","Fotos & Bilder","15m","Accesos: 17","00:00:00","00:00:00",9.7100000000000009,0,0.25,17]
["2023-07-09","Alejandro Castanon Diaz","Soziale Netzwerke","50m","Accesos: 30","00:00:00","00:00:00",32.29,0,0.83333333333333337,30]
["2023-07-09","Alejandro Castanon Diaz","Kommunikation","4h 17m","Accesos: 429","00:00:00","00:00:00",163.38999999999999,0,4.2833333333333332,429]
["2023-07-09","Alejandro Castanon Diaz","Karten & Navigation","1h 03m","Accesos: 36","00:00:00","00:00:00",40.5,0,1.05,36]
["2023-07-09","Alejandro Castanon Diaz","Arbeit","6h 24m","Accesos: 525","00:00:00","00:00:00",243.5,0,6.4,525]
["2023-07-09","Alejandro Castanon Diaz","Andere","12m","Accesos: 63","00:00:00","00:00:00",7.72,0,0.2,63]
["2023-07-16","Alejandro Castanon Diaz","System","34s","Accesos: 6","00:00:00","00:00:00",0.36,0,0,6]
["2023-07-16","Alejandro Castanon Diaz","Spiele","09m","Accesos: 16","00:00:00","00:00:00",5.9,0,0.15,16]
["2023-07-16","Alejandro Castanon Diaz","Musik & Filmen","2h 16m","Accesos: 168","00:00:00","00:00:00",86.19,0,2.2666666666666666,168]
["2023-07-16","Alejandro Castanon Diaz","Einstellungen","19m","Accesos: 38","00:00:00","00:00:00",12.24,0,0.31666666666666665,38]
["2023-07-16","Alejandro Castanon Diaz","Fotos & Bilder","08m","Accesos: 13","00:00:00","00:00:00",5.37,0,0.13333333333333333,13]
["2023-07-16","Alejandro Castanon Diaz","Soziale Netzwerke","51m","Accesos: 59","00:00:00","00:00:00",32.409999999999997,0,0.85,59]
["2023-07-16","Alejandro Castanon Diaz","Kommunikation","5h 38m","Accesos: 421","00:00:00","00:00:00",214.23,0,5.6333333333333329,421]
["2023-07-16","Alejandro Castanon Diaz","Karten & Navigation","4h 31m","Accesos: 28","00:00:00","00:00:00",171.72,0,4.5166666666666666,28]
["2023-07-16","Alejandro Castanon Diaz","Arbeit","4h 51m","Accesos: 450","00:00:00","00:00:00",184.88,0,4.8499999999999996,450]
["2023-07-16","Alejandro Castanon Diaz","Andere","19m","Accesos: 36","00:00:00","00:00:00",12.6,0,{"$f":"IF(D131=\"\",\"\",IF(ISERROR(FIND(\"s\",D131)),IF(ISERROR(FIND(\"h \",D131)),LEFT(D131,2)/60,   LEFT(D131,FIND(\"h \",D131)-1 )+LEFT(RIGHT(D131,3),2)/60   ),0))","v":0.31666666666666665},{"$f":"IF(E131=\"\",\"\",SUBSTITUTE(E131,\"Accesos: \",\"\")*1)","v":36}]
["2023-07-23","Alejandro Castanon Diaz","Karten & Navigation","1h 18m","Accesos: 26","00:00:00","00:00:00",49.86,0,1.3,26]
["2023-07-23","Alejandro Castanon Diaz","Arbeit","4h 32m","Accesos: 416","00:00:00","00:00:00",172.27,0,4.5333333333333332,416]
["2023-07-23","Alejandro Castanon Diaz","Andere","33m","Accesos: 44","00:00:00","00:00:00",21.29,0,0.55000000000000004,44]
["2023-07-23","Alejandro Castanon Diaz","System","15s","Accesos: 3","00:00:00","00:00:00",0.16,0,0,3]
["2023-07-23","Alejandro Castanon Diaz","Spiele","5h 45m","Accesos: 54","00:00:00","00:00:00",218.62,0,5.75,54]
["2023-07-23","Alejandro Castanon Diaz","Musik & Filmen","2h 46m","Accesos: 222","00:00:00","00:00:00",105.52,0,2.7666666666666666,222]
["2023-07-23","Alejandro Castanon Diaz","Einstellungen","21m","Accesos: 83","00:00:00","00:00:00",13.92,0,0.35,83]
["2023-07-23","Alejandro Castanon Diaz","Fotos & Bilder","09m","Accesos: 13","00:00:00","00:00:00",6.07,0,0.15,13]
["2023-07-23","Alejandro Castanon Diaz","Soziale Netzwerke","1h 33m","Accesos: 71","00:00:00","00:00:00",59.4,0,1.55,71]
["2023-07-23","Alejandro Castanon Diaz","Kommunikation","4h 35m","Accesos: 440","00:00:00","00:00:00",174.43,0,4.583333333333333,440]
["2023-07-30","Alejandro Castanon Diaz","System","24s","Accesos: 5","00:00:00","00:00:00",0.25,0,0,5]
["2023-07-30","Alejandro Castanon Diaz","Spiele","19m","Accesos: 15","00:00:00","00:00:00",12.6,0,0.31666666666666665,15]
["2023-07-30","Alejandro Castanon Diaz","Musik & Filmen","1h 32m","Accesos: 163","00:00:00","00:00:00",58.84,0,1.5333333333333332,163]
["2023-07-30","Alejandro Castanon Diaz","Einstellungen","14m","Accesos: 31","00:00:00","00:00:00",9.44,0,0.23333333333333334,31]
["2023-07-30","Alejandro Castanon Diaz","Fotos & Bilder","14m","Accesos: 6","00:00:00","00:00:00",9.31,0,0.23333333333333334,6]
["2023-07-30","Alejandro Castanon Diaz","Soziale Netzwerke","42m","Accesos: 32","00:00:00","00:00:00",26.87,0,0.7,32]
["2023-07-30","Alejandro Castanon Diaz","Kommunikation","3h 11m","Accesos: 273","00:00:00","00:00:00",121.54,0,3.1833333333333331,273]
["2023-07-30","Alejandro Castanon Diaz","Karten & Navigation","51m","Accesos: 29","00:00:00","00:00:00",32.4,0,0.85,29]
["2023-07-30","Alejandro Castanon Diaz","Arbeit","6h 38m","Accesos: 524","00:00:00","00:00:00",252.19,0,6.6333333333333329,524]
["2023-07-30","Alejandro Castanon Diaz","Andere","24m","Accesos: 65","00:00:00","00:00:00",15.31,0,0.4,65]
["2023-08-06","Alejandro Castanon Diaz","System","01m","Accesos: 4","00:00:00","00:00:00",0.76,0,1.6666666666666666E-2,4]
["2023-08-06","Alejandro Castanon Diaz","Spiele","35m","Accesos: 16","00:00:00","00:00:00",22.21,0,0.58333333333333337,16]
["2023-08-06","Alejandro Castanon Diaz","Musik & Filmen","2h 35m","Accesos: 108","00:00:00","00:00:00",98.33,0,2.5833333333333335,108]
["2023-08-06","Alejandro Castanon Diaz","Einstellungen","07m","Accesos: 27","00:00:00","00:00:00",4.8,0,0.11666666666666667,27]
["2023-08-06","Alejandro Castanon Diaz","Fotos & Bilder","01m","Accesos: 6","00:00:00","00:00:00",1.2,0,1.6666666666666666E-2,6]
["2023-08-06","Alejandro Castanon Diaz","Soziale Netzwerke","41m","Accesos: 28","00:00:00","00:00:00",26.53,0,0.68333333333333335,28]
["2023-08-06","Alejandro Castanon Diaz","Kommunikation","3h 08m","Accesos: 204","00:00:00","00:00:00",119.07,0,3.1333333333333333,204]
["2023-08-06","Alejandro Castanon Diaz","Karten & Navigation","1h 04m","Accesos: 40","00:00:00","00:00:00",40.770000000000003,0,1.0666666666666667,40]
["2023-08-06","Alejandro Castanon Diaz","Arbeit","5h 05m","Accesos: 322","00:00:00","00:00:00",193.69,0,5.083333333333333,322]
["2023-08-06","Alejandro Castanon Diaz","Andere","28m","Accesos: 71","00:00:00","00:00:00",18.16,0,0.46666666666666667,71]
["2023-08-13","Alejandro Castanon Diaz","System","25s","Accesos: 4","00:00:00","00:00:00",0.26,0,0,4]
["2023-08-13","Alejandro Castanon Diaz","Spiele","5h 44m","Accesos: 22","00:00:00","00:00:00",218.2,0,5.7333333333333334,22]
["2023-08-13","Alejandro Castanon Diaz","Musik & Filmen","2h 36m","Accesos: 214","00:00:00","00:00:00",99.01,0,2.6,214]
["2023-08-13","Alejandro Castanon Diaz","Einstellungen","25m","Accesos: 48","00:00:00","00:00:00",16.3,0,0.41666666666666669,48]
["2023-08-13","Alejandro Castanon Diaz","Fotos & Bilder","35m","Accesos: 32","00:00:00","00:00:00",22.39,0,0.58333333333333337,32]
["2023-08-13","Alejandro Castanon Diaz","Soziale Netzwerke","1h 10m","Accesos: 55","00:00:00","00:00:00",44.5,0,1.1666666666666667,55]
["2023-08-13","Alejandro Castanon Diaz","Kommunikation","3h 58m","Accesos: 399","00:00:00","00:00:00",150.88999999999999,0,3.9666666666666668,399]
["2023-08-13","Alejandro Castanon Diaz","Karten & Navigation","39m","Accesos: 25","00:00:00","00:00:00",24.77,0,0.65,25]
["2023-08-13","Alejandro Castanon Diaz","Arbeit","6h 14m","Accesos: 406","00:00:00","00:00:00",237.18,0,6.2333333333333334,406]
["2023-08-13","Alejandro Castanon Diaz","Andere","29m","Accesos: 62","00:00:00","00:00:00",18.97,0,0.48333333333333334,62]
["2023-08-20","Alejandro Castanon Diaz","System","10s","Accesos: 2","00:00:00","00:00:00",0.11,0,0,2]
["2023-08-20","Alejandro Castanon Diaz","Spiele","14m","Accesos: 18","00:00:00","00:00:00",8.92,0,0.23333333333333334,18]
["2023-08-20","Alejandro Castanon Diaz","Musik & Filmen","1h 18m","Accesos: 95","00:00:00","00:00:00",49.89,0,1.3,95]
["2023-08-20","Alejandro Castanon Diaz","Einstellungen","11m","Accesos: 45","00:00:00","00:00:00",7.25,0,0.18333333333333332,45]
["2023-08-20","Alejandro Castanon Diaz","Fotos & Bilder","02m","Accesos: 6","00:00:00","00:00:00",1.66,0,3.3333333333333333E-2,6]
["2023-08-20","Alejandro Castanon Diaz","Soziale Netzwerke","36m","Accesos: 32","00:00:00","00:00:00",23.16,0,0.6,32]
["2023-08-20","Alejandro Castanon Diaz","Kommunikation","4h 35m","Accesos: 362","00:00:00","00:00:00",174.57,0,4.583333333333333,362]
["2023-08-20","Alejandro Castanon Diaz","Karten & Navigation","3h 19m","Accesos: 42","00:00:00","00:00:00",126.59,0,3.3166666666666664,42]
["2023-08-20","Alejandro Castanon Diaz","Arbeit","6h 19m","Accesos: 584","00:00:00","00:00:00",240.37,0,6.3166666666666664,584]
["2023-08-20","Alejandro Castanon Diaz","Andere","08m","Accesos: 20","00:00:00","00:00:00",5.43,0,0.13333333333333333,20]
["2023-08-27","Alejandro Castanon Diaz","System","58s","Accesos: 10","00:00:00","00:00:00",0.61,0,0,10]
["2023-08-27","Alejandro Castanon Diaz","Spiele","26m","Accesos: 31","00:00:00","00:00:00",16.84,0,0.43333333333333335,31]
["2023-08-27","Alejandro Castanon Diaz","Musik & Filmen","3h 37m","Accesos: 238","00:00:00","00:00:00",137.53,0,3.6166666666666667,238]
["2023-08-27","Alejandro Castanon Diaz","Einstellungen","15m","Accesos: 54","00:00:00","00:00:00",9.5399999999999991,0,0.25,54]
["2023-08-27","Alejandro Castanon Diaz","Fotos & Bilder","01m","Accesos: 4","00:00:00","00:00:00",0.73,0,1.6666666666666666E-2,4]
["2023-08-27","Alejandro Castanon Diaz","Soziale Netzwerke","51m","Accesos: 43","00:00:00","00:00:00",32.380000000000003,0,0.85,43]
["2023-08-27","Alejandro Castanon Diaz","Kommunikation","6h 30m","Accesos: 569","00:00:00","00:00:00",247.13,0,6.5,569]
["2023-08-27","Alejandro Castanon Diaz","Karten & Navigation","1h 21m","Accesos: 106","00:00:00","00:00:00",51.7,0,1.35,106]
["2023-08-27","Alejandro Castanon Diaz","Arbeit","8h 56m","Accesos: 735","00:00:00","00:00:00",340.07,0,8.9333333333333336,735]
["2023-08-27","Alejandro Castanon Diaz","Andere","1h 36m","Accesos: 51","00:00:00","00:00:00",61.25,0,1.6,51]
["2023-09-03","Alejandro Castanon Diaz","System","47s","Accesos: 13","00:00:00","00:00:00",0.5,0,0,13]
["2023-09-03","Alejandro Castanon Diaz","Spiele","3h 16m","Accesos: 20","00:00:00","00:00:00",124.7,0,3.2666666666666666,20]
["2023-09-03","Alejandro Castanon Diaz","Musik & Filmen","44m","Accesos: 94","00:00:00","00:00:00",27.92,0,0.73333333333333328,94]
["2023-09-03","Alejandro Castanon Diaz","Einstellungen","08m","Accesos: 57","00:00:00","00:00:00",5.34,0,{"$f":"IF(D195=\"\",\"\",IF(ISERROR(FIND(\"s\",D195)),IF(ISERROR(FIND(\"h \",D195)),LEFT(D195,2)/60,   LEFT(D195,FIND(\"h \",D195)-1 )+LEFT(RIGHT(D195,3),2)/60   ),0))","v":0.13333333333333333},{"$f":"IF(E195=\"\",\"\",SUBSTITUTE(E195,\"Accesos: \",\"\")*1)","v":57}]
["2023-09-03","Alejandro Castanon Diaz","Fotos & Bilder","01m","Accesos: 5","00:00:00","00:00:00",1.25,0,1.6666666666666666E-2,5]
["2023-09-03","Alejandro Castanon Diaz","Soziale Netzwerke","52m","Accesos: 28","00:00:00","00:00:00",33.520000000000003,0,0.8666666666666667,28]
["2023-09-03","Alejandro Castanon Diaz","Kommunikation","8h 14m","Accesos: 559","00:00:00","00:00:00",312.94,0,8.2333333333333325,559]
["2023-09-03","Alejandro Castanon Diaz","Karten & Navigation","2h 45m","Accesos: 180","00:00:00","00:00:00",105.02,0,2.75,180]
["2023-09-03","Alejandro Castanon Diaz","Arbeit","7h 20m","Accesos: 569","00:00:00","00:00:00",279.08999999999997,0,7.333333333333333,569]
["2023-09-03","Alejandro Castanon Diaz","Andere","1h 05m","Accesos: 75","00:00:00","00:00:00",41.4,0,1.0833333333333333,75]
["2023-09-10","Alejandro Castanon Diaz","System","21s","Accesos: 5","00:00:00","00:00:00",0.22,0,0,5]
["2023-09-10","Alejandro Castanon Diaz","Spiele","2h 12m","Accesos: 17","00:00:00","00:00:00",83.66,0,2.2000000000000002,17]
["2023-09-10","Alejandro Castanon Diaz","Musik & Filmen","1h 41m","Accesos: 159","00:00:00","00:00:00",64.42,0,1.6833333333333333,159]
["2023-09-10","Alejandro Castanon Diaz","Einstellungen","21m","Accesos: 57","00:00:00","00:00:00",13.76,0,0.35,57]
["2023-09-10","Alejandro Castanon Diaz","Fotos & Bilder","02m","Accesos: 5","00:00:00","00:00:00",1.45,0,3.3333333333333333E-2,5]
["2023-09-10","Alejandro Castanon Diaz","Soziale Netzwerke","27m","Accesos: 31","00:00:00","00:00:00",17.3,0,0.45,31]
["2023-09-10","Alejandro Castanon Diaz","Kommunikation","6h 06m","Accesos: 416","00:00:00","00:00:00",232.39,0,6.1,416]
["2023-09-10","Alejandro Castanon Diaz","Karten & Navigation","1h 05m","Accesos: 88","00:00:00","00:00:00",41.19,0,1.0833333333333333,88]
["2023-09-10","Alejandro Castanon Diaz","Arbeit","5h 26m","Accesos: 511","00:00:00","00:00:00",206.64,0,5.4333333333333336,511]
["2023-09-10","Alejandro Castanon Diaz","Andere","46m","Accesos: 142","00:00:00","00:00:00",29.41,0,0.76666666666666672,142]
[null,null,null,null,null,null,null,null,null,"",""]
[null,null,null,null,null,null,null,null,null,"",""]
[null,null,null,null,null,null,null,null,null,"",""]
[null,null,null,null,null,null,null,null,null,"",""]
[null,null,null,null,null,null,null,null,null,"",""]
[null,null,null,null,null,null,null,null,null,"",""]
[null,null,null,null,null,null,null,null,null,"",""]
[null,null,null,null,null,null,null,null,null,"",""]
[null,null,null,null,null,null,null,null,null,"",""]
[null,null,null,null,null,null,null,null,null,"",""]
[null,null,null,null,null,null,null,null,null,"",""]
[null,null,null,null,null,null,null,null,null,"",""]
[null,null,null,null,null,null,null,null,null,"",""]
[null,null,null,null,null,null,null,null,null,"",""]
[null,null,null,null,null,null,null,null,null,"",""]
[null,null,null,null,null,null,null,null,null,"",""]
[null,null,null,null,null,null,null,null,null,"",""]
[null,null,null,null,null,null,null,null,null,"",""]
[null,null,null,null,null,null,null,null,null,"",""]
[null,null,null,null,null,null,null,null,null,"",""]
[null,null,null,null,null,null,null,null,null,"",""]
[null,null,null,null,null,null,null,null,null,"",""]
[null,null,null,null,null,null,null,null,null,"",""]
[null,null,null,null,null,null,null,null,null,"",""]
[null,null,null,null,null,null,null,null,null,"",""]
[null,null,null,null,null,null,null,null,null,"",""]
[null,null,null,null,null,null,null,null,null,"",""]
[null,null,null,null,null,null,null,null,null,"",""]
[null,null,null,null,null,null,null,null,null,"",""]
[null,null,null,null,null,null,null,null,null,"",""]
[null,null,null,null,null,null,null,null,null,"",""]
[null,null,null,null,null,null,null,null,null,"",""]
[null,null,null,null,null,null,null,null,null,"",""]
[null,null,null,null,null,null,null,null,null,"",""]
[null,null,null,null,null,null,null,null,null,"",""]
[null,null,null,null,null,null,null,null,null,"",""]
[null,null,null,null,null,null,null,null,null,"",""]
[null,null,null,null,null,null,null,null,null,"",""]
[null,null,null,null,null,null,null,null,null,"",""]
[null,null,null,null,null,null,null,null,null,"",""]
[null,null,null,null,null,null,null,null,null,"",""]
[null,null,null,null,null,null,null,null,null,"",""]
[null,null,null,null,null,null,null,null,null,"",""]
[null,null,null,null,null,null,null,null,null,"",""]
[null,null,null,null,null,null,null,null,null,"",""]
[null,null,null,null,null,null,null,null,null,"",""]
[null,null,null,null,null,null,null,null,null,"",""]
[null,null,null,null,null,null,null,null,null,{"$f":"IF(D259=\"\",\"\",IF(ISERROR(FIND(\"s\",D259)),IF(ISERROR(FIND(\"h \",D259)),LEFT(D259,2)/60,   LEFT(D259,FIND(\"h \",D259)-1 )+LEFT(RIGHT(D259,3),2)/60   ),0))","v":""},{"$f":"IF(E259=\"\",\"\",SUBSTITUTE(E259,\"Accesos: \",\"\")*1)","v":""}]
[null,null,null,null,null,null,null,null,null,"",""]
[null,null,null,null,null,null,null,null,null,"",""]
[null,null,null,null,null,null,null,null,null,"",""]
[null,null,null,null,null,null,null,null,null,"",""]
[null,null,null,null,null,null,null,null,null,"",""]
[null,null,null,null,null,null,null,null,null,"",""]
[null,null,null,null,null,null,null,null,null,"",""]
[null,null,null,null,null,null,null,null,null,"",""]
[null,null,null,null,null,null,null,null,null,"",""]
[null,null,null,null,null,null,null,null,null,"",""]
[null,null,null,null,null,null,null,null,null,"",""]
[null,null,null,null,null,null,null,null,null,"",""]
[null,null,null,null,null,null,null,null,null,"",""]
[null,null,null,null,null,null,null,null,null,"",""]
[null,null,null,null,null,null,null,null,null,"",""]
[null,null,null,null,null,null,null,null,null,"",""]
[null,null,null,null,null,null,null,null,null,"",""]
[null,null,null,null,null,null,null,null,null,"",""]
[null,null,null,null,null,null,null,null,null,"",""]
[null,null,null,null,null,null,null,null,null,"",""]
[null,null,null,null,null,null,null,null,null,"",""]
[null,null,null,null,null,null,null,null,null,"",""]
[null,null,null,null,null,null,null,null,null,"",""]
[null,null,null,null,null,null,null,null,null,"",""]
[null,null,null,null,null,null,null,null,null,"",""]
[null,null,null,null,null,null,null,null,null,"",""]
[null,null,null,null,null,null,null,null,null,"",""]
[null,null,null,null,null,null,null,null,null,"",""]
[null,null,null,null,null,null,null,null,null,"",""]
[null,null,null,null,null,null,null,null,null,"",""]
[null,null,null,null,null,null,null,null,null,"",""]
[null,null,null,null,null,null,null,null,null,"",""]
[null,null,null,null,null,null,null,null,null,"",""]
[null,null,null,null,null,null,null,null,null,"",""]
[null,null,null,null,null,null,null,null,null,"",""]
[null,null,null,null,null,null,null,null,null,"",""]
[null,null,null,null,null,null,null,null,null,"",""]
[null,null,null,null,null,null,null,null,null,"",""]
[null,null,null,null,null,null,null,null,null,"",""]
[null,null,null,null,null,null,null,null,null,"",""]
[null,null,null,null,null,null,null,null,null,"",""]
[null,null,null,null,null,null,null,null,null,"",""]
[null,null,null,null,null,null,null,null,null,"",""]
[null,null,null,null,null,null,null,null,null,"",""]
[null,null,null,null,null,null,null,null,null,"",""]
[null,null,null,null,null,null,null,null,null,"",""]
[null,null,null,null,null,null,null,null,null,"",""]
[null,null,null,null,null,null,null,null,null,"",""]
[null,null,null,null,null,null,null,null,null,"",""]
[null,null,null,null,null,null,null,null,null,"",""]
[null,null,null,null,null,null,null,null,null,"",""]
[null,null,null,null,null,null,null,null,null,"",""]
[null,null,null,null,null,null,null,null,null,"",""]
[null,null,null,null,null,null,null,null,null,"",""]
[null,null,null,null,null,null,null,null,null,"",""]
[null,null,null,null,null,null,null,null,null,"",""]
[null,null,null,null,null,null,null,null,null,"",""]
[null,null,null,null,null,null,null,null,null,"",""]
[null,null,null,null,null,null,null,null,null,"",""]
[null,null,null,null,null,null,null,null,null,"",""]
[null,null,null,null,null,null,null,null,null,"",""]
[null,null,null,null,null,null,null,null,null,"",""]
[null,null,null,null,null,null,null,null,null,"",""]
[null,null,null,null,null,null,null,null,null,{"$f":"IF(D323=\"\",\"\",IF(ISERROR(FIND(\"s\",D323)),IF(ISERROR(FIND(\"h \",D323)),LEFT(D323,2)/60,   LEFT(D323,FIND(\"h \",D323)-1 )+LEFT(RIGHT(D323,3),2)/60   ),0))","v":""},{"$f":"IF(E323=\"\",\"\",SUBSTITUTE(E323,\"Accesos: \",\"\")*1)","v":""}]
[null,null,null,null,null,null,null,null,null,"",""]
[null,null,null,null,null,null,null,null,null,"",""]
[null,null,null,null,null,null,null,null,null,"",""]
[null,null,null,null,null,null,null,null,null,"",""]
[null,null,null,null,null,null,null,null,null,"",""]
[null,null,null,null,null,null,null,null,null,"",""]
[null,null,null,null,null,null,null,null,null,"",""]
[null,null,null,null,null,null,null,null,null,"",""]
[null,null,null,null,null,null,null,null,null,"",""]
[null,null,null,null,null,null,null,null,null,"",""]
[null,null,null,null,null,null,null,null,null,"",""]
[null,null,null,null,null,null,null,null,null,"",""]
[null,null,null,null,null,null,null,null,null,"",""]
[null,null,null,null,null,null,null,null,null,"",""]
[null,null,null,null,null,null,null,null,null,"",""]
[null,null,null,null,null,null,null,null,null,"",""]
[null,null,null,null,null,null,null,null,null,"",""]
[null,null,null,null,null,null,null,null,null,"",""]
[null,null,null,null,null,null,null,null,null,"",""]
[null,null,null,null,null,null,null,null,null,"",""]
[null,null,null,null,null,null,null,null,null,"",""]
[null,null,null,null,null,null,null,null,null,"",""]
[null,null,null,null,null,null,null,null,null,"",""]
[null,null,null,null,null,null,null,null,null,"",""]
[null,null,null,null,null,null,null,null,null,"",""]
[null,null,null,null,null,null,null,null,null,"",""]
[null,null,null,null,null,null,null,null,null,"",""]
[null,null,null,null,null,null,null,null,null,"",""]
[null,null,null,null,null,null,null,null,null,"",""]
[null,null,null,null,null,null,null,null,null,"",""]
[null,null,null,null,null,null,null,null,null,"",""]
[null,null,null,null,null,null,null,null,null,"",""]
[null,null,null,null,null,null,null,null,null,"",""]
[null,null,null,null,null,null,null,null,null,"",""]
[null,null,null,null,null,null,null,null,null,"",""]
[null,null,null,null,null,null,null,null,null,"",""]
[null,null,null,null,null,null,null,null,null,"",""]
[null,null,null,null,null,null,null,null,null,"",""]
[null,null,null,null,null,null,null,null,null,"",""]
[null,null,null,null,null,null,null,null,null,"",""]
[null,null,null,null,null,null,null,null,null,"",""]
[null,null,null,null,null,null,null,null,null,"",""]
[null,null,null,null,null,null,null,null,null,"",""]
[null,null,null,null,null,null,null,null,null,"",""]
[null,null,null,null,null,null,null,null,null,"",""]
[null,null,null,null,null,null,null,null,null,"",""]
[null,null,null,null,null,null,null,null,null,"",""]
[null,null,null,null,null,null,null,null,null,"",""]
[null,null,null,null,null,null,null,null,null,"",""]
[null,null,null,null,null,null,null,null,null,"",""]
[null,null,null,null,null,null,null,null,null,"",""]
[null,null,null,null,null,null,null,null,null,"",""]
[null,null,null,null,null,null,null,null,null,"",""]
[null,null,null,null,null,null,null,null,null,"",""]
[null,null,null,null,null,null,null,null,null,"",""]
[null,null,null,null,null,null,null,null,null,"",""]
[null,null,null,null,null,null,null,null,null,"",""]
[null,null,null,null,null,null,null,null,null,"",""]
[null,null,null,null,null,null,null,null,null,"",""]
[null,null,null,null,null,null,null,null,null,"",""]
[null,null,null,null,null,null,null,null,null,"",""]
[null,null,null,null,null,null,null,null,null,"",""]
[null,null,null,null,null,null,null,null,null,"",""]
[null,null,null,null,null,null,null,null,null,{"$f":"IF(D387=\"\",\"\",IF(ISERROR(FIND(\"s\",D387)),IF(ISERROR(FIND(\"h \",D387)),LEFT(D387,2)/60,   LEFT(D387,FIND(\"h \",D387)-1 )+LEFT(RIGHT(D387,3),2)/60   ),0))","v":""},{"$f":"IF(E387=\"\",\"\",SUBSTITUTE(E387,\"Accesos: \",\"\")*1)","v":""}]
[null,null,null,null,null,null,null,null,null,"",""]
[null,null,null,null,null,null,null,null,null,"",""]
[null,null,null,null,null,null,null,null,null,"",""]
[null,null,null,null,null,null,null,null,null,"",""]
[null,null,null,null,null,null,null,null,null,"",""]
[null,null,null,null,null,null,null,null,null,"",""]
[null,null,null,null,null,null,null,null,null,"",""]
[null,null,null,null,null,null,null,null,null,"",""]
[null,null,null,null,null,null,null,null,null,"",""]
[null,null,null,null,null,null,null,null,null,"",""]
[null,null,null,null,null,null,null,null,null,"",""]
[null,null,null,null,null,null,null,null,null,"",""]
[null,null,null,null,null,null,null,null,null,"",""]
[null,null,null,null,null,null,null,null,null,"",""]
[null,null,null,null,null,null,null,null,null,"",""]
[null,null,null,null,null,null,null,null,null,"",""]
[null,null,null,null,null,null,null,null,null,"",""]
[null,null,null,null,null,null,null,null,null,"",""]
[null,null,null,null,null,null,null,null,null,"",""]
[null,null,null,null,null,null,null,null,null,"",""]
[null,null,null,null,null,null,null,null,null,"",""]
[null,null,null,null,null,null,null,null,null,"",""]
[null,null,null,null,null,null,null,null,null,"",""]
[null,null,null,null,null,null,null,null,null,"",""]
[null,null,null,null,null,null,null,null,null,"",""]
[null,null,null,null,null,null,null,null,null,"",""]
[null,null,null,null,null,null,null,null,null,"",""]
[null,null,null,null,null,null,null,null,null,"",""]
[null,null,null,null,null,null,null,null,null,"",""]
[null,null,null,null,null,null,null,null,null,"",""]
[null,null,null,null,null,null,null,null,null,"",""]
[null,null,null,null,null,null,null,null,null,"",""]
[null,null,null,null,null,null,null,null,null,"",""]
[null,null,null,null,null,null,null,null,null,"",""]
[null,null,null,null,null,null,null,null,null,"",""]
[null,null,null,null,null,null,null,null,null,"",""]
[null,null,null,null,null,null,null,null,null,"",""]
[null,null,null,null,null,null,null,null,null,"",""]
[null,null,null,null,null,null,null,null,null,"",""]
[null,null,null,null,null,null,null,null,null,"",""]
[null,null,null,null,null,null,null,null,null,"",""]
[null,null,null,null,null,null,null,null,null,"",""]
[null,null,null,null,null,null,null,null,null,"",""]
[null,null,null,null,null,null,null,null,null,"",""]
[null,null,null,null,null,null,null,null,null,"",""]
[null,null,null,null,null,null,null,null,null,"",""]
[null,null,null,null,null,null,null,null,null,"",""]
[null,null,null,null,null,null,null,null,null,"",""]
[null,null,null,null,null,null,null,null,null,"",""]
[null,null,null,null,null,null,null,null,null,"",""]
[null,null,null,null,null,null,null,null,null,"",""]
[null,null,null,null,null,null,null,null,null,"",""]
[null,null,null,null,null,null,null,null,null,"",""]
[null,null,null,null,null,null,null,null,null,"",""]
[null,null,null,null,null,null,null,null,null,"",""]
[null,null,null,null,null,null,null,null,null,"",""]
[null,null,null,null,null,null,null,null,null,"",""]
[null,null,null,null,null,null,null,null,null,"",""]
[null,null,null,null,null,null,null,null,null,"",""]
[null,null,null,null,null,null,null,null,null,"",""]
[null,null,null,null,null,null,null,null,null,"",""]
[null,null,null,null,null,null,null,null,null,"",""]
[null,null,null,null,null,null,null,null,null,"",""]
[null,null,null,null,null,null,null,null,null,{"$f":"IF(D451=\"\",\"\",IF(ISERROR(FIND(\"s\",D451)),IF(ISERROR(FIND(\"h \",D451)),LEFT(D451,2)/60,   LEFT(D451,FIND(\"h \",D451)-1 )+LEFT(RIGHT(D451,3),2)/60   ),0))","v":""},{"$f":"IF(E451=\"\",\"\",SUBSTITUTE(E451,\"Accesos: \",\"\")*1)","v":""}]
[null,null,null,null,null,null,null,null,null,"",""]
[null,null,null,null,null,null,null,null,null,"",""]
[null,null,null,null,null,null,null,null,null,"",""]
[null,null,null,null,null,null,null,null,null,"",""]
[null,null,null,null,null,null,null,null,null,"",""]
[null,null,null,null,null,null,null,null,null,"",""]
[null,null,null,null,null,null,null,null,null,"",""]
[null,null,null,null,null,null,null,null,null,"",""]
[null,null,null,null,null,null,null,null,null,"",""]
[null,null,null,null,null,null,null,null,null,"",""]
[null,null,null,null,null,null,null,null,null,"",""]
[null,null,null,null,null,null,null,null,null,"",""]
[null,null,null,null,null,null,null,null,null,"",""]
[null,null,null,null,null,null,null,null,null,"",""]
[null,null,null,null,null,null,null,null,null,"",""]
[null,null,null,null,null,null,null,null,null,"",""]
[null,null,null,null,null,null,null,null,null,"",""]
[null,null,null,null,null,null,null,null,null,"",""]
[null,null,null,null,null,null,null,null,null,"",""]
[null,null,null,null,null,null,null,null,null,"",""]
[null,null,null,null,null,null,null,null,null,"",""]
[null,null,null,null,null,null,null,null,null,"",""]
[null,null,null,null,null,null,null,null,null,"",""]
[null,null,null,null,null,null,null,null,null,"",""]
[null,null,null,null,null,null,null,null,null,"",""]
[null,null,null,null,null,null,null,null,null,"",""]
[null,null,null,null,null,null,null,null,null,"",""]
[null,null,null,null,null,null,null,null,null,"",""]
[null,null,null,null,null,null,null,null,null,"",""]
[null,null,null,null,null,null,null,null,null,"",""]
[null,null,null,null,null,null,null,null,null,"",""]
[null,null,null,null,null,null,null,null,null,"",""]
[null,null,null,null,null,null,null,null,null,"",""]
[null,null,null,null,null,null,null,null,null,"",""]
[null,null,null,null,null,null,null,null,null,"",""]
[null,null,null,null,null,null,null,null,null,"",""]
[null,null,null,null,null,null,null,null,null,"",""]
[null,null,null,null,null,null,null,null,null,"",""]
[null,null,null,null,null,null,null,null,null,"",""]
[null,null,null,null,null,null,null,null,null,"",""]
[null,null,null,null,null,null,null,null,null,"",""]
[null,null,null,null,null,null,null,null,null,"",""]
[null,null,null,null,null,null,null,null,null,"",""]
[null,null,null,null,null,null,null,null,null,"",""]
[null,null,null,null,null,null,null,null,null,"",""]
[null,null,null,null,null,null,null,null,null,"",""]
[null,null,null,null,null,null,null,null,null,"",""]
[null,null,null,null,null,null,null,null,null,"",""]
[null,null,null,null,null,null,null,null,null,"",""]
[null,null,null,null,null,null,null,null,null,"",""]
[null,null,null,null,null,null,null,null,null,"",""]
[null,null,null,null,null,null,null,null,null,"",""]
[null,null,null,null,null,null,null,null,null,"",""]
[null,null,null,null,null,null,null,null,null,"",""]
[null,null,null,null,null,null,null,null,null,"",""]
[null,null,null,null,null,null,null,null,null,"",""]
[null,null,null,null,null,null,null,null,null,"",""]
[null,null,null,null,null,null,null,null,null,"",""]
[null,null,null,null,null,null,null,null,null,"",""]
[null,null,null,null,null,null,null,null,null,"",""]
[null,null,null,null,null,null,null,null,null,"",""]
[null,null,null,null,null,null,null,null,null,"",""]
[null,null,null,null,null,null,null,null,null,"",""]
[null,null,null,null,null,null,null,null,null,{"$f":"IF(D515=\"\",\"\",IF(ISERROR(FIND(\"s\",D515)),IF(ISERROR(FIND(\"h \",D515)),LEFT(D515,2)/60,   LEFT(D515,FIND(\"h \",D515)-1 )+LEFT(RIGHT(D515,3),2)/60   ),0))","v":""},{"$f":"IF(E515=\"\",\"\",SUBSTITUTE(E515,\"Accesos: \",\"\")*1)","v":""}]
[null,null,null,null,null,null,null,null,null,"",""]
[null,null,null,null,null,null,null,null,null,"",""]
[null,null,null,null,null,null,null,null,null,"",""]
[null,null,null,null,null,null,null,null,null,"",""]
[null,null,null,null,null,null,null,null,null,"",""]
[null,null,null,null,null,null,null,null,null,"",""]
[null,null,null,null,null,null,null,null,null,"",""]
[null,null,null,null,null,null,null,null,null,"",""]
[null,null,null,null,null,null,null,null,null,"",""]
[null,null,null,null,null,null,null,null,null,"",""]
[null,null,null,null,null,null,null,null,null,"",""]
[null,null,null,null,null,null,null,null,null,"",""]
[null,null,null,null,null,null,null,null,null,"",""]
[null,null,null,null,null,null,null,null,null,"",""]
[null,null,null,null,null,null,null,null,null,"",""]
[null,null,null,null,null,null,null,null,null,"",""]
[null,null,null,null,null,null,null,null,null,"",""]
[null,null,null,null,null,null,null,null,null,"",""]
[null,null,null,null,null,null,null,null,null,"",""]
[null,null,null,null,null,null,null,null,null,"",""]
[null,null,null,null,null,null,null,null,null,"",""]
[null,null,null,null,null,null,null,null,null,"",""]
[null,null,null,null,null,null,null,null,null,"",""]
[null,null,null,null,null,null,null,null,null,"",""]
[null,null,null,null,null,null,null,null,null,"",""]
[null,null,null,null,null,null,null,null,null,"",""]
[null,null,null,null,null,null,null,null,null,"",""]
[null,null,null,null,null,null,null,null,null,"",""]
[null,null,null,null,null,null,null,null,null,"",""]
[null,null,null,null,null,null,null,null,null,"",""]
[null,null,null,null,null,null,null,null,null,"",""]
[null,null,null,null,null,null,null,null,null,"",""]
[null,null,null,null,null,null,null,null,null,"",""]
[null,null,null,null,null,null,null,null,null,"",""]
[null,null,null,null,null,null,null,null,null,"",""]
[null,null,null,null,null,null,null,null,null,"",""]
[null,null,null,null,null,null,null,null,null,"",""]
[null,null,null,null,null,null,null,null,null,"",""]
[null,null,null,null,null,null,null,null,null,"",""]
[null,null,null,null,null,null,null,null,null,"",""]
[null,null,null,null,null,null,null,null,null,"",""]
[null,null,null,null,null,null,null,null,null,"",""]
[null,null,null,null,null,null,null,null,null,"",""]
[null,null,null,null,null,null,null,null,null,"",""]
[null,null,null,null,null,null,null,null,null,"",""]
[null,null,null,null,null,null,null,null,null,"",""]
[null,null,null,null,null,null,null,null,null,"",""]
[null,null,null,null,null,null,null,null,null,"",""]
[null,null,null,null,null,null,null,null,null,"",""]
[null,null,null,null,null,null,null,null,null,"",""]
[null,null,null,null,null,null,null,null,null,"",""]
[null,null,null,null,null,null,null,null,null,"",""]
[null,null,null,null,null,null,null,null,null,"",""]
[null,null,null,null,null,null,null,null,null,"",""]
[null,null,null,null,null,null,null,null,null,"",""]
[null,null,null,null,null,null,null,null,null,"",""]
[null,null,null,null,null,null,null,null,null,"",""]
[null,null,null,null,null,null,null,null,null,"",""]
[null,null,null,null,null,null,null,null,null,"",""]
[null,null,null,null,null,null,null,null,null,"",""]
[null,null,null,null,null,null,null,null,null,"",""]
[null,null,null,null,null,null,null,null,null,"",""]
[null,null,null,null,null,null,null,null,null,"",""]
[null,null,null,null,null,null,null,null,null,{"$f":"IF(D579=\"\",\"\",IF(ISERROR(FIND(\"s\",D579)),IF(ISERROR(FIND(\"h \",D579)),LEFT(D579,2)/60,   LEFT(D579,FIND(\"h \",D579)-1 )+LEFT(RIGHT(D579,3),2)/60   ),0))","v":""},{"$f":"IF(E579=\"\",\"\",SUBSTITUTE(E579,\"Accesos: \",\"\")*1)","v":""}]
[null,null,null,null,null,null,null,null,null,"",""]
[null,null,null,null,null,null,null,null,null,"",""]
[null,null,null,null,null,null,null,null,null,"",""]
[null,null,null,null,null,null,null,null,null,"",""]
[null,null,null,null,null,null,null,null,null,"",""]
[null,null,null,null,null,null,null,null,null,"",""]
[null,null,null,null,null,null,null,null,null,"",""]
[null,null,null,null,null,null,null,null,null,"",""]
[null,null,null,null,null,null,null,null,null,"",""]
[null,null,null,null,null,null,null,null,null,"",""]
[null,null,null,null,null,null,null,null,null,"",""]
[null,null,null,null,null,null,null,null,null,"",""]
[null,null,null,null,null,null,null,null,null,"",""]
[null,null,null,null,null,null,null,null,null,"",""]
[null,null,null,null,null,null,null,null,null,"",""]
[null,null,null,null,null,null,null,null,null,"",""]
[null,null,null,null,null,null,null,null,null,"",""]
[null,null,null,null,null,null,null,null,null,"",""]
[null,null,null,null,null,null,null,null,null,"",""]
[null,null,null,null,null,null,null,null,null,"",""]
[null,null,null,null,null,null,null,null,null,"",""]
[null,null,null,null,null,null,null,null,null,"",""]
[null,null,null,null,null,null,null,null,null,"",""]
[null,null,null,null,null,null,null,null,null,"",""]
[null,null,null,null,null,null,null,null,null,"",""]
[null,null,null,null,null,null,null,null,null,"",""]
[null,null,null,null,null,null,null,null,null,"",""]
[null,null,null,null,null,null,null,null,null,"",""]
[null,null,null,null,null,null,null,null,null,"",""]
[null,null,null,null,null,null,null,null,null,"",""]
[null,null,null,null,null,null,null,null,null,"",""]
[null,null,null,null,null,null,null,null,null,"",""]
[null,null,null,null,null,null,null,null,null,"",""]
[null,null,null,null,null,null,null,null,null,"",""]
[null,null,null,null,null,null,null,null,null,"",""]
[null,null,null,null,null,null,null,null,null,"",""]
[null,null,null,null,null,null,null,null,null,"",""]
[null,null,null,null,null,null,null,null,null,"",""]
[null,null,null,null,null,null,null,null,null,"",""]
[null,null,null,null,null,null,null,null,null,"",""]
[null,null,null,null,null,null,null,null,null,"",""]
[null,null,null,null,null,null,null,null,null,"",""]
[null,null,null,null,null,null,null,null,null,"",""]
[null,null,null,null,null,null,null,null,null,"",""]
[null,null,null,null,null,null,null,null,null,"",""]
[null,null,null,null,null,null,null,null,null,"",""]
[null,null,null,null,null,null,null,null,null,"",""]
[null,null,null,null,null,null,null,null,null,"",""]
[null,null,null,null,null,null,null,null,null,"",""]
[null,null,null,null,null,null,null,null,null,"",""]
[null,null,null,null,null,null,null,null,null,"",""]
[null,null,null,null,null,null,null,null,null,"",""]
[null,null,null,null,null,null,null,null,null,"",""]
[null,null,null,null,null,null,null,null,null,"",""]
[null,null,null,null,null,null,null,null,null,"",""]
[null,null,null,null,null,null,null,null,null,"",""]
[null,null,null,null,null,null,null,null,null,"",""]
[null,null,null,null,null,null,null,null,null,"",""]
[null,null,null,null,null,null,null,null,null,"",""]
[null,null,null,null,null,null,null,null,null,"",""]
[null,null,null,null,null,null,null,null,null,"",""]
[null,null,null,null,null,null,null,null,null,"",""]
[null,null,null,null,null,null,null,null,null,"",""]
[null,null,null,null,null,null,null,null,null,{"$f":"IF(D643=\"\",\"\",IF(ISERROR(FIND(\"s\",D643)),IF(ISERROR(FIND(\"h \",D643)),LEFT(D643,2)/60,   LEFT(D643,FIND(\"h \",D643)-1 )+LEFT(RIGHT(D643,3),2)/60   ),0))","v":""},{"$f":"IF(E643=\"\",\"\",SUBSTITUTE(E643,\"Accesos: \",\"\")*1)","v":""}]
[null,null,null,null,null,null,null,null,null,"",""]
[null,null,null,null,null,null,null,null,null,"",""]
[null,null,null,null,null,null,null,null,null,"",""]
[null,null,null,null,null,null,null,null,null,"",""]
[null,null,null,null,null,null,null,null,null,"",""]
[null,null,null,null,null,null,null,null,null,"",""]
[null,null,null,null,null,null,null,null,null,"",""]
[null,null,null,null,null,null,null,null,null,"",""]
[null,null,null,null,null,null,null,null,null,"",""]
[null,null,null,null,null,null,null,null,null,"",""]
[null,null,null,null,null,null,null,null,null,"",""]
[null,null,null,null,null,null,null,null,null,"",""]
[null,null,null,null,null,null,null,null,null,"",""]
[null,null,null,null,null,null,null,null,null,"",""]
[null,null,null,null,null,null,null,null,null,"",""]
[null,null,null,null,null,null,null,null,null,"",""]
[null,null,null,null,null,null,null,null,null,"",""]
[null,null,null,null,null,null,null,null,null,"",""]
[null,null,null,null,null,null,null,null,null,"",""]
[null,null,null,null,null,null,null,null,null,"",""]
[null,null,null,null,null,null,null,null,null,"",""]
[null,null,null,null,null,null,null,null,null,"",""]
[null,null,null,null,null,null,null,null,null,"",""]
[null,null,null,null,null,null,null,null,null,"",""]
[null,null,null,null,null,null,null,null,null,"",""]
[null,null,null,null,null,null,null,null,null,"",""]
[null,null,null,null,null,null,null,null,null,"",""]
[null,null,null,null,null,null,null,null,null,"",""]
[null,null,null,null,null,null,null,null,null,"",""]
[null,null,null,null,null,null,null,null,null,"",""]
[null,null,null,null,null,null,null,null,null,"",""]
[null,null,null,null,null,null,null,null,null,"",""]
[null,null,null,null,null,null,null,null,null,"",""]
[null,null,null,null,null,null,null,null,null,"",""]
[null,null,null,null,null,null,null,null,null,"",""]
[null,null,null,null,null,null,null,null,null,"",""]
[null,null,null,null,null,null,null,null,null,"",""]
[null,null,null,null,null,null,null,null,null,"",""]
[null,null,null,null,null,null,null,null,null,"",""]
[null,null,null,null,null,null,null,null,null,"",""]
[null,null,null,null,null,null,null,null,null,"",""]
[null,null,null,null,null,null,null,null,null,"",""]
[null,null,null,null,null,null,null,null,null,"",""]
[null,null,null,null,null,null,null,null,null,"",""]
[null,null,null,null,null,null,null,null,null,"",""]
[null,null,null,null,null,null,null,null,null,"",""]
[null,null,null,null,null,null,null,null,null,"",""]
[null,null,null,null,null,null,null,null,null,"",""]
[null,null,null,null,null,null,null,null,null,"",""]
[null,null,null,null,null,null,null,null,null,"",""]
[null,null,null,null,null,null,null,null,null,"",""]
[null,null,null,null,null,null,null,null,null,"",""]
[null,null,null,null,null,null,null,null,null,"",""]
[null,null,null,null,null,null,null,null,null,"",""]
[null,null,null,null,null,null,null,null,null,"",""]
[null,null,null,null,null,null,null,null,null,"",""]
[null,null,null,null,null,null,null,null,null,"",""]
[null,null,null,null,null,null,null,null,null,"",""]
[null,null,null,null,null,null,null,null,null,"",""]
[null,null,null,null,null,null,null,null,null,"",""]
[null,null,null,null,null,null,null,null,null,"",""]
[null,null,null,null,null,null,null,null,null,"",""]
[null,null,null,null,null,null,null,null,null,"",""]
[null,null,null,null,null,null,null,null,null,{"$f":"IF(D707=\"\",\"\",IF(ISERROR(FIND(\"s\",D707)),IF(ISERROR(FIND(\"h \",D707)),LEFT(D707,2)/60,   LEFT(D707,FIND(\"h \",D707)-1 )+LEFT(RIGHT(D707,3),2)/60   ),0))","v":""},{"$f":"IF(E707=\"\",\"\",SUBSTITUTE(E707,\"Accesos: \",\"\")*1)","v":""}]
[null,null,null,null,null,null,null,null,null,"",""]
[null,null,null,null,null,null,null,null,null,"",""]
[null,null,null,null,null,null,null,null,null,"",""]
[null,null,null,null,null,null,null,null,null,"",""]
[null,null,null,null,null,null,null,null,null,"",""]
[null,null,null,null,null,null,null,null,null,"",""]
[null,null,null,null,null,null,null,null,null,"",""]
[null,null,null,null,null,null,null,null,null,"",""]
[null,null,null,null,null,null,null,null,null,"",""]
[null,null,null,null,null,null,null,null,null,"",""]
[null,null,null,null,null,null,null,null,null,"",""]
[null,null,null,null,null,null,null,null,null,"",""]
[null,null,null,null,null,null,null,null,null,"",""]
[null,null,null,null,null,null,null,null,null,"",""]
[null,null,null,null,null,null,null,null,null,"",""]
[null,null,null,null,null,null,null,null,null,"",""]
[null,null,null,null,null,null,null,null,null,"",""]
[null,null,null,null,null,null,null,null,null,"",""]
[null,null,null,null,null,null,null,null,null,"",""]
[null,null,null,null,null,null,null,null,null,"",""]
[null,null,null,null,null,null,null,null,null,"",""]
[null,null,null,null,null,null,null,null,null,"",""]
[null,null,null,null,null,null,null,null,null,"",""]
[null,null,null,null,null,null,null,null,null,"",""]
[null,null,null,null,null,null,null,null,null,"",""]
[null,null,null,null,null,null,null,null,null,"",""]
[null,null,null,null,null,null,null,null,null,"",""]
[null,null,null,null,null,null,null,null,null,"",""]
[null,null,null,null,null,null,null,null,null,"",""]
[null,null,null,null,null,null,null,null,null,"",""]
[null,null,null,null,null,null,null,null,null,"",""]
[null,null,null,null,null,null,null,null,null,"",""]
[null,null,null,null,null,null,null,null,null,"",""]
[null,null,null,null,null,null,null,null,null,"",""]
[null,null,null,null,null,null,null,null,null,"",""]
[null,null,null,null,null,null,null,null,null,"",""]
[null,null,null,null,null,null,null,null,null,"",""]
[null,null,null,null,null,null,null,null,null,"",""]
[null,null,null,null,null,null,null,null,null,"",""]
[null,null,null,null,null,null,null,null,null,"",""]
[null,null,null,null,null,null,null,null,null,"",""]
[null,null,null,null,null,null,null,null,null,"",""]
[null,null,null,null,null,null,null,null,null,"",""]
[null,null,null,null,null,null,null,null,null,"",""]
[null,null,null,null,null,null,null,null,null,"",""]
[null,null,null,null,null,null,null,null,null,"",""]
[null,null,null,null,null,null,null,null,null,"",""]
[null,null,null,null,null,null,null,null,null,"",""]
[null,null,null,null,null,null,null,null,null,"",""]
[null,null,null,null,null,null,null,null,null,"",""]
[null,null,null,null,null,null,null,null,null,"",""]
[null,null,null,null,null,null,null,null,null,"",""]
[null,null,null,null,null,null,null,null,null,"",""]
[null,null,null,null,null,null,null,null,null,"",""]
[null,null,null,null,null,null,null,null,null,"",""]
[null,null,null,null,null,null,null,null,null,"",""]
[null,null,null,null,null,null,null,null,null,"",""]
[null,null,null,null,null,null,null,null,null,"",""]
[null,null,null,null,null,null,null,null,null,"",""]
[null,null,null,null,null,null,null,null,null,"",""]
[null,null,null,null,null,null,null,null,null,"",""]
[null,null,null,null,null,null,null,null,null,"",""]
[null,null,null,null,null,null,null,null,null,"",""]
[null,null,null,null,null,null,null,null,null,{"$f":"IF(D771=\"\",\"\",IF(ISERROR(FIND(\"s\",D771)),IF(ISERROR(FIND(\"h \",D771)),LEFT(D771,2)/60,   LEFT(D771,FIND(\"h \",D771)-1 )+LEFT(RIGHT(D771,3),2)/60   ),0))","v":""},{"$f":"IF(E771=\"\",\"\",SUBSTITUTE(E771,\"Accesos: \",\"\")*1)","v":""}]
[null,null,null,null,null,null,null,null,null,"",""]
[null,null,null,null,null,null,null,null,null,"",""]
[null,null,null,null,null,null,null,null,null,"",""]
[null,null,null,null,null,null,null,null,null,"",""]
[null,null,null,null,null,null,null,null,null,"",""]
[null,null,null,null,null,null,null,null,null,"",""]
[null,null,null,null,null,null,null,null,null,"",""]
[null,null,null,null,null,null,null,null,null,"",""]
[null,null,null,null,null,null,null,null,null,"",""]
[null,null,null,null,null,null,null,null,null,"",""]
[null,null,null,null,null,null,null,null,null,"",""]
[null,null,null,null,null,null,null,null,null,"",""]
[null,null,null,null,null,null,null,null,null,"",""]
[null,null,null,null,null,null,null,null,null,"",""]
[null,null,null,null,null,null,null,null,null,"",""]
[null,null,null,null,null,null,null,null,null,"",""]
[null,null,null,null,null,null,null,null,null,"",""]
[null,null,null,null,null,null,null,null,null,"",""]
[null,null,null,null,null,null,null,null,null,"",""]
[null,null,null,null,null,null,null,null,null,"",""]
[null,null,null,null,null,null,null,null,null,"",""]
[null,null,null,null,null,null,null,null,null,"",""]
[null,null,null,null,null,null,null,null,null,"",""]
[null,null,null,null,null,null,null,null,null,"",""]
[null,null,null,null,null,null,null,null,null,"",""]
[null,null,null,null,null,null,null,null,null,"",""]
[null,null,null,null,null,null,null,null,null,"",""]
[null,null,null,null,null,null,null,null,null,"",""]
[null,null,null,null,null,null,null,null,null,"",""]
[null,null,null,null,null,null,null,null,null,"",""]
[null,null,null,null,null,null,null,null,null,"",""]
[null,null,null,null,null,null,null,null,null,"",""]
[null,null,null,null,null,null,null,null,null,"",""]
[null,null,null,null,null,null,null,null,null,"",""]
[null,null,null,null,null,null,null,null,null,"",""]
[null,null,null,null,null,null,null,null,null,"",""]
[null,null,null,null,null,null,null,null,null,"",""]
[null,null,null,null,null,null,null,null,null,"",""]
[null,null,null,null,null,null,null,null,null,"",""]
[null,null,null,null,null,null,null,null,null,"",""]
[null,null,null,null,null,null,null,null,null,"",""]
[null,null,null,null,null,null,null,null,null,"",""]
[null,null,null,null,null,null,null,null,null,"",""]
[null,null,null,null,null,null,null,null,null,"",""]
[null,null,null,null,null,null,null,null,null,"",""]
[null,null,null,null,null,null,null,null,null,"",""]
[null,null,null,null,null,null,null,null,null,"",""]
[null,null,null,null,null,null,null,null,null,"",""]
[null,null,null,null,null,null,null,null,null,"",""]
[null,null,null,null,null,null,null,null,null,"",""]
[null,null,null,null,null,null,null,null,null,"",""]
[null,null,null,null,null,null,null,null,null,"",""]
[null,null,null,null,null,null,null,null,null,"",""]
[null,null,null,null,null,null,null,null,null,"",""]
[null,null,null,null,null,null,null,null,null,"",""]
[null,null,null,null,null,null,null,null,null,"",""]
[null,null,null,null,null,null,null,null,null,"",""]
[null,null,null,null,null,null,null,null,null,"",""]
[null,null,null,null,null,null,null,null,null,"",""]
[null,null,null,null,null,null,null,null,null,"",""]
[null,null,null,null,null,null,null,null,null,"",""]
[null,null,null,null,null,null,null,null,null,"",""]
[null,null,null,null,null,null,null,null,null,"",""]
[null,null,null,null,null,null,null,null,null,{"$f":"IF(D835=\"\",\"\",IF(ISERROR(FIND(\"s\",D835)),IF(ISERROR(FIND(\"h \",D835)),LEFT(D835,2)/60,   LEFT(D835,FIND(\"h \",D835)-1 )+LEFT(RIGHT(D835,3),2)/60   ),0))","v":""},{"$f":"IF(E835=\"\",\"\",SUBSTITUTE(E835,\"Accesos: \",\"\")*1)","v":""}]
[null,null,null,null,null,null,null,null,null,"",""]
[null,null,null,null,null,null,null,null,null,"",""]
[null,null,null,null,null,null,null,null,null,"",""]
[null,null,null,null,null,null,null,null,null,"",""]
[null,null,null,null,null,null,null,null,null,"",""]
[null,null,null,null,null,null,null,null,null,"",""]
[null,null,null,null,null,null,null,null,null,"",""]
[null,null,null,null,null,null,null,null,null,"",""]
[null,null,null,null,null,null,null,null,null,"",""]
[null,null,null,null,null,null,null,null,null,"",""]
[null,null,null,null,null,null,null,null,null,"",""]
[null,null,null,null,null,null,null,null,null,"",""]
[null,null,null,null,null,null,null,null,null,"",""]
[null,null,null,null,null,null,null,null,null,"",""]
[null,null,null,null,null,null,null,null,null,"",""]
[null,null,null,null,null,null,null,null,null,"",""]
[null,null,null,null,null,null,null,null,null,"",""]
[null,null,null,null,null,null,null,null,null,"",""]
[null,null,null,null,null,null,null,null,null,"",""]
[null,null,null,null,null,null,null,null,null,"",""]
[null,null,null,null,null,null,null,null,null,"",""]
[null,null,null,null,null,null,null,null,null,"",""]
[null,null,null,null,null,null,null,null,null,"",""]
[null,null,null,null,null,null,null,null,null,"",""]
[null,null,null,null,null,null,null,null,null,"",""]
[null,null,null,null,null,null,null,null,null,"",""]
[null,null,null,null,null,null,null,null,null,"",""]
[null,null,null,null,null,null,null,null,null,"",""]
[null,null,null,null,null,null,null,null,null,"",""]
[null,null,null,null,null,null,null,null,null,"",""]
[null,null,null,null,null,null,null,null,null,"",""]
[null,null,null,null,null,null,null,null,null,"",""]
[null,null,null,null,null,null,null,null,null,"",""]
[null,null,null,null,null,null,null,null,null,"",""]
[null,null,null,null,null,null,null,null,null,"",""]
[null,null,null,null,null,null,null,null,null,"",""]
[null,null,null,null,null,null,null,null,null,"",""]
[null,null,null,null,null,null,null,null,null,"",""]
[null,null,null,null,null,null,null,null,null,"",""]
[null,null,null,null,null,null,null,null,null,"",""]
[null,null,null,null,null,null,null,null,null,"",""]
[null,null,null,null,null,null,null,null,null,"",""]
[null,null,null,null,null,null,null,null,null,"",""]
[null,null,null,null,null,null,null,null,null,"",""]
[null,null,null,null,null,null,null,null,null,"",""]
[null,null,null,null,null,null,null,null,null,"",""]
[null,null,null,null,null,null,null,null,null,"",""]
[null,null,null,null,null,null,null,null,null,"",""]
[null,null,null,null,null,null,null,null,null,"",""]
[null,null,null,null,null,null,null,null,null,"",""]
[null,null,null,null,null,null,null,null,null,"",""]
[null,null,null,null,null,null,null,null,null,"",""]
[null,null,null,null,null,null,null,null,null,"",""]
[null,null,null,null,null,null,null,null,null,"",""]
[null,null,null,null,null,null,null,null,null,"",""]
[null,null,null,null,null,null,null,null,null,"",""]
[null,null,null,null,null,null,null,null,null,"",""]
[null,null,null,null,null,null,null,null,null,"",""]
[null,null,null,null,null,null,null,null,null,"",""]
[null,null,null,null,null,null,null,null,null,"",""]
[null,null,null,null,null,null,null,null,null,"",""]
[null,null,null,null,null,null,null,null,null,"",""]
[null,null,null,null,null,null,null,null,null,"",""]
[null,null,null,null,null,null,null,null,null,{"$f":"IF(D899=\"\",\"\",IF(ISERROR(FIND(\"s\",D899)),IF(ISERROR(FIND(\"h \",D899)),LEFT(D899,2)/60,   LEFT(D899,FIND(\"h \",D899)-1 )+LEFT(RIGHT(D899,3),2)/60   ),0))","v":""},{"$f":"IF(E899=\"\",\"\",SUBSTITUTE(E899,\"Accesos: \",\"\")*1)","v":""}]
[null,null,null,null,null,null,null,null,null,"",""]
[null,null,null,null,null,null,null,null,null,"",""]
[null,null,null,null,null,null,null,null,null,"",""]
[null,null,null,null,null,null,null,null,null,"",""]
[null,null,null,null,null,null,null,null,null,"",""]
[null,null,null,null,null,null,null,null,null,"",""]
[null,null,null,null,null,null,null,null,null,"",""]
[null,null,null,null,null,null,null,null,null,"",""]
[null,null,null,null,null,null,null,null,null,"",""]
[null,null,null,null,null,null,null,null,null,"",""]
[null,null,null,null,null,null,null,null,null,"",""]
[null,null,null,null,null,null,null,null,null,"",""]
[null,null,null,null,null,null,null,null,null,"",""]
[null,null,null,null,null,null,null,null,null,"",""]
[null,null,null,null,null,null,null,null,null,"",""]
[null,null,null,null,null,null,null,null,null,"",""]
[null,null,null,null,null,null,null,null,null,"",""]
[null,null,null,null,null,null,null,null,null,"",""]
[null,null,null,null,null,null,null,null,null,"",""]
[null,null,null,null,null,null,null,null,null,"",""]
[null,null,null,null,null,null,null,null,null,"",""]
[null,null,null,null,null,null,null,null,null,"",""]
[null,null,null,null,null,null,null,null,null,"",""]
[null,null,null,null,null,null,null,null,null,"",""]
[null,null,null,null,null,null,null,null,null,"",""]
[null,null,null,null,null,null,null,null,null,"",""]
[null,null,null,null,null,null,null,null,null,"",""]
[null,null,null,null,null,null,null,null,null,"",""]
[null,null,null,null,null,null,null,null,null,"",""]
[null,null,null,null,null,null,null,null,null,"",""]
[null,null,null,null,null,null,null,null,null,"",""]
[null,null,null,null,null,null,null,null,null,"",""]
[null,null,null,null,null,null,null,null,null,"",""]
[null,null,null,null,null,null,null,null,null,"",""]
[null,null,null,null,null,null,null,null,null,"",""]
[null,null,null,null,null,null,null,null,null,"",""]
[null,null,null,null,null,null,null,null,null,"",""]
[null,null,null,null,null,null,null,null,null,"",""]
[null,null,null,null,null,null,null,null,null,"",""]
[null,null,null,null,null,null,null,null,null,"",""]
[null,null,null,null,null,null,null,null,null,"",""]
[null,null,null,null,null,null,null,null,null,"",""]
[null,null,null,null,null,null,null,null,null,"",""]
[null,null,null,null,null,null,null,null,null,"",""]
[null,null,null,null,null,null,null,null,null,"",""]
[null,null,null,null,null,null,null,null,null,"",""]
[null,null,null,null,null,null,null,null,null,"",""]
[null,null,null,null,null,null,null,null,null,"",""]
[null,null,null,null,null,null,null,null,null,"",""]
[null,null,null,null,null,null,null,null,null,"",""]
[null,null,null,null,null,null,null,null,null,"",""]
[null,null,null,null,null,null,null,null,null,"",""]
[null,null,null,null,null,null,null,null,null,"",""]
[null,null,null,null,null,null,null,null,null,"",""]
[null,null,null,null,null,null,null,null,null,"",""]
[null,null,null,null,null,null,null,null,null,"",""]
[null,null,null,null,null,null,null,null,null,"",""]
[null,null,null,null,null,null,null,null,null,"",""]
[null,null,null,null,null,null,null,null,null,"",""]
[null,null,null,null,null,null,null,null,null,"",""]
[null,null,null,null,null,null,null,null,null,"",""]
[null,null,null,null,null,null,null,null,null,"",""]
[null,null,null,null,null,null,null,null,null,"",""]
[null,null,null,null,null,null,null,null,null,{"$f":"IF(D963=\"\",\"\",IF(ISERROR(FIND(\"s\",D963)),IF(ISERROR(FIND(\"h \",D963)),LEFT(D963,2)/60,   LEFT(D963,FIND(\"h \",D963)-1 )+LEFT(RIGHT(D963,3),2)/60   ),0))","v":""},{"$f":"IF(E963=\"\",\"\",SUBSTITUTE(E963,\"Accesos: \",\"\")*1)","v":""}]
[null,null,null,null,null,null,null,null,null,"",""]
[null,null,null,null,null,null,null,null,null,"",""]
[null,null,null,null,null,null,null,null,null,"",""]
[null,null,null,null,null,null,null,null,null,"",""]
[null,null,null,null,null,null,null,null,null,"",""]
[null,null,null,null,null,null,null,null,null,"",""]
[null,null,null,null,null,null,null,null,null,"",""]
[null,null,null,null,null,null,null,null,null,"",""]
[null,null,null,null,null,null,null,null,null,"",""]
[null,null,null,null,null,null,null,null,null,"",""]
[null,null,null,null,null,null,null,null,null,"",""]
[null,null,null,null,null,null,null,null,null,"",""]
[null,null,null,null,null,null,null,null,null,"",""]
[null,null,null,null,null,null,null,null,null,"",""]
[null,null,null,null,null,null,null,null,null,"",""]
[null,null,null,null,null,null,null,null,null,"",""]
[null,null,null,null,null,null,null,null,null,"",""]
[null,null,null,null,null,null,null,null,null,"",""]
[null,null,null,null,null,null,null,null,null,"",""]
[null,null,null,null,null,null,null,null,null,"",""]
[null,null,null,null,null,null,null,null,null,"",""]
[null,null,null,null,null,null,null,null,null,"",""]
[null,null,null,null,null,null,null,null,null,"",""]
[null,null,null,null,null,null,null,null,null,"",""]
[null,null,null,null,null,null,null,null,null,"",""]
[null,null,null,null,null,null,null,null,null,"",""]
[null,null,null,null,null,null,null,null,null,"",""]
[null,null,null,null,null,null,null,null,null,"",""]
[null,null,null,null,null,null,null,null,null,"",""]
[null,null,null,null,null,null,null,null,null,"",""]
[null,null,null,null,null,null,null,null,null,"",""]
[null,null,null,null,null,null,null,null,null,"",""]
[null,null,null,null,null,null,null,null,null,"",""]
[null,null,null,null,null,null,null,null,null,"",""]
[null,null,null,null,null,null,null,null,null,"",""]
[null,null,null,null,null,null,null,null,null,"",""]
[null,null,null,null,null,null,null,null,null,"",""]
[null,null,null,null,null,null,null,null,null,"",""]
[null,null,null,null,null,null,null,null,null,"",""]
[null,null,null,null,null,null,null,null,null,"",""]
[null,null,null,null,null,null,null,null,null,"",""]
[null,null,null,null,null,null,null,null,null,"",""]
[null,null,null,null,null,null,null,null,null,"",""]
[null,null,null,null,null,null,null,null,null,"",""]
[null,null,null,null,null,null,null,null,null,"",""]
[null,null,null,null,null,null,null,null,null,"",""]
[null,null,null,null,null,null,null,null,null,"",""]
[null,null,null,null,null,null,null,null,null,"",""]
[null,null,null,null,null,null,null,null,null,"",""]
[null,null,null,null,null,null,null,null,null,"",""]
[null,null,null,null,null,null,null,null,null,"",""]
[null,null,null,null,null,null,null,null,null,"",""]
[null,null,null,null,null,null,null,null,null,"",""]
[null,null,null,null,null,null,null,null,null,"",""]
[null,null,null,null,null,null,null,null,null,"",""]
[null,null,null,null,null,null,null,null,null,"",""]
[null,null,null,null,null,null,null,null,null,"",""]
[null,null,null,null,null,null,null,null,null,"",""]
[null,null,null,null,null,null,null,null,null,"",""]
[null,null,null,null,null,null,null,null,null,"",""]
[null,null,null,null,null,null,null,null,null,"",""]
[null,null,null,null,null,null,null,null,null,"",""]
[null,null,null,null,null,null,null,null,null,"",""]
[null,null,null,null,null,null,null,null,null,{"$f":"IF(D1027=\"\",\"\",IF(ISERROR(FIND(\"s\",D1027)),IF(ISERROR(FIND(\"h \",D1027)),LEFT(D1027,2)/60,   LEFT(D1027,FIND(\"h \",D1027)-1 )+LEFT(RIGHT(D1027,3),2)/60   ),0))","v":""},{"$f":"IF(E1027=\"\",\"\",SUBSTITUTE(E1027,\"Accesos: \",\"\")*1)","v":""}]
[null,null,null,null,null,null,null,null,null,"",""]
[null,null,null,null,null,null,null,null,null,"",""]
[null,null,null,null,null,null,null,null,null,"",""]
[null,null,null,null,null,null,null,null,null,"",""]
[null,null,null,null,null,null,null,null,null,"",""]
[null,null,null,null,null,null,null,null,null,"",""]
[null,null,null,null,null,null,null,null,null,"",""]
[null,null,null,null,null,null,null,null,null,"",""]
[null,null,null,null,null,null,null,null,null,"",""]
[null,null,null,null,null,null,null,null,null,"",""]
[null,null,null,null,null,null,null,null,null,"",""]
[null,null,null,null,null,null,null,null,null,"",""]
[null,null,null,null,null,null,null,null,null,"",""]
[null,null,null,null,null,null,null,null,null,"",""]
[null,null,null,null,null,null,null,null,null,"",""]
[null,null,null,null,null,null,null,null,null,"",""]
[null,null,null,null,null,null,null,null,null,"",""]
[null,null,null,null,null,null,null,null,null,"",""]
[null,null,null,null,null,null,null,null,null,"",""]
[null,null,null,null,null,null,null,null,null,"",""]
[null,null,null,null,null,null,null,null,null,"",""]
[null,null,null,null,null,null,null,null,null,"",""]
[null,null,null,null,null,null,null,null,null,"",""]
[null,null,null,null,null,null,null,null,null,"",""]
[null,null,null,null,null,null,null,null,null,"",""]
[null,null,null,null,null,null,null,null,null,"",""]
[null,null,null,null,null,null,null,null,null,"",""]
[null,null,null,null,null,null,null,null,null,"",""]
[null,null,null,null,null,null,null,null,null,"",""]
[null,null,null,null,null,null,null,null,null,"",""]
[null,null,null,null,null,null,null,null,null,"",""]
[null,null,null,null,null,null,null,null,null,"",""]
[null,null,null,null,null,null,null,null,null,"",""]
[null,null,null,null,null,null,null,null,null,"",""]
[null,null,null,null,null,null,null,null,null,"",""]
[null,null,null,null,null,null,null,null,null,"",""]
[null,null,null,null,null,null,null,null,null,"",""]
[null,null,null,null,null,null,null,null,null,"",""]
[null,null,null,null,null,null,null,null,null,"",""]
[null,null,null,null,null,null,null,null,null,"",""]
[null,null,null,null,null,null,null,null,null,"",""]
[null,null,null,null,null,null,null,null,null,"",""]
[null,null,null,null,null,null,null,null,null,"",""]
[null,null,null,null,null,null,null,null,null,"",""]
[null,null,null,null,null,null,null,null,null,"",""]
[null,null,null,null,null,null,null,null,null,"",""]
[null,null,null,null,null,null,null,null,null,"",""]
[null,null,null,null,null,null,null,null,null,"",""]
[null,null,null,null,null,null,null,null,null,"",""]
[null,null,null,null,null,null,null,null,null,"",""]
[null,null,null,null,null,null,null,null,null,"",""]
[null,null,null,null,null,null,null,null,null,"",""]
[null,null,null,null,null,null,null,null,null,"",""]
[null,null,null,null,null,null,null,null,null,"",""]
[null,null,null,null,null,null,null,null,null,"",""]
[null,null,null,null,null,null,null,null,null,"",""]
[null,null,null,null,null,null,null,null,null,"",""]
[null,null,null,null,null,null,null,null,null,"",""]
[null,null,null,null,null,null,null,null,null,"",""]
[null,null,null,null,null,null,null,null,null,"",""]
[null,null,null,null,null,null,null,null,null,"",""]
[null,null,null,null,null,null,null,null,null,"",""]
[null,null,null,null,null,null,null,null,null,"",""]
[null,null,null,null,null,null,null,null,null,{"$f":"IF(D1091=\"\",\"\",IF(ISERROR(FIND(\"s\",D1091)),IF(ISERROR(FIND(\"h \",D1091)),LEFT(D1091,2)/60,   LEFT(D1091,FIND(\"h \",D1091)-1 )+LEFT(RIGHT(D1091,3),2)/60   ),0))","v":""},{"$f":"IF(E1091=\"\",\"\",SUBSTITUTE(E1091,\"Accesos: \",\"\")*1)","v":""}]
[null,null,null,null,null,null,null,null,null,"",""]
[null,null,null,null,null,null,null,null,null,"",""]
[null,null,null,null,null,null,null,null,null,"",""]
[null,null,null,null,null,null,null,null,null,"",""]
[null,null,null,null,null,null,null,null,null,"",""]
[null,null,null,null,null,null,null,null,null,"",""]
[null,null,null,null,null,null,null,null,null,"",""]
[null,null,null,null,null,null,null,null,null,"",""]
[null,null,null,null,null,null,null,null,null,"",""]
[null,null,null,null,null,null,null,null,null,"",""]
[null,null,null,null,null,null,null,null,null,"",""]
[null,null,null,null,null,null,null,null,null,"",""]
[null,null,null,null,null,null,null,null,null,"",""]
[null,null,null,null,null,null,null,null,null,"",""]
[null,null,null,null,null,null,null,null,null,"",""]
[null,null,null,null,null,null,null,null,null,"",""]
[null,null,null,null,null,null,null,null,null,"",""]
[null,null,null,null,null,null,null,null,null,"",""]
[null,null,null,null,null,null,null,null,null,"",""]
[null,null,null,null,null,null,null,null,null,"",""]
[null,null,null,null,null,null,null,null,null,"",""]
[null,null,null,null,null,null,null,null,null,"",""]
[null,null,null,null,null,null,null,null,null,"",""]
[null,null,null,null,null,null,null,null,null,"",""]
[null,null,null,null,null,null,null,null,null,"",""]
[null,null,null,null,null,null,null,null,null,"",""]
[null,null,null,null,null,null,null,null,null,"",""]
[null,null,null,null,null,null,null,null,null,"",""]
[null,null,null,null,null,null,null,null,null,"",""]
[null,null,null,null,null,null,null,null,null,"",""]
[null,null,null,null,null,null,null,null,null,"",""]
[null,null,null,null,null,null,null,null,null,"",""]
[null,null,null,null,null,null,null,null,null,"",""]
[null,null,null,null,null,null,null,null,null,"",""]
[null,null,null,null,null,null,null,null,null,"",""]
[null,null,null,null,null,null,null,null,null,"",""]
[null,null,null,null,null,null,null,null,null,"",""]
[null,null,null,null,null,null,null,null,null,"",""]
[null,null,null,null,null,null,null,null,null,"",""]
[null,null,null,null,null,null,null,null,null,"",""]
[null,null,null,null,null,null,null,null,null,"",""]
[null,null,null,null,null,null,null,null,null,"",""]
[null,null,null,null,null,null,null,null,null,"",""]
[null,null,null,null,null,null,null,null,null,"",""]
[null,null,null,null,null,null,null,null,null,"",""]
[null,null,null,null,null,null,null,null,null,"",""]
[null,null,null,null,null,null,null,null,null,"",""]
[null,null,null,null,null,null,null,null,null,"",""]
[null,null,null,null,null,null,null,null,null,"",""]
[null,null,null,null,null,null,null,null,null,"",""]
[null,null,null,null,null,null,null,null,null,"",""]
[null,null,null,null,null,null,null,null,null,"",""]
[null,null,null,null,null,null,null,null,null,"",""]
[null,null,null,null,null,null,null,null,null,"",""]
[null,null,null,null,null,null,null,null,null,"",""]
[null,null,null,null,null,null,null,null,null,"",""]
[null,null,null,null,null,null,null,null,null,"",""]
[null,null,null,null,null,null,null,null,null,"",""]
[null,null,null,null,null,null,null,null,null,"",""]
[null,null,null,null,null,null,null,null,null,"",""]
[null,null,null,null,null,null,null,null,null,"",""]
[null,null,null,null,null,null,null,null,null,"",""]
[null,null,null,null,null,null,null,null,null,"",""]
[null,null,null,null,null,null,null,null,null,{"$f":"IF(D1155=\"\",\"\",IF(ISERROR(FIND(\"s\",D1155)),IF(ISERROR(FIND(\"h \",D1155)),LEFT(D1155,2)/60,   LEFT(D1155,FIND(\"h \",D1155)-1 )+LEFT(RIGHT(D1155,3),2)/60   ),0))","v":""},{"$f":"IF(E1155=\"\",\"\",SUBSTITUTE(E1155,\"Accesos: \",\"\")*1)","v":""}]
[null,null,null,null,null,null,null,null,null,"",""]
[null,null,null,null,null,null,null,null,null,"",""]
[null,null,null,null,null,null,null,null,null,"",""]
[null,null,null,null,null,null,null,null,null,"",""]
[null,null,null,null,null,null,null,null,null,"",""]
[null,null,null,null,null,null,null,null,null,"",""]
[null,null,null,null,null,null,null,null,null,"",""]
[null,null,null,null,null,null,null,null,null,"",""]
[null,null,null,null,null,null,null,null,null,"",""]
[null,null,null,null,null,null,null,null,null,"",""]
[null,null,null,null,null,null,null,null,null,"",""]
[null,null,null,null,null,null,null,null,null,"",""]
[null,null,null,null,null,null,null,null,null,"",""]
[null,null,null,null,null,null,null,null,null,"",""]
[null,null,null,null,null,null,null,null,null,"",""]
[null,null,null,null,null,null,null,null,null,"",""]
[null,null,null,null,null,null,null,null,null,"",""]
[null,null,null,null,null,null,null,null,null,"",""]
[null,null,null,null,null,null,null,null,null,"",""]
[null,null,null,null,null,null,null,null,null,"",""]
[null,null,null,null,null,null,null,null,null,"",""]
[null,null,null,null,null,null,null,null,null,"",""]
[null,null,null,null,null,null,null,null,null,"",""]
[null,null,null,null,null,null,null,null,null,"",""]
[null,null,null,null,null,null,null,null,null,"",""]
[null,null,null,null,null,null,null,null,null,"",""]
[null,null,null,null,null,null,null,null,null,"",""]
[null,null,null,null,null,null,null,null,null,"",""]
[null,null,null,null,null,null,null,null,null,"",""]
[null,null,null,null,null,null,null,null,null,"",""]
[null,null,null,null,null,null,null,null,null,"",""]
[null,null,null,null,null,null,null,null,null,"",""]
[null,null,null,null,null,null,null,null,null,"",""]
[null,null,null,null,null,null,null,null,null,"",""]
[null,null,null,null,null,null,null,null,null,"",""]
[null,null,null,null,null,null,null,null,null,"",""]
[null,null,null,null,null,null,null,null,null,"",""]
[null,null,null,null,null,null,null,null,null,"",""]
[null,null,null,null,null,null,null,null,null,"",""]
[null,null,null,null,null,null,null,null,null,"",""]
[null,null,null,null,null,null,null,null,null,"",""]
[null,null,null,null,null,null,null,null,null,"",""]
[null,null,null,null,null,null,null,null,null,"",""]
[null,null,null,null,null,null,null,null,null,"",""]
[null,null,null,null,null,null,null,null,null,"",""]
[null,null,null,null,null,null,null,null,null,"",""]
[null,null,null,null,null,null,null,null,null,"",""]
[null,null,null,null,null,null,null,null,null,"",""]
[null,null,null,null,null,null,null,null,null,"",""]
[null,null,null,null,null,null,null,null,null,"",""]
[null,null,null,null,null,null,null,null,null,"",""]
[null,null,null,null,null,null,null,null,null,"",""]
[null,null,null,null,null,null,null,null,null,"",""]
[null,null,null,null,null,null,null,null,null,"",""]
[null,null,null,null,null,null,null,null,null,"",""]
[null,null,null,null,null,null,null,null,null,"",""]
[null,null,null,null,null,null,null,null,null,"",""]
[null,null,null,null,null,null,null,null,null,"",""]
[null,null,null,null,null,null,null,null,null,"",""]
[null,null,null,null,null,null,null,null,null,"",""]
[null,null,null,null,null,null,null,null,null,"",""]
[null,null,null,null,null,null,null,null,null,"",""]
[null,null,null,null,null,null,null,null,null,"",""]
[null,null,null,null,null,null,null,null,null,{"$f":"IF(D1219=\"\",\"\",IF(ISERROR(FIND(\"s\",D1219)),IF(ISERROR(FIND(\"h \",D1219)),LEFT(D1219,2)/60,   LEFT(D1219,FIND(\"h \",D1219)-1 )+LEFT(RIGHT(D1219,3),2)/60   ),0))","v":""},{"$f":"IF(E1219=\"\",\"\",SUBSTITUTE(E1219,\"Accesos: \",\"\")*1)","v":""}]
[null,null,null,null,null,null,null,null,null,"",""]
[null,null,null,null,null,null,null,null,null,"",""]
[null,null,null,null,null,null,null,null,null,"",""]
[null,null,null,null,null,null,null,null,null,"",""]
[null,null,null,null,null,null,null,null,null,"",""]
[null,null,null,null,null,null,null,null,null,"",""]
[null,null,null,null,null,null,null,null,null,"",""]
[null,null,null,null,null,null,null,null,null,"",""]
[null,null,null,null,null,null,null,null,null,"",""]
[null,null,null,null,null,null,null,null,null,"",""]
[null,null,null,null,null,null,null,null,null,"",""]
[null,null,null,null,null,null,null,null,null,"",""]
[null,null,null,null,null,null,null,null,null,"",""]
[null,null,null,null,null,null,null,null,null,"",""]
[null,null,null,null,null,null,null,null,null,"",""]
[null,null,null,null,null,null,null,null,null,"",""]
[null,null,null,null,null,null,null,null,null,"",""]
[null,null,null,null,null,null,null,null,null,"",""]
[null,null,null,null,null,null,null,null,null,"",""]
[null,null,null,null,null,null,null,null,null,"",""]
[null,null,null,null,null,null,null,null,null,"",""]
[null,null,null,null,null,null,null,null,null,"",""]
[null,null,null,null,null,null,null,null,null,"",""]
[null,null,null,null,null,null,null,null,null,"",""]
[null,null,null,null,null,null,null,null,null,"",""]
[null,null,null,null,null,null,null,null,null,"",""]
[null,null,null,null,null,null,null,null,null,"",""]
[null,null,null,null,null,null,null,null,null,"",""]
[null,null,null,null,null,null,null,null,null,"",""]
[null,null,null,null,null,null,null,null,null,"",""]
[null,null,null,null,null,null,null,null,null,"",""]
[null,null,null,null,null,null,null,null,null,"",""]
[null,null,null,null,null,null,null,null,null,"",""]
[null,null,null,null,null,null,null,null,null,"",""]
[null,null,null,null,null,null,null,null,null,"",""]
[null,null,null,null,null,null,null,null,null,"",""]
[null,null,null,null,null,null,null,null,null,"",""]
[null,null,null,null,null,null,null,null,null,"",""]
[null,null,null,null,null,null,null,null,null,"",""]
[null,null,null,null,null,null,null,null,null,"",""]
[null,null,null,null,null,null,null,null,null,"",""]
[null,null,null,null,null,null,null,null,null,"",""]
[null,null,null,null,null,null,null,null,null,"",""]
[null,null,null,null,null,null,null,null,null,"",""]
[null,null,null,null,null,null,null,null,null,"",""]
[null,null,null,null,null,null,null,null,null,"",""]
[null,null,null,null,null,null,null,null,null,"",""]
[null,null,null,null,null,null,null,null,null,"",""]
[null,null,null,null,null,null,null,null,null,"",""]
[null,null,null,null,null,null,null,null,null,"",""]
[null,null,null,null,null,null,null,null,null,"",""]
[null,null,null,null,null,null,null,null,null,"",""]
[null,null,null,null,null,null,null,null,null,"",""]
[null,null,null,null,null,null,null,null,null,"",""]
[null,null,null,null,null,null,null,null,null,"",""]
[null,null,null,null,null,null,null,null,null,"",""]
[null,null,null,null,null,null,null,null,null,"",""]
[null,null,null,null,null,null,null,null,null,"",""]
[null,null,null,null,null,null,null,null,null,"",""]
[null,null,null,null,null,null,null,null,null,"",""]
[null,null,null,null,null,null,null,null,null,"",""]
[null,null,null,null,null,null,null,null,null,"",""]
[null,null,null,null,null,null,null,null,null,"",""]
[null,null,null,null,null,null,null,null,null,{"$f":"IF(D1283=\"\",\"\",IF(ISERROR(FIND(\"s\",D1283)),IF(ISERROR(FIND(\"h \",D1283)),LEFT(D1283,2)/60,   LEFT(D1283,FIND(\"h \",D1283)-1 )+LEFT(RIGHT(D1283,3),2)/60   ),0))","v":""},{"$f":"IF(E1283=\"\",\"\",SUBSTITUTE(E1283,\"Accesos: \",\"\")*1)","v":""}]
[null,null,null,null,null,null,null,null,null,"",""]
[null,null,null,null,null,null,null,null,null,"",""]
[null,null,null,null,null,null,null,null,null,"",""]
[null,null,null,null,null,null,null,null,null,"",""]
[null,null,null,null,null,null,null,null,null,"",""]
[null,null,null,null,null,null,null,null,null,"",""]
[null,null,null,null,null,null,null,null,null,"",""]
[null,null,null,null,null,null,null,null,null,"",""]
[null,null,null,null,null,null,null,null,null,"",""]
[null,null,null,null,null,null,null,null,null,"",""]
[null,null,null,null,null,null,null,null,null,"",""]
[null,null,null,null,null,null,null,null,null,"",""]
[null,null,null,null,null,null,null,null,null,"",""]
[null,null,null,null,null,null,null,null,null,"",""]
[null,null,null,null,null,null,null,null,null,"",""]
[null,null,null,null,null,null,null,null,null,"",""]
[null,null,null,null,null,null,null,null,null,"",""]
[null,null,null,null,null,null,null,null,null,"",""]
[null,null,null,null,null,null,null,null,null,"",""]
[null,null,null,null,null,null,null,null,null,"",""]
[null,null,null,null,null,null,null,null,null,"",""]
[null,null,null,null,null,null,null,null,null,"",""]
[null,null,null,null,null,null,null,null,null,"",""]
[null,null,null,null,null,null,null,null,null,"",""]
[null,null,null,null,null,null,null,null,null,"",""]
[null,null,null,null,null,null,null,null,null,"",""]
[null,null,null,null,null,null,null,null,null,"",""]
[null,null,null,null,null,null,null,null,null,"",""]
[null,null,null,null,null,null,null,null,null,"",""]
[null,null,null,null,null,null,null,null,null,"",""]
[null,null,null,null,null,null,null,null,null,"",""]
[null,null,null,null,null,null,null,null,null,"",""]
[null,null,null,null,null,null,null,null,null,"",""]
[null,null,null,null,null,null,null,null,null,"",""]
[null,null,null,null,null,null,null,null,null,"",""]
[null,null,null,null,null,null,null,null,null,"",""]
[null,null,null,null,null,null,null,null,null,"",""]
[null,null,null,null,null,null,null,null,null,"",""]
[null,null,null,null,null,null,null,null,null,"",""]
[null,null,null,null,null,null,null,null,null,"",""]
[null,null,null,null,null,null,null,null,null,"",""]
[null,null,null,null,null,null,null,null,null,"",""]
[null,null,null,null,null,null,null,null,null,"",""]
[null,null,null,null,null,null,null,null,null,"",""]
[null,null,null,null,null,null,null,null,null,"",""]
[null,null,null,null,null,null,null,null,null,"",""]
[null,null,null,null,null,null,null,null,null,"",""]
[null,null,null,null,null,null,null,null,null,"",""]
[null,null,null,null,null,null,null,null,null,"",""]
[null,null,null,null,null,null,null,null,null,"",""]
[null,null,null,null,null,null,null,null,null,"",""]
[null,null,null,null,null,null,null,null,null,"",""]
[null,null,null,null,null,null,null,null,null,"",""]
[null,null,null,null,null,null,null,null,null,"",""]
[null,null,null,null,null,null,null,null,null,"",""]
[null,null,null,null,null,null,null,null,null,"",""]
[null,null,null,null,null,null,null,null,null,"",""]
[null,null,null,null,null,null,null,null,null,"",""]
[null,null,null,null,null,null,null,null,null,"",""]
[null,null,null,null,null,null,null,null,null,"",""]
[null,null,null,null,null,null,null,null,null,"",""]
[null,null,null,null,null,null,null,null,null,"",""]
[null,null,null,null,null,null,null,null,null,"",""]
[null,null,null,null,null,null,null,null,null,{"$f":"IF(D1347=\"\",\"\",IF(ISERROR(FIND(\"s\",D1347)),IF(ISERROR(FIND(\"h \",D1347)),LEFT(D1347,2)/60,   LEFT(D1347,FIND(\"h \",D1347)-1 )+LEFT(RIGHT(D1347,3),2)/60   ),0))","v":""},{"$f":"IF(E1347=\"\",\"\",SUBSTITUTE(E1347,\"Accesos: \",\"\")*1)","v":""}]
[null,null,null,null,null,null,null,null,null,"",""]
[null,null,null,null,null,null,null,null,null,"",""]
[null,null,null,null,null,null,null,null,null,"",""]
[null,null,null,null,null,null,null,null,null,"",""]
[null,null,null,null,null,null,null,null,null,"",""]
[null,null,null,null,null,null,null,null,null,"",""]
[null,null,null,null,null,null,null,null,null,"",""]
[null,null,null,null,null,null,null,null,null,"",""]
[null,null,null,null,null,null,null,null,null,"",""]
[null,null,null,null,null,null,null,null,null,"",""]
[null,null,null,null,null,null,null,null,null,"",""]
[null,null,null,null,null,null,null,null,null,"",""]
[null,null,null,null,null,null,null,null,null,"",""]
[null,null,null,null,null,null,null,null,null,"",""]
[null,null,null,null,null,null,null,null,null,"",""]
[null,null,null,null,null,null,null,null,null,"",""]
[null,null,null,null,null,null,null,null,null,"",""]
[null,null,null,null,null,null,null,null,null,"",""]
[null,null,null,null,null,null,null,null,null,"",""]
[null,null,null,null,null,null,null,null,null,"",""]
[null,null,null,null,null,null,null,null,null,"",""]
[null,null,null,null,null,null,null,null,null,"",""]
[null,null,null,null,null,null,null,null,null,"",""]
[null,null,null,null,null,null,null,null,null,"",""]
[null,null,null,null,null,null,null,null,null,"",""]
[null,null,null,null,null,null,null,null,null,"",""]
[null,null,null,null,null,null,null,null,null,"",""]
[null,null,null,null,null,null,null,null,null,"",""]
[null,null,null,null,null,null,null,null,null,"",""]
[null,null,null,null,null,null,null,null,null,"",""]
[null,null,null,null,null,null,null,null,null,"",""]
[null,null,null,null,null,null,null,null,null,"",""]
[null,null,null,null,null,null,null,null,null,"",""]
[null,null,null,null,null,null,null,null,null,"",""]
[null,null,null,null,null,null,null,null,null,"",""]
[null,null,null,null,null,null,null,null,null,"",""]
[null,null,null,null,null,null,null,null,null,"",""]
[null,null,null,null,null,null,null,null,null,"",""]
[null,null,null,null,null,null,null,null,null,"",""]
[null,null,null,null,null,null,null,null,null,"",""]
[null,null,null,null,null,null,null,null,null,"",""]
[null,null,null,null,null,null,null,null,null,"",""]
[null,null,null,null,null,null,null,null,null,"",""]
[null,null,null,null,null,null,null,null,null,"",""]
[null,null,null,null,null,null,null,null,null,"",""]
[null,null,null,null,null,null,null,null,null,"",""]
[null,null,null,null,null,null,null,null,null,"",""]
[null,null,null,null,null,null,null,null,null,"",""]
[null,null,null,null,null,null,null,null,null,"",""]
[null,null,null,null,null,null,null,null,null,"",""]
[null,null,null,null,null,null,null,null,null,"",""]
[null,null,null,null,null,null,null,null,null,"",""]
[null,null,null,null,null,null,null,null,null,"",""]
[null,null,null,null,null,null,null,null,null,"",""]
[null,null,null,null,null,null,null,null,null,"",""]
[null,null,null,null,null,null,null,null,null,"",""]
[null,null,null,null,null,null,null,null,null,"",""]
[null,null,null,null,null,null,null,null,null,"",""]
[null,null,null,null,null,null,null,null,null,"",""]
[null,null,null,null,null,null,null,null,null,"",""]
[null,null,null,null,null,null,null,null,null,"",""]
[null,null,null,null,null,null,null,null,null,"",""]
[null,null,null,null,null,null,null,null,null,"",""]
[null,null,null,null,null,null,null,null,null,{"$f":"IF(D1411=\"\",\"\",IF(ISERROR(FIND(\"s\",D1411)),IF(ISERROR(FIND(\"h \",D1411)),LEFT(D1411,2)/60,   LEFT(D1411,FIND(\"h \",D1411)-1 )+LEFT(RIGHT(D1411,3),2)/60   ),0))","v":""},{"$f":"IF(E1411=\"\",\"\",SUBSTITUTE(E1411,\"Accesos: \",\"\")*1)","v":""}]
[null,null,null,null,null,null,null,null,null,"",""]
[null,null,null,null,null,null,null,null,null,"",""]
[null,null,null,null,null,null,null,null,null,"",""]
[null,null,null,null,null,null,null,null,null,"",""]
[null,null,null,null,null,null,null,null,null,"",""]
[null,null,null,null,null,null,null,null,null,"",""]
[null,null,null,null,null,null,null,null,null,"",""]
[null,null,null,null,null,null,null,null,null,"",""]
[null,null,null,null,null,null,null,null,null,"",""]
[null,null,null,null,null,null,null,null,null,"",""]
[null,null,null,null,null,null,null,null,null,"",""]
[null,null,null,null,null,null,null,null,null,"",""]
[null,null,null,null,null,null,null,null,null,"",""]
[null,null,null,null,null,null,null,null,null,"",""]
[null,null,null,null,null,null,null,null,null,"",""]
[null,null,null,null,null,null,null,null,null,"",""]
[null,null,null,null,null,null,null,null,null,"",""]
[null,null,null,null,null,null,null,null,null,"",""]
[null,null,null,null,null,null,null,null,null,"",""]
[null,null,null,null,null,null,null,null,null,"",""]
[null,null,null,null,null,null,null,null,null,"",""]
[null,null,null,null,null,null,null,null,null,"",""]
[null,null,null,null,null,null,null,null,null,"",""]
[null,null,null,null,null,null,null,null,null,"",""]
[null,null,null,null,null,null,null,null,null,"",""]
[null,null,null,null,null,null,null,null,null,"",""]
[null,null,null,null,null,null,null,null,null,"",""]
[null,null,null,null,null,null,null,null,null,"",""]
[null,null,null,null,null,null,null,null,null,"",""]
[null,null,null,null,null,null,null,null,null,"",""]
[null,null,null,null,null,null,null,null,null,"",""]
[null,null,null,null,null,null,null,null,null,"",""]
[null,null,null,null,null,null,null,null,null,"",""]
[null,null,null,null,null,null,null,null,null,"",""]
[null,null,null,null,null,null,null,null,null,"",""]
[null,null,null,null,null,null,null,null,null,"",""]
[null,null,null,null,null,null,null,null,null,"",""]
[null,null,null,null,null,null,null,null,null,"",""]
[null,null,null,null,null,null,null,null,null,"",""]
[null,null,null,null,null,null,null,null,null,"",""]
[null,null,null,null,null,null,null,null,null,"",""]
[null,null,null,null,null,null,null,null,null,"",""]
[null,null,null,null,null,null,null,null,null,"",""]
[null,null,null,null,null,null,null,null,null,"",""]
[null,null,null,null,null,null,null,null,null,"",""]
[null,null,null,null,null,null,null,null,null,"",""]
[null,null,null,null,null,null,null,null,null,"",""]
[null,null,null,null,null,null,null,null,null,"",""]
[null,null,null,null,null,null,null,null,null,"",""]
[null,null,null,null,null,null,null,null,null,"",""]
[null,null,null,null,null,null,null,null,null,"",""]
[null,null,null,null,null,null,null,null,null,"",""]
[null,null,null,null,null,null,null,null,null,"",""]
[null,null,null,null,null,null,null,null,null,"",""]
[null,null,null,null,null,null,null,null,null,"",""]
[null,null,null,null,null,null,null,null,null,"",""]
[null,null,null,null,null,null,null,null,null,"",""]
[null,null,null,null,null,null,null,null,null,"",""]
[null,null,null,null,null,null,null,null,null,"",""]
[null,null,null,null,null,null,null,null,null,"",""]
[null,null,null,null,null,null,null,null,null,"",""]
[null,null,null,null,null,null,null,null,null,"",""]
[null,null,null,null,null,null,null,null,null,"",""]
[null,null,null,null,null,null,null,null,null,{"$f":"IF(D1475=\"\",\"\",IF(ISERROR(FIND(\"s\",D1475)),IF(ISERROR(FIND(\"h \",D1475)),LEFT(D1475,2)/60,   LEFT(D1475,FIND(\"h \",D1475)-1 )+LEFT(RIGHT(D1475,3),2)/60   ),0))","v":""},{"$f":"IF(E1475=\"\",\"\",SUBSTITUTE(E1475,\"Accesos: \",\"\")*1)","v":""}]
[null,null,null,null,null,null,null,null,null,"",""]
[null,null,null,null,null,null,null,null,null,"",""]
[null,null,null,null,null,null,null,null,null,"",""]
[null,null,null,null,null,null,null,null,null,"",""]
[null,null,null,null,null,null,null,null,null,"",""]
[null,null,null,null,null,null,null,null,null,"",""]
[null,null,null,null,null,null,null,null,null,"",""]
[null,null,null,null,null,null,null,null,null,"",""]
[null,null,null,null,null,null,null,null,null,"",""]
[null,null,null,null,null,null,null,null,null,"",""]
[null,null,null,null,null,null,null,null,null,"",""]
[null,null,null,null,null,null,null,null,null,"",""]
[null,null,null,null,null,null,null,null,null,"",""]
[null,null,null,null,null,null,null,null,null,"",""]
[null,null,null,null,null,null,null,null,null,"",""]
[null,null,null,null,null,null,null,null,null,"",""]
[null,null,null,null,null,null,null,null,null,"",""]
[null,null,null,null,null,null,null,null,null,"",""]
[null,null,null,null,null,null,null,null,null,"",""]
[null,null,null,null,null,null,null,null,null,"",""]
[null,null,null,null,null,null,null,null,null,"",""]
[null,null,null,null,null,null,null,null,null,"",""]
[null,null,null,null,null,null,null,null,null,"",""]
[null,null,null,null,null,null,null,null,null,"",""]
[null,null,null,null,null,null,null,null,null,"",""]